{"text_format":"2","workbook":"xlsx","n_sheets":1,"sheets":["Sheet1"],"not_rendered":{"charts":0,"images":0,"macros":0,"external_links":2,"defined_names":1,"comments":0,"pivot_tables":0},"unopened":[],"bounds":{"document_bytes":16777216,"sheet_cells":100000,"run_cost":"one","rows_first":2000,"rows_last":500,"rows_between":2000,"halvings":0,"cell_chars":16384,"cell_head_chars":4096},"cells_cut":0,"cells_raw":0,"read":"whole","date_system":"1900"}

{"sheet":"Sheet1","index":0,"n_rows":2302,"n_cols":14,"rows_kept":2302,"cut":false,"hidden":false,"merged":[[0,0,0,12]]}
["广东省教育“双融双创”行动暨2019年教师教育教学信息化交流及新媒体新技术教学应用活动获奖名单公示"]
["序号","编码","标题","组别","类别","奖项","地市","第一作者","第一作者单位","第二作者","第二作者单位","第三作者","第三作者单位","证书下载链接"]
[1,"P303119093093","夜色","小学组","课件","一等奖","广州市",{"$f":"VLOOKUP(B3,'[1]002'!B:M,7,0)","v":"钟财义"},{"$f":"VLOOKUP(B3,'[1]002'!B:M,8,0)","v":"广州市越秀区文德路小学"},{"$f":"VLOOKUP(B3,'[1]002'!B:M,11,0)","v":"-"},{"$f":"VLOOKUP(B3,'[1]002'!B:M,12,0)","v":"-"},{"$f":"VLOOKUP(B3,[2]sheet2!B:L,10,0)","v":"-"},{"$f":"VLOOKUP(B3,[2]sheet2!B:L,11,0)","v":"-"},"http://183.62.54.51:8841/data/files/certificate/000000000439/d89ccf1c24f6401da9e4cefb716c8138/signed/1_钟财义_一等奖_5888.pdf"]
[2,"P303119093094","We can save the animasl","小学组","课件","一等奖","广州市",{"$f":"VLOOKUP(B4,'[1]002'!B:M,7,0)","v":"陈秀清"},{"$f":"VLOOKUP(B4,'[1]002'!B:M,8,0)","v":"广州市越秀区文德路小学"},{"$f":"VLOOKUP(B4,'[1]002'!B:M,11,0)","v":"薛强"},{"$f":"VLOOKUP(B4,'[1]002'!B:M,12,0)","v":"广州市越秀区文德路小学"},{"$f":"VLOOKUP(B4,[2]sheet2!B:L,10,0)","v":"-"},{"$f":"VLOOKUP(B4,[2]sheet2!B:L,11,0)","v":"-"},"http://183.62.54.51:8841/data/files/certificate/000000000439/99145324a3fc4c0786cafd73f78ad9aa/signed/2_陈秀清、薛强_一等奖_5889.pdf"]
[3,"P303119093083","三年级下册Module4Fruits词汇课","小学组","课件","一等奖","广州市",{"$f":"VLOOKUP(B5,'[1]002'!B:M,7,0)","v":"陈喜玉"},{"$f":"VLOOKUP(B5,'[1]002'!B:M,8,0)","v":"广州市番禺区南村镇市头小学"},{"$f":"VLOOKUP(B5,'[1]002'!B:M,11,0)","v":"-"},{"$f":"VLOOKUP(B5,'[1]002'!B:M,12,0)","v":"-"},{"$f":"VLOOKUP(B5,[2]sheet2!B:L,10,0)","v":"-"},{"$f":"VLOOKUP(B5,[2]sheet2!B:L,11,0)","v":"-"},"http://183.62.54.51:8841/data/files/certificate/000000000439/e5cc3caafc0f494d9495f9543da369eb/signed/3_陈喜玉_一等奖_5890.pdf"]
[4,"P303119093108","搭配问题","小学组","课件","一等奖","广州市",{"$f":"VLOOKUP(B6,'[1]002'!B:M,7,0)","v":"芦玉玲"},{"$f":"VLOOKUP(B6,'[1]002'!B:M,8,0)","v":"广州市越秀区朝天小学"},{"$f":"VLOOKUP(B6,'[1]002'!B:M,11,0)","v":"-"},{"$f":"VLOOKUP(B6,'[1]002'!B:M,12,0)","v":"-"},{"$f":"VLOOKUP(B6,[2]sheet2!B:L,10,0)","v":"-"},{"$f":"VLOOKUP(B6,[2]sheet2!B:L,11,0)","v":"-"},"http://183.62.54.51:8841/data/files/certificate/000000000439/6040716f46b24edb97b6a0bd81a94847/signed/4_芦玉玲_一等奖_5891.pdf"]
[5,"P303119093098","三角形内角和","小学组","课件","一等奖","广州市",{"$f":"VLOOKUP(B7,'[1]002'!B:M,7,0)","v":"李汉锋"},{"$f":"VLOOKUP(B7,'[1]002'!B:M,8,0)","v":"广州市番禺区钟村中心小学"},{"$f":"VLOOKUP(B7,'[1]002'!B:M,11,0)","v":"-"},{"$f":"VLOOKUP(B7,'[1]002'!B:M,12,0)","v":"-"},{"$f":"VLOOKUP(B7,[2]sheet2!B:L,10,0)","v":"-"},{"$f":"VLOOKUP(B7,[2]sheet2!B:L,11,0)","v":"-"},"http://183.62.54.51:8841/data/files/certificate/000000000439/23b8a643a1eb47aaa3fc2b3df84d6f80/signed/5_李汉锋_一等奖_5892.pdf"]
[6,"P303119093096","认识圆的周长","小学组","课件","一等奖","广州市",{"$f":"VLOOKUP(B8,'[1]002'!B:M,7,0)","v":"李汉锋"},{"$f":"VLOOKUP(B8,'[1]002'!B:M,8,0)","v":"广州市番禺区钟村中心小学"},{"$f":"VLOOKUP(B8,'[1]002'!B:M,11,0)","v":"-"},{"$f":"VLOOKUP(B8,'[1]002'!B:M,12,0)","v":"-"},{"$f":"VLOOKUP(B8,[2]sheet2!B:L,10,0)","v":"-"},{"$f":"VLOOKUP(B8,[2]sheet2!B:L,11,0)","v":"-"},"http://183.62.54.51:8841/data/files/certificate/000000000439/c3783780a6824f3fba225c633551f718/signed/6_李汉锋_一等奖_5893.pdf"]
[7,"P303119093085","图形的运动","小学组","课件","一等奖","广州市",{"$f":"VLOOKUP(B9,'[1]002'!B:M,7,0)","v":"邱奕祥"},{"$f":"VLOOKUP(B9,'[1]002'!B:M,8,0)","v":"广州市番禺区石楼镇联围小学"},{"$f":"VLOOKUP(B9,'[1]002'!B:M,11,0)","v":"-"},{"$f":"VLOOKUP(B9,'[1]002'!B:M,12,0)","v":"-"},{"$f":"VLOOKUP(B9,[2]sheet2!B:L,10,0)","v":"-"},{"$f":"VLOOKUP(B9,[2]sheet2!B:L,11,0)","v":"-"},"http://183.62.54.51:8841/data/files/certificate/000000000439/d92544eafc7841df8505750148edaf50/signed/7_邱奕祥_一等奖_5894.pdf"]
[8,"P303119093100","领先阅读X计划Bug Hunt绘本阅读教学课件","小学组","课件","一等奖","广州市",{"$f":"VLOOKUP(B10,'[1]002'!B:M,7,0)","v":"潘艳华"},{"$f":"VLOOKUP(B10,'[1]002'!B:M,8,0)","v":"广州市番禺区沙湾镇红基学校"},{"$f":"VLOOKUP(B10,'[1]002'!B:M,11,0)","v":"-"},{"$f":"VLOOKUP(B10,'[1]002'!B:M,12,0)","v":"-"},{"$f":"VLOOKUP(B10,[2]sheet2!B:L,10,0)","v":"-"},{"$f":"VLOOKUP(B10,[2]sheet2!B:L,11,0)","v":"-"},"http://183.62.54.51:8841/data/files/certificate/000000000439/c7302654a3234b43b02fc0330b1e316e/signed/8_潘艳华_一等奖_5895.pdf"]
[9,"P303119092645","Shapes","小学组","课件","一等奖","深圳市",{"$f":"VLOOKUP(B11,'[1]002'!B:M,7,0)","v":"徐菁菁"},"深圳市南山区大磡小学",{"$f":"VLOOKUP(B11,'[1]002'!B:M,11,0)","v":"-"},{"$f":"VLOOKUP(B11,'[1]002'!B:M,12,0)","v":"-"},{"$f":"VLOOKUP(B11,[2]sheet2!B:L,10,0)","v":"-"},{"$f":"VLOOKUP(B11,[2]sheet2!B:L,11,0)","v":"-"},"http://183.62.54.51:8841/data/files/certificate/000000000439/d2c71681a80347849472bd3743dc4ce3/signed/9_徐菁菁_一等奖_5896.pdf"]
[10,"P303119079215","村居","小学组","课件","一等奖","珠海市",{"$f":"VLOOKUP(B12,'[1]002'!B:M,7,0)","v":"陈红波"},{"$f":"VLOOKUP(B12,'[1]002'!B:M,8,0)","v":"珠海市金湾区第一小学"},{"$f":"VLOOKUP(B12,'[1]002'!B:M,11,0)","v":"-"},{"$f":"VLOOKUP(B12,'[1]002'!B:M,12,0)","v":"-"},{"$f":"VLOOKUP(B12,[2]sheet2!B:L,10,0)","v":"-"},{"$f":"VLOOKUP(B12,[2]sheet2!B:L,11,0)","v":"-"},"http://183.62.54.51:8841/data/files/certificate/000000000439/7eef968b5359441b81c049cd4edbdd45/signed/10_陈红波_一等奖_5897.pdf"]
[11,"P303119079012","找规律","小学组","课件","一等奖","珠海市",{"$f":"VLOOKUP(B13,'[1]002'!B:M,7,0)","v":"杨晓丹"},{"$f":"VLOOKUP(B13,'[1]002'!B:M,8,0)","v":"珠海市红旗镇军建小学"},{"$f":"VLOOKUP(B13,'[1]002'!B:M,11,0)","v":"-"},{"$f":"VLOOKUP(B13,'[1]002'!B:M,12,0)","v":"-"},{"$f":"VLOOKUP(B13,[2]sheet2!B:L,10,0)","v":"-"},{"$f":"VLOOKUP(B13,[2]sheet2!B:L,11,0)","v":"-"},"http://183.62.54.51:8841/data/files/certificate/000000000439/a531a65f52f44250a4be61a1baf68f59/signed/11_杨晓丹_一等奖_5898.pdf"]
[12,"P303119091945","PEP五下Unit3BLetstalk","小学组","课件","一等奖","汕头市",{"$f":"VLOOKUP(B14,'[1]002'!B:M,7,0)","v":"陈晓丹"},{"$f":"VLOOKUP(B14,'[1]002'!B:M,8,0)","v":"汕头市澄海建阳小学"},{"$f":"VLOOKUP(B14,'[1]002'!B:M,11,0)","v":"李慕云"},{"$f":"VLOOKUP(B14,'[1]002'!B:M,12,0)","v":"汕头市澄海建阳小学"},{"$f":"VLOOKUP(B14,[2]sheet2!B:L,10,0)","v":"-"},{"$f":"VLOOKUP(B14,[2]sheet2!B:L,11,0)","v":"-"},"http://183.62.54.51:8841/data/files/certificate/000000000439/0e3cbea8d3dd4cd998fe1ce8adfb549e/signed/12_陈晓丹、李慕云_一等奖_5899.pdf"]
[13,"P303119091940","名人漫画","小学组","课件","一等奖","汕头市",{"$f":"VLOOKUP(B15,'[1]002'!B:M,7,0)","v":"许洁莹"},{"$f":"VLOOKUP(B15,'[1]002'!B:M,8,0)","v":"汕头市澄海隆都中心小学"},{"$f":"VLOOKUP(B15,'[1]002'!B:M,11,0)","v":"-"},{"$f":"VLOOKUP(B15,'[1]002'!B:M,12,0)","v":"-"},{"$f":"VLOOKUP(B15,[2]sheet2!B:L,10,0)","v":"-"},{"$f":"VLOOKUP(B15,[2]sheet2!B:L,11,0)","v":"-"},"http://183.62.54.51:8841/data/files/certificate/000000000439/8dc88f0ac0e44e66bc41f3791ee565ff/signed/13_许洁莹_一等奖_5900.pdf"]
[14,"P303119090845","标签与品牌","小学组","课件","一等奖","佛山市",{"$f":"VLOOKUP(B16,'[1]002'!B:M,7,0)","v":"许宜胜"},{"$f":"VLOOKUP(B16,'[1]002'!B:M,8,0)","v":"佛山市顺德区本原小学"},"廖伟伟","佛山市顺德区本原小学",{"$f":"VLOOKUP(B16,[2]sheet2!B:L,10,0)","v":"-"},{"$f":"VLOOKUP(B16,[2]sheet2!B:L,11,0)","v":"-"},"http://183.62.54.51:8841/data/files/certificate/000000000439/de77f992a7c946d396d1f04509d9bc29/signed/14_许宜胜、廖伟伟_一等奖_5901.pdf"]
[15,"P303119090802","忆江南","小学组","课件","一等奖","佛山市",{"$f":"VLOOKUP(B17,'[1]002'!B:M,7,0)","v":"刘健芬"},"佛山市高明区教师发展中心",{"$f":"VLOOKUP(B17,'[1]002'!B:M,11,0)","v":"-"},{"$f":"VLOOKUP(B17,'[1]002'!B:M,12,0)","v":"-"},{"$f":"VLOOKUP(B17,[2]sheet2!B:L,10,0)","v":"-"},{"$f":"VLOOKUP(B17,[2]sheet2!B:L,11,0)","v":"-"},"http://183.62.54.51:8841/data/files/certificate/000000000439/70027539430a4ba5a42747770f1e48de/signed/15_刘健芬_一等奖_5902.pdf"]
[16,"P303119090857","春夏秋冬","小学组","课件","一等奖","佛山市",{"$f":"VLOOKUP(B18,'[1]002'!B:M,7,0)","v":"梁碧云"},{"$f":"VLOOKUP(B18,'[1]002'!B:M,8,0)","v":"佛山市顺德区昌教小学"},{"$f":"VLOOKUP(B18,'[1]002'!B:M,11,0)","v":"欧阳惠贞"},"佛山市顺德区南朗小学",{"$f":"VLOOKUP(B18,[2]sheet2!B:L,10,0)","v":"-"},{"$f":"VLOOKUP(B18,[2]sheet2!B:L,11,0)","v":"-"},"http://183.62.54.51:8841/data/files/certificate/000000000439/33323580c9504a10bd871289c120c782/signed/16_梁碧云、欧阳惠贞_一等奖_5903.pdf"]
[17,"P303119090827","马路不是游戏场","小学组","课件","一等奖","佛山市",{"$f":"VLOOKUP(B19,'[1]002'!B:M,7,0)","v":"梁韶昆"},{"$f":"VLOOKUP(B19,'[1]002'!B:M,8,0)","v":"佛山市顺德区鉴海小学"},{"$f":"VLOOKUP(B19,'[1]002'!B:M,11,0)","v":"张蔼颖"},{"$f":"VLOOKUP(B19,'[1]002'!B:M,12,0)","v":"佛山市顺德区鉴海小学"},{"$f":"VLOOKUP(B19,[2]sheet2!B:L,10,0)","v":"-"},{"$f":"VLOOKUP(B19,[2]sheet2!B:L,11,0)","v":"-"},"http://183.62.54.51:8841/data/files/certificate/000000000439/24c06fe7614a4ffcb0b96f990452474d/signed/17_梁韶昆、张蔼颖_一等奖_5904.pdf"]
[18,"P303119090849","背土豆","小学组","课件","一等奖","佛山市",{"$f":"VLOOKUP(B20,'[1]002'!B:M,7,0)","v":"张嘉庆"},{"$f":"VLOOKUP(B20,'[1]002'!B:M,8,0)","v":"佛山市顺德区昌教小学"},{"$f":"VLOOKUP(B20,'[1]002'!B:M,11,0)","v":"张子昕"},{"$f":"VLOOKUP(B20,'[1]002'!B:M,12,0)","v":"佛山市顺德区昌教小学"},{"$f":"VLOOKUP(B20,[2]sheet2!B:L,10,0)","v":"欧阳惠贞"},{"$f":"VLOOKUP(B20,[2]sheet2!B:L,11,0)","v":"佛山市顺德区昌教小学"},"http://183.62.54.51:8841/data/files/certificate/000000000439/85975e26d21e4768a1a72bb9b55e2edc/signed/18_张嘉庆、张子昕、欧阳惠贞_一等奖_5905.pdf"]
[19,"P303119090840","动画创作流程指导","小学组","课件","一等奖","佛山市",{"$f":"VLOOKUP(B21,'[1]002'!B:M,7,0)","v":"叶粉娥"},{"$f":"VLOOKUP(B21,'[1]002'!B:M,8,0)","v":"佛山市顺德区容桂上佳市小学"},{"$f":"VLOOKUP(B21,'[1]002'!B:M,11,0)","v":"-"},{"$f":"VLOOKUP(B21,'[1]002'!B:M,12,0)","v":"-"},{"$f":"VLOOKUP(B21,[2]sheet2!B:L,10,0)","v":"-"},{"$f":"VLOOKUP(B21,[2]sheet2!B:L,11,0)","v":"-"},"http://183.62.54.51:8841/data/files/certificate/000000000439/6e66c0dd691b4675bf92b30f3360fb6e/signed/19_叶粉娥_一等奖_5906.pdf"]
[20,"P303119090843","购物场所我知道","小学组","课件","一等奖","佛山市",{"$f":"VLOOKUP(B22,'[1]002'!B:M,7,0)","v":"罗新慧"},{"$f":"VLOOKUP(B22,'[1]002'!B:M,8,0)","v":"佛山市顺德区杏坛小学"},{"$f":"VLOOKUP(B22,'[1]002'!B:M,11,0)","v":"程欣萍"},{"$f":"VLOOKUP(B22,'[1]002'!B:M,12,0)","v":"佛山市顺德区杏坛小学"},{"$f":"VLOOKUP(B22,[2]sheet2!B:L,10,0)","v":"-"},{"$f":"VLOOKUP(B22,[2]sheet2!B:L,11,0)","v":"-"},"http://183.62.54.51:8841/data/files/certificate/000000000439/4150dc60fe12494db6f08b6d60f5d325/signed/20_罗新慧、程欣萍_一等奖_5907.pdf"]
[21,"P303119090836","一年级英语Unit8Shapes","小学组","课件","一等奖","佛山市",{"$f":"VLOOKUP(B23,'[1]002'!B:M,7,0)","v":"肖玮"},{"$f":"VLOOKUP(B23,'[1]002'!B:M,8,0)","v":"佛山市顺德区均安中心小学"},{"$f":"VLOOKUP(B23,'[1]002'!B:M,11,0)","v":"-"},{"$f":"VLOOKUP(B23,'[1]002'!B:M,12,0)","v":"-"},{"$f":"VLOOKUP(B23,[2]sheet2!B:L,10,0)","v":"-"},{"$f":"VLOOKUP(B23,[2]sheet2!B:L,11,0)","v":"-"},"http://183.62.54.51:8841/data/files/certificate/000000000439/5b56e673ebd24bd1b6b296ad4a9e9d56/signed/21_肖玮_一等奖_5908.pdf"]
[22,"P303119090839","总是迟到的大卫","小学组","课件","一等奖","佛山市",{"$f":"VLOOKUP(B24,'[1]002'!B:M,7,0)","v":"叶粉娥"},{"$f":"VLOOKUP(B24,'[1]002'!B:M,8,0)","v":"佛山市顺德区容桂上佳市小学"},{"$f":"VLOOKUP(B24,'[1]002'!B:M,11,0)","v":"-"},{"$f":"VLOOKUP(B24,'[1]002'!B:M,12,0)","v":"-"},{"$f":"VLOOKUP(B24,[2]sheet2!B:L,10,0)","v":"-"},{"$f":"VLOOKUP(B24,[2]sheet2!B:L,11,0)","v":"-"},"http://183.62.54.51:8841/data/files/certificate/000000000439/cfc699839ab24df69712dfc28e896279/signed/22_叶粉娥_一等奖_5909.pdf"]
[23,"P303119090844","大小多少","小学组","课件","一等奖","佛山市",{"$f":"VLOOKUP(B25,'[1]002'!B:M,7,0)","v":"李海婷"},{"$f":"VLOOKUP(B25,'[1]002'!B:M,8,0)","v":"佛山市顺德区北滘林头小学"},{"$f":"VLOOKUP(B25,'[1]002'!B:M,11,0)","v":"-"},{"$f":"VLOOKUP(B25,'[1]002'!B:M,12,0)","v":"-"},{"$f":"VLOOKUP(B25,[2]sheet2!B:L,10,0)","v":"-"},{"$f":"VLOOKUP(B25,[2]sheet2!B:L,11,0)","v":"-"},"http://183.62.54.51:8841/data/files/certificate/000000000439/f678a81238934a789f2f1e3149c85e7e/signed/23_李海婷_一等奖_5910.pdf"]
[24,"P303119090832","认识人民币","小学组","课件","一等奖","佛山市",{"$f":"VLOOKUP(B26,'[1]002'!B:M,7,0)","v":"范聪利"},{"$f":"VLOOKUP(B26,'[1]002'!B:M,8,0)","v":"佛山市顺德区勒流裕源小学"},{"$f":"VLOOKUP(B26,'[1]002'!B:M,11,0)","v":"关燕霞"},{"$f":"VLOOKUP(B26,'[1]002'!B:M,12,0)","v":"佛山市南海外国语学校"},{"$f":"VLOOKUP(B26,[2]sheet2!B:L,10,0)","v":"-"},{"$f":"VLOOKUP(B26,[2]sheet2!B:L,11,0)","v":"-"},"http://183.62.54.51:8841/data/files/certificate/000000000439/3e492b56c5b149b08eff54a0bf30bcb2/signed/24_范聪利、关燕霞_一等奖_5911.pdf"]
[25,"P303119090807","我的汽车在哪里","小学组","课件","一等奖","佛山市",{"$f":"VLOOKUP(B27,'[1]002'!B:M,7,0)","v":"黎毅峰"},{"$f":"VLOOKUP(B27,'[1]002'!B:M,8,0)","v":"佛山市禅城区南庄镇吉利小学"},{"$f":"VLOOKUP(B27,'[1]002'!B:M,11,0)","v":"-"},{"$f":"VLOOKUP(B27,'[1]002'!B:M,12,0)","v":"-"},{"$f":"VLOOKUP(B27,[2]sheet2!B:L,10,0)","v":"-"},{"$f":"VLOOKUP(B27,[2]sheet2!B:L,11,0)","v":"-"},"http://183.62.54.51:8841/data/files/certificate/000000000439/2416ded4c3f342ad962da792c297a876/signed/25_黎毅峰_一等奖_5912.pdf"]
[26,"P303119090808","Mobile","小学组","课件","一等奖","佛山市",{"$f":"VLOOKUP(B28,'[1]002'!B:M,7,0)","v":"梁淑颜"},{"$f":"VLOOKUP(B28,'[1]002'!B:M,8,0)","v":"佛山市城南小学"},{"$f":"VLOOKUP(B28,'[1]002'!B:M,11,0)","v":"-"},{"$f":"VLOOKUP(B28,'[1]002'!B:M,12,0)","v":"-"},{"$f":"VLOOKUP(B28,[2]sheet2!B:L,10,0)","v":"-"},{"$f":"VLOOKUP(B28,[2]sheet2!B:L,11,0)","v":"-"},"http://183.62.54.51:8841/data/files/certificate/000000000439/7285a95a9ec041c8b64a0909bac200c5/signed/26_梁淑颜_一等奖_5913.pdf"]
[27,"P303119090855","画风","小学组","课件","一等奖","佛山市",{"$f":"VLOOKUP(B29,'[1]002'!B:M,7,0)","v":"沈国华"},{"$f":"VLOOKUP(B29,'[1]002'!B:M,8,0)","v":"佛山市顺德区大良实验小学"},{"$f":"VLOOKUP(B29,'[1]002'!B:M,11,0)","v":"-"},{"$f":"VLOOKUP(B29,'[1]002'!B:M,12,0)","v":"-"},{"$f":"VLOOKUP(B29,[2]sheet2!B:L,10,0)","v":"-"},{"$f":"VLOOKUP(B29,[2]sheet2!B:L,11,0)","v":"-"},"http://183.62.54.51:8841/data/files/certificate/000000000439/d6a8e5a955174e9d846d8c2256819cb9/signed/27_沈国华_一等奖_5914.pdf"]
[28,"P303119090846","找春天","小学组","课件","一等奖","佛山市",{"$f":"VLOOKUP(B30,'[1]002'!B:M,7,0)","v":"马亦"},{"$f":"VLOOKUP(B30,'[1]002'!B:M,8,0)","v":"佛山市顺德区北滘中心小学"},{"$f":"VLOOKUP(B30,'[1]002'!B:M,11,0)","v":"周敏霞"},{"$f":"VLOOKUP(B30,'[1]002'!B:M,12,0)","v":"佛山市顺德区北滘广教小学"},{"$f":"VLOOKUP(B30,[2]sheet2!B:L,10,0)","v":"-"},{"$f":"VLOOKUP(B30,[2]sheet2!B:L,11,0)","v":"-"},"http://183.62.54.51:8841/data/files/certificate/000000000439/6a4b1027debd461ca1952f29a1b95101/signed/28_马亦、周敏霞_一等奖_5915.pdf"]
[29,"P303119090799","小学英语五年级上册第五单元对话课","小学组","课件","一等奖","佛山市",{"$f":"VLOOKUP(B31,'[1]002'!B:M,7,0)","v":"黄淑霞"},{"$f":"VLOOKUP(B31,'[1]002'!B:M,8,0)","v":"佛山市高明区荷城街道德信实验学校"},{"$f":"VLOOKUP(B31,'[1]002'!B:M,11,0)","v":"-"},{"$f":"VLOOKUP(B31,'[1]002'!B:M,12,0)","v":"-"},{"$f":"VLOOKUP(B31,[2]sheet2!B:L,10,0)","v":"-"},{"$f":"VLOOKUP(B31,[2]sheet2!B:L,11,0)","v":"-"},"http://183.62.54.51:8841/data/files/certificate/000000000439/bab23b56aa604a47b56353d4a1e35036/signed/29_黄淑霞_一等奖_5916.pdf"]
[30,"P303119090829","混合运算及其应用","小学组","课件","一等奖","佛山市",{"$f":"VLOOKUP(B32,'[1]002'!B:M,7,0)","v":"黄金平"},{"$f":"VLOOKUP(B32,'[1]002'!B:M,8,0)","v":"佛山市顺德区仓门小学"},{"$f":"VLOOKUP(B32,'[1]002'!B:M,11,0)","v":"-"},{"$f":"VLOOKUP(B32,'[1]002'!B:M,12,0)","v":"-"},{"$f":"VLOOKUP(B32,[2]sheet2!B:L,10,0)","v":"-"},{"$f":"VLOOKUP(B32,[2]sheet2!B:L,11,0)","v":"-"},"http://183.62.54.51:8841/data/files/certificate/000000000439/8ac023b4356048d0940f9025ff309271/signed/30_黄金平_一等奖_5917.pdf"]
[31,"P303119090833","轴对称","小学组","课件","一等奖","佛山市",{"$f":"VLOOKUP(B33,'[1]002'!B:M,7,0)","v":"汪梅"},"佛山市顺德区北滘镇莘村小学",{"$f":"VLOOKUP(B33,'[1]002'!B:M,11,0)","v":"凌春球"},"佛山市顺德区北滘镇马龙小学",{"$f":"VLOOKUP(B33,[2]sheet2!B:L,10,0)","v":"-"},{"$f":"VLOOKUP(B33,[2]sheet2!B:L,11,0)","v":"-"},"http://183.62.54.51:8841/data/files/certificate/000000000439/048819eaa08d41fead60fe95a2ca984b/signed/31_汪梅、凌春球、叶鑫荣_一等奖_5918.pdf"]
[32,"P303119090779","Myholiday英语写作教学","小学组","课件","一等奖","佛山市",{"$f":"VLOOKUP(B34,'[1]002'!B:M,7,0)","v":"苏燕利"},{"$f":"VLOOKUP(B34,'[1]002'!B:M,8,0)","v":"佛山市高明区更合镇中心小学"},{"$f":"VLOOKUP(B34,'[1]002'!B:M,11,0)","v":"-"},{"$f":"VLOOKUP(B34,'[1]002'!B:M,12,0)","v":"-"},{"$f":"VLOOKUP(B34,[2]sheet2!B:L,10,0)","v":"-"},{"$f":"VLOOKUP(B34,[2]sheet2!B:L,11,0)","v":"-"},"http://183.62.54.51:8841/data/files/certificate/000000000439/0e9cc6a40fd84ab6b73fe54b527b4f61/signed/32_苏燕利_一等奖_5919.pdf"]
[33,"P303119090828","圆柱和圆锥","小学组","课件","一等奖","佛山市",{"$f":"VLOOKUP(B35,'[1]002'!B:M,7,0)","v":"凌春球"},"佛山市顺德区北滘镇马龙小学",{"$f":"VLOOKUP(B35,'[1]002'!B:M,11,0)","v":"汪梅"},"佛山市顺德区北滘镇莘村小学",{"$f":"VLOOKUP(B35,[2]sheet2!B:L,10,0)","v":"-"},{"$f":"VLOOKUP(B35,[2]sheet2!B:L,11,0)","v":"-"},"http://183.62.54.51:8841/data/files/certificate/000000000439/c46f99c89ab44570a370bb90e88cf336/signed/33_凌春球、汪梅、叶鑫荣_一等奖_5920.pdf"]
[34,"P303119090834","密铺","小学组","课件","一等奖","佛山市",{"$f":"VLOOKUP(B36,'[1]002'!B:M,7,0)","v":"李观英"},{"$f":"VLOOKUP(B36,'[1]002'!B:M,8,0)","v":"佛山市顺德区南朗小学"},{"$f":"VLOOKUP(B36,'[1]002'!B:M,11,0)","v":"欧阳嘉俊"},{"$f":"VLOOKUP(B36,'[1]002'!B:M,12,0)","v":"佛山市顺德区均安天连小学"},{"$f":"VLOOKUP(B36,[2]sheet2!B:L,10,0)","v":"-"},{"$f":"VLOOKUP(B36,[2]sheet2!B:L,11,0)","v":"-"},"http://183.62.54.51:8841/data/files/certificate/000000000439/856abf9764ad40f3b736adf3de9e0ab9/signed/34_李观英、欧阳嘉俊_一等奖_5921.pdf"]
[35,"P303119093463","姥姥的剪纸","小学组","课件","一等奖","河源市",{"$f":"VLOOKUP(B37,'[1]002'!B:M,7,0)","v":"刘春霞"},{"$f":"VLOOKUP(B37,'[1]002'!B:M,8,0)","v":"龙川县老隆镇水贝小学"},{"$f":"VLOOKUP(B37,'[1]002'!B:M,11,0)","v":"-"},{"$f":"VLOOKUP(B37,'[1]002'!B:M,12,0)","v":"-"},{"$f":"VLOOKUP(B37,[2]sheet2!B:L,10,0)","v":"-"},{"$f":"VLOOKUP(B37,[2]sheet2!B:L,11,0)","v":"-"},"http://183.62.54.51:8841/data/files/certificate/000000000439/2109e2c1eb65419fa54244b42cf213a1/signed/35_刘春霞_一等奖_5922.pdf"]
[36,"P303119088235","装在信封里的小太阳","小学组","课件","一等奖","梅州市",{"$f":"VLOOKUP(B38,'[1]002'!B:M,7,0)","v":"黄海苑"},{"$f":"VLOOKUP(B38,'[1]002'!B:M,8,0)","v":"梅州市兴宁市兴城镇第八小学"},{"$f":"VLOOKUP(B38,'[1]002'!B:M,11,0)","v":"-"},{"$f":"VLOOKUP(B38,'[1]002'!B:M,12,0)","v":"-"},{"$f":"VLOOKUP(B38,[2]sheet2!B:L,10,0)","v":"-"},{"$f":"VLOOKUP(B38,[2]sheet2!B:L,11,0)","v":"-"},"http://183.62.54.51:8841/data/files/certificate/000000000439/e10eacb8dd944b8eb4b35ad0006a349f/signed/36_黄海苑_一等奖_5923.pdf"]
[37,"P303119092115","A_Let_s_talk","小学组","课件","一等奖","惠州市",{"$f":"VLOOKUP(B39,'[1]002'!B:M,7,0)","v":"李卫平"},{"$f":"VLOOKUP(B39,'[1]002'!B:M,8,0)","v":"博罗县罗阳第六小学"},{"$f":"VLOOKUP(B39,'[1]002'!B:M,11,0)","v":"余慧群"},{"$f":"VLOOKUP(B39,'[1]002'!B:M,12,0)","v":"博罗县罗阳第六小学"},{"$f":"VLOOKUP(B39,[2]sheet2!B:L,10,0)","v":"-"},{"$f":"VLOOKUP(B39,[2]sheet2!B:L,11,0)","v":"-"},"http://183.62.54.51:8841/data/files/certificate/000000000439/ba224ed10a4a44d98c8e151eb2a2b1ea/signed/37_李卫平、余慧群_一等奖_5924.pdf"]
[38,"P303119092467","九寨沟","小学组","课件","一等奖","东莞市",{"$f":"VLOOKUP(B40,'[1]002'!B:M,7,0)","v":"叶倩明"},{"$f":"VLOOKUP(B40,'[1]002'!B:M,8,0)","v":"东莞市东城虎英小学"},{"$f":"VLOOKUP(B40,'[1]002'!B:M,11,0)","v":"-"},{"$f":"VLOOKUP(B40,'[1]002'!B:M,12,0)","v":"-"},{"$f":"VLOOKUP(B40,[2]sheet2!B:L,10,0)","v":"-"},{"$f":"VLOOKUP(B40,[2]sheet2!B:L,11,0)","v":"-"},"http://183.62.54.51:8841/data/files/certificate/000000000439/e2e119121fea48c0ad2cc5427c07d30f/signed/38_叶倩明_一等奖_5925.pdf"]
[39,"P303119092460","寓言两则","小学组","课件","一等奖","东莞市",{"$f":"VLOOKUP(B41,'[1]002'!B:M,7,0)","v":"何棋珍"},{"$f":"VLOOKUP(B41,'[1]002'!B:M,8,0)","v":"东莞市大朗镇三星小学"},{"$f":"VLOOKUP(B41,'[1]002'!B:M,11,0)","v":"周惠平"},{"$f":"VLOOKUP(B41,'[1]002'!B:M,12,0)","v":"东莞市大朗镇三星小学"},{"$f":"VLOOKUP(B41,[2]sheet2!B:L,10,0)","v":"-"},{"$f":"VLOOKUP(B41,[2]sheet2!B:L,11,0)","v":"-"},"http://183.62.54.51:8841/data/files/certificate/000000000439/f6fa9434f325415b9d0406bb9ebc3258/signed/39_何棋珍、周惠平_一等奖_5926.pdf"]
[40,"P303119092463","制作课程表","小学组","课件","一等奖","东莞市",{"$f":"VLOOKUP(B42,'[1]002'!B:M,7,0)","v":"张倩予"},{"$f":"VLOOKUP(B42,'[1]002'!B:M,8,0)","v":"东莞市东城第一小学"},{"$f":"VLOOKUP(B42,'[1]002'!B:M,11,0)","v":"-"},{"$f":"VLOOKUP(B42,'[1]002'!B:M,12,0)","v":"-"},{"$f":"VLOOKUP(B42,[2]sheet2!B:L,10,0)","v":"-"},{"$f":"VLOOKUP(B42,[2]sheet2!B:L,11,0)","v":"-"},"http://183.62.54.51:8841/data/files/certificate/000000000439/f464885b164a427ba941756f4f6965da/signed/40_张倩予_一等奖_5927.pdf"]
[41,"P303119092461","画杨桃","小学组","课件","一等奖","东莞市",{"$f":"VLOOKUP(B43,'[1]002'!B:M,7,0)","v":"何棋珍"},{"$f":"VLOOKUP(B43,'[1]002'!B:M,8,0)","v":"东莞市大朗镇三星小学"},{"$f":"VLOOKUP(B43,'[1]002'!B:M,11,0)","v":"-"},{"$f":"VLOOKUP(B43,'[1]002'!B:M,12,0)","v":"-"},{"$f":"VLOOKUP(B43,[2]sheet2!B:L,10,0)","v":"-"},{"$f":"VLOOKUP(B43,[2]sheet2!B:L,11,0)","v":"-"},"http://183.62.54.51:8841/data/files/certificate/000000000439/8ac3295fa4b9490bb6bfaa944cd98792/signed/41_何棋珍_一等奖_5928.pdf"]
[42,"P303119092464","亡羊补牢","小学组","课件","一等奖","东莞市",{"$f":"VLOOKUP(B44,'[1]002'!B:M,7,0)","v":"黄华文"},{"$f":"VLOOKUP(B44,'[1]002'!B:M,8,0)","v":"东莞市石龙镇爱联学校"},{"$f":"VLOOKUP(B44,'[1]002'!B:M,11,0)","v":"钟育燕"},{"$f":"VLOOKUP(B44,'[1]002'!B:M,12,0)","v":"东莞市石龙镇爱联学校"},{"$f":"VLOOKUP(B44,[2]sheet2!B:L,10,0)","v":"-"},{"$f":"VLOOKUP(B44,[2]sheet2!B:L,11,0)","v":"-"},"http://183.62.54.51:8841/data/files/certificate/000000000439/7b845c425ee84372ba3ceaeeb6827a7f/signed/42_黄华文、钟育燕_一等奖_5929.pdf"]
[43,"P303119088382","小学英语单词学习软件","小学组","课件","一等奖","中山市",{"$f":"VLOOKUP(B45,'[1]002'!B:M,7,0)","v":"张芳萍"},{"$f":"VLOOKUP(B45,'[1]002'!B:M,8,0)","v":"中山市板芙镇新联小学"},{"$f":"VLOOKUP(B45,'[1]002'!B:M,11,0)","v":"-"},{"$f":"VLOOKUP(B45,'[1]002'!B:M,12,0)","v":"-"},{"$f":"VLOOKUP(B45,[2]sheet2!B:L,10,0)","v":"-"},{"$f":"VLOOKUP(B45,[2]sheet2!B:L,11,0)","v":"-"},"http://183.62.54.51:8841/data/files/certificate/000000000439/047ddcc2c4c04929acf0395c58700754/signed/43_张芳萍_一等奖_5930.pdf"]
[44,"P303119088282","奇思妙想","小学组","课件","一等奖","中山市",{"$f":"VLOOKUP(B46,'[1]002'!B:M,7,0)","v":"陈翠芬"},{"$f":"VLOOKUP(B46,'[1]002'!B:M,8,0)","v":"中山市沙溪镇濠涌小学"},{"$f":"VLOOKUP(B46,'[1]002'!B:M,11,0)","v":"-"},{"$f":"VLOOKUP(B46,'[1]002'!B:M,12,0)","v":"-"},{"$f":"VLOOKUP(B46,[2]sheet2!B:L,10,0)","v":"-"},{"$f":"VLOOKUP(B46,[2]sheet2!B:L,11,0)","v":"-"},"http://183.62.54.51:8841/data/files/certificate/000000000439/b6825eeee89b4b5cbd4d113c74d784b4/signed/44_陈翠芬_一等奖_5931.pdf"]
[45,"P303119089227","小学数学图形与几何学习软件","小学组","课件","一等奖","中山市",{"$f":"VLOOKUP(B47,'[1]002'!B:M,7,0)","v":"张琼珊"},{"$f":"VLOOKUP(B47,'[1]002'!B:M,8,0)","v":"中山市石岐张溪郑二小学"},{"$f":"VLOOKUP(B47,'[1]002'!B:M,11,0)","v":"-"},{"$f":"VLOOKUP(B47,'[1]002'!B:M,12,0)","v":"-"},{"$f":"VLOOKUP(B47,[2]sheet2!B:L,10,0)","v":"-"},{"$f":"VLOOKUP(B47,[2]sheet2!B:L,11,0)","v":"-"},"http://183.62.54.51:8841/data/files/certificate/000000000439/9868882a12ea4f82b43d1e00aafaebba/signed/45_张琼珊_一等奖_5932.pdf"]
[46,"P303119092893","反问句转换为陈述句","小学组","课件","一等奖","湛江市",{"$f":"VLOOKUP(B48,'[1]002'!B:M,7,0)","v":"何茵"},{"$f":"VLOOKUP(B48,'[1]002'!B:M,8,0)","v":"湛江市第十七中学"},{"$f":"VLOOKUP(B48,'[1]002'!B:M,11,0)","v":"-"},{"$f":"VLOOKUP(B48,'[1]002'!B:M,12,0)","v":"-"},{"$f":"VLOOKUP(B48,[2]sheet2!B:L,10,0)","v":"-"},{"$f":"VLOOKUP(B48,[2]sheet2!B:L,11,0)","v":"-"},"http://183.62.54.51:8841/data/files/certificate/000000000439/6558069854b546048ffeeb36a76b3efb/signed/46_何茵_一等奖_5933.pdf"]
[47,"P303119092882","部编人教版二年级下  传统节日","小学组","课件","一等奖","湛江市",{"$f":"VLOOKUP(B49,'[1]002'!B:M,7,0)","v":"肖东阳"},{"$f":"VLOOKUP(B49,'[1]002'!B:M,8,0)","v":"湛江经济技术开发区第一小学"},{"$f":"VLOOKUP(B49,'[1]002'!B:M,11,0)","v":"-"},{"$f":"VLOOKUP(B49,'[1]002'!B:M,12,0)","v":"-"},{"$f":"VLOOKUP(B49,[2]sheet2!B:L,10,0)","v":"-"},{"$f":"VLOOKUP(B49,[2]sheet2!B:L,11,0)","v":"-"},"http://183.62.54.51:8841/data/files/certificate/000000000439/9f764e1b90ac4d948fa2f8245639fc7e/signed/47_肖东阳_一等奖_5934.pdf"]
[48,"P305119093143","Compound Words","小学组","微课","一等奖","广州市",{"$f":"VLOOKUP(B50,'[1]002'!B:M,7,0)","v":"刘凤霞"},{"$f":"VLOOKUP(B50,'[1]002'!B:M,8,0)","v":"广州市越秀区东风西路小学"},{"$f":"VLOOKUP(B50,'[1]002'!B:M,11,0)","v":"邱雅希"},{"$f":"VLOOKUP(B50,'[1]002'!B:M,12,0)","v":"广州市越秀区东风西路小学"},{"$f":"VLOOKUP(B50,[2]sheet2!B:L,10,0)","v":"-"},{"$f":"VLOOKUP(B50,[2]sheet2!B:L,11,0)","v":"-"},"http://183.62.54.51:8841/data/files/certificate/000000000439/fd19e8970ea148eeb918c4056a1e7ed5/signed/48_刘凤霞、邱雅希_一等奖_5935.pdf"]
[49,"P305119093141","推荐一部动画片","小学组","微课","一等奖","广州市",{"$f":"VLOOKUP(B51,'[1]002'!B:M,7,0)","v":"王玉清"},{"$f":"VLOOKUP(B51,'[1]002'!B:M,8,0)","v":"华南理工大学附属实验学校"},{"$f":"VLOOKUP(B51,'[1]002'!B:M,11,0)","v":"-"},{"$f":"VLOOKUP(B51,'[1]002'!B:M,12,0)","v":"-"},{"$f":"VLOOKUP(B51,[2]sheet2!B:L,10,0)","v":"-"},{"$f":"VLOOKUP(B51,[2]sheet2!B:L,11,0)","v":"-"},"http://183.62.54.51:8841/data/files/certificate/000000000439/6ba3d2aee2e747ff859e5a305a2983d1/signed/49_王玉清_一等奖_5936.pdf"]
[50,"P305119093138","三年级下册Module4Fruits学习水果制作水果画陈喜玉","小学组","微课","一等奖","广州市",{"$f":"VLOOKUP(B52,'[1]002'!B:M,7,0)","v":"陈喜玉"},{"$f":"VLOOKUP(B52,'[1]002'!B:M,8,0)","v":"广州市番禺区南村镇市头小学"},{"$f":"VLOOKUP(B52,'[1]002'!B:M,11,0)","v":"-"},{"$f":"VLOOKUP(B52,'[1]002'!B:M,12,0)","v":"-"},{"$f":"VLOOKUP(B52,[2]sheet2!B:L,10,0)","v":"-"},{"$f":"VLOOKUP(B52,[2]sheet2!B:L,11,0)","v":"-"},"http://183.62.54.51:8841/data/files/certificate/000000000439/36f8d75065e044ce95465bb8ba10260d/signed/50_陈喜玉_一等奖_5937.pdf"]
[51,"P305119093153","写好一二三","小学组","微课","一等奖","广州市",{"$f":"VLOOKUP(B53,'[1]002'!B:M,7,0)","v":"叶敏"},{"$f":"VLOOKUP(B53,'[1]002'!B:M,8,0)","v":"广州市越秀区建设六马路小学"},{"$f":"VLOOKUP(B53,'[1]002'!B:M,11,0)","v":"凃咏梅"},{"$f":"VLOOKUP(B53,'[1]002'!B:M,12,0)","v":"广州市越秀区建设六马路小学"},{"$f":"VLOOKUP(B53,[2]sheet2!B:L,10,0)","v":"-"},{"$f":"VLOOKUP(B53,[2]sheet2!B:L,11,0)","v":"-"},"http://183.62.54.51:8841/data/files/certificate/000000000439/057661a920d4427f8376eab162b82afb/signed/51_叶敏、凃咏梅_一等奖_5938.pdf"]
[52,"P305119092706","字写错就切水果呗","小学组","微课","一等奖","深圳市",{"$f":"VLOOKUP(B54,'[1]002'!B:M,7,0)","v":"施碧冰"},{"$f":"VLOOKUP(B54,'[1]002'!B:M,8,0)","v":"深圳市向西小学"},{"$f":"VLOOKUP(B54,'[1]002'!B:M,11,0)","v":"-"},{"$f":"VLOOKUP(B54,'[1]002'!B:M,12,0)","v":"-"},{"$f":"VLOOKUP(B54,[2]sheet2!B:L,10,0)","v":"-"},{"$f":"VLOOKUP(B54,[2]sheet2!B:L,11,0)","v":"-"},"http://183.62.54.51:8841/data/files/certificate/000000000439/b9953cddde8143acb87e5eecacb559ea/signed/52_施碧冰_一等奖_5939.pdf"]
[53,"P305119092720","习作：我的动物朋友","小学组","微课","一等奖","深圳市",{"$f":"VLOOKUP(B55,'[1]002'!B:M,7,0)","v":"魏银"},{"$f":"VLOOKUP(B55,'[1]002'!B:M,8,0)","v":"深圳市龙华区同胜学校"},{"$f":"VLOOKUP(B55,'[1]002'!B:M,11,0)","v":"-"},{"$f":"VLOOKUP(B55,'[1]002'!B:M,12,0)","v":"-"},{"$f":"VLOOKUP(B55,[2]sheet2!B:L,10,0)","v":"-"},{"$f":"VLOOKUP(B55,[2]sheet2!B:L,11,0)","v":"-"},"http://183.62.54.51:8841/data/files/certificate/000000000439/fd1d5838948e40729c949cf30c4b66ba/signed/53_魏银_一等奖_5940.pdf"]
[54,"P305119092727","伙伴随我加","小学组","微课","一等奖","深圳市",{"$f":"VLOOKUP(B56,'[1]002'!B:M,7,0)","v":"郑丽卿"},{"$f":"VLOOKUP(B56,'[1]002'!B:M,8,0)","v":"深圳市布心小学"},{"$f":"VLOOKUP(B56,'[1]002'!B:M,11,0)","v":"-"},{"$f":"VLOOKUP(B56,'[1]002'!B:M,12,0)","v":"-"},{"$f":"VLOOKUP(B56,[2]sheet2!B:L,10,0)","v":"-"},{"$f":"VLOOKUP(B56,[2]sheet2!B:L,11,0)","v":"-"},"http://183.62.54.51:8841/data/files/certificate/000000000439/16cb8ce20b324d76812acc63f3d3bd81/signed/54_郑丽卿_一等奖_5941.pdf"]
[55,"P305119092731","用波普艺术风格画肖像画","小学组","微课","一等奖","深圳市",{"$f":"VLOOKUP(B57,'[1]002'!B:M,7,0)","v":"罗云"},{"$f":"VLOOKUP(B57,'[1]002'!B:M,8,0)","v":"深圳市南山区文理实验学校集团科创学校"},{"$f":"VLOOKUP(B57,'[1]002'!B:M,11,0)","v":"-"},{"$f":"VLOOKUP(B57,'[1]002'!B:M,12,0)","v":"-"},{"$f":"VLOOKUP(B57,[2]sheet2!B:L,10,0)","v":"-"},{"$f":"VLOOKUP(B57,[2]sheet2!B:L,11,0)","v":"-"},"http://183.62.54.51:8841/data/files/certificate/000000000439/0870396db9fd41258db4d0f91a51ba76/signed/55_罗云_一等奖_5942.pdf"]
[56,"P305119092723","编织乐园","小学组","微课","一等奖","深圳市",{"$f":"VLOOKUP(B58,'[1]002'!B:M,7,0)","v":"李巧梦"},{"$f":"VLOOKUP(B58,'[1]002'!B:M,8,0)","v":"坪山区坪山中心小学"},{"$f":"VLOOKUP(B58,'[1]002'!B:M,11,0)","v":"-"},{"$f":"VLOOKUP(B58,'[1]002'!B:M,12,0)","v":"-"},{"$f":"VLOOKUP(B58,[2]sheet2!B:L,10,0)","v":"-"},{"$f":"VLOOKUP(B58,[2]sheet2!B:L,11,0)","v":"-"},"http://183.62.54.51:8841/data/files/certificate/000000000439/74a9a6b5dbec4ec1994056d25c8c9be1/signed/56_李巧梦_一等奖_5943.pdf"]
[57,"P305119092724","十分钟让你学会比喻句","小学组","微课","一等奖","深圳市",{"$f":"VLOOKUP(B59,'[1]002'!B:M,7,0)","v":"方子玉"},{"$f":"VLOOKUP(B59,'[1]002'!B:M,8,0)","v":"深圳市南山区南海小学"},{"$f":"VLOOKUP(B59,'[1]002'!B:M,11,0)","v":"-"},{"$f":"VLOOKUP(B59,'[1]002'!B:M,12,0)","v":"-"},{"$f":"VLOOKUP(B59,[2]sheet2!B:L,10,0)","v":"-"},{"$f":"VLOOKUP(B59,[2]sheet2!B:L,11,0)","v":"-"},"http://183.62.54.51:8841/data/files/certificate/000000000439/eecb567371e34ae1b6ff6045ed4528e0/signed/57_方子玉_一等奖_5944.pdf"]
[58,"P305119092711","认识底和高","小学组","微课","一等奖","深圳市",{"$f":"VLOOKUP(B60,'[1]002'!B:M,7,0)","v":"刘畅"},{"$f":"VLOOKUP(B60,'[1]002'!B:M,8,0)","v":"深圳市南山实验教育集团"},{"$f":"VLOOKUP(B60,'[1]002'!B:M,11,0)","v":"-"},{"$f":"VLOOKUP(B60,'[1]002'!B:M,12,0)","v":"-"},{"$f":"VLOOKUP(B60,[2]sheet2!B:L,10,0)","v":"-"},{"$f":"VLOOKUP(B60,[2]sheet2!B:L,11,0)","v":"-"},"http://183.62.54.51:8841/data/files/certificate/000000000439/361fe80e17494a40bb90b3a29d0c4ff8/signed/58_刘畅_一等奖_5945.pdf"]
[59,"P305119092738","假设法巧解鸡兔同笼","小学组","微课","一等奖","深圳市",{"$f":"VLOOKUP(B61,'[1]002'!B:M,7,0)","v":"陈纯子"},{"$f":"VLOOKUP(B61,'[1]002'!B:M,8,0)","v":"龙岗区布吉贤义外国语学校"},{"$f":"VLOOKUP(B61,'[1]002'!B:M,11,0)","v":"-"},{"$f":"VLOOKUP(B61,'[1]002'!B:M,12,0)","v":"-"},{"$f":"VLOOKUP(B61,[2]sheet2!B:L,10,0)","v":"-"},{"$f":"VLOOKUP(B61,[2]sheet2!B:L,11,0)","v":"-"},"http://183.62.54.51:8841/data/files/certificate/000000000439/7bfb8c08c7e6441fa5d59859e00b4876/signed/59_陈纯子_一等奖_5946.pdf"]
[60,"P305119092262","Unit 6 Lets spell","小学组","微课","一等奖","汕头市",{"$f":"VLOOKUP(B62,'[1]002'!B:M,7,0)","v":"李惠莉"},{"$f":"VLOOKUP(B62,'[1]002'!B:M,8,0)","v":"汕头市龙湖区金晖小学"},{"$f":"VLOOKUP(B62,'[1]002'!B:M,11,0)","v":"-"},{"$f":"VLOOKUP(B62,'[1]002'!B:M,12,0)","v":"-"},{"$f":"VLOOKUP(B62,[2]sheet2!B:L,10,0)","v":"-"},{"$f":"VLOOKUP(B62,[2]sheet2!B:L,11,0)","v":"-"},"http://183.62.54.51:8841/data/files/certificate/000000000439/7e342027df9c488fa20d88e3a7073fd2/signed/60_李惠莉_一等奖_5947.pdf"]
[61,"P305119091970","魔术表演","小学组","微课","一等奖","汕头市",{"$f":"VLOOKUP(B63,'[1]002'!B:M,7,0)","v":"黄子斌"},{"$f":"VLOOKUP(B63,'[1]002'!B:M,8,0)","v":"汕头市潮阳实验学校"},{"$f":"VLOOKUP(B63,'[1]002'!B:M,11,0)","v":"-"},{"$f":"VLOOKUP(B63,'[1]002'!B:M,12,0)","v":"-"},{"$f":"VLOOKUP(B63,[2]sheet2!B:L,10,0)","v":"-"},{"$f":"VLOOKUP(B63,[2]sheet2!B:L,11,0)","v":"-"},"http://183.62.54.51:8841/data/files/certificate/000000000439/7b3e81c267ce4dbdaeffc999b25b02c0/signed/61_黄子斌_一等奖_5948.pdf"]
[62,"P305119091967","足球脚内侧传球","小学组","微课","一等奖","汕头市",{"$f":"VLOOKUP(B64,'[1]002'!B:M,7,0)","v":"张娜"},{"$f":"VLOOKUP(B64,'[1]002'!B:M,8,0)","v":"汕头市龙湖区金阳小学"},{"$f":"VLOOKUP(B64,'[1]002'!B:M,11,0)","v":"-"},{"$f":"VLOOKUP(B64,'[1]002'!B:M,12,0)","v":"-"},{"$f":"VLOOKUP(B64,[2]sheet2!B:L,10,0)","v":"-"},{"$f":"VLOOKUP(B64,[2]sheet2!B:L,11,0)","v":"-"},"http://183.62.54.51:8841/data/files/certificate/000000000439/55aef43d962a43829acbf517115ca70a/signed/62_张娜_一等奖_5949.pdf"]
[63,"P305119090904","小节小节线终止线","小学组","微课","一等奖","佛山市",{"$f":"VLOOKUP(B65,'[1]002'!B:M,7,0)","v":"高丽怡"},{"$f":"VLOOKUP(B65,'[1]002'!B:M,8,0)","v":"佛山市南海区桂城街道桂江小学"},{"$f":"VLOOKUP(B65,'[1]002'!B:M,11,0)","v":"-"},{"$f":"VLOOKUP(B65,'[1]002'!B:M,12,0)","v":"-"},{"$f":"VLOOKUP(B65,[2]sheet2!B:L,10,0)","v":"-"},{"$f":"VLOOKUP(B65,[2]sheet2!B:L,11,0)","v":"-"},"http://183.62.54.51:8841/data/files/certificate/000000000439/d51dbcfee27c4e49a1e9fe698a8725ba/signed/63_高丽怡_一等奖_5950.pdf"]
[64,"P305119090932","变废为宝","小学组","微课","一等奖","佛山市",{"$f":"VLOOKUP(B66,'[1]002'!B:M,7,0)","v":"苏丽彤"},{"$f":"VLOOKUP(B66,'[1]002'!B:M,8,0)","v":"佛山市顺德区麦村小学"},{"$f":"VLOOKUP(B66,'[1]002'!B:M,11,0)","v":"王洁"},{"$f":"VLOOKUP(B66,'[1]002'!B:M,12,0)","v":"佛山市顺德区麦村小学"},{"$f":"VLOOKUP(B66,[2]sheet2!B:L,10,0)","v":"-"},{"$f":"VLOOKUP(B66,[2]sheet2!B:L,11,0)","v":"-"},"http://183.62.54.51:8841/data/files/certificate/000000000439/71f33cc45c514b258951701132572f10/signed/64_苏丽彤、王洁_一等奖_5951.pdf"]
[65,"P305119090944","杠杆","小学组","微课","一等奖","佛山市",{"$f":"VLOOKUP(B67,'[1]002'!B:M,7,0)","v":"郑洁"},{"$f":"VLOOKUP(B67,'[1]002'!B:M,8,0)","v":"佛山市顺德区勒流江义小学"},{"$f":"VLOOKUP(B67,'[1]002'!B:M,11,0)","v":"-"},{"$f":"VLOOKUP(B67,'[1]002'!B:M,12,0)","v":"-"},{"$f":"VLOOKUP(B67,[2]sheet2!B:L,10,0)","v":"-"},{"$f":"VLOOKUP(B67,[2]sheet2!B:L,11,0)","v":"-"},"http://183.62.54.51:8841/data/files/certificate/000000000439/6b368e7a0cb5435bb3ebe19c60c38239/signed/65_郑洁_一等奖_5952.pdf"]
[66,"P305119090901","缩句的原则与技巧","小学组","微课","一等奖","佛山市",{"$f":"VLOOKUP(B68,'[1]002'!B:M,7,0)","v":"程健宁"},{"$f":"VLOOKUP(B68,'[1]002'!B:M,8,0)","v":"禅城区南庄镇中心小学"},{"$f":"VLOOKUP(B68,'[1]002'!B:M,11,0)","v":"-"},{"$f":"VLOOKUP(B68,'[1]002'!B:M,12,0)","v":"-"},{"$f":"VLOOKUP(B68,[2]sheet2!B:L,10,0)","v":"-"},{"$f":"VLOOKUP(B68,[2]sheet2!B:L,11,0)","v":"-"},"http://183.62.54.51:8841/data/files/certificate/000000000439/5529dcde1b6d4229a0b7c44fbfd3049c/signed/66_程健宁_一等奖_5953.pdf"]
[67,"P305119090938","中华文化常识","小学组","微课","一等奖","佛山市",{"$f":"VLOOKUP(B69,'[1]002'!B:M,7,0)","v":"谢远清"},{"$f":"VLOOKUP(B69,'[1]002'!B:M,8,0)","v":"佛山市顺德区北滘镇承德小学"},{"$f":"VLOOKUP(B69,'[1]002'!B:M,11,0)","v":"沈上华"},{"$f":"VLOOKUP(B69,'[1]002'!B:M,12,0)","v":"佛山市顺德区北滘镇承德小学"},{"$f":"VLOOKUP(B69,[2]sheet2!B:L,10,0)","v":"卢慧君"},{"$f":"VLOOKUP(B69,[2]sheet2!B:L,11,0)","v":"佛山市顺德区北滘镇承德小学"},"http://183.62.54.51:8841/data/files/certificate/000000000439/d361bd3293ab482e825336e349e3e603/signed/67_谢远清、沈上华、卢慧君_一等奖_5954.pdf"]
[68,"P305119090905","第13课酷猫玩游戏","小学组","微课","一等奖","佛山市",{"$f":"VLOOKUP(B70,'[1]002'!B:M,7,0)","v":"冯碧玲"},{"$f":"VLOOKUP(B70,'[1]002'!B:M,8,0)","v":"佛山市南海区大沥镇盐步中心小学"},{"$f":"VLOOKUP(B70,'[1]002'!B:M,11,0)","v":"-"},{"$f":"VLOOKUP(B70,'[1]002'!B:M,12,0)","v":"-"},{"$f":"VLOOKUP(B70,[2]sheet2!B:L,10,0)","v":"-"},{"$f":"VLOOKUP(B70,[2]sheet2!B:L,11,0)","v":"-"},"http://183.62.54.51:8841/data/files/certificate/000000000439/3725c21de6204b8b95bb7c40d39d44a0/signed/68_冯碧玲_一等奖_5955.pdf"]
[69,"P305119090945","人物外貌描写小绝招","小学组","微课","一等奖","佛山市",{"$f":"VLOOKUP(B71,'[1]002'!B:M,7,0)","v":"杨青霖"},{"$f":"VLOOKUP(B71,'[1]002'!B:M,8,0)","v":"佛山市三水区西南街道第八小学"},{"$f":"VLOOKUP(B71,'[1]002'!B:M,11,0)","v":"-"},{"$f":"VLOOKUP(B71,'[1]002'!B:M,12,0)","v":"-"},{"$f":"VLOOKUP(B71,[2]sheet2!B:L,10,0)","v":"-"},{"$f":"VLOOKUP(B71,[2]sheet2!B:L,11,0)","v":"-"},"http://183.62.54.51:8841/data/files/certificate/000000000439/305ce8c231154f5595d74da4bb61e858/signed/69_杨青霖_一等奖_5956.pdf"]
[70,"P305119090908","我是大侦探","小学组","微课","一等奖","佛山市",{"$f":"VLOOKUP(B72,'[1]002'!B:M,7,0)","v":"刘媛"},{"$f":"VLOOKUP(B72,'[1]002'!B:M,8,0)","v":"佛山市南海区桂城街道桂江小学"},{"$f":"VLOOKUP(B72,'[1]002'!B:M,11,0)","v":"-"},{"$f":"VLOOKUP(B72,'[1]002'!B:M,12,0)","v":"-"},{"$f":"VLOOKUP(B72,[2]sheet2!B:L,10,0)","v":"-"},{"$f":"VLOOKUP(B72,[2]sheet2!B:L,11,0)","v":"-"},"http://183.62.54.51:8841/data/files/certificate/000000000439/a6fbd838ddb044199fa29ce054ac3100/signed/70_刘媛_一等奖_5957.pdf"]
[71,"P305119090892","信息学竞赛知识点数字拆分的学习","小学组","微课","一等奖","佛山市",{"$f":"VLOOKUP(B73,'[1]002'!B:M,7,0)","v":"曾晓薇"},{"$f":"VLOOKUP(B73,'[1]002'!B:M,8,0)","v":"佛山市南海区大沥镇盐步中心小学"},{"$f":"VLOOKUP(B73,'[1]002'!B:M,11,0)","v":"-"},{"$f":"VLOOKUP(B73,'[1]002'!B:M,12,0)","v":"-"},{"$f":"VLOOKUP(B73,[2]sheet2!B:L,10,0)","v":"-"},{"$f":"VLOOKUP(B73,[2]sheet2!B:L,11,0)","v":"-"},"http://183.62.54.51:8841/data/files/certificate/000000000439/3c1b00270bb64d5fb428b0aa12ccbd06/signed/71_曾晓薇_一等奖_5958.pdf"]
[72,"P305119090931","你画我猜","小学组","微课","一等奖","佛山市",{"$f":"VLOOKUP(B74,'[1]002'!B:M,7,0)","v":"欧阳瑶瑶"},{"$f":"VLOOKUP(B74,'[1]002'!B:M,8,0)","v":"佛山市顺德区均安中心小学"},{"$f":"VLOOKUP(B74,'[1]002'!B:M,11,0)","v":"-"},{"$f":"VLOOKUP(B74,'[1]002'!B:M,12,0)","v":"-"},{"$f":"VLOOKUP(B74,[2]sheet2!B:L,10,0)","v":"-"},{"$f":"VLOOKUP(B74,[2]sheet2!B:L,11,0)","v":"-"},"http://183.62.54.51:8841/data/files/certificate/000000000439/401450cb04454e73bb2c3c5bde46bf48/signed/72_欧阳瑶瑶_一等奖_5959.pdf"]
[73,"P305119090876","吃饭有讲究","小学组","微课","一等奖","佛山市",{"$f":"VLOOKUP(B75,'[1]002'!B:M,7,0)","v":"区燕红"},{"$f":"VLOOKUP(B75,'[1]002'!B:M,8,0)","v":"佛山市高明区荷城街道德信实验学校"},{"$f":"VLOOKUP(B75,'[1]002'!B:M,11,0)","v":"-"},{"$f":"VLOOKUP(B75,'[1]002'!B:M,12,0)","v":"-"},{"$f":"VLOOKUP(B75,[2]sheet2!B:L,10,0)","v":"-"},{"$f":"VLOOKUP(B75,[2]sheet2!B:L,11,0)","v":"-"},"http://183.62.54.51:8841/data/files/certificate/000000000439/8bdcb814ed1544a19bfc60ba4e08bc88/signed/73_区燕红_一等奖_5960.pdf"]
[74,"P305119087669","微课彼得与狼","小学组","微课","一等奖","韶关市",{"$f":"VLOOKUP(B76,'[1]002'!B:M,7,0)","v":"阮旭阳"},{"$f":"VLOOKUP(B76,'[1]002'!B:M,8,0)","v":"韶关市翁源县实验小学"},{"$f":"VLOOKUP(B76,'[1]002'!B:M,11,0)","v":"-"},{"$f":"VLOOKUP(B76,'[1]002'!B:M,12,0)","v":"-"},{"$f":"VLOOKUP(B76,[2]sheet2!B:L,10,0)","v":"-"},{"$f":"VLOOKUP(B76,[2]sheet2!B:L,11,0)","v":"-"},"http://183.62.54.51:8841/data/files/certificate/000000000439/43c1aad855554ae8a3aa8597391ff6b3/signed/74_阮旭阳_一等奖_5961.pdf"]
[75,"P305119088724","昨天，今天和明天","小学组","微课","一等奖","韶关市",{"$f":"VLOOKUP(B77,'[1]002'!B:M,7,0)","v":"鲁曙琦"},{"$f":"VLOOKUP(B77,'[1]002'!B:M,8,0)","v":"始兴县顿岗镇中心小学"},{"$f":"VLOOKUP(B77,'[1]002'!B:M,11,0)","v":"-"},{"$f":"VLOOKUP(B77,'[1]002'!B:M,12,0)","v":"-"},{"$f":"VLOOKUP(B77,[2]sheet2!B:L,10,0)","v":"-"},{"$f":"VLOOKUP(B77,[2]sheet2!B:L,11,0)","v":"-"},"http://183.62.54.51:8841/data/files/certificate/000000000439/0f373dcc22cb41ce9b2cecb8f73b82f7/signed/75_鲁曙琦_一等奖_5962.pdf"]
[76,"P305119089559","认识角","小学组","微课","一等奖","韶关市",{"$f":"VLOOKUP(B78,'[1]002'!B:M,7,0)","v":"邓毅萍"},{"$f":"VLOOKUP(B78,'[1]002'!B:M,8,0)","v":"仁化县第二小学"},{"$f":"VLOOKUP(B78,'[1]002'!B:M,11,0)","v":"黄聪"},{"$f":"VLOOKUP(B78,'[1]002'!B:M,12,0)","v":"仁化县第二小学"},{"$f":"VLOOKUP(B78,[2]sheet2!B:L,10,0)","v":"-"},{"$f":"VLOOKUP(B78,[2]sheet2!B:L,11,0)","v":"-"},"http://183.62.54.51:8841/data/files/certificate/000000000439/8d6ca969dd5441a5b4863bc50bbbbd92/signed/76_邓毅萍、黄聪_一等奖_5963.pdf"]
[77,"P305119093432","成群的动物","小学组","微课","一等奖","河源市",{"$f":"VLOOKUP(B79,'[1]002'!B:M,7,0)","v":"谢玲玲"},{"$f":"VLOOKUP(B79,'[1]002'!B:M,8,0)","v":"车田镇中心小学"},{"$f":"VLOOKUP(B79,'[1]002'!B:M,11,0)","v":"-"},{"$f":"VLOOKUP(B79,'[1]002'!B:M,12,0)","v":"-"},{"$f":"VLOOKUP(B79,[2]sheet2!B:L,10,0)","v":"-"},{"$f":"VLOOKUP(B79,[2]sheet2!B:L,11,0)","v":"-"},"http://183.62.54.51:8841/data/files/certificate/000000000439/18b7ca0449244cad8c08de7f8b32039b/signed/77_谢玲玲_一等奖_5964.pdf"]
[78,"P305119092107","There_be句型","小学组","微课","一等奖","惠州市",{"$f":"VLOOKUP(B80,'[1]002'!B:M,7,0)","v":"余慧群"},{"$f":"VLOOKUP(B80,'[1]002'!B:M,8,0)","v":"博罗县罗阳第六小学"},{"$f":"VLOOKUP(B80,'[1]002'!B:M,11,0)","v":"李卫平"},{"$f":"VLOOKUP(B80,'[1]002'!B:M,12,0)","v":"博罗县罗阳第六小学"},{"$f":"VLOOKUP(B80,[2]sheet2!B:L,10,0)","v":"-"},{"$f":"VLOOKUP(B80,[2]sheet2!B:L,11,0)","v":"-"},"http://183.62.54.51:8841/data/files/certificate/000000000439/6a2b48d15d1a4b6cb2669ab63e4c8c2b/signed/78_余慧群、李卫平_一等奖_5965.pdf"]
[79,"P305119092388","鸡兔同笼","小学组","微课","一等奖","汕尾市",{"$f":"VLOOKUP(B81,'[1]002'!B:M,7,0)","v":"林启俊"},{"$f":"VLOOKUP(B81,'[1]002'!B:M,8,0)","v":"海丰县海城镇中心小学"},{"$f":"VLOOKUP(B81,'[1]002'!B:M,11,0)","v":"-"},{"$f":"VLOOKUP(B81,'[1]002'!B:M,12,0)","v":"-"},{"$f":"VLOOKUP(B81,[2]sheet2!B:L,10,0)","v":"-"},{"$f":"VLOOKUP(B81,[2]sheet2!B:L,11,0)","v":"-"},"http://183.62.54.51:8841/data/files/certificate/000000000439/e0d4db8ead5a4911b69c5be87088a7e0/signed/79_林启俊_一等奖_5966.pdf"]
[80,"P305119092561","人教版小学英语五下Unit3ReadandWrite系列微课","小学组","微课","一等奖","东莞市",{"$f":"VLOOKUP(B82,'[1]002'!B:M,7,0)","v":"朱顺美"},{"$f":"VLOOKUP(B82,'[1]002'!B:M,8,0)","v":"东莞松山湖实验小学"},{"$f":"VLOOKUP(B82,'[1]002'!B:M,11,0)","v":"-"},{"$f":"VLOOKUP(B82,'[1]002'!B:M,12,0)","v":"-"},{"$f":"VLOOKUP(B82,[2]sheet2!B:L,10,0)","v":"-"},{"$f":"VLOOKUP(B82,[2]sheet2!B:L,11,0)","v":"-"},"http://183.62.54.51:8841/data/files/certificate/000000000439/4eb56791f956410e85ee70b8fee6d6a7/signed/80_朱顺美_一等奖_5967.pdf"]
[81,"P305119092558","改转述句的方法","小学组","微课","一等奖","东莞市",{"$f":"VLOOKUP(B83,'[1]002'!B:M,7,0)","v":"吴恩彤"},{"$f":"VLOOKUP(B83,'[1]002'!B:M,8,0)","v":"东莞市寮步镇凫山小学"},{"$f":"VLOOKUP(B83,'[1]002'!B:M,11,0)","v":"-"},{"$f":"VLOOKUP(B83,'[1]002'!B:M,12,0)","v":"-"},{"$f":"VLOOKUP(B83,[2]sheet2!B:L,10,0)","v":"-"},{"$f":"VLOOKUP(B83,[2]sheet2!B:L,11,0)","v":"-"},"http://183.62.54.51:8841/data/files/certificate/000000000439/89a7ef0dc166447292e98db913908c1c/signed/81_吴恩彤_一等奖_5968.pdf"]
[82,"P305119092568","鸡兔同笼","小学组","微课","一等奖","东莞市",{"$f":"VLOOKUP(B84,'[1]002'!B:M,7,0)","v":"王丽婷"},{"$f":"VLOOKUP(B84,'[1]002'!B:M,8,0)","v":"东莞市南城中心小学"},{"$f":"VLOOKUP(B84,'[1]002'!B:M,11,0)","v":"蔡俊清"},{"$f":"VLOOKUP(B84,'[1]002'!B:M,12,0)","v":"东莞市南城中心小学"},{"$f":"VLOOKUP(B84,[2]sheet2!B:L,10,0)","v":"-"},{"$f":"VLOOKUP(B84,[2]sheet2!B:L,11,0)","v":"-"},"http://183.62.54.51:8841/data/files/certificate/000000000439/1505ac8cd02a4c3b8a89b52c7200b899/signed/82_王丽婷、蔡俊清_一等奖_5969.pdf"]
[83,"P305119092560","书写提示","小学组","微课","一等奖","东莞市",{"$f":"VLOOKUP(B85,'[1]002'!B:M,7,0)","v":"黄开葵"},{"$f":"VLOOKUP(B85,'[1]002'!B:M,8,0)","v":"东莞市大朗镇中心小学"},{"$f":"VLOOKUP(B85,'[1]002'!B:M,11,0)","v":"-"},{"$f":"VLOOKUP(B85,'[1]002'!B:M,12,0)","v":"-"},{"$f":"VLOOKUP(B85,[2]sheet2!B:L,10,0)","v":"-"},{"$f":"VLOOKUP(B85,[2]sheet2!B:L,11,0)","v":"-"},"http://183.62.54.51:8841/data/files/certificate/000000000439/5c672cd7a4db47339e289fdbeca59e88/signed/83_黄开葵_一等奖_5970.pdf"]
[84,"P305119092556","寻找秋雨颜色之旅","小学组","微课","一等奖","东莞市",{"$f":"VLOOKUP(B86,'[1]002'!B:M,7,0)","v":"秦子薇"},{"$f":"VLOOKUP(B86,'[1]002'!B:M,8,0)","v":"东莞市石碣实验小学"},{"$f":"VLOOKUP(B86,'[1]002'!B:M,11,0)","v":"-"},{"$f":"VLOOKUP(B86,'[1]002'!B:M,12,0)","v":"-"},{"$f":"VLOOKUP(B86,[2]sheet2!B:L,10,0)","v":"-"},{"$f":"VLOOKUP(B86,[2]sheet2!B:L,11,0)","v":"-"},"http://183.62.54.51:8841/data/files/certificate/000000000439/3da3fc5e33c14c6c9f8ea2a9b23bd819/signed/84_秦子薇_一等奖_5971.pdf"]
[85,"P305119092562","圆的面积","小学组","微课","一等奖","东莞市",{"$f":"VLOOKUP(B87,'[1]002'!B:M,7,0)","v":"黄香思"},{"$f":"VLOOKUP(B87,'[1]002'!B:M,8,0)","v":"东莞市长安镇中山小学"},{"$f":"VLOOKUP(B87,'[1]002'!B:M,11,0)","v":"覃翠丽"},{"$f":"VLOOKUP(B87,'[1]002'!B:M,12,0)","v":"东莞市长安镇中山小学"},{"$f":"VLOOKUP(B87,[2]sheet2!B:L,10,0)","v":"-"},{"$f":"VLOOKUP(B87,[2]sheet2!B:L,11,0)","v":"-"},"http://183.62.54.51:8841/data/files/certificate/000000000439/f202211d0e2f47198caeaa946344e0fd/signed/85_黄香思、覃翠丽_一等奖_5972.pdf"]
[86,"P305119092565","利用思维导图来介绍自己的家庭","小学组","微课","一等奖","东莞市",{"$f":"VLOOKUP(B88,'[1]002'!B:M,7,0)","v":"邹燕"},{"$f":"VLOOKUP(B88,'[1]002'!B:M,8,0)","v":"东莞市虎门镇太平小学"},{"$f":"VLOOKUP(B88,'[1]002'!B:M,11,0)","v":"-"},{"$f":"VLOOKUP(B88,'[1]002'!B:M,12,0)","v":"-"},{"$f":"VLOOKUP(B88,[2]sheet2!B:L,10,0)","v":"-"},{"$f":"VLOOKUP(B88,[2]sheet2!B:L,11,0)","v":"-"},"http://183.62.54.51:8841/data/files/certificate/000000000439/460af5f699da4934a4d30b4c0611f62e/signed/86_邹燕_一等奖_5973.pdf"]
[87,"P305119088220","粽叶飘香话端午","小学组","微课","一等奖","中山市",{"$f":"VLOOKUP(B89,'[1]002'!B:M,7,0)","v":"钟淑燕"},{"$f":"VLOOKUP(B89,'[1]002'!B:M,8,0)","v":"中山市板芙镇广福小学"},{"$f":"VLOOKUP(B89,'[1]002'!B:M,11,0)","v":"黄建芳"},{"$f":"VLOOKUP(B89,'[1]002'!B:M,12,0)","v":"中山市板芙镇广福小学"},{"$f":"VLOOKUP(B89,[2]sheet2!B:L,10,0)","v":"-"},{"$f":"VLOOKUP(B89,[2]sheet2!B:L,11,0)","v":"-"},"http://183.62.54.51:8841/data/files/certificate/000000000439/d9a2a5bbf92f4bc9a1208da16a6035b3/signed/87_钟淑燕、黄建芳_一等奖_5974.pdf"]
[88,"P305119088359","跆拳道腿法前踢","小学组","微课","一等奖","中山市",{"$f":"VLOOKUP(B90,'[1]002'!B:M,7,0)","v":"易辉龙"},{"$f":"VLOOKUP(B90,'[1]002'!B:M,8,0)","v":"中山市石岐中心小学"},{"$f":"VLOOKUP(B90,'[1]002'!B:M,11,0)","v":"刘文东"},{"$f":"VLOOKUP(B90,'[1]002'!B:M,12,0)","v":"中山市石岐中心小学"},{"$f":"VLOOKUP(B90,[2]sheet2!B:L,10,0)","v":"刘菲"},{"$f":"VLOOKUP(B90,[2]sheet2!B:L,11,0)","v":"中山市石岐中心小学"},"http://183.62.54.51:8841/data/files/certificate/000000000439/f24caa35f9704872a8cbc3bffac5d3f6/signed/88_易辉龙、刘文东、刘菲_一等奖_5975.pdf"]
[89,"P305119088225","复式统计表","小学组","微课","一等奖","中山市",{"$f":"VLOOKUP(B91,'[1]002'!B:M,7,0)","v":"潘锦嫦"},{"$f":"VLOOKUP(B91,'[1]002'!B:M,8,0)","v":"中山市实验小学蓝波湾学校"},{"$f":"VLOOKUP(B91,'[1]002'!B:M,11,0)","v":"卢家明"},{"$f":"VLOOKUP(B91,'[1]002'!B:M,12,0)","v":"中山市实验小学"},{"$f":"VLOOKUP(B91,[2]sheet2!B:L,10,0)","v":"姚巧平"},{"$f":"VLOOKUP(B91,[2]sheet2!B:L,11,0)","v":"中山市实验小学蓝波湾学校"},"http://183.62.54.51:8841/data/files/certificate/000000000439/76a3f513c5a04f85a67b1c26c70b52ad/signed/89_潘锦嫦、卢家明、姚巧平_一等奖_5976.pdf"]
[90,"P305119088655","小墨课堂——用墨与用笔","小学组","微课","一等奖","中山市",{"$f":"VLOOKUP(B92,'[1]002'!B:M,7,0)","v":"何熙怡"},{"$f":"VLOOKUP(B92,'[1]002'!B:M,8,0)","v":"中山市东区竹苑小学"},{"$f":"VLOOKUP(B92,'[1]002'!B:M,11,0)","v":"-"},{"$f":"VLOOKUP(B92,'[1]002'!B:M,12,0)","v":"-"},{"$f":"VLOOKUP(B92,[2]sheet2!B:L,10,0)","v":"-"},{"$f":"VLOOKUP(B92,[2]sheet2!B:L,11,0)","v":"-"},"http://183.62.54.51:8841/data/files/certificate/000000000439/5da3c4b5f6c54eab956114165c4b37e6/signed/90_何熙怡_一等奖_5977.pdf"]
[91,"P305119088276","用排水法求不规则物体的体积","小学组","微课","一等奖","中山市",{"$f":"VLOOKUP(B93,'[1]002'!B:M,7,0)","v":"任慧"},{"$f":"VLOOKUP(B93,'[1]002'!B:M,8,0)","v":"中山市中港英文学校"},{"$f":"VLOOKUP(B93,'[1]002'!B:M,11,0)","v":"林佳"},{"$f":"VLOOKUP(B93,'[1]002'!B:M,12,0)","v":"中山市中港英文学校"},{"$f":"VLOOKUP(B93,[2]sheet2!B:L,10,0)","v":"-"},{"$f":"VLOOKUP(B93,[2]sheet2!B:L,11,0)","v":"-"},"http://183.62.54.51:8841/data/files/certificate/000000000439/7ff6c3835c2c49d089060984e2675a37/signed/91_任慧、林佳_一等奖_5978.pdf"]
[92,"P305119090302","微课Unit3Animals","小学组","微课","一等奖","中山市",{"$f":"VLOOKUP(B94,'[1]002'!B:M,7,0)","v":"陈水玲"},{"$f":"VLOOKUP(B94,'[1]002'!B:M,8,0)","v":"中山市西区中心小学"},{"$f":"VLOOKUP(B94,'[1]002'!B:M,11,0)","v":"-"},{"$f":"VLOOKUP(B94,'[1]002'!B:M,12,0)","v":"-"},{"$f":"VLOOKUP(B94,[2]sheet2!B:L,10,0)","v":"-"},{"$f":"VLOOKUP(B94,[2]sheet2!B:L,11,0)","v":"-"},"http://183.62.54.51:8841/data/files/certificate/000000000439/147806280a6241c0b10b5100cb3c60d9/signed/92_陈水玲_一等奖_5979.pdf"]
[93,"P305119091781","学用There be 句型表达“某地有……”","小学组","微课","一等奖","江门市",{"$f":"VLOOKUP(B95,'[1]002'!B:M,7,0)","v":"伍雅茵"},{"$f":"VLOOKUP(B95,'[1]002'!B:M,8,0)","v":"江门市紫茶小学"},{"$f":"VLOOKUP(B95,'[1]002'!B:M,11,0)","v":"-"},{"$f":"VLOOKUP(B95,'[1]002'!B:M,12,0)","v":"-"},{"$f":"VLOOKUP(B95,[2]sheet2!B:L,10,0)","v":"-"},{"$f":"VLOOKUP(B95,[2]sheet2!B:L,11,0)","v":"-"},"http://183.62.54.51:8841/data/files/certificate/000000000439/e0504614cbc742fdbf66f3bb08950536/signed/93_伍雅茵_一等奖_5980.pdf"]
[94,"P305119091824","乘法分配律","小学组","微课","一等奖","江门市",{"$f":"VLOOKUP(B96,'[1]002'!B:M,7,0)","v":"骆晓珊"},{"$f":"VLOOKUP(B96,'[1]002'!B:M,8,0)","v":"外海中路小学"},{"$f":"VLOOKUP(B96,'[1]002'!B:M,11,0)","v":"-"},{"$f":"VLOOKUP(B96,'[1]002'!B:M,12,0)","v":"-"},{"$f":"VLOOKUP(B96,[2]sheet2!B:L,10,0)","v":"-"},{"$f":"VLOOKUP(B96,[2]sheet2!B:L,11,0)","v":"-"},"http://183.62.54.51:8841/data/files/certificate/000000000439/f948cbc52cbd4720ad2d109a8a06b183/signed/94_骆晓珊_一等奖_5981.pdf"]
[95,"P305119092916","穿越古代，走进送别诗","小学组","微课","一等奖","湛江市",{"$f":"VLOOKUP(B97,'[1]002'!B:M,7,0)","v":"何茵"},{"$f":"VLOOKUP(B97,'[1]002'!B:M,8,0)","v":"湛江市第十七中学"},{"$f":"VLOOKUP(B97,'[1]002'!B:M,11,0)","v":"-"},{"$f":"VLOOKUP(B97,'[1]002'!B:M,12,0)","v":"-"},{"$f":"VLOOKUP(B97,[2]sheet2!B:L,10,0)","v":"-"},{"$f":"VLOOKUP(B97,[2]sheet2!B:L,11,0)","v":"-"},"http://183.62.54.51:8841/data/files/certificate/000000000439/e655695a9ece4687adea0704b604537e/signed/95_何茵_一等奖_5982.pdf"]
[96,"P305119091314","让句子发出声音","小学组","微课","一等奖","茂名市",{"$f":"VLOOKUP(B98,'[1]002'!B:M,7,0)","v":"吴晓颖"},{"$f":"VLOOKUP(B98,'[1]002'!B:M,8,0)","v":"茂名市方兴小学"},{"$f":"VLOOKUP(B98,'[1]002'!B:M,11,0)","v":"-"},{"$f":"VLOOKUP(B98,'[1]002'!B:M,12,0)","v":"-"},{"$f":"VLOOKUP(B98,[2]sheet2!B:L,10,0)","v":"-"},{"$f":"VLOOKUP(B98,[2]sheet2!B:L,11,0)","v":"-"},"http://183.62.54.51:8841/data/files/certificate/000000000439/d7e1cc71dcca42d8938d81f89a3b0d7c/signed/96_吴晓颖_一等奖_5983.pdf"]
[97,"P305119091311","微课How to talk about hobbies","小学组","微课","一等奖","茂名市",{"$f":"VLOOKUP(B99,'[1]002'!B:M,7,0)","v":"吴晓聪"},{"$f":"VLOOKUP(B99,'[1]002'!B:M,8,0)","v":"化州市第三小学"},{"$f":"VLOOKUP(B99,'[1]002'!B:M,11,0)","v":"-"},{"$f":"VLOOKUP(B99,'[1]002'!B:M,12,0)","v":"-"},{"$f":"VLOOKUP(B99,[2]sheet2!B:L,10,0)","v":"-"},{"$f":"VLOOKUP(B99,[2]sheet2!B:L,11,0)","v":"-"},"http://183.62.54.51:8841/data/files/certificate/000000000439/851595939982425f9c9990f9314b27b0/signed/97_吴晓聪_一等奖_5984.pdf"]
[98,"P305119091316","惠崇春江晓景","小学组","微课","一等奖","茂名市",{"$f":"VLOOKUP(B100,'[1]002'!B:M,7,0)","v":"邓丹霞"},{"$f":"VLOOKUP(B100,'[1]002'!B:M,8,0)","v":"电城镇蔡屋小学"},{"$f":"VLOOKUP(B100,'[1]002'!B:M,11,0)","v":"-"},{"$f":"VLOOKUP(B100,'[1]002'!B:M,12,0)","v":"-"},{"$f":"VLOOKUP(B100,[2]sheet2!B:L,10,0)","v":"-"},{"$f":"VLOOKUP(B100,[2]sheet2!B:L,11,0)","v":"-"},"http://183.62.54.51:8841/data/files/certificate/000000000439/d89cb8e40eac4c13b515764a33ac3eb6/signed/98_邓丹霞_一等奖_5985.pdf"]
[99,"P305119091796","巧救小昆虫","小学组","微课","一等奖","茂名市",{"$f":"VLOOKUP(B101,'[1]002'!B:M,7,0)","v":"冯思敏"},{"$f":"VLOOKUP(B101,'[1]002'!B:M,8,0)","v":"茂名市江滨小学"},{"$f":"VLOOKUP(B101,'[1]002'!B:M,11,0)","v":"-"},{"$f":"VLOOKUP(B101,'[1]002'!B:M,12,0)","v":"-"},{"$f":"VLOOKUP(B101,[2]sheet2!B:L,10,0)","v":"-"},{"$f":"VLOOKUP(B101,[2]sheet2!B:L,11,0)","v":"-"},"http://183.62.54.51:8841/data/files/certificate/000000000439/81ea613f92574a69a6ff35a8adfb47bc/signed/99_冯思敏_一等奖_5986.pdf"]
[100,"P305119089834","与键盘交朋友","小学组","微课","一等奖","肇庆市",{"$f":"VLOOKUP(B102,'[1]002'!B:M,7,0)","v":"邓诗颖"},{"$f":"VLOOKUP(B102,'[1]002'!B:M,8,0)","v":"肇庆高新区实验小学"},{"$f":"VLOOKUP(B102,'[1]002'!B:M,11,0)","v":"李坤明"},{"$f":"VLOOKUP(B102,'[1]002'!B:M,12,0)","v":"肇庆高新区实验小学"},{"$f":"VLOOKUP(B102,[2]sheet2!B:L,10,0)","v":"-"},{"$f":"VLOOKUP(B102,[2]sheet2!B:L,11,0)","v":"-"},"http://183.62.54.51:8841/data/files/certificate/000000000439/9a836a60b0d04182846a89032e5957af/signed/100_邓诗颖、李坤明_一等奖_5987.pdf"]
[101,"P305119081577","部编版三年下册第九课古诗三首之九月九日忆山东兄弟","小学组","微课","一等奖","潮州市",{"$f":"VLOOKUP(B103,'[1]002'!B:M,7,0)","v":"张余波"},{"$f":"VLOOKUP(B103,'[1]002'!B:M,8,0)","v":"潮州市实验学校"},{"$f":"VLOOKUP(B103,'[1]002'!B:M,11,0)","v":"-"},{"$f":"VLOOKUP(B103,'[1]002'!B:M,12,0)","v":"-"},{"$f":"VLOOKUP(B103,[2]sheet2!B:L,10,0)","v":"-"},{"$f":"VLOOKUP(B103,[2]sheet2!B:L,11,0)","v":"-"},"http://183.62.54.51:8841/data/files/certificate/000000000439/e29d6e3ebda24858b735ccd15b5a871d/signed/101_张余波_一等奖_5988.pdf"]
[102,"P305119087329","PEP三年级上册Unit3 Look at me PartA","小学组","微课","一等奖","潮州市",{"$f":"VLOOKUP(B104,'[1]002'!B:M,7,0)","v":"蔡钿"},{"$f":"VLOOKUP(B104,'[1]002'!B:M,8,0)","v":"湘桥区兴华学校"},{"$f":"VLOOKUP(B104,'[1]002'!B:M,11,0)","v":"-"},{"$f":"VLOOKUP(B104,'[1]002'!B:M,12,0)","v":"-"},{"$f":"VLOOKUP(B104,[2]sheet2!B:L,10,0)","v":"-"},{"$f":"VLOOKUP(B104,[2]sheet2!B:L,11,0)","v":"-"},"http://183.62.54.51:8841/data/files/certificate/000000000439/fb2f7afcc2af4308b95bd09c41ce3441/signed/102_蔡钿_一等奖_5989.pdf"]
[103,"P305119080000","撑起身体的保护伞","小学组","微课","一等奖","潮州市",{"$f":"VLOOKUP(B105,'[1]002'!B:M,7,0)","v":"黄梓梦"},{"$f":"VLOOKUP(B105,'[1]002'!B:M,8,0)","v":"湘桥区兴华学校"},{"$f":"VLOOKUP(B105,'[1]002'!B:M,11,0)","v":"-"},{"$f":"VLOOKUP(B105,'[1]002'!B:M,12,0)","v":"-"},{"$f":"VLOOKUP(B105,[2]sheet2!B:L,10,0)","v":"-"},{"$f":"VLOOKUP(B105,[2]sheet2!B:L,11,0)","v":"-"},"http://183.62.54.51:8841/data/files/certificate/000000000439/16215c19892a482ca40573de7ab950c0/signed/103_黄梓梦_一等奖_5990.pdf"]
[104,"P307119092667","万科双语学校人工智能系列课程","小学组","信息技术创新教学案例","一等奖","深圳市",{"$f":"VLOOKUP(B106,'[1]002'!B:M,7,0)","v":"吴萍"},{"$f":"VLOOKUP(B106,'[1]002'!B:M,8,0)","v":"深圳市龙华区万科双语学校"},{"$f":"VLOOKUP(B106,'[1]002'!B:M,11,0)","v":"-"},{"$f":"VLOOKUP(B106,'[1]002'!B:M,12,0)","v":"-"},{"$f":"VLOOKUP(B106,[2]sheet2!B:L,10,0)","v":"-"},{"$f":"VLOOKUP(B106,[2]sheet2!B:L,11,0)","v":"-"},"http://183.62.54.51:8841/data/files/certificate/000000000439/c2a911435e234ee7a0fdeb66691cd150/signed/104_吴萍_一等奖_5991.pdf"]
[105,"P307119092666","机器人STEM教学探究","小学组","信息技术创新教学案例","一等奖","深圳市",{"$f":"VLOOKUP(B107,'[1]002'!B:M,7,0)","v":"陈秀"},{"$f":"VLOOKUP(B107,'[1]002'!B:M,8,0)","v":"深圳市福田区福民小学"},{"$f":"VLOOKUP(B107,'[1]002'!B:M,11,0)","v":"-"},{"$f":"VLOOKUP(B107,'[1]002'!B:M,12,0)","v":"-"},{"$f":"VLOOKUP(B107,[2]sheet2!B:L,10,0)","v":"-"},{"$f":"VLOOKUP(B107,[2]sheet2!B:L,11,0)","v":"-"},"http://183.62.54.51:8841/data/files/certificate/000000000439/da87dfb700d14033b42243124ad89c95/signed/105_陈秀_一等奖_5992.pdf"]
[106,"P307119090705","我是小小建筑师","小学组","信息技术创新教学案例","一等奖","佛山市",{"$f":"VLOOKUP(B108,'[1]002'!B:M,7,0)","v":"杨月华"},{"$f":"VLOOKUP(B108,'[1]002'!B:M,8,0)","v":"佛山市南海区丹灶镇罗行小学"},"张碧玉","佛山市南海区丹灶镇罗行小学",{"$f":"VLOOKUP(B108,[2]sheet2!B:L,10,0)","v":"-"},{"$f":"VLOOKUP(B108,[2]sheet2!B:L,11,0)","v":"-"},"http://183.62.54.51:8841/data/files/certificate/000000000439/e2b245b53ed34c2cbc106f150b81b7a3/signed/106_杨月华、张碧玉_一等奖_5993.pdf"]
[107,"P307119090708","用拍微电影方式探究种子传播","小学组","信息技术创新教学案例","一等奖","佛山市",{"$f":"VLOOKUP(B109,'[1]002'!B:M,7,0)","v":"冯斌"},{"$f":"VLOOKUP(B109,'[1]002'!B:M,8,0)","v":"禅城区东鄱小学"},{"$f":"VLOOKUP(B109,'[1]002'!B:M,11,0)","v":"-"},{"$f":"VLOOKUP(B109,'[1]002'!B:M,12,0)","v":"-"},{"$f":"VLOOKUP(B109,[2]sheet2!B:L,10,0)","v":"-"},{"$f":"VLOOKUP(B109,[2]sheet2!B:L,11,0)","v":"-"},"http://183.62.54.51:8841/data/files/certificate/000000000439/7658f68e91c04715a496f82856a3e5c0/signed/107_冯斌_一等奖_5994.pdf"]
[108,"P307119090707","动物儿歌识字教学案例","小学组","信息技术创新教学案例","一等奖","佛山市",{"$f":"VLOOKUP(B110,'[1]002'!B:M,7,0)","v":"林惜容"},{"$f":"VLOOKUP(B110,'[1]002'!B:M,8,0)","v":"佛山市南海区丹灶镇有为小学"},{"$f":"VLOOKUP(B110,'[1]002'!B:M,11,0)","v":"-"},{"$f":"VLOOKUP(B110,'[1]002'!B:M,12,0)","v":"-"},{"$f":"VLOOKUP(B110,[2]sheet2!B:L,10,0)","v":"-"},{"$f":"VLOOKUP(B110,[2]sheet2!B:L,11,0)","v":"-"},"http://183.62.54.51:8841/data/files/certificate/000000000439/ebb51e1138c947e1a9395c66498841c1/signed/108_林惜容_一等奖_5995.pdf"]
[109,"P307119092821","实施互联网加美术构建美术工具应用新模式","小学组","信息技术创新教学案例","一等奖","东莞市",{"$f":"VLOOKUP(B111,'[1]002'!B:M,7,0)","v":"谢文兰"},{"$f":"VLOOKUP(B111,'[1]002'!B:M,8,0)","v":"东莞市寮步镇凫山小学"},{"$f":"VLOOKUP(B111,'[1]002'!B:M,11,0)","v":"-"},{"$f":"VLOOKUP(B111,'[1]002'!B:M,12,0)","v":"-"},{"$f":"VLOOKUP(B111,[2]sheet2!B:L,10,0)","v":"-"},{"$f":"VLOOKUP(B111,[2]sheet2!B:L,11,0)","v":"-"},"http://183.62.54.51:8841/data/files/certificate/000000000439/9ae85383ad2f4a31b132cb760e6a8c3a/signed/109_谢文兰_一等奖_5996.pdf"]
[110,"P307119092825","基于智慧云平台创新翻转课堂新模式","小学组","信息技术创新教学案例","一等奖","东莞市",{"$f":"VLOOKUP(B112,'[1]002'!B:M,7,0)","v":"万瑜文"},"东莞市南城阳光第二小学",{"$f":"VLOOKUP(B112,'[1]002'!B:M,11,0)","v":"胡肖媚"},"东莞市南城阳光第二小学",{"$f":"VLOOKUP(B112,[2]sheet2!B:L,10,0)","v":"洪燕娥"},"东莞市南城阳光第二小学","http://183.62.54.51:8841/data/files/certificate/000000000439/ba4e7156d46048148c4dd29009c8b76b/signed/110_万瑜文、胡肖媚、洪燕娥_一等奖_5997.pdf"]
[111,"P301119092834","基于大数据下的线上和线下混合式教学模式初探与实践","小学组","教师网络空间应用案例","一等奖","东莞市",{"$f":"VLOOKUP(B113,'[1]002'!B:M,7,0)","v":"秦静宜"},{"$f":"VLOOKUP(B113,'[1]002'!B:M,8,0)","v":"东莞市长安镇金沙小学"},{"$f":"VLOOKUP(B113,'[1]002'!B:M,11,0)","v":"訾羽佳"},{"$f":"VLOOKUP(B113,'[1]002'!B:M,12,0)","v":"东莞市长安镇金沙小学"},{"$f":"VLOOKUP(B113,[2]sheet2!B:L,10,0)","v":"孙颖湘"},{"$f":"VLOOKUP(B113,[2]sheet2!B:L,11,0)","v":"东莞市长安镇金沙小学"},"http://183.62.54.51:8841/data/files/certificate/000000000439/65cec3a636814f6ebcced5d210e6b982/signed/111_秦静宜、訾羽佳、孙颖湘_一等奖_5998.pdf"]
[112,"P304119092840","学科日记提升素养","小学组","跨学科项目式学习教学案例","一等奖","东莞市",{"$f":"VLOOKUP(B114,'[1]002'!B:M,7,0)","v":"谢宜伶"},{"$f":"VLOOKUP(B114,'[1]002'!B:M,8,0)","v":"东莞市凤岗镇中心小学"},{"$f":"VLOOKUP(B114,'[1]002'!B:M,11,0)","v":"-"},{"$f":"VLOOKUP(B114,'[1]002'!B:M,12,0)","v":"-"},{"$f":"VLOOKUP(B114,[2]sheet2!B:L,10,0)","v":"-"},{"$f":"VLOOKUP(B114,[2]sheet2!B:L,11,0)","v":"-"},"http://183.62.54.51:8841/data/files/certificate/000000000439/b9b71adf3f3c4fde903d637161b9b6f6/signed/112_谢宜伶_一等奖_5999.pdf"]
[113,"P304119092844","我是职业小达人融合式课程","小学组","跨学科项目式学习教学案例","一等奖","东莞市",{"$f":"VLOOKUP(B115,'[1]002'!B:M,7,0)","v":"王锟"},{"$f":"VLOOKUP(B115,'[1]002'!B:M,8,0)","v":"东莞市东城虎英小学"},{"$f":"VLOOKUP(B115,'[1]002'!B:M,11,0)","v":"张玉珊"},{"$f":"VLOOKUP(B115,'[1]002'!B:M,12,0)","v":"东莞市东城虎英小学"},{"$f":"VLOOKUP(B115,[2]sheet2!B:L,10,0)","v":"-"},{"$f":"VLOOKUP(B115,[2]sheet2!B:L,11,0)","v":"-"},"http://183.62.54.51:8841/data/files/certificate/000000000439/1bff22637b64482ea3eedf988d718324/signed/113_王锟、张玉珊_一等奖_6000.pdf"]
[114,"P304119089609","夜行动物","小学组","跨学科项目式学习教学案例","一等奖","中山市",{"$f":"VLOOKUP(B116,'[1]002'!B:M,7,0)","v":"陈宏珊"},{"$f":"VLOOKUP(B116,'[1]002'!B:M,8,0)","v":"中山市实验小学"},"黄伟祥","中山市实验小学","阮德怀","中山市实验小学","http://183.62.54.51:8841/data/files/certificate/000000000439/0250f4cc64b649c1876f2bb11a59e44e/signed/114_陈宏珊、黄伟祥、阮德怀_一等奖_6001.pdf"]
[115,"P306119093135","生命最宝贵","小学组","新媒体新技术教学应用课例","一等奖",{"$f":"RIGHT(LEFT(VLOOKUP(B117,'[1]002'!B:M,3,0),7),3)","v":"广州市"},{"$f":"VLOOKUP(B117,'[1]002'!B:M,7,0)","v":"吴晓虹"},{"$f":"VLOOKUP(B117,'[1]002'!B:M,8,0)","v":"广州市番禺区市桥南阳里小学"},{"$f":"VLOOKUP(B117,'[1]002'!B:M,11,0)","v":"-"},{"$f":"VLOOKUP(B117,'[1]002'!B:M,12,0)","v":"-"},{"$f":"VLOOKUP(B117,[2]sheet2!B:L,10,0)","v":"-"},{"$f":"VLOOKUP(B117,[2]sheet2!B:L,11,0)","v":"-"},"http://183.62.54.51:8841/data/files/certificate/000000000439/a6ea824ca8d2450ca75f98d0fbcfebe6/signed/115_吴晓虹_一等奖_6002.pdf"]
[116,"P306119093115","学会辨别东、西、南、北","小学组","新媒体新技术教学应用课例","一等奖",{"$f":"RIGHT(LEFT(VLOOKUP(B118,'[1]002'!B:M,3,0),7),3)","v":"广州市"},{"$f":"VLOOKUP(B118,'[1]002'!B:M,7,0)","v":"房舒娜"},{"$f":"VLOOKUP(B118,'[1]002'!B:M,8,0)","v":"广州市番禺区市桥南阳里小学"},{"$f":"VLOOKUP(B118,'[1]002'!B:M,11,0)","v":"-"},{"$f":"VLOOKUP(B118,'[1]002'!B:M,12,0)","v":"-"},{"$f":"VLOOKUP(B118,[2]sheet2!B:L,10,0)","v":"-"},{"$f":"VLOOKUP(B118,[2]sheet2!B:L,11,0)","v":"-"},"http://183.62.54.51:8841/data/files/certificate/000000000439/6e753f5d23834f869a2f5a516344bb3e/signed/116_房舒娜_一等奖_6003.pdf"]
[117,"P306119093132","简单电路","小学组","新媒体新技术教学应用课例","一等奖",{"$f":"RIGHT(LEFT(VLOOKUP(B119,'[1]002'!B:M,3,0),7),3)","v":"广州市"},{"$f":"VLOOKUP(B119,'[1]002'!B:M,7,0)","v":"肖玲"},{"$f":"VLOOKUP(B119,'[1]002'!B:M,8,0)","v":"广州市荔湾区芦荻西小学"},{"$f":"VLOOKUP(B119,'[1]002'!B:M,11,0)","v":"-"},{"$f":"VLOOKUP(B119,'[1]002'!B:M,12,0)","v":"-"},{"$f":"VLOOKUP(B119,[2]sheet2!B:L,10,0)","v":"-"},{"$f":"VLOOKUP(B119,[2]sheet2!B:L,11,0)","v":"-"},"http://183.62.54.51:8841/data/files/certificate/000000000439/c6009e95fd9b42808a2b5bfea0f9ec92/signed/117_肖玲_一等奖_6004.pdf"]
[118,"P306119093134","飞向蓝天的恐龙","小学组","新媒体新技术教学应用课例","一等奖",{"$f":"RIGHT(LEFT(VLOOKUP(B120,'[1]002'!B:M,3,0),7),3)","v":"广州市"},{"$f":"VLOOKUP(B120,'[1]002'!B:M,7,0)","v":"黄丽东"},{"$f":"VLOOKUP(B120,'[1]002'!B:M,8,0)","v":"广州市番禺区市桥南阳里小学"},{"$f":"VLOOKUP(B120,'[1]002'!B:M,11,0)","v":"吴海华"},{"$f":"VLOOKUP(B120,'[1]002'!B:M,12,0)","v":"广州市番禺区市桥南阳里小学"},{"$f":"VLOOKUP(B120,[2]sheet2!B:L,10,0)","v":"-"},{"$f":"VLOOKUP(B120,[2]sheet2!B:L,11,0)","v":"-"},"http://183.62.54.51:8841/data/files/certificate/000000000439/0672b3d03b0c4a82a22e9081d9962d66/signed/118_黄丽东、吴海华_一等奖_6005.pdf"]
[119,"P306119093117","线段、直线和射线","小学组","新媒体新技术教学应用课例","一等奖",{"$f":"RIGHT(LEFT(VLOOKUP(B121,'[1]002'!B:M,3,0),7),3)","v":"广州市"},{"$f":"VLOOKUP(B121,'[1]002'!B:M,7,0)","v":"李妍媛"},{"$f":"VLOOKUP(B121,'[1]002'!B:M,8,0)","v":"广州市天河区体育东路小学"},{"$f":"VLOOKUP(B121,'[1]002'!B:M,11,0)","v":"-"},{"$f":"VLOOKUP(B121,'[1]002'!B:M,12,0)","v":"-"},{"$f":"VLOOKUP(B121,[2]sheet2!B:L,10,0)","v":"-"},{"$f":"VLOOKUP(B121,[2]sheet2!B:L,11,0)","v":"-"},"http://183.62.54.51:8841/data/files/certificate/000000000439/0c21dcc557424f15933f00e336d6331b/signed/119_李妍媛_一等奖_6006.pdf"]
[120,"P306119093124","Unit 10 Travel Abroad Fun With Language","小学组","新媒体新技术教学应用课例","一等奖",{"$f":"RIGHT(LEFT(VLOOKUP(B122,'[1]002'!B:M,3,0),7),3)","v":"广州市"},{"$f":"VLOOKUP(B122,'[1]002'!B:M,7,0)","v":"周乐君"},{"$f":"VLOOKUP(B122,'[1]002'!B:M,8,0)","v":"广州市荔湾区乐贤坊小学"},{"$f":"VLOOKUP(B122,'[1]002'!B:M,11,0)","v":"-"},{"$f":"VLOOKUP(B122,'[1]002'!B:M,12,0)","v":"-"},{"$f":"VLOOKUP(B122,[2]sheet2!B:L,10,0)","v":"-"},{"$f":"VLOOKUP(B122,[2]sheet2!B:L,11,0)","v":"-"},"http://183.62.54.51:8841/data/files/certificate/000000000439/f96683b3de3247b3b73393ae9cfb4988/signed/120_周乐君_一等奖_6007.pdf"]
[121,"P306119092635","小小的船","小学组","新媒体新技术教学应用课例","一等奖",{"$f":"RIGHT(LEFT(VLOOKUP(B123,'[1]002'!B:M,3,0),7),3)","v":"深圳市"},{"$f":"VLOOKUP(B123,'[1]002'!B:M,7,0)","v":"朱苑兰"},{"$f":"VLOOKUP(B123,'[1]002'!B:M,8,0)","v":"龙城街道龙西小学"},{"$f":"VLOOKUP(B123,'[1]002'!B:M,11,0)","v":"-"},{"$f":"VLOOKUP(B123,'[1]002'!B:M,12,0)","v":"-"},{"$f":"VLOOKUP(B123,[2]sheet2!B:L,10,0)","v":"-"},{"$f":"VLOOKUP(B123,[2]sheet2!B:L,11,0)","v":"-"},"http://183.62.54.51:8841/data/files/certificate/000000000439/279d50f99c1e448980aa107e9f958ad4/signed/121_朱苑兰_一等奖_6008.pdf"]
[122,"P306119092622","给机器人一双“眼睛”","小学组","新媒体新技术教学应用课例","一等奖",{"$f":"RIGHT(LEFT(VLOOKUP(B124,'[1]002'!B:M,3,0),7),3)","v":"深圳市"},{"$f":"VLOOKUP(B124,'[1]002'!B:M,7,0)","v":"廖致锋"},{"$f":"VLOOKUP(B124,'[1]002'!B:M,8,0)","v":"深圳市红桂小学"},{"$f":"VLOOKUP(B124,'[1]002'!B:M,11,0)","v":"-"},{"$f":"VLOOKUP(B124,'[1]002'!B:M,12,0)","v":"-"},{"$f":"VLOOKUP(B124,[2]sheet2!B:L,10,0)","v":"-"},{"$f":"VLOOKUP(B124,[2]sheet2!B:L,11,0)","v":"-"},"http://183.62.54.51:8841/data/files/certificate/000000000439/f82a347254de434b9df8051a7be65acf/signed/122_廖致锋_一等奖_6009.pdf"]
[123,"P306119092632","漂亮的挂盘","小学组","新媒体新技术教学应用课例","一等奖",{"$f":"RIGHT(LEFT(VLOOKUP(B125,'[1]002'!B:M,3,0),7),3)","v":"深圳市"},{"$f":"VLOOKUP(B125,'[1]002'!B:M,7,0)","v":"刘彦希"},{"$f":"VLOOKUP(B125,'[1]002'!B:M,8,0)","v":"深圳市南山区珠光小学"},{"$f":"VLOOKUP(B125,'[1]002'!B:M,11,0)","v":"-"},{"$f":"VLOOKUP(B125,'[1]002'!B:M,12,0)","v":"-"},{"$f":"VLOOKUP(B125,[2]sheet2!B:L,10,0)","v":"-"},{"$f":"VLOOKUP(B125,[2]sheet2!B:L,11,0)","v":"-"},"http://183.62.54.51:8841/data/files/certificate/000000000439/3ab6779e85374dd99400e4a4cb89b049/signed/123_刘彦希_一等奖_6010.pdf"]
[124,"P306119092623","食物链和食物网","小学组","新媒体新技术教学应用课例","一等奖",{"$f":"RIGHT(LEFT(VLOOKUP(B126,'[1]002'!B:M,3,0),7),3)","v":"深圳市"},{"$f":"VLOOKUP(B126,'[1]002'!B:M,7,0)","v":"陈丹骅"},{"$f":"VLOOKUP(B126,'[1]002'!B:M,8,0)","v":"深圳市南山实验教育集团"},{"$f":"VLOOKUP(B126,'[1]002'!B:M,11,0)","v":"-"},{"$f":"VLOOKUP(B126,'[1]002'!B:M,12,0)","v":"-"},{"$f":"VLOOKUP(B126,[2]sheet2!B:L,10,0)","v":"-"},{"$f":"VLOOKUP(B126,[2]sheet2!B:L,11,0)","v":"-"},"http://183.62.54.51:8841/data/files/certificate/000000000439/b6a5da7a25ad479b8914ceb19cb4f883/signed/124_陈丹骅_一等奖_6011.pdf"]
[125,"P306119092619","第10课伙伴随我加","小学组","新媒体新技术教学应用课例","一等奖",{"$f":"RIGHT(LEFT(VLOOKUP(B127,'[1]002'!B:M,3,0),7),3)","v":"深圳市"},{"$f":"VLOOKUP(B127,'[1]002'!B:M,7,0)","v":"蔡静敏"},{"$f":"VLOOKUP(B127,'[1]002'!B:M,8,0)","v":"深圳市龙华区行知小学"},{"$f":"VLOOKUP(B127,'[1]002'!B:M,11,0)","v":"-"},{"$f":"VLOOKUP(B127,'[1]002'!B:M,12,0)","v":"-"},{"$f":"VLOOKUP(B127,[2]sheet2!B:L,10,0)","v":"-"},{"$f":"VLOOKUP(B127,[2]sheet2!B:L,11,0)","v":"-"},"http://183.62.54.51:8841/data/files/certificate/000000000439/984eea85253e41689659ac4976e95ea1/signed/125_蔡静敏_一等奖_6012.pdf"]
[126,"P306119092625","不同物象的表面特征","小学组","新媒体新技术教学应用课例","一等奖",{"$f":"RIGHT(LEFT(VLOOKUP(B128,'[1]002'!B:M,3,0),7),3)","v":"深圳市"},{"$f":"VLOOKUP(B128,'[1]002'!B:M,7,0)","v":"许嘉萍"},{"$f":"VLOOKUP(B128,'[1]002'!B:M,8,0)","v":"深圳市水田小学"},{"$f":"VLOOKUP(B128,'[1]002'!B:M,11,0)","v":"-"},{"$f":"VLOOKUP(B128,'[1]002'!B:M,12,0)","v":"-"},{"$f":"VLOOKUP(B128,[2]sheet2!B:L,10,0)","v":"-"},{"$f":"VLOOKUP(B128,[2]sheet2!B:L,11,0)","v":"-"},"http://183.62.54.51:8841/data/files/certificate/000000000439/bb09de4699a648b3a3fa7bec91e2e2d4/signed/126_许嘉萍_一等奖_6013.pdf"]
[127,"P306119079221","荷花","小学组","新媒体新技术教学应用课例","一等奖",{"$f":"RIGHT(LEFT(VLOOKUP(B129,'[1]002'!B:M,3,0),7),3)","v":"珠海市"},{"$f":"VLOOKUP(B129,'[1]002'!B:M,7,0)","v":"陈红波"},{"$f":"VLOOKUP(B129,'[1]002'!B:M,8,0)","v":"珠海市金湾区第一小学"},{"$f":"VLOOKUP(B129,'[1]002'!B:M,11,0)","v":"-"},{"$f":"VLOOKUP(B129,'[1]002'!B:M,12,0)","v":"-"},{"$f":"VLOOKUP(B129,[2]sheet2!B:L,10,0)","v":"-"},{"$f":"VLOOKUP(B129,[2]sheet2!B:L,11,0)","v":"-"},"http://183.62.54.51:8841/data/files/certificate/000000000439/f81769a53e4b4cfeb5fc41b1bcb75b53/signed/127_陈红波_一等奖_6014.pdf"]
[128,"P306119091136","圆锥的体积","小学组","新媒体新技术教学应用课例","一等奖",{"$f":"RIGHT(LEFT(VLOOKUP(B130,'[1]002'!B:M,3,0),7),3)","v":"珠海市"},{"$f":"VLOOKUP(B130,'[1]002'!B:M,7,0)","v":"梁德君"},{"$f":"VLOOKUP(B130,'[1]002'!B:M,8,0)","v":"珠海市香洲区第二十一小学"},{"$f":"VLOOKUP(B130,'[1]002'!B:M,11,0)","v":"-"},{"$f":"VLOOKUP(B130,'[1]002'!B:M,12,0)","v":"-"},{"$f":"VLOOKUP(B130,[2]sheet2!B:L,10,0)","v":"-"},{"$f":"VLOOKUP(B130,[2]sheet2!B:L,11,0)","v":"-"},"http://183.62.54.51:8841/data/files/certificate/000000000439/f6ca88f1bab84e609aad326fa3fa6dde/signed/128_梁德君_一等奖_6015.pdf"]
[129,"P306119091985","圆的周长","小学组","新媒体新技术教学应用课例","一等奖",{"$f":"RIGHT(LEFT(VLOOKUP(B131,'[1]002'!B:M,3,0),7),3)","v":"汕头市"},{"$f":"VLOOKUP(B131,'[1]002'!B:M,7,0)","v":"潘素端"},{"$f":"VLOOKUP(B131,'[1]002'!B:M,8,0)","v":"汕头市澄海实验小学"},{"$f":"VLOOKUP(B131,'[1]002'!B:M,11,0)","v":"-"},{"$f":"VLOOKUP(B131,'[1]002'!B:M,12,0)","v":"-"},{"$f":"VLOOKUP(B131,[2]sheet2!B:L,10,0)","v":"-"},{"$f":"VLOOKUP(B131,[2]sheet2!B:L,11,0)","v":"-"},"http://183.62.54.51:8841/data/files/certificate/000000000439/a504454215fa48af8e8cd1d719b89290/signed/129_潘素端_一等奖_6016.pdf"]
[130,"P306119090743","动物儿歌识字教学课例","小学组","新媒体新技术教学应用课例","一等奖",{"$f":"RIGHT(LEFT(VLOOKUP(B132,'[1]002'!B:M,3,0),7),3)","v":"佛山市"},{"$f":"VLOOKUP(B132,'[1]002'!B:M,7,0)","v":"林惜容"},{"$f":"VLOOKUP(B132,'[1]002'!B:M,8,0)","v":"佛山市南海区丹灶镇有为小学"},{"$f":"VLOOKUP(B132,'[1]002'!B:M,11,0)","v":"-"},{"$f":"VLOOKUP(B132,'[1]002'!B:M,12,0)","v":"-"},{"$f":"VLOOKUP(B132,[2]sheet2!B:L,10,0)","v":"-"},{"$f":"VLOOKUP(B132,[2]sheet2!B:L,11,0)","v":"-"},"http://183.62.54.51:8841/data/files/certificate/000000000439/f8bfdb228d89469c8a9374f2c13e2440/signed/130_林惜容_一等奖_6017.pdf"]
[131,"P306119090746","寻找魔法珠","小学组","新媒体新技术教学应用课例","一等奖",{"$f":"RIGHT(LEFT(VLOOKUP(B133,'[1]002'!B:M,3,0),7),3)","v":"佛山市"},{"$f":"VLOOKUP(B133,'[1]002'!B:M,7,0)","v":"张英华"},{"$f":"VLOOKUP(B133,'[1]002'!B:M,8,0)","v":"佛山市南海区桂城街道桂江小学"},{"$f":"VLOOKUP(B133,'[1]002'!B:M,11,0)","v":"-"},{"$f":"VLOOKUP(B133,'[1]002'!B:M,12,0)","v":"-"},{"$f":"VLOOKUP(B133,[2]sheet2!B:L,10,0)","v":"-"},{"$f":"VLOOKUP(B133,[2]sheet2!B:L,11,0)","v":"-"},"http://183.62.54.51:8841/data/files/certificate/000000000439/2c14e51b71344a3f92e3566d9e3ab803/signed/131_张英华_一等奖_6018.pdf"]
[132,"P306119090765","Unit6WorkquietlyAletstalk","小学组","新媒体新技术教学应用课例","一等奖",{"$f":"RIGHT(LEFT(VLOOKUP(B134,'[1]002'!B:M,3,0),7),3)","v":"佛山市"},{"$f":"VLOOKUP(B134,'[1]002'!B:M,7,0)","v":"郑萍"},{"$f":"VLOOKUP(B134,'[1]002'!B:M,8,0)","v":"佛山市顺德区北滘中心小学"},{"$f":"VLOOKUP(B134,'[1]002'!B:M,11,0)","v":"廖晓锋"},{"$f":"VLOOKUP(B134,'[1]002'!B:M,12,0)","v":"佛山市顺德区北滘中心小学"},{"$f":"VLOOKUP(B134,[2]sheet2!B:L,10,0)","v":"-"},{"$f":"VLOOKUP(B134,[2]sheet2!B:L,11,0)","v":"-"},"http://183.62.54.51:8841/data/files/certificate/000000000439/c47202c00b704cd8a8d1bb5eb86eb3a4/signed/132_郑萍、廖晓锋_一等奖_6019.pdf"]
[133,"P306119090742","9的乘法口诀","小学组","新媒体新技术教学应用课例","一等奖",{"$f":"RIGHT(LEFT(VLOOKUP(B135,'[1]002'!B:M,3,0),7),3)","v":"佛山市"},{"$f":"VLOOKUP(B135,'[1]002'!B:M,7,0)","v":"方兆敏"},{"$f":"VLOOKUP(B135,'[1]002'!B:M,8,0)","v":"佛山市南海区桂城街道桂园小学"},{"$f":"VLOOKUP(B135,'[1]002'!B:M,11,0)","v":"-"},{"$f":"VLOOKUP(B135,'[1]002'!B:M,12,0)","v":"-"},{"$f":"VLOOKUP(B135,[2]sheet2!B:L,10,0)","v":"-"},{"$f":"VLOOKUP(B135,[2]sheet2!B:L,11,0)","v":"-"},"http://183.62.54.51:8841/data/files/certificate/000000000439/1c14164408274eaaae3def66aa2a772b/signed/133_方兆敏_一等奖_6020.pdf"]
[134,"P306119090773","我变成了一棵树","小学组","新媒体新技术教学应用课例","一等奖",{"$f":"RIGHT(LEFT(VLOOKUP(B136,'[1]002'!B:M,3,0),7),3)","v":"佛山市"},{"$f":"VLOOKUP(B136,'[1]002'!B:M,7,0)","v":"吴淑芬"},{"$f":"VLOOKUP(B136,'[1]002'!B:M,8,0)","v":"佛山市顺德区龙江世埠小学"},{"$f":"VLOOKUP(B136,'[1]002'!B:M,11,0)","v":"-"},{"$f":"VLOOKUP(B136,'[1]002'!B:M,12,0)","v":"-"},{"$f":"VLOOKUP(B136,[2]sheet2!B:L,10,0)","v":"-"},{"$f":"VLOOKUP(B136,[2]sheet2!B:L,11,0)","v":"-"},"http://183.62.54.51:8841/data/files/certificate/000000000439/d78d75df6a7742ecbbb8d4841fb23b3f/signed/134_吴淑芬_一等奖_6021.pdf"]
[135,"P306119090774","飞翔吧小鸟","小学组","新媒体新技术教学应用课例","一等奖",{"$f":"RIGHT(LEFT(VLOOKUP(B137,'[1]002'!B:M,3,0),7),3)","v":"佛山市"},{"$f":"VLOOKUP(B137,'[1]002'!B:M,7,0)","v":"罗潇"},{"$f":"VLOOKUP(B137,'[1]002'!B:M,8,0)","v":"佛山市顺德区容桂容山小学"},{"$f":"VLOOKUP(B137,'[1]002'!B:M,11,0)","v":"邓嘉慧"},{"$f":"VLOOKUP(B137,'[1]002'!B:M,12,0)","v":"佛山市顺德区容桂容山小学"},{"$f":"VLOOKUP(B137,[2]sheet2!B:L,10,0)","v":"-"},{"$f":"VLOOKUP(B137,[2]sheet2!B:L,11,0)","v":"-"},"http://183.62.54.51:8841/data/files/certificate/000000000439/ee89b3a097504f9f8a2b250f2b5cf3e7/signed/135_罗潇、邓嘉慧_一等奖_6022.pdf"]
[136,"P306119090767","胆小的老鼠","小学组","新媒体新技术教学应用课例","一等奖",{"$f":"RIGHT(LEFT(VLOOKUP(B138,'[1]002'!B:M,3,0),7),3)","v":"佛山市"},{"$f":"VLOOKUP(B138,'[1]002'!B:M,7,0)","v":"辛结容"},{"$f":"VLOOKUP(B138,'[1]002'!B:M,8,0)","v":"佛山市顺德区北滘中心小学"},{"$f":"VLOOKUP(B138,'[1]002'!B:M,11,0)","v":"-"},{"$f":"VLOOKUP(B138,'[1]002'!B:M,12,0)","v":"-"},{"$f":"VLOOKUP(B138,[2]sheet2!B:L,10,0)","v":"-"},{"$f":"VLOOKUP(B138,[2]sheet2!B:L,11,0)","v":"-"},"http://183.62.54.51:8841/data/files/certificate/000000000439/98c6acc403d643a9ab26d4180761fba2/signed/136_辛结容_一等奖_6023.pdf"]
[137,"P306119089116","坐井观天","小学组","新媒体新技术教学应用课例","一等奖",{"$f":"RIGHT(LEFT(VLOOKUP(B139,'[1]002'!B:M,3,0),7),3)","v":"韶关市"},{"$f":"VLOOKUP(B139,'[1]002'!B:M,7,0)","v":"潘康君"},{"$f":"VLOOKUP(B139,'[1]002'!B:M,8,0)","v":"韶关市武江区田家炳沙湖绿洲小学"},{"$f":"VLOOKUP(B139,'[1]002'!B:M,11,0)","v":"蔡慧良"},{"$f":"VLOOKUP(B139,'[1]002'!B:M,12,0)","v":"韶关市武江区田家炳沙湖绿洲小学"},{"$f":"VLOOKUP(B139,[2]sheet2!B:L,10,0)","v":"-"},{"$f":"VLOOKUP(B139,[2]sheet2!B:L,11,0)","v":"-"},"http://183.62.54.51:8841/data/files/certificate/000000000439/c56d1aab810a48d181af6885969cf2f5/signed/137_潘康君、蔡慧良_一等奖_6024.pdf"]
[138,"P306119092120","A_Let_s_talk","小学组","新媒体新技术教学应用课例","一等奖",{"$f":"RIGHT(LEFT(VLOOKUP(B140,'[1]002'!B:M,3,0),7),3)","v":"惠州市"},{"$f":"VLOOKUP(B140,'[1]002'!B:M,7,0)","v":"余慧群"},{"$f":"VLOOKUP(B140,'[1]002'!B:M,8,0)","v":"博罗县罗阳第六小学"},{"$f":"VLOOKUP(B140,'[1]002'!B:M,11,0)","v":"李卫平"},{"$f":"VLOOKUP(B140,'[1]002'!B:M,12,0)","v":"博罗县罗阳第六小学"},{"$f":"VLOOKUP(B140,[2]sheet2!B:L,10,0)","v":"-"},{"$f":"VLOOKUP(B140,[2]sheet2!B:L,11,0)","v":"-"},"http://183.62.54.51:8841/data/files/certificate/000000000439/5494ba69457548eda2c7a59207ec4827/signed/138_余慧群、李卫平_一等奖_6025.pdf"]
[139,"P306119092416","长方体的认识","小学组","新媒体新技术教学应用课例","一等奖",{"$f":"RIGHT(LEFT(VLOOKUP(B141,'[1]002'!B:M,3,0),7),3)","v":"东莞市"},{"$f":"VLOOKUP(B141,'[1]002'!B:M,7,0)","v":"陈琰彬"},{"$f":"VLOOKUP(B141,'[1]002'!B:M,8,0)","v":"东莞市南城区阳光第二小学"},{"$f":"VLOOKUP(B141,'[1]002'!B:M,11,0)","v":"-"},{"$f":"VLOOKUP(B141,'[1]002'!B:M,12,0)","v":"-"},{"$f":"VLOOKUP(B141,[2]sheet2!B:L,10,0)","v":"-"},{"$f":"VLOOKUP(B141,[2]sheet2!B:L,11,0)","v":"-"},"http://183.62.54.51:8841/data/files/certificate/000000000439/cb9bc09849d148cd9096e51276fc0da6/signed/139_陈琰彬_一等奖_6026.pdf"]
[140,"P306119092418","植物学认识花朵","小学组","新媒体新技术教学应用课例","一等奖",{"$f":"RIGHT(LEFT(VLOOKUP(B142,'[1]002'!B:M,3,0),7),3)","v":"东莞市"},{"$f":"VLOOKUP(B142,'[1]002'!B:M,7,0)","v":"徐丽莉"},{"$f":"VLOOKUP(B142,'[1]002'!B:M,8,0)","v":"东莞市大朗镇崇文小学"},{"$f":"VLOOKUP(B142,'[1]002'!B:M,11,0)","v":"-"},{"$f":"VLOOKUP(B142,'[1]002'!B:M,12,0)","v":"-"},{"$f":"VLOOKUP(B142,[2]sheet2!B:L,10,0)","v":"-"},{"$f":"VLOOKUP(B142,[2]sheet2!B:L,11,0)","v":"-"},"http://183.62.54.51:8841/data/files/certificate/000000000439/03914084a1c8446f8e20e1cab576281f/signed/140_徐丽莉_一等奖_6027.pdf"]
[141,"P306119092420","创意编程重复积木的嵌套","小学组","新媒体新技术教学应用课例","一等奖",{"$f":"RIGHT(LEFT(VLOOKUP(B143,'[1]002'!B:M,3,0),7),3)","v":"东莞市"},{"$f":"VLOOKUP(B143,'[1]002'!B:M,7,0)","v":"程马峰"},{"$f":"VLOOKUP(B143,'[1]002'!B:M,8,0)","v":"东莞市大朗镇巷头小学"},{"$f":"VLOOKUP(B143,'[1]002'!B:M,11,0)","v":"-"},{"$f":"VLOOKUP(B143,'[1]002'!B:M,12,0)","v":"-"},{"$f":"VLOOKUP(B143,[2]sheet2!B:L,10,0)","v":"-"},{"$f":"VLOOKUP(B143,[2]sheet2!B:L,11,0)","v":"-"},"http://183.62.54.51:8841/data/files/certificate/000000000439/def65400618c4078953d88ae3ae9d176/signed/141_程马峰_一等奖_6028.pdf"]
[142,"P306119088807","探索正方体的奥秘","小学组","新媒体新技术教学应用课例","一等奖",{"$f":"RIGHT(LEFT(VLOOKUP(B144,'[1]002'!B:M,3,0),7),3)","v":"中山市"},{"$f":"VLOOKUP(B144,'[1]002'!B:M,7,0)","v":"陈彩丽"},{"$f":"VLOOKUP(B144,'[1]002'!B:M,8,0)","v":"中山市西区铁城小学"},{"$f":"VLOOKUP(B144,'[1]002'!B:M,11,0)","v":"-"},{"$f":"VLOOKUP(B144,'[1]002'!B:M,12,0)","v":"-"},{"$f":"VLOOKUP(B144,[2]sheet2!B:L,10,0)","v":"-"},{"$f":"VLOOKUP(B144,[2]sheet2!B:L,11,0)","v":"-"},"http://183.62.54.51:8841/data/files/certificate/000000000439/5a4ac86fd3e2449dbad12c76189615e8/signed/142_陈彩丽_一等奖_6029.pdf"]
[143,"P306119088303","千年梦圆在今朝","小学组","新媒体新技术教学应用课例","一等奖",{"$f":"RIGHT(LEFT(VLOOKUP(B145,'[1]002'!B:M,3,0),7),3)","v":"中山市"},{"$f":"VLOOKUP(B145,'[1]002'!B:M,7,0)","v":"梁雪芬"},{"$f":"VLOOKUP(B145,'[1]002'!B:M,8,0)","v":"中山市小榄镇九洲基小学"},{"$f":"VLOOKUP(B145,'[1]002'!B:M,11,0)","v":"-"},{"$f":"VLOOKUP(B145,'[1]002'!B:M,12,0)","v":"-"},{"$f":"VLOOKUP(B145,[2]sheet2!B:L,10,0)","v":"-"},{"$f":"VLOOKUP(B145,[2]sheet2!B:L,11,0)","v":"-"},"http://183.62.54.51:8841/data/files/certificate/000000000439/c23ee0532aa442619486526b9b07143a/signed/143_梁雪芬_一等奖_6030.pdf"]
[144,"P306119090195","日月明","小学组","新媒体新技术教学应用课例","一等奖",{"$f":"RIGHT(LEFT(VLOOKUP(B146,'[1]002'!B:M,3,0),7),3)","v":"中山市"},{"$f":"VLOOKUP(B146,'[1]002'!B:M,7,0)","v":"刘允霞"},{"$f":"VLOOKUP(B146,'[1]002'!B:M,8,0)","v":"中山市石岐中心小学"},{"$f":"VLOOKUP(B146,'[1]002'!B:M,11,0)","v":"-"},{"$f":"VLOOKUP(B146,'[1]002'!B:M,12,0)","v":"-"},{"$f":"VLOOKUP(B146,[2]sheet2!B:L,10,0)","v":"-"},{"$f":"VLOOKUP(B146,[2]sheet2!B:L,11,0)","v":"-"},"http://183.62.54.51:8841/data/files/certificate/000000000439/eafbd965d855456394938108979eb546/signed/144_刘允霞_一等奖_6031.pdf"]
[145,"P306119088345","探索图形","小学组","新媒体新技术教学应用课例","一等奖",{"$f":"RIGHT(LEFT(VLOOKUP(B147,'[1]002'!B:M,3,0),7),3)","v":"中山市"},{"$f":"VLOOKUP(B147,'[1]002'!B:M,7,0)","v":"韦培华"},{"$f":"VLOOKUP(B147,'[1]002'!B:M,8,0)","v":"中山市小榄丰华学校"},{"$f":"VLOOKUP(B147,'[1]002'!B:M,11,0)","v":"黄慧霞"},{"$f":"VLOOKUP(B147,'[1]002'!B:M,12,0)","v":"中山市小榄丰华学校"},{"$f":"VLOOKUP(B147,[2]sheet2!B:L,10,0)","v":"-"},{"$f":"VLOOKUP(B147,[2]sheet2!B:L,11,0)","v":"-"},"http://183.62.54.51:8841/data/files/certificate/000000000439/70ed3f6fdffb47c88ca99673594c1bf0/signed/145_韦培华、黄慧霞_一等奖_6032.pdf"]
[146,"P306119088164","二维码识别与制作","小学组","新媒体新技术教学应用课例","一等奖",{"$f":"RIGHT(LEFT(VLOOKUP(B148,'[1]002'!B:M,3,0),7),3)","v":"中山市"},{"$f":"VLOOKUP(B148,'[1]002'!B:M,7,0)","v":"唐节"},{"$f":"VLOOKUP(B148,'[1]002'!B:M,8,0)","v":"中山市西区烟洲小学"},{"$f":"VLOOKUP(B148,'[1]002'!B:M,11,0)","v":"-"},{"$f":"VLOOKUP(B148,'[1]002'!B:M,12,0)","v":"-"},{"$f":"VLOOKUP(B148,[2]sheet2!B:L,10,0)","v":"-"},{"$f":"VLOOKUP(B148,[2]sheet2!B:L,11,0)","v":"-"},"http://183.62.54.51:8841/data/files/certificate/000000000439/1ea14e06532a4bb382ba33c36f79ba6b/signed/146_唐节_一等奖_6033.pdf"]
[147,"P306119089538","写日记","小学组","新媒体新技术教学应用课例","一等奖",{"$f":"RIGHT(LEFT(VLOOKUP(B149,'[1]002'!B:M,3,0),7),3)","v":"中山市"},{"$f":"VLOOKUP(B149,'[1]002'!B:M,7,0)","v":"侯蔚璐"},{"$f":"VLOOKUP(B149,'[1]002'!B:M,8,0)","v":"中山市沙溪镇龙瑞小学"},{"$f":"VLOOKUP(B149,'[1]002'!B:M,11,0)","v":"-"},{"$f":"VLOOKUP(B149,'[1]002'!B:M,12,0)","v":"-"},{"$f":"VLOOKUP(B149,[2]sheet2!B:L,10,0)","v":"-"},{"$f":"VLOOKUP(B149,[2]sheet2!B:L,11,0)","v":"-"},"http://183.62.54.51:8841/data/files/certificate/000000000439/1ea9b983dfa6437cbf5d47e5d4b9dab6/signed/147_侯蔚璐_一等奖_6034.pdf"]
[148,"P306119080092","粤人教版小学英语四年级下册Unit3BankorBeach语音教学","小学组","新媒体新技术教学应用课例","一等奖",{"$f":"RIGHT(LEFT(VLOOKUP(B150,'[1]002'!B:M,3,0),7),3)","v":"中山市"},{"$f":"VLOOKUP(B150,'[1]002'!B:M,7,0)","v":"蔡家梅"},{"$f":"VLOOKUP(B150,'[1]002'!B:M,8,0)","v":"中山市石岐杨仙逸小学"},{"$f":"VLOOKUP(B150,'[1]002'!B:M,11,0)","v":"-"},{"$f":"VLOOKUP(B150,'[1]002'!B:M,12,0)","v":"-"},{"$f":"VLOOKUP(B150,[2]sheet2!B:L,10,0)","v":"-"},{"$f":"VLOOKUP(B150,[2]sheet2!B:L,11,0)","v":"-"},"http://183.62.54.51:8841/data/files/certificate/000000000439/a530c83a59aa4c1cb2d148f3b6489580/signed/148_蔡家梅_一等奖_6035.pdf"]
[149,"P306119091356","Module 7 Unit 1 We fly kites in spring.","小学组","新媒体新技术教学应用课例","一等奖",{"$f":"RIGHT(LEFT(VLOOKUP(B151,'[1]002'!B:M,3,0),7),3)","v":"茂名市"},{"$f":"VLOOKUP(B151,'[1]002'!B:M,7,0)","v":"蔡金兰"},{"$f":"VLOOKUP(B151,'[1]002'!B:M,8,0)","v":"茂名市向阳小学"},{"$f":"VLOOKUP(B151,'[1]002'!B:M,11,0)","v":"-"},{"$f":"VLOOKUP(B151,'[1]002'!B:M,12,0)","v":"-"},{"$f":"VLOOKUP(B151,[2]sheet2!B:L,10,0)","v":"-"},{"$f":"VLOOKUP(B151,[2]sheet2!B:L,11,0)","v":"-"},"http://183.62.54.51:8841/data/files/certificate/000000000439/4278e20d86704baf849403ec389e988f/signed/149_蔡金兰_一等奖_6036.pdf"]
[150,"P306119091292","Module7Unit1Hespentabouttwentyonehoursinspace.","小学组","新媒体新技术教学应用课例","一等奖",{"$f":"RIGHT(LEFT(VLOOKUP(B152,'[1]002'!B:M,3,0),7),3)","v":"茂名市"},{"$f":"VLOOKUP(B152,'[1]002'!B:M,7,0)","v":"谭玲"},{"$f":"VLOOKUP(B152,'[1]002'!B:M,8,0)","v":"信宜市田家炳小学"},{"$f":"VLOOKUP(B152,'[1]002'!B:M,11,0)","v":"-"},{"$f":"VLOOKUP(B152,'[1]002'!B:M,12,0)","v":"-"},{"$f":"VLOOKUP(B152,[2]sheet2!B:L,10,0)","v":"-"},{"$f":"VLOOKUP(B152,[2]sheet2!B:L,11,0)","v":"-"},"http://183.62.54.51:8841/data/files/certificate/000000000439/204664f48ffa4950bfcddc0892f1905a/signed/150_谭玲_一等奖_6037.pdf"]
[151,"P306119091192","Unit5Dinnersready","小学组","新媒体新技术教学应用课例","一等奖",{"$f":"RIGHT(LEFT(VLOOKUP(B153,'[1]002'!B:M,3,0),7),3)","v":"肇庆市"},{"$f":"VLOOKUP(B153,'[1]002'!B:M,7,0)","v":"廖文雯"},{"$f":"VLOOKUP(B153,'[1]002'!B:M,8,0)","v":"鼎湖区沙浦镇中心小学"},{"$f":"VLOOKUP(B153,'[1]002'!B:M,11,0)","v":"-"},{"$f":"VLOOKUP(B153,'[1]002'!B:M,12,0)","v":"-"},{"$f":"VLOOKUP(B153,[2]sheet2!B:L,10,0)","v":"-"},{"$f":"VLOOKUP(B153,[2]sheet2!B:L,11,0)","v":"-"},"http://183.62.54.51:8841/data/files/certificate/000000000439/2bd16b2baf784aacaa4f27c720d7bc17/signed/151_廖文雯_一等奖_6038.pdf"]
[152,"P306119090212","震中求生","小学组","新媒体新技术教学应用课例","一等奖",{"$f":"RIGHT(LEFT(VLOOKUP(B154,'[1]002'!B:M,3,0),7),3)","v":"肇庆市"},{"$f":"VLOOKUP(B154,'[1]002'!B:M,7,0)","v":"何杰才"},{"$f":"VLOOKUP(B154,'[1]002'!B:M,8,0)","v":"肇庆市第一小学"},{"$f":"VLOOKUP(B154,'[1]002'!B:M,11,0)","v":"温础诚"},{"$f":"VLOOKUP(B154,'[1]002'!B:M,12,0)","v":"肇庆市第一小学"},{"$f":"VLOOKUP(B154,[2]sheet2!B:L,10,0)","v":"陈肇波"},{"$f":"VLOOKUP(B154,[2]sheet2!B:L,11,0)","v":"肇庆市第一小学"},"http://183.62.54.51:8841/data/files/certificate/000000000439/b589ef587a6f4ff08b3ed4c993cc438d/signed/152_何杰才、温础诚、陈肇波_一等奖_6039.pdf"]
[153,"P303119093084","为中华之崛起而读书","小学组","课件","二等奖","广州市",{"$f":"VLOOKUP(B155,'[1]002'!B:M,7,0)","v":"梁达仁"},{"$f":"VLOOKUP(B155,'[1]002'!B:M,8,0)","v":"广东第二师范学院番禺附属小学"},{"$f":"VLOOKUP(B155,'[1]002'!B:M,11,0)","v":"-"},{"$f":"VLOOKUP(B155,'[1]002'!B:M,12,0)","v":"-"},{"$f":"VLOOKUP(B155,[2]sheet2!B:L,10,0)","v":"-"},{"$f":"VLOOKUP(B155,[2]sheet2!B:L,11,0)","v":"-"},"http://183.62.54.51:8841/data/files/certificate/000000000439/687028a872d8456d84c3d0ab8ad8d310/signed/153_梁达仁_二等奖_6040.pdf"]
[154,"P303119093111","Excel2007专题学习网站","小学组","课件","二等奖","广州市",{"$f":"VLOOKUP(B156,'[1]002'!B:M,7,0)","v":"梁灿强"},{"$f":"VLOOKUP(B156,'[1]002'!B:M,8,0)","v":"广州市白云区萧岗小学"},{"$f":"VLOOKUP(B156,'[1]002'!B:M,11,0)","v":"-"},{"$f":"VLOOKUP(B156,'[1]002'!B:M,12,0)","v":"-"},{"$f":"VLOOKUP(B156,[2]sheet2!B:L,10,0)","v":"-"},{"$f":"VLOOKUP(B156,[2]sheet2!B:L,11,0)","v":"-"},"http://183.62.54.51:8841/data/files/certificate/000000000439/e8e9a2ec5e304739b9a369c341cf8d49/signed/154_梁灿强_二等奖_6041.pdf"]
[155,"P303119093091","低年段SPP绘本阅读课Mr Tall and Mr Small","小学组","课件","二等奖","广州市",{"$f":"VLOOKUP(B157,'[1]002'!B:M,7,0)","v":"谢凡"},{"$f":"VLOOKUP(B157,'[1]002'!B:M,8,0)","v":"广州市增城区富鹏小学"},{"$f":"VLOOKUP(B157,'[1]002'!B:M,11,0)","v":"-"},{"$f":"VLOOKUP(B157,'[1]002'!B:M,12,0)","v":"-"},{"$f":"VLOOKUP(B157,[2]sheet2!B:L,10,0)","v":"-"},{"$f":"VLOOKUP(B157,[2]sheet2!B:L,11,0)","v":"-"},"http://183.62.54.51:8841/data/files/certificate/000000000439/f3ffbfb575204c41b64980f08333784e/signed/155_谢凡_二等奖_6042.pdf"]
[156,"P303119093092","教科版三下Unit 12 Whose rabbits are these","小学组","课件","二等奖","广州市",{"$f":"VLOOKUP(B158,'[1]002'!B:M,7,0)","v":"高宇铃"},{"$f":"VLOOKUP(B158,'[1]002'!B:M,8,0)","v":"广州市天河区天府路小学"},{"$f":"VLOOKUP(B158,'[1]002'!B:M,11,0)","v":"-"},{"$f":"VLOOKUP(B158,'[1]002'!B:M,12,0)","v":"-"},{"$f":"VLOOKUP(B158,[2]sheet2!B:L,10,0)","v":"-"},{"$f":"VLOOKUP(B158,[2]sheet2!B:L,11,0)","v":"-"},"http://183.62.54.51:8841/data/files/certificate/000000000439/65d4e532302940ceb6823a4945c35fef/signed/156_高宇铃_二等奖_6043.pdf"]
[157,"P303119093089","圆的周长","小学组","课件","二等奖","广州市",{"$f":"VLOOKUP(B159,'[1]002'!B:M,7,0)","v":"梁柏波"},{"$f":"VLOOKUP(B159,'[1]002'!B:M,8,0)","v":"广州市番禺区石碁镇永善小学"},{"$f":"VLOOKUP(B159,'[1]002'!B:M,11,0)","v":"-"},{"$f":"VLOOKUP(B159,'[1]002'!B:M,12,0)","v":"-"},{"$f":"VLOOKUP(B159,[2]sheet2!B:L,10,0)","v":"-"},{"$f":"VLOOKUP(B159,[2]sheet2!B:L,11,0)","v":"-"},"http://183.62.54.51:8841/data/files/certificate/000000000439/a3e5d513246f4336b15cf776e701962c/signed/157_梁柏波_二等奖_6044.pdf"]
[158,"P303119093090","筒形玩偶","小学组","课件","二等奖","广州市",{"$f":"VLOOKUP(B160,'[1]002'!B:M,7,0)","v":"梁玉昆"},{"$f":"VLOOKUP(B160,'[1]002'!B:M,8,0)","v":"广州市番禺区沙湾镇红基学校"},{"$f":"VLOOKUP(B160,'[1]002'!B:M,11,0)","v":"-"},{"$f":"VLOOKUP(B160,'[1]002'!B:M,12,0)","v":"-"},{"$f":"VLOOKUP(B160,[2]sheet2!B:L,10,0)","v":"-"},{"$f":"VLOOKUP(B160,[2]sheet2!B:L,11,0)","v":"-"},"http://183.62.54.51:8841/data/files/certificate/000000000439/4fc68021256c4589a5dbba1e59bf2121/signed/158_梁玉昆_二等奖_6045.pdf"]
[159,"P303119093102","美丽与邪恶","小学组","课件","二等奖","广州市",{"$f":"VLOOKUP(B161,'[1]002'!B:M,7,0)","v":"陈艳琚"},{"$f":"VLOOKUP(B161,'[1]002'!B:M,8,0)","v":"广州市番禺区石碁镇小龙小学"},{"$f":"VLOOKUP(B161,'[1]002'!B:M,11,0)","v":"-"},{"$f":"VLOOKUP(B161,'[1]002'!B:M,12,0)","v":"-"},{"$f":"VLOOKUP(B161,[2]sheet2!B:L,10,0)","v":"-"},{"$f":"VLOOKUP(B161,[2]sheet2!B:L,11,0)","v":"-"},"http://183.62.54.51:8841/data/files/certificate/000000000439/03099607e9be4410b311cf892323e462/signed/159_陈艳琚_二等奖_6046.pdf"]
[160,"P303119092636","轴对称图形","小学组","课件","二等奖","深圳市",{"$f":"VLOOKUP(B162,'[1]002'!B:M,7,0)","v":"刘志勇"},{"$f":"VLOOKUP(B162,'[1]002'!B:M,8,0)","v":"深圳市南山区第二外国语学校（集团）"},{"$f":"VLOOKUP(B162,'[1]002'!B:M,11,0)","v":"-"},{"$f":"VLOOKUP(B162,'[1]002'!B:M,12,0)","v":"-"},{"$f":"VLOOKUP(B162,[2]sheet2!B:L,10,0)","v":"-"},{"$f":"VLOOKUP(B162,[2]sheet2!B:L,11,0)","v":"-"},"http://183.62.54.51:8841/data/files/certificate/000000000439/2c1b7bfb0d9842e2a1f1611fd452a220/signed/160_刘志勇_二等奖_6047.pdf"]
[161,"P303119092649","语音教学：字母组合ee","小学组","课件","二等奖","深圳市",{"$f":"VLOOKUP(B163,'[1]002'!B:M,7,0)","v":"彭苏婷"},{"$f":"VLOOKUP(B163,'[1]002'!B:M,8,0)","v":"深圳市大鹏新区南澳中心小学"},{"$f":"VLOOKUP(B163,'[1]002'!B:M,11,0)","v":"-"},{"$f":"VLOOKUP(B163,'[1]002'!B:M,12,0)","v":"-"},{"$f":"VLOOKUP(B163,[2]sheet2!B:L,10,0)","v":"-"},{"$f":"VLOOKUP(B163,[2]sheet2!B:L,11,0)","v":"-"},"http://183.62.54.51:8841/data/files/certificate/000000000439/1f1ad5bcc823497d865795e6c29ba135/signed/161_彭苏婷_二等奖_6048.pdf"]
[162,"P303119092643","操场上","小学组","课件","二等奖","深圳市",{"$f":"VLOOKUP(B164,'[1]002'!B:M,7,0)","v":"冼丽君"},{"$f":"VLOOKUP(B164,'[1]002'!B:M,8,0)","v":"龙华区鹭湖外国语小学"},{"$f":"VLOOKUP(B164,'[1]002'!B:M,11,0)","v":"-"},{"$f":"VLOOKUP(B164,'[1]002'!B:M,12,0)","v":"-"},{"$f":"VLOOKUP(B164,[2]sheet2!B:L,10,0)","v":"-"},{"$f":"VLOOKUP(B164,[2]sheet2!B:L,11,0)","v":"-"},"http://183.62.54.51:8841/data/files/certificate/000000000439/bde3c0bad5a149b88d94d1ea87160e38/signed/162_冼丽君_二等奖_6049.pdf"]
[163,"P303119092644","平移和旋转","小学组","课件","二等奖","深圳市",{"$f":"VLOOKUP(B165,'[1]002'!B:M,7,0)","v":"李朝宇"},{"$f":"VLOOKUP(B165,'[1]002'!B:M,8,0)","v":"深圳市大鹏新区南澳中心小学"},{"$f":"VLOOKUP(B165,'[1]002'!B:M,11,0)","v":"-"},{"$f":"VLOOKUP(B165,'[1]002'!B:M,12,0)","v":"-"},{"$f":"VLOOKUP(B165,[2]sheet2!B:L,10,0)","v":"-"},{"$f":"VLOOKUP(B165,[2]sheet2!B:L,11,0)","v":"-"},"http://183.62.54.51:8841/data/files/certificate/000000000439/345d241b053648f099627007f7607b17/signed/163_李朝宇_二等奖_6050.pdf"]
[164,"P303119079217","小马过河","小学组","课件","二等奖","珠海市",{"$f":"VLOOKUP(B166,'[1]002'!B:M,7,0)","v":"陈红波"},{"$f":"VLOOKUP(B166,'[1]002'!B:M,8,0)","v":"珠海市金湾区第一小学"},{"$f":"VLOOKUP(B166,'[1]002'!B:M,11,0)","v":"-"},{"$f":"VLOOKUP(B166,'[1]002'!B:M,12,0)","v":"-"},{"$f":"VLOOKUP(B166,[2]sheet2!B:L,10,0)","v":"-"},{"$f":"VLOOKUP(B166,[2]sheet2!B:L,11,0)","v":"-"},"http://183.62.54.51:8841/data/files/certificate/000000000439/89c65db0a606429d821efaea5047b85a/signed/164_陈红波_二等奖_6051.pdf"]
[165,"P303119086707","Unit2AMagicDayReview","小学组","课件","二等奖","珠海市",{"$f":"VLOOKUP(B167,'[1]002'!B:M,7,0)","v":"林钿珊"},{"$f":"VLOOKUP(B167,'[1]002'!B:M,8,0)","v":"珠海市金湾区第一小学"},{"$f":"VLOOKUP(B167,'[1]002'!B:M,11,0)","v":"-"},{"$f":"VLOOKUP(B167,'[1]002'!B:M,12,0)","v":"-"},{"$f":"VLOOKUP(B167,[2]sheet2!B:L,10,0)","v":"-"},{"$f":"VLOOKUP(B167,[2]sheet2!B:L,11,0)","v":"-"},"http://183.62.54.51:8841/data/files/certificate/000000000439/659566b104ff4c2890d1e710a9564f1a/signed/165_林钿珊_二等奖_6052.pdf"]
[166,"P303119091948","Unit 3 Weather Let us spell","小学组","课件","二等奖","汕头市",{"$f":"VLOOKUP(B168,'[1]002'!B:M,7,0)","v":"林怡敏"},{"$f":"VLOOKUP(B168,'[1]002'!B:M,8,0)","v":"汕头市濠江区埭头小学"},{"$f":"VLOOKUP(B168,'[1]002'!B:M,11,0)","v":"-"},{"$f":"VLOOKUP(B168,'[1]002'!B:M,12,0)","v":"-"},{"$f":"VLOOKUP(B168,[2]sheet2!B:L,10,0)","v":"-"},{"$f":"VLOOKUP(B168,[2]sheet2!B:L,11,0)","v":"-"},"http://183.62.54.51:8841/data/files/certificate/000000000439/b5215267890e41398e24a7bc4d5a20ba/signed/166_林怡敏_二等奖_6053.pdf"]
[167,"P303119091954","Unit 5 There is a big bed B Lets learn","小学组","课件","二等奖","汕头市",{"$f":"VLOOKUP(B169,'[1]002'!B:M,7,0)","v":"陈升苗"},{"$f":"VLOOKUP(B169,'[1]002'!B:M,8,0)","v":"汕头市濠江区青篮小学"},{"$f":"VLOOKUP(B169,'[1]002'!B:M,11,0)","v":"-"},{"$f":"VLOOKUP(B169,'[1]002'!B:M,12,0)","v":"-"},{"$f":"VLOOKUP(B169,[2]sheet2!B:L,10,0)","v":"-"},{"$f":"VLOOKUP(B169,[2]sheet2!B:L,11,0)","v":"-"},"http://183.62.54.51:8841/data/files/certificate/000000000439/bbf0c26a4b0c4a58909aa056e98dbe20/signed/167_陈升苗_二等奖_6054.pdf"]
[168,"P303119091937","Unit 3 Where did you go? Part B talk","小学组","课件","二等奖","汕头市",{"$f":"VLOOKUP(B170,'[1]002'!B:M,7,0)","v":"李梓"},{"$f":"VLOOKUP(B170,'[1]002'!B:M,8,0)","v":"汕头市澄海涂池小学"},{"$f":"VLOOKUP(B170,'[1]002'!B:M,11,0)","v":"-"},{"$f":"VLOOKUP(B170,'[1]002'!B:M,12,0)","v":"-"},{"$f":"VLOOKUP(B170,[2]sheet2!B:L,10,0)","v":"-"},{"$f":"VLOOKUP(B170,[2]sheet2!B:L,11,0)","v":"-"},"http://183.62.54.51:8841/data/files/certificate/000000000439/106ab7c942e84558ace1a1622f2aaed8/signed/168_李梓_二等奖_6055.pdf"]
[169,"P303119091944","What would you like","小学组","课件","二等奖","汕头市",{"$f":"VLOOKUP(B171,'[1]002'!B:M,7,0)","v":"柯敏"},{"$f":"VLOOKUP(B171,'[1]002'!B:M,8,0)","v":"汕头市龙湖区内充公小学"},{"$f":"VLOOKUP(B171,'[1]002'!B:M,11,0)","v":"-"},{"$f":"VLOOKUP(B171,'[1]002'!B:M,12,0)","v":"-"},{"$f":"VLOOKUP(B171,[2]sheet2!B:L,10,0)","v":"-"},{"$f":"VLOOKUP(B171,[2]sheet2!B:L,11,0)","v":"-"},"http://183.62.54.51:8841/data/files/certificate/000000000439/8f8deccc2a6a4d10b483a52243355fa4/signed/169_柯敏_二等奖_6056.pdf"]
[170,"P303119091956","乘法的初步认识","小学组","课件","二等奖","汕头市",{"$f":"VLOOKUP(B172,'[1]002'!B:M,7,0)","v":"辛宜雯"},{"$f":"VLOOKUP(B172,'[1]002'!B:M,8,0)","v":"汕头金中华侨试验区学校"},{"$f":"VLOOKUP(B172,'[1]002'!B:M,11,0)","v":"-"},{"$f":"VLOOKUP(B172,'[1]002'!B:M,12,0)","v":"-"},{"$f":"VLOOKUP(B172,[2]sheet2!B:L,10,0)","v":"-"},{"$f":"VLOOKUP(B172,[2]sheet2!B:L,11,0)","v":"-"},"http://183.62.54.51:8841/data/files/certificate/000000000439/eefa7c7086024f709761612d896866a1/signed/170_辛宜雯_二等奖_6057.pdf"]
[171,"P303119091934","草船借箭","小学组","课件","二等奖","汕头市",{"$f":"VLOOKUP(B173,'[1]002'!B:M,7,0)","v":"刘嘉欣"},{"$f":"VLOOKUP(B173,'[1]002'!B:M,8,0)","v":"汕头市龙湖区官一小学"},{"$f":"VLOOKUP(B173,'[1]002'!B:M,11,0)","v":"-"},{"$f":"VLOOKUP(B173,'[1]002'!B:M,12,0)","v":"-"},{"$f":"VLOOKUP(B173,[2]sheet2!B:L,10,0)","v":"-"},{"$f":"VLOOKUP(B173,[2]sheet2!B:L,11,0)","v":"-"},"http://183.62.54.51:8841/data/files/certificate/000000000439/e46225c718274141a6062e0563b7761c/signed/171_刘嘉欣_二等奖_6058.pdf"]
[172,"P303119091958","大自然的声音","小学组","课件","二等奖","汕头市",{"$f":"VLOOKUP(B174,'[1]002'!B:M,7,0)","v":"李香勇"},{"$f":"VLOOKUP(B174,'[1]002'!B:M,8,0)","v":"汕头市濠江区南山小学"},{"$f":"VLOOKUP(B174,'[1]002'!B:M,11,0)","v":"-"},{"$f":"VLOOKUP(B174,'[1]002'!B:M,12,0)","v":"-"},{"$f":"VLOOKUP(B174,[2]sheet2!B:L,10,0)","v":"-"},{"$f":"VLOOKUP(B174,[2]sheet2!B:L,11,0)","v":"-"},"http://183.62.54.51:8841/data/files/certificate/000000000439/08f0309a671e4a55baf2c5d47c9d0960/signed/172_李香勇_二等奖_6059.pdf"]
[173,"P303119091947","这些是大家的","小学组","课件","二等奖","汕头市",{"$f":"VLOOKUP(B175,'[1]002'!B:M,7,0)","v":"蔡晓虹"},{"$f":"VLOOKUP(B175,'[1]002'!B:M,8,0)","v":"汕头市龙湖区蓬中华侨小学"},{"$f":"VLOOKUP(B175,'[1]002'!B:M,11,0)","v":"谢纯娜"},{"$f":"VLOOKUP(B175,'[1]002'!B:M,12,0)","v":"汕头市龙湖区蓬中华侨小学"},{"$f":"VLOOKUP(B175,[2]sheet2!B:L,10,0)","v":"-"},{"$f":"VLOOKUP(B175,[2]sheet2!B:L,11,0)","v":"-"},"http://183.62.54.51:8841/data/files/certificate/000000000439/b793624d78014c1d8fc16c42f7c37ce7/signed/173_蔡晓虹、谢纯娜_二等奖_6060.pdf"]
[174,"P303119091931","平行四边形的面积","小学组","课件","二等奖","汕头市",{"$f":"VLOOKUP(B176,'[1]002'!B:M,7,0)","v":"郑泽梅"},{"$f":"VLOOKUP(B176,'[1]002'!B:M,8,0)","v":"汕头市龙湖区金阳小学"},{"$f":"VLOOKUP(B176,'[1]002'!B:M,11,0)","v":"-"},{"$f":"VLOOKUP(B176,'[1]002'!B:M,12,0)","v":"-"},{"$f":"VLOOKUP(B176,[2]sheet2!B:L,10,0)","v":"-"},{"$f":"VLOOKUP(B176,[2]sheet2!B:L,11,0)","v":"-"},"http://183.62.54.51:8841/data/files/certificate/000000000439/6a246491473d4b99828666acda0382ba/signed/174_郑泽梅_二等奖_6061.pdf"]
[175,"P303119091952","认识三角形","小学组","课件","二等奖","汕头市",{"$f":"VLOOKUP(B177,'[1]002'!B:M,7,0)","v":"顾若琳"},{"$f":"VLOOKUP(B177,'[1]002'!B:M,8,0)","v":"汕头市东厦小学"},{"$f":"VLOOKUP(B177,'[1]002'!B:M,11,0)","v":"-"},{"$f":"VLOOKUP(B177,'[1]002'!B:M,12,0)","v":"-"},{"$f":"VLOOKUP(B177,[2]sheet2!B:L,10,0)","v":"-"},{"$f":"VLOOKUP(B177,[2]sheet2!B:L,11,0)","v":"-"},"http://183.62.54.51:8841/data/files/certificate/000000000439/f9ff2f41db464fdbb139082c588802de/signed/175_顾若琳_二等奖_6062.pdf"]
[176,"P303119090847","中国美食","小学组","课件","二等奖","佛山市",{"$f":"VLOOKUP(B178,'[1]002'!B:M,7,0)","v":"陈志銮"},{"$f":"VLOOKUP(B178,'[1]002'!B:M,8,0)","v":"佛山市顺德区大良顺峰小学"},{"$f":"VLOOKUP(B178,'[1]002'!B:M,11,0)","v":"符志刚"},{"$f":"VLOOKUP(B178,'[1]002'!B:M,12,0)","v":"佛山市顺德区大良顺峰小学"},{"$f":"VLOOKUP(B178,[2]sheet2!B:L,10,0)","v":"陈丽红"},{"$f":"VLOOKUP(B178,[2]sheet2!B:L,11,0)","v":"佛山市顺德区大良顺峰小学"},"http://183.62.54.51:8841/data/files/certificate/000000000439/845a3ebc03564ff5b0d8553b61f8db53/signed/176_陈志銮、符志刚、陈丽红_二等奖_6063.pdf"]
[177,"P303119090858","两小儿辩日","小学组","课件","二等奖","佛山市",{"$f":"VLOOKUP(B179,'[1]002'!B:M,7,0)","v":"何国兴"},{"$f":"VLOOKUP(B179,'[1]002'!B:M,8,0)","v":"佛山市顺德区北滘碧江小学"},{"$f":"VLOOKUP(B179,'[1]002'!B:M,11,0)","v":"计晗芬"},{"$f":"VLOOKUP(B179,'[1]002'!B:M,12,0)","v":"佛山市顺德区北滘碧江小学"},{"$f":"VLOOKUP(B179,[2]sheet2!B:L,10,0)","v":"麦梓朋"},{"$f":"VLOOKUP(B179,[2]sheet2!B:L,11,0)","v":"佛山市顺德区北滘碧江小学"},"http://183.62.54.51:8841/data/files/certificate/000000000439/10f63d093a5447609582e17aa0ff3b25/signed/177_何国兴、计晗芬、麦梓朋_二等奖_6064.pdf"]
[178,"P303119090811","鱼游到了纸上","小学组","课件","二等奖","佛山市",{"$f":"VLOOKUP(B180,'[1]002'!B:M,7,0)","v":"梁凯妍"},{"$f":"VLOOKUP(B180,'[1]002'!B:M,8,0)","v":"禅城区南庄镇中心小学"},{"$f":"VLOOKUP(B180,'[1]002'!B:M,11,0)","v":"-"},{"$f":"VLOOKUP(B180,'[1]002'!B:M,12,0)","v":"-"},{"$f":"VLOOKUP(B180,[2]sheet2!B:L,10,0)","v":"-"},{"$f":"VLOOKUP(B180,[2]sheet2!B:L,11,0)","v":"-"},"http://183.62.54.51:8841/data/files/certificate/000000000439/c82749f270624a149cd28a250f155e41/signed/178_梁凯妍_二等奖_6065.pdf"]
[179,"P303119090785","阅读与写作","小学组","课件","二等奖","佛山市",{"$f":"VLOOKUP(B181,'[1]002'!B:M,7,0)","v":"谭翠文"},{"$f":"VLOOKUP(B181,'[1]002'!B:M,8,0)","v":"佛山市高明区沧江中学附属小学"},{"$f":"VLOOKUP(B181,'[1]002'!B:M,11,0)","v":"-"},{"$f":"VLOOKUP(B181,'[1]002'!B:M,12,0)","v":"-"},{"$f":"VLOOKUP(B181,[2]sheet2!B:L,10,0)","v":"-"},{"$f":"VLOOKUP(B181,[2]sheet2!B:L,11,0)","v":"-"},"http://183.62.54.51:8841/data/files/certificate/000000000439/33597eca2fdc46b28a9a7bd0e84e8c94/signed/179_谭翠文_二等奖_6066.pdf"]
[180,"P303119090793","PEP四年级下册第四单元A部分对话教学","小学组","课件","二等奖","佛山市",{"$f":"VLOOKUP(B182,'[1]002'!B:M,7,0)","v":"张英华"},{"$f":"VLOOKUP(B182,'[1]002'!B:M,8,0)","v":"佛山市高明区明城镇明城小学"},{"$f":"VLOOKUP(B182,'[1]002'!B:M,11,0)","v":"-"},{"$f":"VLOOKUP(B182,'[1]002'!B:M,12,0)","v":"-"},{"$f":"VLOOKUP(B182,[2]sheet2!B:L,10,0)","v":"-"},{"$f":"VLOOKUP(B182,[2]sheet2!B:L,11,0)","v":"-"},"http://183.62.54.51:8841/data/files/certificate/000000000439/b5c73cc1a1254896ab35f504ac3c2202/signed/180_张英华_二等奖_6067.pdf"]
[181,"P303119090804","PEP三下unit3atthezoo","小学组","课件","二等奖","佛山市",{"$f":"VLOOKUP(B183,'[1]002'!B:M,7,0)","v":"李钰欣"},{"$f":"VLOOKUP(B183,'[1]002'!B:M,8,0)","v":"禅城区澜石小学"},{"$f":"VLOOKUP(B183,'[1]002'!B:M,11,0)","v":"-"},{"$f":"VLOOKUP(B183,'[1]002'!B:M,12,0)","v":"-"},{"$f":"VLOOKUP(B183,[2]sheet2!B:L,10,0)","v":"-"},{"$f":"VLOOKUP(B183,[2]sheet2!B:L,11,0)","v":"-"},"http://183.62.54.51:8841/data/files/certificate/000000000439/cc934076d8a94f7aa256276019538adb/signed/181_李钰欣_二等奖_6068.pdf"]
[182,"P303119090851","四季的脚步","小学组","课件","二等奖","佛山市",{"$f":"VLOOKUP(B184,'[1]002'!B:M,7,0)","v":"邹永国"},{"$f":"VLOOKUP(B184,'[1]002'!B:M,8,0)","v":"佛山市顺德区北滘镇朝亮小学"},{"$f":"VLOOKUP(B184,'[1]002'!B:M,11,0)","v":"肖平兴"},{"$f":"VLOOKUP(B184,'[1]002'!B:M,12,0)","v":"佛山市顺德区北滘镇朝亮小学"},{"$f":"VLOOKUP(B184,[2]sheet2!B:L,10,0)","v":"-"},{"$f":"VLOOKUP(B184,[2]sheet2!B:L,11,0)","v":"-"},"http://183.62.54.51:8841/data/files/certificate/000000000439/3c650cbce2c743dcbe32ee1cab536a55/signed/182_邹永国、肖平兴_二等奖_6069.pdf"]
[183,"P303119090859","小青蛙","小学组","课件","二等奖","佛山市",{"$f":"VLOOKUP(B185,'[1]002'!B:M,7,0)","v":"陈志良"},{"$f":"VLOOKUP(B185,'[1]002'!B:M,8,0)","v":"佛山市顺德区高赞小学"},{"$f":"VLOOKUP(B185,'[1]002'!B:M,11,0)","v":"-"},{"$f":"VLOOKUP(B185,'[1]002'!B:M,12,0)","v":"-"},{"$f":"VLOOKUP(B185,[2]sheet2!B:L,10,0)","v":"-"},{"$f":"VLOOKUP(B185,[2]sheet2!B:L,11,0)","v":"-"},"http://183.62.54.51:8841/data/files/certificate/000000000439/74d96a0d1a6046899b3de0702dfd6263/signed/183_陈志良_二等奖_6070.pdf"]
[184,"P303119090852","荷叶圆圆","小学组","课件","二等奖","佛山市",{"$f":"VLOOKUP(B186,'[1]002'!B:M,7,0)","v":"廖逢源"},{"$f":"VLOOKUP(B186,'[1]002'!B:M,8,0)","v":"佛山市顺德区容桂幸福陈占梅小学"},{"$f":"VLOOKUP(B186,'[1]002'!B:M,11,0)","v":"吴晓茵"},{"$f":"VLOOKUP(B186,'[1]002'!B:M,12,0)","v":"佛山市顺德区容桂海尾小学"},{"$f":"VLOOKUP(B186,[2]sheet2!B:L,10,0)","v":"-"},{"$f":"VLOOKUP(B186,[2]sheet2!B:L,11,0)","v":"-"},"http://183.62.54.51:8841/data/files/certificate/000000000439/fefcd0459d66413fa71beee346671461/signed/184_廖逢源、吴晓茵_二等奖_6071.pdf"]
[185,"P303119090819","农场一天游","小学组","课件","二等奖","佛山市",{"$f":"VLOOKUP(B187,'[1]002'!B:M,7,0)","v":"林芝杨"},{"$f":"VLOOKUP(B187,'[1]002'!B:M,8,0)","v":"佛山市南海区丹灶镇金沙小学"},{"$f":"VLOOKUP(B187,'[1]002'!B:M,11,0)","v":"-"},{"$f":"VLOOKUP(B187,'[1]002'!B:M,12,0)","v":"-"},{"$f":"VLOOKUP(B187,[2]sheet2!B:L,10,0)","v":"-"},{"$f":"VLOOKUP(B187,[2]sheet2!B:L,11,0)","v":"-"},"http://183.62.54.51:8841/data/files/certificate/000000000439/0ad8bb2136be4a92af04bd4a131ef5a3/signed/185_林芝杨_二等奖_6072.pdf"]
[186,"P303119090841","学弈","小学组","课件","二等奖","佛山市",{"$f":"VLOOKUP(B188,'[1]002'!B:M,7,0)","v":"刘秋怡"},{"$f":"VLOOKUP(B188,'[1]002'!B:M,8,0)","v":"佛山市顺德区勒流育贤实验学校小学部"},{"$f":"VLOOKUP(B188,'[1]002'!B:M,11,0)","v":"-"},{"$f":"VLOOKUP(B188,'[1]002'!B:M,12,0)","v":"-"},{"$f":"VLOOKUP(B188,[2]sheet2!B:L,10,0)","v":"-"},{"$f":"VLOOKUP(B188,[2]sheet2!B:L,11,0)","v":"-"},"http://183.62.54.51:8841/data/files/certificate/000000000439/7f10741dd8734e928a5639308cce0dc6/signed/186_刘秋怡_二等奖_6073.pdf"]
[187,"P303119090831","学会英文打字","小学组","课件","二等奖","佛山市",{"$f":"VLOOKUP(B189,'[1]002'!B:M,7,0)","v":"冯迪诗"},{"$f":"VLOOKUP(B189,'[1]002'!B:M,8,0)","v":"佛山市顺德区伦教培教小学"},{"$f":"VLOOKUP(B189,'[1]002'!B:M,11,0)","v":"-"},{"$f":"VLOOKUP(B189,'[1]002'!B:M,12,0)","v":"-"},{"$f":"VLOOKUP(B189,[2]sheet2!B:L,10,0)","v":"-"},{"$f":"VLOOKUP(B189,[2]sheet2!B:L,11,0)","v":"-"},"http://183.62.54.51:8841/data/files/certificate/000000000439/5ffb4cd08e6847d0b6c48ea514bbab31/signed/187_冯迪诗_二等奖_6074.pdf"]
[188,"P303119090838","草船借箭","小学组","课件","二等奖","佛山市",{"$f":"VLOOKUP(B190,'[1]002'!B:M,7,0)","v":"邓鸿琼"},{"$f":"VLOOKUP(B190,'[1]002'!B:M,8,0)","v":"佛山市顺德区龙江世埠小学"},{"$f":"VLOOKUP(B190,'[1]002'!B:M,11,0)","v":"-"},{"$f":"VLOOKUP(B190,'[1]002'!B:M,12,0)","v":"-"},{"$f":"VLOOKUP(B190,[2]sheet2!B:L,10,0)","v":"-"},{"$f":"VLOOKUP(B190,[2]sheet2!B:L,11,0)","v":"-"},"http://183.62.54.51:8841/data/files/certificate/000000000439/102d182e37614d3e8acc89f05eb0cb7f/signed/188_邓鸿琼_二等奖_6075.pdf"]
[189,"P303119090835","让我们走进地震","小学组","课件","二等奖","佛山市",{"$f":"VLOOKUP(B191,'[1]002'!B:M,7,0)","v":"张惠姗"},{"$f":"VLOOKUP(B191,'[1]002'!B:M,8,0)","v":"佛山市顺德区容桂四基初级中学"},{"$f":"VLOOKUP(B191,'[1]002'!B:M,11,0)","v":"-"},{"$f":"VLOOKUP(B191,'[1]002'!B:M,12,0)","v":"-"},{"$f":"VLOOKUP(B191,[2]sheet2!B:L,10,0)","v":"-"},{"$f":"VLOOKUP(B191,[2]sheet2!B:L,11,0)","v":"-"},"http://183.62.54.51:8841/data/files/certificate/000000000439/3dbafe50290a4fc58a1bedcab36c47d3/signed/189_张惠姗_二等奖_6076.pdf"]
[190,"P303119090842","轴对称与平移与旋转","小学组","课件","二等奖","佛山市",{"$f":"VLOOKUP(B192,'[1]002'!B:M,7,0)","v":"黄雷"},{"$f":"VLOOKUP(B192,'[1]002'!B:M,8,0)","v":"佛山市顺德区北滘镇西滘小学"},{"$f":"VLOOKUP(B192,'[1]002'!B:M,11,0)","v":"李万红"},{"$f":"VLOOKUP(B192,'[1]002'!B:M,12,0)","v":"佛山市顺德区北滘镇莘村小学"},{"$f":"VLOOKUP(B192,[2]sheet2!B:L,10,0)","v":"-"},{"$f":"VLOOKUP(B192,[2]sheet2!B:L,11,0)","v":"-"},"http://183.62.54.51:8841/data/files/certificate/000000000439/837403c4ef4a4e9c8fbf4777a88156ee/signed/190_黄雷、李万红_二等奖_6077.pdf"]
[191,"P303119090786","我最喜欢的季节","小学组","课件","二等奖","佛山市",{"$f":"VLOOKUP(B193,'[1]002'!B:M,7,0)","v":"冯翠梅"},{"$f":"VLOOKUP(B193,'[1]002'!B:M,8,0)","v":"佛山市高明区荷城街道德信实验学校"},{"$f":"VLOOKUP(B193,'[1]002'!B:M,11,0)","v":"-"},{"$f":"VLOOKUP(B193,'[1]002'!B:M,12,0)","v":"-"},{"$f":"VLOOKUP(B193,[2]sheet2!B:L,10,0)","v":"-"},{"$f":"VLOOKUP(B193,[2]sheet2!B:L,11,0)","v":"-"},"http://183.62.54.51:8841/data/files/certificate/000000000439/d302a06c954f4b9a99ad17dfb6d99e33/signed/191_冯翠梅_二等奖_6078.pdf"]
[192,"P303119090826","三角形flash交互课件","小学组","课件","二等奖","佛山市",{"$f":"VLOOKUP(B194,'[1]002'!B:M,7,0)","v":"廖少峰"},{"$f":"VLOOKUP(B194,'[1]002'!B:M,8,0)","v":"佛山市顺德区勒流梁季彝纪念学校"},{"$f":"VLOOKUP(B194,'[1]002'!B:M,11,0)","v":"伍敏静"},{"$f":"VLOOKUP(B194,'[1]002'!B:M,12,0)","v":"佛山市顺德区勒流梁季彝纪念学校"},{"$f":"VLOOKUP(B194,[2]sheet2!B:L,10,0)","v":"黄剑烽"},{"$f":"VLOOKUP(B194,[2]sheet2!B:L,11,0)","v":"佛山市顺德区勒流梁季彝纪念学校"},"http://183.62.54.51:8841/data/files/certificate/000000000439/d30d94ea35bd418794dd8382a292abf2/signed/192_廖少峰、伍敏静、黄剑烽_二等奖_6079.pdf"]
[193,"P303119090872","角的度量","小学组","课件","二等奖","佛山市",{"$f":"VLOOKUP(B195,'[1]002'!B:M,7,0)","v":"梁智成"},{"$f":"VLOOKUP(B195,'[1]002'!B:M,8,0)","v":"佛山市三水区西南街道中心小学"},{"$f":"VLOOKUP(B195,'[1]002'!B:M,11,0)","v":"杨彩英"},{"$f":"VLOOKUP(B195,'[1]002'!B:M,12,0)","v":"佛山市三水区西南街道中心小学"},{"$f":"VLOOKUP(B195,[2]sheet2!B:L,10,0)","v":"-"},{"$f":"VLOOKUP(B195,[2]sheet2!B:L,11,0)","v":"-"},"http://183.62.54.51:8841/data/files/certificate/000000000439/3c1404665964490ead2ba605c8100ae5/signed/193_梁智成、杨彩英_二等奖_6080.pdf"]
[194,"P303119090792","我的变化写作课","小学组","课件","二等奖","佛山市",{"$f":"VLOOKUP(B196,'[1]002'!B:M,7,0)","v":"邓思恩"},{"$f":"VLOOKUP(B196,'[1]002'!B:M,8,0)","v":"佛山市高明区明城镇明城小学"},{"$f":"VLOOKUP(B196,'[1]002'!B:M,11,0)","v":"-"},{"$f":"VLOOKUP(B196,'[1]002'!B:M,12,0)","v":"-"},{"$f":"VLOOKUP(B196,[2]sheet2!B:L,10,0)","v":"-"},{"$f":"VLOOKUP(B196,[2]sheet2!B:L,11,0)","v":"-"},"http://183.62.54.51:8841/data/files/certificate/000000000439/d431847e7228408ab586b3cd914224b0/signed/194_邓思恩_二等奖_6081.pdf"]
[195,"P303119090801","动物的花衣裳","小学组","课件","二等奖","佛山市",{"$f":"VLOOKUP(B197,'[1]002'!B:M,7,0)","v":"何少娟"},{"$f":"VLOOKUP(B197,'[1]002'!B:M,8,0)","v":"佛山市高明区沧江中学附属小学"},{"$f":"VLOOKUP(B197,'[1]002'!B:M,11,0)","v":"-"},{"$f":"VLOOKUP(B197,'[1]002'!B:M,12,0)","v":"-"},{"$f":"VLOOKUP(B197,[2]sheet2!B:L,10,0)","v":"-"},{"$f":"VLOOKUP(B197,[2]sheet2!B:L,11,0)","v":"-"},"http://183.62.54.51:8841/data/files/certificate/000000000439/b9337594e1b246f09f1ebd80c48162fe/signed/195_何少娟_二等奖_6082.pdf"]
[196,"P303119090856","确定位置","小学组","课件","二等奖","佛山市",{"$f":"VLOOKUP(B198,'[1]002'!B:M,7,0)","v":"苏碧贤"},{"$f":"VLOOKUP(B198,'[1]002'!B:M,8,0)","v":"佛山市顺德区伦教荔村小学"},{"$f":"VLOOKUP(B198,'[1]002'!B:M,11,0)","v":"周瑞君"},{"$f":"VLOOKUP(B198,'[1]002'!B:M,12,0)","v":"佛山市顺德区伦教荔村小学"},{"$f":"VLOOKUP(B198,[2]sheet2!B:L,10,0)","v":"-"},{"$f":"VLOOKUP(B198,[2]sheet2!B:L,11,0)","v":"-"},"http://183.62.54.51:8841/data/files/certificate/000000000439/668b15a573ad46c2bb51031ed936b503/signed/196_苏碧贤、周瑞君_二等奖_6083.pdf"]
[197,"P303119090798","分数加减混合运算","小学组","课件","二等奖","佛山市",{"$f":"VLOOKUP(B199,'[1]002'!B:M,7,0)","v":"麦小航"},{"$f":"VLOOKUP(B199,'[1]002'!B:M,8,0)","v":"佛山市高明区明城镇崇步学校"},{"$f":"VLOOKUP(B199,'[1]002'!B:M,11,0)","v":"-"},{"$f":"VLOOKUP(B199,'[1]002'!B:M,12,0)","v":"-"},{"$f":"VLOOKUP(B199,[2]sheet2!B:L,10,0)","v":"-"},{"$f":"VLOOKUP(B199,[2]sheet2!B:L,11,0)","v":"-"},"http://183.62.54.51:8841/data/files/certificate/000000000439/1195e8159e81445480f2a0fc1d36978e/signed/197_麦小航_二等奖_6084.pdf"]
[198,"P303119088404","五年级下册第四单元16课范仲淹的故事","小学组","课件","二等奖","韶关市",{"$f":"VLOOKUP(B200,'[1]002'!B:M,7,0)","v":"陈建伟"},{"$f":"VLOOKUP(B200,'[1]002'!B:M,8,0)","v":"始兴县马市镇中心小学"},{"$f":"VLOOKUP(B200,'[1]002'!B:M,11,0)","v":"-"},{"$f":"VLOOKUP(B200,'[1]002'!B:M,12,0)","v":"-"},{"$f":"VLOOKUP(B200,[2]sheet2!B:L,10,0)","v":"-"},{"$f":"VLOOKUP(B200,[2]sheet2!B:L,11,0)","v":"-"},"http://183.62.54.51:8841/data/files/certificate/000000000439/b1bbe35f016d4666b4c18659d6ca7f6c/signed/198_陈建伟_二等奖_6085.pdf"]
[199,"P303119088342","桂林山水","小学组","课件","二等奖","韶关市",{"$f":"VLOOKUP(B201,'[1]002'!B:M,7,0)","v":"夏伟军"},{"$f":"VLOOKUP(B201,'[1]002'!B:M,8,0)","v":"始兴县马市镇中心小学"},{"$f":"VLOOKUP(B201,'[1]002'!B:M,11,0)","v":"-"},{"$f":"VLOOKUP(B201,'[1]002'!B:M,12,0)","v":"-"},{"$f":"VLOOKUP(B201,[2]sheet2!B:L,10,0)","v":"-"},{"$f":"VLOOKUP(B201,[2]sheet2!B:L,11,0)","v":"-"},"http://183.62.54.51:8841/data/files/certificate/000000000439/dde4a267409244fcba182954a05c42b4/signed/199_夏伟军_二等奖_6086.pdf"]
[200,"P303119079025","滥竽充数","小学组","课件","二等奖","韶关市",{"$f":"VLOOKUP(B202,'[1]002'!B:M,7,0)","v":"严兰先"},{"$f":"VLOOKUP(B202,'[1]002'!B:M,8,0)","v":"始兴县太平镇中心小学"},{"$f":"VLOOKUP(B202,'[1]002'!B:M,11,0)","v":"-"},{"$f":"VLOOKUP(B202,'[1]002'!B:M,12,0)","v":"-"},{"$f":"VLOOKUP(B202,[2]sheet2!B:L,10,0)","v":"-"},{"$f":"VLOOKUP(B202,[2]sheet2!B:L,11,0)","v":"-"},"http://183.62.54.51:8841/data/files/certificate/000000000439/96c35945583645aa878f915c081792e1/signed/200_严兰先_二等奖_6087.pdf"]
[201,"P303119088286","孔子拜师","小学组","课件","二等奖","韶关市",{"$f":"VLOOKUP(B203,'[1]002'!B:M,7,0)","v":"刘国威"},{"$f":"VLOOKUP(B203,'[1]002'!B:M,8,0)","v":"始兴县逸夫小学"},{"$f":"VLOOKUP(B203,'[1]002'!B:M,11,0)","v":"-"},{"$f":"VLOOKUP(B203,'[1]002'!B:M,12,0)","v":"-"},{"$f":"VLOOKUP(B203,[2]sheet2!B:L,10,0)","v":"-"},{"$f":"VLOOKUP(B203,[2]sheet2!B:L,11,0)","v":"-"},"http://183.62.54.51:8841/data/files/certificate/000000000439/c1127198f1c34934b0529647a8dc25f6/signed/201_刘国威_二等奖_6088.pdf"]
[202,"P303119089549","认识角","小学组","课件","二等奖","韶关市",{"$f":"VLOOKUP(B204,'[1]002'!B:M,7,0)","v":"邓毅萍"},{"$f":"VLOOKUP(B204,'[1]002'!B:M,8,0)","v":"仁化县第二小学"},{"$f":"VLOOKUP(B204,'[1]002'!B:M,11,0)","v":"-"},{"$f":"VLOOKUP(B204,'[1]002'!B:M,12,0)","v":"-"},{"$f":"VLOOKUP(B204,[2]sheet2!B:L,10,0)","v":"-"},{"$f":"VLOOKUP(B204,[2]sheet2!B:L,11,0)","v":"-"},"http://183.62.54.51:8841/data/files/certificate/000000000439/0542935da6a845e3877964ada3738f62/signed/202_邓毅萍_二等奖_6089.pdf"]
[203,"P303119089496","找质数","小学组","课件","二等奖","韶关市",{"$f":"VLOOKUP(B205,'[1]002'!B:M,7,0)","v":"钟慧怡"},{"$f":"VLOOKUP(B205,'[1]002'!B:M,8,0)","v":"仁化县城口学校"},{"$f":"VLOOKUP(B205,'[1]002'!B:M,11,0)","v":"-"},{"$f":"VLOOKUP(B205,'[1]002'!B:M,12,0)","v":"-"},{"$f":"VLOOKUP(B205,[2]sheet2!B:L,10,0)","v":"-"},{"$f":"VLOOKUP(B205,[2]sheet2!B:L,11,0)","v":"-"},"http://183.62.54.51:8841/data/files/certificate/000000000439/b8add91813354b2d87cd86d84e1df8b2/signed/203_钟慧怡_二等奖_6090.pdf"]
[204,"P303119087774","《出塞》","小学组","课件","二等奖","韶关市",{"$f":"VLOOKUP(B206,'[1]002'!B:M,7,0)","v":"刘红英"},{"$f":"VLOOKUP(B206,'[1]002'!B:M,8,0)","v":"翁源县龙仙第三小学"},{"$f":"VLOOKUP(B206,'[1]002'!B:M,11,0)","v":"曾淑容"},{"$f":"VLOOKUP(B206,'[1]002'!B:M,12,0)","v":"翁源县龙仙第三小学"},{"$f":"VLOOKUP(B206,[2]sheet2!B:L,10,0)","v":"-"},{"$f":"VLOOKUP(B206,[2]sheet2!B:L,11,0)","v":"-"},"http://183.62.54.51:8841/data/files/certificate/000000000439/611a3814c09143279cc83db94601fb9b/signed/204_刘红英、曾淑容_二等奖_6091.pdf"]
[205,"P303119089567","好吃的水果","小学组","课件","二等奖","韶关市",{"$f":"VLOOKUP(B207,'[1]002'!B:M,7,0)","v":"黄聪"},{"$f":"VLOOKUP(B207,'[1]002'!B:M,8,0)","v":"仁化县第二小学"},{"$f":"VLOOKUP(B207,'[1]002'!B:M,11,0)","v":"-"},{"$f":"VLOOKUP(B207,'[1]002'!B:M,12,0)","v":"-"},{"$f":"VLOOKUP(B207,[2]sheet2!B:L,10,0)","v":"-"},{"$f":"VLOOKUP(B207,[2]sheet2!B:L,11,0)","v":"-"},"http://183.62.54.51:8841/data/files/certificate/000000000439/eb8d2434b6a240419203b651efdbb6c8/signed/205_黄聪_二等奖_6092.pdf"]
[206,"P303119092116","Unit3_A_Let_s_earn","小学组","课件","二等奖","惠州市",{"$f":"VLOOKUP(B208,'[1]002'!B:M,7,0)","v":"李卫平"},{"$f":"VLOOKUP(B208,'[1]002'!B:M,8,0)","v":"博罗县罗阳第六小学"},{"$f":"VLOOKUP(B208,'[1]002'!B:M,11,0)","v":"陈文洁"},{"$f":"VLOOKUP(B208,'[1]002'!B:M,12,0)","v":"博罗县罗阳第六小学"},{"$f":"VLOOKUP(B208,[2]sheet2!B:L,10,0)","v":"-"},{"$f":"VLOOKUP(B208,[2]sheet2!B:L,11,0)","v":"-"},"http://183.62.54.51:8841/data/files/certificate/000000000439/18aab05c538c490a8f3093c66394f66c/signed/206_李卫平、陈文洁_二等奖_6093.pdf"]
[207,"P303119092163","小学英语四年级上册Unit3 Friends A.Let’s learn","小学组","课件","二等奖","惠州市",{"$f":"VLOOKUP(B209,'[1]002'!B:M,7,0)","v":"陈琳"},{"$f":"VLOOKUP(B209,'[1]002'!B:M,8,0)","v":"惠东县实验小学"},{"$f":"VLOOKUP(B209,'[1]002'!B:M,11,0)","v":"-"},{"$f":"VLOOKUP(B209,'[1]002'!B:M,12,0)","v":"-"},{"$f":"VLOOKUP(B209,[2]sheet2!B:L,10,0)","v":"-"},{"$f":"VLOOKUP(B209,[2]sheet2!B:L,11,0)","v":"-"},"http://183.62.54.51:8841/data/files/certificate/000000000439/fc9d0340c62c491d8888227f06472b0c/signed/207_陈琳_二等奖_6094.pdf"]
[208,"P303119092395","人教版英语小学四年级下册第四单元第五课时","小学组","课件","二等奖","汕尾市",{"$f":"VLOOKUP(B210,'[1]002'!B:M,7,0)","v":"庄素芬"},{"$f":"VLOOKUP(B210,'[1]002'!B:M,8,0)","v":"汕尾市城区凤山街道林伟华小学"},{"$f":"VLOOKUP(B210,'[1]002'!B:M,11,0)","v":"-"},{"$f":"VLOOKUP(B210,'[1]002'!B:M,12,0)","v":"-"},{"$f":"VLOOKUP(B210,[2]sheet2!B:L,10,0)","v":"-"},{"$f":"VLOOKUP(B210,[2]sheet2!B:L,11,0)","v":"-"},"http://183.62.54.51:8841/data/files/certificate/000000000439/a52d3c031e4847ac9ef8b17ec2ddde7d/signed/208_庄素芬_二等奖_6095.pdf"]
[209,"P303119092471","游山西村","小学组","课件","二等奖","东莞市",{"$f":"VLOOKUP(B211,'[1]002'!B:M,7,0)","v":"温素敏"},{"$f":"VLOOKUP(B211,'[1]002'!B:M,8,0)","v":"东莞市凤岗镇油甘埔小学"},{"$f":"VLOOKUP(B211,'[1]002'!B:M,11,0)","v":"-"},{"$f":"VLOOKUP(B211,'[1]002'!B:M,12,0)","v":"-"},{"$f":"VLOOKUP(B211,[2]sheet2!B:L,10,0)","v":"-"},{"$f":"VLOOKUP(B211,[2]sheet2!B:L,11,0)","v":"-"},"http://183.62.54.51:8841/data/files/certificate/000000000439/25c89f3426054a4480a1feb2317d32b3/signed/209_温素敏_二等奖_6096.pdf"]
[210,"P303119092470","数学广角推理","小学组","课件","二等奖","东莞市",{"$f":"VLOOKUP(B212,'[1]002'!B:M,7,0)","v":"刘云"},{"$f":"VLOOKUP(B212,'[1]002'!B:M,8,0)","v":"东莞市南城中心小学"},{"$f":"VLOOKUP(B212,'[1]002'!B:M,11,0)","v":"-"},{"$f":"VLOOKUP(B212,'[1]002'!B:M,12,0)","v":"-"},{"$f":"VLOOKUP(B212,[2]sheet2!B:L,10,0)","v":"-"},{"$f":"VLOOKUP(B212,[2]sheet2!B:L,11,0)","v":"-"},"http://183.62.54.51:8841/data/files/certificate/000000000439/a9c9a4ab9dfd44bbadc93e26b60cd115/signed/210_刘云_二等奖_6097.pdf"]
[211,"P303119092468","一片树叶","小学组","课件","二等奖","东莞市",{"$f":"VLOOKUP(B213,'[1]002'!B:M,7,0)","v":"苏淑清"},{"$f":"VLOOKUP(B213,'[1]002'!B:M,8,0)","v":"东莞市常平镇袁山贝小学"},{"$f":"VLOOKUP(B213,'[1]002'!B:M,11,0)","v":"-"},{"$f":"VLOOKUP(B213,'[1]002'!B:M,12,0)","v":"-"},{"$f":"VLOOKUP(B213,[2]sheet2!B:L,10,0)","v":"-"},{"$f":"VLOOKUP(B213,[2]sheet2!B:L,11,0)","v":"-"},"http://183.62.54.51:8841/data/files/certificate/000000000439/76be26b801154e0ba7fe8a874afea804/signed/211_苏淑清_二等奖_6098.pdf"]
[212,"P303119092465","曹冲称象","小学组","课件","二等奖","东莞市",{"$f":"VLOOKUP(B214,'[1]002'!B:M,7,0)","v":"黄爱芳"},{"$f":"VLOOKUP(B214,'[1]002'!B:M,8,0)","v":"东莞市大岭山镇第一小学"},{"$f":"VLOOKUP(B214,'[1]002'!B:M,11,0)","v":"-"},{"$f":"VLOOKUP(B214,'[1]002'!B:M,12,0)","v":"-"},{"$f":"VLOOKUP(B214,[2]sheet2!B:L,10,0)","v":"-"},{"$f":"VLOOKUP(B214,[2]sheet2!B:L,11,0)","v":"-"},"http://183.62.54.51:8841/data/files/certificate/000000000439/059af5530d5d4641a4e94b5f809efc73/signed/212_黄爱芳_二等奖_6099.pdf"]
[213,"P303119092462","flash课件图形的运动","小学组","课件","二等奖","东莞市",{"$f":"VLOOKUP(B215,'[1]002'!B:M,7,0)","v":"郑少萍"},{"$f":"VLOOKUP(B215,'[1]002'!B:M,8,0)","v":"东莞市石碣袁崇焕小学"},{"$f":"VLOOKUP(B215,'[1]002'!B:M,11,0)","v":"-"},{"$f":"VLOOKUP(B215,'[1]002'!B:M,12,0)","v":"-"},{"$f":"VLOOKUP(B215,[2]sheet2!B:L,10,0)","v":"-"},{"$f":"VLOOKUP(B215,[2]sheet2!B:L,11,0)","v":"-"},"http://183.62.54.51:8841/data/files/certificate/000000000439/a6a6659d7c6a43319c5517618cebce52/signed/213_郑少萍_二等奖_6100.pdf"]
[214,"P303119092469","分数的认识","小学组","课件","二等奖","东莞市",{"$f":"VLOOKUP(B216,'[1]002'!B:M,7,0)","v":"黄华文"},{"$f":"VLOOKUP(B216,'[1]002'!B:M,8,0)","v":"东莞市石龙镇爱联学校"},{"$f":"VLOOKUP(B216,'[1]002'!B:M,11,0)","v":"罗辉"},{"$f":"VLOOKUP(B216,'[1]002'!B:M,12,0)","v":"东莞市石龙镇爱联学校"},{"$f":"VLOOKUP(B216,[2]sheet2!B:L,10,0)","v":"钟育燕"},{"$f":"VLOOKUP(B216,[2]sheet2!B:L,11,0)","v":"东莞市石龙镇爱联学校"},"http://183.62.54.51:8841/data/files/certificate/000000000439/caa9eff582fb432bb5de6e7bff136acf/signed/214_黄华文、罗辉、钟育燕_二等奖_6101.pdf"]
[215,"P303119088272","我是什么flash课件","小学组","课件","二等奖","中山市",{"$f":"VLOOKUP(B217,'[1]002'!B:M,7,0)","v":"王敏"},{"$f":"VLOOKUP(B217,'[1]002'!B:M,8,0)","v":"中山市沙溪镇港园小学"},{"$f":"VLOOKUP(B217,'[1]002'!B:M,11,0)","v":"-"},{"$f":"VLOOKUP(B217,'[1]002'!B:M,12,0)","v":"-"},{"$f":"VLOOKUP(B217,[2]sheet2!B:L,10,0)","v":"-"},{"$f":"VLOOKUP(B217,[2]sheet2!B:L,11,0)","v":"-"},"http://183.62.54.51:8841/data/files/certificate/000000000439/209db02a5d2c4abda1dba77db8416ebe/signed/215_王敏_二等奖_6102.pdf"]
[216,"P303119088929","二泉映月","小学组","课件","二等奖","中山市",{"$f":"VLOOKUP(B218,'[1]002'!B:M,7,0)","v":"晏利红"},{"$f":"VLOOKUP(B218,'[1]002'!B:M,8,0)","v":"中山市东区竹苑小学"},{"$f":"VLOOKUP(B218,'[1]002'!B:M,11,0)","v":"-"},{"$f":"VLOOKUP(B218,'[1]002'!B:M,12,0)","v":"-"},{"$f":"VLOOKUP(B218,[2]sheet2!B:L,10,0)","v":"-"},{"$f":"VLOOKUP(B218,[2]sheet2!B:L,11,0)","v":"-"},"http://183.62.54.51:8841/data/files/certificate/000000000439/222d0f2a29f042049601d043567dea1b/signed/216_晏利红_二等奖_6103.pdf"]
[217,"P303119088490","鸡兔同笼","小学组","课件","二等奖","中山市",{"$f":"VLOOKUP(B219,'[1]002'!B:M,7,0)","v":"罗志远"},{"$f":"VLOOKUP(B219,'[1]002'!B:M,8,0)","v":"中山市西区烟洲小学"},{"$f":"VLOOKUP(B219,'[1]002'!B:M,11,0)","v":"陈彩丽"},{"$f":"VLOOKUP(B219,'[1]002'!B:M,12,0)","v":"中山市西区铁城小学"},{"$f":"VLOOKUP(B219,[2]sheet2!B:L,10,0)","v":"-"},{"$f":"VLOOKUP(B219,[2]sheet2!B:L,11,0)","v":"-"},"http://183.62.54.51:8841/data/files/certificate/000000000439/64798d02d7a74c8da83032f89fc46889/signed/217_罗志远、陈彩丽_二等奖_6104.pdf"]
[218,"P303119089654","圆的面积","小学组","课件","二等奖","中山市",{"$f":"VLOOKUP(B220,'[1]002'!B:M,7,0)","v":"李秋霖"},{"$f":"VLOOKUP(B220,'[1]002'!B:M,8,0)","v":"中山火炬高技术产业开发区第六小学"},{"$f":"VLOOKUP(B220,'[1]002'!B:M,11,0)","v":"-"},{"$f":"VLOOKUP(B220,'[1]002'!B:M,12,0)","v":"-"},{"$f":"VLOOKUP(B220,[2]sheet2!B:L,10,0)","v":"-"},{"$f":"VLOOKUP(B220,[2]sheet2!B:L,11,0)","v":"-"},"http://183.62.54.51:8841/data/files/certificate/000000000439/7327872d9acf432ca2f6dc5bb7f0547a/signed/218_李秋霖_二等奖_6105.pdf"]
[219,"P303119092014","Readingandwriting","小学组","课件","二等奖","江门市",{"$f":"VLOOKUP(B221,'[1]002'!B:M,7,0)","v":"劳关女"},{"$f":"VLOOKUP(B221,'[1]002'!B:M,8,0)","v":"开平市苍城镇中心小学"},{"$f":"VLOOKUP(B221,'[1]002'!B:M,11,0)","v":"黄光辉"},{"$f":"VLOOKUP(B221,'[1]002'!B:M,12,0)","v":"开平市苍城镇中心小学"},{"$f":"VLOOKUP(B221,[2]sheet2!B:L,10,0)","v":"-"},{"$f":"VLOOKUP(B221,[2]sheet2!B:L,11,0)","v":"-"},"http://183.62.54.51:8841/data/files/certificate/000000000439/5acfb6b66c744d9bbe521f45ed7182d5/signed/219_劳关女、黄光辉_二等奖_6106.pdf"]
[220,"P303119091848","花盆补水器","小学组","课件","二等奖","江门市",{"$f":"VLOOKUP(B222,'[1]002'!B:M,7,0)","v":"梁艳彤"},{"$f":"VLOOKUP(B222,'[1]002'!B:M,8,0)","v":"外海麻一佑启学校"},{"$f":"VLOOKUP(B222,'[1]002'!B:M,11,0)","v":"-"},{"$f":"VLOOKUP(B222,'[1]002'!B:M,12,0)","v":"-"},{"$f":"VLOOKUP(B222,[2]sheet2!B:L,10,0)","v":"-"},{"$f":"VLOOKUP(B222,[2]sheet2!B:L,11,0)","v":"-"},"http://183.62.54.51:8841/data/files/certificate/000000000439/922b77296304460298a1c70488eccb2c/signed/220_梁艳彤_二等奖_6107.pdf"]
[221,"P303119091751","让更多的灯亮起来","小学组","课件","二等奖","江门市",{"$f":"VLOOKUP(B223,'[1]002'!B:M,7,0)","v":"许桂珍"},{"$f":"VLOOKUP(B223,'[1]002'!B:M,8,0)","v":"江门市江华小学"},{"$f":"VLOOKUP(B223,'[1]002'!B:M,11,0)","v":"-"},{"$f":"VLOOKUP(B223,'[1]002'!B:M,12,0)","v":"-"},{"$f":"VLOOKUP(B223,[2]sheet2!B:L,10,0)","v":"-"},{"$f":"VLOOKUP(B223,[2]sheet2!B:L,11,0)","v":"-"},"http://183.62.54.51:8841/data/files/certificate/000000000439/ce83e51ea1ca401cae30939264c3fd10/signed/221_许桂珍_二等奖_6108.pdf"]
[222,"P303119092063","生态环保研学之旅——走进大雁山","小学组","课件","二等奖","江门市",{"$f":"VLOOKUP(B224,'[1]002'!B:M,7,0)","v":"吴英连"},{"$f":"VLOOKUP(B224,'[1]002'!B:M,8,0)","v":"鹤山市沙坪街道第三小学"},{"$f":"VLOOKUP(B224,'[1]002'!B:M,11,0)","v":"-"},{"$f":"VLOOKUP(B224,'[1]002'!B:M,12,0)","v":"-"},{"$f":"VLOOKUP(B224,[2]sheet2!B:L,10,0)","v":"-"},{"$f":"VLOOKUP(B224,[2]sheet2!B:L,11,0)","v":"-"},"http://183.62.54.51:8841/data/files/certificate/000000000439/264df230d7364e23b762e00960834bd3/signed/222_吴英连_二等奖_6109.pdf"]
[223,"P303119092082","Unit6Outdoorfun","小学组","课件","二等奖","江门市",{"$f":"VLOOKUP(B225,'[1]002'!B:M,7,0)","v":"林月送"},{"$f":"VLOOKUP(B225,'[1]002'!B:M,8,0)","v":"江门市新会区古井镇古井小学"},{"$f":"VLOOKUP(B225,'[1]002'!B:M,11,0)","v":"-"},{"$f":"VLOOKUP(B225,'[1]002'!B:M,12,0)","v":"-"},{"$f":"VLOOKUP(B225,[2]sheet2!B:L,10,0)","v":"-"},{"$f":"VLOOKUP(B225,[2]sheet2!B:L,11,0)","v":"-"},"http://183.62.54.51:8841/data/files/certificate/000000000439/c14dcb42e21d4c9c8b49b459489aa3a7/signed/223_林月送_二等奖_6110.pdf"]
[224,"P303119092877","这儿真美","小学组","课件","二等奖","湛江市",{"$f":"VLOOKUP(B226,'[1]002'!B:M,7,0)","v":"苏徐红"},{"$f":"VLOOKUP(B226,'[1]002'!B:M,8,0)","v":"湛江经济技术开发区第一小学"},{"$f":"VLOOKUP(B226,'[1]002'!B:M,11,0)","v":"-"},{"$f":"VLOOKUP(B226,'[1]002'!B:M,12,0)","v":"-"},{"$f":"VLOOKUP(B226,[2]sheet2!B:L,10,0)","v":"-"},{"$f":"VLOOKUP(B226,[2]sheet2!B:L,11,0)","v":"-"},"http://183.62.54.51:8841/data/files/certificate/000000000439/6149735c64c24b8b9d1b25cbd05cda41/signed/224_苏徐红_二等奖_6111.pdf"]
[225,"P303119092900","我爱你，中国的汉字","小学组","课件","二等奖","湛江市",{"$f":"VLOOKUP(B227,'[1]002'!B:M,7,0)","v":"庄瑞华"},{"$f":"VLOOKUP(B227,'[1]002'!B:M,8,0)","v":"雷州市实验小学"},{"$f":"VLOOKUP(B227,'[1]002'!B:M,11,0)","v":"-"},{"$f":"VLOOKUP(B227,'[1]002'!B:M,12,0)","v":"-"},{"$f":"VLOOKUP(B227,[2]sheet2!B:L,10,0)","v":"-"},{"$f":"VLOOKUP(B227,[2]sheet2!B:L,11,0)","v":"-"},"http://183.62.54.51:8841/data/files/certificate/000000000439/4565e21432584d83954911ab6c446996/signed/225_庄瑞华_二等奖_6112.pdf"]
[226,"P303119092888","临死前的严监生","小学组","课件","二等奖","湛江市",{"$f":"VLOOKUP(B228,'[1]002'!B:M,7,0)","v":"余薇薇"},{"$f":"VLOOKUP(B228,'[1]002'!B:M,8,0)","v":"湛江市第二十八中学"},{"$f":"VLOOKUP(B228,'[1]002'!B:M,11,0)","v":"-"},{"$f":"VLOOKUP(B228,'[1]002'!B:M,12,0)","v":"-"},{"$f":"VLOOKUP(B228,[2]sheet2!B:L,10,0)","v":"-"},{"$f":"VLOOKUP(B228,[2]sheet2!B:L,11,0)","v":"-"},"http://183.62.54.51:8841/data/files/certificate/000000000439/d64efb7b9185421797c3b4621c88fa7e/signed/226_余薇薇_二等奖_6113.pdf"]
[227,"P303119092874","PEP小学英语四年级上册Unit 4 My home A","小学组","课件","二等奖","湛江市",{"$f":"VLOOKUP(B229,'[1]002'!B:M,7,0)","v":"陈巧敏"},{"$f":"VLOOKUP(B229,'[1]002'!B:M,8,0)","v":"湛江市第三十二小学"},{"$f":"VLOOKUP(B229,'[1]002'!B:M,11,0)","v":"林淼冰"},{"$f":"VLOOKUP(B229,'[1]002'!B:M,12,0)","v":"湛江市第三十二小学"},{"$f":"VLOOKUP(B229,[2]sheet2!B:L,10,0)","v":"-"},{"$f":"VLOOKUP(B229,[2]sheet2!B:L,11,0)","v":"-"},"http://183.62.54.51:8841/data/files/certificate/000000000439/1a2c1d42d6f846a59f11aa7710bb120e/signed/227_陈巧敏、林淼冰_二等奖_6114.pdf"]
[228,"P303119092894","守株待兔","小学组","课件","二等奖","湛江市",{"$f":"VLOOKUP(B230,'[1]002'!B:M,7,0)","v":"何茵"},{"$f":"VLOOKUP(B230,'[1]002'!B:M,8,0)","v":"湛江市第十七中学"},{"$f":"VLOOKUP(B230,'[1]002'!B:M,11,0)","v":"-"},{"$f":"VLOOKUP(B230,'[1]002'!B:M,12,0)","v":"-"},{"$f":"VLOOKUP(B230,[2]sheet2!B:L,10,0)","v":"-"},{"$f":"VLOOKUP(B230,[2]sheet2!B:L,11,0)","v":"-"},"http://183.62.54.51:8841/data/files/certificate/000000000439/8aceeff49cbc4ee3ab9adf78415785ba/signed/228_何茵_二等奖_6115.pdf"]
[229,"P303119092873","Unit5 Whose dog is it","小学组","课件","二等奖","湛江市",{"$f":"VLOOKUP(B231,'[1]002'!B:M,7,0)","v":"卢嘉瑜"},{"$f":"VLOOKUP(B231,'[1]002'!B:M,8,0)","v":"湛江市第三十二小学"},{"$f":"VLOOKUP(B231,'[1]002'!B:M,11,0)","v":"-"},{"$f":"VLOOKUP(B231,'[1]002'!B:M,12,0)","v":"-"},{"$f":"VLOOKUP(B231,[2]sheet2!B:L,10,0)","v":"-"},{"$f":"VLOOKUP(B231,[2]sheet2!B:L,11,0)","v":"-"},"http://183.62.54.51:8841/data/files/certificate/000000000439/d99babaeb5b944acb7b03f904662acc0/signed/229_卢嘉瑜_二等奖_6116.pdf"]
[230,"P303119092879","19大象的耳朵","小学组","课件","二等奖","湛江市",{"$f":"VLOOKUP(B232,'[1]002'!B:M,7,0)","v":"陈海兰"},{"$f":"VLOOKUP(B232,'[1]002'!B:M,8,0)","v":"湛江市第二小学"},{"$f":"VLOOKUP(B232,'[1]002'!B:M,11,0)","v":"-"},{"$f":"VLOOKUP(B232,'[1]002'!B:M,12,0)","v":"-"},{"$f":"VLOOKUP(B232,[2]sheet2!B:L,10,0)","v":"-"},{"$f":"VLOOKUP(B232,[2]sheet2!B:L,11,0)","v":"-"},"http://183.62.54.51:8841/data/files/certificate/000000000439/5344ac9c720f458e8abaaf098b538356/signed/230_陈海兰_二等奖_6117.pdf"]
[231,"P303119091401","梯形的面积","小学组","课件","二等奖","茂名市",{"$f":"VLOOKUP(B233,'[1]002'!B:M,7,0)","v":"张力中"},{"$f":"VLOOKUP(B233,'[1]002'!B:M,8,0)","v":"信宜市怀乡镇狮山小学"},{"$f":"VLOOKUP(B233,'[1]002'!B:M,11,0)","v":"-"},{"$f":"VLOOKUP(B233,'[1]002'!B:M,12,0)","v":"-"},{"$f":"VLOOKUP(B233,[2]sheet2!B:L,10,0)","v":"-"},{"$f":"VLOOKUP(B233,[2]sheet2!B:L,11,0)","v":"-"},"http://183.62.54.51:8841/data/files/certificate/000000000439/896450251795456aa06632db61cb91b2/signed/231_张力中_二等奖_6118.pdf"]
[232,"P303119090249","Unit5MyClothesBLetsLearn","小学组","课件","二等奖","肇庆市",{"$f":"VLOOKUP(B234,'[1]002'!B:M,7,0)","v":"林宇珊"},{"$f":"VLOOKUP(B234,'[1]002'!B:M,8,0)","v":"德庆县马圩镇中心小学"},{"$f":"VLOOKUP(B234,'[1]002'!B:M,11,0)","v":"-"},{"$f":"VLOOKUP(B234,'[1]002'!B:M,12,0)","v":"-"},{"$f":"VLOOKUP(B234,[2]sheet2!B:L,10,0)","v":"-"},{"$f":"VLOOKUP(B234,[2]sheet2!B:L,11,0)","v":"-"},"http://183.62.54.51:8841/data/files/certificate/000000000439/ebba30016bda402c972ead8e6e16591a/signed/232_林宇珊_二等奖_6119.pdf"]
[233,"P303119090250","Unit4ALetstalk","小学组","课件","二等奖","肇庆市",{"$f":"VLOOKUP(B235,'[1]002'!B:M,7,0)","v":"梁碧珍"},{"$f":"VLOOKUP(B235,'[1]002'!B:M,8,0)","v":"德庆县马圩镇中心小学"},{"$f":"VLOOKUP(B235,'[1]002'!B:M,11,0)","v":"-"},{"$f":"VLOOKUP(B235,'[1]002'!B:M,12,0)","v":"-"},{"$f":"VLOOKUP(B235,[2]sheet2!B:L,10,0)","v":"-"},{"$f":"VLOOKUP(B235,[2]sheet2!B:L,11,0)","v":"-"},"http://183.62.54.51:8841/data/files/certificate/000000000439/acfd17cec9b24f378c2d9b9f48c94804/signed/233_梁碧珍_二等奖_6120.pdf"]
[234,"P303119091581","小学英语五年级上册第二单元课件","小学组","课件","二等奖","清远市",{"$f":"VLOOKUP(B236,'[1]002'!B:M,7,0)","v":"朱英娜"},{"$f":"VLOOKUP(B236,'[1]002'!B:M,8,0)","v":"佛冈县振兴小学"},{"$f":"VLOOKUP(B236,'[1]002'!B:M,11,0)","v":"-"},{"$f":"VLOOKUP(B236,'[1]002'!B:M,12,0)","v":"-"},{"$f":"VLOOKUP(B236,[2]sheet2!B:L,10,0)","v":"-"},{"$f":"VLOOKUP(B236,[2]sheet2!B:L,11,0)","v":"-"},"http://183.62.54.51:8841/data/files/certificate/000000000439/b3dfec5525c54b2eb5d8e770dbd8c4d0/signed/234_朱英娜_二等奖_6121.pdf"]
[235,"P303119087353","PEP六年级 上册 第六单元 B Let’s talk","小学组","课件","二等奖","潮州市",{"$f":"VLOOKUP(B237,'[1]002'!B:M,7,0)","v":"蚁冬雪"},{"$f":"VLOOKUP(B237,'[1]002'!B:M,8,0)","v":"凤凰镇福南中心学校"},{"$f":"VLOOKUP(B237,'[1]002'!B:M,11,0)","v":"-"},{"$f":"VLOOKUP(B237,'[1]002'!B:M,12,0)","v":"-"},{"$f":"VLOOKUP(B237,[2]sheet2!B:L,10,0)","v":"-"},{"$f":"VLOOKUP(B237,[2]sheet2!B:L,11,0)","v":"-"},"http://183.62.54.51:8841/data/files/certificate/000000000439/5987257618f747d785b7ef1f6f7490f6/signed/235_蚁冬雪_二等奖_6122.pdf"]
[236,"P303119079185","圆的认识","小学组","课件","二等奖","潮州市",{"$f":"VLOOKUP(B238,'[1]002'!B:M,7,0)","v":"陈春娜"},{"$f":"VLOOKUP(B238,'[1]002'!B:M,8,0)","v":"登塘镇白水小学"},{"$f":"VLOOKUP(B238,'[1]002'!B:M,11,0)","v":"-"},{"$f":"VLOOKUP(B238,'[1]002'!B:M,12,0)","v":"-"},{"$f":"VLOOKUP(B238,[2]sheet2!B:L,10,0)","v":"-"},{"$f":"VLOOKUP(B238,[2]sheet2!B:L,11,0)","v":"-"},"http://183.62.54.51:8841/data/files/certificate/000000000439/e59d3c6f00774c428211a6149d174749/signed/236_陈春娜_二等奖_6123.pdf"]
[237,"P303119080174","Unit4AtthefarmBLetustalk","小学组","课件","二等奖","云浮市",{"$f":"VLOOKUP(B239,'[1]002'!B:M,7,0)","v":"李青霞"},{"$f":"VLOOKUP(B239,'[1]002'!B:M,8,0)","v":"罗定市实验小学"},{"$f":"VLOOKUP(B239,'[1]002'!B:M,11,0)","v":"-"},{"$f":"VLOOKUP(B239,'[1]002'!B:M,12,0)","v":"-"},{"$f":"VLOOKUP(B239,[2]sheet2!B:L,10,0)","v":"-"},{"$f":"VLOOKUP(B239,[2]sheet2!B:L,11,0)","v":"-"},"http://183.62.54.51:8841/data/files/certificate/000000000439/8231a40687174f76862afb5fd4c3eaa1/signed/237_李青霞_二等奖_6124.pdf"]
[238,"P303119087952","花城粤教版音乐二年级下册第四课《野兔饿了》","小学组","课件","二等奖","云浮市",{"$f":"VLOOKUP(B240,'[1]002'!B:M,7,0)","v":"陈晓妍"},{"$f":"VLOOKUP(B240,'[1]002'!B:M,8,0)","v":"云浮市第四小学"},{"$f":"VLOOKUP(B240,'[1]002'!B:M,11,0)","v":"-"},{"$f":"VLOOKUP(B240,'[1]002'!B:M,12,0)","v":"-"},{"$f":"VLOOKUP(B240,[2]sheet2!B:L,10,0)","v":"-"},{"$f":"VLOOKUP(B240,[2]sheet2!B:L,11,0)","v":"-"},"http://183.62.54.51:8841/data/files/certificate/000000000439/fa0926efc816441da7c2e16cda4f91d8/signed/238_陈晓妍_二等奖_6125.pdf"]
[239,"P305119093156","长方体切分实验","小学组","微课","二等奖","广州市",{"$f":"VLOOKUP(B241,'[1]002'!B:M,7,0)","v":"林睿坤"},{"$f":"VLOOKUP(B241,'[1]002'!B:M,8,0)","v":"广州市天河区四海小学"},{"$f":"VLOOKUP(B241,'[1]002'!B:M,11,0)","v":"-"},{"$f":"VLOOKUP(B241,'[1]002'!B:M,12,0)","v":"-"},{"$f":"VLOOKUP(B241,[2]sheet2!B:L,10,0)","v":"-"},{"$f":"VLOOKUP(B241,[2]sheet2!B:L,11,0)","v":"-"},"http://183.62.54.51:8841/data/files/certificate/000000000439/e9583ba4a46e43a283a4517658fc7d7f/signed/239_林睿坤_二等奖_6126.pdf"]
[240,"P305119093151","劝告的语言艺术","小学组","微课","二等奖","广州市",{"$f":"VLOOKUP(B242,'[1]002'!B:M,7,0)","v":"李熙盈"},{"$f":"VLOOKUP(B242,'[1]002'!B:M,8,0)","v":"广州市天河区华景小学"},{"$f":"VLOOKUP(B242,'[1]002'!B:M,11,0)","v":"黄宇芬"},{"$f":"VLOOKUP(B242,'[1]002'!B:M,12,0)","v":"广州市天河区华景小学"},{"$f":"VLOOKUP(B242,[2]sheet2!B:L,10,0)","v":"-"},{"$f":"VLOOKUP(B242,[2]sheet2!B:L,11,0)","v":"-"},"http://183.62.54.51:8841/data/files/certificate/000000000439/3187e96084b840c3a9849e4b032f4591/signed/240_李熙盈、黄宇芬_二等奖_6127.pdf"]
[241,"P305119093150","摆的研究","小学组","微课","二等奖","广州市",{"$f":"VLOOKUP(B243,'[1]002'!B:M,7,0)","v":"郑松南"},{"$f":"VLOOKUP(B243,'[1]002'!B:M,8,0)","v":"广州市天河区华阳小学"},{"$f":"VLOOKUP(B243,'[1]002'!B:M,11,0)","v":"-"},{"$f":"VLOOKUP(B243,'[1]002'!B:M,12,0)","v":"-"},{"$f":"VLOOKUP(B243,[2]sheet2!B:L,10,0)","v":"-"},{"$f":"VLOOKUP(B243,[2]sheet2!B:L,11,0)","v":"-"},"http://183.62.54.51:8841/data/files/certificate/000000000439/730219a0494d49c8a8f121a9351caa34/signed/241_郑松南_二等奖_6128.pdf"]
[242,"P305119093157","学写留言条","小学组","微课","二等奖","广州市",{"$f":"VLOOKUP(B244,'[1]002'!B:M,7,0)","v":"李颖恩"},{"$f":"VLOOKUP(B244,'[1]002'!B:M,8,0)","v":"广州市越秀区建设六马路小学"},{"$f":"VLOOKUP(B244,'[1]002'!B:M,11,0)","v":"余海鸣"},{"$f":"VLOOKUP(B244,'[1]002'!B:M,12,0)","v":"广州市越秀区建设六马路小学"},{"$f":"VLOOKUP(B244,[2]sheet2!B:L,10,0)","v":"-"},{"$f":"VLOOKUP(B244,[2]sheet2!B:L,11,0)","v":"-"},"http://183.62.54.51:8841/data/files/certificate/000000000439/f8bacd3669ec4ec791f600135b7436c3/signed/242_李颖恩、余海鸣_二等奖_6129.pdf"]
[243,"P305119093161","神秘的图腾柱","小学组","微课","二等奖","广州市",{"$f":"VLOOKUP(B245,'[1]002'!B:M,7,0)","v":"何倩琪"},{"$f":"VLOOKUP(B245,'[1]002'!B:M,8,0)","v":"广州市越秀区建设六马路小学"},{"$f":"VLOOKUP(B245,'[1]002'!B:M,11,0)","v":"甘伟梁"},{"$f":"VLOOKUP(B245,'[1]002'!B:M,12,0)","v":"广州市越秀区建设六马路小学"},{"$f":"VLOOKUP(B245,[2]sheet2!B:L,10,0)","v":"-"},{"$f":"VLOOKUP(B245,[2]sheet2!B:L,11,0)","v":"-"},"http://183.62.54.51:8841/data/files/certificate/000000000439/96bba411f87f46808a39ff466237159b/signed/243_何倩琪、甘伟梁_二等奖_6130.pdf"]
[244,"P305119093144","角色的旋转","小学组","微课","二等奖","广州市",{"$f":"VLOOKUP(B246,'[1]002'!B:M,7,0)","v":"麦茵"},{"$f":"VLOOKUP(B246,'[1]002'!B:M,8,0)","v":"广州市从化区江埔街禾仓小学"},{"$f":"VLOOKUP(B246,'[1]002'!B:M,11,0)","v":"-"},{"$f":"VLOOKUP(B246,'[1]002'!B:M,12,0)","v":"-"},{"$f":"VLOOKUP(B246,[2]sheet2!B:L,10,0)","v":"-"},{"$f":"VLOOKUP(B246,[2]sheet2!B:L,11,0)","v":"-"},"http://183.62.54.51:8841/data/files/certificate/000000000439/ca83b9db9b09474bb52c7cb632ef16ab/signed/244_麦茵_二等奖_6131.pdf"]
[245,"P305119093158","有序摆数","小学组","微课","二等奖","广州市",{"$f":"VLOOKUP(B247,'[1]002'!B:M,7,0)","v":"邝翎"},{"$f":"VLOOKUP(B247,'[1]002'!B:M,8,0)","v":"广州市荔湾区乐贤坊小学"},{"$f":"VLOOKUP(B247,'[1]002'!B:M,11,0)","v":"-"},{"$f":"VLOOKUP(B247,'[1]002'!B:M,12,0)","v":"-"},{"$f":"VLOOKUP(B247,[2]sheet2!B:L,10,0)","v":"-"},{"$f":"VLOOKUP(B247,[2]sheet2!B:L,11,0)","v":"-"},"http://183.62.54.51:8841/data/files/certificate/000000000439/8f3c386d4eb84bf79b65a95f535b18d3/signed/245_邝翎_二等奖_6132.pdf"]
[246,"P305119093146","奇异的“海怪”","小学组","微课","二等奖","广州市",{"$f":"VLOOKUP(B248,'[1]002'!B:M,7,0)","v":"高碧兰"},{"$f":"VLOOKUP(B248,'[1]002'!B:M,8,0)","v":"广州市番禺区市桥南阳里小学"},{"$f":"VLOOKUP(B248,'[1]002'!B:M,11,0)","v":"-"},{"$f":"VLOOKUP(B248,'[1]002'!B:M,12,0)","v":"-"},{"$f":"VLOOKUP(B248,[2]sheet2!B:L,10,0)","v":"-"},{"$f":"VLOOKUP(B248,[2]sheet2!B:L,11,0)","v":"-"},"http://183.62.54.51:8841/data/files/certificate/000000000439/db42a313283b4a31bcf505bbe4b2e6c8/signed/246_高碧兰_二等奖_6133.pdf"]
[247,"P305119093154","制作贺卡-广播与接收广播指令","小学组","微课","二等奖","广州市",{"$f":"VLOOKUP(B249,'[1]002'!B:M,7,0)","v":"汤毅冰"},{"$f":"VLOOKUP(B249,'[1]002'!B:M,8,0)","v":"广州市花都区新华街棠澍小学"},{"$f":"VLOOKUP(B249,'[1]002'!B:M,11,0)","v":"-"},{"$f":"VLOOKUP(B249,'[1]002'!B:M,12,0)","v":"-"},{"$f":"VLOOKUP(B249,[2]sheet2!B:L,10,0)","v":"-"},{"$f":"VLOOKUP(B249,[2]sheet2!B:L,11,0)","v":"-"},"http://183.62.54.51:8841/data/files/certificate/000000000439/dff903ebb1d94e8b9c8e5084dc0ab7c6/signed/247_汤毅冰_二等奖_6134.pdf"]
[248,"P305119093145","妙用梯形面积公式计算圆环","小学组","微课","二等奖","广州市",{"$f":"VLOOKUP(B250,'[1]002'!B:M,7,0)","v":"梁耀坤"},{"$f":"VLOOKUP(B250,'[1]002'!B:M,8,0)","v":"广州市番禺区大石富丽小学"},{"$f":"VLOOKUP(B250,'[1]002'!B:M,11,0)","v":"-"},{"$f":"VLOOKUP(B250,'[1]002'!B:M,12,0)","v":"-"},{"$f":"VLOOKUP(B250,[2]sheet2!B:L,10,0)","v":"-"},{"$f":"VLOOKUP(B250,[2]sheet2!B:L,11,0)","v":"-"},"http://183.62.54.51:8841/data/files/certificate/000000000439/6fa2a074c72d4f76a070654b7121b9e8/signed/248_梁耀坤_二等奖_6135.pdf"]
[249,"P305119093162","找规律课前预习探究实践","小学组","微课","二等奖","广州市",{"$f":"VLOOKUP(B251,'[1]002'!B:M,7,0)","v":"李结云"},{"$f":"VLOOKUP(B251,'[1]002'!B:M,8,0)","v":"广州市白云区京溪小学"},{"$f":"VLOOKUP(B251,'[1]002'!B:M,11,0)","v":"-"},{"$f":"VLOOKUP(B251,'[1]002'!B:M,12,0)","v":"-"},{"$f":"VLOOKUP(B251,[2]sheet2!B:L,10,0)","v":"-"},{"$f":"VLOOKUP(B251,[2]sheet2!B:L,11,0)","v":"-"},"http://183.62.54.51:8841/data/files/certificate/000000000439/5f93cedeff8d43f493a8a46bb6a8d659/signed/249_李结云_二等奖_6136.pdf"]
[250,"P305119092705","围绕一个意思把一段话写清楚","小学组","微课","二等奖","深圳市",{"$f":"VLOOKUP(B252,'[1]002'!B:M,7,0)","v":"王丽"},{"$f":"VLOOKUP(B252,'[1]002'!B:M,8,0)","v":"深圳市大鹏新区大鹏第二小学"},{"$f":"VLOOKUP(B252,'[1]002'!B:M,11,0)","v":"-"},{"$f":"VLOOKUP(B252,'[1]002'!B:M,12,0)","v":"-"},{"$f":"VLOOKUP(B252,[2]sheet2!B:L,10,0)","v":"-"},{"$f":"VLOOKUP(B252,[2]sheet2!B:L,11,0)","v":"-"},"http://183.62.54.51:8841/data/files/certificate/000000000439/df34d0e7052e4d478f786741ed1c7b8b/signed/250_王丽_二等奖_6137.pdf"]
[251,"P305119092704","侧面描写","小学组","微课","二等奖","深圳市",{"$f":"VLOOKUP(B253,'[1]002'!B:M,7,0)","v":"胡晓倩"},{"$f":"VLOOKUP(B253,'[1]002'!B:M,8,0)","v":"深圳市盐田区外国语小学"},{"$f":"VLOOKUP(B253,'[1]002'!B:M,11,0)","v":"-"},{"$f":"VLOOKUP(B253,'[1]002'!B:M,12,0)","v":"-"},{"$f":"VLOOKUP(B253,[2]sheet2!B:L,10,0)","v":"-"},{"$f":"VLOOKUP(B253,[2]sheet2!B:L,11,0)","v":"-"},"http://183.62.54.51:8841/data/files/certificate/000000000439/e1ec77c06d68427680496d20d3d7df46/signed/251_胡晓倩_二等奖_6138.pdf"]
[252,"P305119092739","图像变变变","小学组","微课","二等奖","深圳市",{"$f":"VLOOKUP(B254,'[1]002'!B:M,7,0)","v":"陈胜辉"},{"$f":"VLOOKUP(B254,'[1]002'!B:M,8,0)","v":"深圳市坪山区马峦小学"},{"$f":"VLOOKUP(B254,'[1]002'!B:M,11,0)","v":"钟映霞"},{"$f":"VLOOKUP(B254,'[1]002'!B:M,12,0)","v":"深圳市坪山区马峦小学"},{"$f":"VLOOKUP(B254,[2]sheet2!B:L,10,0)","v":"-"},{"$f":"VLOOKUP(B254,[2]sheet2!B:L,11,0)","v":"-"},"http://183.62.54.51:8841/data/files/certificate/000000000439/4c91c81d32e24603a2f8059ca7e96786/signed/252_陈胜辉、钟映霞_二等奖_6139.pdf"]
[253,"P305119092708","阳光下的世界","小学组","微课","二等奖","深圳市",{"$f":"VLOOKUP(B255,'[1]002'!B:M,7,0)","v":"黄惠珊"},{"$f":"VLOOKUP(B255,'[1]002'!B:M,8,0)","v":"深圳市宝安区塘尾万里学校"},{"$f":"VLOOKUP(B255,'[1]002'!B:M,11,0)","v":"-"},{"$f":"VLOOKUP(B255,'[1]002'!B:M,12,0)","v":"-"},{"$f":"VLOOKUP(B255,[2]sheet2!B:L,10,0)","v":"-"},{"$f":"VLOOKUP(B255,[2]sheet2!B:L,11,0)","v":"-"},"http://183.62.54.51:8841/data/files/certificate/000000000439/2857749da8914415b2cf65abf25cc3d8/signed/253_黄惠珊_二等奖_6140.pdf"]
[254,"P305119092713","My favourite season写作指导","小学组","微课","二等奖","深圳市",{"$f":"VLOOKUP(B256,'[1]002'!B:M,7,0)","v":"吴学妍"},{"$f":"VLOOKUP(B256,'[1]002'!B:M,8,0)","v":"深圳市龙华区同胜学校"},{"$f":"VLOOKUP(B256,'[1]002'!B:M,11,0)","v":"-"},{"$f":"VLOOKUP(B256,'[1]002'!B:M,12,0)","v":"-"},{"$f":"VLOOKUP(B256,[2]sheet2!B:L,10,0)","v":"-"},{"$f":"VLOOKUP(B256,[2]sheet2!B:L,11,0)","v":"-"},"http://183.62.54.51:8841/data/files/certificate/000000000439/5543496a53314e52be401ed1f3a10448/signed/254_吴学妍_二等奖_6141.pdf"]
[255,"P305119092729","密铺","小学组","微课","二等奖","深圳市",{"$f":"VLOOKUP(B257,'[1]002'!B:M,7,0)","v":"邓金秀"},{"$f":"VLOOKUP(B257,'[1]002'!B:M,8,0)","v":"南外大冲学校"},{"$f":"VLOOKUP(B257,'[1]002'!B:M,11,0)","v":"-"},{"$f":"VLOOKUP(B257,'[1]002'!B:M,12,0)","v":"-"},{"$f":"VLOOKUP(B257,[2]sheet2!B:L,10,0)","v":"-"},{"$f":"VLOOKUP(B257,[2]sheet2!B:L,11,0)","v":"-"},"http://183.62.54.51:8841/data/files/certificate/000000000439/20cefc0ab2f44f2aba4d22910f2069df/signed/255_邓金秀_二等奖_6142.pdf"]
[256,"P305119092709","三个和尚 四种引用","小学组","微课","二等奖","深圳市",{"$f":"VLOOKUP(B258,'[1]002'!B:M,7,0)","v":"刘洁"},{"$f":"VLOOKUP(B258,'[1]002'!B:M,8,0)","v":"深圳市南山区香山里小学"},{"$f":"VLOOKUP(B258,'[1]002'!B:M,11,0)","v":"-"},{"$f":"VLOOKUP(B258,'[1]002'!B:M,12,0)","v":"-"},{"$f":"VLOOKUP(B258,[2]sheet2!B:L,10,0)","v":"-"},{"$f":"VLOOKUP(B258,[2]sheet2!B:L,11,0)","v":"-"},"http://183.62.54.51:8841/data/files/certificate/000000000439/858efabe5d2a4adca57a85cfb6cd46c8/signed/256_刘洁_二等奖_6143.pdf"]
[257,"P305119092719","玩转打地鼠","小学组","微课","二等奖","深圳市",{"$f":"VLOOKUP(B259,'[1]002'!B:M,7,0)","v":"徐毅"},{"$f":"VLOOKUP(B259,'[1]002'!B:M,8,0)","v":"深圳市光明区光明小学"},{"$f":"VLOOKUP(B259,'[1]002'!B:M,11,0)","v":"陈陆"},{"$f":"VLOOKUP(B259,'[1]002'!B:M,12,0)","v":"深圳市光明区光明小学"},{"$f":"VLOOKUP(B259,[2]sheet2!B:L,10,0)","v":"-"},{"$f":"VLOOKUP(B259,[2]sheet2!B:L,11,0)","v":"-"},"http://183.62.54.51:8841/data/files/certificate/000000000439/25767f411f384e96bd03329fc7dec2df/signed/257_徐毅、陈陆_二等奖_6144.pdf"]
[258,"P305119092732","制作逐帧动画","小学组","微课","二等奖","深圳市",{"$f":"VLOOKUP(B260,'[1]002'!B:M,7,0)","v":"王珊珊"},{"$f":"VLOOKUP(B260,'[1]002'!B:M,8,0)","v":"深圳市光明新区爱华小学"},{"$f":"VLOOKUP(B260,'[1]002'!B:M,11,0)","v":"-"},{"$f":"VLOOKUP(B260,'[1]002'!B:M,12,0)","v":"-"},{"$f":"VLOOKUP(B260,[2]sheet2!B:L,10,0)","v":"-"},{"$f":"VLOOKUP(B260,[2]sheet2!B:L,11,0)","v":"-"},"http://183.62.54.51:8841/data/files/certificate/000000000439/27f2feafd99a4d39a4fe17cdcd7bf5b9/signed/258_王珊珊_二等奖_6145.pdf"]
[259,"P305119092726","听话的Arduino机器人","小学组","微课","二等奖","深圳市",{"$f":"VLOOKUP(B261,'[1]002'!B:M,7,0)","v":"黄晨"},{"$f":"VLOOKUP(B261,'[1]002'!B:M,8,0)","v":"深圳市福田区明德实验学校"},{"$f":"VLOOKUP(B261,'[1]002'!B:M,11,0)","v":"-"},{"$f":"VLOOKUP(B261,'[1]002'!B:M,12,0)","v":"-"},{"$f":"VLOOKUP(B261,[2]sheet2!B:L,10,0)","v":"-"},{"$f":"VLOOKUP(B261,[2]sheet2!B:L,11,0)","v":"-"},"http://183.62.54.51:8841/data/files/certificate/000000000439/5f5a77af1eab4b3abc95d9f81a2f1420/signed/259_黄晨_二等奖_6146.pdf"]
[260,"P305119092722","铜、铝、钢传热比赛","小学组","微课","二等奖","深圳市",{"$f":"VLOOKUP(B262,'[1]002'!B:M,7,0)","v":"张惠瑶"},{"$f":"VLOOKUP(B262,'[1]002'!B:M,8,0)","v":"南湾街道下李朗小学"},{"$f":"VLOOKUP(B262,'[1]002'!B:M,11,0)","v":"陈耿炎"},{"$f":"VLOOKUP(B262,'[1]002'!B:M,12,0)","v":"横岗街道中心学校"},{"$f":"VLOOKUP(B262,[2]sheet2!B:L,10,0)","v":"-"},{"$f":"VLOOKUP(B262,[2]sheet2!B:L,11,0)","v":"-"},"http://183.62.54.51:8841/data/files/certificate/000000000439/93ac93dc19e143eab6fcd7a236d97d07/signed/260_张惠瑶、陈耿炎_二等奖_6147.pdf"]
[261,"P305119092730","良好沟通三部曲","小学组","微课","二等奖","深圳市",{"$f":"VLOOKUP(B263,'[1]002'!B:M,7,0)","v":"黄家慧"},{"$f":"VLOOKUP(B263,'[1]002'!B:M,8,0)","v":"深圳市南山区阳光小学"},{"$f":"VLOOKUP(B263,'[1]002'!B:M,11,0)","v":"-"},{"$f":"VLOOKUP(B263,'[1]002'!B:M,12,0)","v":"-"},{"$f":"VLOOKUP(B263,[2]sheet2!B:L,10,0)","v":"-"},{"$f":"VLOOKUP(B263,[2]sheet2!B:L,11,0)","v":"-"},"http://183.62.54.51:8841/data/files/certificate/000000000439/1644bb33185240f599313c439477507b/signed/261_黄家慧_二等奖_6148.pdf"]
[262,"P305119086709","一般过去时动词变化规则","小学组","微课","二等奖","珠海市",{"$f":"VLOOKUP(B264,'[1]002'!B:M,7,0)","v":"林钿珊"},{"$f":"VLOOKUP(B264,'[1]002'!B:M,8,0)","v":"珠海市金湾区第一小学"},{"$f":"VLOOKUP(B264,'[1]002'!B:M,11,0)","v":"-"},{"$f":"VLOOKUP(B264,'[1]002'!B:M,12,0)","v":"-"},{"$f":"VLOOKUP(B264,[2]sheet2!B:L,10,0)","v":"-"},{"$f":"VLOOKUP(B264,[2]sheet2!B:L,11,0)","v":"-"},"http://183.62.54.51:8841/data/files/certificate/000000000439/7d065c9366674b538059e558ca781918/signed/262_林钿珊_二等奖_6149.pdf"]
[263,"P305119092214","图形的平移","小学组","微课","二等奖","珠海市",{"$f":"VLOOKUP(B265,'[1]002'!B:M,7,0)","v":"郭林飞"},{"$f":"VLOOKUP(B265,'[1]002'!B:M,8,0)","v":"珠海市金湾区第一小学"},{"$f":"VLOOKUP(B265,'[1]002'!B:M,11,0)","v":"-"},{"$f":"VLOOKUP(B265,'[1]002'!B:M,12,0)","v":"-"},{"$f":"VLOOKUP(B265,[2]sheet2!B:L,10,0)","v":"-"},{"$f":"VLOOKUP(B265,[2]sheet2!B:L,11,0)","v":"-"},"http://183.62.54.51:8841/data/files/certificate/000000000439/9658a4cb4ad947c585c8bcfcc0e5459c/signed/263_郭林飞_二等奖_6150.pdf"]
[264,"P305119078964","圆的认识","小学组","微课","二等奖","珠海市",{"$f":"VLOOKUP(B266,'[1]002'!B:M,7,0)","v":"杨晓丹"},{"$f":"VLOOKUP(B266,'[1]002'!B:M,8,0)","v":"珠海市红旗镇军建小学"},{"$f":"VLOOKUP(B266,'[1]002'!B:M,11,0)","v":"-"},{"$f":"VLOOKUP(B266,'[1]002'!B:M,12,0)","v":"-"},{"$f":"VLOOKUP(B266,[2]sheet2!B:L,10,0)","v":"-"},{"$f":"VLOOKUP(B266,[2]sheet2!B:L,11,0)","v":"-"},"http://183.62.54.51:8841/data/files/certificate/000000000439/f884117048b640ff9cd01472278d41eb/signed/264_杨晓丹_二等奖_6151.pdf"]
[265,"P305119091972","探索图形","小学组","微课","二等奖","汕头市",{"$f":"VLOOKUP(B267,'[1]002'!B:M,7,0)","v":"郑雪芸"},{"$f":"VLOOKUP(B267,'[1]002'!B:M,8,0)","v":"汕头市金砂小学"},{"$f":"VLOOKUP(B267,'[1]002'!B:M,11,0)","v":"-"},{"$f":"VLOOKUP(B267,'[1]002'!B:M,12,0)","v":"-"},{"$f":"VLOOKUP(B267,[2]sheet2!B:L,10,0)","v":"-"},{"$f":"VLOOKUP(B267,[2]sheet2!B:L,11,0)","v":"-"},"http://183.62.54.51:8841/data/files/certificate/000000000439/26afb2324af04b6f8fc6d8164cad6517/signed/265_郑雪芸_二等奖_6152.pdf"]
[266,"P305119091973","It is time for/ to的意义和用法","小学组","微课","二等奖","汕头市",{"$f":"VLOOKUP(B268,'[1]002'!B:M,7,0)","v":"蔡维莹"},{"$f":"VLOOKUP(B268,'[1]002'!B:M,8,0)","v":"汕头市濠江区华里小学"},{"$f":"VLOOKUP(B268,'[1]002'!B:M,11,0)","v":"-"},{"$f":"VLOOKUP(B268,'[1]002'!B:M,12,0)","v":"-"},{"$f":"VLOOKUP(B268,[2]sheet2!B:L,10,0)","v":"-"},{"$f":"VLOOKUP(B268,[2]sheet2!B:L,11,0)","v":"-"},"http://183.62.54.51:8841/data/files/certificate/000000000439/856abb25fb044c13af590af1ef6074ee/signed/266_蔡维莹_二等奖_6153.pdf"]
[267,"P305119091984","认识图形（一）","小学组","微课","二等奖","汕头市",{"$f":"VLOOKUP(B269,'[1]002'!B:M,7,0)","v":"纪欣欣"},{"$f":"VLOOKUP(B269,'[1]002'!B:M,8,0)","v":"汕头市长厦小学"},{"$f":"VLOOKUP(B269,'[1]002'!B:M,11,0)","v":"黄旻纯"},{"$f":"VLOOKUP(B269,'[1]002'!B:M,12,0)","v":"汕头市长厦小学"},{"$f":"VLOOKUP(B269,[2]sheet2!B:L,10,0)","v":"-"},{"$f":"VLOOKUP(B269,[2]sheet2!B:L,11,0)","v":"-"},"http://183.62.54.51:8841/data/files/certificate/000000000439/c3b9b771124449e790ce3e44463b94e4/signed/267_纪欣欣、黄旻纯_二等奖_6154.pdf"]
[268,"P305119091968","思维导图在低年级阅读中的运用，以小蜗牛一课为例","小学组","微课","二等奖","汕头市",{"$f":"VLOOKUP(B270,'[1]002'!B:M,7,0)","v":"谢亿璇"},{"$f":"VLOOKUP(B270,'[1]002'!B:M,8,0)","v":"汕头市龙湖区亿信小学"},{"$f":"VLOOKUP(B270,'[1]002'!B:M,11,0)","v":"-"},{"$f":"VLOOKUP(B270,'[1]002'!B:M,12,0)","v":"-"},{"$f":"VLOOKUP(B270,[2]sheet2!B:L,10,0)","v":"-"},{"$f":"VLOOKUP(B270,[2]sheet2!B:L,11,0)","v":"-"},"http://183.62.54.51:8841/data/files/certificate/000000000439/f0892db4bc26467ab4c784b3c7d949c8/signed/268_谢亿璇_二等奖_6155.pdf"]
[269,"P305119091982","运算定律的再认识","小学组","微课","二等奖","汕头市",{"$f":"VLOOKUP(B271,'[1]002'!B:M,7,0)","v":"辛晓娜"},{"$f":"VLOOKUP(B271,'[1]002'!B:M,8,0)","v":"汕头市东厦小学"},{"$f":"VLOOKUP(B271,'[1]002'!B:M,11,0)","v":"-"},{"$f":"VLOOKUP(B271,'[1]002'!B:M,12,0)","v":"-"},{"$f":"VLOOKUP(B271,[2]sheet2!B:L,10,0)","v":"-"},{"$f":"VLOOKUP(B271,[2]sheet2!B:L,11,0)","v":"-"},"http://183.62.54.51:8841/data/files/certificate/000000000439/51088832bb9a4cb68854c8f86117e262/signed/269_辛晓娜_二等奖_6156.pdf"]
[270,"P305119091963","分数除法——工程问题","小学组","微课","二等奖","汕头市",{"$f":"VLOOKUP(B272,'[1]002'!B:M,7,0)","v":"张丽霞"},{"$f":"VLOOKUP(B272,'[1]002'!B:M,8,0)","v":"汕头市金平区蓝天小学"},{"$f":"VLOOKUP(B272,'[1]002'!B:M,11,0)","v":"-"},{"$f":"VLOOKUP(B272,'[1]002'!B:M,12,0)","v":"-"},{"$f":"VLOOKUP(B272,[2]sheet2!B:L,10,0)","v":"-"},{"$f":"VLOOKUP(B272,[2]sheet2!B:L,11,0)","v":"-"},"http://183.62.54.51:8841/data/files/certificate/000000000439/9641a196e5394b81b859a1d2655ff9ba/signed/270_张丽霞_二等奖_6157.pdf"]
[271,"P305119090888","破折号的用法","小学组","微课","二等奖","佛山市",{"$f":"VLOOKUP(B273,'[1]002'!B:M,7,0)","v":"杨美金"},{"$f":"VLOOKUP(B273,'[1]002'!B:M,8,0)","v":"佛山市高明区沧江中学附属小学"},{"$f":"VLOOKUP(B273,'[1]002'!B:M,11,0)","v":"-"},{"$f":"VLOOKUP(B273,'[1]002'!B:M,12,0)","v":"-"},{"$f":"VLOOKUP(B273,[2]sheet2!B:L,10,0)","v":"-"},{"$f":"VLOOKUP(B273,[2]sheet2!B:L,11,0)","v":"-"},"http://183.62.54.51:8841/data/files/certificate/000000000439/b5fb08a77c9c46c0ac5737dc672903c1/signed/271_杨美金_二等奖_6158.pdf"]
[272,"P305119090899","小蜗牛慢慢爬","小学组","微课","二等奖","佛山市",{"$f":"VLOOKUP(B274,'[1]002'!B:M,7,0)","v":"陆韫瑶"},{"$f":"VLOOKUP(B274,'[1]002'!B:M,8,0)","v":"佛山市南海区丹灶镇金沙小学"},{"$f":"VLOOKUP(B274,'[1]002'!B:M,11,0)","v":"-"},{"$f":"VLOOKUP(B274,'[1]002'!B:M,12,0)","v":"-"},{"$f":"VLOOKUP(B274,[2]sheet2!B:L,10,0)","v":"-"},{"$f":"VLOOKUP(B274,[2]sheet2!B:L,11,0)","v":"-"},"http://183.62.54.51:8841/data/files/certificate/000000000439/9f678808340f420b8044a936a6c6b184/signed/272_陆韫瑶_二等奖_6159.pdf"]
[273,"P305119090911","我们爱植树","小学组","微课","二等奖","佛山市",{"$f":"VLOOKUP(B275,'[1]002'!B:M,7,0)","v":"潘光志"},{"$f":"VLOOKUP(B275,'[1]002'!B:M,8,0)","v":"佛山市南海区桂城街道桂江小学"},{"$f":"VLOOKUP(B275,'[1]002'!B:M,11,0)","v":"-"},{"$f":"VLOOKUP(B275,'[1]002'!B:M,12,0)","v":"-"},{"$f":"VLOOKUP(B275,[2]sheet2!B:L,10,0)","v":"-"},{"$f":"VLOOKUP(B275,[2]sheet2!B:L,11,0)","v":"-"},"http://183.62.54.51:8841/data/files/certificate/000000000439/c5c1a8040e57455aa553d0cf8316beb6/signed/273_潘光志_二等奖_6160.pdf"]
[274,"P305119090942","写通知","小学组","微课","二等奖","佛山市",{"$f":"VLOOKUP(B276,'[1]002'!B:M,7,0)","v":"何惠浈"},{"$f":"VLOOKUP(B276,'[1]002'!B:M,8,0)","v":"佛山市顺德区陈村镇吴维泰纪念小学"},{"$f":"VLOOKUP(B276,'[1]002'!B:M,11,0)","v":"-"},{"$f":"VLOOKUP(B276,'[1]002'!B:M,12,0)","v":"-"},{"$f":"VLOOKUP(B276,[2]sheet2!B:L,10,0)","v":"-"},{"$f":"VLOOKUP(B276,[2]sheet2!B:L,11,0)","v":"-"},"http://183.62.54.51:8841/data/files/certificate/000000000439/618ffcab896d4d66be45a5bd3a542e2e/signed/274_何惠浈_二等奖_6161.pdf"]
[275,"P305119090881","平均分","小学组","微课","二等奖","佛山市",{"$f":"VLOOKUP(B277,'[1]002'!B:M,7,0)","v":"缪丽娜"},{"$f":"VLOOKUP(B277,'[1]002'!B:M,8,0)","v":"佛山市高明区沧江中学附属小学"},{"$f":"VLOOKUP(B277,'[1]002'!B:M,11,0)","v":"-"},{"$f":"VLOOKUP(B277,'[1]002'!B:M,12,0)","v":"-"},{"$f":"VLOOKUP(B277,[2]sheet2!B:L,10,0)","v":"-"},{"$f":"VLOOKUP(B277,[2]sheet2!B:L,11,0)","v":"-"},"http://183.62.54.51:8841/data/files/certificate/000000000439/916ee51bbc994e67be9b110aa35c9b9d/signed/275_缪丽娜_二等奖_6162.pdf"]
[276,"P305119090878","PEP Book4 Unit3 Weather A Spell","小学组","微课","二等奖","佛山市",{"$f":"VLOOKUP(B278,'[1]002'!B:M,7,0)","v":"陈嘉裕"},{"$f":"VLOOKUP(B278,'[1]002'!B:M,8,0)","v":"佛山市高明区沧江中学附属小学"},{"$f":"VLOOKUP(B278,'[1]002'!B:M,11,0)","v":"-"},{"$f":"VLOOKUP(B278,'[1]002'!B:M,12,0)","v":"-"},{"$f":"VLOOKUP(B278,[2]sheet2!B:L,10,0)","v":"-"},{"$f":"VLOOKUP(B278,[2]sheet2!B:L,11,0)","v":"-"},"http://183.62.54.51:8841/data/files/certificate/000000000439/0d98089077a74094ba6a23fb28bfa577/signed/276_陈嘉裕_二等奖_6163.pdf"]
[277,"P305119090913","破折号的自述","小学组","微课","二等奖","佛山市",{"$f":"VLOOKUP(B279,'[1]002'!B:M,7,0)","v":"陈彩霞"},{"$f":"VLOOKUP(B279,'[1]002'!B:M,8,0)","v":"佛山市南海区丹灶镇罗行小学"},{"$f":"VLOOKUP(B279,'[1]002'!B:M,11,0)","v":"-"},{"$f":"VLOOKUP(B279,'[1]002'!B:M,12,0)","v":"-"},{"$f":"VLOOKUP(B279,[2]sheet2!B:L,10,0)","v":"-"},{"$f":"VLOOKUP(B279,[2]sheet2!B:L,11,0)","v":"-"},"http://183.62.54.51:8841/data/files/certificate/000000000439/98429db1b72146a3b00f1c3073b95b92/signed/277_陈彩霞_二等奖_6164.pdf"]
[278,"P305119090951","复式折线统计图","小学组","微课","二等奖","佛山市",{"$f":"VLOOKUP(B280,'[1]002'!B:M,7,0)","v":"王杰"},{"$f":"VLOOKUP(B280,'[1]002'!B:M,8,0)","v":"佛山市三水区西南街道中心小学"},{"$f":"VLOOKUP(B280,'[1]002'!B:M,11,0)","v":"-"},{"$f":"VLOOKUP(B280,'[1]002'!B:M,12,0)","v":"-"},{"$f":"VLOOKUP(B280,[2]sheet2!B:L,10,0)","v":"-"},{"$f":"VLOOKUP(B280,[2]sheet2!B:L,11,0)","v":"-"},"http://183.62.54.51:8841/data/files/certificate/000000000439/3b33d406ddc6428ca21bd4c15aeac30f/signed/278_王杰_二等奖_6165.pdf"]
[279,"P305119090907","神奇的花瓶","小学组","微课","二等奖","佛山市",{"$f":"VLOOKUP(B281,'[1]002'!B:M,7,0)","v":"吴正荣"},{"$f":"VLOOKUP(B281,'[1]002'!B:M,8,0)","v":"佛山市南海区大沥镇盐步中心小学"},{"$f":"VLOOKUP(B281,'[1]002'!B:M,11,0)","v":"-"},{"$f":"VLOOKUP(B281,'[1]002'!B:M,12,0)","v":"-"},{"$f":"VLOOKUP(B281,[2]sheet2!B:L,10,0)","v":"-"},{"$f":"VLOOKUP(B281,[2]sheet2!B:L,11,0)","v":"-"},"http://183.62.54.51:8841/data/files/certificate/000000000439/70b0f9f8c70d4c11a3d908fa695d1e04/signed/279_吴正荣_二等奖_6166.pdf"]
[280,"P305119090935","让丝网花也智能课件","小学组","微课","二等奖","佛山市",{"$f":"VLOOKUP(B282,'[1]002'!B:M,7,0)","v":"廖晓锋"},{"$f":"VLOOKUP(B282,'[1]002'!B:M,8,0)","v":"佛山市顺德区北滘中心小学"},{"$f":"VLOOKUP(B282,'[1]002'!B:M,11,0)","v":"郑萍"},{"$f":"VLOOKUP(B282,'[1]002'!B:M,12,0)","v":"佛山市顺德区北滘中心小学"},{"$f":"VLOOKUP(B282,[2]sheet2!B:L,10,0)","v":"-"},{"$f":"VLOOKUP(B282,[2]sheet2!B:L,11,0)","v":"-"},"http://183.62.54.51:8841/data/files/certificate/000000000439/8714341c026e4ad4a30397db70de0815/signed/280_廖晓锋、郑萍_二等奖_6167.pdf"]
[281,"P305119090906","Mybirthday写作课","小学组","微课","二等奖","佛山市",{"$f":"VLOOKUP(B283,'[1]002'!B:M,7,0)","v":"林静韫"},{"$f":"VLOOKUP(B283,'[1]002'!B:M,8,0)","v":"佛山市南海区大沥镇盐步中心小学"},{"$f":"VLOOKUP(B283,'[1]002'!B:M,11,0)","v":"-"},{"$f":"VLOOKUP(B283,'[1]002'!B:M,12,0)","v":"-"},{"$f":"VLOOKUP(B283,[2]sheet2!B:L,10,0)","v":"-"},{"$f":"VLOOKUP(B283,[2]sheet2!B:L,11,0)","v":"-"},"http://183.62.54.51:8841/data/files/certificate/000000000439/eb96078d848043528c7410ebe412bdc9/signed/281_林静韫_二等奖_6168.pdf"]
[282,"P305119090949","三角形的认识","小学组","微课","二等奖","佛山市",{"$f":"VLOOKUP(B284,'[1]002'!B:M,7,0)","v":"陈爱华"},{"$f":"VLOOKUP(B284,'[1]002'!B:M,8,0)","v":"佛山市三水区西南街道北江小学"},{"$f":"VLOOKUP(B284,'[1]002'!B:M,11,0)","v":"-"},{"$f":"VLOOKUP(B284,'[1]002'!B:M,12,0)","v":"-"},{"$f":"VLOOKUP(B284,[2]sheet2!B:L,10,0)","v":"-"},{"$f":"VLOOKUP(B284,[2]sheet2!B:L,11,0)","v":"-"},"http://183.62.54.51:8841/data/files/certificate/000000000439/31bb7fc6fd7443fd958dc33fe0fca70d/signed/282_陈爱华_二等奖_6169.pdf"]
[283,"P305119090877","总分结构","小学组","微课","二等奖","佛山市",{"$f":"VLOOKUP(B285,'[1]002'!B:M,7,0)","v":"李小玲"},{"$f":"VLOOKUP(B285,'[1]002'!B:M,8,0)","v":"佛山市高明区沧江中学附属小学"},{"$f":"VLOOKUP(B285,'[1]002'!B:M,11,0)","v":"-"},{"$f":"VLOOKUP(B285,'[1]002'!B:M,12,0)","v":"-"},{"$f":"VLOOKUP(B285,[2]sheet2!B:L,10,0)","v":"-"},{"$f":"VLOOKUP(B285,[2]sheet2!B:L,11,0)","v":"-"},"http://183.62.54.51:8841/data/files/certificate/000000000439/bec72888aa5d48c0881a3976ca45c9bd/signed/283_李小玲_二等奖_6170.pdf"]
[284,"P305119090923","胆小的老鼠","小学组","微课","二等奖","佛山市",{"$f":"VLOOKUP(B286,'[1]002'!B:M,7,0)","v":"蓝细娜"},{"$f":"VLOOKUP(B286,'[1]002'!B:M,8,0)","v":"佛山市顺德区乐从水藤小学"},{"$f":"VLOOKUP(B286,'[1]002'!B:M,11,0)","v":"-"},{"$f":"VLOOKUP(B286,'[1]002'!B:M,12,0)","v":"-"},{"$f":"VLOOKUP(B286,[2]sheet2!B:L,10,0)","v":"-"},{"$f":"VLOOKUP(B286,[2]sheet2!B:L,11,0)","v":"-"},"http://183.62.54.51:8841/data/files/certificate/000000000439/96baf71fbd93423f9a8efaf3f0aadd53/signed/284_蓝细娜_二等奖_6171.pdf"]
[285,"P305119090891","第6课通天云梯_用for语句控制循环","小学组","微课","二等奖","佛山市",{"$f":"VLOOKUP(B287,'[1]002'!B:M,7,0)","v":"刘炳升"},{"$f":"VLOOKUP(B287,'[1]002'!B:M,8,0)","v":"佛山市南海区大沥镇盐步中心小学"},{"$f":"VLOOKUP(B287,'[1]002'!B:M,11,0)","v":"-"},{"$f":"VLOOKUP(B287,'[1]002'!B:M,12,0)","v":"-"},{"$f":"VLOOKUP(B287,[2]sheet2!B:L,10,0)","v":"-"},{"$f":"VLOOKUP(B287,[2]sheet2!B:L,11,0)","v":"-"},"http://183.62.54.51:8841/data/files/certificate/000000000439/6106393904ac4e10a65034eddb796444/signed/285_刘炳升_二等奖_6172.pdf"]
[286,"P305119090926","时间介词的用法","小学组","微课","二等奖","佛山市",{"$f":"VLOOKUP(B288,'[1]002'!B:M,7,0)","v":"卢颖诗"},{"$f":"VLOOKUP(B288,'[1]002'!B:M,8,0)","v":"佛山市顺德区龙江城区中心小学"},{"$f":"VLOOKUP(B288,'[1]002'!B:M,11,0)","v":"-"},{"$f":"VLOOKUP(B288,'[1]002'!B:M,12,0)","v":"-"},{"$f":"VLOOKUP(B288,[2]sheet2!B:L,10,0)","v":"-"},{"$f":"VLOOKUP(B288,[2]sheet2!B:L,11,0)","v":"-"},"http://183.62.54.51:8841/data/files/certificate/000000000439/253348751b914209924c9ce6852a933c/signed/286_卢颖诗_二等奖_6173.pdf"]
[287,"P305119090918","二年级看图写话单幅图写法指导微课教学","小学组","微课","二等奖","佛山市",{"$f":"VLOOKUP(B289,'[1]002'!B:M,7,0)","v":"余姗炫"},{"$f":"VLOOKUP(B289,'[1]002'!B:M,8,0)","v":"佛山市禅城区环湖小学"},{"$f":"VLOOKUP(B289,'[1]002'!B:M,11,0)","v":"-"},{"$f":"VLOOKUP(B289,'[1]002'!B:M,12,0)","v":"-"},{"$f":"VLOOKUP(B289,[2]sheet2!B:L,10,0)","v":"-"},{"$f":"VLOOKUP(B289,[2]sheet2!B:L,11,0)","v":"-"},"http://183.62.54.51:8841/data/files/certificate/000000000439/2684544c4cf4402e90aee7531784b7e1/signed/287_余姗炫_二等奖_6174.pdf"]
[288,"P305119090900","小泥人","小学组","微课","二等奖","佛山市",{"$f":"VLOOKUP(B290,'[1]002'!B:M,7,0)","v":"孔淑文"},{"$f":"VLOOKUP(B290,'[1]002'!B:M,8,0)","v":"佛山市南海区桂城街道桂江小学"},{"$f":"VLOOKUP(B290,'[1]002'!B:M,11,0)","v":"-"},{"$f":"VLOOKUP(B290,'[1]002'!B:M,12,0)","v":"-"},{"$f":"VLOOKUP(B290,[2]sheet2!B:L,10,0)","v":"-"},{"$f":"VLOOKUP(B290,[2]sheet2!B:L,11,0)","v":"-"},"http://183.62.54.51:8841/data/files/certificate/000000000439/3fc00cb92c1445089581dee023e2bd50/signed/288_孔淑文_二等奖_6175.pdf"]
[289,"P305119090929","彩绘石头","小学组","微课","二等奖","佛山市",{"$f":"VLOOKUP(B291,'[1]002'!B:M,7,0)","v":"曾晓雅"},{"$f":"VLOOKUP(B291,'[1]002'!B:M,8,0)","v":"佛山市顺德区容桂实验学校"},{"$f":"VLOOKUP(B291,'[1]002'!B:M,11,0)","v":"-"},{"$f":"VLOOKUP(B291,'[1]002'!B:M,12,0)","v":"-"},{"$f":"VLOOKUP(B291,[2]sheet2!B:L,10,0)","v":"-"},{"$f":"VLOOKUP(B291,[2]sheet2!B:L,11,0)","v":"-"},"http://183.62.54.51:8841/data/files/certificate/000000000439/de12c476288b4179b9e427c49163e16d/signed/289_曾晓雅_二等奖_6176.pdf"]
[290,"P305119090884","动物的花衣裳","小学组","微课","二等奖","佛山市",{"$f":"VLOOKUP(B292,'[1]002'!B:M,7,0)","v":"何少娟"},{"$f":"VLOOKUP(B292,'[1]002'!B:M,8,0)","v":"佛山市高明区沧江中学附属小学"},{"$f":"VLOOKUP(B292,'[1]002'!B:M,11,0)","v":"-"},{"$f":"VLOOKUP(B292,'[1]002'!B:M,12,0)","v":"-"},{"$f":"VLOOKUP(B292,[2]sheet2!B:L,10,0)","v":"-"},{"$f":"VLOOKUP(B292,[2]sheet2!B:L,11,0)","v":"-"},"http://183.62.54.51:8841/data/files/certificate/000000000439/af00265c25884185982b77c5c17cbf6d/signed/290_何少娟_二等奖_6177.pdf"]
[291,"P305119090912","认识小括号","小学组","微课","二等奖","佛山市",{"$f":"VLOOKUP(B293,'[1]002'!B:M,7,0)","v":"黄翠婉"},{"$f":"VLOOKUP(B293,'[1]002'!B:M,8,0)","v":"佛山市南海区桂城街道桂江小学"},{"$f":"VLOOKUP(B293,'[1]002'!B:M,11,0)","v":"-"},{"$f":"VLOOKUP(B293,'[1]002'!B:M,12,0)","v":"-"},{"$f":"VLOOKUP(B293,[2]sheet2!B:L,10,0)","v":"-"},{"$f":"VLOOKUP(B293,[2]sheet2!B:L,11,0)","v":"-"},"http://183.62.54.51:8841/data/files/certificate/000000000439/b654020064d449c7a4e8bd437773bd5a/signed/291_黄翠婉_二等奖_6178.pdf"]
[292,"P305119090890","两位数加两位数不进位加","小学组","微课","二等奖","佛山市",{"$f":"VLOOKUP(B294,'[1]002'!B:M,7,0)","v":"梁海秀"},{"$f":"VLOOKUP(B294,'[1]002'!B:M,8,0)","v":"禅城区南庄镇溶洲小学"},{"$f":"VLOOKUP(B294,'[1]002'!B:M,11,0)","v":"-"},{"$f":"VLOOKUP(B294,'[1]002'!B:M,12,0)","v":"-"},{"$f":"VLOOKUP(B294,[2]sheet2!B:L,10,0)","v":"-"},{"$f":"VLOOKUP(B294,[2]sheet2!B:L,11,0)","v":"-"},"http://183.62.54.51:8841/data/files/certificate/000000000439/b23137093d954759871ddddfc3bc2c10/signed/292_梁海秀_二等奖_6179.pdf"]
[293,"P305119090924","圆锥的体积","小学组","微课","二等奖","佛山市",{"$f":"VLOOKUP(B295,'[1]002'!B:M,7,0)","v":"区艳冰"},{"$f":"VLOOKUP(B295,'[1]002'!B:M,8,0)","v":"佛山市顺德区乐从水藤小学"},{"$f":"VLOOKUP(B295,'[1]002'!B:M,11,0)","v":"-"},{"$f":"VLOOKUP(B295,'[1]002'!B:M,12,0)","v":"-"},{"$f":"VLOOKUP(B295,[2]sheet2!B:L,10,0)","v":"-"},{"$f":"VLOOKUP(B295,[2]sheet2!B:L,11,0)","v":"-"},"http://183.62.54.51:8841/data/files/certificate/000000000439/5ec3468186c9497cb9c511002bcf4da6/signed/293_区艳冰_二等奖_6180.pdf"]
[294,"P305119087888","学写留言条","小学组","微课","二等奖","韶关市",{"$f":"VLOOKUP(B296,'[1]002'!B:M,7,0)","v":"曹慧"},{"$f":"VLOOKUP(B296,'[1]002'!B:M,8,0)","v":"韶关市武江区金福园小学"},{"$f":"VLOOKUP(B296,'[1]002'!B:M,11,0)","v":"-"},{"$f":"VLOOKUP(B296,'[1]002'!B:M,12,0)","v":"-"},{"$f":"VLOOKUP(B296,[2]sheet2!B:L,10,0)","v":"-"},{"$f":"VLOOKUP(B296,[2]sheet2!B:L,11,0)","v":"-"},"http://183.62.54.51:8841/data/files/certificate/000000000439/6c0c6eceb88e46718e44453aec72168e/signed/294_曹慧_二等奖_6181.pdf"]
[295,"P305119088878","神奇的水之毛细现象篇","小学组","微课","二等奖","韶关市",{"$f":"VLOOKUP(B297,'[1]002'!B:M,7,0)","v":"李万英"},{"$f":"VLOOKUP(B297,'[1]002'!B:M,8,0)","v":"韶关市武江区田家炳小学"},{"$f":"VLOOKUP(B297,'[1]002'!B:M,11,0)","v":"-"},{"$f":"VLOOKUP(B297,'[1]002'!B:M,12,0)","v":"-"},{"$f":"VLOOKUP(B297,[2]sheet2!B:L,10,0)","v":"-"},{"$f":"VLOOKUP(B297,[2]sheet2!B:L,11,0)","v":"-"},"http://183.62.54.51:8841/data/files/certificate/000000000439/bcebca1eed0a44a88b13c160eece8d01/signed/295_李万英_二等奖_6182.pdf"]
[296,"P305119090155","学做仿铜泥浮雕","小学组","微课","二等奖","韶关市",{"$f":"VLOOKUP(B298,'[1]002'!B:M,7,0)","v":"朱香霖"},{"$f":"VLOOKUP(B298,'[1]002'!B:M,8,0)","v":"韶关市武江区田家炳沙湖绿洲小学"},{"$f":"VLOOKUP(B298,'[1]002'!B:M,11,0)","v":"-"},{"$f":"VLOOKUP(B298,'[1]002'!B:M,12,0)","v":"-"},{"$f":"VLOOKUP(B298,[2]sheet2!B:L,10,0)","v":"-"},{"$f":"VLOOKUP(B298,[2]sheet2!B:L,11,0)","v":"-"},"http://183.62.54.51:8841/data/files/certificate/000000000439/4249bdf1322b472b8a45f8e49875d95f/signed/296_朱香霖_二等奖_6183.pdf"]
[297,"P305119093435","我的周末计划","小学组","微课","二等奖","河源市",{"$f":"VLOOKUP(B299,'[1]002'!B:M,7,0)","v":"吴莹"},{"$f":"VLOOKUP(B299,'[1]002'!B:M,8,0)","v":"老隆镇涧洞小学"},{"$f":"VLOOKUP(B299,'[1]002'!B:M,11,0)","v":"邓萌萌"},{"$f":"VLOOKUP(B299,'[1]002'!B:M,12,0)","v":"老隆镇涧洞小学"},{"$f":"VLOOKUP(B299,[2]sheet2!B:L,10,0)","v":"-"},{"$f":"VLOOKUP(B299,[2]sheet2!B:L,11,0)","v":"-"},"http://183.62.54.51:8841/data/files/certificate/000000000439/92f06e60151846b791abbeb5f9e52666/signed/297_吴莹、邓萌萌_二等奖_6184.pdf"]
[298,"P305119093431","泊船瓜洲","小学组","微课","二等奖","河源市",{"$f":"VLOOKUP(B300,'[1]002'!B:M,7,0)","v":"吴海燕"},{"$f":"VLOOKUP(B300,'[1]002'!B:M,8,0)","v":"回龙镇中心小学"},{"$f":"VLOOKUP(B300,'[1]002'!B:M,11,0)","v":"吴开城"},{"$f":"VLOOKUP(B300,'[1]002'!B:M,12,0)","v":"回龙镇中心小学"},{"$f":"VLOOKUP(B300,[2]sheet2!B:L,10,0)","v":"-"},{"$f":"VLOOKUP(B300,[2]sheet2!B:L,11,0)","v":"-"},"http://183.62.54.51:8841/data/files/certificate/000000000439/436b6d1d3c40467cbb298aaad13164e8/signed/298_吴海燕、吴开城_二等奖_6185.pdf"]
[299,"P305119093436","游园不值","小学组","微课","二等奖","河源市",{"$f":"VLOOKUP(B301,'[1]002'!B:M,7,0)","v":"杨桂霞"},{"$f":"VLOOKUP(B301,'[1]002'!B:M,8,0)","v":"老隆镇第三小学"},{"$f":"VLOOKUP(B301,'[1]002'!B:M,11,0)","v":"-"},{"$f":"VLOOKUP(B301,'[1]002'!B:M,12,0)","v":"-"},{"$f":"VLOOKUP(B301,[2]sheet2!B:L,10,0)","v":"-"},{"$f":"VLOOKUP(B301,[2]sheet2!B:L,11,0)","v":"-"},"http://183.62.54.51:8841/data/files/certificate/000000000439/6cbbd136f724400c84a361ee8ce4a3f3/signed/299_杨桂霞_二等奖_6186.pdf"]
[300,"P305119085850","台湾蝴蝶甲天下之名贵蝴蝶的介绍","小学组","微课","二等奖","梅州市",{"$f":"VLOOKUP(B302,'[1]002'!B:M,7,0)","v":"李红"},{"$f":"VLOOKUP(B302,'[1]002'!B:M,8,0)","v":"梅州市梅江区人民小学"},{"$f":"VLOOKUP(B302,'[1]002'!B:M,11,0)","v":"-"},{"$f":"VLOOKUP(B302,'[1]002'!B:M,12,0)","v":"-"},{"$f":"VLOOKUP(B302,[2]sheet2!B:L,10,0)","v":"-"},{"$f":"VLOOKUP(B302,[2]sheet2!B:L,11,0)","v":"-"},"http://183.62.54.51:8841/data/files/certificate/000000000439/bbd14cf03a484956bcf55f48fe13ff23/signed/300_李红_二等奖_6187.pdf"]
[301,"P305119092110","Itsimeto和Itstimefor","小学组","微课","二等奖","惠州市",{"$f":"VLOOKUP(B303,'[1]002'!B:M,7,0)","v":"曾惠芳"},{"$f":"VLOOKUP(B303,'[1]002'!B:M,8,0)","v":"博罗县罗阳第六小学"},{"$f":"VLOOKUP(B303,'[1]002'!B:M,11,0)","v":"李卫平"},{"$f":"VLOOKUP(B303,'[1]002'!B:M,12,0)","v":"博罗县罗阳第六小学"},{"$f":"VLOOKUP(B303,[2]sheet2!B:L,10,0)","v":"-"},{"$f":"VLOOKUP(B303,[2]sheet2!B:L,11,0)","v":"-"},"http://183.62.54.51:8841/data/files/certificate/000000000439/c4e35792005b4a1c88549a15bf6316c4/signed/301_曾惠芳、李卫平_二等奖_6188.pdf"]
[302,"P305119092150","元日","小学组","微课","二等奖","惠州市",{"$f":"VLOOKUP(B304,'[1]002'!B:M,7,0)","v":"李丽婷"},{"$f":"VLOOKUP(B304,'[1]002'!B:M,8,0)","v":"惠州市惠阳区淡水第六小学"},{"$f":"VLOOKUP(B304,'[1]002'!B:M,11,0)","v":"-"},{"$f":"VLOOKUP(B304,'[1]002'!B:M,12,0)","v":"-"},{"$f":"VLOOKUP(B304,[2]sheet2!B:L,10,0)","v":"-"},{"$f":"VLOOKUP(B304,[2]sheet2!B:L,11,0)","v":"-"},"http://183.62.54.51:8841/data/files/certificate/000000000439/05ddd0218748489c89d87eddefe880f3/signed/302_李丽婷_二等奖_6189.pdf"]
[303,"P305119092105","平移和旋转","小学组","微课","二等奖","惠州市",{"$f":"VLOOKUP(B305,'[1]002'!B:M,7,0)","v":"徐彩云"},{"$f":"VLOOKUP(B305,'[1]002'!B:M,8,0)","v":"龙城第五小学"},{"$f":"VLOOKUP(B305,'[1]002'!B:M,11,0)","v":"叶润平"},{"$f":"VLOOKUP(B305,'[1]002'!B:M,12,0)","v":"龙城第五小学"},{"$f":"VLOOKUP(B305,[2]sheet2!B:L,10,0)","v":"-"},{"$f":"VLOOKUP(B305,[2]sheet2!B:L,11,0)","v":"-"},"http://183.62.54.51:8841/data/files/certificate/000000000439/3047ef61bf8747c7b19244862d1a3594/signed/303_徐彩云、叶润平_二等奖_6190.pdf"]
[304,"P305119092147","Unit2Whattimeisit微课","小学组","微课","二等奖","惠州市",{"$f":"VLOOKUP(B306,'[1]002'!B:M,7,0)","v":"李燕华"},{"$f":"VLOOKUP(B306,'[1]002'!B:M,8,0)","v":"惠州市惠阳区淡水第六小学"},{"$f":"VLOOKUP(B306,'[1]002'!B:M,11,0)","v":"-"},{"$f":"VLOOKUP(B306,'[1]002'!B:M,12,0)","v":"-"},{"$f":"VLOOKUP(B306,[2]sheet2!B:L,10,0)","v":"-"},{"$f":"VLOOKUP(B306,[2]sheet2!B:L,11,0)","v":"-"},"http://183.62.54.51:8841/data/files/certificate/000000000439/d8c45bcacdd44f2c960513fc4e000c34/signed/304_李燕华_二等奖_6191.pdf"]
[305,"P305119092390","如何做读书笔记","小学组","微课","二等奖","汕尾市",{"$f":"VLOOKUP(B307,'[1]002'!B:M,7,0)","v":"王映红"},{"$f":"VLOOKUP(B307,'[1]002'!B:M,8,0)","v":"海丰县海城镇向阳小学"},{"$f":"VLOOKUP(B307,'[1]002'!B:M,11,0)","v":"-"},{"$f":"VLOOKUP(B307,'[1]002'!B:M,12,0)","v":"-"},{"$f":"VLOOKUP(B307,[2]sheet2!B:L,10,0)","v":"-"},{"$f":"VLOOKUP(B307,[2]sheet2!B:L,11,0)","v":"-"},"http://183.62.54.51:8841/data/files/certificate/000000000439/1e8111a61adf4a218f1ef188e0f5349c/signed/305_王映红_二等奖_6192.pdf"]
[306,"P305119092566","有趣的动物","小学组","微课","二等奖","东莞市",{"$f":"VLOOKUP(B308,'[1]002'!B:M,7,0)","v":"袁于棋"},{"$f":"VLOOKUP(B308,'[1]002'!B:M,8,0)","v":"东莞市东城第一小学"},{"$f":"VLOOKUP(B308,'[1]002'!B:M,11,0)","v":"-"},{"$f":"VLOOKUP(B308,'[1]002'!B:M,12,0)","v":"-"},{"$f":"VLOOKUP(B308,[2]sheet2!B:L,10,0)","v":"-"},{"$f":"VLOOKUP(B308,[2]sheet2!B:L,11,0)","v":"-"},"http://183.62.54.51:8841/data/files/certificate/000000000439/65e1e3993a9b4019963426df9fe63b42/signed/306_袁于棋_二等奖_6193.pdf"]
[307,"P305119092564","年月日","小学组","微课","二等奖","东莞市",{"$f":"VLOOKUP(B309,'[1]002'!B:M,7,0)","v":"卢施美"},{"$f":"VLOOKUP(B309,'[1]002'!B:M,8,0)","v":"东莞市光正实验学校"},{"$f":"VLOOKUP(B309,'[1]002'!B:M,11,0)","v":"卢彰贵"},{"$f":"VLOOKUP(B309,'[1]002'!B:M,12,0)","v":"东莞市光正实验学校"},{"$f":"VLOOKUP(B309,[2]sheet2!B:L,10,0)","v":"-"},{"$f":"VLOOKUP(B309,[2]sheet2!B:L,11,0)","v":"-"},"http://183.62.54.51:8841/data/files/certificate/000000000439/f0568620f99747e294dbeb7e63f076c6/signed/307_卢施美、卢彰贵_二等奖_6194.pdf"]
[308,"P305119089331","Book3Review2","小学组","微课","二等奖","中山市",{"$f":"VLOOKUP(B310,'[1]002'!B:M,7,0)","v":"杨丽萍"},{"$f":"VLOOKUP(B310,'[1]002'!B:M,8,0)","v":"中山市石岐中心小学"},{"$f":"VLOOKUP(B310,'[1]002'!B:M,11,0)","v":"-"},{"$f":"VLOOKUP(B310,'[1]002'!B:M,12,0)","v":"-"},{"$f":"VLOOKUP(B310,[2]sheet2!B:L,10,0)","v":"-"},{"$f":"VLOOKUP(B310,[2]sheet2!B:L,11,0)","v":"-"},"http://183.62.54.51:8841/data/files/certificate/000000000439/a2360c418c0b4ad4973253d50c1d4a0b/signed/308_杨丽萍_二等奖_6195.pdf"]
[309,"P305119088239","微课：空气能占据空间吗？","小学组","微课","二等奖","中山市",{"$f":"VLOOKUP(B311,'[1]002'!B:M,7,0)","v":"苏晓华"},{"$f":"VLOOKUP(B311,'[1]002'!B:M,8,0)","v":"中山市板芙镇新联小学"},{"$f":"VLOOKUP(B311,'[1]002'!B:M,11,0)","v":"-"},{"$f":"VLOOKUP(B311,'[1]002'!B:M,12,0)","v":"-"},{"$f":"VLOOKUP(B311,[2]sheet2!B:L,10,0)","v":"-"},{"$f":"VLOOKUP(B311,[2]sheet2!B:L,11,0)","v":"-"},"http://183.62.54.51:8841/data/files/certificate/000000000439/32c186e981d94cdca6e9c86df7b656e4/signed/309_苏晓华_二等奖_6196.pdf"]
[310,"P305119089045","大鱼吃小鱼","小学组","微课","二等奖","中山市",{"$f":"VLOOKUP(B312,'[1]002'!B:M,7,0)","v":"徐旭辉"},{"$f":"VLOOKUP(B312,'[1]002'!B:M,8,0)","v":"中山市西区中心小学"},{"$f":"VLOOKUP(B312,'[1]002'!B:M,11,0)","v":"黄剑锋"},{"$f":"VLOOKUP(B312,'[1]002'!B:M,12,0)","v":"中山市实验小学"},{"$f":"VLOOKUP(B312,[2]sheet2!B:L,10,0)","v":"杨欢"},{"$f":"VLOOKUP(B312,[2]sheet2!B:L,11,0)","v":"中山市西区中心小学"},"http://183.62.54.51:8841/data/files/certificate/000000000439/bf8040dfe83c4e59b5a63f9187a457aa/signed/310_徐旭辉、黄剑锋、杨欢_二等奖_6197.pdf"]
[311,"P305119089349","葫芦丝高音56 学习","小学组","微课","二等奖","中山市",{"$f":"VLOOKUP(B313,'[1]002'!B:M,7,0)","v":"蓝旭雯"},{"$f":"VLOOKUP(B313,'[1]002'!B:M,8,0)","v":"中山市阜沙镇牛角小学"},{"$f":"VLOOKUP(B313,'[1]002'!B:M,11,0)","v":"任思"},{"$f":"VLOOKUP(B313,'[1]002'!B:M,12,0)","v":"中山市阜沙镇牛角小学"},{"$f":"VLOOKUP(B313,[2]sheet2!B:L,10,0)","v":"-"},{"$f":"VLOOKUP(B313,[2]sheet2!B:L,11,0)","v":"-"},"http://183.62.54.51:8841/data/files/certificate/000000000439/6d663dada51347b88b8f52bdeae96a26/signed/311_蓝旭雯、任思_二等奖_6198.pdf"]
[312,"P305119089194","Scratch编程之顺序结构","小学组","微课","二等奖","中山市",{"$f":"VLOOKUP(B314,'[1]002'!B:M,7,0)","v":"朱艳萍"},{"$f":"VLOOKUP(B314,'[1]002'!B:M,8,0)","v":"中山火炬高技术产业开发区第五小学"},{"$f":"VLOOKUP(B314,'[1]002'!B:M,11,0)","v":"-"},{"$f":"VLOOKUP(B314,'[1]002'!B:M,12,0)","v":"-"},{"$f":"VLOOKUP(B314,[2]sheet2!B:L,10,0)","v":"-"},{"$f":"VLOOKUP(B314,[2]sheet2!B:L,11,0)","v":"-"},"http://183.62.54.51:8841/data/files/certificate/000000000439/3731c2182f2347e485562e82e41ac55a/signed/312_朱艳萍_二等奖_6199.pdf"]
[313,"P305119089043","四二拍和四三拍节拍特点","小学组","微课","二等奖","中山市",{"$f":"VLOOKUP(B315,'[1]002'!B:M,7,0)","v":"冯贤冰"},{"$f":"VLOOKUP(B315,'[1]002'!B:M,8,0)","v":"中山市西区翠景东方小学"},{"$f":"VLOOKUP(B315,'[1]002'!B:M,11,0)","v":"-"},{"$f":"VLOOKUP(B315,'[1]002'!B:M,12,0)","v":"-"},{"$f":"VLOOKUP(B315,[2]sheet2!B:L,10,0)","v":"-"},{"$f":"VLOOKUP(B315,[2]sheet2!B:L,11,0)","v":"-"},"http://183.62.54.51:8841/data/files/certificate/000000000439/5b407962472b4d0ab30c594d4a8aef81/signed/313_冯贤冰_二等奖_6200.pdf"]
[314,"P305119088271","盐的妙用","小学组","微课","二等奖","中山市",{"$f":"VLOOKUP(B316,'[1]002'!B:M,7,0)","v":"陈翠芬"},{"$f":"VLOOKUP(B316,'[1]002'!B:M,8,0)","v":"中山市沙溪镇濠涌小学"},{"$f":"VLOOKUP(B316,'[1]002'!B:M,11,0)","v":"-"},{"$f":"VLOOKUP(B316,'[1]002'!B:M,12,0)","v":"-"},{"$f":"VLOOKUP(B316,[2]sheet2!B:L,10,0)","v":"-"},{"$f":"VLOOKUP(B316,[2]sheet2!B:L,11,0)","v":"-"},"http://183.62.54.51:8841/data/files/certificate/000000000439/795ba1ba5cc741b3911ee87dcc632906/signed/314_陈翠芬_二等奖_6201.pdf"]
[315,"P305119092061","鸡兔同笼分组法","小学组","微课","二等奖","江门市",{"$f":"VLOOKUP(B317,'[1]002'!B:M,7,0)","v":"梁尚意"},{"$f":"VLOOKUP(B317,'[1]002'!B:M,8,0)","v":"鹤山市沙坪街道第三小学"},{"$f":"VLOOKUP(B317,'[1]002'!B:M,11,0)","v":"-"},{"$f":"VLOOKUP(B317,'[1]002'!B:M,12,0)","v":"-"},{"$f":"VLOOKUP(B317,[2]sheet2!B:L,10,0)","v":"-"},{"$f":"VLOOKUP(B317,[2]sheet2!B:L,11,0)","v":"-"},"http://183.62.54.51:8841/data/files/certificate/000000000439/dad42ea746074f57915f1cc32ea52657/signed/315_梁尚意_二等奖_6202.pdf"]
[316,"P305119091834","铁生锈有没有新物质产生","小学组","微课","二等奖","江门市",{"$f":"VLOOKUP(B318,'[1]002'!B:M,7,0)","v":"梁怡君"},{"$f":"VLOOKUP(B318,'[1]002'!B:M,8,0)","v":"外海麻一佑启学校"},{"$f":"VLOOKUP(B318,'[1]002'!B:M,11,0)","v":"-"},{"$f":"VLOOKUP(B318,'[1]002'!B:M,12,0)","v":"-"},{"$f":"VLOOKUP(B318,[2]sheet2!B:L,10,0)","v":"-"},{"$f":"VLOOKUP(B318,[2]sheet2!B:L,11,0)","v":"-"},"http://183.62.54.51:8841/data/files/certificate/000000000439/53b28f871c134598b1a7201285a223aa/signed/316_梁怡君_二等奖_6203.pdf"]
[317,"P305119091833","修改文章中的错误","小学组","微课","二等奖","江门市",{"$f":"VLOOKUP(B319,'[1]002'!B:M,7,0)","v":"戴广权"},{"$f":"VLOOKUP(B319,'[1]002'!B:M,8,0)","v":"江海区华兴小学"},{"$f":"VLOOKUP(B319,'[1]002'!B:M,11,0)","v":"-"},{"$f":"VLOOKUP(B319,'[1]002'!B:M,12,0)","v":"-"},{"$f":"VLOOKUP(B319,[2]sheet2!B:L,10,0)","v":"-"},{"$f":"VLOOKUP(B319,[2]sheet2!B:L,11,0)","v":"-"},"http://183.62.54.51:8841/data/files/certificate/000000000439/1c09b5288a3d4ebaa6e395aa3928198a/signed/317_戴广权_二等奖_6204.pdf"]
[318,"P305119091779","四边形的内角和","小学组","微课","二等奖","江门市",{"$f":"VLOOKUP(B320,'[1]002'!B:M,7,0)","v":"邝泳霞"},{"$f":"VLOOKUP(B320,'[1]002'!B:M,8,0)","v":"江门市农林小学"},{"$f":"VLOOKUP(B320,'[1]002'!B:M,11,0)","v":"-"},{"$f":"VLOOKUP(B320,'[1]002'!B:M,12,0)","v":"-"},{"$f":"VLOOKUP(B320,[2]sheet2!B:L,10,0)","v":"-"},{"$f":"VLOOKUP(B320,[2]sheet2!B:L,11,0)","v":"-"},"http://183.62.54.51:8841/data/files/certificate/000000000439/df8cb181fc3c4e15b57f46c87becbc15/signed/318_邝泳霞_二等奖_6205.pdf"]
[319,"P305119092011","三角形的内角和","小学组","微课","二等奖","江门市",{"$f":"VLOOKUP(B321,'[1]002'!B:M,7,0)","v":"陈秀媚"},{"$f":"VLOOKUP(B321,'[1]002'!B:M,8,0)","v":"开平市水口镇红花小学"},{"$f":"VLOOKUP(B321,'[1]002'!B:M,11,0)","v":"-"},{"$f":"VLOOKUP(B321,'[1]002'!B:M,12,0)","v":"-"},{"$f":"VLOOKUP(B321,[2]sheet2!B:L,10,0)","v":"-"},{"$f":"VLOOKUP(B321,[2]sheet2!B:L,11,0)","v":"-"},"http://183.62.54.51:8841/data/files/certificate/000000000439/c86f2cf5c44640d8a3c59d81d6f5e7c7/signed/319_陈秀媚_二等奖_6206.pdf"]
[320,"P305119092056","杠杆的秘密","小学组","微课","二等奖","江门市",{"$f":"VLOOKUP(B322,'[1]002'!B:M,7,0)","v":"谭锦辉"},{"$f":"VLOOKUP(B322,'[1]002'!B:M,8,0)","v":"鹤山市沙坪街道第一小学"},{"$f":"VLOOKUP(B322,'[1]002'!B:M,11,0)","v":"-"},{"$f":"VLOOKUP(B322,'[1]002'!B:M,12,0)","v":"-"},{"$f":"VLOOKUP(B322,[2]sheet2!B:L,10,0)","v":"-"},{"$f":"VLOOKUP(B322,[2]sheet2!B:L,11,0)","v":"-"},"http://183.62.54.51:8841/data/files/certificate/000000000439/4bd3588bd7264066bd9f04889b0fbf5d/signed/320_谭锦辉_二等奖_6207.pdf"]
[321,"P305119092920","查看文件与文件夹","小学组","微课","二等奖","湛江市",{"$f":"VLOOKUP(B323,'[1]002'!B:M,7,0)","v":"吴少琼"},{"$f":"VLOOKUP(B323,'[1]002'!B:M,8,0)","v":"湛江市第九小学"},{"$f":"VLOOKUP(B323,'[1]002'!B:M,11,0)","v":"-"},{"$f":"VLOOKUP(B323,'[1]002'!B:M,12,0)","v":"-"},{"$f":"VLOOKUP(B323,[2]sheet2!B:L,10,0)","v":"-"},{"$f":"VLOOKUP(B323,[2]sheet2!B:L,11,0)","v":"-"},"http://183.62.54.51:8841/data/files/certificate/000000000439/a3c77ca55e6b48fc955e6a9a09e10cfd/signed/321_吴少琼_二等奖_6208.pdf"]
[322,"P305119092926","Flash制作引导层动画","小学组","微课","二等奖","湛江市",{"$f":"VLOOKUP(B324,'[1]002'!B:M,7,0)","v":"张文贞"},{"$f":"VLOOKUP(B324,'[1]002'!B:M,8,0)","v":"湛江市第六小学"},{"$f":"VLOOKUP(B324,'[1]002'!B:M,11,0)","v":"-"},{"$f":"VLOOKUP(B324,'[1]002'!B:M,12,0)","v":"-"},{"$f":"VLOOKUP(B324,[2]sheet2!B:L,10,0)","v":"-"},{"$f":"VLOOKUP(B324,[2]sheet2!B:L,11,0)","v":"-"},"http://183.62.54.51:8841/data/files/certificate/000000000439/b9fce6adb10248f0a268f6a38b6093a0/signed/322_张文贞_二等奖_6209.pdf"]
[323,"P305119092919","看图写话就三步","小学组","微课","二等奖","湛江市",{"$f":"VLOOKUP(B325,'[1]002'!B:M,7,0)","v":"毛细"},{"$f":"VLOOKUP(B325,'[1]002'!B:M,8,0)","v":"湛江市第十七中学"},{"$f":"VLOOKUP(B325,'[1]002'!B:M,11,0)","v":"-"},{"$f":"VLOOKUP(B325,'[1]002'!B:M,12,0)","v":"-"},{"$f":"VLOOKUP(B325,[2]sheet2!B:L,10,0)","v":"-"},{"$f":"VLOOKUP(B325,[2]sheet2!B:L,11,0)","v":"-"},"http://183.62.54.51:8841/data/files/certificate/000000000439/3c1eaa446a074660b67bd7c40a4cb67c/signed/323_毛细_二等奖_6210.pdf"]
[324,"P305119091413","学写留言条","小学组","微课","二等奖","茂名市",{"$f":"VLOOKUP(B326,'[1]002'!B:M,7,0)","v":"何珊"},{"$f":"VLOOKUP(B326,'[1]002'!B:M,8,0)","v":"信宜市第六小学"},{"$f":"VLOOKUP(B326,'[1]002'!B:M,11,0)","v":"-"},{"$f":"VLOOKUP(B326,'[1]002'!B:M,12,0)","v":"-"},{"$f":"VLOOKUP(B326,[2]sheet2!B:L,10,0)","v":"-"},{"$f":"VLOOKUP(B326,[2]sheet2!B:L,11,0)","v":"-"},"http://183.62.54.51:8841/data/files/certificate/000000000439/a9edc67890314fbd9c70dfc3b2348a73/signed/324_何珊_二等奖_6211.pdf"]
[325,"P305119091539","变幻的画面","小学组","微课","二等奖","茂名市",{"$f":"VLOOKUP(B327,'[1]002'!B:M,7,0)","v":"黄彦欣"},{"$f":"VLOOKUP(B327,'[1]002'!B:M,8,0)","v":"茂名市华英外国语学校"},{"$f":"VLOOKUP(B327,'[1]002'!B:M,11,0)","v":"-"},{"$f":"VLOOKUP(B327,'[1]002'!B:M,12,0)","v":"-"},{"$f":"VLOOKUP(B327,[2]sheet2!B:L,10,0)","v":"-"},{"$f":"VLOOKUP(B327,[2]sheet2!B:L,11,0)","v":"-"},"http://183.62.54.51:8841/data/files/certificate/000000000439/9c61e7f08dcb4b6e894086c386fe82ff/signed/325_黄彦欣_二等奖_6212.pdf"]
[326,"P305119091309","turn left，turn right和go straight on词组意义教学","小学组","微课","二等奖","茂名市",{"$f":"VLOOKUP(B328,'[1]002'!B:M,7,0)","v":"吴东瑜"},{"$f":"VLOOKUP(B328,'[1]002'!B:M,8,0)","v":"茂名市电白区岭门镇中心小学"},{"$f":"VLOOKUP(B328,'[1]002'!B:M,11,0)","v":"-"},{"$f":"VLOOKUP(B328,'[1]002'!B:M,12,0)","v":"-"},{"$f":"VLOOKUP(B328,[2]sheet2!B:L,10,0)","v":"-"},{"$f":"VLOOKUP(B328,[2]sheet2!B:L,11,0)","v":"-"},"http://183.62.54.51:8841/data/files/certificate/000000000439/e3d0aea5686645f5adcfcdae5a7322a6/signed/326_吴东瑜_二等奖_6213.pdf"]
[327,"P305119091313","微课What colour is it","小学组","微课","二等奖","茂名市",{"$f":"VLOOKUP(B329,'[1]002'!B:M,7,0)","v":"余润华"},{"$f":"VLOOKUP(B329,'[1]002'!B:M,8,0)","v":"化州市第三小学"},{"$f":"VLOOKUP(B329,'[1]002'!B:M,11,0)","v":"-"},{"$f":"VLOOKUP(B329,'[1]002'!B:M,12,0)","v":"-"},{"$f":"VLOOKUP(B329,[2]sheet2!B:L,10,0)","v":"-"},{"$f":"VLOOKUP(B329,[2]sheet2!B:L,11,0)","v":"-"},"http://183.62.54.51:8841/data/files/certificate/000000000439/3150507d80fc46f89e8d9d41bdc2f706/signed/327_余润华_二等奖_6214.pdf"]
[328,"P305119091384","巧用过渡","小学组","微课","二等奖","茂名市",{"$f":"VLOOKUP(B330,'[1]002'!B:M,7,0)","v":"黄奇诗"},{"$f":"VLOOKUP(B330,'[1]002'!B:M,8,0)","v":"茂名市方兴小学"},{"$f":"VLOOKUP(B330,'[1]002'!B:M,11,0)","v":"-"},{"$f":"VLOOKUP(B330,'[1]002'!B:M,12,0)","v":"-"},{"$f":"VLOOKUP(B330,[2]sheet2!B:L,10,0)","v":"-"},{"$f":"VLOOKUP(B330,[2]sheet2!B:L,11,0)","v":"-"},"http://183.62.54.51:8841/data/files/certificate/000000000439/cd02f9fc1fff4a55bc33b8bd4d252f39/signed/328_黄奇诗_二等奖_6215.pdf"]
[329,"P305119091317","珍珠鸟","小学组","微课","二等奖","茂名市",{"$f":"VLOOKUP(B331,'[1]002'!B:M,7,0)","v":"吴良梅"},{"$f":"VLOOKUP(B331,'[1]002'!B:M,8,0)","v":"高州市文明路小学"},{"$f":"VLOOKUP(B331,'[1]002'!B:M,11,0)","v":"-"},{"$f":"VLOOKUP(B331,'[1]002'!B:M,12,0)","v":"-"},{"$f":"VLOOKUP(B331,[2]sheet2!B:L,10,0)","v":"-"},{"$f":"VLOOKUP(B331,[2]sheet2!B:L,11,0)","v":"-"},"http://183.62.54.51:8841/data/files/certificate/000000000439/f0bc3ca9474349faa73948684eb08f2e/signed/329_吴良梅_二等奖_6216.pdf"]
[330,"P305119091418","Numbers","小学组","微课","二等奖","茂名市",{"$f":"VLOOKUP(B332,'[1]002'!B:M,7,0)","v":"李春美"},{"$f":"VLOOKUP(B332,'[1]002'!B:M,8,0)","v":"化州市第一小学"},{"$f":"VLOOKUP(B332,'[1]002'!B:M,11,0)","v":"-"},{"$f":"VLOOKUP(B332,'[1]002'!B:M,12,0)","v":"-"},{"$f":"VLOOKUP(B332,[2]sheet2!B:L,10,0)","v":"-"},{"$f":"VLOOKUP(B332,[2]sheet2!B:L,11,0)","v":"-"},"http://183.62.54.51:8841/data/files/certificate/000000000439/b66d103b94554a778a9b51dc96689600/signed/330_李春美_二等奖_6217.pdf"]
[331,"P305119091382","神态描写有妙招","小学组","微课","二等奖","茂名市",{"$f":"VLOOKUP(B333,'[1]002'!B:M,7,0)","v":"裴凤"},{"$f":"VLOOKUP(B333,'[1]002'!B:M,8,0)","v":"高州市第二小学"},{"$f":"VLOOKUP(B333,'[1]002'!B:M,11,0)","v":"-"},{"$f":"VLOOKUP(B333,'[1]002'!B:M,12,0)","v":"-"},{"$f":"VLOOKUP(B333,[2]sheet2!B:L,10,0)","v":"-"},{"$f":"VLOOKUP(B333,[2]sheet2!B:L,11,0)","v":"-"},"http://183.62.54.51:8841/data/files/certificate/000000000439/6fc63ca984014a97b1c1766b7babb43a/signed/331_裴凤_二等奖_6218.pdf"]
[332,"P305119091383","奇妙的歇后语","小学组","微课","二等奖","茂名市",{"$f":"VLOOKUP(B334,'[1]002'!B:M,7,0)","v":"彭秋琪"},{"$f":"VLOOKUP(B334,'[1]002'!B:M,8,0)","v":"茂名市文东街小学"},{"$f":"VLOOKUP(B334,'[1]002'!B:M,11,0)","v":"-"},{"$f":"VLOOKUP(B334,'[1]002'!B:M,12,0)","v":"-"},{"$f":"VLOOKUP(B334,[2]sheet2!B:L,10,0)","v":"-"},{"$f":"VLOOKUP(B334,[2]sheet2!B:L,11,0)","v":"-"},"http://183.62.54.51:8841/data/files/certificate/000000000439/e4a1c2cd395548abbb0bd842e5655de0/signed/332_彭秋琪_二等奖_6219.pdf"]
[333,"P305119091336","介绍一种动物","小学组","微课","二等奖","茂名市",{"$f":"VLOOKUP(B335,'[1]002'!B:M,7,0)","v":"邓颜"},{"$f":"VLOOKUP(B335,'[1]002'!B:M,8,0)","v":"茂名市光华小学"},{"$f":"VLOOKUP(B335,'[1]002'!B:M,11,0)","v":"-"},{"$f":"VLOOKUP(B335,'[1]002'!B:M,12,0)","v":"-"},{"$f":"VLOOKUP(B335,[2]sheet2!B:L,10,0)","v":"-"},{"$f":"VLOOKUP(B335,[2]sheet2!B:L,11,0)","v":"-"},"http://183.62.54.51:8841/data/files/certificate/000000000439/727bbbac00a34ddea2b61ffc0160a7aa/signed/333_邓颜_二等奖_6220.pdf"]
[334,"P305119091306","快速学会书信的格式","小学组","微课","二等奖","茂名市",{"$f":"VLOOKUP(B336,'[1]002'!B:M,7,0)","v":"李德业"},{"$f":"VLOOKUP(B336,'[1]002'!B:M,8,0)","v":"信宜市第三小学"},{"$f":"VLOOKUP(B336,'[1]002'!B:M,11,0)","v":"-"},{"$f":"VLOOKUP(B336,'[1]002'!B:M,12,0)","v":"-"},{"$f":"VLOOKUP(B336,[2]sheet2!B:L,10,0)","v":"-"},{"$f":"VLOOKUP(B336,[2]sheet2!B:L,11,0)","v":"-"},"http://183.62.54.51:8841/data/files/certificate/000000000439/37be79443ca142aeadf014e46e1445be/signed/334_李德业_二等奖_6221.pdf"]
[335,"P305119091414","买铅笔","小学组","微课","二等奖","茂名市",{"$f":"VLOOKUP(B337,'[1]002'!B:M,7,0)","v":"巢金花"},{"$f":"VLOOKUP(B337,'[1]002'!B:M,8,0)","v":"茂名市福华小学"},{"$f":"VLOOKUP(B337,'[1]002'!B:M,11,0)","v":"-"},{"$f":"VLOOKUP(B337,'[1]002'!B:M,12,0)","v":"-"},{"$f":"VLOOKUP(B337,[2]sheet2!B:L,10,0)","v":"-"},{"$f":"VLOOKUP(B337,[2]sheet2!B:L,11,0)","v":"-"},"http://183.62.54.51:8841/data/files/certificate/000000000439/62866eccb4d54ab9bb4534821fba4c29/signed/335_巢金花_二等奖_6222.pdf"]
[336,"P305119091196","小瓢虫找妈妈","小学组","微课","二等奖","肇庆市",{"$f":"VLOOKUP(B338,'[1]002'!B:M,7,0)","v":"林闯建"},{"$f":"VLOOKUP(B338,'[1]002'!B:M,8,0)","v":"鼎湖区桂城街道办事处桂城中心小学"},{"$f":"VLOOKUP(B338,'[1]002'!B:M,11,0)","v":"-"},{"$f":"VLOOKUP(B338,'[1]002'!B:M,12,0)","v":"-"},{"$f":"VLOOKUP(B338,[2]sheet2!B:L,10,0)","v":"-"},{"$f":"VLOOKUP(B338,[2]sheet2!B:L,11,0)","v":"-"},"http://183.62.54.51:8841/data/files/certificate/000000000439/920cbde3939e49a99ff2ce164577a954/signed/336_林闯建_二等奖_6223.pdf"]
[337,"P305119089855","角的初步认识","小学组","微课","二等奖","肇庆市",{"$f":"VLOOKUP(B339,'[1]002'!B:M,7,0)","v":"刘宇婷"},{"$f":"VLOOKUP(B339,'[1]002'!B:M,8,0)","v":"肇庆高新技术产业开发区育慧学校"},{"$f":"VLOOKUP(B339,'[1]002'!B:M,11,0)","v":"-"},{"$f":"VLOOKUP(B339,'[1]002'!B:M,12,0)","v":"-"},{"$f":"VLOOKUP(B339,[2]sheet2!B:L,10,0)","v":"-"},{"$f":"VLOOKUP(B339,[2]sheet2!B:L,11,0)","v":"-"},"http://183.62.54.51:8841/data/files/certificate/000000000439/b5029895c1ea4bd6a02e9a5b3a919f5c/signed/337_刘宇婷_二等奖_6224.pdf"]
[338,"P305119091637","揠苗助长","小学组","微课","二等奖","清远市",{"$f":"VLOOKUP(B340,'[1]002'!B:M,7,0)","v":"范兰英"},{"$f":"VLOOKUP(B340,'[1]002'!B:M,8,0)","v":"佛冈县第三小学"},{"$f":"VLOOKUP(B340,'[1]002'!B:M,11,0)","v":"-"},{"$f":"VLOOKUP(B340,'[1]002'!B:M,12,0)","v":"-"},{"$f":"VLOOKUP(B340,[2]sheet2!B:L,10,0)","v":"-"},{"$f":"VLOOKUP(B340,[2]sheet2!B:L,11,0)","v":"-"},"http://183.62.54.51:8841/data/files/certificate/000000000439/5c0bb3ac05524037ab8e584b38702a27/signed/338_范兰英_二等奖_6225.pdf"]
[339,"P305119091631","认识整时","小学组","微课","二等奖","清远市",{"$f":"VLOOKUP(B341,'[1]002'!B:M,7,0)","v":"邝惠冰"},{"$f":"VLOOKUP(B341,'[1]002'!B:M,8,0)","v":"清远市师范学校附属小学"},{"$f":"VLOOKUP(B341,'[1]002'!B:M,11,0)","v":"-"},{"$f":"VLOOKUP(B341,'[1]002'!B:M,12,0)","v":"-"},{"$f":"VLOOKUP(B341,[2]sheet2!B:L,10,0)","v":"-"},{"$f":"VLOOKUP(B341,[2]sheet2!B:L,11,0)","v":"-"},"http://183.62.54.51:8841/data/files/certificate/000000000439/e1c4457934f041a58f21a61b83280514/signed/339_邝惠冰_二等奖_6226.pdf"]
[340,"P305119086342","大嘴巴狮子王","小学组","微课","二等奖","潮州市",{"$f":"VLOOKUP(B342,'[1]002'!B:M,7,0)","v":"蔡秋铧"},{"$f":"VLOOKUP(B342,'[1]002'!B:M,8,0)","v":"湘桥区兴华学校"},{"$f":"VLOOKUP(B342,'[1]002'!B:M,11,0)","v":"-"},{"$f":"VLOOKUP(B342,'[1]002'!B:M,12,0)","v":"-"},{"$f":"VLOOKUP(B342,[2]sheet2!B:L,10,0)","v":"-"},{"$f":"VLOOKUP(B342,[2]sheet2!B:L,11,0)","v":"-"},"http://183.62.54.51:8841/data/files/certificate/000000000439/b06b27b531134778aba8e3b68c0f47a3/signed/340_蔡秋铧_二等奖_6227.pdf"]
[341,"P305119087341","三位数乘两位数","小学组","微课","二等奖","潮州市",{"$f":"VLOOKUP(B343,'[1]002'!B:M,7,0)","v":"李楚玲"},{"$f":"VLOOKUP(B343,'[1]002'!B:M,8,0)","v":"湘桥区兴华学校"},{"$f":"VLOOKUP(B343,'[1]002'!B:M,11,0)","v":"-"},{"$f":"VLOOKUP(B343,'[1]002'!B:M,12,0)","v":"-"},{"$f":"VLOOKUP(B343,[2]sheet2!B:L,10,0)","v":"-"},{"$f":"VLOOKUP(B343,[2]sheet2!B:L,11,0)","v":"-"},"http://183.62.54.51:8841/data/files/certificate/000000000439/96f0a1a453334512a659d622e071304a/signed/341_李楚玲_二等奖_6228.pdf"]
[342,"P305119079685","曲线工具装扮美丽的花园","小学组","微课","二等奖","潮州市",{"$f":"VLOOKUP(B344,'[1]002'!B:M,7,0)","v":"钟泽鹏"},{"$f":"VLOOKUP(B344,'[1]002'!B:M,8,0)","v":"湘桥区兴华学校"},{"$f":"VLOOKUP(B344,'[1]002'!B:M,11,0)","v":"-"},{"$f":"VLOOKUP(B344,'[1]002'!B:M,12,0)","v":"-"},{"$f":"VLOOKUP(B344,[2]sheet2!B:L,10,0)","v":"-"},{"$f":"VLOOKUP(B344,[2]sheet2!B:L,11,0)","v":"-"},"http://183.62.54.51:8841/data/files/certificate/000000000439/496b19b88d454ceb9d5ebceddb17cc94/signed/342_钟泽鹏_二等奖_6229.pdf"]
[343,"P305119080363","圆的面积","小学组","微课","二等奖","潮州市",{"$f":"VLOOKUP(B345,'[1]002'!B:M,7,0)","v":"郑兰君"},{"$f":"VLOOKUP(B345,'[1]002'!B:M,8,0)","v":"东凤镇仙桥小学"},{"$f":"VLOOKUP(B345,'[1]002'!B:M,11,0)","v":"-"},{"$f":"VLOOKUP(B345,'[1]002'!B:M,12,0)","v":"-"},{"$f":"VLOOKUP(B345,[2]sheet2!B:L,10,0)","v":"-"},{"$f":"VLOOKUP(B345,[2]sheet2!B:L,11,0)","v":"-"},"http://183.62.54.51:8841/data/files/certificate/000000000439/e380229aeb6f4805a10229d68c633840/signed/343_郑兰君_二等奖_6230.pdf"]
[344,"P305119079468","小海龟画图之右转左转命令","小学组","微课","二等奖","潮州市",{"$f":"VLOOKUP(B346,'[1]002'!B:M,7,0)","v":"吕蕾丹"},{"$f":"VLOOKUP(B346,'[1]002'!B:M,8,0)","v":"潮州市实验学校"},{"$f":"VLOOKUP(B346,'[1]002'!B:M,11,0)","v":"-"},{"$f":"VLOOKUP(B346,'[1]002'!B:M,12,0)","v":"-"},{"$f":"VLOOKUP(B346,[2]sheet2!B:L,10,0)","v":"-"},{"$f":"VLOOKUP(B346,[2]sheet2!B:L,11,0)","v":"-"},"http://183.62.54.51:8841/data/files/certificate/000000000439/dda46ecdaea444d78aeac241ada1cad1/signed/344_吕蕾丹_二等奖_6231.pdf"]
[345,"P305119079179","圆锥的体积","小学组","微课","二等奖","潮州市",{"$f":"VLOOKUP(B347,'[1]002'!B:M,7,0)","v":"陈春娜"},{"$f":"VLOOKUP(B347,'[1]002'!B:M,8,0)","v":"登塘镇白水小学"},{"$f":"VLOOKUP(B347,'[1]002'!B:M,11,0)","v":"-"},{"$f":"VLOOKUP(B347,'[1]002'!B:M,12,0)","v":"-"},{"$f":"VLOOKUP(B347,[2]sheet2!B:L,10,0)","v":"-"},{"$f":"VLOOKUP(B347,[2]sheet2!B:L,11,0)","v":"-"},"http://183.62.54.51:8841/data/files/certificate/000000000439/5c7419f850de4f9286effa37d2111e63/signed/345_陈春娜_二等奖_6232.pdf"]
[346,"P305119079044","了解自己的情绪","小学组","微课","二等奖","潮州市",{"$f":"VLOOKUP(B348,'[1]002'!B:M,7,0)","v":"谢晓燕"},{"$f":"VLOOKUP(B348,'[1]002'!B:M,8,0)","v":"潮州市实验学校"},{"$f":"VLOOKUP(B348,'[1]002'!B:M,11,0)","v":"-"},{"$f":"VLOOKUP(B348,'[1]002'!B:M,12,0)","v":"-"},{"$f":"VLOOKUP(B348,[2]sheet2!B:L,10,0)","v":"-"},{"$f":"VLOOKUP(B348,[2]sheet2!B:L,11,0)","v":"-"},"http://183.62.54.51:8841/data/files/certificate/000000000439/c7a41ea171214fc286826060a29823fc/signed/346_谢晓燕_二等奖_6233.pdf"]
[347,"P305119079997","格子乘法","小学组","微课","二等奖","潮州市",{"$f":"VLOOKUP(B349,'[1]002'!B:M,7,0)","v":"郑玉燕"},{"$f":"VLOOKUP(B349,'[1]002'!B:M,8,0)","v":"潮州市枫溪区枫溪小学"},{"$f":"VLOOKUP(B349,'[1]002'!B:M,11,0)","v":"-"},{"$f":"VLOOKUP(B349,'[1]002'!B:M,12,0)","v":"-"},{"$f":"VLOOKUP(B349,[2]sheet2!B:L,10,0)","v":"-"},{"$f":"VLOOKUP(B349,[2]sheet2!B:L,11,0)","v":"-"},"http://183.62.54.51:8841/data/files/certificate/000000000439/e8b5d9664fc04ee292b2a84ed57a35d9/signed/347_郑玉燕_二等奖_6234.pdf"]
[348,"P305119079471","租船问题","小学组","微课","二等奖","潮州市",{"$f":"VLOOKUP(B350,'[1]002'!B:M,7,0)","v":"吴玉琼"},{"$f":"VLOOKUP(B350,'[1]002'!B:M,8,0)","v":"潮州市湘桥区厦寺小学"},{"$f":"VLOOKUP(B350,'[1]002'!B:M,11,0)","v":"-"},{"$f":"VLOOKUP(B350,'[1]002'!B:M,12,0)","v":"-"},{"$f":"VLOOKUP(B350,[2]sheet2!B:L,10,0)","v":"-"},{"$f":"VLOOKUP(B350,[2]sheet2!B:L,11,0)","v":"-"},"http://183.62.54.51:8841/data/files/certificate/000000000439/3ad6584f6faf4b51a8cbcb41b6cfcc80/signed/348_吴玉琼_二等奖_6235.pdf"]
[349,"P305119086877","晓出净慈寺送林子方","小学组","微课","二等奖","云浮市",{"$f":"VLOOKUP(B351,'[1]002'!B:M,7,0)","v":"洪晓敏"},{"$f":"VLOOKUP(B351,'[1]002'!B:M,8,0)","v":"新兴县惠能小学"},{"$f":"VLOOKUP(B351,'[1]002'!B:M,11,0)","v":"-"},{"$f":"VLOOKUP(B351,'[1]002'!B:M,12,0)","v":"-"},{"$f":"VLOOKUP(B351,[2]sheet2!B:L,10,0)","v":"-"},{"$f":"VLOOKUP(B351,[2]sheet2!B:L,11,0)","v":"-"},"http://183.62.54.51:8841/data/files/certificate/000000000439/17daecbf71044040a44998e2b5b7dcd8/signed/349_洪晓敏_二等奖_6236.pdf"]
[350,"P305119086616","微课认识轴对称图形梁思婷","小学组","微课","二等奖","云浮市",{"$f":"VLOOKUP(B352,'[1]002'!B:M,7,0)","v":"梁思婷"},{"$f":"VLOOKUP(B352,'[1]002'!B:M,8,0)","v":"新兴县惠能小学"},{"$f":"VLOOKUP(B352,'[1]002'!B:M,11,0)","v":"-"},{"$f":"VLOOKUP(B352,'[1]002'!B:M,12,0)","v":"-"},{"$f":"VLOOKUP(B352,[2]sheet2!B:L,10,0)","v":"-"},{"$f":"VLOOKUP(B352,[2]sheet2!B:L,11,0)","v":"-"},"http://183.62.54.51:8841/data/files/certificate/000000000439/fec9eb48c95249358be0fef9636f5c86/signed/350_梁思婷_二等奖_6237.pdf"]
[351,"P305119088254","美化调查图表","小学组","微课","二等奖","云浮市",{"$f":"VLOOKUP(B353,'[1]002'!B:M,7,0)","v":"陈智慧"},{"$f":"VLOOKUP(B353,'[1]002'!B:M,8,0)","v":"云浮市云城区河口香港海员希望小学"},{"$f":"VLOOKUP(B353,'[1]002'!B:M,11,0)","v":"-"},{"$f":"VLOOKUP(B353,'[1]002'!B:M,12,0)","v":"-"},{"$f":"VLOOKUP(B353,[2]sheet2!B:L,10,0)","v":"-"},{"$f":"VLOOKUP(B353,[2]sheet2!B:L,11,0)","v":"-"},"http://183.62.54.51:8841/data/files/certificate/000000000439/29257024cce44cd2974c8b1db227e252/signed/351_陈智慧_二等奖_6238.pdf"]
[352,"P305119086860","正摇双脚跳绳","小学组","微课","二等奖","云浮市",{"$f":"VLOOKUP(B354,'[1]002'!B:M,7,0)","v":"陈栎多"},{"$f":"VLOOKUP(B354,'[1]002'!B:M,8,0)","v":"新兴县惠能小学"},{"$f":"VLOOKUP(B354,'[1]002'!B:M,11,0)","v":"-"},{"$f":"VLOOKUP(B354,'[1]002'!B:M,12,0)","v":"-"},{"$f":"VLOOKUP(B354,[2]sheet2!B:L,10,0)","v":"-"},{"$f":"VLOOKUP(B354,[2]sheet2!B:L,11,0)","v":"-"},"http://183.62.54.51:8841/data/files/certificate/000000000439/fb6cbad9d5614f1ca570d676b2962131/signed/352_陈栎多_二等奖_6239.pdf"]
[353,"P305119079877","拟人句","小学组","微课","二等奖","云浮市",{"$f":"VLOOKUP(B355,'[1]002'!B:M,7,0)","v":"伍绿意"},{"$f":"VLOOKUP(B355,'[1]002'!B:M,8,0)","v":"新兴县六祖镇中心小学"},{"$f":"VLOOKUP(B355,'[1]002'!B:M,11,0)","v":"-"},{"$f":"VLOOKUP(B355,'[1]002'!B:M,12,0)","v":"-"},{"$f":"VLOOKUP(B355,[2]sheet2!B:L,10,0)","v":"-"},{"$f":"VLOOKUP(B355,[2]sheet2!B:L,11,0)","v":"-"},"http://183.62.54.51:8841/data/files/certificate/000000000439/e6158ceae6ba4a029ecdfed45e86078a/signed/353_伍绿意_二等奖_6240.pdf"]
[354,"P307119093171","科技改变生活STEM创客教育案例","小学组","信息技术创新教学案例","二等奖","广州市",{"$f":"VLOOKUP(B356,'[1]002'!B:M,7,0)","v":"严佩宜"},{"$f":"VLOOKUP(B356,'[1]002'!B:M,8,0)","v":"广州市越秀区署前路小学"},{"$f":"VLOOKUP(B356,'[1]002'!B:M,11,0)","v":"张璐"},{"$f":"VLOOKUP(B356,'[1]002'!B:M,12,0)","v":"广州市越秀区净慧体校"},{"$f":"VLOOKUP(B356,[2]sheet2!B:L,10,0)","v":"-"},{"$f":"VLOOKUP(B356,[2]sheet2!B:L,11,0)","v":"-"},"http://183.62.54.51:8841/data/files/certificate/000000000439/8797a9aa84da4808878800c34597d3e5/signed/354_严佩宜、张璐_二等奖_6241.pdf"]
[355,"P307119093170","揠苗助长","小学组","信息技术创新教学案例","二等奖","广州市",{"$f":"VLOOKUP(B357,'[1]002'!B:M,7,0)","v":"刘芳"},{"$f":"VLOOKUP(B357,'[1]002'!B:M,8,0)","v":"广州市荔湾区芦荻西小学"},{"$f":"VLOOKUP(B357,'[1]002'!B:M,11,0)","v":"刘佩斯"},{"$f":"VLOOKUP(B357,'[1]002'!B:M,12,0)","v":"广州市荔湾区芦荻西小学"},{"$f":"VLOOKUP(B357,[2]sheet2!B:L,10,0)","v":"杨洁莹"},{"$f":"VLOOKUP(B357,[2]sheet2!B:L,11,0)","v":"广州市荔湾区芦荻西小学"},"http://183.62.54.51:8841/data/files/certificate/000000000439/9273ba06c6f94967978c6ad228789abd/signed/355_刘芳、刘佩斯、杨洁莹_二等奖_6242.pdf"]
[356,"P307119093169","胡萝卜先生的长胡子","小学组","信息技术创新教学案例","二等奖","广州市",{"$f":"VLOOKUP(B358,'[1]002'!B:M,7,0)","v":"曾筱洵"},{"$f":"VLOOKUP(B358,'[1]002'!B:M,8,0)","v":"广州市番禺区石碁镇中心小学"},{"$f":"VLOOKUP(B358,'[1]002'!B:M,11,0)","v":"-"},{"$f":"VLOOKUP(B358,'[1]002'!B:M,12,0)","v":"-"},{"$f":"VLOOKUP(B358,[2]sheet2!B:L,10,0)","v":"-"},{"$f":"VLOOKUP(B358,[2]sheet2!B:L,11,0)","v":"-"},"http://183.62.54.51:8841/data/files/certificate/000000000439/4692375567fe49bdaac029327aec2e14/signed/356_曾筱洵_二等奖_6243.pdf"]
[357,"P307119092668","设计红绿灯","小学组","信息技术创新教学案例","二等奖","深圳市",{"$f":"VLOOKUP(B359,'[1]002'!B:M,7,0)","v":"张敏娜"},{"$f":"VLOOKUP(B359,'[1]002'!B:M,8,0)","v":"深圳市锦田小学"},{"$f":"VLOOKUP(B359,'[1]002'!B:M,11,0)","v":"韦璐琪"},{"$f":"VLOOKUP(B359,'[1]002'!B:M,12,0)","v":"深圳市锦田小学"},{"$f":"VLOOKUP(B359,[2]sheet2!B:L,10,0)","v":"-"},{"$f":"VLOOKUP(B359,[2]sheet2!B:L,11,0)","v":"-"},"http://183.62.54.51:8841/data/files/certificate/000000000439/10092ae5dd274cafb1e5a899a9a95882/signed/357_张敏娜、韦璐琪_二等奖_6244.pdf"]
[358,"P307119092670","比例尺","小学组","信息技术创新教学案例","二等奖","深圳市",{"$f":"VLOOKUP(B360,'[1]002'!B:M,7,0)","v":"汪效莹"},{"$f":"VLOOKUP(B360,'[1]002'!B:M,8,0)","v":"深圳市蛇口育才教育集团育才四小"},{"$f":"VLOOKUP(B360,'[1]002'!B:M,11,0)","v":"-"},{"$f":"VLOOKUP(B360,'[1]002'!B:M,12,0)","v":"-"},{"$f":"VLOOKUP(B360,[2]sheet2!B:L,10,0)","v":"-"},{"$f":"VLOOKUP(B360,[2]sheet2!B:L,11,0)","v":"-"},"http://183.62.54.51:8841/data/files/certificate/000000000439/e11755d785e54b259b4e71bb3fddd0cf/signed/358_汪效莹_二等奖_6245.pdf"]
[359,"P307119090438","创意小风扇，幸福转呀转！","小学组","信息技术创新教学案例","二等奖","珠海市",{"$f":"VLOOKUP(B361,'[1]002'!B:M,7,0)","v":"翁玉婵"},{"$f":"VLOOKUP(B361,'[1]002'!B:M,8,0)","v":"珠海市金湾区第一小学"},{"$f":"VLOOKUP(B361,'[1]002'!B:M,11,0)","v":"-"},{"$f":"VLOOKUP(B361,'[1]002'!B:M,12,0)","v":"-"},{"$f":"VLOOKUP(B361,[2]sheet2!B:L,10,0)","v":"-"},{"$f":"VLOOKUP(B361,[2]sheet2!B:L,11,0)","v":"-"},"http://183.62.54.51:8841/data/files/certificate/000000000439/634928f9488f4555856722c56f5fa41f/signed/359_翁玉婵_二等奖_6246.pdf"]
[360,"P307119090713","昼夜的交替","小学组","信息技术创新教学案例","二等奖","佛山市",{"$f":"VLOOKUP(B362,'[1]002'!B:M,7,0)","v":"欧昭旋"},{"$f":"VLOOKUP(B362,'[1]002'!B:M,8,0)","v":"佛山市顺德区均安中心小学"},{"$f":"VLOOKUP(B362,'[1]002'!B:M,11,0)","v":"-"},{"$f":"VLOOKUP(B362,'[1]002'!B:M,12,0)","v":"-"},{"$f":"VLOOKUP(B362,[2]sheet2!B:L,10,0)","v":"-"},{"$f":"VLOOKUP(B362,[2]sheet2!B:L,11,0)","v":"-"},"http://183.62.54.51:8841/data/files/certificate/000000000439/979814938c1e43d09e0c2b96a5244edc/signed/360_欧昭旋_二等奖_6247.pdf"]
[361,"P307119090710","养花","小学组","信息技术创新教学案例","二等奖","佛山市",{"$f":"VLOOKUP(B363,'[1]002'!B:M,7,0)","v":"曾雯"},{"$f":"VLOOKUP(B363,'[1]002'!B:M,8,0)","v":"佛山市顺德区北滘中心小学"},{"$f":"VLOOKUP(B363,'[1]002'!B:M,11,0)","v":"-"},{"$f":"VLOOKUP(B363,'[1]002'!B:M,12,0)","v":"-"},{"$f":"VLOOKUP(B363,[2]sheet2!B:L,10,0)","v":"-"},{"$f":"VLOOKUP(B363,[2]sheet2!B:L,11,0)","v":"-"},"http://183.62.54.51:8841/data/files/certificate/000000000439/fab0a7b87db442f8a34eb0af05bcd2ad/signed/361_曾雯_二等奖_6248.pdf"]
[362,"P307119090721","躲避鲨鱼","小学组","信息技术创新教学案例","二等奖","佛山市",{"$f":"VLOOKUP(B364,'[1]002'!B:M,7,0)","v":"程惠蓝"},{"$f":"VLOOKUP(B364,'[1]002'!B:M,8,0)","v":"佛山市三水区实验小学"},{"$f":"VLOOKUP(B364,'[1]002'!B:M,11,0)","v":"-"},{"$f":"VLOOKUP(B364,'[1]002'!B:M,12,0)","v":"-"},{"$f":"VLOOKUP(B364,[2]sheet2!B:L,10,0)","v":"-"},{"$f":"VLOOKUP(B364,[2]sheet2!B:L,11,0)","v":"-"},"http://183.62.54.51:8841/data/files/certificate/000000000439/4bce8267d7204796a7dc2f894e6f859e/signed/362_程惠蓝_二等奖_6249.pdf"]
[363,"P307119090715","趣玩随机数","小学组","信息技术创新教学案例","二等奖","佛山市",{"$f":"VLOOKUP(B365,'[1]002'!B:M,7,0)","v":"黄景华"},{"$f":"VLOOKUP(B365,'[1]002'!B:M,8,0)","v":"佛山市顺德区北滘镇承德小学"},{"$f":"VLOOKUP(B365,'[1]002'!B:M,11,0)","v":"苏明涛"},{"$f":"VLOOKUP(B365,'[1]002'!B:M,12,0)","v":"佛山市顺德区北滘镇承德小学"},{"$f":"VLOOKUP(B365,[2]sheet2!B:L,10,0)","v":"谌永锋"},{"$f":"VLOOKUP(B365,[2]sheet2!B:L,11,0)","v":"佛山市顺德区北滘镇承德小学"},"http://183.62.54.51:8841/data/files/certificate/000000000439/f20d850a08ce414fb55201443edc35ef/signed/363_黄景华、苏明涛、谌永锋_二等奖_6250.pdf"]
[364,"P307119090712","包装的学问","小学组","信息技术创新教学案例","二等奖","佛山市",{"$f":"VLOOKUP(B366,'[1]002'!B:M,7,0)","v":"苏凤轩"},{"$f":"VLOOKUP(B366,'[1]002'!B:M,8,0)","v":"佛山市顺德区北滘中心小学"},{"$f":"VLOOKUP(B366,'[1]002'!B:M,11,0)","v":"-"},{"$f":"VLOOKUP(B366,'[1]002'!B:M,12,0)","v":"-"},{"$f":"VLOOKUP(B366,[2]sheet2!B:L,10,0)","v":"-"},{"$f":"VLOOKUP(B366,[2]sheet2!B:L,11,0)","v":"-"},"http://183.62.54.51:8841/data/files/certificate/000000000439/819b700b6c8346ceb8803f09b2eda2cb/signed/364_苏凤轩_二等奖_6251.pdf"]
[365,"P307119090703","小学英语综合课VisitingtheFarm","小学组","信息技术创新教学案例","二等奖","佛山市",{"$f":"VLOOKUP(B367,'[1]002'!B:M,7,0)","v":"何芝阌"},{"$f":"VLOOKUP(B367,'[1]002'!B:M,8,0)","v":"佛山市南海区南海实验小学"},{"$f":"VLOOKUP(B367,'[1]002'!B:M,11,0)","v":"-"},{"$f":"VLOOKUP(B367,'[1]002'!B:M,12,0)","v":"-"},{"$f":"VLOOKUP(B367,[2]sheet2!B:L,10,0)","v":"-"},{"$f":"VLOOKUP(B367,[2]sheet2!B:L,11,0)","v":"-"},"http://183.62.54.51:8841/data/files/certificate/000000000439/e6ab834b1c15431a91b92f75cf7ba524/signed/365_何芝阌_二等奖_6252.pdf"]
[366,"P307119090718","接苹果","小学组","信息技术创新教学案例","二等奖","佛山市",{"$f":"VLOOKUP(B368,'[1]002'!B:M,7,0)","v":"薛冬梅"},{"$f":"VLOOKUP(B368,'[1]002'!B:M,8,0)","v":"佛山市顺德区北滘镇莘村小学"},{"$f":"VLOOKUP(B368,'[1]002'!B:M,11,0)","v":"-"},{"$f":"VLOOKUP(B368,'[1]002'!B:M,12,0)","v":"-"},{"$f":"VLOOKUP(B368,[2]sheet2!B:L,10,0)","v":"-"},{"$f":"VLOOKUP(B368,[2]sheet2!B:L,11,0)","v":"-"},"http://183.62.54.51:8841/data/files/certificate/000000000439/5b1a9d3aae9c41618c7741d29dd00599/signed/366_薛冬梅_二等奖_6253.pdf"]
[367,"P307119092822","让思维与信息技术无缝对接鸡兔同笼应用案例","小学组","信息技术创新教学案例","二等奖","东莞市",{"$f":"VLOOKUP(B369,'[1]002'!B:M,7,0)","v":"卢健坤"},{"$f":"VLOOKUP(B369,'[1]002'!B:M,8,0)","v":"东莞市莞城中心小学"},{"$f":"VLOOKUP(B369,'[1]002'!B:M,11,0)","v":"-"},{"$f":"VLOOKUP(B369,'[1]002'!B:M,12,0)","v":"-"},{"$f":"VLOOKUP(B369,[2]sheet2!B:L,10,0)","v":"-"},{"$f":"VLOOKUP(B369,[2]sheet2!B:L,11,0)","v":"-"},"http://183.62.54.51:8841/data/files/certificate/000000000439/01f85616673545feb4ee3b1bb483e8a2/signed/367_卢健坤_二等奖_6254.pdf"]
[368,"P307119088503","安全记心上——119的警示","小学组","信息技术创新教学案例","二等奖","中山市",{"$f":"VLOOKUP(B370,'[1]002'!B:M,7,0)","v":"朱晓玲"},{"$f":"VLOOKUP(B370,'[1]002'!B:M,8,0)","v":"中山市石岐中心小学"},{"$f":"VLOOKUP(B370,'[1]002'!B:M,11,0)","v":"董超"},{"$f":"VLOOKUP(B370,'[1]002'!B:M,12,0)","v":"中山市石岐中心小学"},{"$f":"VLOOKUP(B370,[2]sheet2!B:L,10,0)","v":"-"},{"$f":"VLOOKUP(B370,[2]sheet2!B:L,11,0)","v":"-"},"http://183.62.54.51:8841/data/files/certificate/000000000439/411a21748c0841baa291790037343fc5/signed/368_朱晓玲、董超_二等奖_6255.pdf"]
[369,"P307119089518","人工智能之智能遥控门","小学组","信息技术创新教学案例","二等奖","中山市",{"$f":"VLOOKUP(B371,'[1]002'!B:M,7,0)","v":"阮德怀"},{"$f":"VLOOKUP(B371,'[1]002'!B:M,8,0)","v":"中山市实验小学"},{"$f":"VLOOKUP(B371,'[1]002'!B:M,11,0)","v":"黄伟祥"},{"$f":"VLOOKUP(B371,'[1]002'!B:M,12,0)","v":"中山市实验小学"},{"$f":"VLOOKUP(B371,[2]sheet2!B:L,10,0)","v":"-"},{"$f":"VLOOKUP(B371,[2]sheet2!B:L,11,0)","v":"-"},"http://183.62.54.51:8841/data/files/certificate/000000000439/f7416b46a7f746af9583569b5c0b3195/signed/369_阮德怀、黄伟祥_二等奖_6256.pdf"]
[370,"P307119089412","Study Tour","小学组","信息技术创新教学案例","二等奖","中山市",{"$f":"VLOOKUP(B372,'[1]002'!B:M,7,0)","v":"张丽卿"},{"$f":"VLOOKUP(B372,'[1]002'!B:M,8,0)","v":"中山市石岐中心小学"},{"$f":"VLOOKUP(B372,'[1]002'!B:M,11,0)","v":"王盛"},{"$f":"VLOOKUP(B372,'[1]002'!B:M,12,0)","v":"中山市石岐中心小学"},{"$f":"VLOOKUP(B372,[2]sheet2!B:L,10,0)","v":"-"},{"$f":"VLOOKUP(B372,[2]sheet2!B:L,11,0)","v":"-"},"http://183.62.54.51:8841/data/files/certificate/000000000439/8732918418e042f09f08442fd456b4ca/signed/370_张丽卿、王盛_二等奖_6257.pdf"]
[371,"P304119091791","用编程猫敲开古诗词的大门","小学组","信息技术创新教学案例","二等奖","江门市",{"$f":"VLOOKUP(B373,'[1]002'!B:M,7,0)","v":"李德"},{"$f":"VLOOKUP(B373,'[1]002'!B:M,8,0)","v":"江门市蓬江区农林双朗小学"},{"$f":"VLOOKUP(B373,'[1]002'!B:M,11,0)","v":"梁建小"},{"$f":"VLOOKUP(B373,'[1]002'!B:M,12,0)","v":"江门市蓬江区农林双朗小学"},{"$f":"VLOOKUP(B373,[2]sheet2!B:L,10,0)","v":"郭婧清"},{"$f":"VLOOKUP(B373,[2]sheet2!B:L,11,0)","v":"江门市蓬江区农林双朗小学"},"http://183.62.54.51:8841/data/files/certificate/000000000439/3ef4ea2b8d1b4e9db78fec57dd55a4db/signed/371_李德、梁建小、郭婧清_二等奖_6258.pdf"]
[372,"P307119091352","基于专递课堂教学，实现资源共享案例 ——以一节作文课为例","小学组","信息技术创新教学案例","二等奖","茂名市",{"$f":"VLOOKUP(B374,'[1]002'!B:M,7,0)","v":"吴美玲"},{"$f":"VLOOKUP(B374,'[1]002'!B:M,8,0)","v":"信宜市田家炳小学"},{"$f":"VLOOKUP(B374,'[1]002'!B:M,11,0)","v":"刘林海"},{"$f":"VLOOKUP(B374,'[1]002'!B:M,12,0)","v":"信宜市第六小学"},{"$f":"VLOOKUP(B374,[2]sheet2!B:L,10,0)","v":"-"},{"$f":"VLOOKUP(B374,[2]sheet2!B:L,11,0)","v":"-"},"http://183.62.54.51:8841/data/files/certificate/000000000439/1407accbc5b8447e81ff017d9d4323b6/signed/372_吴美玲、刘林海_二等奖_6259.pdf"]
[373,"P301119093081","源远流长","小学组","教师网络空间应用案例","二等奖","广州市",{"$f":"VLOOKUP(B375,'[1]002'!B:M,7,0)","v":"唐鹏飞"},{"$f":"VLOOKUP(B375,'[1]002'!B:M,8,0)","v":"广州市白云区平沙培英学校"},{"$f":"VLOOKUP(B375,'[1]002'!B:M,11,0)","v":"谢妹"},{"$f":"VLOOKUP(B375,'[1]002'!B:M,12,0)","v":"广州市白云区平沙培英学校"},{"$f":"VLOOKUP(B375,[2]sheet2!B:L,10,0)","v":"黎颖瑶"},{"$f":"VLOOKUP(B375,[2]sheet2!B:L,11,0)","v":"广州市白云区平沙培英学校"},"http://183.62.54.51:8841/data/files/certificate/000000000439/45ae8af41ba94c4d9da2dbd94034207d/signed/373_唐鹏飞、谢妹、黎颖瑶_二等奖_6260.pdf"]
[374,"P301119092833","网络平台与微课助学小学数学计算教学新模式","小学组","教师网络空间应用案例","二等奖","东莞市",{"$f":"VLOOKUP(B376,'[1]002'!B:M,7,0)","v":"陈笑芳"},{"$f":"VLOOKUP(B376,'[1]002'!B:M,8,0)","v":"东莞市长安镇金沙小学"},{"$f":"VLOOKUP(B376,'[1]002'!B:M,11,0)","v":"秦静宜"},{"$f":"VLOOKUP(B376,'[1]002'!B:M,12,0)","v":"东莞市长安镇金沙小学"},{"$f":"VLOOKUP(B376,[2]sheet2!B:L,10,0)","v":"张智敏"},{"$f":"VLOOKUP(B376,[2]sheet2!B:L,11,0)","v":"东莞市长安镇金沙小学"},"http://183.62.54.51:8841/data/files/certificate/000000000439/cac53f86c76940b8acd1fbc0196c8296/signed/374_陈笑芳、秦静宜、张智敏_二等奖_6261.pdf"]
[375,"P301119092835","运用微课掌上通平台开展美术课外第二课堂","小学组","教师网络空间应用案例","二等奖","东莞市",{"$f":"VLOOKUP(B377,'[1]002'!B:M,7,0)","v":"方靖雯"},{"$f":"VLOOKUP(B377,'[1]002'!B:M,8,0)","v":"东莞市石碣实验小学"},{"$f":"VLOOKUP(B377,'[1]002'!B:M,11,0)","v":"-"},{"$f":"VLOOKUP(B377,'[1]002'!B:M,12,0)","v":"-"},{"$f":"VLOOKUP(B377,[2]sheet2!B:L,10,0)","v":"-"},{"$f":"VLOOKUP(B377,[2]sheet2!B:L,11,0)","v":"-"},"http://183.62.54.51:8841/data/files/certificate/000000000439/983faefa3ee94198abec964c6d0e8f91/signed/375_方靖雯_二等奖_6262.pdf"]
[376,"P301119089260","”基于设计“理念下的阅读平台研究","小学组","教师网络空间应用案例","二等奖","中山市",{"$f":"VLOOKUP(B378,'[1]002'!B:M,7,0)","v":"陈小梅"},{"$f":"VLOOKUP(B378,'[1]002'!B:M,8,0)","v":"中山市小榄广源学校"},{"$f":"VLOOKUP(B378,'[1]002'!B:M,11,0)","v":"-"},{"$f":"VLOOKUP(B378,'[1]002'!B:M,12,0)","v":"-"},{"$f":"VLOOKUP(B378,[2]sheet2!B:L,10,0)","v":"-"},{"$f":"VLOOKUP(B378,[2]sheet2!B:L,11,0)","v":"-"},"http://183.62.54.51:8841/data/files/certificate/000000000439/b3bd6e032b88408dba6bfd7366868edb/signed/376_陈小梅_二等奖_6263.pdf"]
[377,"P304119090691","化危机为良机让课堂生成精彩","小学组","跨学科项目式学习教学案例","二等奖","佛山市",{"$f":"VLOOKUP(B379,'[1]002'!B:M,7,0)","v":"霍敏华"},{"$f":"VLOOKUP(B379,'[1]002'!B:M,8,0)","v":"佛山市实验学校小学部"},{"$f":"VLOOKUP(B379,'[1]002'!B:M,11,0)","v":"-"},{"$f":"VLOOKUP(B379,'[1]002'!B:M,12,0)","v":"-"},{"$f":"VLOOKUP(B379,[2]sheet2!B:L,10,0)","v":"-"},{"$f":"VLOOKUP(B379,[2]sheet2!B:L,11,0)","v":"-"},"http://183.62.54.51:8841/data/files/certificate/000000000439/bfa165341eae4beca53e05c09001ddd2/signed/377_霍敏华_二等奖_6264.pdf"]
[378,"P304119092838","音数巧相逢课堂趣横生Steam教育环境下探究学习平台的实践研究","小学组","跨学科项目式学习教学案例","二等奖","东莞市",{"$f":"VLOOKUP(B380,'[1]002'!B:M,7,0)","v":"杨丽娟"},{"$f":"VLOOKUP(B380,'[1]002'!B:M,8,0)","v":"东莞市寮步镇凫山小学"},{"$f":"VLOOKUP(B380,'[1]002'!B:M,11,0)","v":"黄子坤"},{"$f":"VLOOKUP(B380,'[1]002'!B:M,12,0)","v":"东莞市寮步镇凫山小学"},{"$f":"VLOOKUP(B380,[2]sheet2!B:L,10,0)","v":"-"},{"$f":"VLOOKUP(B380,[2]sheet2!B:L,11,0)","v":"-"},"http://183.62.54.51:8841/data/files/certificate/000000000439/c73b018e439d438290565784f5d9b54e/signed/378_杨丽娟、黄子坤_二等奖_6265.pdf"]
[379,"P304119092839","三年级数学教学与Scratch软件融合创新","小学组","跨学科项目式学习教学案例","二等奖","东莞市",{"$f":"VLOOKUP(B381,'[1]002'!B:M,7,0)","v":"甘锐祥"},{"$f":"VLOOKUP(B381,'[1]002'!B:M,8,0)","v":"东莞市大岭山镇第三小学"},{"$f":"VLOOKUP(B381,'[1]002'!B:M,11,0)","v":"-"},{"$f":"VLOOKUP(B381,'[1]002'!B:M,12,0)","v":"-"},{"$f":"VLOOKUP(B381,[2]sheet2!B:L,10,0)","v":"-"},{"$f":"VLOOKUP(B381,[2]sheet2!B:L,11,0)","v":"-"},"http://183.62.54.51:8841/data/files/certificate/000000000439/989546dea6d6438985e47bba7308dddc/signed/379_甘锐祥_二等奖_6266.pdf"]
[380,"P306119093133","糕点盒的设计","小学组","新媒体新技术教学应用课例","二等奖",{"$f":"RIGHT(LEFT(VLOOKUP(B382,'[1]002'!B:M,3,0),7),3)","v":"广州市"},{"$f":"VLOOKUP(B382,'[1]002'!B:M,7,0)","v":"单欣然"},{"$f":"VLOOKUP(B382,'[1]002'!B:M,8,0)","v":"广州市南国学校"},{"$f":"VLOOKUP(B382,'[1]002'!B:M,11,0)","v":"-"},{"$f":"VLOOKUP(B382,'[1]002'!B:M,12,0)","v":"-"},{"$f":"VLOOKUP(B382,[2]sheet2!B:L,10,0)","v":"-"},{"$f":"VLOOKUP(B382,[2]sheet2!B:L,11,0)","v":"-"},"http://183.62.54.51:8841/data/files/certificate/000000000439/318b4ea0cdbb4c7a958fff64a9961373/signed/380_单欣然_二等奖_6267.pdf"]
[381,"P306119093130","秦兵马俑","小学组","新媒体新技术教学应用课例","二等奖",{"$f":"RIGHT(LEFT(VLOOKUP(B383,'[1]002'!B:M,3,0),7),3)","v":"广州市"},{"$f":"VLOOKUP(B383,'[1]002'!B:M,7,0)","v":"安扬"},{"$f":"VLOOKUP(B383,'[1]002'!B:M,8,0)","v":"华南理工大学附属实验学校"},{"$f":"VLOOKUP(B383,'[1]002'!B:M,11,0)","v":"-"},{"$f":"VLOOKUP(B383,'[1]002'!B:M,12,0)","v":"-"},{"$f":"VLOOKUP(B383,[2]sheet2!B:L,10,0)","v":"-"},{"$f":"VLOOKUP(B383,[2]sheet2!B:L,11,0)","v":"-"},"http://183.62.54.51:8841/data/files/certificate/000000000439/0acd1a01f3fa4ff5821c33bebcd053ab/signed/381_安扬_二等奖_6268.pdf"]
[382,"P306119093137","难忘童年","小学组","新媒体新技术教学应用课例","二等奖",{"$f":"RIGHT(LEFT(VLOOKUP(B384,'[1]002'!B:M,3,0),7),3)","v":"广州市"},{"$f":"VLOOKUP(B384,'[1]002'!B:M,7,0)","v":"黄燕如"},{"$f":"VLOOKUP(B384,'[1]002'!B:M,8,0)","v":"华南理工大学附属实验学校"},{"$f":"VLOOKUP(B384,'[1]002'!B:M,11,0)","v":"-"},{"$f":"VLOOKUP(B384,'[1]002'!B:M,12,0)","v":"-"},{"$f":"VLOOKUP(B384,[2]sheet2!B:L,10,0)","v":"-"},{"$f":"VLOOKUP(B384,[2]sheet2!B:L,11,0)","v":"-"},"http://183.62.54.51:8841/data/files/certificate/000000000439/24e5489bba844a559a92a85f559dbb49/signed/382_黄燕如_二等奖_6269.pdf"]
[383,"P306119093118","Unit 4 Have a good time in Hainan","小学组","新媒体新技术教学应用课例","二等奖",{"$f":"RIGHT(LEFT(VLOOKUP(B385,'[1]002'!B:M,3,0),7),3)","v":"广州市"},{"$f":"VLOOKUP(B385,'[1]002'!B:M,7,0)","v":"邓丹"},{"$f":"VLOOKUP(B385,'[1]002'!B:M,8,0)","v":"广州市天河区沐陂小学"},{"$f":"VLOOKUP(B385,'[1]002'!B:M,11,0)","v":"-"},{"$f":"VLOOKUP(B385,'[1]002'!B:M,12,0)","v":"-"},{"$f":"VLOOKUP(B385,[2]sheet2!B:L,10,0)","v":"-"},{"$f":"VLOOKUP(B385,[2]sheet2!B:L,11,0)","v":"-"},"http://183.62.54.51:8841/data/files/certificate/000000000439/38067176c8a6447e98a11da8589b341d/signed/383_邓丹_二等奖_6270.pdf"]
[384,"P306119093119","梯形的面积","小学组","新媒体新技术教学应用课例","二等奖",{"$f":"RIGHT(LEFT(VLOOKUP(B386,'[1]002'!B:M,3,0),7),3)","v":"广州市"},{"$f":"VLOOKUP(B386,'[1]002'!B:M,7,0)","v":"陈丽"},{"$f":"VLOOKUP(B386,'[1]002'!B:M,8,0)","v":"广州市天河区体育东路小学"},{"$f":"VLOOKUP(B386,'[1]002'!B:M,11,0)","v":"-"},{"$f":"VLOOKUP(B386,'[1]002'!B:M,12,0)","v":"-"},{"$f":"VLOOKUP(B386,[2]sheet2!B:L,10,0)","v":"-"},{"$f":"VLOOKUP(B386,[2]sheet2!B:L,11,0)","v":"-"},"http://183.62.54.51:8841/data/files/certificate/000000000439/3f889468e1c8448a87572ba896228aa8/signed/384_陈丽_二等奖_6271.pdf"]
[385,"P306119093131","放大镜","小学组","新媒体新技术教学应用课例","二等奖",{"$f":"RIGHT(LEFT(VLOOKUP(B387,'[1]002'!B:M,3,0),7),3)","v":"广州市"},{"$f":"VLOOKUP(B387,'[1]002'!B:M,7,0)","v":"邓燕玲"},{"$f":"VLOOKUP(B387,'[1]002'!B:M,8,0)","v":"广州市越秀区红火炬小学"},{"$f":"VLOOKUP(B387,'[1]002'!B:M,11,0)","v":"-"},{"$f":"VLOOKUP(B387,'[1]002'!B:M,12,0)","v":"-"},{"$f":"VLOOKUP(B387,[2]sheet2!B:L,10,0)","v":"-"},{"$f":"VLOOKUP(B387,[2]sheet2!B:L,11,0)","v":"-"},"http://183.62.54.51:8841/data/files/certificate/000000000439/772fcacfa72a45bbadf17107aed3d43b/signed/385_邓燕玲_二等奖_6272.pdf"]
[386,"P306119093123","Module5My Family","小学组","新媒体新技术教学应用课例","二等奖",{"$f":"RIGHT(LEFT(VLOOKUP(B388,'[1]002'!B:M,3,0),7),3)","v":"广州市"},{"$f":"VLOOKUP(B388,'[1]002'!B:M,7,0)","v":"郭阳方"},{"$f":"VLOOKUP(B388,'[1]002'!B:M,8,0)","v":"华南理工大学附属实验学校"},{"$f":"VLOOKUP(B388,'[1]002'!B:M,11,0)","v":"-"},{"$f":"VLOOKUP(B388,'[1]002'!B:M,12,0)","v":"-"},{"$f":"VLOOKUP(B388,[2]sheet2!B:L,10,0)","v":"-"},{"$f":"VLOOKUP(B388,[2]sheet2!B:L,11,0)","v":"-"},"http://183.62.54.51:8841/data/files/certificate/000000000439/a1fe6bbab6494299874ef42c6c2a1779/signed/386_郭阳方_二等奖_6273.pdf"]
[387,"P306119093126","多彩童年 基于umu互动平台的线上线下个性化学习课堂","小学组","新媒体新技术教学应用课例","二等奖",{"$f":"RIGHT(LEFT(VLOOKUP(B389,'[1]002'!B:M,3,0),7),3)","v":"广州市"},{"$f":"VLOOKUP(B389,'[1]002'!B:M,7,0)","v":"庞子妍"},{"$f":"VLOOKUP(B389,'[1]002'!B:M,8,0)","v":"广州市番禺区南村镇中心小学"},{"$f":"VLOOKUP(B389,'[1]002'!B:M,11,0)","v":"-"},{"$f":"VLOOKUP(B389,'[1]002'!B:M,12,0)","v":"-"},{"$f":"VLOOKUP(B389,[2]sheet2!B:L,10,0)","v":"-"},{"$f":"VLOOKUP(B389,[2]sheet2!B:L,11,0)","v":"-"},"http://183.62.54.51:8841/data/files/certificate/000000000439/327ab68722d445879fdb9add39029591/signed/387_庞子妍_二等奖_6274.pdf"]
[388,"P306119093122","《杨氏之子》","小学组","新媒体新技术教学应用课例","二等奖",{"$f":"RIGHT(LEFT(VLOOKUP(B390,'[1]002'!B:M,3,0),7),3)","v":"广州市"},{"$f":"VLOOKUP(B390,'[1]002'!B:M,7,0)","v":"叶嘉宁"},{"$f":"VLOOKUP(B390,'[1]002'!B:M,8,0)","v":"广州市越秀区署前路小学"},{"$f":"VLOOKUP(B390,'[1]002'!B:M,11,0)","v":"-"},{"$f":"VLOOKUP(B390,'[1]002'!B:M,12,0)","v":"-"},{"$f":"VLOOKUP(B390,[2]sheet2!B:L,10,0)","v":"-"},{"$f":"VLOOKUP(B390,[2]sheet2!B:L,11,0)","v":"-"},"http://183.62.54.51:8841/data/files/certificate/000000000439/ef891e5687cf4435abcea0331eab8702/signed/388_叶嘉宁_二等奖_6275.pdf"]
[389,"P306119092621","在语言的门厅里聆听花钟报时","小学组","新媒体新技术教学应用课例","二等奖",{"$f":"RIGHT(LEFT(VLOOKUP(B391,'[1]002'!B:M,3,0),7),3)","v":"深圳市"},{"$f":"VLOOKUP(B391,'[1]002'!B:M,7,0)","v":"彭飞翔"},{"$f":"VLOOKUP(B391,'[1]002'!B:M,8,0)","v":"深圳市南山区第二外国语学校（集团）"},{"$f":"VLOOKUP(B391,'[1]002'!B:M,11,0)","v":"-"},{"$f":"VLOOKUP(B391,'[1]002'!B:M,12,0)","v":"-"},{"$f":"VLOOKUP(B391,[2]sheet2!B:L,10,0)","v":"-"},{"$f":"VLOOKUP(B391,[2]sheet2!B:L,11,0)","v":"-"},"http://183.62.54.51:8841/data/files/certificate/000000000439/910cda7bdfb340a9bbbeb6db7c458e75/signed/389_彭飞翔_二等奖_6276.pdf"]
[390,"P306119092633","Different sounds","小学组","新媒体新技术教学应用课例","二等奖",{"$f":"RIGHT(LEFT(VLOOKUP(B392,'[1]002'!B:M,3,0),7),3)","v":"深圳市"},{"$f":"VLOOKUP(B392,'[1]002'!B:M,7,0)","v":"黎敬欢"},{"$f":"VLOOKUP(B392,'[1]002'!B:M,8,0)","v":"宝安区天骄小学"},{"$f":"VLOOKUP(B392,'[1]002'!B:M,11,0)","v":"-"},{"$f":"VLOOKUP(B392,'[1]002'!B:M,12,0)","v":"-"},{"$f":"VLOOKUP(B392,[2]sheet2!B:L,10,0)","v":"-"},{"$f":"VLOOKUP(B392,[2]sheet2!B:L,11,0)","v":"-"},"http://183.62.54.51:8841/data/files/certificate/000000000439/9ee0d7305c3a49839604a27fe98ae765/signed/390_黎敬欢_二等奖_6277.pdf"]
[391,"P306119092634","口语交际 让嘴巴去旅行","小学组","新媒体新技术教学应用课例","二等奖",{"$f":"RIGHT(LEFT(VLOOKUP(B393,'[1]002'!B:M,3,0),7),3)","v":"深圳市"},{"$f":"VLOOKUP(B393,'[1]002'!B:M,7,0)","v":"伍秀兰"},{"$f":"VLOOKUP(B393,'[1]002'!B:M,8,0)","v":"平湖街道凤凰山小学"},{"$f":"VLOOKUP(B393,'[1]002'!B:M,11,0)","v":"-"},{"$f":"VLOOKUP(B393,'[1]002'!B:M,12,0)","v":"-"},{"$f":"VLOOKUP(B393,[2]sheet2!B:L,10,0)","v":"-"},{"$f":"VLOOKUP(B393,[2]sheet2!B:L,11,0)","v":"-"},"http://183.62.54.51:8841/data/files/certificate/000000000439/b0abe517441d4762bcd0385cc8f7489a/signed/391_伍秀兰_二等奖_6278.pdf"]
[392,"P306119089177","杏林春满","小学组","新媒体新技术教学应用课例","二等奖",{"$f":"RIGHT(LEFT(VLOOKUP(B394,'[1]002'!B:M,3,0),7),3)","v":"珠海市"},{"$f":"VLOOKUP(B394,'[1]002'!B:M,7,0)","v":"陈金华"},{"$f":"VLOOKUP(B394,'[1]002'!B:M,8,0)","v":"珠海市金湾区第一小学"},{"$f":"VLOOKUP(B394,'[1]002'!B:M,11,0)","v":"-"},{"$f":"VLOOKUP(B394,'[1]002'!B:M,12,0)","v":"-"},{"$f":"VLOOKUP(B394,[2]sheet2!B:L,10,0)","v":"-"},{"$f":"VLOOKUP(B394,[2]sheet2!B:L,11,0)","v":"-"},"http://183.62.54.51:8841/data/files/certificate/000000000439/ff3bc9c6893948ab9936883da7bebde5/signed/392_陈金华_二等奖_6279.pdf"]
[393,"P306119092221","图形的平移","小学组","新媒体新技术教学应用课例","二等奖",{"$f":"RIGHT(LEFT(VLOOKUP(B395,'[1]002'!B:M,3,0),7),3)","v":"珠海市"},{"$f":"VLOOKUP(B395,'[1]002'!B:M,7,0)","v":"郭林飞"},{"$f":"VLOOKUP(B395,'[1]002'!B:M,8,0)","v":"珠海市金湾区第一小学"},{"$f":"VLOOKUP(B395,'[1]002'!B:M,11,0)","v":"-"},{"$f":"VLOOKUP(B395,'[1]002'!B:M,12,0)","v":"-"},{"$f":"VLOOKUP(B395,[2]sheet2!B:L,10,0)","v":"-"},{"$f":"VLOOKUP(B395,[2]sheet2!B:L,11,0)","v":"-"},"http://183.62.54.51:8841/data/files/certificate/000000000439/93869b0e36484f48a3edb01b86332d4e/signed/393_郭林飞_二等奖_6280.pdf"]
[394,"P306119087771","分数的初步认识","小学组","新媒体新技术教学应用课例","二等奖",{"$f":"RIGHT(LEFT(VLOOKUP(B396,'[1]002'!B:M,3,0),7),3)","v":"珠海市"},{"$f":"VLOOKUP(B396,'[1]002'!B:M,7,0)","v":"梁小茹"},{"$f":"VLOOKUP(B396,'[1]002'!B:M,8,0)","v":"珠海市金湾区第一小学"},{"$f":"VLOOKUP(B396,'[1]002'!B:M,11,0)","v":"-"},{"$f":"VLOOKUP(B396,'[1]002'!B:M,12,0)","v":"-"},{"$f":"VLOOKUP(B396,[2]sheet2!B:L,10,0)","v":"-"},{"$f":"VLOOKUP(B396,[2]sheet2!B:L,11,0)","v":"-"},"http://183.62.54.51:8841/data/files/certificate/000000000439/44f7780c1e2f4d93a6139a66ab504cdf/signed/394_梁小茹_二等奖_6281.pdf"]
[395,"P306119086816","慧眼辨真相","小学组","新媒体新技术教学应用课例","二等奖",{"$f":"RIGHT(LEFT(VLOOKUP(B397,'[1]002'!B:M,3,0),7),3)","v":"珠海市"},{"$f":"VLOOKUP(B397,'[1]002'!B:M,7,0)","v":"罗怡莲"},{"$f":"VLOOKUP(B397,'[1]002'!B:M,8,0)","v":"珠海市三灶镇海澄小学"},{"$f":"VLOOKUP(B397,'[1]002'!B:M,11,0)","v":"-"},{"$f":"VLOOKUP(B397,'[1]002'!B:M,12,0)","v":"-"},{"$f":"VLOOKUP(B397,[2]sheet2!B:L,10,0)","v":"-"},{"$f":"VLOOKUP(B397,[2]sheet2!B:L,11,0)","v":"-"},"http://183.62.54.51:8841/data/files/certificate/000000000439/b19958809fa34c809efb8e428d79fdb3/signed/395_罗怡莲_二等奖_6282.pdf"]
[396,"P306119091987","认识三角形","小学组","新媒体新技术教学应用课例","二等奖",{"$f":"RIGHT(LEFT(VLOOKUP(B398,'[1]002'!B:M,3,0),7),3)","v":"汕头市"},{"$f":"VLOOKUP(B398,'[1]002'!B:M,7,0)","v":"陈晓楠"},{"$f":"VLOOKUP(B398,'[1]002'!B:M,8,0)","v":"汕头市龙湖区西南小学"},{"$f":"VLOOKUP(B398,'[1]002'!B:M,11,0)","v":"-"},{"$f":"VLOOKUP(B398,'[1]002'!B:M,12,0)","v":"-"},{"$f":"VLOOKUP(B398,[2]sheet2!B:L,10,0)","v":"-"},{"$f":"VLOOKUP(B398,[2]sheet2!B:L,11,0)","v":"-"},"http://183.62.54.51:8841/data/files/certificate/000000000439/7ae2de50ad9343bf885ed3d1cd061335/signed/396_陈晓楠_二等奖_6283.pdf"]
[397,"P306119091991","圆锥的体积","小学组","新媒体新技术教学应用课例","二等奖",{"$f":"RIGHT(LEFT(VLOOKUP(B399,'[1]002'!B:M,3,0),7),3)","v":"汕头市"},{"$f":"VLOOKUP(B399,'[1]002'!B:M,7,0)","v":"陈蓉"},{"$f":"VLOOKUP(B399,'[1]002'!B:M,8,0)","v":"汕头市澄海永新小学"},{"$f":"VLOOKUP(B399,'[1]002'!B:M,11,0)","v":"-"},{"$f":"VLOOKUP(B399,'[1]002'!B:M,12,0)","v":"-"},{"$f":"VLOOKUP(B399,[2]sheet2!B:L,10,0)","v":"-"},{"$f":"VLOOKUP(B399,[2]sheet2!B:L,11,0)","v":"-"},"http://183.62.54.51:8841/data/files/certificate/000000000439/111fa60f6a0b47e9a165e9fb170043a0/signed/397_陈蓉_二等奖_6284.pdf"]
[398,"P306119090741","连加连减","小学组","新媒体新技术教学应用课例","二等奖",{"$f":"RIGHT(LEFT(VLOOKUP(B400,'[1]002'!B:M,3,0),7),3)","v":"佛山市"},{"$f":"VLOOKUP(B400,'[1]002'!B:M,7,0)","v":"陈彩桂"},{"$f":"VLOOKUP(B400,'[1]002'!B:M,8,0)","v":"佛山市南海区丹灶镇有为小学"},{"$f":"VLOOKUP(B400,'[1]002'!B:M,11,0)","v":"-"},{"$f":"VLOOKUP(B400,'[1]002'!B:M,12,0)","v":"-"},{"$f":"VLOOKUP(B400,[2]sheet2!B:L,10,0)","v":"-"},{"$f":"VLOOKUP(B400,[2]sheet2!B:L,11,0)","v":"-"},"http://183.62.54.51:8841/data/files/certificate/000000000439/3f3678490cf44c52a0e274342e0c2efd/signed/398_陈彩桂_二等奖_6285.pdf"]
[399,"P306119090777","Revision：Jobs","小学组","新媒体新技术教学应用课例","二等奖",{"$f":"RIGHT(LEFT(VLOOKUP(B401,'[1]002'!B:M,3,0),7),3)","v":"佛山市"},{"$f":"VLOOKUP(B401,'[1]002'!B:M,7,0)","v":"张子昕"},{"$f":"VLOOKUP(B401,'[1]002'!B:M,8,0)","v":"佛山市顺德区昌教小学"},{"$f":"VLOOKUP(B401,'[1]002'!B:M,11,0)","v":"伍惠珠"},{"$f":"VLOOKUP(B401,'[1]002'!B:M,12,0)","v":"佛山市顺德区昌教小学"},{"$f":"VLOOKUP(B401,[2]sheet2!B:L,10,0)","v":"梁碧云"},{"$f":"VLOOKUP(B401,[2]sheet2!B:L,11,0)","v":"佛山市顺德区昌教小学"},"http://183.62.54.51:8841/data/files/certificate/000000000439/b8d477c683ec4263b9f133faa98d19ce/signed/399_张子昕、伍惠珠、梁碧云_二等奖_6286.pdf"]
[400,"P306119090735","快递中的数学问题","小学组","新媒体新技术教学应用课例","二等奖",{"$f":"RIGHT(LEFT(VLOOKUP(B402,'[1]002'!B:M,3,0),7),3)","v":"佛山市"},{"$f":"VLOOKUP(B402,'[1]002'!B:M,7,0)","v":"佘雪珠"},{"$f":"VLOOKUP(B402,'[1]002'!B:M,8,0)","v":"佛山市高明区沧江中学附属小学"},{"$f":"VLOOKUP(B402,'[1]002'!B:M,11,0)","v":"-"},{"$f":"VLOOKUP(B402,'[1]002'!B:M,12,0)","v":"-"},{"$f":"VLOOKUP(B402,[2]sheet2!B:L,10,0)","v":"-"},{"$f":"VLOOKUP(B402,[2]sheet2!B:L,11,0)","v":"-"},"http://183.62.54.51:8841/data/files/certificate/000000000439/ccd91192f63e4d1aa241b5fe797df29c/signed/400_佘雪珠_二等奖_6287.pdf"]
[401,"P306119090755","给小车装上风帆","小学组","新媒体新技术教学应用课例","二等奖",{"$f":"RIGHT(LEFT(VLOOKUP(B403,'[1]002'!B:M,3,0),7),3)","v":"佛山市"},{"$f":"VLOOKUP(B403,'[1]002'!B:M,7,0)","v":"伍敏静"},{"$f":"VLOOKUP(B403,'[1]002'!B:M,8,0)","v":"佛山市顺德区勒流梁季彝纪念学校"},{"$f":"VLOOKUP(B403,'[1]002'!B:M,11,0)","v":"廖少峰"},{"$f":"VLOOKUP(B403,'[1]002'!B:M,12,0)","v":"佛山市顺德区勒流梁季彝纪念学校"},{"$f":"VLOOKUP(B403,[2]sheet2!B:L,10,0)","v":"黄剑烽"},{"$f":"VLOOKUP(B403,[2]sheet2!B:L,11,0)","v":"佛山市顺德区勒流梁季彝纪念学校"},"http://183.62.54.51:8841/data/files/certificate/000000000439/ddf6c86035d34cca97967a5f107c5838/signed/401_伍敏静、廖少峰、黄剑烽_二等奖_6288.pdf"]
[402,"P306119090754","光的传播","小学组","新媒体新技术教学应用课例","二等奖",{"$f":"RIGHT(LEFT(VLOOKUP(B404,'[1]002'!B:M,3,0),7),3)","v":"佛山市"},{"$f":"VLOOKUP(B404,'[1]002'!B:M,7,0)","v":"廖少峰"},{"$f":"VLOOKUP(B404,'[1]002'!B:M,8,0)","v":"佛山市顺德区勒流梁季彝纪念学校"},{"$f":"VLOOKUP(B404,'[1]002'!B:M,11,0)","v":"伍敏静"},{"$f":"VLOOKUP(B404,'[1]002'!B:M,12,0)","v":"佛山市顺德区勒流梁季彝纪念学校"},{"$f":"VLOOKUP(B404,[2]sheet2!B:L,10,0)","v":"-"},{"$f":"VLOOKUP(B404,[2]sheet2!B:L,11,0)","v":"-"},"http://183.62.54.51:8841/data/files/certificate/000000000439/637d22a396c94efca5392d7e2c0d3d36/signed/402_廖少峰、伍敏静_二等奖_6289.pdf"]
[403,"P306119090759","参观花圃","小学组","新媒体新技术教学应用课例","二等奖",{"$f":"RIGHT(LEFT(VLOOKUP(B405,'[1]002'!B:M,3,0),7),3)","v":"佛山市"},{"$f":"VLOOKUP(B405,'[1]002'!B:M,7,0)","v":"丘文梅"},{"$f":"VLOOKUP(B405,'[1]002'!B:M,8,0)","v":"佛山市顺德区龙江世埠小学"},{"$f":"VLOOKUP(B405,'[1]002'!B:M,11,0)","v":"-"},{"$f":"VLOOKUP(B405,'[1]002'!B:M,12,0)","v":"-"},{"$f":"VLOOKUP(B405,[2]sheet2!B:L,10,0)","v":"-"},{"$f":"VLOOKUP(B405,[2]sheet2!B:L,11,0)","v":"-"},"http://183.62.54.51:8841/data/files/certificate/000000000439/642c5b7745ba44d69f6e09c89d11ad41/signed/403_丘文梅_二等奖_6290.pdf"]
[404,"P306119090757","六年级英语Unit3Wheredidyougo","小学组","新媒体新技术教学应用课例","二等奖",{"$f":"RIGHT(LEFT(VLOOKUP(B406,'[1]002'!B:M,3,0),7),3)","v":"佛山市"},{"$f":"VLOOKUP(B406,'[1]002'!B:M,7,0)","v":"黄熊"},{"$f":"VLOOKUP(B406,'[1]002'!B:M,8,0)","v":"佛山市顺德区均安顺峰小学"},{"$f":"VLOOKUP(B406,'[1]002'!B:M,11,0)","v":"欧阳静欣"},{"$f":"VLOOKUP(B406,'[1]002'!B:M,12,0)","v":"佛山市顺德区均安顺峰小学"},{"$f":"VLOOKUP(B406,[2]sheet2!B:L,10,0)","v":"-"},{"$f":"VLOOKUP(B406,[2]sheet2!B:L,11,0)","v":"-"},"http://183.62.54.51:8841/data/files/certificate/000000000439/a623dc1658464e19b791825f40023d36/signed/404_黄熊、欧阳静欣_二等奖_6291.pdf"]
[405,"P306119085809","17我的伯父鲁迅先生","小学组","新媒体新技术教学应用课例","二等奖",{"$f":"RIGHT(LEFT(VLOOKUP(B407,'[1]002'!B:M,3,0),7),3)","v":"梅州市"},{"$f":"VLOOKUP(B407,'[1]002'!B:M,7,0)","v":"俞丽容"},{"$f":"VLOOKUP(B407,'[1]002'!B:M,8,0)","v":"梅州市梅江区人民小学"},{"$f":"VLOOKUP(B407,'[1]002'!B:M,11,0)","v":"-"},{"$f":"VLOOKUP(B407,'[1]002'!B:M,12,0)","v":"-"},{"$f":"VLOOKUP(B407,[2]sheet2!B:L,10,0)","v":"-"},{"$f":"VLOOKUP(B407,[2]sheet2!B:L,11,0)","v":"-"},"http://183.62.54.51:8841/data/files/certificate/000000000439/426d5e1fe1444f9e8c0a0293f36ff5f6/signed/405_俞丽容_二等奖_6292.pdf"]
[406,"P306119088898","儿童诗写作指导","小学组","新媒体新技术教学应用课例","二等奖",{"$f":"RIGHT(LEFT(VLOOKUP(B408,'[1]002'!B:M,3,0),7),3)","v":"中山市"},{"$f":"VLOOKUP(B408,'[1]002'!B:M,7,0)","v":"刘敏丽"},{"$f":"VLOOKUP(B408,'[1]002'!B:M,8,0)","v":"中山市石岐杨仙逸小学"},{"$f":"VLOOKUP(B408,'[1]002'!B:M,11,0)","v":"-"},{"$f":"VLOOKUP(B408,'[1]002'!B:M,12,0)","v":"-"},{"$f":"VLOOKUP(B408,[2]sheet2!B:L,10,0)","v":"-"},{"$f":"VLOOKUP(B408,[2]sheet2!B:L,11,0)","v":"-"},"http://183.62.54.51:8841/data/files/certificate/000000000439/8b2a38e782764a3297601ff6d1357f2f/signed/406_刘敏丽_二等奖_6293.pdf"]
[407,"P306119088453","图形的旋转","小学组","新媒体新技术教学应用课例","二等奖",{"$f":"RIGHT(LEFT(VLOOKUP(B409,'[1]002'!B:M,3,0),7),3)","v":"中山市"},{"$f":"VLOOKUP(B409,'[1]002'!B:M,7,0)","v":"黄景锋"},{"$f":"VLOOKUP(B409,'[1]002'!B:M,8,0)","v":"中山市小榄镇九洲基小学"},{"$f":"VLOOKUP(B409,'[1]002'!B:M,11,0)","v":"梁晓文"},{"$f":"VLOOKUP(B409,'[1]002'!B:M,12,0)","v":"中山市小榄镇九洲基小学"},{"$f":"VLOOKUP(B409,[2]sheet2!B:L,10,0)","v":"李秉芯"},{"$f":"VLOOKUP(B409,[2]sheet2!B:L,11,0)","v":"中山市小榄镇九洲基小学"},"http://183.62.54.51:8841/data/files/certificate/000000000439/177306262bc2484999d62ac5f8580e76/signed/407_黄景锋、梁晓文、李秉芯_二等奖_6294.pdf"]
[408,"P306119088368","雪地里的小画家","小学组","新媒体新技术教学应用课例","二等奖",{"$f":"RIGHT(LEFT(VLOOKUP(B410,'[1]002'!B:M,3,0),7),3)","v":"中山市"},{"$f":"VLOOKUP(B410,'[1]002'!B:M,7,0)","v":"董春雷"},{"$f":"VLOOKUP(B410,'[1]002'!B:M,8,0)","v":"中山市西区广丰小学"},{"$f":"VLOOKUP(B410,'[1]002'!B:M,11,0)","v":"-"},{"$f":"VLOOKUP(B410,'[1]002'!B:M,12,0)","v":"-"},{"$f":"VLOOKUP(B410,[2]sheet2!B:L,10,0)","v":"-"},{"$f":"VLOOKUP(B410,[2]sheet2!B:L,11,0)","v":"-"},"http://183.62.54.51:8841/data/files/certificate/000000000439/f330f9517d1948eea96528a8eff98579/signed/408_董春雷_二等奖_6295.pdf"]
[409,"P306119088803","玩转七巧板","小学组","新媒体新技术教学应用课例","二等奖",{"$f":"RIGHT(LEFT(VLOOKUP(B411,'[1]002'!B:M,3,0),7),3)","v":"中山市"},{"$f":"VLOOKUP(B411,'[1]002'!B:M,7,0)","v":"郭骏涛"},{"$f":"VLOOKUP(B411,'[1]002'!B:M,8,0)","v":"中山市小榄镇永康小学"},{"$f":"VLOOKUP(B411,'[1]002'!B:M,11,0)","v":"-"},{"$f":"VLOOKUP(B411,'[1]002'!B:M,12,0)","v":"-"},{"$f":"VLOOKUP(B411,[2]sheet2!B:L,10,0)","v":"-"},{"$f":"VLOOKUP(B411,[2]sheet2!B:L,11,0)","v":"-"},"http://183.62.54.51:8841/data/files/certificate/000000000439/1f6cb7b54c244147b36472845bbebbc3/signed/409_郭骏涛_二等奖_6296.pdf"]
[410,"P306119088910","Unit3 My Week绘本阅读","小学组","新媒体新技术教学应用课例","二等奖",{"$f":"RIGHT(LEFT(VLOOKUP(B412,'[1]002'!B:M,3,0),7),3)","v":"中山市"},{"$f":"VLOOKUP(B412,'[1]002'!B:M,7,0)","v":"陈剑辉"},{"$f":"VLOOKUP(B412,'[1]002'!B:M,8,0)","v":"中山市石岐杨仙逸小学"},{"$f":"VLOOKUP(B412,'[1]002'!B:M,11,0)","v":"-"},{"$f":"VLOOKUP(B412,'[1]002'!B:M,12,0)","v":"-"},{"$f":"VLOOKUP(B412,[2]sheet2!B:L,10,0)","v":"-"},{"$f":"VLOOKUP(B412,[2]sheet2!B:L,11,0)","v":"-"},"http://183.62.54.51:8841/data/files/certificate/000000000439/5a4b762447b644e1b1d75a03bff2d19f/signed/410_陈剑辉_二等奖_6297.pdf"]
[411,"P306119090367","Unit 5 School Lunch","小学组","新媒体新技术教学应用课例","二等奖",{"$f":"RIGHT(LEFT(VLOOKUP(B413,'[1]002'!B:M,3,0),7),3)","v":"中山市"},{"$f":"VLOOKUP(B413,'[1]002'!B:M,7,0)","v":"徐永发"},{"$f":"VLOOKUP(B413,'[1]002'!B:M,8,0)","v":"中山市东凤镇中心小学"},{"$f":"VLOOKUP(B413,'[1]002'!B:M,11,0)","v":"-"},{"$f":"VLOOKUP(B413,'[1]002'!B:M,12,0)","v":"-"},{"$f":"VLOOKUP(B413,[2]sheet2!B:L,10,0)","v":"-"},{"$f":"VLOOKUP(B413,[2]sheet2!B:L,11,0)","v":"-"},"http://183.62.54.51:8841/data/files/certificate/000000000439/59ee15f86e0e4c57b938ebe19c1ee310/signed/411_徐永发_二等奖_6298.pdf"]
[412,"P306119088246","Unit 5 My Favorite Activities","小学组","新媒体新技术教学应用课例","二等奖",{"$f":"RIGHT(LEFT(VLOOKUP(B414,'[1]002'!B:M,3,0),7),3)","v":"中山市"},{"$f":"VLOOKUP(B414,'[1]002'!B:M,7,0)","v":"甘小梅"},{"$f":"VLOOKUP(B414,'[1]002'!B:M,8,0)","v":"中山市小榄镇九洲基小学"},{"$f":"VLOOKUP(B414,'[1]002'!B:M,11,0)","v":"-"},{"$f":"VLOOKUP(B414,'[1]002'!B:M,12,0)","v":"-"},{"$f":"VLOOKUP(B414,[2]sheet2!B:L,10,0)","v":"-"},{"$f":"VLOOKUP(B414,[2]sheet2!B:L,11,0)","v":"-"},"http://183.62.54.51:8841/data/files/certificate/000000000439/2921b9f07c8b4d148e0819493152bcbd/signed/412_甘小梅_二等奖_6299.pdf"]
[413,"P306119089939","植树问题","小学组","新媒体新技术教学应用课例","二等奖",{"$f":"RIGHT(LEFT(VLOOKUP(B415,'[1]002'!B:M,3,0),7),3)","v":"中山市"},{"$f":"VLOOKUP(B415,'[1]002'!B:M,7,0)","v":"梁樱珠"},{"$f":"VLOOKUP(B415,'[1]002'!B:M,8,0)","v":"中山市实验小学"},{"$f":"VLOOKUP(B415,'[1]002'!B:M,11,0)","v":"-"},{"$f":"VLOOKUP(B415,'[1]002'!B:M,12,0)","v":"-"},{"$f":"VLOOKUP(B415,[2]sheet2!B:L,10,0)","v":"-"},{"$f":"VLOOKUP(B415,[2]sheet2!B:L,11,0)","v":"-"},"http://183.62.54.51:8841/data/files/certificate/000000000439/5767647506a845a2a7868c6e73393665/signed/413_梁樱珠_二等奖_6300.pdf"]
[414,"P306119085493","三年级数学广角搭配","小学组","新媒体新技术教学应用课例","二等奖",{"$f":"RIGHT(LEFT(VLOOKUP(B416,'[1]002'!B:M,3,0),7),3)","v":"中山市"},{"$f":"VLOOKUP(B416,'[1]002'!B:M,7,0)","v":"简卓敏"},{"$f":"VLOOKUP(B416,'[1]002'!B:M,8,0)","v":"中山市实验小学"},{"$f":"VLOOKUP(B416,'[1]002'!B:M,11,0)","v":"-"},{"$f":"VLOOKUP(B416,'[1]002'!B:M,12,0)","v":"-"},{"$f":"VLOOKUP(B416,[2]sheet2!B:L,10,0)","v":"-"},{"$f":"VLOOKUP(B416,[2]sheet2!B:L,11,0)","v":"-"},"http://183.62.54.51:8841/data/files/certificate/000000000439/b2136b903d18433eb25f9cda2bee60e5/signed/414_简卓敏_二等奖_6301.pdf"]
[415,"P306119088499","20、肥皂泡","小学组","新媒体新技术教学应用课例","二等奖",{"$f":"RIGHT(LEFT(VLOOKUP(B417,'[1]002'!B:M,3,0),7),3)","v":"中山市"},{"$f":"VLOOKUP(B417,'[1]002'!B:M,7,0)","v":"周敏"},{"$f":"VLOOKUP(B417,'[1]002'!B:M,8,0)","v":"中山市西区铁城小学"},{"$f":"VLOOKUP(B417,'[1]002'!B:M,11,0)","v":"侯洁"},{"$f":"VLOOKUP(B417,'[1]002'!B:M,12,0)","v":"中山市西区铁城小学"},{"$f":"VLOOKUP(B417,[2]sheet2!B:L,10,0)","v":"-"},{"$f":"VLOOKUP(B417,[2]sheet2!B:L,11,0)","v":"-"},"http://183.62.54.51:8841/data/files/certificate/000000000439/75dcb97a5f204560842bf87e43221a4a/signed/415_周敏、侯洁_二等奖_6302.pdf"]
[416,"P306119089390","Unit 2 Months","小学组","新媒体新技术教学应用课例","二等奖",{"$f":"RIGHT(LEFT(VLOOKUP(B418,'[1]002'!B:M,3,0),7),3)","v":"中山市"},{"$f":"VLOOKUP(B418,'[1]002'!B:M,7,0)","v":"江露婵"},{"$f":"VLOOKUP(B418,'[1]002'!B:M,8,0)","v":"中山火炬高技术产业开发区香晖园小学"},{"$f":"VLOOKUP(B418,'[1]002'!B:M,11,0)","v":"翟伟钰"},{"$f":"VLOOKUP(B418,'[1]002'!B:M,12,0)","v":"中山火炬高技术产业开发区香晖园小学"},{"$f":"VLOOKUP(B418,[2]sheet2!B:L,10,0)","v":"-"},{"$f":"VLOOKUP(B418,[2]sheet2!B:L,11,0)","v":"-"},"http://183.62.54.51:8841/data/files/certificate/000000000439/7de6a17a77a34951acad7452ed61f802/signed/416_江露婵、翟伟钰_二等奖_6303.pdf"]
[417,"P306119088296","奇思妙想","小学组","新媒体新技术教学应用课例","二等奖",{"$f":"RIGHT(LEFT(VLOOKUP(B419,'[1]002'!B:M,3,0),7),3)","v":"中山市"},{"$f":"VLOOKUP(B419,'[1]002'!B:M,7,0)","v":"陈翠芬"},{"$f":"VLOOKUP(B419,'[1]002'!B:M,8,0)","v":"中山市沙溪镇濠涌小学"},{"$f":"VLOOKUP(B419,'[1]002'!B:M,11,0)","v":"-"},{"$f":"VLOOKUP(B419,'[1]002'!B:M,12,0)","v":"-"},{"$f":"VLOOKUP(B419,[2]sheet2!B:L,10,0)","v":"-"},{"$f":"VLOOKUP(B419,[2]sheet2!B:L,11,0)","v":"-"},"http://183.62.54.51:8841/data/files/certificate/000000000439/90269bdeef3248dcb5d520311f2fb6d6/signed/417_陈翠芬_二等奖_6304.pdf"]
[418,"P306119091785","Unit5 My Body","小学组","新媒体新技术教学应用课例","二等奖",{"$f":"RIGHT(LEFT(VLOOKUP(B420,'[1]002'!B:M,3,0),7),3)","v":"江门市"},{"$f":"VLOOKUP(B420,'[1]002'!B:M,7,0)","v":"蓝曼菊"},{"$f":"VLOOKUP(B420,'[1]002'!B:M,8,0)","v":"江门市紫茶小学"},{"$f":"VLOOKUP(B420,'[1]002'!B:M,11,0)","v":"-"},{"$f":"VLOOKUP(B420,'[1]002'!B:M,12,0)","v":"-"},{"$f":"VLOOKUP(B420,[2]sheet2!B:L,10,0)","v":"-"},{"$f":"VLOOKUP(B420,[2]sheet2!B:L,11,0)","v":"-"},"http://183.62.54.51:8841/data/files/certificate/000000000439/83ba341727164dad88de32401ec580a6/signed/418_蓝曼菊_二等奖_6305.pdf"]
[419,"P306119092064","植树问题","小学组","新媒体新技术教学应用课例","二等奖",{"$f":"RIGHT(LEFT(VLOOKUP(B421,'[1]002'!B:M,3,0),7),3)","v":"江门市"},{"$f":"VLOOKUP(B421,'[1]002'!B:M,7,0)","v":"李文静"},{"$f":"VLOOKUP(B421,'[1]002'!B:M,8,0)","v":"鹤山市沙坪街道第三小学"},{"$f":"VLOOKUP(B421,'[1]002'!B:M,11,0)","v":"-"},{"$f":"VLOOKUP(B421,'[1]002'!B:M,12,0)","v":"-"},{"$f":"VLOOKUP(B421,[2]sheet2!B:L,10,0)","v":"-"},{"$f":"VLOOKUP(B421,[2]sheet2!B:L,11,0)","v":"-"},"http://183.62.54.51:8841/data/files/certificate/000000000439/d7ecdef13bd44c05b8c4bb983b18c53d/signed/419_李文静_二等奖_6306.pdf"]
[420,"P306119091840","Helping at Home","小学组","新媒体新技术教学应用课例","二等奖",{"$f":"RIGHT(LEFT(VLOOKUP(B422,'[1]002'!B:M,3,0),7),3)","v":"江门市"},{"$f":"VLOOKUP(B422,'[1]002'!B:M,7,0)","v":"黄雪颖"},{"$f":"VLOOKUP(B422,'[1]002'!B:M,8,0)","v":"外海银泉小学"},{"$f":"VLOOKUP(B422,'[1]002'!B:M,11,0)","v":"-"},{"$f":"VLOOKUP(B422,'[1]002'!B:M,12,0)","v":"-"},{"$f":"VLOOKUP(B422,[2]sheet2!B:L,10,0)","v":"-"},{"$f":"VLOOKUP(B422,[2]sheet2!B:L,11,0)","v":"-"},"http://183.62.54.51:8841/data/files/certificate/000000000439/14125fca37764607a4dc2be7752e8075/signed/420_黄雪颖_二等奖_6307.pdf"]
[421,"P306119091783","年月日","小学组","新媒体新技术教学应用课例","二等奖",{"$f":"RIGHT(LEFT(VLOOKUP(B423,'[1]002'!B:M,3,0),7),3)","v":"江门市"},{"$f":"VLOOKUP(B423,'[1]002'!B:M,7,0)","v":"林凤娇"},{"$f":"VLOOKUP(B423,'[1]002'!B:M,8,0)","v":"江门市农林小学"},{"$f":"VLOOKUP(B423,'[1]002'!B:M,11,0)","v":"-"},{"$f":"VLOOKUP(B423,'[1]002'!B:M,12,0)","v":"-"},{"$f":"VLOOKUP(B423,[2]sheet2!B:L,10,0)","v":"-"},{"$f":"VLOOKUP(B423,[2]sheet2!B:L,11,0)","v":"-"},"http://183.62.54.51:8841/data/files/certificate/000000000439/7e3e9d7a9bd24d789d2df23745790ddb/signed/421_林凤娇_二等奖_6308.pdf"]
[422,"P306119091786","风娃娃","小学组","新媒体新技术教学应用课例","二等奖",{"$f":"RIGHT(LEFT(VLOOKUP(B424,'[1]002'!B:M,3,0),7),3)","v":"江门市"},{"$f":"VLOOKUP(B424,'[1]002'!B:M,7,0)","v":"林坤"},{"$f":"VLOOKUP(B424,'[1]002'!B:M,8,0)","v":"江门市蓬江区发展小学"},{"$f":"VLOOKUP(B424,'[1]002'!B:M,11,0)","v":"-"},{"$f":"VLOOKUP(B424,'[1]002'!B:M,12,0)","v":"-"},{"$f":"VLOOKUP(B424,[2]sheet2!B:L,10,0)","v":"-"},{"$f":"VLOOKUP(B424,[2]sheet2!B:L,11,0)","v":"-"},"http://183.62.54.51:8841/data/files/certificate/000000000439/96fdad00411946c4a100243525b66486/signed/422_林坤_二等奖_6309.pdf"]
[423,"P306119091359","心理活动描写","小学组","新媒体新技术教学应用课例","二等奖",{"$f":"RIGHT(LEFT(VLOOKUP(B425,'[1]002'!B:M,3,0),7),3)","v":"茂名市"},{"$f":"VLOOKUP(B425,'[1]002'!B:M,7,0)","v":"徐永清"},{"$f":"VLOOKUP(B425,'[1]002'!B:M,8,0)","v":"茂名市双山小学"},{"$f":"VLOOKUP(B425,'[1]002'!B:M,11,0)","v":"-"},{"$f":"VLOOKUP(B425,'[1]002'!B:M,12,0)","v":"-"},{"$f":"VLOOKUP(B425,[2]sheet2!B:L,10,0)","v":"-"},{"$f":"VLOOKUP(B425,[2]sheet2!B:L,11,0)","v":"-"},"http://183.62.54.51:8841/data/files/certificate/000000000439/f9831d7d22d7470593e52d580c8c32ea/signed/423_徐永清_二等奖_6310.pdf"]
[424,"P306119090272","PEP六上英语第二单元第五课时","小学组","新媒体新技术教学应用课例","二等奖",{"$f":"RIGHT(LEFT(VLOOKUP(B426,'[1]002'!B:M,3,0),7),3)","v":"肇庆市"},{"$f":"VLOOKUP(B426,'[1]002'!B:M,7,0)","v":"何雅裕"},{"$f":"VLOOKUP(B426,'[1]002'!B:M,8,0)","v":"德庆县德城镇第一小学"},{"$f":"VLOOKUP(B426,'[1]002'!B:M,11,0)","v":"徐金梅"},{"$f":"VLOOKUP(B426,'[1]002'!B:M,12,0)","v":"德庆县德城镇第一小学"},{"$f":"VLOOKUP(B426,[2]sheet2!B:L,10,0)","v":"-"},{"$f":"VLOOKUP(B426,[2]sheet2!B:L,11,0)","v":"-"},"http://183.62.54.51:8841/data/files/certificate/000000000439/330d7a8b35da463ab6b4b88e9d76f55d/signed/424_何雅裕、徐金梅_二等奖_6311.pdf"]
[425,"P306119086389","观察物体","小学组","新媒体新技术教学应用课例","二等奖",{"$f":"RIGHT(LEFT(VLOOKUP(B427,'[1]002'!B:M,3,0),7),3)","v":"云浮市"},{"$f":"VLOOKUP(B427,'[1]002'!B:M,7,0)","v":"盘水杰"},{"$f":"VLOOKUP(B427,'[1]002'!B:M,8,0)","v":"新兴县惠能小学"},{"$f":"VLOOKUP(B427,'[1]002'!B:M,11,0)","v":"-"},{"$f":"VLOOKUP(B427,'[1]002'!B:M,12,0)","v":"-"},{"$f":"VLOOKUP(B427,[2]sheet2!B:L,10,0)","v":"-"},{"$f":"VLOOKUP(B427,[2]sheet2!B:L,11,0)","v":"-"},"http://183.62.54.51:8841/data/files/certificate/000000000439/5143880599f943cc8b868e534f421c08/signed/425_盘水杰_二等奖_6312.pdf"]
[426,"P303119093106","Module5Unit10Thenandnow","小学组","课件","三等奖","广州市",{"$f":"VLOOKUP(B428,'[1]002'!B:M,7,0)","v":"汤李欣"},{"$f":"VLOOKUP(B428,'[1]002'!B:M,8,0)","v":"广州市天河区石牌小学"},{"$f":"VLOOKUP(B428,'[1]002'!B:M,11,0)","v":"-"},{"$f":"VLOOKUP(B428,'[1]002'!B:M,12,0)","v":"-"},{"$f":"VLOOKUP(B428,[2]sheet2!B:L,10,0)","v":"-"},{"$f":"VLOOKUP(B428,[2]sheet2!B:L,11,0)","v":"-"},"http://183.62.54.51:8841/data/files/certificate/000000000439/6c653122324442eb9fff0a391a62e8bf/signed/426_汤李欣_三等奖_6313.pdf"]
[427,"P303119093087","Module4Travel","小学组","课件","三等奖","广州市",{"$f":"VLOOKUP(B429,'[1]002'!B:M,7,0)","v":"巫露英"},{"$f":"VLOOKUP(B429,'[1]002'!B:M,8,0)","v":"广州市海珠区晓港湾小学"},{"$f":"VLOOKUP(B429,'[1]002'!B:M,11,0)","v":"-"},{"$f":"VLOOKUP(B429,'[1]002'!B:M,12,0)","v":"-"},{"$f":"VLOOKUP(B429,[2]sheet2!B:L,10,0)","v":"-"},{"$f":"VLOOKUP(B429,[2]sheet2!B:L,11,0)","v":"-"},"http://183.62.54.51:8841/data/files/certificate/000000000439/a6fef40e921444a79bc5a1238aeba373/signed/427_巫露英_三等奖_6314.pdf"]
[428,"P303119093097","给动物分类","小学组","课件","三等奖","广州市",{"$f":"VLOOKUP(B430,'[1]002'!B:M,7,0)","v":"潘利莉"},{"$f":"VLOOKUP(B430,'[1]002'!B:M,8,0)","v":"广州市天河区沐陂小学"},{"$f":"VLOOKUP(B430,'[1]002'!B:M,11,0)","v":"-"},{"$f":"VLOOKUP(B430,'[1]002'!B:M,12,0)","v":"-"},{"$f":"VLOOKUP(B430,[2]sheet2!B:L,10,0)","v":"-"},{"$f":"VLOOKUP(B430,[2]sheet2!B:L,11,0)","v":"-"},"http://183.62.54.51:8841/data/files/certificate/000000000439/6262cf1d5a164966b9f563f564f56efd/signed/428_潘利莉_三等奖_6315.pdf"]
[429,"P303119093109","龟兔赛跑课件","小学组","课件","三等奖","广州市",{"$f":"VLOOKUP(B431,'[1]002'!B:M,7,0)","v":"陈婉"},{"$f":"VLOOKUP(B431,'[1]002'!B:M,8,0)","v":"广州市白云区太和第二小学"},{"$f":"VLOOKUP(B431,'[1]002'!B:M,11,0)","v":"-"},{"$f":"VLOOKUP(B431,'[1]002'!B:M,12,0)","v":"-"},{"$f":"VLOOKUP(B431,[2]sheet2!B:L,10,0)","v":"-"},{"$f":"VLOOKUP(B431,[2]sheet2!B:L,11,0)","v":"-"},"http://183.62.54.51:8841/data/files/certificate/000000000439/be2efb91e12b4e0a91af2601e14694b6/signed/429_陈婉_三等奖_6316.pdf"]
[430,"P303119093110","守株待兔","小学组","课件","三等奖","广州市",{"$f":"VLOOKUP(B432,'[1]002'!B:M,7,0)","v":"欧阳汝林"},{"$f":"VLOOKUP(B432,'[1]002'!B:M,8,0)","v":"广州市天河区羊城花园小学"},{"$f":"VLOOKUP(B432,'[1]002'!B:M,11,0)","v":"-"},{"$f":"VLOOKUP(B432,'[1]002'!B:M,12,0)","v":"-"},{"$f":"VLOOKUP(B432,[2]sheet2!B:L,10,0)","v":"-"},{"$f":"VLOOKUP(B432,[2]sheet2!B:L,11,0)","v":"-"},"http://183.62.54.51:8841/data/files/certificate/000000000439/e28ad157dca941e3b226b52f4a769853/signed/430_欧阳汝林_三等奖_6317.pdf"]
[431,"P303119093099","计算机能手-数据的计算","小学组","课件","三等奖","广州市",{"$f":"VLOOKUP(B433,'[1]002'!B:M,7,0)","v":"朱琦亮"},{"$f":"VLOOKUP(B433,'[1]002'!B:M,8,0)","v":"广州市番禺区沙湾镇兴贤小学"},{"$f":"VLOOKUP(B433,'[1]002'!B:M,11,0)","v":"-"},{"$f":"VLOOKUP(B433,'[1]002'!B:M,12,0)","v":"-"},{"$f":"VLOOKUP(B433,[2]sheet2!B:L,10,0)","v":"-"},{"$f":"VLOOKUP(B433,[2]sheet2!B:L,11,0)","v":"-"},"http://183.62.54.51:8841/data/files/certificate/000000000439/c3b0915b1f3b48088922752f012db83c/signed/431_朱琦亮_三等奖_6318.pdf"]
[432,"P303119093264","羽毛球运动","小学组","课件","三等奖","广州市",{"$f":"VLOOKUP(B434,'[1]002'!B:M,7,0)","v":"庞柱德"},{"$f":"VLOOKUP(B434,'[1]002'!B:M,8,0)","v":"广州市海珠区宝玉直实验小学"},{"$f":"VLOOKUP(B434,'[1]002'!B:M,11,0)","v":"胡睿华"},{"$f":"VLOOKUP(B434,'[1]002'!B:M,12,0)","v":"广州市海珠区教育发展中心"},{"$f":"VLOOKUP(B434,[2]sheet2!B:L,10,0)","v":"陈  妮"},{"$f":"VLOOKUP(B434,[2]sheet2!B:L,11,0)","v":"广州市海珠区怡乐路小学"},"http://183.62.54.51:8841/data/files/certificate/000000000439/c0d31951ac3f4ef9844d09432d4a9d0f/signed/432_庞柱德、胡睿华、陈妮_三等奖_6319.pdf"]
[433,"P303119093104","中国传统节日文化之访谈法","小学组","课件","三等奖","广州市",{"$f":"VLOOKUP(B435,'[1]002'!B:M,7,0)","v":"张楚琼"},{"$f":"VLOOKUP(B435,'[1]002'!B:M,8,0)","v":"广州市增城区天恩双语学校"},{"$f":"VLOOKUP(B435,'[1]002'!B:M,11,0)","v":"-"},{"$f":"VLOOKUP(B435,'[1]002'!B:M,12,0)","v":"-"},{"$f":"VLOOKUP(B435,[2]sheet2!B:L,10,0)","v":"-"},{"$f":"VLOOKUP(B435,[2]sheet2!B:L,11,0)","v":"-"},"http://183.62.54.51:8841/data/files/certificate/000000000439/7c38a8d734454355aa3cae696ba9cd45/signed/433_张楚琼_三等奖_6320.pdf"]
[434,"P303119093103","现代城市的地下通道","小学组","课件","三等奖","广州市",{"$f":"VLOOKUP(B436,'[1]002'!B:M,7,0)","v":"颜漪"},{"$f":"VLOOKUP(B436,'[1]002'!B:M,8,0)","v":"广州市天河区吉山小学"},{"$f":"VLOOKUP(B436,'[1]002'!B:M,11,0)","v":"-"},{"$f":"VLOOKUP(B436,'[1]002'!B:M,12,0)","v":"-"},{"$f":"VLOOKUP(B436,[2]sheet2!B:L,10,0)","v":"-"},{"$f":"VLOOKUP(B436,[2]sheet2!B:L,11,0)","v":"-"},"http://183.62.54.51:8841/data/files/certificate/000000000439/809dfb0e5e1842eaaa512665471ee3f9/signed/434_颜漪_三等奖_6321.pdf"]
[435,"P303119093101","白鹅","小学组","课件","三等奖","广州市",{"$f":"VLOOKUP(B437,'[1]002'!B:M,7,0)","v":"陈艳钗"},{"$f":"VLOOKUP(B437,'[1]002'!B:M,8,0)","v":"广州市番禺区沙湾镇红基学校"},{"$f":"VLOOKUP(B437,'[1]002'!B:M,11,0)","v":"-"},{"$f":"VLOOKUP(B437,'[1]002'!B:M,12,0)","v":"-"},{"$f":"VLOOKUP(B437,[2]sheet2!B:L,10,0)","v":"-"},{"$f":"VLOOKUP(B437,[2]sheet2!B:L,11,0)","v":"-"},"http://183.62.54.51:8841/data/files/certificate/000000000439/cf5dd7f5b8994463b1de0023c4030c9a/signed/435_陈艳钗_三等奖_6322.pdf"]
[436,"P303119092641","6AM4U12 The Earth","小学组","课件","三等奖","深圳市",{"$f":"VLOOKUP(B438,'[1]002'!B:M,7,0)","v":"温佳敏"},{"$f":"VLOOKUP(B438,'[1]002'!B:M,8,0)","v":"深圳市光明区下村小学"},{"$f":"VLOOKUP(B438,'[1]002'!B:M,11,0)","v":"-"},{"$f":"VLOOKUP(B438,'[1]002'!B:M,12,0)","v":"-"},{"$f":"VLOOKUP(B438,[2]sheet2!B:L,10,0)","v":"-"},{"$f":"VLOOKUP(B438,[2]sheet2!B:L,11,0)","v":"-"},"http://183.62.54.51:8841/data/files/certificate/000000000439/161ad75bac5b4a10a17c0a76c3c151e6/signed/436_温佳敏_三等奖_6323.pdf"]
[437,"P303119092647","图形的运动（一）","小学组","课件","三等奖","深圳市",{"$f":"VLOOKUP(B439,'[1]002'!B:M,7,0)","v":"陈琳"},{"$f":"VLOOKUP(B439,'[1]002'!B:M,8,0)","v":"深圳市盐田区盐港小学"},{"$f":"VLOOKUP(B439,'[1]002'!B:M,11,0)","v":"-"},{"$f":"VLOOKUP(B439,'[1]002'!B:M,12,0)","v":"-"},{"$f":"VLOOKUP(B439,[2]sheet2!B:L,10,0)","v":"-"},{"$f":"VLOOKUP(B439,[2]sheet2!B:L,11,0)","v":"-"},"http://183.62.54.51:8841/data/files/certificate/000000000439/f74cc8c76ce7489296414e142d72e9c1/signed/437_陈琳_三等奖_6324.pdf"]
[438,"P303119092638","U 11 Festivals","小学组","课件","三等奖","深圳市",{"$f":"VLOOKUP(B440,'[1]002'!B:M,7,0)","v":"陈惠娇"},{"$f":"VLOOKUP(B440,'[1]002'!B:M,8,0)","v":"龙岗区科技城外国语学校"},{"$f":"VLOOKUP(B440,'[1]002'!B:M,11,0)","v":"-"},{"$f":"VLOOKUP(B440,'[1]002'!B:M,12,0)","v":"-"},{"$f":"VLOOKUP(B440,[2]sheet2!B:L,10,0)","v":"-"},{"$f":"VLOOKUP(B440,[2]sheet2!B:L,11,0)","v":"-"},"http://183.62.54.51:8841/data/files/certificate/000000000439/be0f1ad2e2e44ab9886119d2ba65c32d/signed/438_陈惠娇_三等奖_6325.pdf"]
[439,"P303119092650","有趣的折叠","小学组","课件","三等奖","深圳市",{"$f":"VLOOKUP(B441,'[1]002'!B:M,7,0)","v":"陈尧"},{"$f":"VLOOKUP(B441,'[1]002'!B:M,8,0)","v":"龙城街道龙西小学"},{"$f":"VLOOKUP(B441,'[1]002'!B:M,11,0)","v":"-"},{"$f":"VLOOKUP(B441,'[1]002'!B:M,12,0)","v":"-"},{"$f":"VLOOKUP(B441,[2]sheet2!B:L,10,0)","v":"-"},{"$f":"VLOOKUP(B441,[2]sheet2!B:L,11,0)","v":"-"},"http://183.62.54.51:8841/data/files/certificate/000000000439/8a8e3d7a822d44f5a22f2f76001804e6/signed/439_陈尧_三等奖_6326.pdf"]
[440,"P303119092648","趣学小篮球规则","小学组","课件","三等奖","深圳市",{"$f":"VLOOKUP(B442,'[1]002'!B:M,7,0)","v":"卫荣健"},{"$f":"VLOOKUP(B442,'[1]002'!B:M,8,0)","v":"深圳市盐田区外国语小学东和分校"},{"$f":"VLOOKUP(B442,'[1]002'!B:M,11,0)","v":"-"},{"$f":"VLOOKUP(B442,'[1]002'!B:M,12,0)","v":"-"},{"$f":"VLOOKUP(B442,[2]sheet2!B:L,10,0)","v":"-"},{"$f":"VLOOKUP(B442,[2]sheet2!B:L,11,0)","v":"-"},"http://183.62.54.51:8841/data/files/certificate/000000000439/ea70ed47acb24cf7b80e6be4e3a9988c/signed/440_卫荣健_三等奖_6327.pdf"]
[441,"P303119092651","编码","小学组","课件","三等奖","深圳市",{"$f":"VLOOKUP(B443,'[1]002'!B:M,7,0)","v":"陈纯子"},{"$f":"VLOOKUP(B443,'[1]002'!B:M,8,0)","v":"龙岗区布吉贤义外国语学校"},{"$f":"VLOOKUP(B443,'[1]002'!B:M,11,0)","v":"-"},{"$f":"VLOOKUP(B443,'[1]002'!B:M,12,0)","v":"-"},{"$f":"VLOOKUP(B443,[2]sheet2!B:L,10,0)","v":"-"},{"$f":"VLOOKUP(B443,[2]sheet2!B:L,11,0)","v":"-"},"http://183.62.54.51:8841/data/files/certificate/000000000439/d51d39643798417ba8baeb6d2b7b561a/signed/441_陈纯子_三等奖_6328.pdf"]
[442,"P303119092652","认识钟面","小学组","课件","三等奖","深圳市",{"$f":"VLOOKUP(B444,'[1]002'!B:M,7,0)","v":"林采露"},{"$f":"VLOOKUP(B444,'[1]002'!B:M,8,0)","v":"深圳市光明区楼村小学"},{"$f":"VLOOKUP(B444,'[1]002'!B:M,11,0)","v":"-"},{"$f":"VLOOKUP(B444,'[1]002'!B:M,12,0)","v":"-"},{"$f":"VLOOKUP(B444,[2]sheet2!B:L,10,0)","v":"-"},{"$f":"VLOOKUP(B444,[2]sheet2!B:L,11,0)","v":"-"},"http://183.62.54.51:8841/data/files/certificate/000000000439/a09f184bcd96425f80905d8120f9c838/signed/442_林采露_三等奖_6329.pdf"]
[443,"P303119092646","神秘的图腾柱","小学组","课件","三等奖","深圳市",{"$f":"VLOOKUP(B445,'[1]002'!B:M,7,0)","v":"刘圣灵"},"深圳市龙岗区平湖街道凤凰山小学",{"$f":"VLOOKUP(B445,'[1]002'!B:M,11,0)","v":"-"},{"$f":"VLOOKUP(B445,'[1]002'!B:M,12,0)","v":"-"},{"$f":"VLOOKUP(B445,[2]sheet2!B:L,10,0)","v":"-"},{"$f":"VLOOKUP(B445,[2]sheet2!B:L,11,0)","v":"-"},"http://183.62.54.51:8841/data/files/certificate/000000000439/666686ed15894140a712eed7a46caa98/signed/443_刘圣灵_三等奖_6330.pdf"]
[444,"P303119092639","大雁","小学组","课件","三等奖","深圳市",{"$f":"VLOOKUP(B446,'[1]002'!B:M,7,0)","v":"赖薇伊"},{"$f":"VLOOKUP(B446,'[1]002'!B:M,8,0)","v":"深圳市南山区文理实验学校集团文理学校"},{"$f":"VLOOKUP(B446,'[1]002'!B:M,11,0)","v":"-"},{"$f":"VLOOKUP(B446,'[1]002'!B:M,12,0)","v":"-"},{"$f":"VLOOKUP(B446,[2]sheet2!B:L,10,0)","v":"-"},{"$f":"VLOOKUP(B446,[2]sheet2!B:L,11,0)","v":"-"},"http://183.62.54.51:8841/data/files/certificate/000000000439/2fac2b6a9d074f7b84865b156c40a1be/signed/444_赖薇伊_三等奖_6331.pdf"]
[445,"P303119092612","鸽巢问题","小学组","课件","三等奖","珠海市",{"$f":"VLOOKUP(B447,'[1]002'!B:M,7,0)","v":"郭林飞"},{"$f":"VLOOKUP(B447,'[1]002'!B:M,8,0)","v":"珠海市金湾区第一小学"},{"$f":"VLOOKUP(B447,'[1]002'!B:M,11,0)","v":"-"},{"$f":"VLOOKUP(B447,'[1]002'!B:M,12,0)","v":"-"},{"$f":"VLOOKUP(B447,[2]sheet2!B:L,10,0)","v":"-"},{"$f":"VLOOKUP(B447,[2]sheet2!B:L,11,0)","v":"-"},"http://183.62.54.51:8841/data/files/certificate/000000000439/d9466bf18f754b7c8a74e7e96cc85a3d/signed/445_郭林飞_三等奖_6332.pdf"]
[446,"P303119091942","木瓜恰恰恰","小学组","课件","三等奖","汕头市",{"$f":"VLOOKUP(B448,'[1]002'!B:M,7,0)","v":"林伊媛"},{"$f":"VLOOKUP(B448,'[1]002'!B:M,8,0)","v":"汕头市大路小学"},{"$f":"VLOOKUP(B448,'[1]002'!B:M,11,0)","v":"-"},{"$f":"VLOOKUP(B448,'[1]002'!B:M,12,0)","v":"-"},{"$f":"VLOOKUP(B448,[2]sheet2!B:L,10,0)","v":"-"},{"$f":"VLOOKUP(B448,[2]sheet2!B:L,11,0)","v":"-"},"http://183.62.54.51:8841/data/files/certificate/000000000439/ca2a2d25edd5481abb3e10675da53d64/signed/446_林伊媛_三等奖_6333.pdf"]
[447,"P303119091955","让更多小灯泡亮起来","小学组","课件","三等奖","汕头市",{"$f":"VLOOKUP(B449,'[1]002'!B:M,7,0)","v":"李仰珊"},{"$f":"VLOOKUP(B449,'[1]002'!B:M,8,0)","v":"汕头市澄海汇璟实验小学"},{"$f":"VLOOKUP(B449,'[1]002'!B:M,11,0)","v":"-"},{"$f":"VLOOKUP(B449,'[1]002'!B:M,12,0)","v":"-"},{"$f":"VLOOKUP(B449,[2]sheet2!B:L,10,0)","v":"-"},{"$f":"VLOOKUP(B449,[2]sheet2!B:L,11,0)","v":"-"},"http://183.62.54.51:8841/data/files/certificate/000000000439/96b155240f6e423bb56cf5919ab8f0da/signed/447_李仰珊_三等奖_6334.pdf"]
[448,"P303119091950","列方程解决相遇问题","小学组","课件","三等奖","汕头市",{"$f":"VLOOKUP(B450,'[1]002'!B:M,7,0)","v":"吴雪暖"},{"$f":"VLOOKUP(B450,'[1]002'!B:M,8,0)","v":"汕头市澄海华侨小学"},{"$f":"VLOOKUP(B450,'[1]002'!B:M,11,0)","v":"-"},{"$f":"VLOOKUP(B450,'[1]002'!B:M,12,0)","v":"-"},{"$f":"VLOOKUP(B450,[2]sheet2!B:L,10,0)","v":"-"},{"$f":"VLOOKUP(B450,[2]sheet2!B:L,11,0)","v":"-"},"http://183.62.54.51:8841/data/files/certificate/000000000439/63557894b6d34ba2a26f7bbcc41356ad/signed/448_吴雪暖_三等奖_6335.pdf"]
[449,"P303119091932","与象共舞","小学组","课件","三等奖","汕头市",{"$f":"VLOOKUP(B451,'[1]002'!B:M,7,0)","v":"陈曦纯"},{"$f":"VLOOKUP(B451,'[1]002'!B:M,8,0)","v":"汕头市龙湖区下蓬中心小学"},{"$f":"VLOOKUP(B451,'[1]002'!B:M,11,0)","v":"-"},{"$f":"VLOOKUP(B451,'[1]002'!B:M,12,0)","v":"-"},{"$f":"VLOOKUP(B451,[2]sheet2!B:L,10,0)","v":"-"},{"$f":"VLOOKUP(B451,[2]sheet2!B:L,11,0)","v":"-"},"http://183.62.54.51:8841/data/files/certificate/000000000439/e385eb027ac641499dbe406edcb8bc22/signed/449_陈曦纯_三等奖_6336.pdf"]
[450,"P303119091953","长方体和正方体的表面积","小学组","课件","三等奖","汕头市",{"$f":"VLOOKUP(B452,'[1]002'!B:M,7,0)","v":"陈素和"},{"$f":"VLOOKUP(B452,'[1]002'!B:M,8,0)","v":"汕头市濠江区河东文华学校"},{"$f":"VLOOKUP(B452,'[1]002'!B:M,11,0)","v":"-"},{"$f":"VLOOKUP(B452,'[1]002'!B:M,12,0)","v":"-"},{"$f":"VLOOKUP(B452,[2]sheet2!B:L,10,0)","v":"-"},{"$f":"VLOOKUP(B452,[2]sheet2!B:L,11,0)","v":"-"},"http://183.62.54.51:8841/data/files/certificate/000000000439/b45d3a7b7c4c48959a4c86985568d729/signed/450_陈素和_三等奖_6337.pdf"]
[451,"P303119091935","牧场之国","小学组","课件","三等奖","汕头市",{"$f":"VLOOKUP(B453,'[1]002'!B:M,7,0)","v":"黄文哲"},{"$f":"VLOOKUP(B453,'[1]002'!B:M,8,0)","v":"汕头市龙湖区周厝塭小学"},{"$f":"VLOOKUP(B453,'[1]002'!B:M,11,0)","v":"王璇"},{"$f":"VLOOKUP(B453,'[1]002'!B:M,12,0)","v":"汕头市龙湖区朝阳小学"},{"$f":"VLOOKUP(B453,[2]sheet2!B:L,10,0)","v":"-"},{"$f":"VLOOKUP(B453,[2]sheet2!B:L,11,0)","v":"-"},"http://183.62.54.51:8841/data/files/certificate/000000000439/ab02642f9d71407bb49da07083a6f5c5/signed/451_黄文哲、王璇_三等奖_6338.pdf"]
[452,"P303119091943","爱牙护齿保健康生命质量有保障","小学组","课件","三等奖","汕头市",{"$f":"VLOOKUP(B454,'[1]002'!B:M,7,0)","v":"黄瑜玲"},{"$f":"VLOOKUP(B454,'[1]002'!B:M,8,0)","v":"汕头市龙湖区万吉西小学"},{"$f":"VLOOKUP(B454,'[1]002'!B:M,11,0)","v":"-"},{"$f":"VLOOKUP(B454,'[1]002'!B:M,12,0)","v":"-"},{"$f":"VLOOKUP(B454,[2]sheet2!B:L,10,0)","v":"-"},{"$f":"VLOOKUP(B454,[2]sheet2!B:L,11,0)","v":"-"},"http://183.62.54.51:8841/data/files/certificate/000000000439/dba08d1545cc4bccb277b96327f3e6cd/signed/452_黄瑜玲_三等奖_6339.pdf"]
[453,"P303119091946","图形的平移","小学组","课件","三等奖","汕头市",{"$f":"VLOOKUP(B455,'[1]002'!B:M,7,0)","v":"黄丹浩"},{"$f":"VLOOKUP(B455,'[1]002'!B:M,8,0)","v":"汕头市澄海坛头小学"},{"$f":"VLOOKUP(B455,'[1]002'!B:M,11,0)","v":"-"},{"$f":"VLOOKUP(B455,'[1]002'!B:M,12,0)","v":"-"},{"$f":"VLOOKUP(B455,[2]sheet2!B:L,10,0)","v":"-"},{"$f":"VLOOKUP(B455,[2]sheet2!B:L,11,0)","v":"-"},"http://183.62.54.51:8841/data/files/certificate/000000000439/9af247104f354a74b6d22751347649fc/signed/453_黄丹浩_三等奖_6340.pdf"]
[454,"P303119091949","分数的意义","小学组","课件","三等奖","汕头市",{"$f":"VLOOKUP(B456,'[1]002'!B:M,7,0)","v":"李廷玉"},{"$f":"VLOOKUP(B456,'[1]002'!B:M,8,0)","v":"汕头市濠江区濠滨小学"},{"$f":"VLOOKUP(B456,'[1]002'!B:M,11,0)","v":"林文伟"},{"$f":"VLOOKUP(B456,'[1]002'!B:M,12,0)","v":"汕头市达濠第三中学"},{"$f":"VLOOKUP(B456,[2]sheet2!B:L,10,0)","v":"-"},{"$f":"VLOOKUP(B456,[2]sheet2!B:L,11,0)","v":"-"},"http://183.62.54.51:8841/data/files/certificate/000000000439/be3f0f8baa624183b77b7bb92b7f8d22/signed/454_李廷玉、林文伟_三等奖_6341.pdf"]
[455,"P303119091939","可爱的童帽","小学组","课件","三等奖","汕头市",{"$f":"VLOOKUP(B457,'[1]002'!B:M,7,0)","v":"陈艺辉"},{"$f":"VLOOKUP(B457,'[1]002'!B:M,8,0)","v":"汕头市澄海下北小学"},{"$f":"VLOOKUP(B457,'[1]002'!B:M,11,0)","v":"-"},{"$f":"VLOOKUP(B457,'[1]002'!B:M,12,0)","v":"-"},{"$f":"VLOOKUP(B457,[2]sheet2!B:L,10,0)","v":"-"},{"$f":"VLOOKUP(B457,[2]sheet2!B:L,11,0)","v":"-"},"http://183.62.54.51:8841/data/files/certificate/000000000439/1595b16aa6c34de2b5a99fc2bca5d4c3/signed/455_陈艺辉_三等奖_6342.pdf"]
[456,"P303119091957","Unit 5 Letters and sounds","小学组","课件","三等奖","汕头市",{"$f":"VLOOKUP(B458,'[1]002'!B:M,7,0)","v":"张真臻"},{"$f":"VLOOKUP(B458,'[1]002'!B:M,8,0)","v":"汕头市东厦小学"},{"$f":"VLOOKUP(B458,'[1]002'!B:M,11,0)","v":"-"},{"$f":"VLOOKUP(B458,'[1]002'!B:M,12,0)","v":"-"},{"$f":"VLOOKUP(B458,[2]sheet2!B:L,10,0)","v":"-"},{"$f":"VLOOKUP(B458,[2]sheet2!B:L,11,0)","v":"-"},"http://183.62.54.51:8841/data/files/certificate/000000000439/79a4214c4fc4408c87b1c0203d56e355/signed/456_张真臻_三等奖_6343.pdf"]
[457,"P303119091936","分数的意义","小学组","课件","三等奖","汕头市",{"$f":"VLOOKUP(B459,'[1]002'!B:M,7,0)","v":"曾黛玟"},{"$f":"VLOOKUP(B459,'[1]002'!B:M,8,0)","v":"汕头市龙湖区丹霞小学"},{"$f":"VLOOKUP(B459,'[1]002'!B:M,11,0)","v":"-"},{"$f":"VLOOKUP(B459,'[1]002'!B:M,12,0)","v":"-"},{"$f":"VLOOKUP(B459,[2]sheet2!B:L,10,0)","v":"-"},{"$f":"VLOOKUP(B459,[2]sheet2!B:L,11,0)","v":"-"},"http://183.62.54.51:8841/data/files/certificate/000000000439/ec7181edbfbe4e55adce9d4267aba3aa/signed/457_曾黛玟_三等奖_6344.pdf"]
[458,"P303119090870","253的倍数的特征","小学组","课件","三等奖","佛山市",{"$f":"VLOOKUP(B460,'[1]002'!B:M,7,0)","v":"吴永恒"},{"$f":"VLOOKUP(B460,'[1]002'!B:M,8,0)","v":"佛山市三水区西南街道中心小学"},{"$f":"VLOOKUP(B460,'[1]002'!B:M,11,0)","v":"-"},{"$f":"VLOOKUP(B460,'[1]002'!B:M,12,0)","v":"-"},{"$f":"VLOOKUP(B460,[2]sheet2!B:L,10,0)","v":"-"},{"$f":"VLOOKUP(B460,[2]sheet2!B:L,11,0)","v":"-"},"http://183.62.54.51:8841/data/files/certificate/000000000439/2902969591584a3d8fdaab2d97f26a4e/signed/458_吴永恒_三等奖_6345.pdf"]
[459,"P303119090816","通天云梯","小学组","课件","三等奖","佛山市",{"$f":"VLOOKUP(B461,'[1]002'!B:M,7,0)","v":"刘冬梅"},{"$f":"VLOOKUP(B461,'[1]002'!B:M,8,0)","v":"佛山市南海区桂城街道桂江第三小学"},{"$f":"VLOOKUP(B461,'[1]002'!B:M,11,0)","v":"-"},{"$f":"VLOOKUP(B461,'[1]002'!B:M,12,0)","v":"-"},{"$f":"VLOOKUP(B461,[2]sheet2!B:L,10,0)","v":"-"},{"$f":"VLOOKUP(B461,[2]sheet2!B:L,11,0)","v":"-"},"http://183.62.54.51:8841/data/files/certificate/000000000439/467356bebaeb4a7da88d66b9518a3735/signed/459_刘冬梅_三等奖_6346.pdf"]
[460,"P303119090790","PEPBook4Unit6ShoppingAtalk课件","小学组","课件","三等奖","佛山市",{"$f":"VLOOKUP(B462,'[1]002'!B:M,7,0)","v":"冯楚瑶"},{"$f":"VLOOKUP(B462,'[1]002'!B:M,8,0)","v":"佛山市高明区沧江中学附属小学"},{"$f":"VLOOKUP(B462,'[1]002'!B:M,11,0)","v":"-"},{"$f":"VLOOKUP(B462,'[1]002'!B:M,12,0)","v":"-"},{"$f":"VLOOKUP(B462,[2]sheet2!B:L,10,0)","v":"-"},{"$f":"VLOOKUP(B462,[2]sheet2!B:L,11,0)","v":"-"},"http://183.62.54.51:8841/data/files/certificate/000000000439/de5557b4b73e4777b029f2f07b80295a/signed/460_冯楚瑶_三等奖_6347.pdf"]
[461,"P303119090782","我的日程表","小学组","课件","三等奖","佛山市",{"$f":"VLOOKUP(B463,'[1]002'!B:M,7,0)","v":"冯翠梅"},{"$f":"VLOOKUP(B463,'[1]002'!B:M,8,0)","v":"佛山市高明区荷城街道德信实验学校"},{"$f":"VLOOKUP(B463,'[1]002'!B:M,11,0)","v":"-"},{"$f":"VLOOKUP(B463,'[1]002'!B:M,12,0)","v":"-"},{"$f":"VLOOKUP(B463,[2]sheet2!B:L,10,0)","v":"-"},{"$f":"VLOOKUP(B463,[2]sheet2!B:L,11,0)","v":"-"},"http://183.62.54.51:8841/data/files/certificate/000000000439/3093be478bd745639081bd6f4f62b732/signed/461_冯翠梅_三等奖_6348.pdf"]
[462,"P303119090788","攀登英语阅读系列Thisismyfather","小学组","课件","三等奖","佛山市",{"$f":"VLOOKUP(B464,'[1]002'!B:M,7,0)","v":"谢美凤"},{"$f":"VLOOKUP(B464,'[1]002'!B:M,8,0)","v":"佛山市高明区沧江中学附属小学"},{"$f":"VLOOKUP(B464,'[1]002'!B:M,11,0)","v":"-"},{"$f":"VLOOKUP(B464,'[1]002'!B:M,12,0)","v":"-"},{"$f":"VLOOKUP(B464,[2]sheet2!B:L,10,0)","v":"-"},{"$f":"VLOOKUP(B464,[2]sheet2!B:L,11,0)","v":"-"},"http://183.62.54.51:8841/data/files/certificate/000000000439/6c91f347cf604818848e61c47ad50c85/signed/462_谢美凤_三等奖_6349.pdf"]
[463,"P303119090812","伯牙绝弦","小学组","课件","三等奖","佛山市",{"$f":"VLOOKUP(B465,'[1]002'!B:M,7,0)","v":"梁桂滨"},{"$f":"VLOOKUP(B465,'[1]002'!B:M,8,0)","v":"佛山市惠景小学"},{"$f":"VLOOKUP(B465,'[1]002'!B:M,11,0)","v":"-"},{"$f":"VLOOKUP(B465,'[1]002'!B:M,12,0)","v":"-"},{"$f":"VLOOKUP(B465,[2]sheet2!B:L,10,0)","v":"-"},{"$f":"VLOOKUP(B465,[2]sheet2!B:L,11,0)","v":"-"},"http://183.62.54.51:8841/data/files/certificate/000000000439/10dccc492e9e4e0b8602139d8d6dea3b/signed/463_梁桂滨_三等奖_6350.pdf"]
[464,"P303119090803","Where_is_the_cap","小学组","课件","三等奖","佛山市",{"$f":"VLOOKUP(B466,'[1]002'!B:M,7,0)","v":"余文诗"},{"$f":"VLOOKUP(B466,'[1]002'!B:M,8,0)","v":"禅城区南庄镇中心小学"},{"$f":"VLOOKUP(B466,'[1]002'!B:M,11,0)","v":"谭瑞贞"},{"$f":"VLOOKUP(B466,'[1]002'!B:M,12,0)","v":"禅城区南庄镇中心小学"},{"$f":"VLOOKUP(B466,[2]sheet2!B:L,10,0)","v":"-"},{"$f":"VLOOKUP(B466,[2]sheet2!B:L,11,0)","v":"-"},"http://183.62.54.51:8841/data/files/certificate/000000000439/1b459e01daee48ff8a5bb4365f5a9c60/signed/464_余文诗、谭瑞贞_三等奖_6351.pdf"]
[465,"P303119090837","吃西瓜","小学组","课件","三等奖","佛山市",{"$f":"VLOOKUP(B467,'[1]002'!B:M,7,0)","v":"刘上玲"},{"$f":"VLOOKUP(B467,'[1]002'!B:M,8,0)","v":"佛山市顺德区西山小学高新区学校"},{"$f":"VLOOKUP(B467,'[1]002'!B:M,11,0)","v":"郑宏彬"},{"$f":"VLOOKUP(B467,'[1]002'!B:M,12,0)","v":"佛山市顺德区北滘中心小学"},{"$f":"VLOOKUP(B467,[2]sheet2!B:L,10,0)","v":"-"},{"$f":"VLOOKUP(B467,[2]sheet2!B:L,11,0)","v":"-"},"http://183.62.54.51:8841/data/files/certificate/000000000439/61cd3fa8bf1f421997d705d8a8a67612/signed/465_刘上玲、郑宏彬_三等奖_6352.pdf"]
[466,"P303119090830","比一比","小学组","课件","三等奖","佛山市",{"$f":"VLOOKUP(B468,'[1]002'!B:M,7,0)","v":"叶镇恒"},{"$f":"VLOOKUP(B468,'[1]002'!B:M,8,0)","v":"佛山市顺德区逢沙小学"},{"$f":"VLOOKUP(B468,'[1]002'!B:M,11,0)","v":"-"},{"$f":"VLOOKUP(B468,'[1]002'!B:M,12,0)","v":"-"},{"$f":"VLOOKUP(B468,[2]sheet2!B:L,10,0)","v":"-"},{"$f":"VLOOKUP(B468,[2]sheet2!B:L,11,0)","v":"-"},"http://183.62.54.51:8841/data/files/certificate/000000000439/3263c94bb3c446909c4fd40ef6151075/signed/466_叶镇恒_三等奖_6353.pdf"]
[467,"P303119090815","神奇魔法摇号机巧用随机函数","小学组","课件","三等奖","佛山市",{"$f":"VLOOKUP(B469,'[1]002'!B:M,7,0)","v":"林冰冰"},{"$f":"VLOOKUP(B469,'[1]002'!B:M,8,0)","v":"佛山市南海区丹灶镇有为小学"},{"$f":"VLOOKUP(B469,'[1]002'!B:M,11,0)","v":"-"},{"$f":"VLOOKUP(B469,'[1]002'!B:M,12,0)","v":"-"},{"$f":"VLOOKUP(B469,[2]sheet2!B:L,10,0)","v":"-"},{"$f":"VLOOKUP(B469,[2]sheet2!B:L,11,0)","v":"-"},"http://183.62.54.51:8841/data/files/certificate/000000000439/37b84c986cab4597876efb764abedd0a/signed/467_林冰冰_三等奖_6354.pdf"]
[468,"P303119090797","PEP Book7 Unit2 Ways to go to shcool A Talk","小学组","课件","三等奖","佛山市",{"$f":"VLOOKUP(B470,'[1]002'!B:M,7,0)","v":"陈嘉裕"},{"$f":"VLOOKUP(B470,'[1]002'!B:M,8,0)","v":"佛山市高明区沧江中学附属小学"},{"$f":"VLOOKUP(B470,'[1]002'!B:M,11,0)","v":"-"},{"$f":"VLOOKUP(B470,'[1]002'!B:M,12,0)","v":"-"},{"$f":"VLOOKUP(B470,[2]sheet2!B:L,10,0)","v":"-"},{"$f":"VLOOKUP(B470,[2]sheet2!B:L,11,0)","v":"-"},"http://183.62.54.51:8841/data/files/certificate/000000000439/484d7f6a3df848cbb0da5af5e1b01dd6/signed/468_陈嘉裕_三等奖_6355.pdf"]
[469,"P303119090822","有趣的字母系列","小学组","课件","三等奖","佛山市",{"$f":"VLOOKUP(B471,'[1]002'!B:M,7,0)","v":"陈泽佳"},{"$f":"VLOOKUP(B471,'[1]002'!B:M,8,0)","v":"佛山市南海区大沥镇盐步中心小学"},{"$f":"VLOOKUP(B471,'[1]002'!B:M,11,0)","v":"-"},{"$f":"VLOOKUP(B471,'[1]002'!B:M,12,0)","v":"-"},{"$f":"VLOOKUP(B471,[2]sheet2!B:L,10,0)","v":"-"},{"$f":"VLOOKUP(B471,[2]sheet2!B:L,11,0)","v":"-"},"http://183.62.54.51:8841/data/files/certificate/000000000439/a01b577b33c74017b9c7b8a1c6945560/signed/469_陈泽佳_三等奖_6356.pdf"]
[470,"P303119090789","自己的花是让别人看的","小学组","课件","三等奖","佛山市",{"$f":"VLOOKUP(B472,'[1]002'!B:M,7,0)","v":"杨美金"},{"$f":"VLOOKUP(B472,'[1]002'!B:M,8,0)","v":"佛山市高明区沧江中学附属小学"},{"$f":"VLOOKUP(B472,'[1]002'!B:M,11,0)","v":"-"},{"$f":"VLOOKUP(B472,'[1]002'!B:M,12,0)","v":"-"},{"$f":"VLOOKUP(B472,[2]sheet2!B:L,10,0)","v":"-"},{"$f":"VLOOKUP(B472,[2]sheet2!B:L,11,0)","v":"-"},"http://183.62.54.51:8841/data/files/certificate/000000000439/734d92d4f8f443ecbc0061d568d25591/signed/470_杨美金_三等奖_6357.pdf"]
[471,"P303119090853","铅笔有多长","小学组","课件","三等奖","佛山市",{"$f":"VLOOKUP(B473,'[1]002'!B:M,7,0)","v":"梁碧云"},{"$f":"VLOOKUP(B473,'[1]002'!B:M,8,0)","v":"佛山市顺德区昌教小学"},{"$f":"VLOOKUP(B473,'[1]002'!B:M,11,0)","v":"陈煜"},{"$f":"VLOOKUP(B473,'[1]002'!B:M,12,0)","v":"佛山市顺德区昌教小学"},{"$f":"VLOOKUP(B473,[2]sheet2!B:L,10,0)","v":"欧阳惠贞"},{"$f":"VLOOKUP(B473,[2]sheet2!B:L,11,0)","v":"佛山市顺德区昌教小学"},"http://183.62.54.51:8841/data/files/certificate/000000000439/19a2f8a68feb4db2ab898f16ec515030/signed/471_梁碧云、陈煜、欧阳惠贞_三等奖_6358.pdf"]
[472,"P303119090820","纪昌学射","小学组","课件","三等奖","佛山市",{"$f":"VLOOKUP(B474,'[1]002'!B:M,7,0)","v":"王宇静"},{"$f":"VLOOKUP(B474,'[1]002'!B:M,8,0)","v":"佛山市南海区丹灶镇金沙小学"},{"$f":"VLOOKUP(B474,'[1]002'!B:M,11,0)","v":"-"},{"$f":"VLOOKUP(B474,'[1]002'!B:M,12,0)","v":"-"},{"$f":"VLOOKUP(B474,[2]sheet2!B:L,10,0)","v":"-"},{"$f":"VLOOKUP(B474,[2]sheet2!B:L,11,0)","v":"-"},"http://183.62.54.51:8841/data/files/certificate/000000000439/2a413243d15d45259b76e291712b86ee/signed/472_王宇静_三等奖_6359.pdf"]
[473,"P303119090865","动物儿歌","小学组","课件","三等奖","佛山市",{"$f":"VLOOKUP(B475,'[1]002'!B:M,7,0)","v":"刘萍"},{"$f":"VLOOKUP(B475,'[1]002'!B:M,8,0)","v":"佛山市三水区西南街道北江小学"},{"$f":"VLOOKUP(B475,'[1]002'!B:M,11,0)","v":"-"},{"$f":"VLOOKUP(B475,'[1]002'!B:M,12,0)","v":"-"},{"$f":"VLOOKUP(B475,[2]sheet2!B:L,10,0)","v":"-"},{"$f":"VLOOKUP(B475,[2]sheet2!B:L,11,0)","v":"-"},"http://183.62.54.51:8841/data/files/certificate/000000000439/231a58a4a550418e8b54e7ab441dfa74/signed/473_刘萍_三等奖_6360.pdf"]
[474,"P303119090867","最想对妈妈说的话","小学组","课件","三等奖","佛山市",{"$f":"VLOOKUP(B476,'[1]002'!B:M,7,0)","v":"林小颜"},{"$f":"VLOOKUP(B476,'[1]002'!B:M,8,0)","v":"佛山市三水区白坭镇中心小学"},{"$f":"VLOOKUP(B476,'[1]002'!B:M,11,0)","v":"-"},{"$f":"VLOOKUP(B476,'[1]002'!B:M,12,0)","v":"-"},{"$f":"VLOOKUP(B476,[2]sheet2!B:L,10,0)","v":"-"},{"$f":"VLOOKUP(B476,[2]sheet2!B:L,11,0)","v":"-"},"http://183.62.54.51:8841/data/files/certificate/000000000439/8ed23bfe66204e5ab704ec21e5ee4f42/signed/474_林小颜_三等奖_6361.pdf"]
[475,"P303119090805","鸡兔同笼课件","小学组","课件","三等奖","佛山市",{"$f":"VLOOKUP(B477,'[1]002'!B:M,7,0)","v":"何俊江"},{"$f":"VLOOKUP(B477,'[1]002'!B:M,8,0)","v":"佛山市惠景小学"},{"$f":"VLOOKUP(B477,'[1]002'!B:M,11,0)","v":"-"},{"$f":"VLOOKUP(B477,'[1]002'!B:M,12,0)","v":"-"},{"$f":"VLOOKUP(B477,[2]sheet2!B:L,10,0)","v":"-"},{"$f":"VLOOKUP(B477,[2]sheet2!B:L,11,0)","v":"-"},"http://183.62.54.51:8841/data/files/certificate/000000000439/d8853e42dd7648a9a71e4041d9527e76/signed/475_何俊江_三等奖_6362.pdf"]
[476,"P303119090825","认识人民币","小学组","课件","三等奖","佛山市",{"$f":"VLOOKUP(B478,'[1]002'!B:M,7,0)","v":"罗洁婷"},{"$f":"VLOOKUP(B478,'[1]002'!B:M,8,0)","v":"禅城区澜石小学"},{"$f":"VLOOKUP(B478,'[1]002'!B:M,11,0)","v":"-"},{"$f":"VLOOKUP(B478,'[1]002'!B:M,12,0)","v":"-"},{"$f":"VLOOKUP(B478,[2]sheet2!B:L,10,0)","v":"-"},{"$f":"VLOOKUP(B478,[2]sheet2!B:L,11,0)","v":"-"},"http://183.62.54.51:8841/data/files/certificate/000000000439/64a0c01b120640489821e88d30a2cfb8/signed/476_罗洁婷_三等奖_6363.pdf"]
[477,"P303119090810","彝家娃娃真幸福","小学组","课件","三等奖","佛山市",{"$f":"VLOOKUP(B479,'[1]002'!B:M,7,0)","v":"谢利婷"},{"$f":"VLOOKUP(B479,'[1]002'!B:M,8,0)","v":"禅城区南庄镇中心小学"},{"$f":"VLOOKUP(B479,'[1]002'!B:M,11,0)","v":"-"},{"$f":"VLOOKUP(B479,'[1]002'!B:M,12,0)","v":"-"},{"$f":"VLOOKUP(B479,[2]sheet2!B:L,10,0)","v":"-"},{"$f":"VLOOKUP(B479,[2]sheet2!B:L,11,0)","v":"-"},"http://183.62.54.51:8841/data/files/certificate/000000000439/438741cf97b2456d8e974b090e65e4a3/signed/477_谢利婷_三等奖_6364.pdf"]
[478,"P303119090823","采菱","小学组","课件","三等奖","佛山市",{"$f":"VLOOKUP(B480,'[1]002'!B:M,7,0)","v":"李俊"},{"$f":"VLOOKUP(B480,'[1]002'!B:M,8,0)","v":"佛山市城南小学"},{"$f":"VLOOKUP(B480,'[1]002'!B:M,11,0)","v":"-"},{"$f":"VLOOKUP(B480,'[1]002'!B:M,12,0)","v":"-"},{"$f":"VLOOKUP(B480,[2]sheet2!B:L,10,0)","v":"-"},{"$f":"VLOOKUP(B480,[2]sheet2!B:L,11,0)","v":"-"},"http://183.62.54.51:8841/data/files/certificate/000000000439/8b5a4085323f45ecafc8597c750d7ab1/signed/478_李俊_三等奖_6365.pdf"]
[479,"P303119090806","Unit3Plansforfestivals","小学组","课件","三等奖","佛山市",{"$f":"VLOOKUP(B481,'[1]002'!B:M,7,0)","v":"张婵贞"},{"$f":"VLOOKUP(B481,'[1]002'!B:M,8,0)","v":"佛山市禅城区南庄镇吉利小学"},{"$f":"VLOOKUP(B481,'[1]002'!B:M,11,0)","v":"-"},{"$f":"VLOOKUP(B481,'[1]002'!B:M,12,0)","v":"-"},{"$f":"VLOOKUP(B481,[2]sheet2!B:L,10,0)","v":"-"},{"$f":"VLOOKUP(B481,[2]sheet2!B:L,11,0)","v":"-"},"http://183.62.54.51:8841/data/files/certificate/000000000439/dcd34c10e78c45f994197f99465cd69a/signed/479_张婵贞_三等奖_6366.pdf"]
[480,"P303119090818","第8课创意水杯","小学组","课件","三等奖","佛山市",{"$f":"VLOOKUP(B482,'[1]002'!B:M,7,0)","v":"向庆媚"},{"$f":"VLOOKUP(B482,'[1]002'!B:M,8,0)","v":"佛山市南海区丹灶镇金沙小学"},{"$f":"VLOOKUP(B482,'[1]002'!B:M,11,0)","v":"-"},{"$f":"VLOOKUP(B482,'[1]002'!B:M,12,0)","v":"-"},{"$f":"VLOOKUP(B482,[2]sheet2!B:L,10,0)","v":"-"},{"$f":"VLOOKUP(B482,[2]sheet2!B:L,11,0)","v":"-"},"http://183.62.54.51:8841/data/files/certificate/000000000439/34f90071d745460db90eea0df7f1f48e/signed/480_向庆媚_三等奖_6367.pdf"]
[481,"P303119090871","复式折线统计图","小学组","课件","三等奖","佛山市",{"$f":"VLOOKUP(B483,'[1]002'!B:M,7,0)","v":"王杰"},{"$f":"VLOOKUP(B483,'[1]002'!B:M,8,0)","v":"佛山市三水区西南街道中心小学"},{"$f":"VLOOKUP(B483,'[1]002'!B:M,11,0)","v":"-"},{"$f":"VLOOKUP(B483,'[1]002'!B:M,12,0)","v":"-"},{"$f":"VLOOKUP(B483,[2]sheet2!B:L,10,0)","v":"-"},{"$f":"VLOOKUP(B483,[2]sheet2!B:L,11,0)","v":"-"},"http://183.62.54.51:8841/data/files/certificate/000000000439/3e1101d391bb49209f070bef47e8aa65/signed/481_王杰_三等奖_6368.pdf"]
[482,"P303119090850","圆柱的表面积","小学组","课件","三等奖","佛山市",{"$f":"VLOOKUP(B484,'[1]002'!B:M,7,0)","v":"骆丽丽"},{"$f":"VLOOKUP(B484,'[1]002'!B:M,8,0)","v":"佛山市顺德区均安顺峰小学"},{"$f":"VLOOKUP(B484,'[1]002'!B:M,11,0)","v":"-"},{"$f":"VLOOKUP(B484,'[1]002'!B:M,12,0)","v":"-"},{"$f":"VLOOKUP(B484,[2]sheet2!B:L,10,0)","v":"-"},{"$f":"VLOOKUP(B484,[2]sheet2!B:L,11,0)","v":"-"},"http://183.62.54.51:8841/data/files/certificate/000000000439/d563d16fa82c4cc9aed4375e8c2f5283/signed/482_骆丽丽_三等奖_6369.pdf"]
[483,"P303119090869","用789的乘法口诀求商","小学组","课件","三等奖","佛山市",{"$f":"VLOOKUP(B485,'[1]002'!B:M,7,0)","v":"孙小冰"},{"$f":"VLOOKUP(B485,'[1]002'!B:M,8,0)","v":"佛山市三水区西南街道北江小学"},{"$f":"VLOOKUP(B485,'[1]002'!B:M,11,0)","v":"-"},{"$f":"VLOOKUP(B485,'[1]002'!B:M,12,0)","v":"-"},{"$f":"VLOOKUP(B485,[2]sheet2!B:L,10,0)","v":"-"},{"$f":"VLOOKUP(B485,[2]sheet2!B:L,11,0)","v":"-"},"http://183.62.54.51:8841/data/files/certificate/000000000439/be78a27e83f34049982cda74112ec0c4/signed/483_孙小冰_三等奖_6370.pdf"]
[484,"P303119090778","共植诚信树","小学组","课件","三等奖","佛山市",{"$f":"VLOOKUP(B486,'[1]002'!B:M,7,0)","v":"严翠芳"},{"$f":"VLOOKUP(B486,'[1]002'!B:M,8,0)","v":"佛山市高明区杨和镇中心小学"},{"$f":"VLOOKUP(B486,'[1]002'!B:M,11,0)","v":"-"},{"$f":"VLOOKUP(B486,'[1]002'!B:M,12,0)","v":"-"},{"$f":"VLOOKUP(B486,[2]sheet2!B:L,10,0)","v":"-"},{"$f":"VLOOKUP(B486,[2]sheet2!B:L,11,0)","v":"-"},"http://183.62.54.51:8841/data/files/certificate/000000000439/022b6aa8a1de415192210f0c0d49fffa/signed/484_严翠芳_三等奖_6371.pdf"]
[485,"P303119090817","剪纸故事活动2","小学组","课件","三等奖","佛山市",{"$f":"VLOOKUP(B487,'[1]002'!B:M,7,0)","v":"孙志凌"},{"$f":"VLOOKUP(B487,'[1]002'!B:M,8,0)","v":"佛山市南海区丹灶镇金沙小学"},{"$f":"VLOOKUP(B487,'[1]002'!B:M,11,0)","v":"-"},{"$f":"VLOOKUP(B487,'[1]002'!B:M,12,0)","v":"-"},{"$f":"VLOOKUP(B487,[2]sheet2!B:L,10,0)","v":"-"},{"$f":"VLOOKUP(B487,[2]sheet2!B:L,11,0)","v":"-"},"http://183.62.54.51:8841/data/files/certificate/000000000439/fea5c7e99c7c4de58c58435508567b9c/signed/485_孙志凌_三等奖_6372.pdf"]
[486,"P303119090791","PEP人教版三年级下册第四单元语音课","小学组","课件","三等奖","佛山市",{"$f":"VLOOKUP(B488,'[1]002'!B:M,7,0)","v":"柯逸梦"},{"$f":"VLOOKUP(B488,'[1]002'!B:M,8,0)","v":"佛山市高明区沧江中学附属小学"},{"$f":"VLOOKUP(B488,'[1]002'!B:M,11,0)","v":"-"},{"$f":"VLOOKUP(B488,'[1]002'!B:M,12,0)","v":"-"},{"$f":"VLOOKUP(B488,[2]sheet2!B:L,10,0)","v":"-"},{"$f":"VLOOKUP(B488,[2]sheet2!B:L,11,0)","v":"-"},"http://183.62.54.51:8841/data/files/certificate/000000000439/047f8e81f3a346c1a1d70cd8f4b9e123/signed/486_柯逸梦_三等奖_6373.pdf"]
[487,"P303119090800","画出立体感空间感","小学组","课件","三等奖","佛山市",{"$f":"VLOOKUP(B489,'[1]002'!B:M,7,0)","v":"何姗文"},{"$f":"VLOOKUP(B489,'[1]002'!B:M,8,0)","v":"佛山市高明区明城镇明城小学"},{"$f":"VLOOKUP(B489,'[1]002'!B:M,11,0)","v":"-"},{"$f":"VLOOKUP(B489,'[1]002'!B:M,12,0)","v":"-"},{"$f":"VLOOKUP(B489,[2]sheet2!B:L,10,0)","v":"-"},{"$f":"VLOOKUP(B489,[2]sheet2!B:L,11,0)","v":"-"},"http://183.62.54.51:8841/data/files/certificate/000000000439/45511f0688bc438eaeacd9d806c02d40/signed/487_何姗文_三等奖_6374.pdf"]
[488,"P303119090809","Weather","小学组","课件","三等奖","佛山市",{"$f":"VLOOKUP(B490,'[1]002'!B:M,7,0)","v":"黄玲玲"},{"$f":"VLOOKUP(B490,'[1]002'!B:M,8,0)","v":"禅城区南庄镇中心小学"},{"$f":"VLOOKUP(B490,'[1]002'!B:M,11,0)","v":"-"},{"$f":"VLOOKUP(B490,'[1]002'!B:M,12,0)","v":"-"},{"$f":"VLOOKUP(B490,[2]sheet2!B:L,10,0)","v":"-"},{"$f":"VLOOKUP(B490,[2]sheet2!B:L,11,0)","v":"-"},"http://183.62.54.51:8841/data/files/certificate/000000000439/ccec8e9788d44d87a8e2ae9e05e350b9/signed/488_黄玲玲_三等奖_6375.pdf"]
[489,"P303119090821","Unit5DoyoulikepearsBtalk","小学组","课件","三等奖","佛山市",{"$f":"VLOOKUP(B491,'[1]002'!B:M,7,0)","v":"李健敏"},{"$f":"VLOOKUP(B491,'[1]002'!B:M,8,0)","v":"佛山市南海区大沥镇盐步中心小学"},{"$f":"VLOOKUP(B491,'[1]002'!B:M,11,0)","v":"-"},{"$f":"VLOOKUP(B491,'[1]002'!B:M,12,0)","v":"-"},{"$f":"VLOOKUP(B491,[2]sheet2!B:L,10,0)","v":"-"},{"$f":"VLOOKUP(B491,[2]sheet2!B:L,11,0)","v":"-"},"http://183.62.54.51:8841/data/files/certificate/000000000439/e9cc71a5d3bc46a48187a37f3ee95834/signed/489_李健敏_三等奖_6376.pdf"]
[490,"P303119090866","人教版英语三年级下册Unit5Storytime","小学组","课件","三等奖","佛山市",{"$f":"VLOOKUP(B492,'[1]002'!B:M,7,0)","v":"陈梦霞"},{"$f":"VLOOKUP(B492,'[1]002'!B:M,8,0)","v":"佛山市三水区西南中学"},{"$f":"VLOOKUP(B492,'[1]002'!B:M,11,0)","v":"-"},{"$f":"VLOOKUP(B492,'[1]002'!B:M,12,0)","v":"-"},{"$f":"VLOOKUP(B492,[2]sheet2!B:L,10,0)","v":"-"},{"$f":"VLOOKUP(B492,[2]sheet2!B:L,11,0)","v":"-"},"http://183.62.54.51:8841/data/files/certificate/000000000439/efee3cd851464ac1a8d3296ffd926d5f/signed/490_陈梦霞_三等奖_6377.pdf"]
[491,"P303119087936","送元二使安西","小学组","课件","三等奖","韶关市",{"$f":"VLOOKUP(B493,'[1]002'!B:M,7,0)","v":"张秀早"},{"$f":"VLOOKUP(B493,'[1]002'!B:M,8,0)","v":"翁源县龙仙第三小学"},{"$f":"VLOOKUP(B493,'[1]002'!B:M,11,0)","v":"谢春燕"},{"$f":"VLOOKUP(B493,'[1]002'!B:M,12,0)","v":"翁源县龙仙第三小学"},{"$f":"VLOOKUP(B493,[2]sheet2!B:L,10,0)","v":"-"},{"$f":"VLOOKUP(B493,[2]sheet2!B:L,11,0)","v":"-"},"http://183.62.54.51:8841/data/files/certificate/000000000439/6efdb2699795430aa5fc0b6fa5b91eaa/signed/491_张秀早、谢春燕_三等奖_6378.pdf"]
[492,"P303119088445","整理与复习--圆","小学组","课件","三等奖","韶关市",{"$f":"VLOOKUP(B494,'[1]002'!B:M,7,0)","v":"杨春燕"},{"$f":"VLOOKUP(B494,'[1]002'!B:M,8,0)","v":"始兴县马市镇中心小学"},{"$f":"VLOOKUP(B494,'[1]002'!B:M,11,0)","v":"-"},{"$f":"VLOOKUP(B494,'[1]002'!B:M,12,0)","v":"-"},{"$f":"VLOOKUP(B494,[2]sheet2!B:L,10,0)","v":"-"},{"$f":"VLOOKUP(B494,[2]sheet2!B:L,11,0)","v":"-"},"http://183.62.54.51:8841/data/files/certificate/000000000439/185a48f496df41f1bb8bfa06b8139454/signed/492_杨春燕_三等奖_6379.pdf"]
[493,"P303119088075","乒乓球入门教程","小学组","课件","三等奖","韶关市",{"$f":"VLOOKUP(B495,'[1]002'!B:M,7,0)","v":"梁欢欢"},{"$f":"VLOOKUP(B495,'[1]002'!B:M,8,0)","v":"翁源县新江镇中心小学"},{"$f":"VLOOKUP(B495,'[1]002'!B:M,11,0)","v":"-"},{"$f":"VLOOKUP(B495,'[1]002'!B:M,12,0)","v":"-"},{"$f":"VLOOKUP(B495,[2]sheet2!B:L,10,0)","v":"-"},{"$f":"VLOOKUP(B495,[2]sheet2!B:L,11,0)","v":"-"},"http://183.62.54.51:8841/data/files/certificate/000000000439/9dcd2991c9694e86aeffb90f791bf8ce/signed/493_梁欢欢_三等奖_6380.pdf"]
[494,"P303119088050","神奇的变化","小学组","课件","三等奖","韶关市",{"$f":"VLOOKUP(B496,'[1]002'!B:M,7,0)","v":"赖娉"},{"$f":"VLOOKUP(B496,'[1]002'!B:M,8,0)","v":"韶关市武江区黄田坝小学"},{"$f":"VLOOKUP(B496,'[1]002'!B:M,11,0)","v":"-"},{"$f":"VLOOKUP(B496,'[1]002'!B:M,12,0)","v":"-"},{"$f":"VLOOKUP(B496,[2]sheet2!B:L,10,0)","v":"-"},{"$f":"VLOOKUP(B496,[2]sheet2!B:L,11,0)","v":"-"},"http://183.62.54.51:8841/data/files/certificate/000000000439/47bce8f95040412c8eeb583f1dbbd81b/signed/494_赖娉_三等奖_6381.pdf"]
[495,"P303119089726","花的世界","小学组","课件","三等奖","韶关市",{"$f":"VLOOKUP(B497,'[1]002'!B:M,7,0)","v":"侯欢"},{"$f":"VLOOKUP(B497,'[1]002'!B:M,8,0)","v":"韶关市曲江区九龄小学"},{"$f":"VLOOKUP(B497,'[1]002'!B:M,11,0)","v":"-"},{"$f":"VLOOKUP(B497,'[1]002'!B:M,12,0)","v":"-"},{"$f":"VLOOKUP(B497,[2]sheet2!B:L,10,0)","v":"-"},{"$f":"VLOOKUP(B497,[2]sheet2!B:L,11,0)","v":"-"},"http://183.62.54.51:8841/data/files/certificate/000000000439/5c05064f6194430594bc1671374d1b23/signed/495_侯欢_三等奖_6382.pdf"]
[496,"P303119093458","Unit2Colours","小学组","课件","三等奖","河源市",{"$f":"VLOOKUP(B498,'[1]002'!B:M,7,0)","v":"戴利云"},{"$f":"VLOOKUP(B498,'[1]002'!B:M,8,0)","v":"河源市源城区下城小学"},{"$f":"VLOOKUP(B498,'[1]002'!B:M,11,0)","v":"-"},{"$f":"VLOOKUP(B498,'[1]002'!B:M,12,0)","v":"-"},{"$f":"VLOOKUP(B498,[2]sheet2!B:L,10,0)","v":"-"},{"$f":"VLOOKUP(B498,[2]sheet2!B:L,11,0)","v":"-"},"http://183.62.54.51:8841/data/files/certificate/000000000439/cde37c9f26fc40f1831f7c516aefc56c/signed/496_戴利云_三等奖_6383.pdf"]
[497,"P303119093447","全等三角形","小学组","课件","三等奖","河源市",{"$f":"VLOOKUP(B499,'[1]002'!B:M,7,0)","v":"叶茂勇"},{"$f":"VLOOKUP(B499,'[1]002'!B:M,8,0)","v":"河源市第三小学"},{"$f":"VLOOKUP(B499,'[1]002'!B:M,11,0)","v":"-"},{"$f":"VLOOKUP(B499,'[1]002'!B:M,12,0)","v":"-"},{"$f":"VLOOKUP(B499,[2]sheet2!B:L,10,0)","v":"-"},{"$f":"VLOOKUP(B499,[2]sheet2!B:L,11,0)","v":"-"},"http://183.62.54.51:8841/data/files/certificate/000000000439/a4a8779efd8c48128e9d85586192c6fd/signed/497_叶茂勇_三等奖_6384.pdf"]
[498,"P303119093444","Myschoolbag","小学组","课件","三等奖","河源市",{"$f":"VLOOKUP(B500,'[1]002'!B:M,7,0)","v":"林妍"},{"$f":"VLOOKUP(B500,'[1]002'!B:M,8,0)","v":"河源市源城区黄子洞小学"},{"$f":"VLOOKUP(B500,'[1]002'!B:M,11,0)","v":"-"},{"$f":"VLOOKUP(B500,'[1]002'!B:M,12,0)","v":"-"},{"$f":"VLOOKUP(B500,[2]sheet2!B:L,10,0)","v":"-"},{"$f":"VLOOKUP(B500,[2]sheet2!B:L,11,0)","v":"-"},"http://183.62.54.51:8841/data/files/certificate/000000000439/9ec6110c8fe540fc90cf0f612a7841cf/signed/498_林妍_三等奖_6385.pdf"]
[499,"P303119093448","Pep人教版三年级上册Recycle2Readaloud","小学组","课件","三等奖","河源市",{"$f":"VLOOKUP(B501,'[1]002'!B:M,7,0)","v":"杨丽"},{"$f":"VLOOKUP(B501,'[1]002'!B:M,8,0)","v":"东源县上莞镇常美小学"},{"$f":"VLOOKUP(B501,'[1]002'!B:M,11,0)","v":"-"},{"$f":"VLOOKUP(B501,'[1]002'!B:M,12,0)","v":"-"},{"$f":"VLOOKUP(B501,[2]sheet2!B:L,10,0)","v":"-"},{"$f":"VLOOKUP(B501,[2]sheet2!B:L,11,0)","v":"-"},"http://183.62.54.51:8841/data/files/certificate/000000000439/786626796d2f4cea9d5b962ec3f532f4/signed/499_杨丽_三等奖_6386.pdf"]
[500,"P303119093457","教学课件","小学组","课件","三等奖","河源市",{"$f":"VLOOKUP(B502,'[1]002'!B:M,7,0)","v":"何淑蕾"},{"$f":"VLOOKUP(B502,'[1]002'!B:M,8,0)","v":"河源市源城区下城小学"},{"$f":"VLOOKUP(B502,'[1]002'!B:M,11,0)","v":"-"},{"$f":"VLOOKUP(B502,'[1]002'!B:M,12,0)","v":"-"},{"$f":"VLOOKUP(B502,[2]sheet2!B:L,10,0)","v":"-"},{"$f":"VLOOKUP(B502,[2]sheet2!B:L,11,0)","v":"-"},"http://183.62.54.51:8841/data/files/certificate/000000000439/98b60974790541b2af9852882c41428a/signed/500_何淑蕾_三等奖_6387.pdf"]
[501,"P303119093459","会话课","小学组","课件","三等奖","河源市",{"$f":"VLOOKUP(B503,'[1]002'!B:M,7,0)","v":"黎祝琴"},{"$f":"VLOOKUP(B503,'[1]002'!B:M,8,0)","v":"河源市源城区城东学校"},{"$f":"VLOOKUP(B503,'[1]002'!B:M,11,0)","v":"-"},{"$f":"VLOOKUP(B503,'[1]002'!B:M,12,0)","v":"-"},{"$f":"VLOOKUP(B503,[2]sheet2!B:L,10,0)","v":"-"},{"$f":"VLOOKUP(B503,[2]sheet2!B:L,11,0)","v":"-"},"http://183.62.54.51:8841/data/files/certificate/000000000439/d6d2d8298eb8466e988a208ad72fb7d8/signed/501_黎祝琴_三等奖_6388.pdf"]
[502,"P303119093450","英语课件","小学组","课件","三等奖","河源市",{"$f":"VLOOKUP(B504,'[1]002'!B:M,7,0)","v":"朱婷婷"},{"$f":"VLOOKUP(B504,'[1]002'!B:M,8,0)","v":"东源县顺天镇中心小学"},{"$f":"VLOOKUP(B504,'[1]002'!B:M,11,0)","v":"-"},{"$f":"VLOOKUP(B504,'[1]002'!B:M,12,0)","v":"-"},{"$f":"VLOOKUP(B504,[2]sheet2!B:L,10,0)","v":"-"},{"$f":"VLOOKUP(B504,[2]sheet2!B:L,11,0)","v":"-"},"http://183.62.54.51:8841/data/files/certificate/000000000439/3c05bd7983aa4c27b7af02e37c06bf37/signed/502_朱婷婷_三等奖_6389.pdf"]
[503,"P303119093462","Unit4_PartB_read_and_write","小学组","课件","三等奖","河源市",{"$f":"VLOOKUP(B505,'[1]002'!B:M,7,0)","v":"陈秀妮"},{"$f":"VLOOKUP(B505,'[1]002'!B:M,8,0)","v":"老隆镇第三小学"},{"$f":"VLOOKUP(B505,'[1]002'!B:M,11,0)","v":"-"},{"$f":"VLOOKUP(B505,'[1]002'!B:M,12,0)","v":"-"},{"$f":"VLOOKUP(B505,[2]sheet2!B:L,10,0)","v":"-"},{"$f":"VLOOKUP(B505,[2]sheet2!B:L,11,0)","v":"-"},"http://183.62.54.51:8841/data/files/certificate/000000000439/d780b0135bcf475fa8ccb0b882a66c81/signed/503_陈秀妮_三等奖_6390.pdf"]
[504,"P303119093437","PEP小学英语五年级上册U5读写课","小学组","课件","三等奖","河源市",{"$f":"VLOOKUP(B506,'[1]002'!B:M,7,0)","v":"古丽玲"},{"$f":"VLOOKUP(B506,'[1]002'!B:M,8,0)","v":"东源县崇文学校"},{"$f":"VLOOKUP(B506,'[1]002'!B:M,11,0)","v":"-"},{"$f":"VLOOKUP(B506,'[1]002'!B:M,12,0)","v":"-"},{"$f":"VLOOKUP(B506,[2]sheet2!B:L,10,0)","v":"-"},{"$f":"VLOOKUP(B506,[2]sheet2!B:L,11,0)","v":"-"},"http://183.62.54.51:8841/data/files/certificate/000000000439/e35d58cc7633442aaea07324d1230033/signed/504_古丽玲_三等奖_6391.pdf"]
[505,"P303119093445","太空生活趣事多","小学组","课件","三等奖","河源市",{"$f":"VLOOKUP(B507,'[1]002'!B:M,7,0)","v":"顾梅花"},{"$f":"VLOOKUP(B507,'[1]002'!B:M,8,0)","v":"河源市源城区雅居乐小学"},{"$f":"VLOOKUP(B507,'[1]002'!B:M,11,0)","v":"-"},{"$f":"VLOOKUP(B507,'[1]002'!B:M,12,0)","v":"-"},{"$f":"VLOOKUP(B507,[2]sheet2!B:L,10,0)","v":"-"},{"$f":"VLOOKUP(B507,[2]sheet2!B:L,11,0)","v":"-"},"http://183.62.54.51:8841/data/files/certificate/000000000439/24e7a7bdbe79428d8c89c0b858791609/signed/505_顾梅花_三等奖_6392.pdf"]
[506,"P303119093456","Unit5Thereisabigbed","小学组","课件","三等奖","河源市",{"$f":"VLOOKUP(B508,'[1]002'!B:M,7,0)","v":"罗丽金"},{"$f":"VLOOKUP(B508,'[1]002'!B:M,8,0)","v":"河源市源城区下城小学"},{"$f":"VLOOKUP(B508,'[1]002'!B:M,11,0)","v":"-"},{"$f":"VLOOKUP(B508,'[1]002'!B:M,12,0)","v":"-"},{"$f":"VLOOKUP(B508,[2]sheet2!B:L,10,0)","v":"-"},{"$f":"VLOOKUP(B508,[2]sheet2!B:L,11,0)","v":"-"},"http://183.62.54.51:8841/data/files/certificate/000000000439/8895c4f09bc04a9eb34e1804da4b3487/signed/506_罗丽金_三等奖_6393.pdf"]
[507,"P303119093439","圆的周长","小学组","课件","三等奖","河源市",{"$f":"VLOOKUP(B509,'[1]002'!B:M,7,0)","v":"钟丽珊"},{"$f":"VLOOKUP(B509,'[1]002'!B:M,8,0)","v":"东源县黄村镇中心小学"},{"$f":"VLOOKUP(B509,'[1]002'!B:M,11,0)","v":"-"},{"$f":"VLOOKUP(B509,'[1]002'!B:M,12,0)","v":"-"},{"$f":"VLOOKUP(B509,[2]sheet2!B:L,10,0)","v":"-"},{"$f":"VLOOKUP(B509,[2]sheet2!B:L,11,0)","v":"-"},"http://183.62.54.51:8841/data/files/certificate/000000000439/42406cc6b5cb475ba7eaa79adb8d4bc0/signed/507_钟丽珊_三等奖_6394.pdf"]
[508,"P303119093443","PEP小学英语五年级下册Unit5WhosedogisitAlearn","小学组","课件","三等奖","河源市",{"$f":"VLOOKUP(B510,'[1]002'!B:M,7,0)","v":"曾耀芬"},{"$f":"VLOOKUP(B510,'[1]002'!B:M,8,0)","v":"河源市源城区下城小学"},{"$f":"VLOOKUP(B510,'[1]002'!B:M,11,0)","v":"-"},{"$f":"VLOOKUP(B510,'[1]002'!B:M,12,0)","v":"-"},{"$f":"VLOOKUP(B510,[2]sheet2!B:L,10,0)","v":"-"},{"$f":"VLOOKUP(B510,[2]sheet2!B:L,11,0)","v":"-"},"http://183.62.54.51:8841/data/files/certificate/000000000439/951d20a6b88a401d87621ecf2c4545cf/signed/508_曾耀芬_三等奖_6395.pdf"]
[509,"P303119084306","减小液体的阻力的方法","小学组","课件","三等奖","梅州市",{"$f":"VLOOKUP(B511,'[1]002'!B:M,7,0)","v":"黄艳"},{"$f":"VLOOKUP(B511,'[1]002'!B:M,8,0)","v":"梅州市梅江区人民小学"},{"$f":"VLOOKUP(B511,'[1]002'!B:M,11,0)","v":"-"},{"$f":"VLOOKUP(B511,'[1]002'!B:M,12,0)","v":"-"},{"$f":"VLOOKUP(B511,[2]sheet2!B:L,10,0)","v":"-"},{"$f":"VLOOKUP(B511,[2]sheet2!B:L,11,0)","v":"-"},"http://183.62.54.51:8841/data/files/certificate/000000000439/d451b104c43d466aa62e879c99c09bcf/signed/509_黄艳_三等奖_6396.pdf"]
[510,"P303119081314","永生的眼睛","小学组","课件","三等奖","梅州市",{"$f":"VLOOKUP(B512,'[1]002'!B:M,7,0)","v":"林丹凤"},{"$f":"VLOOKUP(B512,'[1]002'!B:M,8,0)","v":"梅州市梅江区实验中学"},{"$f":"VLOOKUP(B512,'[1]002'!B:M,11,0)","v":"-"},{"$f":"VLOOKUP(B512,'[1]002'!B:M,12,0)","v":"-"},{"$f":"VLOOKUP(B512,[2]sheet2!B:L,10,0)","v":"-"},{"$f":"VLOOKUP(B512,[2]sheet2!B:L,11,0)","v":"-"},"http://183.62.54.51:8841/data/files/certificate/000000000439/affe1c09fc484805b6f3ea4bd4e2e5fa/signed/510_林丹凤_三等奖_6397.pdf"]
[511,"P303119087003","圆的面积计算公式的推导","小学组","课件","三等奖","梅州市",{"$f":"VLOOKUP(B513,'[1]002'!B:M,7,0)","v":"林群燕"},{"$f":"VLOOKUP(B513,'[1]002'!B:M,8,0)","v":"梅州市梅县区丽群小学"},{"$f":"VLOOKUP(B513,'[1]002'!B:M,11,0)","v":"-"},{"$f":"VLOOKUP(B513,'[1]002'!B:M,12,0)","v":"-"},{"$f":"VLOOKUP(B513,[2]sheet2!B:L,10,0)","v":"-"},{"$f":"VLOOKUP(B513,[2]sheet2!B:L,11,0)","v":"-"},"http://183.62.54.51:8841/data/files/certificate/000000000439/05cc0cb6feec4188a62a2a3368b03b14/signed/511_林群燕_三等奖_6398.pdf"]
[512,"P303119092136","威尼斯的小艇","小学组","课件","三等奖","惠州市",{"$f":"VLOOKUP(B514,'[1]002'!B:M,7,0)","v":"陈志伟"},{"$f":"VLOOKUP(B514,'[1]002'!B:M,8,0)","v":"惠州市惠阳区秋长中心小学"},{"$f":"VLOOKUP(B514,'[1]002'!B:M,11,0)","v":"陶远秋"},{"$f":"VLOOKUP(B514,'[1]002'!B:M,12,0)","v":"惠州市惠阳区秋长中心小学"},{"$f":"VLOOKUP(B514,[2]sheet2!B:L,10,0)","v":"-"},{"$f":"VLOOKUP(B514,[2]sheet2!B:L,11,0)","v":"-"},"http://183.62.54.51:8841/data/files/certificate/000000000439/d161b4b4003747cea288603defd55bca/signed/512_陈志伟、陶远秋_三等奖_6399.pdf"]
[513,"P303119092167","落花生","小学组","课件","三等奖","惠州市",{"$f":"VLOOKUP(B515,'[1]002'!B:M,7,0)","v":"杨春媚"},{"$f":"VLOOKUP(B515,'[1]002'!B:M,8,0)","v":"惠东县吉隆中心小学"},{"$f":"VLOOKUP(B515,'[1]002'!B:M,11,0)","v":"-"},{"$f":"VLOOKUP(B515,'[1]002'!B:M,12,0)","v":"-"},{"$f":"VLOOKUP(B515,[2]sheet2!B:L,10,0)","v":"-"},{"$f":"VLOOKUP(B515,[2]sheet2!B:L,11,0)","v":"-"},"http://183.62.54.51:8841/data/files/certificate/000000000439/a622dfe73ac54789befa115c318f1014/signed/513_杨春媚_三等奖_6400.pdf"]
[514,"P303119092180","总也倒不了的老屋","小学组","课件","三等奖","惠州市",{"$f":"VLOOKUP(B516,'[1]002'!B:M,7,0)","v":"黄玉连"},{"$f":"VLOOKUP(B516,'[1]002'!B:M,8,0)","v":"惠东县实验小学"},{"$f":"VLOOKUP(B516,'[1]002'!B:M,11,0)","v":"-"},{"$f":"VLOOKUP(B516,'[1]002'!B:M,12,0)","v":"-"},{"$f":"VLOOKUP(B516,[2]sheet2!B:L,10,0)","v":"-"},{"$f":"VLOOKUP(B516,[2]sheet2!B:L,11,0)","v":"-"},"http://183.62.54.51:8841/data/files/certificate/000000000439/d7da4cc03baa44b686f6a0245cde0e64/signed/514_黄玉连_三等奖_6401.pdf"]
[515,"P303119092343","面的旋转","小学组","课件","三等奖","惠州市",{"$f":"VLOOKUP(B517,'[1]002'!B:M,7,0)","v":"彭可可"},{"$f":"VLOOKUP(B517,'[1]002'!B:M,8,0)","v":"北师大珠海分校惠州附属学校"},{"$f":"VLOOKUP(B517,'[1]002'!B:M,11,0)","v":"陈妃霞"},{"$f":"VLOOKUP(B517,'[1]002'!B:M,12,0)","v":"北师大珠海分校惠州附属学校"},{"$f":"VLOOKUP(B517,[2]sheet2!B:L,10,0)","v":"-"},{"$f":"VLOOKUP(B517,[2]sheet2!B:L,11,0)","v":"-"},"http://183.62.54.51:8841/data/files/certificate/000000000439/6ba67c4b4ff242ca9d6fef8465072241/signed/515_彭可可、陈妃霞_三等奖_6402.pdf"]
[516,"P303119092173","PEPBook2 Unit4 Where is my car?","小学组","课件","三等奖","惠州市",{"$f":"VLOOKUP(B518,'[1]002'!B:M,7,0)","v":"蔡素芬"},{"$f":"VLOOKUP(B518,'[1]002'!B:M,8,0)","v":"惠东县吉隆中心小学"},{"$f":"VLOOKUP(B518,'[1]002'!B:M,11,0)","v":"-"},{"$f":"VLOOKUP(B518,'[1]002'!B:M,12,0)","v":"-"},{"$f":"VLOOKUP(B518,[2]sheet2!B:L,10,0)","v":"-"},{"$f":"VLOOKUP(B518,[2]sheet2!B:L,11,0)","v":"-"},"http://183.62.54.51:8841/data/files/certificate/000000000439/df97190c8c2d4e5e97108842e1507565/signed/516_蔡素芬_三等奖_6403.pdf"]
[517,"P303119092184","Unit 3 My friends","小学组","课件","三等奖","惠州市",{"$f":"VLOOKUP(B519,'[1]002'!B:M,7,0)","v":"邬健平"},{"$f":"VLOOKUP(B519,'[1]002'!B:M,8,0)","v":"惠东县平山第一小学"},{"$f":"VLOOKUP(B519,'[1]002'!B:M,11,0)","v":"胡雪琪"},{"$f":"VLOOKUP(B519,'[1]002'!B:M,12,0)","v":"惠东县平山第一小学"},{"$f":"VLOOKUP(B519,[2]sheet2!B:L,10,0)","v":"-"},{"$f":"VLOOKUP(B519,[2]sheet2!B:L,11,0)","v":"-"},"http://183.62.54.51:8841/data/files/certificate/000000000439/3e8caab03c534f9b86e7078741178b86/signed/517_邬健平、胡雪琪_三等奖_6404.pdf"]
[518,"P303119092134","彩色的非洲","小学组","课件","三等奖","惠州市",{"$f":"VLOOKUP(B520,'[1]002'!B:M,7,0)","v":"马婷婷"},{"$f":"VLOOKUP(B520,'[1]002'!B:M,8,0)","v":"惠州市惠阳区淡水第六小学"},{"$f":"VLOOKUP(B520,'[1]002'!B:M,11,0)","v":"张锦花"},{"$f":"VLOOKUP(B520,'[1]002'!B:M,12,0)","v":"惠州市惠阳区淡水第六小学"},{"$f":"VLOOKUP(B520,[2]sheet2!B:L,10,0)","v":"-"},{"$f":"VLOOKUP(B520,[2]sheet2!B:L,11,0)","v":"-"},"http://183.62.54.51:8841/data/files/certificate/000000000439/536de61b56be40d8b2dbedfde13c91e7/signed/518_马婷婷、张锦花_三等奖_6405.pdf"]
[519,"P303119092170","学会观察","小学组","课件","三等奖","惠州市",{"$f":"VLOOKUP(B521,'[1]002'!B:M,7,0)","v":"欧瑞英"},{"$f":"VLOOKUP(B521,'[1]002'!B:M,8,0)","v":"惠东县吉隆中心小学"},{"$f":"VLOOKUP(B521,'[1]002'!B:M,11,0)","v":"-"},{"$f":"VLOOKUP(B521,'[1]002'!B:M,12,0)","v":"-"},{"$f":"VLOOKUP(B521,[2]sheet2!B:L,10,0)","v":"-"},{"$f":"VLOOKUP(B521,[2]sheet2!B:L,11,0)","v":"-"},"http://183.62.54.51:8841/data/files/certificate/000000000439/89a4167d8e1c445cba700c7cfbb2e19d/signed/519_欧瑞英_三等奖_6406.pdf"]
[520,"P303119092169","Unit5 Let us eat A","小学组","课件","三等奖","惠州市",{"$f":"VLOOKUP(B522,'[1]002'!B:M,7,0)","v":"邬健平"},{"$f":"VLOOKUP(B522,'[1]002'!B:M,8,0)","v":"惠东县平山第一小学"},{"$f":"VLOOKUP(B522,'[1]002'!B:M,11,0)","v":"杜淑键"},{"$f":"VLOOKUP(B522,'[1]002'!B:M,12,0)","v":"惠东县平山第一小学"},{"$f":"VLOOKUP(B522,[2]sheet2!B:L,10,0)","v":"-"},{"$f":"VLOOKUP(B522,[2]sheet2!B:L,11,0)","v":"-"},"http://183.62.54.51:8841/data/files/certificate/000000000439/44dfc4e47c774d7b8757fb76f58dbb8f/signed/520_邬健平、杜淑键_三等奖_6407.pdf"]
[521,"P303119092168","童年趣事","小学组","课件","三等奖","惠州市",{"$f":"VLOOKUP(B523,'[1]002'!B:M,7,0)","v":"李伟实"},{"$f":"VLOOKUP(B523,'[1]002'!B:M,8,0)","v":"惠东县吉隆中心小学"},{"$f":"VLOOKUP(B523,'[1]002'!B:M,11,0)","v":"-"},{"$f":"VLOOKUP(B523,'[1]002'!B:M,12,0)","v":"-"},{"$f":"VLOOKUP(B523,[2]sheet2!B:L,10,0)","v":"-"},{"$f":"VLOOKUP(B523,[2]sheet2!B:L,11,0)","v":"-"},"http://183.62.54.51:8841/data/files/certificate/000000000439/ace440583c9b4d2ebb12b734ad84eecd/signed/521_李伟实_三等奖_6408.pdf"]
[522,"P303119092137","六年级下册unit3Alearn","小学组","课件","三等奖","惠州市",{"$f":"VLOOKUP(B524,'[1]002'!B:M,7,0)","v":"陈凌洁"},{"$f":"VLOOKUP(B524,'[1]002'!B:M,8,0)","v":"惠州市惠阳区淡水第六小学"},{"$f":"VLOOKUP(B524,'[1]002'!B:M,11,0)","v":"-"},{"$f":"VLOOKUP(B524,'[1]002'!B:M,12,0)","v":"-"},{"$f":"VLOOKUP(B524,[2]sheet2!B:L,10,0)","v":"-"},{"$f":"VLOOKUP(B524,[2]sheet2!B:L,11,0)","v":"-"},"http://183.62.54.51:8841/data/files/certificate/000000000439/c0dd8022f894451da3d6a9a03e0e1da6/signed/522_陈凌洁_三等奖_6409.pdf"]
[523,"P303119092103","枫树上的喜鹊","小学组","课件","三等奖","惠州市",{"$f":"VLOOKUP(B525,'[1]002'!B:M,7,0)","v":"伍艳"},{"$f":"VLOOKUP(B525,'[1]002'!B:M,8,0)","v":"惠州仲恺高新区第三小学"},{"$f":"VLOOKUP(B525,'[1]002'!B:M,11,0)","v":"甘伟城"},{"$f":"VLOOKUP(B525,'[1]002'!B:M,12,0)","v":"惠州仲恺高新区第三小学"},{"$f":"VLOOKUP(B525,[2]sheet2!B:L,10,0)","v":"-"},{"$f":"VLOOKUP(B525,[2]sheet2!B:L,11,0)","v":"-"},"http://183.62.54.51:8841/data/files/certificate/000000000439/f104a4013485446daad09c2213f3d7e4/signed/523_伍艳、甘伟城_三等奖_6410.pdf"]
[524,"P303119092140","Unit3WeatherALetslearn课件","小学组","课件","三等奖","惠州市",{"$f":"VLOOKUP(B526,'[1]002'!B:M,7,0)","v":"李燕华"},{"$f":"VLOOKUP(B526,'[1]002'!B:M,8,0)","v":"惠州市惠阳区淡水第六小学"},{"$f":"VLOOKUP(B526,'[1]002'!B:M,11,0)","v":"-"},{"$f":"VLOOKUP(B526,'[1]002'!B:M,12,0)","v":"-"},{"$f":"VLOOKUP(B526,[2]sheet2!B:L,10,0)","v":"-"},{"$f":"VLOOKUP(B526,[2]sheet2!B:L,11,0)","v":"-"},"http://183.62.54.51:8841/data/files/certificate/000000000439/908545b3517b4bc983fbe3224afc0cb4/signed/524_李燕华_三等奖_6411.pdf"]
[525,"P303119092185","有趣的测量","小学组","课件","三等奖","惠州市",{"$f":"VLOOKUP(B527,'[1]002'!B:M,7,0)","v":"徐祥云"},{"$f":"VLOOKUP(B527,'[1]002'!B:M,8,0)","v":"惠东县吉隆中心小学"},{"$f":"VLOOKUP(B527,'[1]002'!B:M,11,0)","v":"-"},{"$f":"VLOOKUP(B527,'[1]002'!B:M,12,0)","v":"-"},{"$f":"VLOOKUP(B527,[2]sheet2!B:L,10,0)","v":"-"},{"$f":"VLOOKUP(B527,[2]sheet2!B:L,11,0)","v":"-"},"http://183.62.54.51:8841/data/files/certificate/000000000439/e974c8bd3ec743339f481692b3ef95fb/signed/525_徐祥云_三等奖_6412.pdf"]
[526,"P303119092252","Module 4 unit 1 Sam likes T-shirt","小学组","课件","三等奖","惠州市",{"$f":"VLOOKUP(B528,'[1]002'!B:M,7,0)","v":"杨玉婷"},{"$f":"VLOOKUP(B528,'[1]002'!B:M,8,0)","v":"惠州市光正实验学校"},{"$f":"VLOOKUP(B528,'[1]002'!B:M,11,0)","v":"-"},{"$f":"VLOOKUP(B528,'[1]002'!B:M,12,0)","v":"-"},{"$f":"VLOOKUP(B528,[2]sheet2!B:L,10,0)","v":"-"},{"$f":"VLOOKUP(B528,[2]sheet2!B:L,11,0)","v":"-"},"http://183.62.54.51:8841/data/files/certificate/000000000439/312709cb7fc747d1b09a3889fb9717ef/signed/526_杨玉婷_三等奖_6413.pdf"]
[527,"P303119092393","有余数除法的竖式计算","小学组","课件","三等奖","汕尾市",{"$f":"VLOOKUP(B529,'[1]002'!B:M,7,0)","v":"丁晓英"},{"$f":"VLOOKUP(B529,'[1]002'!B:M,8,0)","v":"汕尾市城区凤山街道奎山小学"},{"$f":"VLOOKUP(B529,'[1]002'!B:M,11,0)","v":"-"},{"$f":"VLOOKUP(B529,'[1]002'!B:M,12,0)","v":"-"},{"$f":"VLOOKUP(B529,[2]sheet2!B:L,10,0)","v":"-"},{"$f":"VLOOKUP(B529,[2]sheet2!B:L,11,0)","v":"-"},"http://183.62.54.51:8841/data/files/certificate/000000000439/5efb513419684230ac159bdc059851a3/signed/527_丁晓英_三等奖_6414.pdf"]
[528,"P303119092472","认识周长","小学组","课件","三等奖","东莞市",{"$f":"VLOOKUP(B530,'[1]002'!B:M,7,0)","v":"黄玉娟"},{"$f":"VLOOKUP(B530,'[1]002'!B:M,8,0)","v":"东莞市大朗镇中心小学"},{"$f":"VLOOKUP(B530,'[1]002'!B:M,11,0)","v":"刘铭炜"},{"$f":"VLOOKUP(B530,'[1]002'!B:M,12,0)","v":"东莞市大朗镇中心小学"},{"$f":"VLOOKUP(B530,[2]sheet2!B:L,10,0)","v":"-"},{"$f":"VLOOKUP(B530,[2]sheet2!B:L,11,0)","v":"-"},"http://183.62.54.51:8841/data/files/certificate/000000000439/8d376556925040ce9c0cff0f6d515bf4/signed/528_黄玉娟、刘铭炜_三等奖_6415.pdf"]
[529,"P303119088401","我从哪儿来","小学组","课件","三等奖","中山市",{"$f":"VLOOKUP(B531,'[1]002'!B:M,7,0)","v":"陈红"},{"$f":"VLOOKUP(B531,'[1]002'!B:M,8,0)","v":"中山市石岐中心小学"},{"$f":"VLOOKUP(B531,'[1]002'!B:M,11,0)","v":"王盛"},{"$f":"VLOOKUP(B531,'[1]002'!B:M,12,0)","v":"中山市石岐中心小学"},{"$f":"VLOOKUP(B531,[2]sheet2!B:L,10,0)","v":"刘羽佳"},{"$f":"VLOOKUP(B531,[2]sheet2!B:L,11,0)","v":"中山市石岐中心小学"},"http://183.62.54.51:8841/data/files/certificate/000000000439/ac635868ea454912a90fb8ffe18fe96c/signed/529_陈红、王盛、刘羽佳_三等奖_6416.pdf"]
[530,"P303119088379","赤壁之战","小学组","课件","三等奖","中山市",{"$f":"VLOOKUP(B532,'[1]002'!B:M,7,0)","v":"张芳萍"},{"$f":"VLOOKUP(B532,'[1]002'!B:M,8,0)","v":"中山市板芙镇新联小学"},{"$f":"VLOOKUP(B532,'[1]002'!B:M,11,0)","v":"-"},{"$f":"VLOOKUP(B532,'[1]002'!B:M,12,0)","v":"-"},{"$f":"VLOOKUP(B532,[2]sheet2!B:L,10,0)","v":"-"},{"$f":"VLOOKUP(B532,[2]sheet2!B:L,11,0)","v":"-"},"http://183.62.54.51:8841/data/files/certificate/000000000439/e69feb456b724851b1de53c2c5008365/signed/530_张芳萍_三等奖_6417.pdf"]
[531,"P303119088529","安全记心上——119的警示","小学组","课件","三等奖","中山市",{"$f":"VLOOKUP(B533,'[1]002'!B:M,7,0)","v":"朱晓玲"},{"$f":"VLOOKUP(B533,'[1]002'!B:M,8,0)","v":"中山市石岐中心小学"},{"$f":"VLOOKUP(B533,'[1]002'!B:M,11,0)","v":"-"},{"$f":"VLOOKUP(B533,'[1]002'!B:M,12,0)","v":"-"},{"$f":"VLOOKUP(B533,[2]sheet2!B:L,10,0)","v":"-"},{"$f":"VLOOKUP(B533,[2]sheet2!B:L,11,0)","v":"-"},"http://183.62.54.51:8841/data/files/certificate/000000000439/2c714fd07771475e89574696d65e1a3b/signed/531_朱晓玲_三等奖_6418.pdf"]
[532,"P303119089936","善言有力量","小学组","课件","三等奖","中山市",{"$f":"VLOOKUP(B534,'[1]002'!B:M,7,0)","v":"梁樱珠"},{"$f":"VLOOKUP(B534,'[1]002'!B:M,8,0)","v":"中山市实验小学"},{"$f":"VLOOKUP(B534,'[1]002'!B:M,11,0)","v":"-"},{"$f":"VLOOKUP(B534,'[1]002'!B:M,12,0)","v":"-"},{"$f":"VLOOKUP(B534,[2]sheet2!B:L,10,0)","v":"-"},{"$f":"VLOOKUP(B534,[2]sheet2!B:L,11,0)","v":"-"},"http://183.62.54.51:8841/data/files/certificate/000000000439/c9f09862b462431085672ccd567e5ab7/signed/532_梁樱珠_三等奖_6419.pdf"]
[533,"P303119088435","角的初步认识","小学组","课件","三等奖","中山市",{"$f":"VLOOKUP(B535,'[1]002'!B:M,7,0)","v":"陈湘婷"},{"$f":"VLOOKUP(B535,'[1]002'!B:M,8,0)","v":"中山市西区中心小学"},{"$f":"VLOOKUP(B535,'[1]002'!B:M,11,0)","v":"-"},{"$f":"VLOOKUP(B535,'[1]002'!B:M,12,0)","v":"-"},{"$f":"VLOOKUP(B535,[2]sheet2!B:L,10,0)","v":"-"},{"$f":"VLOOKUP(B535,[2]sheet2!B:L,11,0)","v":"-"},"http://183.62.54.51:8841/data/files/certificate/000000000439/f24508d232b648cfa70c704a6719a669/signed/533_陈湘婷_三等奖_6420.pdf"]
[534,"P303119088806","探索正方体的奥秘","小学组","课件","三等奖","中山市",{"$f":"VLOOKUP(B536,'[1]002'!B:M,7,0)","v":"陈彩丽"},{"$f":"VLOOKUP(B536,'[1]002'!B:M,8,0)","v":"中山市西区铁城小学"},{"$f":"VLOOKUP(B536,'[1]002'!B:M,11,0)","v":"罗志远"},{"$f":"VLOOKUP(B536,'[1]002'!B:M,12,0)","v":"中山市西区烟洲小学"},{"$f":"VLOOKUP(B536,[2]sheet2!B:L,10,0)","v":"-"},{"$f":"VLOOKUP(B536,[2]sheet2!B:L,11,0)","v":"-"},"http://183.62.54.51:8841/data/files/certificate/000000000439/bd9873817cc34c72b7f5116569246bb2/signed/534_陈彩丽、罗志远_三等奖_6421.pdf"]
[535,"P303119091753","Unit4SchoolThings","小学组","课件","三等奖","江门市",{"$f":"VLOOKUP(B537,'[1]002'!B:M,7,0)","v":"黄琼"},{"$f":"VLOOKUP(B537,'[1]002'!B:M,8,0)","v":"江门市蓬江区北郊中心小学"},{"$f":"VLOOKUP(B537,'[1]002'!B:M,11,0)","v":"-"},{"$f":"VLOOKUP(B537,'[1]002'!B:M,12,0)","v":"-"},{"$f":"VLOOKUP(B537,[2]sheet2!B:L,10,0)","v":"-"},{"$f":"VLOOKUP(B537,[2]sheet2!B:L,11,0)","v":"-"},"http://183.62.54.51:8841/data/files/certificate/000000000439/b6589e01271242f592f758f6eb04d272/signed/535_黄琼_三等奖_6422.pdf"]
[536,"P303119092013","研究自行车","小学组","课件","三等奖","江门市",{"$f":"VLOOKUP(B538,'[1]002'!B:M,7,0)","v":"梁育强"},{"$f":"VLOOKUP(B538,'[1]002'!B:M,8,0)","v":"开平市水口镇第一小学"},{"$f":"VLOOKUP(B538,'[1]002'!B:M,11,0)","v":"-"},{"$f":"VLOOKUP(B538,'[1]002'!B:M,12,0)","v":"-"},{"$f":"VLOOKUP(B538,[2]sheet2!B:L,10,0)","v":"-"},{"$f":"VLOOKUP(B538,[2]sheet2!B:L,11,0)","v":"-"},"http://183.62.54.51:8841/data/files/certificate/000000000439/a6a4580ca8d747e5a32f009b98e58418/signed/536_梁育强_三等奖_6423.pdf"]
[537,"P303119091752","桥","小学组","课件","三等奖","江门市",{"$f":"VLOOKUP(B539,'[1]002'!B:M,7,0)","v":"梁群庆"},{"$f":"VLOOKUP(B539,'[1]002'!B:M,8,0)","v":"江门市江华小学"},{"$f":"VLOOKUP(B539,'[1]002'!B:M,11,0)","v":"-"},{"$f":"VLOOKUP(B539,'[1]002'!B:M,12,0)","v":"-"},{"$f":"VLOOKUP(B539,[2]sheet2!B:L,10,0)","v":"-"},{"$f":"VLOOKUP(B539,[2]sheet2!B:L,11,0)","v":"-"},"http://183.62.54.51:8841/data/files/certificate/000000000439/7a21602287994cf3861845e592aa6401/signed/537_梁群庆_三等奖_6424.pdf"]
[538,"P303119091843","古诗词扩写——以清明为例","小学组","课件","三等奖","江门市",{"$f":"VLOOKUP(B540,'[1]002'!B:M,7,0)","v":"何慧君"},{"$f":"VLOOKUP(B540,'[1]002'!B:M,8,0)","v":"外海麻一佑启学校"},{"$f":"VLOOKUP(B540,'[1]002'!B:M,11,0)","v":"-"},{"$f":"VLOOKUP(B540,'[1]002'!B:M,12,0)","v":"-"},{"$f":"VLOOKUP(B540,[2]sheet2!B:L,10,0)","v":"-"},{"$f":"VLOOKUP(B540,[2]sheet2!B:L,11,0)","v":"-"},"http://183.62.54.51:8841/data/files/certificate/000000000439/4307037d747441f890368242a710ea14/signed/538_何慧君_三等奖_6425.pdf"]
[539,"P303119092086","weekendfun教学课件","小学组","课件","三等奖","江门市",{"$f":"VLOOKUP(B541,'[1]002'!B:M,7,0)","v":"苏国添"},{"$f":"VLOOKUP(B541,'[1]002'!B:M,8,0)","v":"江门市新会区双水镇富美学校"},{"$f":"VLOOKUP(B541,'[1]002'!B:M,11,0)","v":"-"},{"$f":"VLOOKUP(B541,'[1]002'!B:M,12,0)","v":"-"},{"$f":"VLOOKUP(B541,[2]sheet2!B:L,10,0)","v":"-"},{"$f":"VLOOKUP(B541,[2]sheet2!B:L,11,0)","v":"-"},"http://183.62.54.51:8841/data/files/certificate/000000000439/cdc9ff12c587424b86480680c3e3638f/signed/539_苏国添_三等奖_6426.pdf"]
[540,"P303119091750","葫芦丝音阶训练","小学组","课件","三等奖","江门市",{"$f":"VLOOKUP(B542,'[1]002'!B:M,7,0)","v":"胡胜锋"},{"$f":"VLOOKUP(B542,'[1]002'!B:M,8,0)","v":"江门市蓬江区荷塘镇白藤小学"},{"$f":"VLOOKUP(B542,'[1]002'!B:M,11,0)","v":"-"},{"$f":"VLOOKUP(B542,'[1]002'!B:M,12,0)","v":"-"},{"$f":"VLOOKUP(B542,[2]sheet2!B:L,10,0)","v":"-"},{"$f":"VLOOKUP(B542,[2]sheet2!B:L,11,0)","v":"-"},"http://183.62.54.51:8841/data/files/certificate/000000000439/784ce88b9cda47c99ab723ca489b8b1e/signed/540_胡胜锋_三等奖_6427.pdf"]
[541,"P303119092083","风的能量","小学组","课件","三等奖","江门市",{"$f":"VLOOKUP(B543,'[1]002'!B:M,7,0)","v":"邓玉婵"},{"$f":"VLOOKUP(B543,'[1]002'!B:M,8,0)","v":"江门市新会区沙堆镇梅阁学校"},{"$f":"VLOOKUP(B543,'[1]002'!B:M,11,0)","v":"-"},{"$f":"VLOOKUP(B543,'[1]002'!B:M,12,0)","v":"-"},{"$f":"VLOOKUP(B543,[2]sheet2!B:L,10,0)","v":"-"},{"$f":"VLOOKUP(B543,[2]sheet2!B:L,11,0)","v":"-"},"http://183.62.54.51:8841/data/files/certificate/000000000439/5427ba8afe92458abdd7c2c4dfbd96f6/signed/541_邓玉婵_三等奖_6428.pdf"]
[542,"P303119091803","曲线工具的使用","小学组","课件","三等奖","江门市",{"$f":"VLOOKUP(B544,'[1]002'!B:M,7,0)","v":"林春菊"},{"$f":"VLOOKUP(B544,'[1]002'!B:M,8,0)","v":"江门市蓬江区杜阮镇瑶芦小学"},{"$f":"VLOOKUP(B544,'[1]002'!B:M,11,0)","v":"-"},{"$f":"VLOOKUP(B544,'[1]002'!B:M,12,0)","v":"-"},{"$f":"VLOOKUP(B544,[2]sheet2!B:L,10,0)","v":"-"},{"$f":"VLOOKUP(B544,[2]sheet2!B:L,11,0)","v":"-"},"http://183.62.54.51:8841/data/files/certificate/000000000439/5b4e9cb22cb84b59a6f0c1c80841ded5/signed/542_林春菊_三等奖_6429.pdf"]
[543,"P303119092886","圆的认识","小学组","课件","三等奖","湛江市",{"$f":"VLOOKUP(B545,'[1]002'!B:M,7,0)","v":"何文婷"},{"$f":"VLOOKUP(B545,'[1]002'!B:M,8,0)","v":"湛江市第三十二小学"},{"$f":"VLOOKUP(B545,'[1]002'!B:M,11,0)","v":"李茜茜"},{"$f":"VLOOKUP(B545,'[1]002'!B:M,12,0)","v":"湛江市第二小学"},{"$f":"VLOOKUP(B545,[2]sheet2!B:L,10,0)","v":"-"},{"$f":"VLOOKUP(B545,[2]sheet2!B:L,11,0)","v":"-"},"http://183.62.54.51:8841/data/files/certificate/000000000439/5b3bad9905454b4db6b6ca5065b61f26/signed/543_何文婷、李茜茜_三等奖_6430.pdf"]
[544,"P303119092891","What does he do","小学组","课件","三等奖","湛江市",{"$f":"VLOOKUP(B546,'[1]002'!B:M,7,0)","v":"金小娜"},{"$f":"VLOOKUP(B546,'[1]002'!B:M,8,0)","v":"湛江经济技术开发区第三小学"},{"$f":"VLOOKUP(B546,'[1]002'!B:M,11,0)","v":"-"},{"$f":"VLOOKUP(B546,'[1]002'!B:M,12,0)","v":"-"},{"$f":"VLOOKUP(B546,[2]sheet2!B:L,10,0)","v":"-"},{"$f":"VLOOKUP(B546,[2]sheet2!B:L,11,0)","v":"-"},"http://183.62.54.51:8841/data/files/certificate/000000000439/fe6989291ff94f01a1f2544eb0e84624/signed/544_金小娜_三等奖_6431.pdf"]
[545,"P303119092887","认识图形","小学组","课件","三等奖","湛江市",{"$f":"VLOOKUP(B547,'[1]002'!B:M,7,0)","v":"耿珍玉"},{"$f":"VLOOKUP(B547,'[1]002'!B:M,8,0)","v":"湛江市第二十八中学"},{"$f":"VLOOKUP(B547,'[1]002'!B:M,11,0)","v":"-"},{"$f":"VLOOKUP(B547,'[1]002'!B:M,12,0)","v":"-"},{"$f":"VLOOKUP(B547,[2]sheet2!B:L,10,0)","v":"-"},{"$f":"VLOOKUP(B547,[2]sheet2!B:L,11,0)","v":"-"},"http://183.62.54.51:8841/data/files/certificate/000000000439/6b867c7dd806466cb24a9948ded4b004/signed/545_耿珍玉_三等奖_6432.pdf"]
[546,"P303119092875","食物链和食物网","小学组","课件","三等奖","湛江市",{"$f":"VLOOKUP(B548,'[1]002'!B:M,7,0)","v":"陈华锦"},{"$f":"VLOOKUP(B548,'[1]002'!B:M,8,0)","v":"遂溪县遂城第四小学"},{"$f":"VLOOKUP(B548,'[1]002'!B:M,11,0)","v":"-"},{"$f":"VLOOKUP(B548,'[1]002'!B:M,12,0)","v":"-"},{"$f":"VLOOKUP(B548,[2]sheet2!B:L,10,0)","v":"-"},{"$f":"VLOOKUP(B548,[2]sheet2!B:L,11,0)","v":"-"},"http://183.62.54.51:8841/data/files/certificate/000000000439/90917956d85f4e9a85102fc51c73a8ab/signed/546_陈华锦_三等奖_6433.pdf"]
[547,"P303119092907","送元二使安西","小学组","课件","三等奖","湛江市",{"$f":"VLOOKUP(B549,'[1]002'!B:M,7,0)","v":"邓文英"},{"$f":"VLOOKUP(B549,'[1]002'!B:M,8,0)","v":"雷州市实验小学"},{"$f":"VLOOKUP(B549,'[1]002'!B:M,11,0)","v":"-"},{"$f":"VLOOKUP(B549,'[1]002'!B:M,12,0)","v":"-"},{"$f":"VLOOKUP(B549,[2]sheet2!B:L,10,0)","v":"-"},{"$f":"VLOOKUP(B549,[2]sheet2!B:L,11,0)","v":"-"},"http://183.62.54.51:8841/data/files/certificate/000000000439/5efe444e610948f88261f3a64cf22ff3/signed/547_邓文英_三等奖_6434.pdf"]
[548,"P303119092884","长方体的认识","小学组","课件","三等奖","湛江市",{"$f":"VLOOKUP(B550,'[1]002'!B:M,7,0)","v":"叶泗凯"},{"$f":"VLOOKUP(B550,'[1]002'!B:M,8,0)","v":"湛江市第二十八中学"},{"$f":"VLOOKUP(B550,'[1]002'!B:M,11,0)","v":"-"},{"$f":"VLOOKUP(B550,'[1]002'!B:M,12,0)","v":"-"},{"$f":"VLOOKUP(B550,[2]sheet2!B:L,10,0)","v":"-"},{"$f":"VLOOKUP(B550,[2]sheet2!B:L,11,0)","v":"-"},"http://183.62.54.51:8841/data/files/certificate/000000000439/ae782aed7b80439b80fe64975258c09b/signed/548_叶泗凯_三等奖_6435.pdf"]
[549,"P303119092892","认识逗号、句号和省略号","小学组","课件","三等奖","湛江市",{"$f":"VLOOKUP(B551,'[1]002'!B:M,7,0)","v":"袁凤"},{"$f":"VLOOKUP(B551,'[1]002'!B:M,8,0)","v":"湛江市第二十九小学"},{"$f":"VLOOKUP(B551,'[1]002'!B:M,11,0)","v":"-"},{"$f":"VLOOKUP(B551,'[1]002'!B:M,12,0)","v":"-"},{"$f":"VLOOKUP(B551,[2]sheet2!B:L,10,0)","v":"-"},{"$f":"VLOOKUP(B551,[2]sheet2!B:L,11,0)","v":"-"},"http://183.62.54.51:8841/data/files/certificate/000000000439/7ad5eb78c0c940b9939eab0d85242d2a/signed/549_袁凤_三等奖_6436.pdf"]
[550,"P303119092871","PEP六年级上册Unit5What does he do?PartC","小学组","课件","三等奖","湛江市",{"$f":"VLOOKUP(B552,'[1]002'!B:M,7,0)","v":"卢嘉瑜"},{"$f":"VLOOKUP(B552,'[1]002'!B:M,8,0)","v":"湛江市第三十二小学"},{"$f":"VLOOKUP(B552,'[1]002'!B:M,11,0)","v":"-"},{"$f":"VLOOKUP(B552,'[1]002'!B:M,12,0)","v":"-"},{"$f":"VLOOKUP(B552,[2]sheet2!B:L,10,0)","v":"-"},{"$f":"VLOOKUP(B552,[2]sheet2!B:L,11,0)","v":"-"},"http://183.62.54.51:8841/data/files/certificate/000000000439/fd99d915edfe4589be6d365c23e61942/signed/550_卢嘉瑜_三等奖_6437.pdf"]
[551,"P303119092889","对称图形","小学组","课件","三等奖","湛江市",{"$f":"VLOOKUP(B553,'[1]002'!B:M,7,0)","v":"叶泗凯"},{"$f":"VLOOKUP(B553,'[1]002'!B:M,8,0)","v":"湛江市第二十八中学"},{"$f":"VLOOKUP(B553,'[1]002'!B:M,11,0)","v":"-"},{"$f":"VLOOKUP(B553,'[1]002'!B:M,12,0)","v":"-"},{"$f":"VLOOKUP(B553,[2]sheet2!B:L,10,0)","v":"-"},{"$f":"VLOOKUP(B553,[2]sheet2!B:L,11,0)","v":"-"},"http://183.62.54.51:8841/data/files/certificate/000000000439/b5289ee942e4459faa5e909e8922b7d4/signed/551_叶泗凯_三等奖_6438.pdf"]
[552,"P303119092890","PEP人教版英语四上Unit 4 At the farm","小学组","课件","三等奖","湛江市",{"$f":"VLOOKUP(B554,'[1]002'!B:M,7,0)","v":"戴诗红"},{"$f":"VLOOKUP(B554,'[1]002'!B:M,8,0)","v":"湛江经济技术开发区第一小学"},{"$f":"VLOOKUP(B554,'[1]002'!B:M,11,0)","v":"-"},{"$f":"VLOOKUP(B554,'[1]002'!B:M,12,0)","v":"-"},{"$f":"VLOOKUP(B554,[2]sheet2!B:L,10,0)","v":"-"},{"$f":"VLOOKUP(B554,[2]sheet2!B:L,11,0)","v":"-"},"http://183.62.54.51:8841/data/files/certificate/000000000439/53f95dbcff624372ba26362a85058d0f/signed/552_戴诗红_三等奖_6439.pdf"]
[553,"P303119092903","彩色的梦","小学组","课件","三等奖","湛江市",{"$f":"VLOOKUP(B555,'[1]002'!B:M,7,0)","v":"唐成任"},{"$f":"VLOOKUP(B555,'[1]002'!B:M,8,0)","v":"雷州市实验小学"},{"$f":"VLOOKUP(B555,'[1]002'!B:M,11,0)","v":"-"},{"$f":"VLOOKUP(B555,'[1]002'!B:M,12,0)","v":"-"},{"$f":"VLOOKUP(B555,[2]sheet2!B:L,10,0)","v":"-"},{"$f":"VLOOKUP(B555,[2]sheet2!B:L,11,0)","v":"-"},"http://183.62.54.51:8841/data/files/certificate/000000000439/43a21d9bf0c54c47a451235c41708397/signed/553_唐成任_三等奖_6440.pdf"]
[554,"P303119091350","外研版四年级上册Doyouwantsomerice","小学组","课件","三等奖","茂名市",{"$f":"VLOOKUP(B556,'[1]002'!B:M,7,0)","v":"邓斯云"},{"$f":"VLOOKUP(B556,'[1]002'!B:M,8,0)","v":"茂名市桥北小学"},{"$f":"VLOOKUP(B556,'[1]002'!B:M,11,0)","v":"-"},{"$f":"VLOOKUP(B556,'[1]002'!B:M,12,0)","v":"-"},{"$f":"VLOOKUP(B556,[2]sheet2!B:L,10,0)","v":"-"},{"$f":"VLOOKUP(B556,[2]sheet2!B:L,11,0)","v":"-"},"http://183.62.54.51:8841/data/files/certificate/000000000439/5b64f81fbbc04172a4831b5c1cd68058/signed/554_邓斯云_三等奖_6441.pdf"]
[555,"P303119091351","端午粽","小学组","课件","三等奖","茂名市",{"$f":"VLOOKUP(B557,'[1]002'!B:M,7,0)","v":"黎雯雯"},{"$f":"VLOOKUP(B557,'[1]002'!B:M,8,0)","v":"茂名市第二小学"},{"$f":"VLOOKUP(B557,'[1]002'!B:M,11,0)","v":"-"},{"$f":"VLOOKUP(B557,'[1]002'!B:M,12,0)","v":"-"},{"$f":"VLOOKUP(B557,[2]sheet2!B:L,10,0)","v":"-"},{"$f":"VLOOKUP(B557,[2]sheet2!B:L,11,0)","v":"-"},"http://183.62.54.51:8841/data/files/certificate/000000000439/2494e719b4a543c780b732be5d902fd2/signed/555_黎雯雯_三等奖_6442.pdf"]
[556,"P303119091346","我喜欢的一则格言","小学组","课件","三等奖","茂名市",{"$f":"VLOOKUP(B558,'[1]002'!B:M,7,0)","v":"邓树飞"},{"$f":"VLOOKUP(B558,'[1]002'!B:M,8,0)","v":"茂名市第三小学"},{"$f":"VLOOKUP(B558,'[1]002'!B:M,11,0)","v":"-"},{"$f":"VLOOKUP(B558,'[1]002'!B:M,12,0)","v":"-"},{"$f":"VLOOKUP(B558,[2]sheet2!B:L,10,0)","v":"-"},{"$f":"VLOOKUP(B558,[2]sheet2!B:L,11,0)","v":"-"},"http://183.62.54.51:8841/data/files/certificate/000000000439/93fb88bc5f424d9aa300d6d1220e727b/signed/556_邓树飞_三等奖_6443.pdf"]
[557,"P303119091349","黄道婆","小学组","课件","三等奖","茂名市",{"$f":"VLOOKUP(B559,'[1]002'!B:M,7,0)","v":"岑思颖"},{"$f":"VLOOKUP(B559,'[1]002'!B:M,8,0)","v":"茂名市电白区马踏镇石古湾小学"},{"$f":"VLOOKUP(B559,'[1]002'!B:M,11,0)","v":"-"},{"$f":"VLOOKUP(B559,'[1]002'!B:M,12,0)","v":"-"},{"$f":"VLOOKUP(B559,[2]sheet2!B:L,10,0)","v":"-"},{"$f":"VLOOKUP(B559,[2]sheet2!B:L,11,0)","v":"-"},"http://183.62.54.51:8841/data/files/certificate/000000000439/a4a0dac48ff04935ada5538aad23f1eb/signed/557_岑思颖_三等奖_6444.pdf"]
[558,"P303119091397","奇异的花朵","小学组","课件","三等奖","茂名市",{"$f":"VLOOKUP(B560,'[1]002'!B:M,7,0)","v":"陈绛华"},{"$f":"VLOOKUP(B560,'[1]002'!B:M,8,0)","v":"茂名市福华小学"},{"$f":"VLOOKUP(B560,'[1]002'!B:M,11,0)","v":"-"},{"$f":"VLOOKUP(B560,'[1]002'!B:M,12,0)","v":"-"},{"$f":"VLOOKUP(B560,[2]sheet2!B:L,10,0)","v":"-"},{"$f":"VLOOKUP(B560,[2]sheet2!B:L,11,0)","v":"-"},"http://183.62.54.51:8841/data/files/certificate/000000000439/2b4146debc6a4807819a974e56dd024a/signed/558_陈绛华_三等奖_6445.pdf"]
[559,"P303119091395","作文指导：外貌描写有个性","小学组","课件","三等奖","茂名市",{"$f":"VLOOKUP(B561,'[1]002'!B:M,7,0)","v":"倪秋"},{"$f":"VLOOKUP(B561,'[1]002'!B:M,8,0)","v":"茂名市龙岭学校"},{"$f":"VLOOKUP(B561,'[1]002'!B:M,11,0)","v":"-"},{"$f":"VLOOKUP(B561,'[1]002'!B:M,12,0)","v":"-"},{"$f":"VLOOKUP(B561,[2]sheet2!B:L,10,0)","v":"-"},{"$f":"VLOOKUP(B561,[2]sheet2!B:L,11,0)","v":"-"},"http://183.62.54.51:8841/data/files/certificate/000000000439/18404e04ee554dc6b11f2ea3ad42f14f/signed/559_倪秋_三等奖_6446.pdf"]
[560,"P303119091393","未来的——","小学组","课件","三等奖","茂名市",{"$f":"VLOOKUP(B562,'[1]002'!B:M,7,0)","v":"李雄"},{"$f":"VLOOKUP(B562,'[1]002'!B:M,8,0)","v":"茂名市第三小学"},{"$f":"VLOOKUP(B562,'[1]002'!B:M,11,0)","v":"-"},{"$f":"VLOOKUP(B562,'[1]002'!B:M,12,0)","v":"-"},{"$f":"VLOOKUP(B562,[2]sheet2!B:L,10,0)","v":"-"},{"$f":"VLOOKUP(B562,[2]sheet2!B:L,11,0)","v":"-"},"http://183.62.54.51:8841/data/files/certificate/000000000439/6fc07545d9284a19be93b482f664b414/signed/560_李雄_三等奖_6447.pdf"]
[561,"P303119091394","写意蔬果——画荔枝","小学组","课件","三等奖","茂名市",{"$f":"VLOOKUP(B563,'[1]002'!B:M,7,0)","v":"林景霞"},{"$f":"VLOOKUP(B563,'[1]002'!B:M,8,0)","v":"茂名市第三小学"},{"$f":"VLOOKUP(B563,'[1]002'!B:M,11,0)","v":"-"},{"$f":"VLOOKUP(B563,'[1]002'!B:M,12,0)","v":"-"},{"$f":"VLOOKUP(B563,[2]sheet2!B:L,10,0)","v":"-"},{"$f":"VLOOKUP(B563,[2]sheet2!B:L,11,0)","v":"-"},"http://183.62.54.51:8841/data/files/certificate/000000000439/d23720a592d74816bc37daa0f649aacb/signed/561_林景霞_三等奖_6448.pdf"]
[562,"P303119091341","分数的乘法三","小学组","课件","三等奖","茂名市",{"$f":"VLOOKUP(B564,'[1]002'!B:M,7,0)","v":"韦思萍"},{"$f":"VLOOKUP(B564,'[1]002'!B:M,8,0)","v":"茂名市第三小学"},{"$f":"VLOOKUP(B564,'[1]002'!B:M,11,0)","v":"-"},{"$f":"VLOOKUP(B564,'[1]002'!B:M,12,0)","v":"-"},{"$f":"VLOOKUP(B564,[2]sheet2!B:L,10,0)","v":"-"},{"$f":"VLOOKUP(B564,[2]sheet2!B:L,11,0)","v":"-"},"http://183.62.54.51:8841/data/files/certificate/000000000439/213be4b437bd47a086073d2617d59c88/signed/562_韦思萍_三等奖_6449.pdf"]
[563,"P303119091177","小学英语三年级下册第五单元B部分对话教学","小学组","课件","三等奖","肇庆市",{"$f":"VLOOKUP(B565,'[1]002'!B:M,7,0)","v":"马晓琳"},{"$f":"VLOOKUP(B565,'[1]002'!B:M,8,0)","v":"鼎湖区永安镇中心小学"},{"$f":"VLOOKUP(B565,'[1]002'!B:M,11,0)","v":"-"},{"$f":"VLOOKUP(B565,'[1]002'!B:M,12,0)","v":"-"},{"$f":"VLOOKUP(B565,[2]sheet2!B:L,10,0)","v":"-"},{"$f":"VLOOKUP(B565,[2]sheet2!B:L,11,0)","v":"-"},"http://183.62.54.51:8841/data/files/certificate/000000000439/bda342b9c3564b439c476c3f37abe62b/signed/563_马晓琳_三等奖_6450.pdf"]
[564,"P303119091187","比尾巴课件","小学组","课件","三等奖","肇庆市",{"$f":"VLOOKUP(B566,'[1]002'!B:M,7,0)","v":"莫小倩"},{"$f":"VLOOKUP(B566,'[1]002'!B:M,8,0)","v":"鼎湖区永安镇中心小学"},{"$f":"VLOOKUP(B566,'[1]002'!B:M,11,0)","v":"-"},{"$f":"VLOOKUP(B566,'[1]002'!B:M,12,0)","v":"-"},{"$f":"VLOOKUP(B566,[2]sheet2!B:L,10,0)","v":"-"},{"$f":"VLOOKUP(B566,[2]sheet2!B:L,11,0)","v":"-"},"http://183.62.54.51:8841/data/files/certificate/000000000439/b1a9cb82614d423e8684f2a1e8888c15/signed/564_莫小倩_三等奖_6451.pdf"]
[565,"P303119091178","英语六年级下册Unit3ReadAndWrite","小学组","课件","三等奖","肇庆市",{"$f":"VLOOKUP(B567,'[1]002'!B:M,7,0)","v":"冯颖梅"},{"$f":"VLOOKUP(B567,'[1]002'!B:M,8,0)","v":"鼎湖区永安镇中心小学"},{"$f":"VLOOKUP(B567,'[1]002'!B:M,11,0)","v":"-"},{"$f":"VLOOKUP(B567,'[1]002'!B:M,12,0)","v":"-"},{"$f":"VLOOKUP(B567,[2]sheet2!B:L,10,0)","v":"-"},{"$f":"VLOOKUP(B567,[2]sheet2!B:L,11,0)","v":"-"},"http://183.62.54.51:8841/data/files/certificate/000000000439/8aefc441200043a79540a3765e151528/signed/565_冯颖梅_三等奖_6452.pdf"]
[566,"P303119090219","PEP Book2 Unit4 We love animals","小学组","课件","三等奖","肇庆市",{"$f":"VLOOKUP(B568,'[1]002'!B:M,7,0)","v":"梁思婷"},{"$f":"VLOOKUP(B568,'[1]002'!B:M,8,0)","v":"肇庆市端州区睦岗小学"},{"$f":"VLOOKUP(B568,'[1]002'!B:M,11,0)","v":"-"},{"$f":"VLOOKUP(B568,'[1]002'!B:M,12,0)","v":"-"},{"$f":"VLOOKUP(B568,[2]sheet2!B:L,10,0)","v":"-"},{"$f":"VLOOKUP(B568,[2]sheet2!B:L,11,0)","v":"-"},"http://183.62.54.51:8841/data/files/certificate/000000000439/0bd5dc11bdfc4555a05710cac46e107b/signed/566_梁思婷_三等奖_6453.pdf"]
[567,"P303119090257","消防安全教育","小学组","课件","三等奖","肇庆市",{"$f":"VLOOKUP(B569,'[1]002'!B:M,7,0)","v":"陈娴"},{"$f":"VLOOKUP(B569,'[1]002'!B:M,8,0)","v":"德庆县德城镇第三小学"},{"$f":"VLOOKUP(B569,'[1]002'!B:M,11,0)","v":"梁丽芳"},{"$f":"VLOOKUP(B569,'[1]002'!B:M,12,0)","v":"德庆县德城镇第三小学"},{"$f":"VLOOKUP(B569,[2]sheet2!B:L,10,0)","v":"谢海光"},{"$f":"VLOOKUP(B569,[2]sheet2!B:L,11,0)","v":"德庆县德城镇第三小学"},"http://183.62.54.51:8841/data/files/certificate/000000000439/43b8ad5b624f4c6c886db9ebc31b4787/signed/567_陈娴、梁丽芳、谢海光_三等奖_6454.pdf"]
[568,"P303119091222","培养良好姿势的重要性","小学组","课件","三等奖","肇庆市",{"$f":"VLOOKUP(B570,'[1]002'!B:M,7,0)","v":"陈朗"},{"$f":"VLOOKUP(B570,'[1]002'!B:M,8,0)","v":"四会市青云小学"},{"$f":"VLOOKUP(B570,'[1]002'!B:M,11,0)","v":"-"},{"$f":"VLOOKUP(B570,'[1]002'!B:M,12,0)","v":"-"},{"$f":"VLOOKUP(B570,[2]sheet2!B:L,10,0)","v":"-"},{"$f":"VLOOKUP(B570,[2]sheet2!B:L,11,0)","v":"-"},"http://183.62.54.51:8841/data/files/certificate/000000000439/ff770406869047e386c7f39968477012/signed/568_陈朗_三等奖_6455.pdf"]
[569,"P303119091180","学我做","小学组","课件","三等奖","肇庆市",{"$f":"VLOOKUP(B571,'[1]002'!B:M,7,0)","v":"王少芬"},{"$f":"VLOOKUP(B571,'[1]002'!B:M,8,0)","v":"鼎湖区永安镇中心小学"},{"$f":"VLOOKUP(B571,'[1]002'!B:M,11,0)","v":"-"},{"$f":"VLOOKUP(B571,'[1]002'!B:M,12,0)","v":"-"},{"$f":"VLOOKUP(B571,[2]sheet2!B:L,10,0)","v":"-"},{"$f":"VLOOKUP(B571,[2]sheet2!B:L,11,0)","v":"-"},"http://183.62.54.51:8841/data/files/certificate/000000000439/7bd1171a7b454e3b84afbd7e14649b41/signed/569_王少芬_三等奖_6456.pdf"]
[570,"P303119090251","Unit 2 My Favourite season PB","小学组","课件","三等奖","肇庆市",{"$f":"VLOOKUP(B572,'[1]002'!B:M,7,0)","v":"李彩茹"},{"$f":"VLOOKUP(B572,'[1]002'!B:M,8,0)","v":"德庆县回龙镇中心小学"},{"$f":"VLOOKUP(B572,'[1]002'!B:M,11,0)","v":"-"},{"$f":"VLOOKUP(B572,'[1]002'!B:M,12,0)","v":"-"},{"$f":"VLOOKUP(B572,[2]sheet2!B:L,10,0)","v":"-"},{"$f":"VLOOKUP(B572,[2]sheet2!B:L,11,0)","v":"-"},"http://183.62.54.51:8841/data/files/certificate/000000000439/6c849d439b994e4d988fc450706cbe38/signed/570_李彩茹_三等奖_6457.pdf"]
[571,"P303119091186","巧变虚形与实形PPT","小学组","课件","三等奖","肇庆市",{"$f":"VLOOKUP(B573,'[1]002'!B:M,7,0)","v":"邓红玉"},{"$f":"VLOOKUP(B573,'[1]002'!B:M,8,0)","v":"鼎湖区永安镇中心小学"},{"$f":"VLOOKUP(B573,'[1]002'!B:M,11,0)","v":"-"},{"$f":"VLOOKUP(B573,'[1]002'!B:M,12,0)","v":"-"},{"$f":"VLOOKUP(B573,[2]sheet2!B:L,10,0)","v":"-"},{"$f":"VLOOKUP(B573,[2]sheet2!B:L,11,0)","v":"-"},"http://183.62.54.51:8841/data/files/certificate/000000000439/55e452fcd20c409b9ce77fb581629f4d/signed/571_邓红玉_三等奖_6458.pdf"]
[572,"P303119091179","轴对称","小学组","课件","三等奖","肇庆市",{"$f":"VLOOKUP(B574,'[1]002'!B:M,7,0)","v":"冯碧妍"},{"$f":"VLOOKUP(B574,'[1]002'!B:M,8,0)","v":"鼎湖区沙浦镇中心小学"},{"$f":"VLOOKUP(B574,'[1]002'!B:M,11,0)","v":"-"},{"$f":"VLOOKUP(B574,'[1]002'!B:M,12,0)","v":"-"},{"$f":"VLOOKUP(B574,[2]sheet2!B:L,10,0)","v":"-"},{"$f":"VLOOKUP(B574,[2]sheet2!B:L,11,0)","v":"-"},"http://183.62.54.51:8841/data/files/certificate/000000000439/c8b5444e390f425599906891fca4c2c8/signed/572_冯碧妍_三等奖_6459.pdf"]
[573,"P303119090256","Unit 5 A  learn","小学组","课件","三等奖","肇庆市",{"$f":"VLOOKUP(B575,'[1]002'!B:M,7,0)","v":"陈银楚"},{"$f":"VLOOKUP(B575,'[1]002'!B:M,8,0)","v":"德庆县德城镇第一小学"},{"$f":"VLOOKUP(B575,'[1]002'!B:M,11,0)","v":"-"},{"$f":"VLOOKUP(B575,'[1]002'!B:M,12,0)","v":"-"},{"$f":"VLOOKUP(B575,[2]sheet2!B:L,10,0)","v":"-"},{"$f":"VLOOKUP(B575,[2]sheet2!B:L,11,0)","v":"-"},"http://183.62.54.51:8841/data/files/certificate/000000000439/7f5546e6c0624cd2b49143c0d816b3d5/signed/573_陈银楚_三等奖_6460.pdf"]
[574,"P303119091183","单式折线统计图","小学组","课件","三等奖","肇庆市",{"$f":"VLOOKUP(B576,'[1]002'!B:M,7,0)","v":"梁佩玲"},{"$f":"VLOOKUP(B576,'[1]002'!B:M,8,0)","v":"鼎湖逸夫小学"},{"$f":"VLOOKUP(B576,'[1]002'!B:M,11,0)","v":"-"},{"$f":"VLOOKUP(B576,'[1]002'!B:M,12,0)","v":"-"},{"$f":"VLOOKUP(B576,[2]sheet2!B:L,10,0)","v":"-"},{"$f":"VLOOKUP(B576,[2]sheet2!B:L,11,0)","v":"-"},"http://183.62.54.51:8841/data/files/certificate/000000000439/76ea169a48fd42a098b56b599e3fa771/signed/574_梁佩玲_三等奖_6461.pdf"]
[575,"P303119091574","Doyoulikepears","小学组","课件","三等奖","清远市",{"$f":"VLOOKUP(B577,'[1]002'!B:M,7,0)","v":"潘文娇"},{"$f":"VLOOKUP(B577,'[1]002'!B:M,8,0)","v":"清远市师范学校附属小学"},{"$f":"VLOOKUP(B577,'[1]002'!B:M,11,0)","v":"-"},{"$f":"VLOOKUP(B577,'[1]002'!B:M,12,0)","v":"-"},{"$f":"VLOOKUP(B577,[2]sheet2!B:L,10,0)","v":"-"},{"$f":"VLOOKUP(B577,[2]sheet2!B:L,11,0)","v":"-"},"http://183.62.54.51:8841/data/files/certificate/000000000439/3f6a52cf6d0946be9131f000541748b0/signed/575_潘文娇_三等奖_6462.pdf"]
[576,"P303119091585","写好主笔竖弯钩","小学组","课件","三等奖","清远市",{"$f":"VLOOKUP(B578,'[1]002'!B:M,7,0)","v":"范兰英"},{"$f":"VLOOKUP(B578,'[1]002'!B:M,8,0)","v":"佛冈县第三小学"},{"$f":"VLOOKUP(B578,'[1]002'!B:M,11,0)","v":"-"},{"$f":"VLOOKUP(B578,'[1]002'!B:M,12,0)","v":"-"},{"$f":"VLOOKUP(B578,[2]sheet2!B:L,10,0)","v":"-"},{"$f":"VLOOKUP(B578,[2]sheet2!B:L,11,0)","v":"-"},"http://183.62.54.51:8841/data/files/certificate/000000000439/bc59ed60f79b458199924cf6a9ece752/signed/576_范兰英_三等奖_6463.pdf"]
[577,"P303119091591","快乐的小青蛙","小学组","课件","三等奖","清远市",{"$f":"VLOOKUP(B579,'[1]002'!B:M,7,0)","v":"肖慧连"},{"$f":"VLOOKUP(B579,'[1]002'!B:M,8,0)","v":"佛冈县振兴小学"},{"$f":"VLOOKUP(B579,'[1]002'!B:M,11,0)","v":"-"},{"$f":"VLOOKUP(B579,'[1]002'!B:M,12,0)","v":"-"},{"$f":"VLOOKUP(B579,[2]sheet2!B:L,10,0)","v":"-"},{"$f":"VLOOKUP(B579,[2]sheet2!B:L,11,0)","v":"-"},"http://183.62.54.51:8841/data/files/certificate/000000000439/de903bdbd9c4453d99d97182b3e11049/signed/577_肖慧连_三等奖_6464.pdf"]
[578,"P303119091584","13荷叶圆圆","小学组","课件","三等奖","清远市",{"$f":"VLOOKUP(B580,'[1]002'!B:M,7,0)","v":"刘雪梅"},{"$f":"VLOOKUP(B580,'[1]002'!B:M,8,0)","v":"英德市第六小学"},{"$f":"VLOOKUP(B580,'[1]002'!B:M,11,0)","v":"-"},{"$f":"VLOOKUP(B580,'[1]002'!B:M,12,0)","v":"-"},{"$f":"VLOOKUP(B580,[2]sheet2!B:L,10,0)","v":"-"},{"$f":"VLOOKUP(B580,[2]sheet2!B:L,11,0)","v":"-"},"http://183.62.54.51:8841/data/files/certificate/000000000439/19aa0f654ac8442397c37d42ec7fe6bb/signed/578_刘雪梅_三等奖_6465.pdf"]
[579,"P303119091576","unit2 My schoolbag B  learn教学课件","小学组","课件","三等奖","清远市",{"$f":"VLOOKUP(B581,'[1]002'!B:M,7,0)","v":"石锋"},{"$f":"VLOOKUP(B581,'[1]002'!B:M,8,0)","v":"清远市清新区第三小学"},{"$f":"VLOOKUP(B581,'[1]002'!B:M,11,0)","v":"-"},{"$f":"VLOOKUP(B581,'[1]002'!B:M,12,0)","v":"-"},{"$f":"VLOOKUP(B581,[2]sheet2!B:L,10,0)","v":"-"},{"$f":"VLOOKUP(B581,[2]sheet2!B:L,11,0)","v":"-"},"http://183.62.54.51:8841/data/files/certificate/000000000439/07722b66c6304954810c33d31017e056/signed/579_石锋_三等奖_6466.pdf"]
[580,"P303119091590","寓言二则","小学组","课件","三等奖","清远市",{"$f":"VLOOKUP(B582,'[1]002'!B:M,7,0)","v":"范兰英"},{"$f":"VLOOKUP(B582,'[1]002'!B:M,8,0)","v":"佛冈县第三小学"},{"$f":"VLOOKUP(B582,'[1]002'!B:M,11,0)","v":"-"},{"$f":"VLOOKUP(B582,'[1]002'!B:M,12,0)","v":"-"},{"$f":"VLOOKUP(B582,[2]sheet2!B:L,10,0)","v":"-"},{"$f":"VLOOKUP(B582,[2]sheet2!B:L,11,0)","v":"-"},"http://183.62.54.51:8841/data/files/certificate/000000000439/4bfdbb034fad4b0ca5487193bfc3bacc/signed/580_范兰英_三等奖_6467.pdf"]
[581,"P303119091579","PEP第七册Recycle2","小学组","课件","三等奖","清远市",{"$f":"VLOOKUP(B583,'[1]002'!B:M,7,0)","v":"李国泉"},{"$f":"VLOOKUP(B583,'[1]002'!B:M,8,0)","v":"阳山县第一小学"},{"$f":"VLOOKUP(B583,'[1]002'!B:M,11,0)","v":"-"},{"$f":"VLOOKUP(B583,'[1]002'!B:M,12,0)","v":"-"},{"$f":"VLOOKUP(B583,[2]sheet2!B:L,10,0)","v":"-"},{"$f":"VLOOKUP(B583,[2]sheet2!B:L,11,0)","v":"-"},"http://183.62.54.51:8841/data/files/certificate/000000000439/6d0dc7fff14040debf99d0792747b1f2/signed/581_李国泉_三等奖_6468.pdf"]
[582,"P303119091580","Unit 3 Weather A learn 教学课件","小学组","课件","三等奖","清远市",{"$f":"VLOOKUP(B584,'[1]002'!B:M,7,0)","v":"石锋"},{"$f":"VLOOKUP(B584,'[1]002'!B:M,8,0)","v":"清远市清新区第三小学"},{"$f":"VLOOKUP(B584,'[1]002'!B:M,11,0)","v":"-"},{"$f":"VLOOKUP(B584,'[1]002'!B:M,12,0)","v":"-"},{"$f":"VLOOKUP(B584,[2]sheet2!B:L,10,0)","v":"-"},{"$f":"VLOOKUP(B584,[2]sheet2!B:L,11,0)","v":"-"},"http://183.62.54.51:8841/data/files/certificate/000000000439/302856b89f8f408ba6ae84aecebfeafa/signed/582_石锋_三等奖_6469.pdf"]
[583,"P303119091575","奥运开幕","小学组","课件","三等奖","清远市",{"$f":"VLOOKUP(B585,'[1]002'!B:M,7,0)","v":"何秀梅"},{"$f":"VLOOKUP(B585,'[1]002'!B:M,8,0)","v":"英德市第六小学"},{"$f":"VLOOKUP(B585,'[1]002'!B:M,11,0)","v":"-"},{"$f":"VLOOKUP(B585,'[1]002'!B:M,12,0)","v":"-"},{"$f":"VLOOKUP(B585,[2]sheet2!B:L,10,0)","v":"-"},{"$f":"VLOOKUP(B585,[2]sheet2!B:L,11,0)","v":"-"},"http://183.62.54.51:8841/data/files/certificate/000000000439/97ba76812d06450ca89720aea02fab9c/signed/583_何秀梅_三等奖_6470.pdf"]
[584,"P303119080823","泊船瓜洲","小学组","课件","三等奖","潮州市",{"$f":"VLOOKUP(B586,'[1]002'!B:M,7,0)","v":"郑树蓬"},{"$f":"VLOOKUP(B586,'[1]002'!B:M,8,0)","v":"潮州市枫溪区枫溪小学"},{"$f":"VLOOKUP(B586,'[1]002'!B:M,11,0)","v":"-"},{"$f":"VLOOKUP(B586,'[1]002'!B:M,12,0)","v":"-"},{"$f":"VLOOKUP(B586,[2]sheet2!B:L,10,0)","v":"-"},{"$f":"VLOOKUP(B586,[2]sheet2!B:L,11,0)","v":"-"},"http://183.62.54.51:8841/data/files/certificate/000000000439/90772bfee9134215b5eb4a9019961871/signed/584_郑树蓬_三等奖_6471.pdf"]
[585,"P303119080361","圆的认识","小学组","课件","三等奖","潮州市",{"$f":"VLOOKUP(B587,'[1]002'!B:M,7,0)","v":"郑兰君"},{"$f":"VLOOKUP(B587,'[1]002'!B:M,8,0)","v":"东凤镇仙桥小学"},{"$f":"VLOOKUP(B587,'[1]002'!B:M,11,0)","v":"-"},{"$f":"VLOOKUP(B587,'[1]002'!B:M,12,0)","v":"-"},{"$f":"VLOOKUP(B587,[2]sheet2!B:L,10,0)","v":"-"},{"$f":"VLOOKUP(B587,[2]sheet2!B:L,11,0)","v":"-"},"http://183.62.54.51:8841/data/files/certificate/000000000439/41884016d132444fb19bc294f8a3dcd6/signed/585_郑兰君_三等奖_6472.pdf"]
[586,"P303119080199","认识平行四边形","小学组","课件","三等奖","潮州市",{"$f":"VLOOKUP(B588,'[1]002'!B:M,7,0)","v":"苏小苗"},{"$f":"VLOOKUP(B588,'[1]002'!B:M,8,0)","v":"凤凰镇福南中心学校"},{"$f":"VLOOKUP(B588,'[1]002'!B:M,11,0)","v":"-"},{"$f":"VLOOKUP(B588,'[1]002'!B:M,12,0)","v":"-"},{"$f":"VLOOKUP(B588,[2]sheet2!B:L,10,0)","v":"-"},{"$f":"VLOOKUP(B588,[2]sheet2!B:L,11,0)","v":"-"},"http://183.62.54.51:8841/data/files/certificate/000000000439/7db8b943f7264e8a800cda631bae0ab0/signed/586_苏小苗_三等奖_6473.pdf"]
[587,"P303119080884","MySchoolPartCStorytime","小学组","课件","三等奖","潮州市",{"$f":"VLOOKUP(B589,'[1]002'!B:M,7,0)","v":"丁萍"},{"$f":"VLOOKUP(B589,'[1]002'!B:M,8,0)","v":"凤凰镇福南中心学校"},{"$f":"VLOOKUP(B589,'[1]002'!B:M,11,0)","v":"-"},{"$f":"VLOOKUP(B589,'[1]002'!B:M,12,0)","v":"-"},{"$f":"VLOOKUP(B589,[2]sheet2!B:L,10,0)","v":"-"},{"$f":"VLOOKUP(B589,[2]sheet2!B:L,11,0)","v":"-"},"http://183.62.54.51:8841/data/files/certificate/000000000439/53d83e67ccec4871a0d38f8bb33c04ae/signed/587_丁萍_三等奖_6474.pdf"]
[588,"P303119091458","四边形","小学组","课件","三等奖","潮州市",{"$f":"VLOOKUP(B590,'[1]002'!B:M,7,0)","v":"黄丽丽"},{"$f":"VLOOKUP(B590,'[1]002'!B:M,8,0)","v":"潮州市城南中英文学校"},{"$f":"VLOOKUP(B590,'[1]002'!B:M,11,0)","v":"张馥兰"},{"$f":"VLOOKUP(B590,'[1]002'!B:M,12,0)","v":"潮州市城南中英文学校"},{"$f":"VLOOKUP(B590,[2]sheet2!B:L,10,0)","v":"-"},{"$f":"VLOOKUP(B590,[2]sheet2!B:L,11,0)","v":"-"},"http://183.62.54.51:8841/data/files/certificate/000000000439/e3dfe473b3024bc497caad57197918c3/signed/588_黄丽丽、张馥兰_三等奖_6475.pdf"]
[589,"P303119085398","蜜蜂","小学组","课件","三等奖","云浮市",{"$f":"VLOOKUP(B591,'[1]002'!B:M,7,0)","v":"梁日洪"},{"$f":"VLOOKUP(B591,'[1]002'!B:M,8,0)","v":"新兴县里洞镇里江小学"},{"$f":"VLOOKUP(B591,'[1]002'!B:M,11,0)","v":"-"},{"$f":"VLOOKUP(B591,'[1]002'!B:M,12,0)","v":"-"},{"$f":"VLOOKUP(B591,[2]sheet2!B:L,10,0)","v":"-"},{"$f":"VLOOKUP(B591,[2]sheet2!B:L,11,0)","v":"-"},"http://183.62.54.51:8841/data/files/certificate/000000000439/bc8109292550495ea27002fa9a4e9c72/signed/589_梁日洪_三等奖_6476.pdf"]
[590,"P303119090452","詹天佑课","小学组","课件","三等奖","云浮市",{"$f":"VLOOKUP(B592,'[1]002'!B:M,7,0)","v":"谢玲"},{"$f":"VLOOKUP(B592,'[1]002'!B:M,8,0)","v":"罗城城南小学"},{"$f":"VLOOKUP(B592,'[1]002'!B:M,11,0)","v":"-"},{"$f":"VLOOKUP(B592,'[1]002'!B:M,12,0)","v":"-"},{"$f":"VLOOKUP(B592,[2]sheet2!B:L,10,0)","v":"-"},{"$f":"VLOOKUP(B592,[2]sheet2!B:L,11,0)","v":"-"},"http://183.62.54.51:8841/data/files/certificate/000000000439/3c8ee8dcb4c2444e88b6d43eddb8b76c/signed/590_谢玲_三等奖_6477.pdf"]
[591,"P303119086157","不规则物体的体积","小学组","课件","三等奖","云浮市",{"$f":"VLOOKUP(B593,'[1]002'!B:M,7,0)","v":"张水娣"},{"$f":"VLOOKUP(B593,'[1]002'!B:M,8,0)","v":"罗定市实验小学"},{"$f":"VLOOKUP(B593,'[1]002'!B:M,11,0)","v":"-"},{"$f":"VLOOKUP(B593,'[1]002'!B:M,12,0)","v":"-"},{"$f":"VLOOKUP(B593,[2]sheet2!B:L,10,0)","v":"-"},{"$f":"VLOOKUP(B593,[2]sheet2!B:L,11,0)","v":"-"},"http://183.62.54.51:8841/data/files/certificate/000000000439/a345885366c24f2ba0dadb65d55b9655/signed/591_张水娣_三等奖_6478.pdf"]
[592,"P303119079436","圆锥的体积","小学组","课件","三等奖","云浮市",{"$f":"VLOOKUP(B594,'[1]002'!B:M,7,0)","v":"欧月嫦"},{"$f":"VLOOKUP(B594,'[1]002'!B:M,8,0)","v":"新兴县六祖镇旧郎小学"},{"$f":"VLOOKUP(B594,'[1]002'!B:M,11,0)","v":"-"},{"$f":"VLOOKUP(B594,'[1]002'!B:M,12,0)","v":"-"},{"$f":"VLOOKUP(B594,[2]sheet2!B:L,10,0)","v":"-"},{"$f":"VLOOKUP(B594,[2]sheet2!B:L,11,0)","v":"-"},"http://183.62.54.51:8841/data/files/certificate/000000000439/0e092ce62cb9477fbc5c92f36ec07d98/signed/592_欧月嫦_三等奖_6479.pdf"]
[593,"P303119091234","夏天我们注意什么","小学组","课件","三等奖","云浮市",{"$f":"VLOOKUP(B595,'[1]002'!B:M,7,0)","v":"谢艳媚"},{"$f":"VLOOKUP(B595,'[1]002'!B:M,8,0)","v":"云浮市第二小学"},{"$f":"VLOOKUP(B595,'[1]002'!B:M,11,0)","v":"-"},{"$f":"VLOOKUP(B595,'[1]002'!B:M,12,0)","v":"-"},{"$f":"VLOOKUP(B595,[2]sheet2!B:L,10,0)","v":"-"},{"$f":"VLOOKUP(B595,[2]sheet2!B:L,11,0)","v":"-"},"http://183.62.54.51:8841/data/files/certificate/000000000439/6eb393b92efe4aa18b8dd0acf7d2468a/signed/593_谢艳媚_三等奖_6480.pdf"]
[594,"P303119079290","乘法结合律","小学组","课件","三等奖","云浮市",{"$f":"VLOOKUP(B596,'[1]002'!B:M,7,0)","v":"陈兴强"},{"$f":"VLOOKUP(B596,'[1]002'!B:M,8,0)","v":"云浮市云安区石城镇高潭小学"},{"$f":"VLOOKUP(B596,'[1]002'!B:M,11,0)","v":"-"},{"$f":"VLOOKUP(B596,'[1]002'!B:M,12,0)","v":"-"},{"$f":"VLOOKUP(B596,[2]sheet2!B:L,10,0)","v":"-"},{"$f":"VLOOKUP(B596,[2]sheet2!B:L,11,0)","v":"-"},"http://183.62.54.51:8841/data/files/certificate/000000000439/d551f5ff54004a1390703ca199860e53/signed/594_陈兴强_三等奖_6481.pdf"]
[595,"P305119093140","城南旧事导读课","小学组","微课","三等奖","广州市",{"$f":"VLOOKUP(B597,'[1]002'!B:M,7,0)","v":"陈小琴"},{"$f":"VLOOKUP(B597,'[1]002'!B:M,8,0)","v":"广州市增城区荔江小学"},{"$f":"VLOOKUP(B597,'[1]002'!B:M,11,0)","v":"-"},{"$f":"VLOOKUP(B597,'[1]002'!B:M,12,0)","v":"-"},{"$f":"VLOOKUP(B597,[2]sheet2!B:L,10,0)","v":"-"},{"$f":"VLOOKUP(B597,[2]sheet2!B:L,11,0)","v":"-"},"http://183.62.54.51:8841/data/files/certificate/000000000439/999029a64e8c44a4b8fe6633afc4a435/signed/595_陈小琴_三等奖_6482.pdf"]
[596,"P305119093152","小学微课理解词语的方法","小学组","微课","三等奖","广州市",{"$f":"VLOOKUP(B598,'[1]002'!B:M,7,0)","v":"胡文君"},{"$f":"VLOOKUP(B598,'[1]002'!B:M,8,0)","v":"广州市越秀区小北路小学"},{"$f":"VLOOKUP(B598,'[1]002'!B:M,11,0)","v":"-"},{"$f":"VLOOKUP(B598,'[1]002'!B:M,12,0)","v":"-"},{"$f":"VLOOKUP(B598,[2]sheet2!B:L,10,0)","v":"-"},{"$f":"VLOOKUP(B598,[2]sheet2!B:L,11,0)","v":"-"},"http://183.62.54.51:8841/data/files/certificate/000000000439/90ffc9cf52dd440abca8c771379763e6/signed/596_胡文君_三等奖_6483.pdf"]
[597,"P305119093149","当复习遇见阅读","小学组","微课","三等奖","广州市",{"$f":"VLOOKUP(B599,'[1]002'!B:M,7,0)","v":"李恬恬"},{"$f":"VLOOKUP(B599,'[1]002'!B:M,8,0)","v":"广州市越秀区登峰小学"},{"$f":"VLOOKUP(B599,'[1]002'!B:M,11,0)","v":"-"},{"$f":"VLOOKUP(B599,'[1]002'!B:M,12,0)","v":"-"},{"$f":"VLOOKUP(B599,[2]sheet2!B:L,10,0)","v":"-"},{"$f":"VLOOKUP(B599,[2]sheet2!B:L,11,0)","v":"-"},"http://183.62.54.51:8841/data/files/certificate/000000000439/88bb93b99eeb44dab971d3c69305bc78/signed/597_李恬恬_三等奖_6484.pdf"]
[598,"P305119093163","Scratch变量的使用","小学组","微课","三等奖","广州市",{"$f":"VLOOKUP(B600,'[1]002'!B:M,7,0)","v":"莫水华"},{"$f":"VLOOKUP(B600,'[1]002'!B:M,8,0)","v":"广州市花都区花东镇杨荷小学"},{"$f":"VLOOKUP(B600,'[1]002'!B:M,11,0)","v":"-"},{"$f":"VLOOKUP(B600,'[1]002'!B:M,12,0)","v":"-"},{"$f":"VLOOKUP(B600,[2]sheet2!B:L,10,0)","v":"-"},{"$f":"VLOOKUP(B600,[2]sheet2!B:L,11,0)","v":"-"},"http://183.62.54.51:8841/data/files/certificate/000000000439/b821f20b1ace4be1b5f526d1279645da/signed/598_莫水华_三等奖_6485.pdf"]
[599,"P305119093155","鸡兔同笼","小学组","微课","三等奖","广州市",{"$f":"VLOOKUP(B601,'[1]002'!B:M,7,0)","v":"谭为"},{"$f":"VLOOKUP(B601,'[1]002'!B:M,8,0)","v":"广州市天河区华景小学"},{"$f":"VLOOKUP(B601,'[1]002'!B:M,11,0)","v":"黄燕强"},{"$f":"VLOOKUP(B601,'[1]002'!B:M,12,0)","v":"广州市天河区华景小学"},{"$f":"VLOOKUP(B601,[2]sheet2!B:L,10,0)","v":"-"},{"$f":"VLOOKUP(B601,[2]sheet2!B:L,11,0)","v":"-"},"http://183.62.54.51:8841/data/files/certificate/000000000439/786d7b5a88fd4c839cb5de662dce226b/signed/599_谭为、黄燕强_三等奖_6486.pdf"]
[600,"P305119093142","干草垛清晨赏析","小学组","微课","三等奖","广州市",{"$f":"VLOOKUP(B602,'[1]002'!B:M,7,0)","v":"陈凌雲"},{"$f":"VLOOKUP(B602,'[1]002'!B:M,8,0)","v":"广州市第七中学"},{"$f":"VLOOKUP(B602,'[1]002'!B:M,11,0)","v":"-"},{"$f":"VLOOKUP(B602,'[1]002'!B:M,12,0)","v":"-"},{"$f":"VLOOKUP(B602,[2]sheet2!B:L,10,0)","v":"-"},{"$f":"VLOOKUP(B602,[2]sheet2!B:L,11,0)","v":"-"},"http://183.62.54.51:8841/data/files/certificate/000000000439/a569dd68d7cd45bd9fb24ee9671429fc/signed/600_陈凌雲_三等奖_6487.pdf"]
[601,"P305119093148","祈使句","小学组","微课","三等奖","广州市",{"$f":"VLOOKUP(B603,'[1]002'!B:M,7,0)","v":"黄永丽"},{"$f":"VLOOKUP(B603,'[1]002'!B:M,8,0)","v":"广州市天河区龙洞小学"},{"$f":"VLOOKUP(B603,'[1]002'!B:M,11,0)","v":"-"},{"$f":"VLOOKUP(B603,'[1]002'!B:M,12,0)","v":"-"},{"$f":"VLOOKUP(B603,[2]sheet2!B:L,10,0)","v":"-"},{"$f":"VLOOKUP(B603,[2]sheet2!B:L,11,0)","v":"-"},"http://183.62.54.51:8841/data/files/certificate/000000000439/8261856ebedc4c1d98f3648f46a08094/signed/601_黄永丽_三等奖_6488.pdf"]
[602,"P305119093164","WhatsGoingOn","小学组","微课","三等奖","广州市",{"$f":"VLOOKUP(B604,'[1]002'!B:M,7,0)","v":"梁雪贞"},{"$f":"VLOOKUP(B604,'[1]002'!B:M,8,0)","v":"广州市番禺区大石中心小学"},{"$f":"VLOOKUP(B604,'[1]002'!B:M,11,0)","v":"-"},{"$f":"VLOOKUP(B604,'[1]002'!B:M,12,0)","v":"-"},{"$f":"VLOOKUP(B604,[2]sheet2!B:L,10,0)","v":"-"},{"$f":"VLOOKUP(B604,[2]sheet2!B:L,11,0)","v":"-"},"http://183.62.54.51:8841/data/files/certificate/000000000439/0422d40cdf0149a492be171459aa8d26/signed/602_梁雪贞_三等奖_6489.pdf"]
[603,"P305119092718","Learn the sound","小学组","微课","三等奖","深圳市",{"$f":"VLOOKUP(B605,'[1]002'!B:M,7,0)","v":"方菲"},{"$f":"VLOOKUP(B605,'[1]002'!B:M,8,0)","v":"深圳市光明区光明小学"},{"$f":"VLOOKUP(B605,'[1]002'!B:M,11,0)","v":"-"},{"$f":"VLOOKUP(B605,'[1]002'!B:M,12,0)","v":"-"},{"$f":"VLOOKUP(B605,[2]sheet2!B:L,10,0)","v":"-"},{"$f":"VLOOKUP(B605,[2]sheet2!B:L,11,0)","v":"-"},"http://183.62.54.51:8841/data/files/certificate/000000000439/03eb6ba81838479ab684fb3e167ce5f4/signed/603_方菲_三等奖_6490.pdf"]
[604,"P305119092736","重复的奥妙","小学组","微课","三等奖","深圳市",{"$f":"VLOOKUP(B606,'[1]002'!B:M,7,0)","v":"陈静华"},{"$f":"VLOOKUP(B606,'[1]002'!B:M,8,0)","v":"深圳市龙华区行知实验小学"},{"$f":"VLOOKUP(B606,'[1]002'!B:M,11,0)","v":"-"},{"$f":"VLOOKUP(B606,'[1]002'!B:M,12,0)","v":"-"},{"$f":"VLOOKUP(B606,[2]sheet2!B:L,10,0)","v":"-"},{"$f":"VLOOKUP(B606,[2]sheet2!B:L,11,0)","v":"-"},"http://183.62.54.51:8841/data/files/certificate/000000000439/76fe78d92c604f0fbceb1ec6d7b6d4d4/signed/604_陈静华_三等奖_6491.pdf"]
[605,"P305119092737","毕业赠言","小学组","微课","三等奖","深圳市",{"$f":"VLOOKUP(B607,'[1]002'!B:M,7,0)","v":"肖友花"},{"$f":"VLOOKUP(B607,'[1]002'!B:M,8,0)","v":"深圳市龙华区龙华中心小学"},{"$f":"VLOOKUP(B607,'[1]002'!B:M,11,0)","v":"古兴东"},{"$f":"VLOOKUP(B607,'[1]002'!B:M,12,0)","v":"深圳市龙华区龙华中心小学"},{"$f":"VLOOKUP(B607,[2]sheet2!B:L,10,0)","v":"-"},{"$f":"VLOOKUP(B607,[2]sheet2!B:L,11,0)","v":"-"},"http://183.62.54.51:8841/data/files/certificate/000000000439/4edce8e06b3545078fa709716d63a47e/signed/605_肖友花、古兴东_三等奖_6492.pdf"]
[606,"P305119092728","如何收纳秋季校服","小学组","微课","三等奖","深圳市",{"$f":"VLOOKUP(B608,'[1]002'!B:M,7,0)","v":"朱佳"},{"$f":"VLOOKUP(B608,'[1]002'!B:M,8,0)","v":"深圳市龙华区行知实验小学"},{"$f":"VLOOKUP(B608,'[1]002'!B:M,11,0)","v":"-"},{"$f":"VLOOKUP(B608,'[1]002'!B:M,12,0)","v":"-"},{"$f":"VLOOKUP(B608,[2]sheet2!B:L,10,0)","v":"-"},{"$f":"VLOOKUP(B608,[2]sheet2!B:L,11,0)","v":"-"},"http://183.62.54.51:8841/data/files/certificate/000000000439/448b491f480442caa8cb46649cb4a106/signed/606_朱佳_三等奖_6493.pdf"]
[607,"P305119092735","PPT画图工具","小学组","微课","三等奖","深圳市",{"$f":"VLOOKUP(B609,'[1]002'!B:M,7,0)","v":"施科"},{"$f":"VLOOKUP(B609,'[1]002'!B:M,8,0)","v":"深圳市福田区上步小学"},{"$f":"VLOOKUP(B609,'[1]002'!B:M,11,0)","v":"-"},{"$f":"VLOOKUP(B609,'[1]002'!B:M,12,0)","v":"-"},{"$f":"VLOOKUP(B609,[2]sheet2!B:L,10,0)","v":"-"},{"$f":"VLOOKUP(B609,[2]sheet2!B:L,11,0)","v":"-"},"http://183.62.54.51:8841/data/files/certificate/000000000439/f463a2052e7743febd8542f5bec838bb/signed/607_施科_三等奖_6494.pdf"]
[608,"P305119092734","儿童乐园","小学组","微课","三等奖","深圳市",{"$f":"VLOOKUP(B610,'[1]002'!B:M,7,0)","v":"刘萍"},{"$f":"VLOOKUP(B610,'[1]002'!B:M,8,0)","v":"深圳市安芳小学"},{"$f":"VLOOKUP(B610,'[1]002'!B:M,11,0)","v":"-"},{"$f":"VLOOKUP(B610,'[1]002'!B:M,12,0)","v":"-"},{"$f":"VLOOKUP(B610,[2]sheet2!B:L,10,0)","v":"-"},{"$f":"VLOOKUP(B610,[2]sheet2!B:L,11,0)","v":"-"},"http://183.62.54.51:8841/data/files/certificate/000000000439/4c2508f6594d4a45a3f04bbf8ba18404/signed/608_刘萍_三等奖_6495.pdf"]
[609,"P305119092721","Scratch中的动画制作","小学组","微课","三等奖","深圳市",{"$f":"VLOOKUP(B611,'[1]002'!B:M,7,0)","v":"陈彩莲"},{"$f":"VLOOKUP(B611,'[1]002'!B:M,8,0)","v":"深圳市新秀小学"},{"$f":"VLOOKUP(B611,'[1]002'!B:M,11,0)","v":"-"},{"$f":"VLOOKUP(B611,'[1]002'!B:M,12,0)","v":"-"},{"$f":"VLOOKUP(B611,[2]sheet2!B:L,10,0)","v":"-"},{"$f":"VLOOKUP(B611,[2]sheet2!B:L,11,0)","v":"-"},"http://183.62.54.51:8841/data/files/certificate/000000000439/0ad3356ad6464fabbbcdfa0198c3f134/signed/609_陈彩莲_三等奖_6496.pdf"]
[610,"P305119092710","绘本My Mum","小学组","微课","三等奖","深圳市",{"$f":"VLOOKUP(B612,'[1]002'!B:M,7,0)","v":"胡捷"},{"$f":"VLOOKUP(B612,'[1]002'!B:M,8,0)","v":"深圳市布心小学"},{"$f":"VLOOKUP(B612,'[1]002'!B:M,11,0)","v":"-"},{"$f":"VLOOKUP(B612,'[1]002'!B:M,12,0)","v":"-"},{"$f":"VLOOKUP(B612,[2]sheet2!B:L,10,0)","v":"-"},{"$f":"VLOOKUP(B612,[2]sheet2!B:L,11,0)","v":"-"},"http://183.62.54.51:8841/data/files/certificate/000000000439/eaf817afd7db4ac3a16ec92971b772b0/signed/610_胡捷_三等奖_6497.pdf"]
[611,"P305119092712","猫抓老鼠","小学组","微课","三等奖","深圳市",{"$f":"VLOOKUP(B613,'[1]002'!B:M,7,0)","v":"朱泽凯"},{"$f":"VLOOKUP(B613,'[1]002'!B:M,8,0)","v":"深圳市仙桐实验小学"},{"$f":"VLOOKUP(B613,'[1]002'!B:M,11,0)","v":"-"},{"$f":"VLOOKUP(B613,'[1]002'!B:M,12,0)","v":"-"},{"$f":"VLOOKUP(B613,[2]sheet2!B:L,10,0)","v":"-"},{"$f":"VLOOKUP(B613,[2]sheet2!B:L,11,0)","v":"-"},"http://183.62.54.51:8841/data/files/certificate/000000000439/e26bf1d118f747eb8478c37b1124d6d0/signed/611_朱泽凯_三等奖_6498.pdf"]
[612,"P305119092733","节日的餐桌","小学组","微课","三等奖","深圳市",{"$f":"VLOOKUP(B614,'[1]002'!B:M,7,0)","v":"徐捷"},{"$f":"VLOOKUP(B614,'[1]002'!B:M,8,0)","v":"深圳市桂园小学"},{"$f":"VLOOKUP(B614,'[1]002'!B:M,11,0)","v":"-"},{"$f":"VLOOKUP(B614,'[1]002'!B:M,12,0)","v":"-"},{"$f":"VLOOKUP(B614,[2]sheet2!B:L,10,0)","v":"-"},{"$f":"VLOOKUP(B614,[2]sheet2!B:L,11,0)","v":"-"},"http://183.62.54.51:8841/data/files/certificate/000000000439/7ed5ac65af2142c7b40185323424bc92/signed/612_徐捷_三等奖_6499.pdf"]
[613,"P305119092715","有多重","小学组","微课","三等奖","深圳市",{"$f":"VLOOKUP(B615,'[1]002'!B:M,7,0)","v":"于冰溶"},{"$f":"VLOOKUP(B615,'[1]002'!B:M,8,0)","v":"深圳市福田区天健小学"},{"$f":"VLOOKUP(B615,'[1]002'!B:M,11,0)","v":"-"},{"$f":"VLOOKUP(B615,'[1]002'!B:M,12,0)","v":"-"},{"$f":"VLOOKUP(B615,[2]sheet2!B:L,10,0)","v":"-"},{"$f":"VLOOKUP(B615,[2]sheet2!B:L,11,0)","v":"-"},"http://183.62.54.51:8841/data/files/certificate/000000000439/295b14757bc54778a89e5d3786e7cb42/signed/613_于冰溶_三等奖_6500.pdf"]
[614,"P305119079035","图块复制","小学组","微课","三等奖","珠海市",{"$f":"VLOOKUP(B616,'[1]002'!B:M,7,0)","v":"杨晓丹"},{"$f":"VLOOKUP(B616,'[1]002'!B:M,8,0)","v":"珠海市红旗镇军建小学"},{"$f":"VLOOKUP(B616,'[1]002'!B:M,11,0)","v":"-"},{"$f":"VLOOKUP(B616,'[1]002'!B:M,12,0)","v":"-"},{"$f":"VLOOKUP(B616,[2]sheet2!B:L,10,0)","v":"-"},{"$f":"VLOOKUP(B616,[2]sheet2!B:L,11,0)","v":"-"},"http://183.62.54.51:8841/data/files/certificate/000000000439/ce48dcda4290466ca660bdf8d437e5e6/signed/614_杨晓丹_三等奖_6501.pdf"]
[615,"P305119088769","不做胡涂涂——三年级看图写话类作文指导","小学组","微课","三等奖","珠海市",{"$f":"VLOOKUP(B617,'[1]002'!B:M,7,0)","v":"张瑞霞"},{"$f":"VLOOKUP(B617,'[1]002'!B:M,8,0)","v":"珠海市香洲区第六小学"},{"$f":"VLOOKUP(B617,'[1]002'!B:M,11,0)","v":"-"},{"$f":"VLOOKUP(B617,'[1]002'!B:M,12,0)","v":"-"},{"$f":"VLOOKUP(B617,[2]sheet2!B:L,10,0)","v":"-"},{"$f":"VLOOKUP(B617,[2]sheet2!B:L,11,0)","v":"-"},"http://183.62.54.51:8841/data/files/certificate/000000000439/47fe147ab80448e2903796e96dbcc89e/signed/615_张瑞霞_三等奖_6502.pdf"]
[616,"P305119086057","9加几","小学组","微课","三等奖","珠海市",{"$f":"VLOOKUP(B618,'[1]002'!B:M,7,0)","v":"庄华英"},{"$f":"VLOOKUP(B618,'[1]002'!B:M,8,0)","v":"珠海市金湾区外国语学校"},{"$f":"VLOOKUP(B618,'[1]002'!B:M,11,0)","v":"-"},{"$f":"VLOOKUP(B618,'[1]002'!B:M,12,0)","v":"-"},{"$f":"VLOOKUP(B618,[2]sheet2!B:L,10,0)","v":"-"},{"$f":"VLOOKUP(B618,[2]sheet2!B:L,11,0)","v":"-"},"http://183.62.54.51:8841/data/files/certificate/000000000439/637cc00f4bd84a37b5e41d1e3aa09226/signed/616_庄华英_三等奖_6503.pdf"]
[617,"P305119091971","天净沙秋","小学组","微课","三等奖","汕头市",{"$f":"VLOOKUP(B619,'[1]002'!B:M,7,0)","v":"吴丹"},{"$f":"VLOOKUP(B619,'[1]002'!B:M,8,0)","v":"汕头市龙湖区金阳小学"},{"$f":"VLOOKUP(B619,'[1]002'!B:M,11,0)","v":"-"},{"$f":"VLOOKUP(B619,'[1]002'!B:M,12,0)","v":"-"},{"$f":"VLOOKUP(B619,[2]sheet2!B:L,10,0)","v":"-"},{"$f":"VLOOKUP(B619,[2]sheet2!B:L,11,0)","v":"-"},"http://183.62.54.51:8841/data/files/certificate/000000000439/2812bbc2cf024060bff5a4ef17534a47/signed/617_吴丹_三等奖_6504.pdf"]
[618,"P305119091975","Myfavouriteseason写作指导","小学组","微课","三等奖","汕头市",{"$f":"VLOOKUP(B620,'[1]002'!B:M,7,0)","v":"曾丽环"},{"$f":"VLOOKUP(B620,'[1]002'!B:M,8,0)","v":"汕头市龙湖区诒铭小学"},{"$f":"VLOOKUP(B620,'[1]002'!B:M,11,0)","v":"-"},{"$f":"VLOOKUP(B620,'[1]002'!B:M,12,0)","v":"-"},{"$f":"VLOOKUP(B620,[2]sheet2!B:L,10,0)","v":"-"},{"$f":"VLOOKUP(B620,[2]sheet2!B:L,11,0)","v":"-"},"http://183.62.54.51:8841/data/files/certificate/000000000439/079172b1b2f548eb9f850f23effd65f9/signed/618_曾丽环_三等奖_6505.pdf"]
[619,"P305119092325","PEP Book2 At the zoo A Let us spell","小学组","微课","三等奖","汕头市",{"$f":"VLOOKUP(B621,'[1]002'!B:M,7,0)","v":"黄越"},{"$f":"VLOOKUP(B621,'[1]002'!B:M,8,0)","v":"汕头市龙湖区陈厝合小学"},{"$f":"VLOOKUP(B621,'[1]002'!B:M,11,0)","v":"连哓贤"},{"$f":"VLOOKUP(B621,'[1]002'!B:M,12,0)","v":"汕头市龙湖区陈厝合小学"},{"$f":"VLOOKUP(B621,[2]sheet2!B:L,10,0)","v":"-"},{"$f":"VLOOKUP(B621,[2]sheet2!B:L,11,0)","v":"-"},"http://183.62.54.51:8841/data/files/certificate/000000000439/69a10c204d8549689194ce2d2775381d/signed/619_黄越、连哓贤_三等奖_6506.pdf"]
[620,"P305119091980","My favourite season","小学组","微课","三等奖","汕头市",{"$f":"VLOOKUP(B622,'[1]002'!B:M,7,0)","v":"李佩珊"},{"$f":"VLOOKUP(B622,'[1]002'!B:M,8,0)","v":"汕头市东厦小学"},{"$f":"VLOOKUP(B622,'[1]002'!B:M,11,0)","v":"-"},{"$f":"VLOOKUP(B622,'[1]002'!B:M,12,0)","v":"-"},{"$f":"VLOOKUP(B622,[2]sheet2!B:L,10,0)","v":"-"},{"$f":"VLOOKUP(B622,[2]sheet2!B:L,11,0)","v":"-"},"http://183.62.54.51:8841/data/files/certificate/000000000439/51c2dfe95e9343a58dab8213157a9585/signed/620_李佩珊_三等奖_6507.pdf"]
[621,"P305119091978","分段计费问题","小学组","微课","三等奖","汕头市",{"$f":"VLOOKUP(B623,'[1]002'!B:M,7,0)","v":"郑华生"},{"$f":"VLOOKUP(B623,'[1]002'!B:M,8,0)","v":"汕头市潮南区陇田镇华林小学"},{"$f":"VLOOKUP(B623,'[1]002'!B:M,11,0)","v":"-"},{"$f":"VLOOKUP(B623,'[1]002'!B:M,12,0)","v":"-"},{"$f":"VLOOKUP(B623,[2]sheet2!B:L,10,0)","v":"-"},{"$f":"VLOOKUP(B623,[2]sheet2!B:L,11,0)","v":"-"},"http://183.62.54.51:8841/data/files/certificate/000000000439/ff2b2e8a9e6a4079afba0e1c4a5a5a3f/signed/621_郑华生_三等奖_6508.pdf"]
[622,"P305119091961","田忌赛马","小学组","微课","三等奖","汕头市",{"$f":"VLOOKUP(B624,'[1]002'!B:M,7,0)","v":"蔡华虹"},{"$f":"VLOOKUP(B624,'[1]002'!B:M,8,0)","v":"汕头市濠江区青篮小学"},{"$f":"VLOOKUP(B624,'[1]002'!B:M,11,0)","v":"-"},{"$f":"VLOOKUP(B624,'[1]002'!B:M,12,0)","v":"-"},{"$f":"VLOOKUP(B624,[2]sheet2!B:L,10,0)","v":"-"},{"$f":"VLOOKUP(B624,[2]sheet2!B:L,11,0)","v":"-"},"http://183.62.54.51:8841/data/files/certificate/000000000439/f4731eea31304a89a67ebe5c9d067184/signed/622_蔡华虹_三等奖_6509.pdf"]
[623,"P305119091965","认识平移","小学组","微课","三等奖","汕头市",{"$f":"VLOOKUP(B625,'[1]002'!B:M,7,0)","v":"陈永慧"},{"$f":"VLOOKUP(B625,'[1]002'!B:M,8,0)","v":"汕头市龙湖区朝阳小学"},{"$f":"VLOOKUP(B625,'[1]002'!B:M,11,0)","v":"王炯德"},{"$f":"VLOOKUP(B625,'[1]002'!B:M,12,0)","v":"汕头市龙湖区丽日小学"},{"$f":"VLOOKUP(B625,[2]sheet2!B:L,10,0)","v":"-"},{"$f":"VLOOKUP(B625,[2]sheet2!B:L,11,0)","v":"-"},"http://183.62.54.51:8841/data/files/certificate/000000000439/010ecbc374fe41019fad645021faa963/signed/623_陈永慧、王炯德_三等奖_6510.pdf"]
[624,"P305119091977","海螺和海星","小学组","微课","三等奖","汕头市",{"$f":"VLOOKUP(B626,'[1]002'!B:M,7,0)","v":"陈东岳"},{"$f":"VLOOKUP(B626,'[1]002'!B:M,8,0)","v":"汕头市达濠第三中学"},{"$f":"VLOOKUP(B626,'[1]002'!B:M,11,0)","v":"-"},{"$f":"VLOOKUP(B626,'[1]002'!B:M,12,0)","v":"-"},{"$f":"VLOOKUP(B626,[2]sheet2!B:L,10,0)","v":"-"},{"$f":"VLOOKUP(B626,[2]sheet2!B:L,11,0)","v":"-"},"http://183.62.54.51:8841/data/files/certificate/000000000439/eed03ffb8d7444e1953cb3af5aaf0cb6/signed/624_陈东岳_三等奖_6511.pdf"]
[625,"P305119091981","1000以内数的认识——如何数拐弯数","小学组","微课","三等奖","汕头市",{"$f":"VLOOKUP(B627,'[1]002'!B:M,7,0)","v":"陈烁灿"},{"$f":"VLOOKUP(B627,'[1]002'!B:M,8,0)","v":"汕头市东厦小学"},{"$f":"VLOOKUP(B627,'[1]002'!B:M,11,0)","v":"-"},{"$f":"VLOOKUP(B627,'[1]002'!B:M,12,0)","v":"-"},{"$f":"VLOOKUP(B627,[2]sheet2!B:L,10,0)","v":"-"},{"$f":"VLOOKUP(B627,[2]sheet2!B:L,11,0)","v":"-"},"http://183.62.54.51:8841/data/files/certificate/000000000439/d1d8bed8a0064a8b89415322014a6ad0/signed/625_陈烁灿_三等奖_6512.pdf"]
[626,"P305119090898","递归及其应用","小学组","微课","三等奖","佛山市",{"$f":"VLOOKUP(B628,'[1]002'!B:M,7,0)","v":"张际红"},{"$f":"VLOOKUP(B628,'[1]002'!B:M,8,0)","v":"佛山市南海区桂城街道桂园小学"},{"$f":"VLOOKUP(B628,'[1]002'!B:M,11,0)","v":"-"},{"$f":"VLOOKUP(B628,'[1]002'!B:M,12,0)","v":"-"},{"$f":"VLOOKUP(B628,[2]sheet2!B:L,10,0)","v":"-"},{"$f":"VLOOKUP(B628,[2]sheet2!B:L,11,0)","v":"-"},"http://183.62.54.51:8841/data/files/certificate/000000000439/ee489192b6464a8eb3f5c8a591e7675e/signed/626_张际红_三等奖_6513.pdf"]
[627,"P305119090925","频度副词的用法","小学组","微课","三等奖","佛山市",{"$f":"VLOOKUP(B629,'[1]002'!B:M,7,0)","v":"黄金平"},{"$f":"VLOOKUP(B629,'[1]002'!B:M,8,0)","v":"佛山市顺德区仓门小学"},{"$f":"VLOOKUP(B629,'[1]002'!B:M,11,0)","v":"-"},{"$f":"VLOOKUP(B629,'[1]002'!B:M,12,0)","v":"-"},{"$f":"VLOOKUP(B629,[2]sheet2!B:L,10,0)","v":"-"},{"$f":"VLOOKUP(B629,[2]sheet2!B:L,11,0)","v":"-"},"http://183.62.54.51:8841/data/files/certificate/000000000439/a40b87e7e5f34b7b9091e393f5526be2/signed/627_黄金平_三等奖_6514.pdf"]
[628,"P305119090897","加法结合律","小学组","微课","三等奖","佛山市",{"$f":"VLOOKUP(B630,'[1]002'!B:M,7,0)","v":"林颖琪"},{"$f":"VLOOKUP(B630,'[1]002'!B:M,8,0)","v":"佛山市南海区丹灶镇金沙小学"},{"$f":"VLOOKUP(B630,'[1]002'!B:M,11,0)","v":"-"},{"$f":"VLOOKUP(B630,'[1]002'!B:M,12,0)","v":"-"},{"$f":"VLOOKUP(B630,[2]sheet2!B:L,10,0)","v":"-"},{"$f":"VLOOKUP(B630,[2]sheet2!B:L,11,0)","v":"-"},"http://183.62.54.51:8841/data/files/certificate/000000000439/f53f9eb9697a4202bd764913098cbb3c/signed/628_林颖琪_三等奖_6515.pdf"]
[629,"P305119090902","质数和合数","小学组","微课","三等奖","佛山市",{"$f":"VLOOKUP(B631,'[1]002'!B:M,7,0)","v":"姚海燕"},{"$f":"VLOOKUP(B631,'[1]002'!B:M,8,0)","v":"佛山市南海区丹灶镇罗行小学"},{"$f":"VLOOKUP(B631,'[1]002'!B:M,11,0)","v":"-"},{"$f":"VLOOKUP(B631,'[1]002'!B:M,12,0)","v":"-"},{"$f":"VLOOKUP(B631,[2]sheet2!B:L,10,0)","v":"-"},{"$f":"VLOOKUP(B631,[2]sheet2!B:L,11,0)","v":"-"},"http://183.62.54.51:8841/data/files/certificate/000000000439/443c5268cf0c4ed8a9fca89e533ca345/signed/629_姚海燕_三等奖_6516.pdf"]
[630,"P305119090879","灵巧的手","小学组","微课","三等奖","佛山市",{"$f":"VLOOKUP(B632,'[1]002'!B:M,7,0)","v":"李丽华"},{"$f":"VLOOKUP(B632,'[1]002'!B:M,8,0)","v":"佛山市高明区荷城街道德信实验学校"},{"$f":"VLOOKUP(B632,'[1]002'!B:M,11,0)","v":"-"},{"$f":"VLOOKUP(B632,'[1]002'!B:M,12,0)","v":"-"},{"$f":"VLOOKUP(B632,[2]sheet2!B:L,10,0)","v":"-"},{"$f":"VLOOKUP(B632,[2]sheet2!B:L,11,0)","v":"-"},"http://183.62.54.51:8841/data/files/certificate/000000000439/3fbaac1389b444de955250b9583b2781/signed/630_李丽华_三等奖_6517.pdf"]
[631,"P305119090889","排队问题","小学组","微课","三等奖","佛山市",{"$f":"VLOOKUP(B633,'[1]002'!B:M,7,0)","v":"吴怡瑜"},{"$f":"VLOOKUP(B633,'[1]002'!B:M,8,0)","v":"佛山市禅城区环湖小学"},{"$f":"VLOOKUP(B633,'[1]002'!B:M,11,0)","v":"-"},{"$f":"VLOOKUP(B633,'[1]002'!B:M,12,0)","v":"-"},{"$f":"VLOOKUP(B633,[2]sheet2!B:L,10,0)","v":"-"},{"$f":"VLOOKUP(B633,[2]sheet2!B:L,11,0)","v":"-"},"http://183.62.54.51:8841/data/files/certificate/000000000439/48c4d4f1001144fcad1923907b25dc3e/signed/631_吴怡瑜_三等奖_6518.pdf"]
[632,"P305119090894","不规则图形的容积","小学组","微课","三等奖","佛山市",{"$f":"VLOOKUP(B634,'[1]002'!B:M,7,0)","v":"姚海燕"},{"$f":"VLOOKUP(B634,'[1]002'!B:M,8,0)","v":"佛山市南海区丹灶镇罗行小学"},{"$f":"VLOOKUP(B634,'[1]002'!B:M,11,0)","v":"-"},{"$f":"VLOOKUP(B634,'[1]002'!B:M,12,0)","v":"-"},{"$f":"VLOOKUP(B634,[2]sheet2!B:L,10,0)","v":"-"},{"$f":"VLOOKUP(B634,[2]sheet2!B:L,11,0)","v":"-"},"http://183.62.54.51:8841/data/files/certificate/000000000439/b9aeda854dda40a6ad830b4b8ed4faed/signed/632_姚海燕_三等奖_6519.pdf"]
[633,"P305119090893","第6课通天云梯_用for语句控制循环_习题讲解","小学组","微课","三等奖","佛山市",{"$f":"VLOOKUP(B635,'[1]002'!B:M,7,0)","v":"刘炳升"},{"$f":"VLOOKUP(B635,'[1]002'!B:M,8,0)","v":"佛山市南海区大沥镇盐步中心小学"},{"$f":"VLOOKUP(B635,'[1]002'!B:M,11,0)","v":"-"},{"$f":"VLOOKUP(B635,'[1]002'!B:M,12,0)","v":"-"},{"$f":"VLOOKUP(B635,[2]sheet2!B:L,10,0)","v":"-"},{"$f":"VLOOKUP(B635,[2]sheet2!B:L,11,0)","v":"-"},"http://183.62.54.51:8841/data/files/certificate/000000000439/957ee2c1fe4a47b0bb050be45420aae0/signed/633_刘炳升_三等奖_6520.pdf"]
[634,"P305119090953","三角形的内角和","小学组","微课","三等奖","佛山市",{"$f":"VLOOKUP(B636,'[1]002'!B:M,7,0)","v":"陆晓明"},{"$f":"VLOOKUP(B636,'[1]002'!B:M,8,0)","v":"佛山市三水区实验小学"},{"$f":"VLOOKUP(B636,'[1]002'!B:M,11,0)","v":"-"},{"$f":"VLOOKUP(B636,'[1]002'!B:M,12,0)","v":"-"},{"$f":"VLOOKUP(B636,[2]sheet2!B:L,10,0)","v":"-"},{"$f":"VLOOKUP(B636,[2]sheet2!B:L,11,0)","v":"-"},"http://183.62.54.51:8841/data/files/certificate/000000000439/175c0c322bbb4feb88001344ca912ac1/signed/634_陆晓明_三等奖_6521.pdf"]
[635,"P305119090886","立定跳远","小学组","微课","三等奖","佛山市",{"$f":"VLOOKUP(B637,'[1]002'!B:M,7,0)","v":"李润芳"},{"$f":"VLOOKUP(B637,'[1]002'!B:M,8,0)","v":"佛山市高明区荷城街道德信实验学校"},{"$f":"VLOOKUP(B637,'[1]002'!B:M,11,0)","v":"-"},{"$f":"VLOOKUP(B637,'[1]002'!B:M,12,0)","v":"-"},{"$f":"VLOOKUP(B637,[2]sheet2!B:L,10,0)","v":"-"},{"$f":"VLOOKUP(B637,[2]sheet2!B:L,11,0)","v":"-"},"http://183.62.54.51:8841/data/files/certificate/000000000439/e80e8bd2251049869cb7fc7a3b880aff/signed/635_李润芳_三等奖_6522.pdf"]
[636,"P305119090943","设置无线路由器","小学组","微课","三等奖","佛山市",{"$f":"VLOOKUP(B638,'[1]002'!B:M,7,0)","v":"何国兴"},{"$f":"VLOOKUP(B638,'[1]002'!B:M,8,0)","v":"佛山市顺德区北滘碧江小学"},{"$f":"VLOOKUP(B638,'[1]002'!B:M,11,0)","v":"麦梓朋"},{"$f":"VLOOKUP(B638,'[1]002'!B:M,12,0)","v":"佛山市顺德区北滘碧江小学"},{"$f":"VLOOKUP(B638,[2]sheet2!B:L,10,0)","v":"计晗芬"},{"$f":"VLOOKUP(B638,[2]sheet2!B:L,11,0)","v":"佛山市顺德区北滘碧江小学"},"http://183.62.54.51:8841/data/files/certificate/000000000439/73e18eda17d1418ab159c67ca5c4a932/signed/636_何国兴、麦梓朋、计晗芬_三等奖_6523.pdf"]
[637,"P305119090921","What can you do?","小学组","微课","三等奖","佛山市",{"$f":"VLOOKUP(B639,'[1]002'!B:M,7,0)","v":"叶芸"},{"$f":"VLOOKUP(B639,'[1]002'!B:M,8,0)","v":"佛山市同济小学"},{"$f":"VLOOKUP(B639,'[1]002'!B:M,11,0)","v":"-"},{"$f":"VLOOKUP(B639,'[1]002'!B:M,12,0)","v":"-"},{"$f":"VLOOKUP(B639,[2]sheet2!B:L,10,0)","v":"-"},{"$f":"VLOOKUP(B639,[2]sheet2!B:L,11,0)","v":"-"},"http://183.62.54.51:8841/data/files/certificate/000000000439/3d5d2b18afc54128890146479c87af0e/signed/637_叶芸_三等奖_6524.pdf"]
[638,"P305119090934","身体红绿灯","小学组","微课","三等奖","佛山市",{"$f":"VLOOKUP(B640,'[1]002'!B:M,7,0)","v":"肖楚娇"},{"$f":"VLOOKUP(B640,'[1]002'!B:M,8,0)","v":"佛山市顺德区均安顺峰小学"},{"$f":"VLOOKUP(B640,'[1]002'!B:M,11,0)","v":"-"},{"$f":"VLOOKUP(B640,'[1]002'!B:M,12,0)","v":"-"},{"$f":"VLOOKUP(B640,[2]sheet2!B:L,10,0)","v":"-"},{"$f":"VLOOKUP(B640,[2]sheet2!B:L,11,0)","v":"-"},"http://183.62.54.51:8841/data/files/certificate/000000000439/2520ae0c1b534fbbaeb224dfbd74ab24/signed/638_肖楚娇_三等奖_6525.pdf"]
[639,"P305119090883","透视原理","小学组","微课","三等奖","佛山市",{"$f":"VLOOKUP(B641,'[1]002'!B:M,7,0)","v":"何姗文"},{"$f":"VLOOKUP(B641,'[1]002'!B:M,8,0)","v":"佛山市高明区明城镇明城小学"},{"$f":"VLOOKUP(B641,'[1]002'!B:M,11,0)","v":"-"},{"$f":"VLOOKUP(B641,'[1]002'!B:M,12,0)","v":"-"},{"$f":"VLOOKUP(B641,[2]sheet2!B:L,10,0)","v":"-"},{"$f":"VLOOKUP(B641,[2]sheet2!B:L,11,0)","v":"-"},"http://183.62.54.51:8841/data/files/certificate/000000000439/83a7ab544fd245c6a7f9331c6001d4b8/signed/639_何姗文_三等奖_6526.pdf"]
[640,"P305119090952","小数的意义","小学组","微课","三等奖","佛山市",{"$f":"VLOOKUP(B642,'[1]002'!B:M,7,0)","v":"黄晓芳"},{"$f":"VLOOKUP(B642,'[1]002'!B:M,8,0)","v":"佛山市三水区西南街道中心小学"},{"$f":"VLOOKUP(B642,'[1]002'!B:M,11,0)","v":"-"},{"$f":"VLOOKUP(B642,'[1]002'!B:M,12,0)","v":"-"},{"$f":"VLOOKUP(B642,[2]sheet2!B:L,10,0)","v":"-"},{"$f":"VLOOKUP(B642,[2]sheet2!B:L,11,0)","v":"-"},"http://183.62.54.51:8841/data/files/certificate/000000000439/c7b3d8e28632418c848e27f187c87fc0/signed/640_黄晓芳_三等奖_6527.pdf"]
[641,"P305119090941","淘气的作息时间","小学组","微课","三等奖","佛山市",{"$f":"VLOOKUP(B643,'[1]002'!B:M,7,0)","v":"金凤霞"},{"$f":"VLOOKUP(B643,'[1]002'!B:M,8,0)","v":"佛山市顺德区乐从劳村小学"},{"$f":"VLOOKUP(B643,'[1]002'!B:M,11,0)","v":"-"},{"$f":"VLOOKUP(B643,'[1]002'!B:M,12,0)","v":"-"},{"$f":"VLOOKUP(B643,[2]sheet2!B:L,10,0)","v":"-"},{"$f":"VLOOKUP(B643,[2]sheet2!B:L,11,0)","v":"-"},"http://183.62.54.51:8841/data/files/certificate/000000000439/2ee242bef4974fe3836ce45bbdfcbe34/signed/641_金凤霞_三等奖_6528.pdf"]
[642,"P305119090915","角的度量","小学组","微课","三等奖","佛山市",{"$f":"VLOOKUP(B644,'[1]002'!B:M,7,0)","v":"欧玉婷"},{"$f":"VLOOKUP(B644,'[1]002'!B:M,8,0)","v":"禅城区东鄱小学"},{"$f":"VLOOKUP(B644,'[1]002'!B:M,11,0)","v":"-"},{"$f":"VLOOKUP(B644,'[1]002'!B:M,12,0)","v":"-"},{"$f":"VLOOKUP(B644,[2]sheet2!B:L,10,0)","v":"-"},{"$f":"VLOOKUP(B644,[2]sheet2!B:L,11,0)","v":"-"},"http://183.62.54.51:8841/data/files/certificate/000000000439/d225d61fb8cf40da9cbd0ebeec94b741/signed/642_欧玉婷_三等奖_6529.pdf"]
[643,"P305119090895","认识名词的单复数","小学组","微课","三等奖","佛山市",{"$f":"VLOOKUP(B645,'[1]002'!B:M,7,0)","v":"张惠敏"},{"$f":"VLOOKUP(B645,'[1]002'!B:M,8,0)","v":"佛山市南海区丹灶镇罗行小学"},{"$f":"VLOOKUP(B645,'[1]002'!B:M,11,0)","v":"-"},{"$f":"VLOOKUP(B645,'[1]002'!B:M,12,0)","v":"-"},{"$f":"VLOOKUP(B645,[2]sheet2!B:L,10,0)","v":"-"},{"$f":"VLOOKUP(B645,[2]sheet2!B:L,11,0)","v":"-"},"http://183.62.54.51:8841/data/files/certificate/000000000439/5cf3447bf0354f7681045a496f890299/signed/643_张惠敏_三等奖_6530.pdf"]
[644,"P305119090947","Howmany数风筝","小学组","微课","三等奖","佛山市",{"$f":"VLOOKUP(B646,'[1]002'!B:M,7,0)","v":"黄然筠"},{"$f":"VLOOKUP(B646,'[1]002'!B:M,8,0)","v":"佛山市三水区白坭镇中心小学"},{"$f":"VLOOKUP(B646,'[1]002'!B:M,11,0)","v":"-"},{"$f":"VLOOKUP(B646,'[1]002'!B:M,12,0)","v":"-"},{"$f":"VLOOKUP(B646,[2]sheet2!B:L,10,0)","v":"-"},{"$f":"VLOOKUP(B646,[2]sheet2!B:L,11,0)","v":"-"},"http://183.62.54.51:8841/data/files/certificate/000000000439/dbf75083b75e4057922f709424e9f675/signed/644_黄然筠_三等奖_6531.pdf"]
[645,"P305119090909","水墨胡萝卜","小学组","微课","三等奖","佛山市",{"$f":"VLOOKUP(B647,'[1]002'!B:M,7,0)","v":"缪会金"},{"$f":"VLOOKUP(B647,'[1]002'!B:M,8,0)","v":"佛山市南海区桂城街道桂江小学"},{"$f":"VLOOKUP(B647,'[1]002'!B:M,11,0)","v":"-"},{"$f":"VLOOKUP(B647,'[1]002'!B:M,12,0)","v":"-"},{"$f":"VLOOKUP(B647,[2]sheet2!B:L,10,0)","v":"-"},{"$f":"VLOOKUP(B647,[2]sheet2!B:L,11,0)","v":"-"},"http://183.62.54.51:8841/data/files/certificate/000000000439/530f3ef734514063bfdf4d330363036e/signed/645_缪会金_三等奖_6532.pdf"]
[646,"P305119090936","龙舟儿女中的说唱音乐","小学组","微课","三等奖","佛山市",{"$f":"VLOOKUP(B648,'[1]002'!B:M,7,0)","v":"庞晓玲"},{"$f":"VLOOKUP(B648,'[1]002'!B:M,8,0)","v":"佛山市顺德区乐从小学"},{"$f":"VLOOKUP(B648,'[1]002'!B:M,11,0)","v":"-"},{"$f":"VLOOKUP(B648,'[1]002'!B:M,12,0)","v":"-"},{"$f":"VLOOKUP(B648,[2]sheet2!B:L,10,0)","v":"-"},{"$f":"VLOOKUP(B648,[2]sheet2!B:L,11,0)","v":"-"},"http://183.62.54.51:8841/data/files/certificate/000000000439/857f8c392f22467abb006f4e67dfa87f/signed/646_庞晓玲_三等奖_6533.pdf"]
[647,"P305119090948","从零认识拍号","小学组","微课","三等奖","佛山市",{"$f":"VLOOKUP(B649,'[1]002'!B:M,7,0)","v":"李以豪"},{"$f":"VLOOKUP(B649,'[1]002'!B:M,8,0)","v":"佛山市三水区西南街道第九小学"},{"$f":"VLOOKUP(B649,'[1]002'!B:M,11,0)","v":"-"},{"$f":"VLOOKUP(B649,'[1]002'!B:M,12,0)","v":"-"},{"$f":"VLOOKUP(B649,[2]sheet2!B:L,10,0)","v":"-"},{"$f":"VLOOKUP(B649,[2]sheet2!B:L,11,0)","v":"-"},"http://183.62.54.51:8841/data/files/certificate/000000000439/9f1bd2b2d6e04f4bbe1f5bbf96669e61/signed/647_李以豪_三等奖_6534.pdf"]
[648,"P305119087989","立体贺卡","小学组","微课","三等奖","韶关市",{"$f":"VLOOKUP(B650,'[1]002'!B:M,7,0)","v":"朱霞"},{"$f":"VLOOKUP(B650,'[1]002'!B:M,8,0)","v":"韶关市武江区东岗小学"},{"$f":"VLOOKUP(B650,'[1]002'!B:M,11,0)","v":"-"},{"$f":"VLOOKUP(B650,'[1]002'!B:M,12,0)","v":"-"},{"$f":"VLOOKUP(B650,[2]sheet2!B:L,10,0)","v":"-"},{"$f":"VLOOKUP(B650,[2]sheet2!B:L,11,0)","v":"-"},"http://183.62.54.51:8841/data/files/certificate/000000000439/9b9b9d9f9e9447acb94b1525b0f7e0cb/signed/648_朱霞_三等奖_6535.pdf"]
[649,"P305119088992","铺砖问题","小学组","微课","三等奖","韶关市",{"$f":"VLOOKUP(B651,'[1]002'!B:M,7,0)","v":"刘溢文"},{"$f":"VLOOKUP(B651,'[1]002'!B:M,8,0)","v":"始兴县顿岗镇中心小学"},{"$f":"VLOOKUP(B651,'[1]002'!B:M,11,0)","v":"-"},{"$f":"VLOOKUP(B651,'[1]002'!B:M,12,0)","v":"-"},{"$f":"VLOOKUP(B651,[2]sheet2!B:L,10,0)","v":"-"},{"$f":"VLOOKUP(B651,[2]sheet2!B:L,11,0)","v":"-"},"http://183.62.54.51:8841/data/files/certificate/000000000439/928d2f3bf13c46c9bfdb6970f70157ed/signed/649_刘溢文_三等奖_6536.pdf"]
[650,"P305119089799","公式的使用与填充","小学组","微课","三等奖","韶关市",{"$f":"VLOOKUP(B652,'[1]002'!B:M,7,0)","v":"蓝运晶"},{"$f":"VLOOKUP(B652,'[1]002'!B:M,8,0)","v":"翁源县龙仙第二小学"},{"$f":"VLOOKUP(B652,'[1]002'!B:M,11,0)","v":"张细秀"},{"$f":"VLOOKUP(B652,'[1]002'!B:M,12,0)","v":"翁源县龙仙第二小学"},{"$f":"VLOOKUP(B652,[2]sheet2!B:L,10,0)","v":"-"},{"$f":"VLOOKUP(B652,[2]sheet2!B:L,11,0)","v":"-"},"http://183.62.54.51:8841/data/files/certificate/000000000439/7926ec51d47f49c7a7454829a25ac749/signed/650_蓝运晶、张细秀_三等奖_6537.pdf"]
[651,"P305119087893","水是什么样的","小学组","微课","三等奖","韶关市",{"$f":"VLOOKUP(B653,'[1]002'!B:M,7,0)","v":"胡慧娟"},{"$f":"VLOOKUP(B653,'[1]002'!B:M,8,0)","v":"韶关市武江区东岗小学"},{"$f":"VLOOKUP(B653,'[1]002'!B:M,11,0)","v":"贺中意"},{"$f":"VLOOKUP(B653,'[1]002'!B:M,12,0)","v":"韶关市武江区东岗小学"},{"$f":"VLOOKUP(B653,[2]sheet2!B:L,10,0)","v":"-"},{"$f":"VLOOKUP(B653,[2]sheet2!B:L,11,0)","v":"-"},"http://183.62.54.51:8841/data/files/certificate/000000000439/1b89f0ac76c74aa4bcefc02a87181f0c/signed/651_胡慧娟、贺中意_三等奖_6538.pdf"]
[652,"P305119088826","什么是面积","小学组","微课","三等奖","韶关市",{"$f":"VLOOKUP(B654,'[1]002'!B:M,7,0)","v":"邓旭明"},{"$f":"VLOOKUP(B654,'[1]002'!B:M,8,0)","v":"翁源县龙仙第二小学"},{"$f":"VLOOKUP(B654,'[1]002'!B:M,11,0)","v":"李凤娟"},{"$f":"VLOOKUP(B654,'[1]002'!B:M,12,0)","v":"翁源县龙仙第三小学"},{"$f":"VLOOKUP(B654,[2]sheet2!B:L,10,0)","v":"张细秀"},{"$f":"VLOOKUP(B654,[2]sheet2!B:L,11,0)","v":"翁源县龙仙第二小学"},"http://183.62.54.51:8841/data/files/certificate/000000000439/f0d70f0730344c6e8eb61139c6a3e17b/signed/652_邓旭明、李凤娟、张细秀_三等奖_6539.pdf"]
[653,"P305119090535","单三部曲式","小学组","微课","三等奖","韶关市",{"$f":"VLOOKUP(B655,'[1]002'!B:M,7,0)","v":"李艳群"},{"$f":"VLOOKUP(B655,'[1]002'!B:M,8,0)","v":"韶关市浈江区执信小学"},{"$f":"VLOOKUP(B655,'[1]002'!B:M,11,0)","v":"-"},{"$f":"VLOOKUP(B655,'[1]002'!B:M,12,0)","v":"-"},{"$f":"VLOOKUP(B655,[2]sheet2!B:L,10,0)","v":"-"},{"$f":"VLOOKUP(B655,[2]sheet2!B:L,11,0)","v":"-"},"http://183.62.54.51:8841/data/files/certificate/000000000439/6aa323778aed4c65a581a02d0b9ce615/signed/653_李艳群_三等奖_6540.pdf"]
[654,"P305119088851","制作家乡美景演示文稿","小学组","微课","三等奖","韶关市",{"$f":"VLOOKUP(B656,'[1]002'!B:M,7,0)","v":"曾永康"},{"$f":"VLOOKUP(B656,'[1]002'!B:M,8,0)","v":"韶关市武江区沐溪小学"},{"$f":"VLOOKUP(B656,'[1]002'!B:M,11,0)","v":"李坤燕"},{"$f":"VLOOKUP(B656,'[1]002'!B:M,12,0)","v":"韶关市武江区金福园小学"},{"$f":"VLOOKUP(B656,[2]sheet2!B:L,10,0)","v":"-"},{"$f":"VLOOKUP(B656,[2]sheet2!B:L,11,0)","v":"-"},"http://183.62.54.51:8841/data/files/certificate/000000000439/0c2a354f602140f9a62c9a8eff34ec5a/signed/654_曾永康、李坤燕_三等奖_6541.pdf"]
[655,"P305119087932","双重否定句改为肯定句","小学组","微课","三等奖","韶关市",{"$f":"VLOOKUP(B657,'[1]002'!B:M,7,0)","v":"黄佩"},{"$f":"VLOOKUP(B657,'[1]002'!B:M,8,0)","v":"韶关市武江区金福园小学"},{"$f":"VLOOKUP(B657,'[1]002'!B:M,11,0)","v":"-"},{"$f":"VLOOKUP(B657,'[1]002'!B:M,12,0)","v":"-"},{"$f":"VLOOKUP(B657,[2]sheet2!B:L,10,0)","v":"-"},{"$f":"VLOOKUP(B657,[2]sheet2!B:L,11,0)","v":"-"},"http://183.62.54.51:8841/data/files/certificate/000000000439/813bf83712cc430b8737ecf52f4aea46/signed/655_黄佩_三等奖_6542.pdf"]
[656,"P305119093419","走进詹天佑及京张铁路","小学组","微课","三等奖","河源市",{"$f":"VLOOKUP(B658,'[1]002'!B:M,7,0)","v":"李艳岚"},{"$f":"VLOOKUP(B658,'[1]002'!B:M,8,0)","v":"河源市第一小学"},{"$f":"VLOOKUP(B658,'[1]002'!B:M,11,0)","v":"-"},{"$f":"VLOOKUP(B658,'[1]002'!B:M,12,0)","v":"-"},{"$f":"VLOOKUP(B658,[2]sheet2!B:L,10,0)","v":"-"},{"$f":"VLOOKUP(B658,[2]sheet2!B:L,11,0)","v":"-"},"http://183.62.54.51:8841/data/files/certificate/000000000439/dff13c3de56c4eaabd7e933afb60aa2b/signed/656_李艳岚_三等奖_6543.pdf"]
[657,"P305119093428","拔萝卜","小学组","微课","三等奖","河源市",{"$f":"VLOOKUP(B659,'[1]002'!B:M,7,0)","v":"黄嫦平"},{"$f":"VLOOKUP(B659,'[1]002'!B:M,8,0)","v":"车田镇中心小学"},{"$f":"VLOOKUP(B659,'[1]002'!B:M,11,0)","v":"-"},{"$f":"VLOOKUP(B659,'[1]002'!B:M,12,0)","v":"-"},{"$f":"VLOOKUP(B659,[2]sheet2!B:L,10,0)","v":"-"},{"$f":"VLOOKUP(B659,[2]sheet2!B:L,11,0)","v":"-"},"http://183.62.54.51:8841/data/files/certificate/000000000439/e1b1f95493ce498b840441748e464dcd/signed/657_黄嫦平_三等奖_6544.pdf"]
[658,"P305119093424","认识图形","小学组","微课","三等奖","河源市",{"$f":"VLOOKUP(B660,'[1]002'!B:M,7,0)","v":"廖晓婷"},{"$f":"VLOOKUP(B660,'[1]002'!B:M,8,0)","v":"上义镇招元小学"},{"$f":"VLOOKUP(B660,'[1]002'!B:M,11,0)","v":"-"},{"$f":"VLOOKUP(B660,'[1]002'!B:M,12,0)","v":"-"},{"$f":"VLOOKUP(B660,[2]sheet2!B:L,10,0)","v":"-"},{"$f":"VLOOKUP(B660,[2]sheet2!B:L,11,0)","v":"-"},"http://183.62.54.51:8841/data/files/certificate/000000000439/fef0589260694a47b4f93694041adc5f/signed/658_廖晓婷_三等奖_6545.pdf"]
[659,"P305119093434","查字典","小学组","微课","三等奖","河源市",{"$f":"VLOOKUP(B661,'[1]002'!B:M,7,0)","v":"王仕丹"},{"$f":"VLOOKUP(B661,'[1]002'!B:M,8,0)","v":"老隆镇涧洞小学"},{"$f":"VLOOKUP(B661,'[1]002'!B:M,11,0)","v":"-"},{"$f":"VLOOKUP(B661,'[1]002'!B:M,12,0)","v":"-"},{"$f":"VLOOKUP(B661,[2]sheet2!B:L,10,0)","v":"-"},{"$f":"VLOOKUP(B661,[2]sheet2!B:L,11,0)","v":"-"},"http://183.62.54.51:8841/data/files/certificate/000000000439/dcda15e1ceea4fcabed994fa970fb1d3/signed/659_王仕丹_三等奖_6546.pdf"]
[660,"P305119093415","PEP2第一单元语音课","小学组","微课","三等奖","河源市",{"$f":"VLOOKUP(B662,'[1]002'!B:M,7,0)","v":"王玲"},{"$f":"VLOOKUP(B662,'[1]002'!B:M,8,0)","v":"紫金县蓝塘中心小学"},{"$f":"VLOOKUP(B662,'[1]002'!B:M,11,0)","v":"-"},{"$f":"VLOOKUP(B662,'[1]002'!B:M,12,0)","v":"-"},{"$f":"VLOOKUP(B662,[2]sheet2!B:L,10,0)","v":"-"},{"$f":"VLOOKUP(B662,[2]sheet2!B:L,11,0)","v":"-"},"http://183.62.54.51:8841/data/files/certificate/000000000439/9499d6bbca784bc69cd40b505a35553c/signed/660_王玲_三等奖_6547.pdf"]
[661,"P305119093413","整十数加减整十数","小学组","微课","三等奖","河源市",{"$f":"VLOOKUP(B663,'[1]002'!B:M,7,0)","v":"高悦芝"},{"$f":"VLOOKUP(B663,'[1]002'!B:M,8,0)","v":"河源市第二小学"},{"$f":"VLOOKUP(B663,'[1]002'!B:M,11,0)","v":"-"},{"$f":"VLOOKUP(B663,'[1]002'!B:M,12,0)","v":"-"},{"$f":"VLOOKUP(B663,[2]sheet2!B:L,10,0)","v":"-"},{"$f":"VLOOKUP(B663,[2]sheet2!B:L,11,0)","v":"-"},"http://183.62.54.51:8841/data/files/certificate/000000000439/3844570e0083425c890fedf03931ff1c/signed/661_高悦芝_三等奖_6548.pdf"]
[662,"P305119093422","圆柱的认识","小学组","微课","三等奖","河源市",{"$f":"VLOOKUP(B664,'[1]002'!B:M,7,0)","v":"李远庭"},{"$f":"VLOOKUP(B664,'[1]002'!B:M,8,0)","v":"河源市第二小学"},{"$f":"VLOOKUP(B664,'[1]002'!B:M,11,0)","v":"-"},{"$f":"VLOOKUP(B664,'[1]002'!B:M,12,0)","v":"-"},{"$f":"VLOOKUP(B664,[2]sheet2!B:L,10,0)","v":"-"},{"$f":"VLOOKUP(B664,[2]sheet2!B:L,11,0)","v":"-"},"http://183.62.54.51:8841/data/files/certificate/000000000439/94961e7bd8fd4cb586dcacc8868cd731/signed/662_李远庭_三等奖_6549.pdf"]
[663,"P305119093423","圆的周长","小学组","微课","三等奖","河源市",{"$f":"VLOOKUP(B665,'[1]002'!B:M,7,0)","v":"钟丽珊"},{"$f":"VLOOKUP(B665,'[1]002'!B:M,8,0)","v":"东源县黄村镇中心小学"},{"$f":"VLOOKUP(B665,'[1]002'!B:M,11,0)","v":"曾爱玉"},{"$f":"VLOOKUP(B665,'[1]002'!B:M,12,0)","v":"东源县黄村镇中心小学"},{"$f":"VLOOKUP(B665,[2]sheet2!B:L,10,0)","v":"-"},{"$f":"VLOOKUP(B665,[2]sheet2!B:L,11,0)","v":"-"},"http://183.62.54.51:8841/data/files/certificate/000000000439/e3284e6626a14722b01862c429c3e435/signed/663_钟丽珊、曾爱玉_三等奖_6550.pdf"]
[664,"P305119093421","PEP小学英语三年级上册Unit1ASpell","小学组","微课","三等奖","河源市",{"$f":"VLOOKUP(B666,'[1]002'!B:M,7,0)","v":"何丽婷"},{"$f":"VLOOKUP(B666,'[1]002'!B:M,8,0)","v":"河源市第二小学"},{"$f":"VLOOKUP(B666,'[1]002'!B:M,11,0)","v":"-"},{"$f":"VLOOKUP(B666,'[1]002'!B:M,12,0)","v":"-"},{"$f":"VLOOKUP(B666,[2]sheet2!B:L,10,0)","v":"-"},{"$f":"VLOOKUP(B666,[2]sheet2!B:L,11,0)","v":"-"},"http://183.62.54.51:8841/data/files/certificate/000000000439/73852b626738470e99744823ce5f7889/signed/664_何丽婷_三等奖_6551.pdf"]
[665,"P305119079350","名数及名数的改写","小学组","微课","三等奖","梅州市",{"$f":"VLOOKUP(B667,'[1]002'!B:M,7,0)","v":"张新秀"},{"$f":"VLOOKUP(B667,'[1]002'!B:M,8,0)","v":"长潭镇上村小学"},{"$f":"VLOOKUP(B667,'[1]002'!B:M,11,0)","v":"-"},{"$f":"VLOOKUP(B667,'[1]002'!B:M,12,0)","v":"-"},{"$f":"VLOOKUP(B667,[2]sheet2!B:L,10,0)","v":"-"},{"$f":"VLOOKUP(B667,[2]sheet2!B:L,11,0)","v":"-"},"http://183.62.54.51:8841/data/files/certificate/000000000439/92af62c5b8264fb4853893a8b9c662b6/signed/665_张新秀_三等奖_6552.pdf"]
[666,"P305119086624","认识形容词比较级","小学组","微课","三等奖","梅州市",{"$f":"VLOOKUP(B668,'[1]002'!B:M,7,0)","v":"黄健新"},{"$f":"VLOOKUP(B668,'[1]002'!B:M,8,0)","v":"大埔县教育局"},{"$f":"VLOOKUP(B668,'[1]002'!B:M,11,0)","v":"-"},{"$f":"VLOOKUP(B668,'[1]002'!B:M,12,0)","v":"-"},{"$f":"VLOOKUP(B668,[2]sheet2!B:L,10,0)","v":"-"},{"$f":"VLOOKUP(B668,[2]sheet2!B:L,11,0)","v":"-"},"http://183.62.54.51:8841/data/files/certificate/000000000439/c573c2732c234a1ca9a0e8b3e6062857/signed/666_黄健新_三等奖_6553.pdf"]
[667,"P305119092108","可数名词复数形式的构词规律","小学组","微课","三等奖","惠州市",{"$f":"VLOOKUP(B669,'[1]002'!B:M,7,0)","v":"陈小裕"},{"$f":"VLOOKUP(B669,'[1]002'!B:M,8,0)","v":"博罗县罗阳第六小学"},{"$f":"VLOOKUP(B669,'[1]002'!B:M,11,0)","v":"李卫平"},{"$f":"VLOOKUP(B669,'[1]002'!B:M,12,0)","v":"博罗县罗阳第六小学"},{"$f":"VLOOKUP(B669,[2]sheet2!B:L,10,0)","v":"-"},{"$f":"VLOOKUP(B669,[2]sheet2!B:L,11,0)","v":"-"},"http://183.62.54.51:8841/data/files/certificate/000000000439/3dca1bb169e54b468fb4e084e33e49f0/signed/667_陈小裕、李卫平_三等奖_6554.pdf"]
[668,"P305119092109","动词ing形式的构词规律","小学组","微课","三等奖","惠州市",{"$f":"VLOOKUP(B670,'[1]002'!B:M,7,0)","v":"袁贵友"},{"$f":"VLOOKUP(B670,'[1]002'!B:M,8,0)","v":"博罗县罗阳第六小学"},{"$f":"VLOOKUP(B670,'[1]002'!B:M,11,0)","v":"李卫平"},{"$f":"VLOOKUP(B670,'[1]002'!B:M,12,0)","v":"博罗县罗阳第六小学"},{"$f":"VLOOKUP(B670,[2]sheet2!B:L,10,0)","v":"-"},{"$f":"VLOOKUP(B670,[2]sheet2!B:L,11,0)","v":"-"},"http://183.62.54.51:8841/data/files/certificate/000000000439/a266ebe75281467ba71b9849bff2c9bc/signed/668_袁贵友、李卫平_三等奖_6555.pdf"]
[669,"P305119092118","What_are_they_doing","小学组","微课","三等奖","惠州市",{"$f":"VLOOKUP(B671,'[1]002'!B:M,7,0)","v":"李冬梅"},{"$f":"VLOOKUP(B671,'[1]002'!B:M,8,0)","v":"博罗县罗阳第六小学"},{"$f":"VLOOKUP(B671,'[1]002'!B:M,11,0)","v":"李卫平"},{"$f":"VLOOKUP(B671,'[1]002'!B:M,12,0)","v":"博罗县罗阳第六小学"},{"$f":"VLOOKUP(B671,[2]sheet2!B:L,10,0)","v":"-"},{"$f":"VLOOKUP(B671,[2]sheet2!B:L,11,0)","v":"-"},"http://183.62.54.51:8841/data/files/certificate/000000000439/7604f52f44a94fffb7b81ed8becea55e/signed/669_李冬梅、李卫平_三等奖_6556.pdf"]
[670,"P305119092340","制作形状补间动画","小学组","微课","三等奖","惠州市",{"$f":"VLOOKUP(B672,'[1]002'!B:M,7,0)","v":"李俊芬"},{"$f":"VLOOKUP(B672,'[1]002'!B:M,8,0)","v":"惠州市合生实验学校"},{"$f":"VLOOKUP(B672,'[1]002'!B:M,11,0)","v":"-"},{"$f":"VLOOKUP(B672,'[1]002'!B:M,12,0)","v":"-"},{"$f":"VLOOKUP(B672,[2]sheet2!B:L,10,0)","v":"-"},{"$f":"VLOOKUP(B672,[2]sheet2!B:L,11,0)","v":"-"},"http://183.62.54.51:8841/data/files/certificate/000000000439/451358ed0f1a4a60aea703ffbf3617c6/signed/670_李俊芬_三等奖_6557.pdf"]
[671,"P305119092158","反问句改陈述句","小学组","微课","三等奖","惠州市",{"$f":"VLOOKUP(B673,'[1]002'!B:M,7,0)","v":"黄文兵"},{"$f":"VLOOKUP(B673,'[1]002'!B:M,8,0)","v":"惠东县白花新联小学"},{"$f":"VLOOKUP(B673,'[1]002'!B:M,11,0)","v":"-"},{"$f":"VLOOKUP(B673,'[1]002'!B:M,12,0)","v":"-"},{"$f":"VLOOKUP(B673,[2]sheet2!B:L,10,0)","v":"-"},{"$f":"VLOOKUP(B673,[2]sheet2!B:L,11,0)","v":"-"},"http://183.62.54.51:8841/data/files/certificate/000000000439/6455c5bf55c743e3a6768b5baa969947/signed/671_黄文兵_三等奖_6558.pdf"]
[672,"P305119092112","these和those的区别","小学组","微课","三等奖","惠州市",{"$f":"VLOOKUP(B674,'[1]002'!B:M,7,0)","v":"陈文洁"},{"$f":"VLOOKUP(B674,'[1]002'!B:M,8,0)","v":"博罗县罗阳第六小学"},{"$f":"VLOOKUP(B674,'[1]002'!B:M,11,0)","v":"李卫平"},{"$f":"VLOOKUP(B674,'[1]002'!B:M,12,0)","v":"博罗县罗阳第六小学"},{"$f":"VLOOKUP(B674,[2]sheet2!B:L,10,0)","v":"-"},{"$f":"VLOOKUP(B674,[2]sheet2!B:L,11,0)","v":"-"},"http://183.62.54.51:8841/data/files/certificate/000000000439/b554fb4dd68b447da57189b4ebcab43c/signed/672_陈文洁、李卫平_三等奖_6559.pdf"]
[673,"P305119092339","制作个人小名片","小学组","微课","三等奖","惠州市",{"$f":"VLOOKUP(B675,'[1]002'!B:M,7,0)","v":"欧颖怡"},{"$f":"VLOOKUP(B675,'[1]002'!B:M,8,0)","v":"惠州市第九小学"},{"$f":"VLOOKUP(B675,'[1]002'!B:M,11,0)","v":"-"},{"$f":"VLOOKUP(B675,'[1]002'!B:M,12,0)","v":"-"},{"$f":"VLOOKUP(B675,[2]sheet2!B:L,10,0)","v":"-"},{"$f":"VLOOKUP(B675,[2]sheet2!B:L,11,0)","v":"-"},"http://183.62.54.51:8841/data/files/certificate/000000000439/1673d2fc4f994219a31f37a428320907/signed/673_欧颖怡_三等奖_6560.pdf"]
[674,"P305119092102","分饼","小学组","微课","三等奖","惠州市",{"$f":"VLOOKUP(B676,'[1]002'!B:M,7,0)","v":"伍艳"},{"$f":"VLOOKUP(B676,'[1]002'!B:M,8,0)","v":"惠州仲恺高新区第三小学"},{"$f":"VLOOKUP(B676,'[1]002'!B:M,11,0)","v":"甘伟城"},{"$f":"VLOOKUP(B676,'[1]002'!B:M,12,0)","v":"惠州仲恺高新区第三小学"},{"$f":"VLOOKUP(B676,[2]sheet2!B:L,10,0)","v":"-"},{"$f":"VLOOKUP(B676,[2]sheet2!B:L,11,0)","v":"-"},"http://183.62.54.51:8841/data/files/certificate/000000000439/efeb066601984a9980ffcd39865d356f/signed/674_伍艳、甘伟城_三等奖_6561.pdf"]
[675,"P305119092101","猫抓老鼠","小学组","微课","三等奖","惠州市",{"$f":"VLOOKUP(B677,'[1]002'!B:M,7,0)","v":"伍艳"},{"$f":"VLOOKUP(B677,'[1]002'!B:M,8,0)","v":"惠州仲恺高新区第三小学"},{"$f":"VLOOKUP(B677,'[1]002'!B:M,11,0)","v":"甘伟城"},{"$f":"VLOOKUP(B677,'[1]002'!B:M,12,0)","v":"惠州仲恺高新区第三小学"},{"$f":"VLOOKUP(B677,[2]sheet2!B:L,10,0)","v":"-"},{"$f":"VLOOKUP(B677,[2]sheet2!B:L,11,0)","v":"-"},"http://183.62.54.51:8841/data/files/certificate/000000000439/0469d0f64ede4ccb81cc63a03c61111d/signed/675_伍艳、甘伟城_三等奖_6562.pdf"]
[676,"P305119092106","三角形的高","小学组","微课","三等奖","惠州市",{"$f":"VLOOKUP(B678,'[1]002'!B:M,7,0)","v":"李摇婷"},{"$f":"VLOOKUP(B678,'[1]002'!B:M,8,0)","v":"龙城第五小学"},{"$f":"VLOOKUP(B678,'[1]002'!B:M,11,0)","v":"叶润平"},{"$f":"VLOOKUP(B678,'[1]002'!B:M,12,0)","v":"龙城第五小学"},{"$f":"VLOOKUP(B678,[2]sheet2!B:L,10,0)","v":"-"},{"$f":"VLOOKUP(B678,[2]sheet2!B:L,11,0)","v":"-"},"http://183.62.54.51:8841/data/files/certificate/000000000439/9469643e9f67474e9c2f2503e8fbe7c9/signed/676_李摇婷、叶润平_三等奖_6563.pdf"]
[677,"P305119092563","摆手礼和美中心最美的风景","小学组","微课","三等奖","东莞市",{"$f":"VLOOKUP(B679,'[1]002'!B:M,7,0)","v":"魏燕霞"},{"$f":"VLOOKUP(B679,'[1]002'!B:M,8,0)","v":"东莞市大朗镇中心小学"},{"$f":"VLOOKUP(B679,'[1]002'!B:M,11,0)","v":"黄韵"},{"$f":"VLOOKUP(B679,'[1]002'!B:M,12,0)","v":"东莞市大朗镇中心小学"},{"$f":"VLOOKUP(B679,[2]sheet2!B:L,10,0)","v":"陈永生"},{"$f":"VLOOKUP(B679,[2]sheet2!B:L,11,0)","v":"东莞市大朗镇中心小学"},"http://183.62.54.51:8841/data/files/certificate/000000000439/08d4cb9031dc4500bd71dba346d6a61a/signed/677_魏燕霞、黄韵、陈永生_三等奖_6564.pdf"]
[678,"P305119092567","Wearefamily","小学组","微课","三等奖","东莞市",{"$f":"VLOOKUP(B680,'[1]002'!B:M,7,0)","v":"江妙娟"},{"$f":"VLOOKUP(B680,'[1]002'!B:M,8,0)","v":"东莞市东城第三小学"},{"$f":"VLOOKUP(B680,'[1]002'!B:M,11,0)","v":"-"},{"$f":"VLOOKUP(B680,'[1]002'!B:M,12,0)","v":"-"},{"$f":"VLOOKUP(B680,[2]sheet2!B:L,10,0)","v":"-"},{"$f":"VLOOKUP(B680,[2]sheet2!B:L,11,0)","v":"-"},"http://183.62.54.51:8841/data/files/certificate/000000000439/6dea6fe5423a4715bd757f7a2a09fb2f/signed/678_江妙娟_三等奖_6565.pdf"]
[679,"P305119092559","肩肘倒立体操技巧动作","小学组","微课","三等奖","东莞市",{"$f":"VLOOKUP(B681,'[1]002'!B:M,7,0)","v":"陈尧贤"},{"$f":"VLOOKUP(B681,'[1]002'!B:M,8,0)","v":"东莞市东华小学"},{"$f":"VLOOKUP(B681,'[1]002'!B:M,11,0)","v":"-"},{"$f":"VLOOKUP(B681,'[1]002'!B:M,12,0)","v":"-"},{"$f":"VLOOKUP(B681,[2]sheet2!B:L,10,0)","v":"-"},{"$f":"VLOOKUP(B681,[2]sheet2!B:L,11,0)","v":"-"},"http://183.62.54.51:8841/data/files/certificate/000000000439/281a8d85782d421a868d825e333e30fc/signed/679_陈尧贤_三等奖_6566.pdf"]
[680,"P305119088150","借物喻人","小学组","微课","三等奖","中山市",{"$f":"VLOOKUP(B682,'[1]002'!B:M,7,0)","v":"李华珍"},{"$f":"VLOOKUP(B682,'[1]002'!B:M,8,0)","v":"中山市小榄镇绩东二小学"},{"$f":"VLOOKUP(B682,'[1]002'!B:M,11,0)","v":"-"},{"$f":"VLOOKUP(B682,'[1]002'!B:M,12,0)","v":"-"},{"$f":"VLOOKUP(B682,[2]sheet2!B:L,10,0)","v":"-"},{"$f":"VLOOKUP(B682,[2]sheet2!B:L,11,0)","v":"-"},"http://183.62.54.51:8841/data/files/certificate/000000000439/030fc56ef16e42378be0625a809f52e8/signed/680_李华珍_三等奖_6567.pdf"]
[681,"P305119089039","数据的简单统计","小学组","微课","三等奖","中山市",{"$f":"VLOOKUP(B683,'[1]002'!B:M,7,0)","v":"霍静妍"},{"$f":"VLOOKUP(B683,'[1]002'!B:M,8,0)","v":"中山火炬高技术产业开发区第四小学"},{"$f":"VLOOKUP(B683,'[1]002'!B:M,11,0)","v":"-"},{"$f":"VLOOKUP(B683,'[1]002'!B:M,12,0)","v":"-"},{"$f":"VLOOKUP(B683,[2]sheet2!B:L,10,0)","v":"-"},{"$f":"VLOOKUP(B683,[2]sheet2!B:L,11,0)","v":"-"},"http://183.62.54.51:8841/data/files/certificate/000000000439/af1106d2c6cb4c3ea24d2b824bc4130d/signed/681_霍静妍_三等奖_6568.pdf"]
[682,"P305119088280","有趣的鞋","小学组","微课","三等奖","中山市",{"$f":"VLOOKUP(B684,'[1]002'!B:M,7,0)","v":"赵润莲"},{"$f":"VLOOKUP(B684,'[1]002'!B:M,8,0)","v":"中山市中港英文学校"},{"$f":"VLOOKUP(B684,'[1]002'!B:M,11,0)","v":"-"},{"$f":"VLOOKUP(B684,'[1]002'!B:M,12,0)","v":"-"},{"$f":"VLOOKUP(B684,[2]sheet2!B:L,10,0)","v":"-"},{"$f":"VLOOKUP(B684,[2]sheet2!B:L,11,0)","v":"-"},"http://183.62.54.51:8841/data/files/certificate/000000000439/3c77c0f0854d44e0b15e87c7bc297e82/signed/682_赵润莲_三等奖_6569.pdf"]
[683,"P305119088219","巧用半径的平方求圆的面积","小学组","微课","三等奖","中山市",{"$f":"VLOOKUP(B685,'[1]002'!B:M,7,0)","v":"钟淑燕"},{"$f":"VLOOKUP(B685,'[1]002'!B:M,8,0)","v":"中山市板芙镇广福小学"},{"$f":"VLOOKUP(B685,'[1]002'!B:M,11,0)","v":"梁志宏"},{"$f":"VLOOKUP(B685,'[1]002'!B:M,12,0)","v":"中山市板芙镇广福小学"},{"$f":"VLOOKUP(B685,[2]sheet2!B:L,10,0)","v":"-"},{"$f":"VLOOKUP(B685,[2]sheet2!B:L,11,0)","v":"-"},"http://183.62.54.51:8841/data/files/certificate/000000000439/5dff999507b14b54bcbeaa614c8e9f42/signed/683_钟淑燕、梁志宏_三等奖_6570.pdf"]
[684,"P305119088466","平面图形的面积的整理与复习","小学组","微课","三等奖","中山市",{"$f":"VLOOKUP(B686,'[1]002'!B:M,7,0)","v":"曾丽婵"},{"$f":"VLOOKUP(B686,'[1]002'!B:M,8,0)","v":"中山市板芙镇板芙小学"},{"$f":"VLOOKUP(B686,'[1]002'!B:M,11,0)","v":"彭亚燕"},{"$f":"VLOOKUP(B686,'[1]002'!B:M,12,0)","v":"中山市板芙镇板芙小学"},{"$f":"VLOOKUP(B686,[2]sheet2!B:L,10,0)","v":"-"},{"$f":"VLOOKUP(B686,[2]sheet2!B:L,11,0)","v":"-"},"http://183.62.54.51:8841/data/files/certificate/000000000439/4b0fba2c548142d99295677288465071/signed/684_曾丽婵、彭亚燕_三等奖_6571.pdf"]
[685,"P305119089111","小说的矛盾冲突","小学组","微课","三等奖","中山市",{"$f":"VLOOKUP(B687,'[1]002'!B:M,7,0)","v":"吕云秀"},{"$f":"VLOOKUP(B687,'[1]002'!B:M,8,0)","v":"中山市菊城小学"},{"$f":"VLOOKUP(B687,'[1]002'!B:M,11,0)","v":"周扣兰"},{"$f":"VLOOKUP(B687,'[1]002'!B:M,12,0)","v":"中山市菊城小学"},{"$f":"VLOOKUP(B687,[2]sheet2!B:L,10,0)","v":"-"},{"$f":"VLOOKUP(B687,[2]sheet2!B:L,11,0)","v":"-"},"http://183.62.54.51:8841/data/files/certificate/000000000439/982390e2b8024d399ede8d7e8a6b1406/signed/685_吕云秀、周扣兰_三等奖_6572.pdf"]
[686,"P305119088277","水墨山石的画法","小学组","微课","三等奖","中山市",{"$f":"VLOOKUP(B688,'[1]002'!B:M,7,0)","v":"朱汝明"},{"$f":"VLOOKUP(B688,'[1]002'!B:M,8,0)","v":"中山市石岐杨仙逸小学"},{"$f":"VLOOKUP(B688,'[1]002'!B:M,11,0)","v":"-"},{"$f":"VLOOKUP(B688,'[1]002'!B:M,12,0)","v":"-"},{"$f":"VLOOKUP(B688,[2]sheet2!B:L,10,0)","v":"-"},{"$f":"VLOOKUP(B688,[2]sheet2!B:L,11,0)","v":"-"},"http://183.62.54.51:8841/data/files/certificate/000000000439/b4f591a802d14846b4f867f5d51c24b3/signed/686_朱汝明_三等奖_6573.pdf"]
[687,"P305119088215","聆听 森林狂想曲","小学组","微课","三等奖","中山市",{"$f":"VLOOKUP(B689,'[1]002'!B:M,7,0)","v":"李晓军"},{"$f":"VLOOKUP(B689,'[1]002'!B:M,8,0)","v":"中山市西区沙朗小学"},{"$f":"VLOOKUP(B689,'[1]002'!B:M,11,0)","v":"-"},{"$f":"VLOOKUP(B689,'[1]002'!B:M,12,0)","v":"-"},{"$f":"VLOOKUP(B689,[2]sheet2!B:L,10,0)","v":"-"},{"$f":"VLOOKUP(B689,[2]sheet2!B:L,11,0)","v":"-"},"http://183.62.54.51:8841/data/files/certificate/000000000439/1995cbdc692c476c84224872b4493972/signed/687_李晓军_三等奖_6574.pdf"]
[688,"P305119092346","部首识字法","小学组","微课","三等奖","江门市",{"$f":"VLOOKUP(B690,'[1]002'!B:M,7,0)","v":"李瑞玲"},{"$f":"VLOOKUP(B690,'[1]002'!B:M,8,0)","v":"江门市新会区会城平山小学"},{"$f":"VLOOKUP(B690,'[1]002'!B:M,11,0)","v":"-"},{"$f":"VLOOKUP(B690,'[1]002'!B:M,12,0)","v":"-"},{"$f":"VLOOKUP(B690,[2]sheet2!B:L,10,0)","v":"-"},{"$f":"VLOOKUP(B690,[2]sheet2!B:L,11,0)","v":"-"},"http://183.62.54.51:8841/data/files/certificate/000000000439/2776549e7f6b4aa18a878a053e0e93bc/signed/688_李瑞玲_三等奖_6575.pdf"]
[689,"P305119091837","学写留言条","小学组","微课","三等奖","江门市",{"$f":"VLOOKUP(B691,'[1]002'!B:M,7,0)","v":"颜明雪"},{"$f":"VLOOKUP(B691,'[1]002'!B:M,8,0)","v":"外海中路小学"},{"$f":"VLOOKUP(B691,'[1]002'!B:M,11,0)","v":"-"},{"$f":"VLOOKUP(B691,'[1]002'!B:M,12,0)","v":"-"},{"$f":"VLOOKUP(B691,[2]sheet2!B:L,10,0)","v":"-"},{"$f":"VLOOKUP(B691,[2]sheet2!B:L,11,0)","v":"-"},"http://183.62.54.51:8841/data/files/certificate/000000000439/b9c8395bde724ce7b7bff28a47beca05/signed/689_颜明雪_三等奖_6576.pdf"]
[690,"P305119091776","设置对象的动态效果","小学组","微课","三等奖","江门市",{"$f":"VLOOKUP(B692,'[1]002'!B:M,7,0)","v":"容秀梅"},{"$f":"VLOOKUP(B692,'[1]002'!B:M,8,0)","v":"江门市紫茶小学"},{"$f":"VLOOKUP(B692,'[1]002'!B:M,11,0)","v":"-"},{"$f":"VLOOKUP(B692,'[1]002'!B:M,12,0)","v":"-"},{"$f":"VLOOKUP(B692,[2]sheet2!B:L,10,0)","v":"-"},{"$f":"VLOOKUP(B692,[2]sheet2!B:L,11,0)","v":"-"},"http://183.62.54.51:8841/data/files/certificate/000000000439/abc5dd3fc7f84ea4b8f48b787363bb29/signed/690_容秀梅_三等奖_6577.pdf"]
[691,"P305119091782","初识Logo语言","小学组","微课","三等奖","江门市",{"$f":"VLOOKUP(B693,'[1]002'!B:M,7,0)","v":"林春菊"},{"$f":"VLOOKUP(B693,'[1]002'!B:M,8,0)","v":"江门市蓬江区杜阮镇瑶芦小学"},{"$f":"VLOOKUP(B693,'[1]002'!B:M,11,0)","v":"-"},{"$f":"VLOOKUP(B693,'[1]002'!B:M,12,0)","v":"-"},{"$f":"VLOOKUP(B693,[2]sheet2!B:L,10,0)","v":"-"},{"$f":"VLOOKUP(B693,[2]sheet2!B:L,11,0)","v":"-"},"http://183.62.54.51:8841/data/files/certificate/000000000439/d4af08d392b04cfbac63d3dfc8487528/signed/691_林春菊_三等奖_6578.pdf"]
[692,"P305119092657","把物质混合起来","小学组","微课","三等奖","江门市",{"$f":"VLOOKUP(B694,'[1]002'!B:M,7,0)","v":"黄俏怡"},{"$f":"VLOOKUP(B694,'[1]002'!B:M,8,0)","v":"江门市新会区三江镇九子沙小学"},{"$f":"VLOOKUP(B694,'[1]002'!B:M,11,0)","v":"-"},{"$f":"VLOOKUP(B694,'[1]002'!B:M,12,0)","v":"-"},{"$f":"VLOOKUP(B694,[2]sheet2!B:L,10,0)","v":"-"},{"$f":"VLOOKUP(B694,[2]sheet2!B:L,11,0)","v":"-"},"http://183.62.54.51:8841/data/files/certificate/000000000439/85baa45e8ae8441786d48b93850bc880/signed/692_黄俏怡_三等奖_6579.pdf"]
[693,"P305119091835","分清比喻和拟人","小学组","微课","三等奖","江门市",{"$f":"VLOOKUP(B695,'[1]002'!B:M,7,0)","v":"粟苗"},{"$f":"VLOOKUP(B695,'[1]002'!B:M,8,0)","v":"外海银泉小学"},{"$f":"VLOOKUP(B695,'[1]002'!B:M,11,0)","v":"-"},{"$f":"VLOOKUP(B695,'[1]002'!B:M,12,0)","v":"-"},{"$f":"VLOOKUP(B695,[2]sheet2!B:L,10,0)","v":"-"},{"$f":"VLOOKUP(B695,[2]sheet2!B:L,11,0)","v":"-"},"http://183.62.54.51:8841/data/files/certificate/000000000439/72db4bfdd10d4f01ae05f4fb38529219/signed/693_粟苗_三等奖_6580.pdf"]
[694,"P305119092008","图形的旋转","小学组","微课","三等奖","江门市",{"$f":"VLOOKUP(B696,'[1]002'!B:M,7,0)","v":"区小媚"},{"$f":"VLOOKUP(B696,'[1]002'!B:M,8,0)","v":"开平市水口镇致和小学"},{"$f":"VLOOKUP(B696,'[1]002'!B:M,11,0)","v":"-"},{"$f":"VLOOKUP(B696,'[1]002'!B:M,12,0)","v":"-"},{"$f":"VLOOKUP(B696,[2]sheet2!B:L,10,0)","v":"-"},{"$f":"VLOOKUP(B696,[2]sheet2!B:L,11,0)","v":"-"},"http://183.62.54.51:8841/data/files/certificate/000000000439/ec2ebb30329a4cfab3d59283105e7a1c/signed/694_区小媚_三等奖_6581.pdf"]
[695,"P305119092060","解决问题——拼角","小学组","微课","三等奖","江门市",{"$f":"VLOOKUP(B697,'[1]002'!B:M,7,0)","v":"吴英连"},{"$f":"VLOOKUP(B697,'[1]002'!B:M,8,0)","v":"鹤山市沙坪街道第三小学"},{"$f":"VLOOKUP(B697,'[1]002'!B:M,11,0)","v":"-"},{"$f":"VLOOKUP(B697,'[1]002'!B:M,12,0)","v":"-"},{"$f":"VLOOKUP(B697,[2]sheet2!B:L,10,0)","v":"-"},{"$f":"VLOOKUP(B697,[2]sheet2!B:L,11,0)","v":"-"},"http://183.62.54.51:8841/data/files/certificate/000000000439/f8313d2bec364a319a61b3a343c6515b/signed/695_吴英连_三等奖_6582.pdf"]
[696,"P305119092062","男生女生大不同","小学组","微课","三等奖","江门市",{"$f":"VLOOKUP(B698,'[1]002'!B:M,7,0)","v":"陶丹红"},{"$f":"VLOOKUP(B698,'[1]002'!B:M,8,0)","v":"鹤山市沙坪街道第四小学"},{"$f":"VLOOKUP(B698,'[1]002'!B:M,11,0)","v":"-"},{"$f":"VLOOKUP(B698,'[1]002'!B:M,12,0)","v":"-"},{"$f":"VLOOKUP(B698,[2]sheet2!B:L,10,0)","v":"-"},{"$f":"VLOOKUP(B698,[2]sheet2!B:L,11,0)","v":"-"},"http://183.62.54.51:8841/data/files/certificate/000000000439/b23778260c7f4d81b9d80a3d81230326/signed/696_陶丹红_三等奖_6583.pdf"]
[697,"P305119091775","分数的初步认识","小学组","微课","三等奖","江门市",{"$f":"VLOOKUP(B699,'[1]002'!B:M,7,0)","v":"陈佩灵"},{"$f":"VLOOKUP(B699,'[1]002'!B:M,8,0)","v":"江门市农林小学"},{"$f":"VLOOKUP(B699,'[1]002'!B:M,11,0)","v":"-"},{"$f":"VLOOKUP(B699,'[1]002'!B:M,12,0)","v":"-"},{"$f":"VLOOKUP(B699,[2]sheet2!B:L,10,0)","v":"-"},{"$f":"VLOOKUP(B699,[2]sheet2!B:L,11,0)","v":"-"},"http://183.62.54.51:8841/data/files/certificate/000000000439/e20c98a12dbd43bfbc23877740b7db72/signed/697_陈佩灵_三等奖_6584.pdf"]
[698,"P305119091778","三角形的内角和","小学组","微课","三等奖","江门市",{"$f":"VLOOKUP(B700,'[1]002'!B:M,7,0)","v":"黄美娟"},{"$f":"VLOOKUP(B700,'[1]002'!B:M,8,0)","v":"江门市紫沙小学"},{"$f":"VLOOKUP(B700,'[1]002'!B:M,11,0)","v":"-"},{"$f":"VLOOKUP(B700,'[1]002'!B:M,12,0)","v":"-"},{"$f":"VLOOKUP(B700,[2]sheet2!B:L,10,0)","v":"-"},{"$f":"VLOOKUP(B700,[2]sheet2!B:L,11,0)","v":"-"},"http://183.62.54.51:8841/data/files/certificate/000000000439/b0f406546b734e68a05970a93ea70f82/signed/698_黄美娟_三等奖_6585.pdf"]
[699,"P305119092089","圆的认识","小学组","微课","三等奖","江门市",{"$f":"VLOOKUP(B701,'[1]002'!B:M,7,0)","v":"卢焕琼"},{"$f":"VLOOKUP(B701,'[1]002'!B:M,8,0)","v":"江门市新会区大鳌镇特沙小学"},{"$f":"VLOOKUP(B701,'[1]002'!B:M,11,0)","v":"-"},{"$f":"VLOOKUP(B701,'[1]002'!B:M,12,0)","v":"-"},{"$f":"VLOOKUP(B701,[2]sheet2!B:L,10,0)","v":"-"},{"$f":"VLOOKUP(B701,[2]sheet2!B:L,11,0)","v":"-"},"http://183.62.54.51:8841/data/files/certificate/000000000439/c888f74fd90f484fa10969e6b615dc10/signed/699_卢焕琼_三等奖_6586.pdf"]
[700,"P305119091777","therebe","小学组","微课","三等奖","江门市",{"$f":"VLOOKUP(B702,'[1]002'!B:M,7,0)","v":"温丽莉"},{"$f":"VLOOKUP(B702,'[1]002'!B:M,8,0)","v":"江门市陈白沙小学"},{"$f":"VLOOKUP(B702,'[1]002'!B:M,11,0)","v":"-"},{"$f":"VLOOKUP(B702,'[1]002'!B:M,12,0)","v":"-"},{"$f":"VLOOKUP(B702,[2]sheet2!B:L,10,0)","v":"-"},{"$f":"VLOOKUP(B702,[2]sheet2!B:L,11,0)","v":"-"},"http://183.62.54.51:8841/data/files/certificate/000000000439/b8e597dcfa3940f39cdd1e9ef8663cfd/signed/700_温丽莉_三等奖_6587.pdf"]
[701,"P305119091823","Lets与Letus","小学组","微课","三等奖","江门市",{"$f":"VLOOKUP(B703,'[1]002'!B:M,7,0)","v":"梁艳娟"},{"$f":"VLOOKUP(B703,'[1]002'!B:M,8,0)","v":"外海麻一佑启学校"},{"$f":"VLOOKUP(B703,'[1]002'!B:M,11,0)","v":"-"},{"$f":"VLOOKUP(B703,'[1]002'!B:M,12,0)","v":"-"},{"$f":"VLOOKUP(B703,[2]sheet2!B:L,10,0)","v":"-"},{"$f":"VLOOKUP(B703,[2]sheet2!B:L,11,0)","v":"-"},"http://183.62.54.51:8841/data/files/certificate/000000000439/767cf981c7ea46519cc2bdb142656aca/signed/701_梁艳娟_三等奖_6588.pdf"]
[702,"P305119092345","用字母表示数","小学组","微课","三等奖","江门市",{"$f":"VLOOKUP(B704,'[1]002'!B:M,7,0)","v":"梁丽霞"},{"$f":"VLOOKUP(B704,'[1]002'!B:M,8,0)","v":"江门市新会区古井镇岭东北小学"},{"$f":"VLOOKUP(B704,'[1]002'!B:M,11,0)","v":"-"},{"$f":"VLOOKUP(B704,'[1]002'!B:M,12,0)","v":"-"},{"$f":"VLOOKUP(B704,[2]sheet2!B:L,10,0)","v":"-"},{"$f":"VLOOKUP(B704,[2]sheet2!B:L,11,0)","v":"-"},"http://183.62.54.51:8841/data/files/certificate/000000000439/5ffee2f815f945f595a7848be697d5c3/signed/702_梁丽霞_三等奖_6589.pdf"]
[703,"P305119092009","三角形边的关系","小学组","微课","三等奖","江门市",{"$f":"VLOOKUP(B705,'[1]002'!B:M,7,0)","v":"李小芳"},{"$f":"VLOOKUP(B705,'[1]002'!B:M,8,0)","v":"开平市长沙谭宏帙纪念小学"},{"$f":"VLOOKUP(B705,'[1]002'!B:M,11,0)","v":"-"},{"$f":"VLOOKUP(B705,'[1]002'!B:M,12,0)","v":"-"},{"$f":"VLOOKUP(B705,[2]sheet2!B:L,10,0)","v":"-"},{"$f":"VLOOKUP(B705,[2]sheet2!B:L,11,0)","v":"-"},"http://183.62.54.51:8841/data/files/certificate/000000000439/27f30f97299c418d9e4d057ad662bc3f/signed/703_李小芳_三等奖_6590.pdf"]
[704,"P305119091780","秒的认识","小学组","微课","三等奖","江门市",{"$f":"VLOOKUP(B706,'[1]002'!B:M,7,0)","v":"李柳清"},{"$f":"VLOOKUP(B706,'[1]002'!B:M,8,0)","v":"江门市蓬江区发展小学"},{"$f":"VLOOKUP(B706,'[1]002'!B:M,11,0)","v":"-"},{"$f":"VLOOKUP(B706,'[1]002'!B:M,12,0)","v":"-"},{"$f":"VLOOKUP(B706,[2]sheet2!B:L,10,0)","v":"-"},{"$f":"VLOOKUP(B706,[2]sheet2!B:L,11,0)","v":"-"},"http://183.62.54.51:8841/data/files/certificate/000000000439/487c91b0b1f3418cad3e9b4d3a789dc2/signed/704_李柳清_三等奖_6591.pdf"]
[705,"P305119092347","搭配一","小学组","微课","三等奖","江门市",{"$f":"VLOOKUP(B707,'[1]002'!B:M,7,0)","v":"黎务珍"},{"$f":"VLOOKUP(B707,'[1]002'!B:M,8,0)","v":"江门市新会区会城平山小学"},{"$f":"VLOOKUP(B707,'[1]002'!B:M,11,0)","v":"-"},{"$f":"VLOOKUP(B707,'[1]002'!B:M,12,0)","v":"-"},{"$f":"VLOOKUP(B707,[2]sheet2!B:L,10,0)","v":"-"},{"$f":"VLOOKUP(B707,[2]sheet2!B:L,11,0)","v":"-"},"http://183.62.54.51:8841/data/files/certificate/000000000439/87d85f9e77a1404fb24e785f12d11631/signed/705_黎务珍_三等奖_6592.pdf"]
[706,"P305119091825","感知音乐的力度","小学组","微课","三等奖","江门市",{"$f":"VLOOKUP(B708,'[1]002'!B:M,7,0)","v":"王婷婷"},{"$f":"VLOOKUP(B708,'[1]002'!B:M,8,0)","v":"江海区华兴小学"},{"$f":"VLOOKUP(B708,'[1]002'!B:M,11,0)","v":"-"},{"$f":"VLOOKUP(B708,'[1]002'!B:M,12,0)","v":"-"},{"$f":"VLOOKUP(B708,[2]sheet2!B:L,10,0)","v":"-"},{"$f":"VLOOKUP(B708,[2]sheet2!B:L,11,0)","v":"-"},"http://183.62.54.51:8841/data/files/certificate/000000000439/c6973c9c229f4a82b7873710e3e2feda/signed/706_王婷婷_三等奖_6593.pdf"]
[707,"P305119092921","“神医”治病句","小学组","微课","三等奖","湛江市",{"$f":"VLOOKUP(B709,'[1]002'!B:M,7,0)","v":"何茵"},{"$f":"VLOOKUP(B709,'[1]002'!B:M,8,0)","v":"湛江市第十七中学"},{"$f":"VLOOKUP(B709,'[1]002'!B:M,11,0)","v":"-"},{"$f":"VLOOKUP(B709,'[1]002'!B:M,12,0)","v":"-"},{"$f":"VLOOKUP(B709,[2]sheet2!B:L,10,0)","v":"-"},{"$f":"VLOOKUP(B709,[2]sheet2!B:L,11,0)","v":"-"},"http://183.62.54.51:8841/data/files/certificate/000000000439/a05e1c6551854ab1b701f6e7feb09468/signed/707_何茵_三等奖_6594.pdf"]
[708,"P305119092925","渔歌子","小学组","微课","三等奖","湛江市",{"$f":"VLOOKUP(B710,'[1]002'!B:M,7,0)","v":"邓文英"},{"$f":"VLOOKUP(B710,'[1]002'!B:M,8,0)","v":"雷州市实验小学"},{"$f":"VLOOKUP(B710,'[1]002'!B:M,11,0)","v":"-"},{"$f":"VLOOKUP(B710,'[1]002'!B:M,12,0)","v":"-"},{"$f":"VLOOKUP(B710,[2]sheet2!B:L,10,0)","v":"-"},{"$f":"VLOOKUP(B710,[2]sheet2!B:L,11,0)","v":"-"},"http://183.62.54.51:8841/data/files/certificate/000000000439/9327e86bcee34721a641c90848564f0f/signed/708_邓文英_三等奖_6595.pdf"]
[709,"P305119092911","动作描写","小学组","微课","三等奖","湛江市",{"$f":"VLOOKUP(B711,'[1]002'!B:M,7,0)","v":"钟佩银"},{"$f":"VLOOKUP(B711,'[1]002'!B:M,8,0)","v":"湛江市第八小学"},{"$f":"VLOOKUP(B711,'[1]002'!B:M,11,0)","v":"-"},{"$f":"VLOOKUP(B711,'[1]002'!B:M,12,0)","v":"-"},{"$f":"VLOOKUP(B711,[2]sheet2!B:L,10,0)","v":"-"},{"$f":"VLOOKUP(B711,[2]sheet2!B:L,11,0)","v":"-"},"http://183.62.54.51:8841/data/files/certificate/000000000439/16c0361d4cd44573810406f9af6ad2b0/signed/709_钟佩银_三等奖_6596.pdf"]
[710,"P305119092927","把句子说具体","小学组","微课","三等奖","湛江市",{"$f":"VLOOKUP(B712,'[1]002'!B:M,7,0)","v":"劳晓嫦"},{"$f":"VLOOKUP(B712,'[1]002'!B:M,8,0)","v":"雷州市实验小学"},{"$f":"VLOOKUP(B712,'[1]002'!B:M,11,0)","v":"-"},{"$f":"VLOOKUP(B712,'[1]002'!B:M,12,0)","v":"-"},{"$f":"VLOOKUP(B712,[2]sheet2!B:L,10,0)","v":"-"},{"$f":"VLOOKUP(B712,[2]sheet2!B:L,11,0)","v":"-"},"http://183.62.54.51:8841/data/files/certificate/000000000439/a5e49f8325104ed8b71ebfcae655d71c/signed/710_劳晓嫦_三等奖_6597.pdf"]
[711,"P305119092915","PEP英语四年级上册Unit5语音课字母e的发音","小学组","微课","三等奖","湛江市",{"$f":"VLOOKUP(B713,'[1]002'!B:M,7,0)","v":"何青映"},{"$f":"VLOOKUP(B713,'[1]002'!B:M,8,0)","v":"湛江市第十九小学"},{"$f":"VLOOKUP(B713,'[1]002'!B:M,11,0)","v":"-"},{"$f":"VLOOKUP(B713,'[1]002'!B:M,12,0)","v":"-"},{"$f":"VLOOKUP(B713,[2]sheet2!B:L,10,0)","v":"-"},{"$f":"VLOOKUP(B713,[2]sheet2!B:L,11,0)","v":"-"},"http://183.62.54.51:8841/data/files/certificate/000000000439/e2fb4bac7a8b4aedbf610bca2ea9ce62/signed/711_何青映_三等奖_6598.pdf"]
[712,"P305119092910","音的走向","小学组","微课","三等奖","湛江市",{"$f":"VLOOKUP(B714,'[1]002'!B:M,7,0)","v":"詹琳慧"},{"$f":"VLOOKUP(B714,'[1]002'!B:M,8,0)","v":"廉江市第十八小学"},{"$f":"VLOOKUP(B714,'[1]002'!B:M,11,0)","v":"-"},{"$f":"VLOOKUP(B714,'[1]002'!B:M,12,0)","v":"-"},{"$f":"VLOOKUP(B714,[2]sheet2!B:L,10,0)","v":"-"},{"$f":"VLOOKUP(B714,[2]sheet2!B:L,11,0)","v":"-"},"http://183.62.54.51:8841/data/files/certificate/000000000439/f17f4efe73864bbebcf08c1fead17562/signed/712_詹琳慧_三等奖_6599.pdf"]
[713,"P305119092914","相遇问题","小学组","微课","三等奖","湛江市",{"$f":"VLOOKUP(B715,'[1]002'!B:M,7,0)","v":"王钦"},{"$f":"VLOOKUP(B715,'[1]002'!B:M,8,0)","v":"遂溪县遂城第四小学"},{"$f":"VLOOKUP(B715,'[1]002'!B:M,11,0)","v":"-"},{"$f":"VLOOKUP(B715,'[1]002'!B:M,12,0)","v":"-"},{"$f":"VLOOKUP(B715,[2]sheet2!B:L,10,0)","v":"-"},{"$f":"VLOOKUP(B715,[2]sheet2!B:L,11,0)","v":"-"},"http://183.62.54.51:8841/data/files/certificate/000000000439/78733147f44b4d5ab23175737f1ba1ea/signed/713_王钦_三等奖_6600.pdf"]
[714,"P305119092912","陈述句改为拟人句","小学组","微课","三等奖","湛江市",{"$f":"VLOOKUP(B716,'[1]002'!B:M,7,0)","v":"阮文柳"},{"$f":"VLOOKUP(B716,'[1]002'!B:M,8,0)","v":"廉江市第十八小学"},{"$f":"VLOOKUP(B716,'[1]002'!B:M,11,0)","v":"-"},{"$f":"VLOOKUP(B716,'[1]002'!B:M,12,0)","v":"-"},{"$f":"VLOOKUP(B716,[2]sheet2!B:L,10,0)","v":"-"},{"$f":"VLOOKUP(B716,[2]sheet2!B:L,11,0)","v":"-"},"http://183.62.54.51:8841/data/files/certificate/000000000439/a12085d223a54f98bdee1f7fa4ca5fc1/signed/714_阮文柳_三等奖_6601.pdf"]
[715,"P305119092922","长方体的认识","小学组","微课","三等奖","湛江市",{"$f":"VLOOKUP(B717,'[1]002'!B:M,7,0)","v":"李杨春"},{"$f":"VLOOKUP(B717,'[1]002'!B:M,8,0)","v":"湛江经济技术开发区第四小学"},{"$f":"VLOOKUP(B717,'[1]002'!B:M,11,0)","v":"-"},{"$f":"VLOOKUP(B717,'[1]002'!B:M,12,0)","v":"-"},{"$f":"VLOOKUP(B717,[2]sheet2!B:L,10,0)","v":"-"},{"$f":"VLOOKUP(B717,[2]sheet2!B:L,11,0)","v":"-"},"http://183.62.54.51:8841/data/files/certificate/000000000439/f61fa52225a74c7ea1bce49e011baaed/signed/715_李杨春_三等奖_6602.pdf"]
[716,"P305119092913","圆的面积一","小学组","微课","三等奖","湛江市",{"$f":"VLOOKUP(B718,'[1]002'!B:M,7,0)","v":"曹秋霞"},{"$f":"VLOOKUP(B718,'[1]002'!B:M,8,0)","v":"遂溪县遂城第四小学"},{"$f":"VLOOKUP(B718,'[1]002'!B:M,11,0)","v":"-"},{"$f":"VLOOKUP(B718,'[1]002'!B:M,12,0)","v":"-"},{"$f":"VLOOKUP(B718,[2]sheet2!B:L,10,0)","v":"-"},{"$f":"VLOOKUP(B718,[2]sheet2!B:L,11,0)","v":"-"},"http://183.62.54.51:8841/data/files/certificate/000000000439/3235054578a94c099a5b99dcb22ed888/signed/716_曹秋霞_三等奖_6603.pdf"]
[717,"P305119091417","动静结合写景物","小学组","微课","三等奖","茂名市",{"$f":"VLOOKUP(B719,'[1]002'!B:M,7,0)","v":"古洪英"},{"$f":"VLOOKUP(B719,'[1]002'!B:M,8,0)","v":"化州市第二小学"},{"$f":"VLOOKUP(B719,'[1]002'!B:M,11,0)","v":"周春燕"},{"$f":"VLOOKUP(B719,'[1]002'!B:M,12,0)","v":"化州市南盛街道乐堂小学克坭教学点"},{"$f":"VLOOKUP(B719,[2]sheet2!B:L,10,0)","v":"-"},{"$f":"VLOOKUP(B719,[2]sheet2!B:L,11,0)","v":"-"},"http://183.62.54.51:8841/data/files/certificate/000000000439/692fbaebe6194dedbe1cfeec8bed51ab/signed/717_古洪英、周春燕_三等奖_6604.pdf"]
[718,"P305119091795","动物儿歌","小学组","微课","三等奖","茂名市",{"$f":"VLOOKUP(B720,'[1]002'!B:M,7,0)","v":"柯爱红"},{"$f":"VLOOKUP(B720,'[1]002'!B:M,8,0)","v":"茂名市愉园小学"},{"$f":"VLOOKUP(B720,'[1]002'!B:M,11,0)","v":"-"},{"$f":"VLOOKUP(B720,'[1]002'!B:M,12,0)","v":"-"},{"$f":"VLOOKUP(B720,[2]sheet2!B:L,10,0)","v":"-"},{"$f":"VLOOKUP(B720,[2]sheet2!B:L,11,0)","v":"-"},"http://183.62.54.51:8841/data/files/certificate/000000000439/caf0d5f5ec59459a9e4a7a75f99e210a/signed/718_柯爱红_三等奖_6605.pdf"]
[719,"P305119091321","听故事，讲故事","小学组","微课","三等奖","茂名市",{"$f":"VLOOKUP(B721,'[1]002'!B:M,7,0)","v":"冯小霞"},{"$f":"VLOOKUP(B721,'[1]002'!B:M,8,0)","v":"茂名市官山学校"},{"$f":"VLOOKUP(B721,'[1]002'!B:M,11,0)","v":"-"},{"$f":"VLOOKUP(B721,'[1]002'!B:M,12,0)","v":"-"},{"$f":"VLOOKUP(B721,[2]sheet2!B:L,10,0)","v":"-"},{"$f":"VLOOKUP(B721,[2]sheet2!B:L,11,0)","v":"-"},"http://183.62.54.51:8841/data/files/certificate/000000000439/b4459b7b25f54becadcabbb4182436a3/signed/719_冯小霞_三等奖_6606.pdf"]
[720,"P305119091320","微写作之描写动物","小学组","微课","三等奖","茂名市",{"$f":"VLOOKUP(B722,'[1]002'!B:M,7,0)","v":"杜冬怡"},{"$f":"VLOOKUP(B722,'[1]002'!B:M,8,0)","v":"茂名市官山学校"},{"$f":"VLOOKUP(B722,'[1]002'!B:M,11,0)","v":"-"},{"$f":"VLOOKUP(B722,'[1]002'!B:M,12,0)","v":"-"},{"$f":"VLOOKUP(B722,[2]sheet2!B:L,10,0)","v":"-"},{"$f":"VLOOKUP(B722,[2]sheet2!B:L,11,0)","v":"-"},"http://183.62.54.51:8841/data/files/certificate/000000000439/72bdfbcfa7c3408daab1e71029bd4091/signed/720_杜冬怡_三等奖_6607.pdf"]
[721,"P305119091386","三年级下册模块三第二单元","小学组","微课","三等奖","茂名市",{"$f":"VLOOKUP(B723,'[1]002'!B:M,7,0)","v":"吴粤宏"},{"$f":"VLOOKUP(B723,'[1]002'!B:M,8,0)","v":"茂名市福华小学"},{"$f":"VLOOKUP(B723,'[1]002'!B:M,11,0)","v":"-"},{"$f":"VLOOKUP(B723,'[1]002'!B:M,12,0)","v":"-"},{"$f":"VLOOKUP(B723,[2]sheet2!B:L,10,0)","v":"-"},{"$f":"VLOOKUP(B723,[2]sheet2!B:L,11,0)","v":"-"},"http://183.62.54.51:8841/data/files/certificate/000000000439/a932418da7c043d8a8b52f47add246b7/signed/721_吴粤宏_三等奖_6608.pdf"]
[722,"P305119091318","有几瓶牛奶（20以内的进位加法-九加几）","小学组","微课","三等奖","茂名市",{"$f":"VLOOKUP(B724,'[1]002'!B:M,7,0)","v":"莫小婵"},{"$f":"VLOOKUP(B724,'[1]002'!B:M,8,0)","v":"高州市文明路小学"},{"$f":"VLOOKUP(B724,'[1]002'!B:M,11,0)","v":"-"},{"$f":"VLOOKUP(B724,'[1]002'!B:M,12,0)","v":"-"},{"$f":"VLOOKUP(B724,[2]sheet2!B:L,10,0)","v":"-"},{"$f":"VLOOKUP(B724,[2]sheet2!B:L,11,0)","v":"-"},"http://183.62.54.51:8841/data/files/certificate/000000000439/a66801a18b2040efba60bd20e88ad16b/signed/722_莫小婵_三等奖_6609.pdf"]
[723,"P305119091323","实用的留言条","小学组","微课","三等奖","茂名市",{"$f":"VLOOKUP(B725,'[1]002'!B:M,7,0)","v":"李银"},{"$f":"VLOOKUP(B725,'[1]002'!B:M,8,0)","v":"信宜市教育城小学"},{"$f":"VLOOKUP(B725,'[1]002'!B:M,11,0)","v":"-"},{"$f":"VLOOKUP(B725,'[1]002'!B:M,12,0)","v":"-"},{"$f":"VLOOKUP(B725,[2]sheet2!B:L,10,0)","v":"-"},{"$f":"VLOOKUP(B725,[2]sheet2!B:L,11,0)","v":"-"},"http://183.62.54.51:8841/data/files/certificate/000000000439/d8687cf3558a4fbc9fd34f7b4f586172/signed/723_李银_三等奖_6610.pdf"]
[724,"P305119091322","观察的范围","小学组","微课","三等奖","茂名市",{"$f":"VLOOKUP(B726,'[1]002'!B:M,7,0)","v":"杨宇彤"},{"$f":"VLOOKUP(B726,'[1]002'!B:M,8,0)","v":"茂名市方兴小学"},{"$f":"VLOOKUP(B726,'[1]002'!B:M,11,0)","v":"-"},{"$f":"VLOOKUP(B726,'[1]002'!B:M,12,0)","v":"-"},{"$f":"VLOOKUP(B726,[2]sheet2!B:L,10,0)","v":"-"},{"$f":"VLOOKUP(B726,[2]sheet2!B:L,11,0)","v":"-"},"http://183.62.54.51:8841/data/files/certificate/000000000439/80432e7acc5146c785df2e123dbe72b8/signed/724_杨宇彤_三等奖_6611.pdf"]
[725,"P305119091416","找最小公倍数的方法","小学组","微课","三等奖","茂名市",{"$f":"VLOOKUP(B727,'[1]002'!B:M,7,0)","v":"莫少艳"},{"$f":"VLOOKUP(B727,'[1]002'!B:M,8,0)","v":"茂名市福华小学"},{"$f":"VLOOKUP(B727,'[1]002'!B:M,11,0)","v":"-"},{"$f":"VLOOKUP(B727,'[1]002'!B:M,12,0)","v":"-"},{"$f":"VLOOKUP(B727,[2]sheet2!B:L,10,0)","v":"-"},{"$f":"VLOOKUP(B727,[2]sheet2!B:L,11,0)","v":"-"},"http://183.62.54.51:8841/data/files/certificate/000000000439/b7f5e6946c8943dc931957b90ae2134f/signed/725_莫少艳_三等奖_6612.pdf"]
[726,"P305119089838","编辑景点图文资料","小学组","微课","三等奖","肇庆市",{"$f":"VLOOKUP(B728,'[1]002'!B:M,7,0)","v":"邓诗颖"},{"$f":"VLOOKUP(B728,'[1]002'!B:M,8,0)","v":"肇庆高新区实验小学"},{"$f":"VLOOKUP(B728,'[1]002'!B:M,11,0)","v":"李坤明"},{"$f":"VLOOKUP(B728,'[1]002'!B:M,12,0)","v":"肇庆高新区实验小学"},{"$f":"VLOOKUP(B728,[2]sheet2!B:L,10,0)","v":"-"},{"$f":"VLOOKUP(B728,[2]sheet2!B:L,11,0)","v":"-"},"http://183.62.54.51:8841/data/files/certificate/000000000439/1af47af1d06f4079bd7d752c67f26d71/signed/726_邓诗颖、李坤明_三等奖_6613.pdf"]
[727,"P305119089840","小写转大写","小学组","微课","三等奖","肇庆市",{"$f":"VLOOKUP(B729,'[1]002'!B:M,7,0)","v":"李坤明"},{"$f":"VLOOKUP(B729,'[1]002'!B:M,8,0)","v":"肇庆高新区实验小学"},{"$f":"VLOOKUP(B729,'[1]002'!B:M,11,0)","v":"邓诗颖"},{"$f":"VLOOKUP(B729,'[1]002'!B:M,12,0)","v":"肇庆高新区实验小学"},{"$f":"VLOOKUP(B729,[2]sheet2!B:L,10,0)","v":"-"},{"$f":"VLOOKUP(B729,[2]sheet2!B:L,11,0)","v":"-"},"http://183.62.54.51:8841/data/files/certificate/000000000439/3aed413e2c054a23a25a006339d7d35f/signed/727_李坤明、邓诗颖_三等奖_6614.pdf"]
[728,"P305119089857","增强记忆力","小学组","微课","三等奖","肇庆市",{"$f":"VLOOKUP(B730,'[1]002'!B:M,7,0)","v":"邱海英"},{"$f":"VLOOKUP(B730,'[1]002'!B:M,8,0)","v":"肇庆高新区实验小学"},{"$f":"VLOOKUP(B730,'[1]002'!B:M,11,0)","v":"-"},{"$f":"VLOOKUP(B730,'[1]002'!B:M,12,0)","v":"-"},{"$f":"VLOOKUP(B730,[2]sheet2!B:L,10,0)","v":"-"},{"$f":"VLOOKUP(B730,[2]sheet2!B:L,11,0)","v":"-"},"http://183.62.54.51:8841/data/files/certificate/000000000439/a2bc01a2148a49ba8029b4e2d4d3e0f5/signed/728_邱海英_三等奖_6615.pdf"]
[729,"P305119091203","画出公园一角","小学组","微课","三等奖","肇庆市",{"$f":"VLOOKUP(B731,'[1]002'!B:M,7,0)","v":"陈宗荣"},{"$f":"VLOOKUP(B731,'[1]002'!B:M,8,0)","v":"鼎湖区沙浦镇中心小学"},{"$f":"VLOOKUP(B731,'[1]002'!B:M,11,0)","v":"-"},{"$f":"VLOOKUP(B731,'[1]002'!B:M,12,0)","v":"-"},{"$f":"VLOOKUP(B731,[2]sheet2!B:L,10,0)","v":"-"},{"$f":"VLOOKUP(B731,[2]sheet2!B:L,11,0)","v":"-"},"http://183.62.54.51:8841/data/files/certificate/000000000439/b78ff70ce31a48a291bcbdb9dea463a5/signed/729_陈宗荣_三等奖_6616.pdf"]
[730,"P305119091200","比喻句","小学组","微课","三等奖","肇庆市",{"$f":"VLOOKUP(B732,'[1]002'!B:M,7,0)","v":"李旭琴"},{"$f":"VLOOKUP(B732,'[1]002'!B:M,8,0)","v":"鼎湖区桂城街道办事处桂城中心小学"},{"$f":"VLOOKUP(B732,'[1]002'!B:M,11,0)","v":"-"},{"$f":"VLOOKUP(B732,'[1]002'!B:M,12,0)","v":"-"},{"$f":"VLOOKUP(B732,[2]sheet2!B:L,10,0)","v":"-"},{"$f":"VLOOKUP(B732,[2]sheet2!B:L,11,0)","v":"-"},"http://183.62.54.51:8841/data/files/certificate/000000000439/3f758eb05a7d4515b12f80b9a0e4066e/signed/730_李旭琴_三等奖_6617.pdf"]
[731,"P305119089856","快乐绘图之绘制小黄人","小学组","微课","三等奖","肇庆市",{"$f":"VLOOKUP(B733,'[1]002'!B:M,7,0)","v":"李坤明"},{"$f":"VLOOKUP(B733,'[1]002'!B:M,8,0)","v":"肇庆高新区实验小学"},{"$f":"VLOOKUP(B733,'[1]002'!B:M,11,0)","v":"邓诗颖"},{"$f":"VLOOKUP(B733,'[1]002'!B:M,12,0)","v":"肇庆高新区实验小学"},{"$f":"VLOOKUP(B733,[2]sheet2!B:L,10,0)","v":"-"},{"$f":"VLOOKUP(B733,[2]sheet2!B:L,11,0)","v":"-"},"http://183.62.54.51:8841/data/files/certificate/000000000439/a6b61098936d4cbfbfd610bc768384d2/signed/731_李坤明、邓诗颖_三等奖_6618.pdf"]
[732,"P305119089842","长方形正方形面积的计算","小学组","微课","三等奖","肇庆市",{"$f":"VLOOKUP(B734,'[1]002'!B:M,7,0)","v":"关春霞"},{"$f":"VLOOKUP(B734,'[1]002'!B:M,8,0)","v":"肇庆高新区实验小学"},{"$f":"VLOOKUP(B734,'[1]002'!B:M,11,0)","v":"-"},{"$f":"VLOOKUP(B734,'[1]002'!B:M,12,0)","v":"-"},{"$f":"VLOOKUP(B734,[2]sheet2!B:L,10,0)","v":"-"},{"$f":"VLOOKUP(B734,[2]sheet2!B:L,11,0)","v":"-"},"http://183.62.54.51:8841/data/files/certificate/000000000439/430931e89c22490abee09d29ccbb0ce8/signed/732_关春霞_三等奖_6619.pdf"]
[733,"P305119089841","平行四边形的面积","小学组","微课","三等奖","肇庆市",{"$f":"VLOOKUP(B735,'[1]002'!B:M,7,0)","v":"陈怡"},{"$f":"VLOOKUP(B735,'[1]002'!B:M,8,0)","v":"肇庆高新技术产业开发区中心小学"},{"$f":"VLOOKUP(B735,'[1]002'!B:M,11,0)","v":"-"},{"$f":"VLOOKUP(B735,'[1]002'!B:M,12,0)","v":"-"},{"$f":"VLOOKUP(B735,[2]sheet2!B:L,10,0)","v":"-"},{"$f":"VLOOKUP(B735,[2]sheet2!B:L,11,0)","v":"-"},"http://183.62.54.51:8841/data/files/certificate/000000000439/3a0ad77489904f1baa0fe52f31eed179/signed/733_陈怡_三等奖_6620.pdf"]
[734,"P305119091198","百分数的意义","小学组","微课","三等奖","肇庆市",{"$f":"VLOOKUP(B736,'[1]002'!B:M,7,0)","v":"李砚霞"},{"$f":"VLOOKUP(B736,'[1]002'!B:M,8,0)","v":"鼎湖逸夫小学"},{"$f":"VLOOKUP(B736,'[1]002'!B:M,11,0)","v":"-"},{"$f":"VLOOKUP(B736,'[1]002'!B:M,12,0)","v":"-"},{"$f":"VLOOKUP(B736,[2]sheet2!B:L,10,0)","v":"-"},{"$f":"VLOOKUP(B736,[2]sheet2!B:L,11,0)","v":"-"},"http://183.62.54.51:8841/data/files/certificate/000000000439/f10ad0c2295d407788c7c1245994ba75/signed/734_李砚霞_三等奖_6621.pdf"]
[735,"P305119089839","24时计时法","小学组","微课","三等奖","肇庆市",{"$f":"VLOOKUP(B737,'[1]002'!B:M,7,0)","v":"陈玲"},{"$f":"VLOOKUP(B737,'[1]002'!B:M,8,0)","v":"肇庆高新技术产业开发区中心小学"},{"$f":"VLOOKUP(B737,'[1]002'!B:M,11,0)","v":"-"},{"$f":"VLOOKUP(B737,'[1]002'!B:M,12,0)","v":"-"},{"$f":"VLOOKUP(B737,[2]sheet2!B:L,10,0)","v":"-"},{"$f":"VLOOKUP(B737,[2]sheet2!B:L,11,0)","v":"-"},"http://183.62.54.51:8841/data/files/certificate/000000000439/d93ec9b5f6694bdcbe7b51ed2bc520ed/signed/735_陈玲_三等奖_6622.pdf"]
[736,"P305119089846","一个数除以小数","小学组","微课","三等奖","肇庆市",{"$f":"VLOOKUP(B738,'[1]002'!B:M,7,0)","v":"郭蕾"},{"$f":"VLOOKUP(B738,'[1]002'!B:M,8,0)","v":"肇庆高新区实验小学"},{"$f":"VLOOKUP(B738,'[1]002'!B:M,11,0)","v":"-"},{"$f":"VLOOKUP(B738,'[1]002'!B:M,12,0)","v":"-"},{"$f":"VLOOKUP(B738,[2]sheet2!B:L,10,0)","v":"-"},{"$f":"VLOOKUP(B738,[2]sheet2!B:L,11,0)","v":"-"},"http://183.62.54.51:8841/data/files/certificate/000000000439/dd6218c141fc43e0a5f5c2a02be12e4f/signed/736_郭蕾_三等奖_6623.pdf"]
[737,"P305119089844","Days of the week","小学组","微课","三等奖","肇庆市",{"$f":"VLOOKUP(B739,'[1]002'!B:M,7,0)","v":"吴声丽"},{"$f":"VLOOKUP(B739,'[1]002'!B:M,8,0)","v":"肇庆高新区实验小学"},{"$f":"VLOOKUP(B739,'[1]002'!B:M,11,0)","v":"-"},{"$f":"VLOOKUP(B739,'[1]002'!B:M,12,0)","v":"-"},{"$f":"VLOOKUP(B739,[2]sheet2!B:L,10,0)","v":"-"},{"$f":"VLOOKUP(B739,[2]sheet2!B:L,11,0)","v":"-"},"http://183.62.54.51:8841/data/files/certificate/000000000439/39f69ac316e044e5a4fdb496d42d9f32/signed/737_吴声丽_三等奖_6624.pdf"]
[738,"P305119089843","简单的小数加、减法","小学组","微课","三等奖","肇庆市",{"$f":"VLOOKUP(B740,'[1]002'!B:M,7,0)","v":"李世琴"},{"$f":"VLOOKUP(B740,'[1]002'!B:M,8,0)","v":"肇庆高新区实验小学"},{"$f":"VLOOKUP(B740,'[1]002'!B:M,11,0)","v":"-"},{"$f":"VLOOKUP(B740,'[1]002'!B:M,12,0)","v":"-"},{"$f":"VLOOKUP(B740,[2]sheet2!B:L,10,0)","v":"-"},{"$f":"VLOOKUP(B740,[2]sheet2!B:L,11,0)","v":"-"},"http://183.62.54.51:8841/data/files/certificate/000000000439/71966d835e7a434dbd01720a5f4d96ea/signed/738_李世琴_三等奖_6625.pdf"]
[739,"P305119091195","小海龟重复命令讲解","小学组","微课","三等奖","肇庆市",{"$f":"VLOOKUP(B741,'[1]002'!B:M,7,0)","v":"何斌海"},{"$f":"VLOOKUP(B741,'[1]002'!B:M,8,0)","v":"鼎湖区莲花镇真光中心小学"},{"$f":"VLOOKUP(B741,'[1]002'!B:M,11,0)","v":"-"},{"$f":"VLOOKUP(B741,'[1]002'!B:M,12,0)","v":"-"},{"$f":"VLOOKUP(B741,[2]sheet2!B:L,10,0)","v":"-"},{"$f":"VLOOKUP(B741,[2]sheet2!B:L,11,0)","v":"-"},"http://183.62.54.51:8841/data/files/certificate/000000000439/2b653a2e483b4661ba320e767d9ff435/signed/739_何斌海_三等奖_6626.pdf"]
[740,"P305119090269","的地得的区分和使用","小学组","微课","三等奖","肇庆市",{"$f":"VLOOKUP(B742,'[1]002'!B:M,7,0)","v":"何恒英"},{"$f":"VLOOKUP(B742,'[1]002'!B:M,8,0)","v":"德庆县德城镇第一小学"},{"$f":"VLOOKUP(B742,'[1]002'!B:M,11,0)","v":"-"},{"$f":"VLOOKUP(B742,'[1]002'!B:M,12,0)","v":"-"},{"$f":"VLOOKUP(B742,[2]sheet2!B:L,10,0)","v":"-"},{"$f":"VLOOKUP(B742,[2]sheet2!B:L,11,0)","v":"-"},"http://183.62.54.51:8841/data/files/certificate/000000000439/e8942c6e6f68456d9a0e5752a7de8b95/signed/740_何恒英_三等奖_6627.pdf"]
[741,"P305119091193","《商末尾有0的除法》","小学组","微课","三等奖","肇庆市",{"$f":"VLOOKUP(B743,'[1]002'!B:M,7,0)","v":"陈海英"},{"$f":"VLOOKUP(B743,'[1]002'!B:M,8,0)","v":"鼎湖逸夫小学"},{"$f":"VLOOKUP(B743,'[1]002'!B:M,11,0)","v":"-"},{"$f":"VLOOKUP(B743,'[1]002'!B:M,12,0)","v":"-"},{"$f":"VLOOKUP(B743,[2]sheet2!B:L,10,0)","v":"-"},{"$f":"VLOOKUP(B743,[2]sheet2!B:L,11,0)","v":"-"},"http://183.62.54.51:8841/data/files/certificate/000000000439/20facf0be1cc464da1bbf01e51f7b089/signed/741_陈海英_三等奖_6628.pdf"]
[742,"P305119089847","快乐识字","小学组","微课","三等奖","肇庆市",{"$f":"VLOOKUP(B744,'[1]002'!B:M,7,0)","v":"冯茵"},{"$f":"VLOOKUP(B744,'[1]002'!B:M,8,0)","v":"肇庆高新区实验小学"},{"$f":"VLOOKUP(B744,'[1]002'!B:M,11,0)","v":"-"},{"$f":"VLOOKUP(B744,'[1]002'!B:M,12,0)","v":"-"},{"$f":"VLOOKUP(B744,[2]sheet2!B:L,10,0)","v":"-"},{"$f":"VLOOKUP(B744,[2]sheet2!B:L,11,0)","v":"-"},"http://183.62.54.51:8841/data/files/certificate/000000000439/7157bfc1b2f54682be3d474e20c23bfa/signed/742_冯茵_三等奖_6629.pdf"]
[743,"P305119089860","比例尺","小学组","微课","三等奖","肇庆市",{"$f":"VLOOKUP(B745,'[1]002'!B:M,7,0)","v":"王炎鑫"},{"$f":"VLOOKUP(B745,'[1]002'!B:M,8,0)","v":"肇庆高新技术产业开发区中心小学"},{"$f":"VLOOKUP(B745,'[1]002'!B:M,11,0)","v":"-"},{"$f":"VLOOKUP(B745,'[1]002'!B:M,12,0)","v":"-"},{"$f":"VLOOKUP(B745,[2]sheet2!B:L,10,0)","v":"-"},{"$f":"VLOOKUP(B745,[2]sheet2!B:L,11,0)","v":"-"},"http://183.62.54.51:8841/data/files/certificate/000000000439/706cb5cc74924310952fe5bf45b901fb/signed/743_王炎鑫_三等奖_6630.pdf"]
[744,"P305119091632","怎样把反问句改为陈述句","小学组","微课","三等奖","清远市",{"$f":"VLOOKUP(B746,'[1]002'!B:M,7,0)","v":"姚敏君"},{"$f":"VLOOKUP(B746,'[1]002'!B:M,8,0)","v":"佛冈县第一小学"},{"$f":"VLOOKUP(B746,'[1]002'!B:M,11,0)","v":"-"},{"$f":"VLOOKUP(B746,'[1]002'!B:M,12,0)","v":"-"},{"$f":"VLOOKUP(B746,[2]sheet2!B:L,10,0)","v":"-"},{"$f":"VLOOKUP(B746,[2]sheet2!B:L,11,0)","v":"-"},"http://183.62.54.51:8841/data/files/certificate/000000000439/be6b0f9ebf66442c8eb84e6d8cdbff5c/signed/744_姚敏君_三等奖_6631.pdf"]
[745,"P305119091634","五年级上册第四单元","小学组","微课","三等奖","清远市",{"$f":"VLOOKUP(B747,'[1]002'!B:M,7,0)","v":"朱翠芳"},{"$f":"VLOOKUP(B747,'[1]002'!B:M,8,0)","v":"阳山县岭背中学"},{"$f":"VLOOKUP(B747,'[1]002'!B:M,11,0)","v":"-"},{"$f":"VLOOKUP(B747,'[1]002'!B:M,12,0)","v":"-"},{"$f":"VLOOKUP(B747,[2]sheet2!B:L,10,0)","v":"-"},{"$f":"VLOOKUP(B747,[2]sheet2!B:L,11,0)","v":"-"},"http://183.62.54.51:8841/data/files/certificate/000000000439/478581f9d8cb4a5d956412351dd0941f/signed/745_朱翠芳_三等奖_6632.pdf"]
[746,"P305119091629","圆的面积微课","小学组","微课","三等奖","清远市",{"$f":"VLOOKUP(B748,'[1]002'!B:M,7,0)","v":"廖宗文"},{"$f":"VLOOKUP(B748,'[1]002'!B:M,8,0)","v":"佛冈县振兴小学"},{"$f":"VLOOKUP(B748,'[1]002'!B:M,11,0)","v":"-"},{"$f":"VLOOKUP(B748,'[1]002'!B:M,12,0)","v":"-"},{"$f":"VLOOKUP(B748,[2]sheet2!B:L,10,0)","v":"-"},{"$f":"VLOOKUP(B748,[2]sheet2!B:L,11,0)","v":"-"},"http://183.62.54.51:8841/data/files/certificate/000000000439/090cc34b986a489dbb92bf37e5aebc4e/signed/746_廖宗文_三等奖_6633.pdf"]
[747,"P305119091633","奥运开幕","小学组","微课","三等奖","清远市",{"$f":"VLOOKUP(B749,'[1]002'!B:M,7,0)","v":"张秀容"},{"$f":"VLOOKUP(B749,'[1]002'!B:M,8,0)","v":"英德市第六小学"},{"$f":"VLOOKUP(B749,'[1]002'!B:M,11,0)","v":"-"},{"$f":"VLOOKUP(B749,'[1]002'!B:M,12,0)","v":"-"},{"$f":"VLOOKUP(B749,[2]sheet2!B:L,10,0)","v":"-"},{"$f":"VLOOKUP(B749,[2]sheet2!B:L,11,0)","v":"-"},"http://183.62.54.51:8841/data/files/certificate/000000000439/1d4c5e432b76448890942ceaf2b86973/signed/747_张秀容_三等奖_6634.pdf"]
[748,"P305119079270","制作个人小名片","小学组","微课","三等奖","潮州市",{"$f":"VLOOKUP(B750,'[1]002'!B:M,7,0)","v":"刘创煌"},{"$f":"VLOOKUP(B750,'[1]002'!B:M,8,0)","v":"潮州市湘桥区新桥路小学"},{"$f":"VLOOKUP(B750,'[1]002'!B:M,11,0)","v":"-"},{"$f":"VLOOKUP(B750,'[1]002'!B:M,12,0)","v":"-"},{"$f":"VLOOKUP(B750,[2]sheet2!B:L,10,0)","v":"-"},{"$f":"VLOOKUP(B750,[2]sheet2!B:L,11,0)","v":"-"},"http://183.62.54.51:8841/data/files/certificate/000000000439/85ecf387ae7f4e9a803bda5baf7bf90d/signed/748_刘创煌_三等奖_6635.pdf"]
[749,"P305119079432","给树爷爷画像","小学组","微课","三等奖","潮州市",{"$f":"VLOOKUP(B751,'[1]002'!B:M,7,0)","v":"陈  馥"},{"$f":"VLOOKUP(B751,'[1]002'!B:M,8,0)","v":"潮州市实验学校"},{"$f":"VLOOKUP(B751,'[1]002'!B:M,11,0)","v":"-"},{"$f":"VLOOKUP(B751,'[1]002'!B:M,12,0)","v":"-"},{"$f":"VLOOKUP(B751,[2]sheet2!B:L,10,0)","v":"-"},{"$f":"VLOOKUP(B751,[2]sheet2!B:L,11,0)","v":"-"},"http://183.62.54.51:8841/data/files/certificate/000000000439/b3e938725c1c4ae8847615d7954c5b88/signed/749_陈馥_三等奖_6636.pdf"]
[750,"P305119087325","《力度记号》","小学组","微课","三等奖","潮州市",{"$f":"VLOOKUP(B752,'[1]002'!B:M,7,0)","v":"彭孜羚"},{"$f":"VLOOKUP(B752,'[1]002'!B:M,8,0)","v":"湘桥区兴华学校"},{"$f":"VLOOKUP(B752,'[1]002'!B:M,11,0)","v":"-"},{"$f":"VLOOKUP(B752,'[1]002'!B:M,12,0)","v":"-"},{"$f":"VLOOKUP(B752,[2]sheet2!B:L,10,0)","v":"-"},{"$f":"VLOOKUP(B752,[2]sheet2!B:L,11,0)","v":"-"},"http://183.62.54.51:8841/data/files/certificate/000000000439/d1f7bd51367f4ce69829d81be13fc900/signed/750_彭孜羚_三等奖_6637.pdf"]
[751,"P305119079589","使用显微镜观察微生物","小学组","微课","三等奖","潮州市",{"$f":"VLOOKUP(B753,'[1]002'!B:M,7,0)","v":"黄思"},{"$f":"VLOOKUP(B753,'[1]002'!B:M,8,0)","v":"潮州市实验学校"},{"$f":"VLOOKUP(B753,'[1]002'!B:M,11,0)","v":"-"},{"$f":"VLOOKUP(B753,'[1]002'!B:M,12,0)","v":"-"},{"$f":"VLOOKUP(B753,[2]sheet2!B:L,10,0)","v":"-"},{"$f":"VLOOKUP(B753,[2]sheet2!B:L,11,0)","v":"-"},"http://183.62.54.51:8841/data/files/certificate/000000000439/709bf2db18c4448aad51a47aa1802708/signed/751_黄思_三等奖_6638.pdf"]
[752,"P305119087465","第几","小学组","微课","三等奖","潮州市",{"$f":"VLOOKUP(B754,'[1]002'!B:M,7,0)","v":"吕曼"},{"$f":"VLOOKUP(B754,'[1]002'!B:M,8,0)","v":"湘桥区兴华学校"},{"$f":"VLOOKUP(B754,'[1]002'!B:M,11,0)","v":"-"},{"$f":"VLOOKUP(B754,'[1]002'!B:M,12,0)","v":"-"},{"$f":"VLOOKUP(B754,[2]sheet2!B:L,10,0)","v":"-"},{"$f":"VLOOKUP(B754,[2]sheet2!B:L,11,0)","v":"-"},"http://183.62.54.51:8841/data/files/certificate/000000000439/13d2a819f22d4e429de393125d385b1e/signed/752_吕曼_三等奖_6639.pdf"]
[753,"P305119080136","FLASH形状补间动画","小学组","微课","三等奖","潮州市",{"$f":"VLOOKUP(B755,'[1]002'!B:M,7,0)","v":"傅銮芝"},{"$f":"VLOOKUP(B755,'[1]002'!B:M,8,0)","v":"潮州市潮安区庵埠镇维则小学"},{"$f":"VLOOKUP(B755,'[1]002'!B:M,11,0)","v":"-"},{"$f":"VLOOKUP(B755,'[1]002'!B:M,12,0)","v":"-"},{"$f":"VLOOKUP(B755,[2]sheet2!B:L,10,0)","v":"-"},{"$f":"VLOOKUP(B755,[2]sheet2!B:L,11,0)","v":"-"},"http://183.62.54.51:8841/data/files/certificate/000000000439/bf05f9b65dfc470ca8a3b0afdf6cbd5c/signed/753_傅銮芝_三等奖_6640.pdf"]
[754,"P305119082312","圆的认识","小学组","微课","三等奖","潮州市",{"$f":"VLOOKUP(B756,'[1]002'!B:M,7,0)","v":"张伟丹"},{"$f":"VLOOKUP(B756,'[1]002'!B:M,8,0)","v":"文祠镇上荣小学"},{"$f":"VLOOKUP(B756,'[1]002'!B:M,11,0)","v":"-"},{"$f":"VLOOKUP(B756,'[1]002'!B:M,12,0)","v":"-"},{"$f":"VLOOKUP(B756,[2]sheet2!B:L,10,0)","v":"-"},{"$f":"VLOOKUP(B756,[2]sheet2!B:L,11,0)","v":"-"},"http://183.62.54.51:8841/data/files/certificate/000000000439/9c1e0f32ed9743dfb698b3103b083946/signed/754_张伟丹_三等奖_6641.pdf"]
[755,"P305119079617","雪地里的小画家","小学组","微课","三等奖","潮州市",{"$f":"VLOOKUP(B757,'[1]002'!B:M,7,0)","v":"曾燕华"},{"$f":"VLOOKUP(B757,'[1]002'!B:M,8,0)","v":"潮州市潮安区实验学校"},{"$f":"VLOOKUP(B757,'[1]002'!B:M,11,0)","v":"-"},{"$f":"VLOOKUP(B757,'[1]002'!B:M,12,0)","v":"-"},{"$f":"VLOOKUP(B757,[2]sheet2!B:L,10,0)","v":"-"},{"$f":"VLOOKUP(B757,[2]sheet2!B:L,11,0)","v":"-"},"http://183.62.54.51:8841/data/files/certificate/000000000439/7bc3ab00ba6b423b8266ac8d359cd2c0/signed/755_曾燕华_三等奖_6642.pdf"]
[756,"P305119079585","部编语文三下我变成了一棵树预习秘招","小学组","微课","三等奖","潮州市",{"$f":"VLOOKUP(B758,'[1]002'!B:M,7,0)","v":"许少兰"},{"$f":"VLOOKUP(B758,'[1]002'!B:M,8,0)","v":"潮州市实验学校"},{"$f":"VLOOKUP(B758,'[1]002'!B:M,11,0)","v":"-"},{"$f":"VLOOKUP(B758,'[1]002'!B:M,12,0)","v":"-"},{"$f":"VLOOKUP(B758,[2]sheet2!B:L,10,0)","v":"-"},{"$f":"VLOOKUP(B758,[2]sheet2!B:L,11,0)","v":"-"},"http://183.62.54.51:8841/data/files/certificate/000000000439/4cd613a44c4d4c8d897c5e560a9e68e3/signed/756_许少兰_三等奖_6643.pdf"]
[757,"P305119091232","begoingto句型微课","小学组","微课","三等奖","云浮市",{"$f":"VLOOKUP(B759,'[1]002'!B:M,7,0)","v":"张瑞平"},{"$f":"VLOOKUP(B759,'[1]002'!B:M,8,0)","v":"云浮市云城区腰古镇中心小学"},{"$f":"VLOOKUP(B759,'[1]002'!B:M,11,0)","v":"-"},{"$f":"VLOOKUP(B759,'[1]002'!B:M,12,0)","v":"-"},{"$f":"VLOOKUP(B759,[2]sheet2!B:L,10,0)","v":"-"},{"$f":"VLOOKUP(B759,[2]sheet2!B:L,11,0)","v":"-"},"http://183.62.54.51:8841/data/files/certificate/000000000439/18d301dd000648afa6bf59fbe38149d4/signed/757_张瑞平_三等奖_6644.pdf"]
[758,"P305119085788","泊船瓜洲","小学组","微课","三等奖","云浮市",{"$f":"VLOOKUP(B760,'[1]002'!B:M,7,0)","v":"邓思思"},{"$f":"VLOOKUP(B760,'[1]002'!B:M,8,0)","v":"郁南县都城镇锦枝小学"},{"$f":"VLOOKUP(B760,'[1]002'!B:M,11,0)","v":"-"},{"$f":"VLOOKUP(B760,'[1]002'!B:M,12,0)","v":"-"},{"$f":"VLOOKUP(B760,[2]sheet2!B:L,10,0)","v":"-"},{"$f":"VLOOKUP(B760,[2]sheet2!B:L,11,0)","v":"-"},"http://183.62.54.51:8841/data/files/certificate/000000000439/489a69c13ca2443893d26b14db53d801/signed/758_邓思思_三等奖_6645.pdf"]
[759,"P305119087193","东方神韵中国民族器乐","小学组","微课","三等奖","云浮市",{"$f":"VLOOKUP(B761,'[1]002'!B:M,7,0)","v":"梁展甄"},{"$f":"VLOOKUP(B761,'[1]002'!B:M,8,0)","v":"新兴县惠能小学"},{"$f":"VLOOKUP(B761,'[1]002'!B:M,11,0)","v":"-"},{"$f":"VLOOKUP(B761,'[1]002'!B:M,12,0)","v":"-"},{"$f":"VLOOKUP(B761,[2]sheet2!B:L,10,0)","v":"-"},{"$f":"VLOOKUP(B761,[2]sheet2!B:L,11,0)","v":"-"},"http://183.62.54.51:8841/data/files/certificate/000000000439/bba06948420a409fbac86c023978566e/signed/759_梁展甄_三等奖_6646.pdf"]
[760,"P305119079005","鹏程万里","小学组","微课","三等奖","云浮市",{"$f":"VLOOKUP(B762,'[1]002'!B:M,7,0)","v":"陈华佳"},{"$f":"VLOOKUP(B762,'[1]002'!B:M,8,0)","v":"云浮市云安区富林镇中学"},{"$f":"VLOOKUP(B762,'[1]002'!B:M,11,0)","v":"-"},{"$f":"VLOOKUP(B762,'[1]002'!B:M,12,0)","v":"-"},{"$f":"VLOOKUP(B762,[2]sheet2!B:L,10,0)","v":"-"},{"$f":"VLOOKUP(B762,[2]sheet2!B:L,11,0)","v":"-"},"http://183.62.54.51:8841/data/files/certificate/000000000439/f7d611b138e645aa98dc28619936880a/signed/760_陈华佳_三等奖_6647.pdf"]
[761,"P305119086649","微课教学100以内数的组成","小学组","微课","三等奖","云浮市",{"$f":"VLOOKUP(B763,'[1]002'!B:M,7,0)","v":"邓达梅"},{"$f":"VLOOKUP(B763,'[1]002'!B:M,8,0)","v":"新兴县惠能小学"},{"$f":"VLOOKUP(B763,'[1]002'!B:M,11,0)","v":"-"},{"$f":"VLOOKUP(B763,'[1]002'!B:M,12,0)","v":"-"},{"$f":"VLOOKUP(B763,[2]sheet2!B:L,10,0)","v":"-"},{"$f":"VLOOKUP(B763,[2]sheet2!B:L,11,0)","v":"-"},"http://183.62.54.51:8841/data/files/certificate/000000000439/e75b69027a444837a21ae21fead0ab15/signed/761_邓达梅_三等奖_6648.pdf"]
[762,"P307119093168","简易方程(整理与复习)","小学组","信息技术创新教学案例","三等奖","广州市",{"$f":"VLOOKUP(B764,'[1]002'!B:M,7,0)","v":"潘俊仪"},{"$f":"VLOOKUP(B764,'[1]002'!B:M,8,0)","v":"广州市番禺区石碁镇中心小学"},{"$f":"VLOOKUP(B764,'[1]002'!B:M,11,0)","v":"-"},{"$f":"VLOOKUP(B764,'[1]002'!B:M,12,0)","v":"-"},{"$f":"VLOOKUP(B764,[2]sheet2!B:L,10,0)","v":"-"},{"$f":"VLOOKUP(B764,[2]sheet2!B:L,11,0)","v":"-"},"http://183.62.54.51:8841/data/files/certificate/000000000439/d45c70e247c445879293cf32ad780c8a/signed/762_潘俊仪_三等奖_6649.pdf"]
[763,"P307119093166","我有一个强大的祖国","小学组","信息技术创新教学案例","三等奖","广州市",{"$f":"VLOOKUP(B765,'[1]002'!B:M,7,0)","v":"刘杰君"},{"$f":"VLOOKUP(B765,'[1]002'!B:M,8,0)","v":"广州市番禺区石碁镇中心小学"},{"$f":"VLOOKUP(B765,'[1]002'!B:M,11,0)","v":"-"},{"$f":"VLOOKUP(B765,'[1]002'!B:M,12,0)","v":"-"},{"$f":"VLOOKUP(B765,[2]sheet2!B:L,10,0)","v":"-"},{"$f":"VLOOKUP(B765,[2]sheet2!B:L,11,0)","v":"-"},"http://183.62.54.51:8841/data/files/certificate/000000000439/138b024f6a694619ad3b93c7e56b426e/signed/763_刘杰君_三等奖_6650.pdf"]
[764,"P307119093167","小学三年级英语Short Vowel U语音课","小学组","信息技术创新教学案例","三等奖","广州市",{"$f":"VLOOKUP(B766,'[1]002'!B:M,7,0)","v":"段蕊"},{"$f":"VLOOKUP(B766,'[1]002'!B:M,8,0)","v":"广州市番禺区石碁镇中心小学"},{"$f":"VLOOKUP(B766,'[1]002'!B:M,11,0)","v":"-"},{"$f":"VLOOKUP(B766,'[1]002'!B:M,12,0)","v":"-"},{"$f":"VLOOKUP(B766,[2]sheet2!B:L,10,0)","v":"-"},{"$f":"VLOOKUP(B766,[2]sheet2!B:L,11,0)","v":"-"},"http://183.62.54.51:8841/data/files/certificate/000000000439/01d840f70fc34e90b40f3b4697008a2f/signed/764_段蕊_三等奖_6651.pdf"]
[765,"P307119093165","Travel to Green Land绘本阅读课","小学组","信息技术创新教学案例","三等奖","广州市",{"$f":"VLOOKUP(B767,'[1]002'!B:M,7,0)","v":"梁玲"},{"$f":"VLOOKUP(B767,'[1]002'!B:M,8,0)","v":"广州市番禺区石碁镇中心小学"},{"$f":"VLOOKUP(B767,'[1]002'!B:M,11,0)","v":"-"},{"$f":"VLOOKUP(B767,'[1]002'!B:M,12,0)","v":"-"},{"$f":"VLOOKUP(B767,[2]sheet2!B:L,10,0)","v":"-"},{"$f":"VLOOKUP(B767,[2]sheet2!B:L,11,0)","v":"-"},"http://183.62.54.51:8841/data/files/certificate/000000000439/d65e3ff96fd3467db0d4d9db6886b92e/signed/765_梁玲_三等奖_6652.pdf"]
[766,"P307119092669","我想和你们一起玩","小学组","信息技术创新教学案例","三等奖","深圳市",{"$f":"VLOOKUP(B768,'[1]002'!B:M,7,0)","v":"杨思萍"},{"$f":"VLOOKUP(B768,'[1]002'!B:M,8,0)","v":"深圳市龙华区上芬小学"},{"$f":"VLOOKUP(B768,'[1]002'!B:M,11,0)","v":"王敬芬"},{"$f":"VLOOKUP(B768,'[1]002'!B:M,12,0)","v":"深圳市龙华区上芬小学"},{"$f":"VLOOKUP(B768,[2]sheet2!B:L,10,0)","v":"-"},{"$f":"VLOOKUP(B768,[2]sheet2!B:L,11,0)","v":"-"},"http://183.62.54.51:8841/data/files/certificate/000000000439/37c7c64a92ab4de19c43efba3f4d01d8/signed/766_杨思萍、王敬芬_三等奖_6653.pdf"]
[767,"P307119091959","点亮思维_智造未来","小学组","信息技术创新教学案例","三等奖","汕头市",{"$f":"VLOOKUP(B769,'[1]002'!B:M,7,0)","v":"李旭城"},{"$f":"VLOOKUP(B769,'[1]002'!B:M,8,0)","v":"汕头市潮阳实验学校"},{"$f":"VLOOKUP(B769,'[1]002'!B:M,11,0)","v":"-"},{"$f":"VLOOKUP(B769,'[1]002'!B:M,12,0)","v":"-"},{"$f":"VLOOKUP(B769,[2]sheet2!B:L,10,0)","v":"-"},{"$f":"VLOOKUP(B769,[2]sheet2!B:L,11,0)","v":"-"},"http://183.62.54.51:8841/data/files/certificate/000000000439/53750490a4214b58825ab4b36c652d4b/signed/767_李旭城_三等奖_6654.pdf"]
[768,"P307119091960","长方形正方形的面积计算","小学组","信息技术创新教学案例","三等奖","汕头市",{"$f":"VLOOKUP(B770,'[1]002'!B:M,7,0)","v":"杜纯"},{"$f":"VLOOKUP(B770,'[1]002'!B:M,8,0)","v":"汕头市澄海实验高级中学"},{"$f":"VLOOKUP(B770,'[1]002'!B:M,11,0)","v":"-"},{"$f":"VLOOKUP(B770,'[1]002'!B:M,12,0)","v":"-"},{"$f":"VLOOKUP(B770,[2]sheet2!B:L,10,0)","v":"-"},{"$f":"VLOOKUP(B770,[2]sheet2!B:L,11,0)","v":"-"},"http://183.62.54.51:8841/data/files/certificate/000000000439/231d3ac47d7f4a12985843a7643f9d65/signed/768_杜纯_三等奖_6655.pdf"]
[769,"P307119090696","图形化编程之神奇的画笔","小学组","信息技术创新教学案例","三等奖","佛山市",{"$f":"VLOOKUP(B771,'[1]002'!B:M,7,0)","v":"陈倩明"},{"$f":"VLOOKUP(B771,'[1]002'!B:M,8,0)","v":"佛山市高明区杨和镇中心小学"},{"$f":"VLOOKUP(B771,'[1]002'!B:M,11,0)","v":"-"},{"$f":"VLOOKUP(B771,'[1]002'!B:M,12,0)","v":"-"},{"$f":"VLOOKUP(B771,[2]sheet2!B:L,10,0)","v":"-"},{"$f":"VLOOKUP(B771,[2]sheet2!B:L,11,0)","v":"-"},"http://183.62.54.51:8841/data/files/certificate/000000000439/787d6e5cd9cc40aaad96d17da7456c29/signed/769_陈倩明_三等奖_6656.pdf"]
[770,"P307119090704","认识面积","小学组","信息技术创新教学案例","三等奖","佛山市",{"$f":"VLOOKUP(B772,'[1]002'!B:M,7,0)","v":"祝金霞"},{"$f":"VLOOKUP(B772,'[1]002'!B:M,8,0)","v":"佛山市南海区桂城街道中心小学"},{"$f":"VLOOKUP(B772,'[1]002'!B:M,11,0)","v":"-"},{"$f":"VLOOKUP(B772,'[1]002'!B:M,12,0)","v":"-"},{"$f":"VLOOKUP(B772,[2]sheet2!B:L,10,0)","v":"-"},{"$f":"VLOOKUP(B772,[2]sheet2!B:L,11,0)","v":"-"},"http://183.62.54.51:8841/data/files/certificate/000000000439/bc89a59b513b4d8190157a897d5d4cd4/signed/770_祝金霞_三等奖_6657.pdf"]
[771,"P307119090699","智闯迷宫","小学组","信息技术创新教学案例","三等奖","佛山市",{"$f":"VLOOKUP(B773,'[1]002'!B:M,7,0)","v":"曾奕焕"},{"$f":"VLOOKUP(B773,'[1]002'!B:M,8,0)","v":"佛山市高明区荷城街道泽英小学"},{"$f":"VLOOKUP(B773,'[1]002'!B:M,11,0)","v":"-"},{"$f":"VLOOKUP(B773,'[1]002'!B:M,12,0)","v":"-"},{"$f":"VLOOKUP(B773,[2]sheet2!B:L,10,0)","v":"-"},{"$f":"VLOOKUP(B773,[2]sheet2!B:L,11,0)","v":"-"},"http://183.62.54.51:8841/data/files/certificate/000000000439/c4aa62285f9941e8878b006a88fbf85f/signed/771_曾奕焕_三等奖_6658.pdf"]
[772,"P307119090711","画正多边形","小学组","信息技术创新教学案例","三等奖","佛山市",{"$f":"VLOOKUP(B774,'[1]002'!B:M,7,0)","v":"凌春球"},{"$f":"VLOOKUP(B774,'[1]002'!B:M,8,0)","v":"佛山市顺德区北滘马龙小学"},{"$f":"VLOOKUP(B774,'[1]002'!B:M,11,0)","v":"-"},{"$f":"VLOOKUP(B774,'[1]002'!B:M,12,0)","v":"-"},{"$f":"VLOOKUP(B774,[2]sheet2!B:L,10,0)","v":"-"},{"$f":"VLOOKUP(B774,[2]sheet2!B:L,11,0)","v":"-"},"http://183.62.54.51:8841/data/files/certificate/000000000439/61c21f614ece4e7bace67704c6342987/signed/772_凌春球_三等奖_6659.pdf"]
[773,"P307119090714","玩跷跷板编程猫教学","小学组","信息技术创新教学案例","三等奖","佛山市",{"$f":"VLOOKUP(B775,'[1]002'!B:M,7,0)","v":"杨凯"},{"$f":"VLOOKUP(B775,'[1]002'!B:M,8,0)","v":"佛山市顺德区伦教羊额何显朝纪念小学"},{"$f":"VLOOKUP(B775,'[1]002'!B:M,11,0)","v":"-"},{"$f":"VLOOKUP(B775,'[1]002'!B:M,12,0)","v":"-"},{"$f":"VLOOKUP(B775,[2]sheet2!B:L,10,0)","v":"-"},{"$f":"VLOOKUP(B775,[2]sheet2!B:L,11,0)","v":"-"},"http://183.62.54.51:8841/data/files/certificate/000000000439/97beba59e34640839e46c0fee2653229/signed/773_杨凯_三等奖_6660.pdf"]
[774,"P307119090698","编程猫之跑男迷宫大作战","小学组","信息技术创新教学案例","三等奖","佛山市",{"$f":"VLOOKUP(B776,'[1]002'!B:M,7,0)","v":"茹月媚"},{"$f":"VLOOKUP(B776,'[1]002'!B:M,8,0)","v":"佛山市高明区更合镇千禧小学"},{"$f":"VLOOKUP(B776,'[1]002'!B:M,11,0)","v":"-"},{"$f":"VLOOKUP(B776,'[1]002'!B:M,12,0)","v":"-"},{"$f":"VLOOKUP(B776,[2]sheet2!B:L,10,0)","v":"-"},{"$f":"VLOOKUP(B776,[2]sheet2!B:L,11,0)","v":"-"},"http://183.62.54.51:8841/data/files/certificate/000000000439/a07cc7d7be2945b5958d4273466c3d87/signed/774_茹月媚_三等奖_6661.pdf"]
[775,"P307119090701","小猫快跑","小学组","信息技术创新教学案例","三等奖","佛山市",{"$f":"VLOOKUP(B777,'[1]002'!B:M,7,0)","v":"李洁莹"},{"$f":"VLOOKUP(B777,'[1]002'!B:M,8,0)","v":"佛山市元甲学校"},{"$f":"VLOOKUP(B777,'[1]002'!B:M,11,0)","v":"-"},{"$f":"VLOOKUP(B777,'[1]002'!B:M,12,0)","v":"-"},{"$f":"VLOOKUP(B777,[2]sheet2!B:L,10,0)","v":"-"},{"$f":"VLOOKUP(B777,[2]sheet2!B:L,11,0)","v":"-"},"http://183.62.54.51:8841/data/files/certificate/000000000439/328a7f05df9f4596b2d08d7ac69be234/signed/775_李洁莹_三等奖_6662.pdf"]
[776,"P307119090717","接苹果","小学组","信息技术创新教学案例","三等奖","佛山市",{"$f":"VLOOKUP(B778,'[1]002'!B:M,7,0)","v":"丁玲"},{"$f":"VLOOKUP(B778,'[1]002'!B:M,8,0)","v":"佛山市顺德区龙江东海小学"},{"$f":"VLOOKUP(B778,'[1]002'!B:M,11,0)","v":"-"},{"$f":"VLOOKUP(B778,'[1]002'!B:M,12,0)","v":"-"},{"$f":"VLOOKUP(B778,[2]sheet2!B:L,10,0)","v":"-"},{"$f":"VLOOKUP(B778,[2]sheet2!B:L,11,0)","v":"-"},"http://183.62.54.51:8841/data/files/certificate/000000000439/c301ae2653324882bb1a9c3e9ef5342a/signed/776_丁玲_三等奖_6663.pdf"]
[777,"P307119088814","Unit 4 When is Easter A. Let’s spell教学案例","小学组","信息技术创新教学案例","三等奖","韶关市",{"$f":"VLOOKUP(B779,'[1]002'!B:M,7,0)","v":"杨莉"},{"$f":"VLOOKUP(B779,'[1]002'!B:M,8,0)","v":"韶关市吴礼和中心小学"},{"$f":"VLOOKUP(B779,'[1]002'!B:M,11,0)","v":"-"},{"$f":"VLOOKUP(B779,'[1]002'!B:M,12,0)","v":"-"},{"$f":"VLOOKUP(B779,[2]sheet2!B:L,10,0)","v":"-"},{"$f":"VLOOKUP(B779,[2]sheet2!B:L,11,0)","v":"-"},"http://183.62.54.51:8841/data/files/certificate/000000000439/b3aca6aa5c7946f389171fca97fbd796/signed/777_杨莉_三等奖_6664.pdf"]
[778,"P307119092823","AiSchool平台威力大_一课三磨出精彩","小学组","信息技术创新教学案例","三等奖","东莞市",{"$f":"VLOOKUP(B780,'[1]002'!B:M,7,0)","v":"万莉娜"},{"$f":"VLOOKUP(B780,'[1]002'!B:M,8,0)","v":"东莞市南城区阳光第二小学"},{"$f":"VLOOKUP(B780,'[1]002'!B:M,11,0)","v":"陈荣莉"},{"$f":"VLOOKUP(B780,'[1]002'!B:M,12,0)","v":"东莞市南城区阳光第二小学"},{"$f":"VLOOKUP(B780,[2]sheet2!B:L,10,0)","v":"-"},{"$f":"VLOOKUP(B780,[2]sheet2!B:L,11,0)","v":"-"},"http://183.62.54.51:8841/data/files/certificate/000000000439/d89817e4c6074fe2b578fdf95c1fa171/signed/778_万莉娜、陈荣莉_三等奖_6665.pdf"]
[779,"P307119092824","双师双融双创乐享慧美课堂","小学组","信息技术创新教学案例","三等奖","东莞市",{"$f":"VLOOKUP(B781,'[1]002'!B:M,7,0)","v":"黄展鹏"},{"$f":"VLOOKUP(B781,'[1]002'!B:M,8,0)","v":"东莞市道滘镇新城小学"},{"$f":"VLOOKUP(B781,'[1]002'!B:M,11,0)","v":"张雪涛"},{"$f":"VLOOKUP(B781,'[1]002'!B:M,12,0)","v":"东莞市道滘镇新城小学"},{"$f":"VLOOKUP(B781,[2]sheet2!B:L,10,0)","v":"-"},{"$f":"VLOOKUP(B781,[2]sheet2!B:L,11,0)","v":"-"},"http://183.62.54.51:8841/data/files/certificate/000000000439/70c7287500f9439e82a28e7be7b156e0/signed/779_黄展鹏、张雪涛_三等奖_6666.pdf"]
[780,"P307119088439","scratch下的动物诗词大会","小学组","信息技术创新教学案例","三等奖","中山市",{"$f":"VLOOKUP(B782,'[1]002'!B:M,7,0)","v":"罗廷"},{"$f":"VLOOKUP(B782,'[1]002'!B:M,8,0)","v":"中山市小榄镇中心小学"},{"$f":"VLOOKUP(B782,'[1]002'!B:M,11,0)","v":"-"},{"$f":"VLOOKUP(B782,'[1]002'!B:M,12,0)","v":"-"},{"$f":"VLOOKUP(B782,[2]sheet2!B:L,10,0)","v":"-"},{"$f":"VLOOKUP(B782,[2]sheet2!B:L,11,0)","v":"-"},"http://183.62.54.51:8841/data/files/certificate/000000000439/530b7f55a68845c2b2317d62dbbaa570/signed/780_罗廷_三等奖_6667.pdf"]
[781,"P307119089040","追捕逃星","小学组","信息技术创新教学案例","三等奖","中山市",{"$f":"VLOOKUP(B783,'[1]002'!B:M,7,0)","v":"霍静妍"},{"$f":"VLOOKUP(B783,'[1]002'!B:M,8,0)","v":"中山火炬高技术产业开发区第四小学"},{"$f":"VLOOKUP(B783,'[1]002'!B:M,11,0)","v":"-"},{"$f":"VLOOKUP(B783,'[1]002'!B:M,12,0)","v":"-"},{"$f":"VLOOKUP(B783,[2]sheet2!B:L,10,0)","v":"-"},{"$f":"VLOOKUP(B783,[2]sheet2!B:L,11,0)","v":"-"},"http://183.62.54.51:8841/data/files/certificate/000000000439/106f7bbfa0c740219ab45b9e4d342ece/signed/781_霍静妍_三等奖_6668.pdf"]
[782,"P307119088974","追击章鱼","小学组","信息技术创新教学案例","三等奖","中山市",{"$f":"VLOOKUP(B784,'[1]002'!B:M,7,0)","v":"吴洁怡"},{"$f":"VLOOKUP(B784,'[1]002'!B:M,8,0)","v":"中山火炬高技术产业开发区香晖园小学"},{"$f":"VLOOKUP(B784,'[1]002'!B:M,11,0)","v":"-"},{"$f":"VLOOKUP(B784,'[1]002'!B:M,12,0)","v":"-"},{"$f":"VLOOKUP(B784,[2]sheet2!B:L,10,0)","v":"-"},{"$f":"VLOOKUP(B784,[2]sheet2!B:L,11,0)","v":"-"},"http://183.62.54.51:8841/data/files/certificate/000000000439/b7d4cf6fad024930a3ca0465293ca9ef/signed/782_吴洁怡_三等奖_6669.pdf"]
[783,"P307119091353","图文并茂更漂亮","小学组","信息技术创新教学案例","三等奖","茂名市",{"$f":"VLOOKUP(B785,'[1]002'!B:M,7,0)","v":"吴林蔚"},{"$f":"VLOOKUP(B785,'[1]002'!B:M,8,0)","v":"信宜市第五小学"},{"$f":"VLOOKUP(B785,'[1]002'!B:M,11,0)","v":"郑妍"},{"$f":"VLOOKUP(B785,'[1]002'!B:M,12,0)","v":"信宜市第五小学"},{"$f":"VLOOKUP(B785,[2]sheet2!B:L,10,0)","v":"陈红莹"},{"$f":"VLOOKUP(B785,[2]sheet2!B:L,11,0)","v":"信宜市第五小学"},"http://183.62.54.51:8841/data/files/certificate/000000000439/1c125fd3f80b41dd9e707b5970a6f95d/signed/783_吴林蔚、郑妍、陈红莹_三等奖_6670.pdf"]
[784,"P307119087656","《修饰文字》教学案例","小学组","信息技术创新教学案例","三等奖","潮州市",{"$f":"VLOOKUP(B786,'[1]002'!B:M,7,0)","v":"钱瑞扬"},{"$f":"VLOOKUP(B786,'[1]002'!B:M,8,0)","v":"潮州市湘桥区昌黎路小学"},{"$f":"VLOOKUP(B786,'[1]002'!B:M,11,0)","v":"-"},{"$f":"VLOOKUP(B786,'[1]002'!B:M,12,0)","v":"-"},{"$f":"VLOOKUP(B786,[2]sheet2!B:L,10,0)","v":"-"},{"$f":"VLOOKUP(B786,[2]sheet2!B:L,11,0)","v":"-"},"http://183.62.54.51:8841/data/files/certificate/000000000439/0220ec8e084c43b78b786b2073b81b3c/signed/784_钱瑞扬_三等奖_6671.pdf"]
[785,"P307119089705","认识人民币","小学组","信息技术创新教学案例","三等奖","云浮市",{"$f":"VLOOKUP(B787,'[1]002'!B:M,7,0)","v":"王小霞"},{"$f":"VLOOKUP(B787,'[1]002'!B:M,8,0)","v":"郁南县都城镇中心小学"},{"$f":"VLOOKUP(B787,'[1]002'!B:M,11,0)","v":"-"},{"$f":"VLOOKUP(B787,'[1]002'!B:M,12,0)","v":"-"},{"$f":"VLOOKUP(B787,[2]sheet2!B:L,10,0)","v":"-"},{"$f":"VLOOKUP(B787,[2]sheet2!B:L,11,0)","v":"-"},"http://183.62.54.51:8841/data/files/certificate/000000000439/17d90612302d436f820a39d3fd5a075a/signed/785_王小霞_三等奖_6672.pdf"]
[786,"P307119080155","小学英语创新教学案例","小学组","信息技术创新教学案例","三等奖","云浮市",{"$f":"VLOOKUP(B788,'[1]002'!B:M,7,0)","v":"赖彦谷"},{"$f":"VLOOKUP(B788,'[1]002'!B:M,8,0)","v":"罗定市实验小学"},{"$f":"VLOOKUP(B788,'[1]002'!B:M,11,0)","v":"-"},{"$f":"VLOOKUP(B788,'[1]002'!B:M,12,0)","v":"-"},{"$f":"VLOOKUP(B788,[2]sheet2!B:L,10,0)","v":"-"},{"$f":"VLOOKUP(B788,[2]sheet2!B:L,11,0)","v":"-"},"http://183.62.54.51:8841/data/files/certificate/000000000439/e5949947b4cd414e8dc74d2bdc4f6044/signed/786_赖彦谷_三等奖_6673.pdf"]
[787,"P307119087833","假文盲漫画作文教学","小学组","信息技术创新教学案例","三等奖","云浮市",{"$f":"VLOOKUP(B789,'[1]002'!B:M,7,0)","v":"沈淑仪"},{"$f":"VLOOKUP(B789,'[1]002'!B:M,8,0)","v":"罗定市实验小学"},{"$f":"VLOOKUP(B789,'[1]002'!B:M,11,0)","v":"-"},{"$f":"VLOOKUP(B789,'[1]002'!B:M,12,0)","v":"-"},{"$f":"VLOOKUP(B789,[2]sheet2!B:L,10,0)","v":"-"},{"$f":"VLOOKUP(B789,[2]sheet2!B:L,11,0)","v":"-"},"http://183.62.54.51:8841/data/files/certificate/000000000439/95748f6d11f3465794833490a4d4cafd/signed/787_沈淑仪_三等奖_6674.pdf"]
[788,"P301119092755","城市剪影教师网络空间应用案例","小学组","教师网络空间应用案例","三等奖","深圳市",{"$f":"VLOOKUP(B790,'[1]002'!B:M,7,0)","v":"宋颖瑶"},{"$f":"VLOOKUP(B790,'[1]002'!B:M,8,0)","v":"深圳市南山区前海小学"},{"$f":"VLOOKUP(B790,'[1]002'!B:M,11,0)","v":"-"},{"$f":"VLOOKUP(B790,'[1]002'!B:M,12,0)","v":"-"},{"$f":"VLOOKUP(B790,[2]sheet2!B:L,10,0)","v":"-"},{"$f":"VLOOKUP(B790,[2]sheet2!B:L,11,0)","v":"-"},"http://183.62.54.51:8841/data/files/certificate/000000000439/e67208fcc9db4a38a96026a44f45c4c1/signed/788_宋颖瑶_三等奖_6675.pdf"]
[789,"P301119086935","Recycle2","小学组","教师网络空间应用案例","三等奖","云浮市",{"$f":"VLOOKUP(B791,'[1]002'!B:M,7,0)","v":"刘锐莉"},{"$f":"VLOOKUP(B791,'[1]002'!B:M,8,0)","v":"新兴县新城镇中心小学"},{"$f":"VLOOKUP(B791,'[1]002'!B:M,11,0)","v":"-"},{"$f":"VLOOKUP(B791,'[1]002'!B:M,12,0)","v":"-"},{"$f":"VLOOKUP(B791,[2]sheet2!B:L,10,0)","v":"-"},{"$f":"VLOOKUP(B791,[2]sheet2!B:L,11,0)","v":"-"},"http://183.62.54.51:8841/data/files/certificate/000000000439/11fe8a9fbe7a448d8105e5dcdae9de19/signed/789_刘锐莉_三等奖_6676.pdf"]
[790,"P304119092485","Micro：bit和VacationPlans","小学组","跨学科项目式学习教学案例","三等奖","珠海市",{"$f":"VLOOKUP(B792,'[1]002'!B:M,7,0)","v":"庄萍"},{"$f":"VLOOKUP(B792,'[1]002'!B:M,8,0)","v":"珠海市香洲区第十六小学"},{"$f":"VLOOKUP(B792,'[1]002'!B:M,11,0)","v":"-"},{"$f":"VLOOKUP(B792,'[1]002'!B:M,12,0)","v":"-"},{"$f":"VLOOKUP(B792,[2]sheet2!B:L,10,0)","v":"-"},{"$f":"VLOOKUP(B792,[2]sheet2!B:L,11,0)","v":"-"},"http://183.62.54.51:8841/data/files/certificate/000000000439/8e46233973034b919c39a6e5a5f17b6c/signed/790_庄萍_三等奖_6677.pdf"]
[791,"P304119090687","我是小小建筑师","小学组","跨学科项目式学习教学案例","三等奖","佛山市",{"$f":"VLOOKUP(B793,'[1]002'!B:M,7,0)","v":"杨月华"},{"$f":"VLOOKUP(B793,'[1]002'!B:M,8,0)","v":"佛山市南海区丹灶镇罗行小学"},"-","-",{"$f":"VLOOKUP(B793,[2]sheet2!B:L,10,0)","v":"-"},{"$f":"VLOOKUP(B793,[2]sheet2!B:L,11,0)","v":"-"},"http://183.62.54.51:8841/data/files/certificate/000000000439/6c54b55300454e8a8ff8be126f0f798b/signed/791_杨月华_三等奖_6678.pdf"]
[792,"P304119090693","古诗配画","小学组","跨学科项目式学习教学案例","三等奖","佛山市",{"$f":"VLOOKUP(B794,'[1]002'!B:M,7,0)","v":"何嘉丽"},{"$f":"VLOOKUP(B794,'[1]002'!B:M,8,0)","v":"佛山市三水区西南街道第八小学"},{"$f":"VLOOKUP(B794,'[1]002'!B:M,11,0)","v":"-"},{"$f":"VLOOKUP(B794,'[1]002'!B:M,12,0)","v":"-"},{"$f":"VLOOKUP(B794,[2]sheet2!B:L,10,0)","v":"-"},{"$f":"VLOOKUP(B794,[2]sheet2!B:L,11,0)","v":"-"},"http://183.62.54.51:8841/data/files/certificate/000000000439/db27c8db72ed447da30a01b925be49e1/signed/792_何嘉丽_三等奖_6679.pdf"]
[793,"P304119092842","家乡华阳湖湿地公园探究","小学组","跨学科项目式学习教学案例","三等奖","东莞市",{"$f":"VLOOKUP(B795,'[1]002'!B:M,7,0)","v":"雷顺弟"},{"$f":"VLOOKUP(B795,'[1]002'!B:M,8,0)","v":"东莞市麻涌镇第三小学"},{"$f":"VLOOKUP(B795,'[1]002'!B:M,11,0)","v":"-"},{"$f":"VLOOKUP(B795,'[1]002'!B:M,12,0)","v":"-"},{"$f":"VLOOKUP(B795,[2]sheet2!B:L,10,0)","v":"-"},{"$f":"VLOOKUP(B795,[2]sheet2!B:L,11,0)","v":"-"},"http://183.62.54.51:8841/data/files/certificate/000000000439/77a37ea539c54ed7b66f1bf601c3a12d/signed/793_雷顺弟_三等奖_6680.pdf"]
[794,"P304119089443","海底世界","小学组","跨学科项目式学习教学案例","三等奖","中山市",{"$f":"VLOOKUP(B796,'[1]002'!B:M,7,0)","v":"黄国盛"},{"$f":"VLOOKUP(B796,'[1]002'!B:M,8,0)","v":"中山市东凤镇凤鸣小学"},{"$f":"VLOOKUP(B796,'[1]002'!B:M,11,0)","v":"吴桂凤"},{"$f":"VLOOKUP(B796,'[1]002'!B:M,12,0)","v":"中山市东凤镇凤鸣小学"},{"$f":"VLOOKUP(B796,[2]sheet2!B:L,10,0)","v":"-"},{"$f":"VLOOKUP(B796,[2]sheet2!B:L,11,0)","v":"-"},"http://183.62.54.51:8841/data/files/certificate/000000000439/eebef13d1fdb4b5cb55c2cfaf7df50b6/signed/794_黄国盛、吴桂凤_三等奖_6681.pdf"]
[795,"P304119085019","pep版五年级下册英语第三单元B第一部分","小学组","跨学科项目式学习教学案例","三等奖","云浮市",{"$f":"VLOOKUP(B797,'[1]002'!B:M,7,0)","v":"陈怡杏"},{"$f":"VLOOKUP(B797,'[1]002'!B:M,8,0)","v":"新兴县水台镇中心小学"},{"$f":"VLOOKUP(B797,'[1]002'!B:M,11,0)","v":"王佩怡"},{"$f":"VLOOKUP(B797,'[1]002'!B:M,12,0)","v":"新兴县水台镇中心小学"},{"$f":"VLOOKUP(B797,[2]sheet2!B:L,10,0)","v":"-"},{"$f":"VLOOKUP(B797,[2]sheet2!B:L,11,0)","v":"-"},"http://183.62.54.51:8841/data/files/certificate/000000000439/bf09696e28c0497691cf6050058be11c/signed/795_陈怡杏、王佩怡_三等奖_6682.pdf"]
[796,"P306119093136","习作课例《学写读后感》","小学组","新媒体新技术教学应用课例","三等奖",{"$f":"RIGHT(LEFT(VLOOKUP(B798,'[1]002'!B:M,3,0),7),3)","v":"广州市"},{"$f":"VLOOKUP(B798,'[1]002'!B:M,7,0)","v":"谢玉妃"},{"$f":"VLOOKUP(B798,'[1]002'!B:M,8,0)","v":"广州市越秀区云山小学"},{"$f":"VLOOKUP(B798,'[1]002'!B:M,11,0)","v":"-"},{"$f":"VLOOKUP(B798,'[1]002'!B:M,12,0)","v":"-"},{"$f":"VLOOKUP(B798,[2]sheet2!B:L,10,0)","v":"-"},{"$f":"VLOOKUP(B798,[2]sheet2!B:L,11,0)","v":"-"},"http://183.62.54.51:8841/data/files/certificate/000000000439/e72ec7ca8e8542e1805d873a6dada83a/signed/796_谢玉妃_三等奖_6683.pdf"]
[797,"P306119093268","28 尺有所短 寸有所长","小学组","新媒体新技术教学应用课例","三等奖",{"$f":"RIGHT(LEFT(VLOOKUP(B799,'[1]002'!B:M,3,0),7),3)","v":"广州市"},{"$f":"VLOOKUP(B799,'[1]002'!B:M,7,0)","v":"李惠琼"},{"$f":"VLOOKUP(B799,'[1]002'!B:M,8,0)","v":"广州市番禺区沙湾镇兴贤小学"},{"$f":"VLOOKUP(B799,'[1]002'!B:M,11,0)","v":"-"},{"$f":"VLOOKUP(B799,'[1]002'!B:M,12,0)","v":"-"},{"$f":"VLOOKUP(B799,[2]sheet2!B:L,10,0)","v":"-"},{"$f":"VLOOKUP(B799,[2]sheet2!B:L,11,0)","v":"-"},"http://183.62.54.51:8841/data/files/certificate/000000000439/2e6a7a4eb252445c8a0d2ab2c78ed2b3/signed/797_李惠琼_三等奖_6684.pdf"]
[798,"P306119093125","足球：脚背正面射门","小学组","新媒体新技术教学应用课例","三等奖",{"$f":"RIGHT(LEFT(VLOOKUP(B800,'[1]002'!B:M,3,0),7),3)","v":"广州市"},{"$f":"VLOOKUP(B800,'[1]002'!B:M,7,0)","v":"刘晶"},{"$f":"VLOOKUP(B800,'[1]002'!B:M,8,0)","v":"广州市越秀区建设六马路小学"},{"$f":"VLOOKUP(B800,'[1]002'!B:M,11,0)","v":"-"},{"$f":"VLOOKUP(B800,'[1]002'!B:M,12,0)","v":"-"},{"$f":"VLOOKUP(B800,[2]sheet2!B:L,10,0)","v":"-"},{"$f":"VLOOKUP(B800,[2]sheet2!B:L,11,0)","v":"-"},"http://183.62.54.51:8841/data/files/certificate/000000000439/97d248674db84150b5c231f648113cc4/signed/798_刘晶_三等奖_6685.pdf"]
[799,"P306119093129","三角形的面积","小学组","新媒体新技术教学应用课例","三等奖",{"$f":"RIGHT(LEFT(VLOOKUP(B801,'[1]002'!B:M,3,0),7),3)","v":"广州市"},{"$f":"VLOOKUP(B801,'[1]002'!B:M,7,0)","v":"莫舒敏"},{"$f":"VLOOKUP(B801,'[1]002'!B:M,8,0)","v":"广州市荔湾区芦荻西小学"},{"$f":"VLOOKUP(B801,'[1]002'!B:M,11,0)","v":"-"},{"$f":"VLOOKUP(B801,'[1]002'!B:M,12,0)","v":"-"},{"$f":"VLOOKUP(B801,[2]sheet2!B:L,10,0)","v":"-"},{"$f":"VLOOKUP(B801,[2]sheet2!B:L,11,0)","v":"-"},"http://183.62.54.51:8841/data/files/certificate/000000000439/93707cbadb6f4b74a0b785b8a3adffb0/signed/799_莫舒敏_三等奖_6686.pdf"]
[800,"P306119093113","扇形统计图","小学组","新媒体新技术教学应用课例","三等奖",{"$f":"RIGHT(LEFT(VLOOKUP(B802,'[1]002'!B:M,3,0),7),3)","v":"广州市"},{"$f":"VLOOKUP(B802,'[1]002'!B:M,7,0)","v":"林飞燕"},{"$f":"VLOOKUP(B802,'[1]002'!B:M,8,0)","v":"广州市荔湾区南塘大街小学"},{"$f":"VLOOKUP(B802,'[1]002'!B:M,11,0)","v":"陈勃"},{"$f":"VLOOKUP(B802,'[1]002'!B:M,12,0)","v":"广州市越秀区小北路小学"},{"$f":"VLOOKUP(B802,[2]sheet2!B:L,10,0)","v":"-"},{"$f":"VLOOKUP(B802,[2]sheet2!B:L,11,0)","v":"-"},"http://183.62.54.51:8841/data/files/certificate/000000000439/a7f366018392491085132b3d89943d9a/signed/800_林飞燕、陈勃_三等奖_6687.pdf"]
[801,"P306119093128","平行四边形的面积","小学组","新媒体新技术教学应用课例","三等奖",{"$f":"RIGHT(LEFT(VLOOKUP(B803,'[1]002'!B:M,3,0),7),3)","v":"广州市"},{"$f":"VLOOKUP(B803,'[1]002'!B:M,7,0)","v":"郑光英"},{"$f":"VLOOKUP(B803,'[1]002'!B:M,8,0)","v":"广州市越秀区东风东路小学"},{"$f":"VLOOKUP(B803,'[1]002'!B:M,11,0)","v":"-"},{"$f":"VLOOKUP(B803,'[1]002'!B:M,12,0)","v":"-"},{"$f":"VLOOKUP(B803,[2]sheet2!B:L,10,0)","v":"-"},{"$f":"VLOOKUP(B803,[2]sheet2!B:L,11,0)","v":"-"},"http://183.62.54.51:8841/data/files/certificate/000000000439/3a40000f5eda48f891b43ec486b48c78/signed/801_郑光英_三等奖_6688.pdf"]
[802,"P306119093116","《揭秘--陀螺》方法指导课","小学组","新媒体新技术教学应用课例","三等奖",{"$f":"RIGHT(LEFT(VLOOKUP(B804,'[1]002'!B:M,3,0),7),3)","v":"广州市"},{"$f":"VLOOKUP(B804,'[1]002'!B:M,7,0)","v":"林思敏"},{"$f":"VLOOKUP(B804,'[1]002'!B:M,8,0)","v":"广州市番禺区沙湾镇兴贤小学"},{"$f":"VLOOKUP(B804,'[1]002'!B:M,11,0)","v":"-"},{"$f":"VLOOKUP(B804,'[1]002'!B:M,12,0)","v":"-"},{"$f":"VLOOKUP(B804,[2]sheet2!B:L,10,0)","v":"-"},{"$f":"VLOOKUP(B804,[2]sheet2!B:L,11,0)","v":"-"},"http://183.62.54.51:8841/data/files/certificate/000000000439/d29eb53a30d24f96a8c321befeed27e9/signed/802_林思敏_三等奖_6689.pdf"]
[803,"P306119093112","民风民俗习作讲评","小学组","新媒体新技术教学应用课例","三等奖",{"$f":"RIGHT(LEFT(VLOOKUP(B805,'[1]002'!B:M,3,0),7),3)","v":"广州市"},{"$f":"VLOOKUP(B805,'[1]002'!B:M,7,0)","v":"黄文娟"},{"$f":"VLOOKUP(B805,'[1]002'!B:M,8,0)","v":"广州市荔湾区南塘大街小学"},{"$f":"VLOOKUP(B805,'[1]002'!B:M,11,0)","v":"-"},{"$f":"VLOOKUP(B805,'[1]002'!B:M,12,0)","v":"-"},{"$f":"VLOOKUP(B805,[2]sheet2!B:L,10,0)","v":"-"},{"$f":"VLOOKUP(B805,[2]sheet2!B:L,11,0)","v":"-"},"http://183.62.54.51:8841/data/files/certificate/000000000439/7025acf5f1b745098aab59bb83ae4078/signed/803_黄文娟_三等奖_6690.pdf"]
[804,"P306119093121","Unit 10 I am very fast","小学组","新媒体新技术教学应用课例","三等奖",{"$f":"RIGHT(LEFT(VLOOKUP(B806,'[1]002'!B:M,3,0),7),3)","v":"广州市"},{"$f":"VLOOKUP(B806,'[1]002'!B:M,7,0)","v":"谢倩韫"},{"$f":"VLOOKUP(B806,'[1]002'!B:M,8,0)","v":"广州市越秀区署前路小学"},{"$f":"VLOOKUP(B806,'[1]002'!B:M,11,0)","v":"-"},{"$f":"VLOOKUP(B806,'[1]002'!B:M,12,0)","v":"-"},{"$f":"VLOOKUP(B806,[2]sheet2!B:L,10,0)","v":"-"},{"$f":"VLOOKUP(B806,[2]sheet2!B:L,11,0)","v":"-"},"http://183.62.54.51:8841/data/files/certificate/000000000439/2e7e5ba7d1534d96905e684a87347c2a/signed/804_谢倩韫_三等奖_6691.pdf"]
[805,"P306119093127","剪出缤纷的生活","小学组","新媒体新技术教学应用课例","三等奖",{"$f":"RIGHT(LEFT(VLOOKUP(B807,'[1]002'!B:M,3,0),7),3)","v":"广州市"},{"$f":"VLOOKUP(B807,'[1]002'!B:M,7,0)","v":"崔青"},{"$f":"VLOOKUP(B807,'[1]002'!B:M,8,0)","v":"华南理工大学附属实验学校"},{"$f":"VLOOKUP(B807,'[1]002'!B:M,11,0)","v":"-"},{"$f":"VLOOKUP(B807,'[1]002'!B:M,12,0)","v":"-"},{"$f":"VLOOKUP(B807,[2]sheet2!B:L,10,0)","v":"-"},{"$f":"VLOOKUP(B807,[2]sheet2!B:L,11,0)","v":"-"},"http://183.62.54.51:8841/data/files/certificate/000000000439/90171066a0a44f1ab9839dac7ba9c5ec/signed/805_崔青_三等奖_6692.pdf"]
[806,"P306119093120","《Module4 My Class 拓展阅读课》","小学组","新媒体新技术教学应用课例","三等奖",{"$f":"RIGHT(LEFT(VLOOKUP(B808,'[1]002'!B:M,3,0),7),3)","v":"广州市"},{"$f":"VLOOKUP(B808,'[1]002'!B:M,7,0)","v":"罗思茹"},{"$f":"VLOOKUP(B808,'[1]002'!B:M,8,0)","v":"广州市越秀区署前路小学"},{"$f":"VLOOKUP(B808,'[1]002'!B:M,11,0)","v":"-"},{"$f":"VLOOKUP(B808,'[1]002'!B:M,12,0)","v":"-"},{"$f":"VLOOKUP(B808,[2]sheet2!B:L,10,0)","v":"-"},{"$f":"VLOOKUP(B808,[2]sheet2!B:L,11,0)","v":"-"},"http://183.62.54.51:8841/data/files/certificate/000000000439/6edbe9d07a81400ebb5ea4c0025c4a25/signed/806_罗思茹_三等奖_6693.pdf"]
[807,"P306119092624","自己的花是让别人看的","小学组","新媒体新技术教学应用课例","三等奖",{"$f":"RIGHT(LEFT(VLOOKUP(B809,'[1]002'!B:M,3,0),7),3)","v":"深圳市"},{"$f":"VLOOKUP(B809,'[1]002'!B:M,7,0)","v":"彭丽婷"},{"$f":"VLOOKUP(B809,'[1]002'!B:M,8,0)","v":"深圳市龙华区龙华中心小学"},{"$f":"VLOOKUP(B809,'[1]002'!B:M,11,0)","v":"-"},{"$f":"VLOOKUP(B809,'[1]002'!B:M,12,0)","v":"-"},{"$f":"VLOOKUP(B809,[2]sheet2!B:L,10,0)","v":"-"},{"$f":"VLOOKUP(B809,[2]sheet2!B:L,11,0)","v":"-"},"http://183.62.54.51:8841/data/files/certificate/000000000439/f45f9ca39f4b4b919e4c10f53cc242fe/signed/807_彭丽婷_三等奖_6694.pdf"]
[808,"P306119092620","面的旋转","小学组","新媒体新技术教学应用课例","三等奖",{"$f":"RIGHT(LEFT(VLOOKUP(B810,'[1]002'!B:M,3,0),7),3)","v":"深圳市"},{"$f":"VLOOKUP(B810,'[1]002'!B:M,7,0)","v":"刘慧"},{"$f":"VLOOKUP(B810,'[1]002'!B:M,8,0)","v":"新安街道宝民小学"},{"$f":"VLOOKUP(B810,'[1]002'!B:M,11,0)","v":"-"},{"$f":"VLOOKUP(B810,'[1]002'!B:M,12,0)","v":"-"},{"$f":"VLOOKUP(B810,[2]sheet2!B:L,10,0)","v":"-"},{"$f":"VLOOKUP(B810,[2]sheet2!B:L,11,0)","v":"-"},"http://183.62.54.51:8841/data/files/certificate/000000000439/5e53bf8b0e794505ad836c63498b649c/signed/808_刘慧_三等奖_6695.pdf"]
[809,"P306119092617","开平碉楼","小学组","新媒体新技术教学应用课例","三等奖",{"$f":"RIGHT(LEFT(VLOOKUP(B811,'[1]002'!B:M,3,0),7),3)","v":"深圳市"},{"$f":"VLOOKUP(B811,'[1]002'!B:M,7,0)","v":"黄颖"},{"$f":"VLOOKUP(B811,'[1]002'!B:M,8,0)","v":"深圳市光明区光明小学"},{"$f":"VLOOKUP(B811,'[1]002'!B:M,11,0)","v":"刘芳霞"},{"$f":"VLOOKUP(B811,'[1]002'!B:M,12,0)","v":"深圳市光明区光明小学"},{"$f":"VLOOKUP(B811,[2]sheet2!B:L,10,0)","v":"-"},{"$f":"VLOOKUP(B811,[2]sheet2!B:L,11,0)","v":"-"},"http://183.62.54.51:8841/data/files/certificate/000000000439/e4f18f3fe32e49bcaa1a5270c104188e/signed/809_黄颖、刘芳霞_三等奖_6696.pdf"]
[810,"P306119092626","My Story","小学组","新媒体新技术教学应用课例","三等奖",{"$f":"RIGHT(LEFT(VLOOKUP(B812,'[1]002'!B:M,3,0),7),3)","v":"深圳市"},{"$f":"VLOOKUP(B812,'[1]002'!B:M,7,0)","v":"黄小梅"},{"$f":"VLOOKUP(B812,'[1]002'!B:M,8,0)","v":"深圳市螺岭外国语实验学校"},{"$f":"VLOOKUP(B812,'[1]002'!B:M,11,0)","v":"-"},{"$f":"VLOOKUP(B812,'[1]002'!B:M,12,0)","v":"-"},{"$f":"VLOOKUP(B812,[2]sheet2!B:L,10,0)","v":"-"},{"$f":"VLOOKUP(B812,[2]sheet2!B:L,11,0)","v":"-"},"http://183.62.54.51:8841/data/files/certificate/000000000439/4c63eb7e50db4c50b19b48ef4e9e58d0/signed/810_黄小梅_三等奖_6697.pdf"]
[811,"P306119092630","陶罐和铁罐 · 信息技术与iPad终端支持下的语文读写教学","小学组","新媒体新技术教学应用课例","三等奖",{"$f":"RIGHT(LEFT(VLOOKUP(B813,'[1]002'!B:M,3,0),7),3)","v":"深圳市"},{"$f":"VLOOKUP(B813,'[1]002'!B:M,7,0)","v":"朱思思"},{"$f":"VLOOKUP(B813,'[1]002'!B:M,8,0)","v":"深圳市南山区南方科技大学第二实验小学"},{"$f":"VLOOKUP(B813,'[1]002'!B:M,11,0)","v":"-"},{"$f":"VLOOKUP(B813,'[1]002'!B:M,12,0)","v":"-"},{"$f":"VLOOKUP(B813,[2]sheet2!B:L,10,0)","v":"-"},{"$f":"VLOOKUP(B813,[2]sheet2!B:L,11,0)","v":"-"},"http://183.62.54.51:8841/data/files/certificate/000000000439/58d7d43221a24a25bbe9e5faee6f900d/signed/811_朱思思_三等奖_6698.pdf"]
[812,"P306119092631","Unit 8 Days of the week","小学组","新媒体新技术教学应用课例","三等奖",{"$f":"RIGHT(LEFT(VLOOKUP(B814,'[1]002'!B:M,3,0),7),3)","v":"深圳市"},{"$f":"VLOOKUP(B814,'[1]002'!B:M,7,0)","v":"陈静"},{"$f":"VLOOKUP(B814,'[1]002'!B:M,8,0)","v":"深圳市锦田小学"},{"$f":"VLOOKUP(B814,'[1]002'!B:M,11,0)","v":"-"},{"$f":"VLOOKUP(B814,'[1]002'!B:M,12,0)","v":"-"},{"$f":"VLOOKUP(B814,[2]sheet2!B:L,10,0)","v":"-"},{"$f":"VLOOKUP(B814,[2]sheet2!B:L,11,0)","v":"-"},"http://183.62.54.51:8841/data/files/certificate/000000000439/1cca7d6813eb432b8d30588b51648f85/signed/812_陈静_三等奖_6699.pdf"]
[813,"P306119092629","手指","小学组","新媒体新技术教学应用课例","三等奖",{"$f":"RIGHT(LEFT(VLOOKUP(B815,'[1]002'!B:M,3,0),7),3)","v":"深圳市"},{"$f":"VLOOKUP(B815,'[1]002'!B:M,7,0)","v":"林源芳"},{"$f":"VLOOKUP(B815,'[1]002'!B:M,8,0)","v":"深圳市布心小学"},{"$f":"VLOOKUP(B815,'[1]002'!B:M,11,0)","v":"-"},{"$f":"VLOOKUP(B815,'[1]002'!B:M,12,0)","v":"-"},{"$f":"VLOOKUP(B815,[2]sheet2!B:L,10,0)","v":"-"},{"$f":"VLOOKUP(B815,[2]sheet2!B:L,11,0)","v":"-"},"http://183.62.54.51:8841/data/files/certificate/000000000439/7de85ac6a57c4d12a764694784f2389d/signed/813_林源芳_三等奖_6700.pdf"]
[814,"P306119092627","Unit11 Small animals","小学组","新媒体新技术教学应用课例","三等奖",{"$f":"RIGHT(LEFT(VLOOKUP(B816,'[1]002'!B:M,3,0),7),3)","v":"深圳市"},{"$f":"VLOOKUP(B816,'[1]002'!B:M,7,0)","v":"陈春红"},{"$f":"VLOOKUP(B816,'[1]002'!B:M,8,0)","v":"深圳市南山区沙河小学"},{"$f":"VLOOKUP(B816,'[1]002'!B:M,11,0)","v":"俞旭健"},{"$f":"VLOOKUP(B816,'[1]002'!B:M,12,0)","v":"深圳市南山区沙河小学"},{"$f":"VLOOKUP(B816,[2]sheet2!B:L,10,0)","v":"王奕奕"},{"$f":"VLOOKUP(B816,[2]sheet2!B:L,11,0)","v":"宝安区福永中学"},"http://183.62.54.51:8841/data/files/certificate/000000000439/a4ff71110791402ea27b5bec10dc8cba/signed/814_陈春红、俞旭健、王奕奕_三等奖_6701.pdf"]
[815,"P306119092613","鸽巢问题","小学组","新媒体新技术教学应用课例","三等奖",{"$f":"RIGHT(LEFT(VLOOKUP(B817,'[1]002'!B:M,3,0),7),3)","v":"珠海市"},{"$f":"VLOOKUP(B817,'[1]002'!B:M,7,0)","v":"郭林飞"},{"$f":"VLOOKUP(B817,'[1]002'!B:M,8,0)","v":"珠海市金湾区第一小学"},{"$f":"VLOOKUP(B817,'[1]002'!B:M,11,0)","v":"-"},{"$f":"VLOOKUP(B817,'[1]002'!B:M,12,0)","v":"-"},{"$f":"VLOOKUP(B817,[2]sheet2!B:L,10,0)","v":"-"},{"$f":"VLOOKUP(B817,[2]sheet2!B:L,11,0)","v":"-"},"http://183.62.54.51:8841/data/files/certificate/000000000439/aa450f2bf07e4d26ac98fc3eda4fffa7/signed/815_郭林飞_三等奖_6702.pdf"]
[816,"P306119079415","各种各样的花","小学组","新媒体新技术教学应用课例","三等奖",{"$f":"RIGHT(LEFT(VLOOKUP(B818,'[1]002'!B:M,3,0),7),3)","v":"珠海市"},{"$f":"VLOOKUP(B818,'[1]002'!B:M,7,0)","v":"张文君"},{"$f":"VLOOKUP(B818,'[1]002'!B:M,8,0)","v":"珠海市三灶镇鱼林小学"},{"$f":"VLOOKUP(B818,'[1]002'!B:M,11,0)","v":"-"},{"$f":"VLOOKUP(B818,'[1]002'!B:M,12,0)","v":"-"},{"$f":"VLOOKUP(B818,[2]sheet2!B:L,10,0)","v":"-"},{"$f":"VLOOKUP(B818,[2]sheet2!B:L,11,0)","v":"-"},"http://183.62.54.51:8841/data/files/certificate/000000000439/2c2138ce5bf244588230838e4f7fa0e1/signed/816_张文君_三等奖_6703.pdf"]
[817,"P306119087284","Unit 2 整合复习课","小学组","新媒体新技术教学应用课例","三等奖",{"$f":"RIGHT(LEFT(VLOOKUP(B819,'[1]002'!B:M,3,0),7),3)","v":"珠海市"},{"$f":"VLOOKUP(B819,'[1]002'!B:M,7,0)","v":"梁玉霞"},{"$f":"VLOOKUP(B819,'[1]002'!B:M,8,0)","v":"珠海市金湾区第一小学"},{"$f":"VLOOKUP(B819,'[1]002'!B:M,11,0)","v":"-"},{"$f":"VLOOKUP(B819,'[1]002'!B:M,12,0)","v":"-"},{"$f":"VLOOKUP(B819,[2]sheet2!B:L,10,0)","v":"-"},{"$f":"VLOOKUP(B819,[2]sheet2!B:L,11,0)","v":"-"},"http://183.62.54.51:8841/data/files/certificate/000000000439/49f8be76554f470f9a2729e479ec2d5b/signed/817_梁玉霞_三等奖_6704.pdf"]
[818,"P306119091990","探究方与圆的关系","小学组","新媒体新技术教学应用课例","三等奖",{"$f":"RIGHT(LEFT(VLOOKUP(B820,'[1]002'!B:M,3,0),7),3)","v":"汕头市"},{"$f":"VLOOKUP(B820,'[1]002'!B:M,7,0)","v":"陈卓锋"},{"$f":"VLOOKUP(B820,'[1]002'!B:M,8,0)","v":"汕头市澄海汇璟实验小学"},{"$f":"VLOOKUP(B820,'[1]002'!B:M,11,0)","v":"-"},{"$f":"VLOOKUP(B820,'[1]002'!B:M,12,0)","v":"-"},{"$f":"VLOOKUP(B820,[2]sheet2!B:L,10,0)","v":"-"},{"$f":"VLOOKUP(B820,[2]sheet2!B:L,11,0)","v":"-"},"http://183.62.54.51:8841/data/files/certificate/000000000439/11f3f1926bb842a094f5661f2289a9b9/signed/818_陈卓锋_三等奖_6705.pdf"]
[819,"P306119091988","比的意义","小学组","新媒体新技术教学应用课例","三等奖",{"$f":"RIGHT(LEFT(VLOOKUP(B821,'[1]002'!B:M,3,0),7),3)","v":"汕头市"},{"$f":"VLOOKUP(B821,'[1]002'!B:M,7,0)","v":"林淑明"},{"$f":"VLOOKUP(B821,'[1]002'!B:M,8,0)","v":"汕头市澄海城南小学"},{"$f":"VLOOKUP(B821,'[1]002'!B:M,11,0)","v":"-"},{"$f":"VLOOKUP(B821,'[1]002'!B:M,12,0)","v":"-"},{"$f":"VLOOKUP(B821,[2]sheet2!B:L,10,0)","v":"-"},{"$f":"VLOOKUP(B821,[2]sheet2!B:L,11,0)","v":"-"},"http://183.62.54.51:8841/data/files/certificate/000000000439/9a1c140b4a014fb19e5660337cb8adc2/signed/819_林淑明_三等奖_6706.pdf"]
[820,"P306119091993","认识梯形","小学组","新媒体新技术教学应用课例","三等奖",{"$f":"RIGHT(LEFT(VLOOKUP(B822,'[1]002'!B:M,3,0),7),3)","v":"汕头市"},{"$f":"VLOOKUP(B822,'[1]002'!B:M,7,0)","v":"黄文婷"},{"$f":"VLOOKUP(B822,'[1]002'!B:M,8,0)","v":"汕头市澄海广益小学"},{"$f":"VLOOKUP(B822,'[1]002'!B:M,11,0)","v":"-"},{"$f":"VLOOKUP(B822,'[1]002'!B:M,12,0)","v":"-"},{"$f":"VLOOKUP(B822,[2]sheet2!B:L,10,0)","v":"-"},{"$f":"VLOOKUP(B822,[2]sheet2!B:L,11,0)","v":"-"},"http://183.62.54.51:8841/data/files/certificate/000000000439/8789b65c91034923928b1e8cb9fdeb14/signed/820_黄文婷_三等奖_6707.pdf"]
[821,"P306119091989","长方体和正方体的体积","小学组","新媒体新技术教学应用课例","三等奖",{"$f":"RIGHT(LEFT(VLOOKUP(B823,'[1]002'!B:M,3,0),7),3)","v":"汕头市"},{"$f":"VLOOKUP(B823,'[1]002'!B:M,7,0)","v":"陈韩芸"},{"$f":"VLOOKUP(B823,'[1]002'!B:M,8,0)","v":"汕头市澄海汇璟实验小学"},{"$f":"VLOOKUP(B823,'[1]002'!B:M,11,0)","v":"-"},{"$f":"VLOOKUP(B823,'[1]002'!B:M,12,0)","v":"-"},{"$f":"VLOOKUP(B823,[2]sheet2!B:L,10,0)","v":"-"},{"$f":"VLOOKUP(B823,[2]sheet2!B:L,11,0)","v":"-"},"http://183.62.54.51:8841/data/files/certificate/000000000439/cd79e469083f4e1aa5d2109ce4955dea/signed/821_陈韩芸_三等奖_6708.pdf"]
[822,"P306119091992","有余数的除法","小学组","新媒体新技术教学应用课例","三等奖",{"$f":"RIGHT(LEFT(VLOOKUP(B824,'[1]002'!B:M,3,0),7),3)","v":"汕头市"},{"$f":"VLOOKUP(B824,'[1]002'!B:M,7,0)","v":"郑冬纯"},{"$f":"VLOOKUP(B824,'[1]002'!B:M,8,0)","v":"汕头市澄海广益小学"},{"$f":"VLOOKUP(B824,'[1]002'!B:M,11,0)","v":"-"},{"$f":"VLOOKUP(B824,'[1]002'!B:M,12,0)","v":"-"},{"$f":"VLOOKUP(B824,[2]sheet2!B:L,10,0)","v":"-"},{"$f":"VLOOKUP(B824,[2]sheet2!B:L,11,0)","v":"-"},"http://183.62.54.51:8841/data/files/certificate/000000000439/d9edc9f5fbec43feb3924d242c8406a3/signed/822_郑冬纯_三等奖_6709.pdf"]
[823,"P306119091986","圆锥的体积","小学组","新媒体新技术教学应用课例","三等奖",{"$f":"RIGHT(LEFT(VLOOKUP(B825,'[1]002'!B:M,3,0),7),3)","v":"汕头市"},{"$f":"VLOOKUP(B825,'[1]002'!B:M,7,0)","v":"蔡晓纯"},{"$f":"VLOOKUP(B825,'[1]002'!B:M,8,0)","v":"汕头市澄海岭亭小学"},{"$f":"VLOOKUP(B825,'[1]002'!B:M,11,0)","v":"-"},{"$f":"VLOOKUP(B825,'[1]002'!B:M,12,0)","v":"-"},{"$f":"VLOOKUP(B825,[2]sheet2!B:L,10,0)","v":"-"},{"$f":"VLOOKUP(B825,[2]sheet2!B:L,11,0)","v":"-"},"http://183.62.54.51:8841/data/files/certificate/000000000439/b40af7a073094f2cbad39f0ed12cf15c/signed/823_蔡晓纯_三等奖_6710.pdf"]
[824,"P306119091995","100以内数的读写","小学组","新媒体新技术教学应用课例","三等奖",{"$f":"RIGHT(LEFT(VLOOKUP(B826,'[1]002'!B:M,3,0),7),3)","v":"汕头市"},{"$f":"VLOOKUP(B826,'[1]002'!B:M,7,0)","v":"黄少娜"},{"$f":"VLOOKUP(B826,'[1]002'!B:M,8,0)","v":"汕头市澄海实验高级中学"},{"$f":"VLOOKUP(B826,'[1]002'!B:M,11,0)","v":"-"},{"$f":"VLOOKUP(B826,'[1]002'!B:M,12,0)","v":"-"},{"$f":"VLOOKUP(B826,[2]sheet2!B:L,10,0)","v":"-"},{"$f":"VLOOKUP(B826,[2]sheet2!B:L,11,0)","v":"-"},"http://183.62.54.51:8841/data/files/certificate/000000000439/64656bf0b41d4cf9b334631b100eb15f/signed/824_黄少娜_三等奖_6711.pdf"]
[825,"P306119091994","长方体和正方体的体积计算公式","小学组","新媒体新技术教学应用课例","三等奖",{"$f":"RIGHT(LEFT(VLOOKUP(B827,'[1]002'!B:M,3,0),7),3)","v":"汕头市"},{"$f":"VLOOKUP(B827,'[1]002'!B:M,7,0)","v":"蔡逸榆"},{"$f":"VLOOKUP(B827,'[1]002'!B:M,8,0)","v":"汕头市澄海澄华小学"},{"$f":"VLOOKUP(B827,'[1]002'!B:M,11,0)","v":"王燕娜"},{"$f":"VLOOKUP(B827,'[1]002'!B:M,12,0)","v":"汕头市澄海澄华小学"},{"$f":"VLOOKUP(B827,[2]sheet2!B:L,10,0)","v":"-"},{"$f":"VLOOKUP(B827,[2]sheet2!B:L,11,0)","v":"-"},"http://183.62.54.51:8841/data/files/certificate/000000000439/2b2c69352e594b5cac29ad647f3a65b2/signed/825_蔡逸榆、王燕娜_三等奖_6712.pdf"]
[826,"P306119090730","谁和谁好","小学组","新媒体新技术教学应用课例","三等奖",{"$f":"RIGHT(LEFT(VLOOKUP(B828,'[1]002'!B:M,3,0),7),3)","v":"佛山市"},{"$f":"VLOOKUP(B828,'[1]002'!B:M,7,0)","v":"曾彩华"},{"$f":"VLOOKUP(B828,'[1]002'!B:M,8,0)","v":"佛山市高明区沧江中学附属小学"},{"$f":"VLOOKUP(B828,'[1]002'!B:M,11,0)","v":"-"},{"$f":"VLOOKUP(B828,'[1]002'!B:M,12,0)","v":"-"},{"$f":"VLOOKUP(B828,[2]sheet2!B:L,10,0)","v":"-"},{"$f":"VLOOKUP(B828,[2]sheet2!B:L,11,0)","v":"-"},"http://183.62.54.51:8841/data/files/certificate/000000000439/41aac48e06df43a5ae76d6b91425362b/signed/826_曾彩华_三等奖_6713.pdf"]
[827,"P306119090761","彩色的梦","小学组","新媒体新技术教学应用课例","三等奖",{"$f":"RIGHT(LEFT(VLOOKUP(B829,'[1]002'!B:M,3,0),7),3)","v":"佛山市"},{"$f":"VLOOKUP(B829,'[1]002'!B:M,7,0)","v":"梁秋达"},{"$f":"VLOOKUP(B829,'[1]002'!B:M,8,0)","v":"佛山市顺德区龙江城区中心小学"},{"$f":"VLOOKUP(B829,'[1]002'!B:M,11,0)","v":"-"},{"$f":"VLOOKUP(B829,'[1]002'!B:M,12,0)","v":"-"},{"$f":"VLOOKUP(B829,[2]sheet2!B:L,10,0)","v":"-"},{"$f":"VLOOKUP(B829,[2]sheet2!B:L,11,0)","v":"-"},"http://183.62.54.51:8841/data/files/certificate/000000000439/bb7380fb870c4e16aa9b99d8a684a1b4/signed/827_梁秋达_三等奖_6714.pdf"]
[828,"P306119090776","圆圆被抢劫了","小学组","新媒体新技术教学应用课例","三等奖",{"$f":"RIGHT(LEFT(VLOOKUP(B830,'[1]002'!B:M,3,0),7),3)","v":"佛山市"},{"$f":"VLOOKUP(B830,'[1]002'!B:M,7,0)","v":"朱月月"},{"$f":"VLOOKUP(B830,'[1]002'!B:M,8,0)","v":"佛山市顺德德胜小学"},{"$f":"VLOOKUP(B830,'[1]002'!B:M,11,0)","v":"-"},{"$f":"VLOOKUP(B830,'[1]002'!B:M,12,0)","v":"-"},{"$f":"VLOOKUP(B830,[2]sheet2!B:L,10,0)","v":"-"},{"$f":"VLOOKUP(B830,[2]sheet2!B:L,11,0)","v":"-"},"http://183.62.54.51:8841/data/files/certificate/000000000439/129c9d8ee8e9460db9798ae83617bb83/signed/828_朱月月_三等奖_6715.pdf"]
[829,"P306119090769","万花筒","小学组","新媒体新技术教学应用课例","三等奖",{"$f":"RIGHT(LEFT(VLOOKUP(B831,'[1]002'!B:M,3,0),7),3)","v":"佛山市"},{"$f":"VLOOKUP(B831,'[1]002'!B:M,7,0)","v":"张兴贵"},{"$f":"VLOOKUP(B831,'[1]002'!B:M,8,0)","v":"佛山市顺德区北滘高村小学"},{"$f":"VLOOKUP(B831,'[1]002'!B:M,11,0)","v":"李瑞娇"},{"$f":"VLOOKUP(B831,'[1]002'!B:M,12,0)","v":"佛山市顺德区北滘高村小学"},{"$f":"VLOOKUP(B831,[2]sheet2!B:L,10,0)","v":"-"},{"$f":"VLOOKUP(B831,[2]sheet2!B:L,11,0)","v":"-"},"http://183.62.54.51:8841/data/files/certificate/000000000439/82ba79871b9743bea06a641112176075/signed/829_张兴贵、李瑞娇_三等奖_6716.pdf"]
[830,"P306119090762","接苹果","小学组","新媒体新技术教学应用课例","三等奖",{"$f":"RIGHT(LEFT(VLOOKUP(B832,'[1]002'!B:M,3,0),7),3)","v":"佛山市"},{"$f":"VLOOKUP(B832,'[1]002'!B:M,7,0)","v":"崔伟锋"},{"$f":"VLOOKUP(B832,'[1]002'!B:M,8,0)","v":"佛山市顺德区勒流育贤实验学校小学部"},{"$f":"VLOOKUP(B832,'[1]002'!B:M,11,0)","v":"-"},{"$f":"VLOOKUP(B832,'[1]002'!B:M,12,0)","v":"-"},{"$f":"VLOOKUP(B832,[2]sheet2!B:L,10,0)","v":"-"},{"$f":"VLOOKUP(B832,[2]sheet2!B:L,11,0)","v":"-"},"http://183.62.54.51:8841/data/files/certificate/000000000439/e8773b7c1ab047ffbecbc020322fa53b/signed/830_崔伟锋_三等奖_6717.pdf"]
[831,"P306119090771","红包滚滚来Scratch编程游戏制作","小学组","新媒体新技术教学应用课例","三等奖",{"$f":"RIGHT(LEFT(VLOOKUP(B833,'[1]002'!B:M,3,0),7),3)","v":"佛山市"},{"$f":"VLOOKUP(B833,'[1]002'!B:M,7,0)","v":"陈金宇"},{"$f":"VLOOKUP(B833,'[1]002'!B:M,8,0)","v":"佛山市顺德区李介甫小学"},{"$f":"VLOOKUP(B833,'[1]002'!B:M,11,0)","v":"-"},{"$f":"VLOOKUP(B833,'[1]002'!B:M,12,0)","v":"-"},{"$f":"VLOOKUP(B833,[2]sheet2!B:L,10,0)","v":"-"},{"$f":"VLOOKUP(B833,[2]sheet2!B:L,11,0)","v":"-"},"http://183.62.54.51:8841/data/files/certificate/000000000439/a5aa9cc759794af68a7bc762a01e0734/signed/831_陈金宇_三等奖_6718.pdf"]
[832,"P306119090747","找规律","小学组","新媒体新技术教学应用课例","三等奖",{"$f":"RIGHT(LEFT(VLOOKUP(B834,'[1]002'!B:M,3,0),7),3)","v":"佛山市"},{"$f":"VLOOKUP(B834,'[1]002'!B:M,7,0)","v":"吴艳艳"},{"$f":"VLOOKUP(B834,'[1]002'!B:M,8,0)","v":"佛山市南海区桂城街道桂江小学"},{"$f":"VLOOKUP(B834,'[1]002'!B:M,11,0)","v":"-"},{"$f":"VLOOKUP(B834,'[1]002'!B:M,12,0)","v":"-"},{"$f":"VLOOKUP(B834,[2]sheet2!B:L,10,0)","v":"-"},{"$f":"VLOOKUP(B834,[2]sheet2!B:L,11,0)","v":"-"},"http://183.62.54.51:8841/data/files/certificate/000000000439/c89433ea75b34a30950b00d8c1adee7a/signed/832_吴艳艳_三等奖_6719.pdf"]
[833,"P306119090748","棉花姑娘","小学组","新媒体新技术教学应用课例","三等奖",{"$f":"RIGHT(LEFT(VLOOKUP(B835,'[1]002'!B:M,3,0),7),3)","v":"佛山市"},{"$f":"VLOOKUP(B835,'[1]002'!B:M,7,0)","v":"邓金清"},{"$f":"VLOOKUP(B835,'[1]002'!B:M,8,0)","v":"佛山市南海区丹灶镇罗行小学"},{"$f":"VLOOKUP(B835,'[1]002'!B:M,11,0)","v":"-"},{"$f":"VLOOKUP(B835,'[1]002'!B:M,12,0)","v":"-"},{"$f":"VLOOKUP(B835,[2]sheet2!B:L,10,0)","v":"-"},{"$f":"VLOOKUP(B835,[2]sheet2!B:L,11,0)","v":"-"},"http://183.62.54.51:8841/data/files/certificate/000000000439/ba870d10181848e5a529f9d2514652a8/signed/833_邓金清_三等奖_6720.pdf"]
[834,"P306119090770","鹿角和鹿腿","小学组","新媒体新技术教学应用课例","三等奖",{"$f":"RIGHT(LEFT(VLOOKUP(B836,'[1]002'!B:M,3,0),7),3)","v":"佛山市"},{"$f":"VLOOKUP(B836,'[1]002'!B:M,7,0)","v":"黄静"},{"$f":"VLOOKUP(B836,'[1]002'!B:M,8,0)","v":"佛山市顺德区大良实验小学"},{"$f":"VLOOKUP(B836,'[1]002'!B:M,11,0)","v":"张敬强"},{"$f":"VLOOKUP(B836,'[1]002'!B:M,12,0)","v":"佛山市顺德区大良实验小学"},{"$f":"VLOOKUP(B836,[2]sheet2!B:L,10,0)","v":"-"},{"$f":"VLOOKUP(B836,[2]sheet2!B:L,11,0)","v":"-"},"http://183.62.54.51:8841/data/files/certificate/000000000439/409ac4713c0749b5af83915b0824b520/signed/834_黄静、张敬强_三等奖_6721.pdf"]
[835,"P306119090772","慈母情深","小学组","新媒体新技术教学应用课例","三等奖",{"$f":"RIGHT(LEFT(VLOOKUP(B837,'[1]002'!B:M,3,0),7),3)","v":"佛山市"},{"$f":"VLOOKUP(B837,'[1]002'!B:M,7,0)","v":"郭武松"},{"$f":"VLOOKUP(B837,'[1]002'!B:M,8,0)","v":"佛山市顺德区大良实验小学"},{"$f":"VLOOKUP(B837,'[1]002'!B:M,11,0)","v":"沈国华"},{"$f":"VLOOKUP(B837,'[1]002'!B:M,12,0)","v":"佛山市顺德区大良实验小学"},{"$f":"VLOOKUP(B837,[2]sheet2!B:L,10,0)","v":"-"},{"$f":"VLOOKUP(B837,[2]sheet2!B:L,11,0)","v":"-"},"http://183.62.54.51:8841/data/files/certificate/000000000439/faeb0d3090e14ca8b3ced30d493786f6/signed/835_郭武松、沈国华_三等奖_6722.pdf"]
[836,"P306119090775","威尼斯的小艇","小学组","新媒体新技术教学应用课例","三等奖",{"$f":"RIGHT(LEFT(VLOOKUP(B838,'[1]002'!B:M,3,0),7),3)","v":"佛山市"},{"$f":"VLOOKUP(B838,'[1]002'!B:M,7,0)","v":"苏倩兴"},{"$f":"VLOOKUP(B838,'[1]002'!B:M,8,0)","v":"佛山市顺德区北滘高村小学"},{"$f":"VLOOKUP(B838,'[1]002'!B:M,11,0)","v":"-"},{"$f":"VLOOKUP(B838,'[1]002'!B:M,12,0)","v":"-"},{"$f":"VLOOKUP(B838,[2]sheet2!B:L,10,0)","v":"-"},{"$f":"VLOOKUP(B838,[2]sheet2!B:L,11,0)","v":"-"},"http://183.62.54.51:8841/data/files/certificate/000000000439/4a98ef6085984528b5aa0319b7bfdb1e/signed/836_苏倩兴_三等奖_6723.pdf"]
[837,"P306119090731","邮票中的数学问题","小学组","新媒体新技术教学应用课例","三等奖",{"$f":"RIGHT(LEFT(VLOOKUP(B839,'[1]002'!B:M,3,0),7),3)","v":"佛山市"},{"$f":"VLOOKUP(B839,'[1]002'!B:M,7,0)","v":"罗允仪"},{"$f":"VLOOKUP(B839,'[1]002'!B:M,8,0)","v":"佛山市高明区荷城街道德信实验学校"},{"$f":"VLOOKUP(B839,'[1]002'!B:M,11,0)","v":"-"},{"$f":"VLOOKUP(B839,'[1]002'!B:M,12,0)","v":"-"},{"$f":"VLOOKUP(B839,[2]sheet2!B:L,10,0)","v":"-"},{"$f":"VLOOKUP(B839,[2]sheet2!B:L,11,0)","v":"-"},"http://183.62.54.51:8841/data/files/certificate/000000000439/66c682c64e014bbbbfa57a1adb145234/signed/837_罗允仪_三等奖_6724.pdf"]
[838,"P306119090750","与众乐乐","小学组","新媒体新技术教学应用课例","三等奖",{"$f":"RIGHT(LEFT(VLOOKUP(B840,'[1]002'!B:M,3,0),7),3)","v":"佛山市"},{"$f":"VLOOKUP(B840,'[1]002'!B:M,7,0)","v":"陆嘉琳"},{"$f":"VLOOKUP(B840,'[1]002'!B:M,8,0)","v":"佛山市城南小学"},{"$f":"VLOOKUP(B840,'[1]002'!B:M,11,0)","v":"-"},{"$f":"VLOOKUP(B840,'[1]002'!B:M,12,0)","v":"-"},{"$f":"VLOOKUP(B840,[2]sheet2!B:L,10,0)","v":"-"},{"$f":"VLOOKUP(B840,[2]sheet2!B:L,11,0)","v":"-"},"http://183.62.54.51:8841/data/files/certificate/000000000439/006211c19f6142089c2b12a23e5bf2d7/signed/838_陆嘉琳_三等奖_6725.pdf"]
[839,"P306119090763","Unit_4_At_the_farm_B_read_and_write","小学组","新媒体新技术教学应用课例","三等奖",{"$f":"RIGHT(LEFT(VLOOKUP(B841,'[1]002'!B:M,3,0),7),3)","v":"佛山市"},{"$f":"VLOOKUP(B841,'[1]002'!B:M,7,0)","v":"刘韵君"},{"$f":"VLOOKUP(B841,'[1]002'!B:M,8,0)","v":"佛山市顺德区北滘镇承德小学"},{"$f":"VLOOKUP(B841,'[1]002'!B:M,11,0)","v":"苏明涛"},{"$f":"VLOOKUP(B841,'[1]002'!B:M,12,0)","v":"佛山市顺德区北滘镇承德小学"},{"$f":"VLOOKUP(B841,[2]sheet2!B:L,10,0)","v":"-"},{"$f":"VLOOKUP(B841,[2]sheet2!B:L,11,0)","v":"-"},"http://183.62.54.51:8841/data/files/certificate/000000000439/ff2e3cb3a19a4a82b44ab6a244f68a1e/signed/839_刘韵君、苏明涛_三等奖_6726.pdf"]
[840,"P306119090752","跨越海峡的生命桥","小学组","新媒体新技术教学应用课例","三等奖",{"$f":"RIGHT(LEFT(VLOOKUP(B842,'[1]002'!B:M,3,0),7),3)","v":"佛山市"},{"$f":"VLOOKUP(B842,'[1]002'!B:M,7,0)","v":"刘敏华"},{"$f":"VLOOKUP(B842,'[1]002'!B:M,8,0)","v":"佛山市同济小学"},{"$f":"VLOOKUP(B842,'[1]002'!B:M,11,0)","v":"-"},{"$f":"VLOOKUP(B842,'[1]002'!B:M,12,0)","v":"-"},{"$f":"VLOOKUP(B842,[2]sheet2!B:L,10,0)","v":"-"},{"$f":"VLOOKUP(B842,[2]sheet2!B:L,11,0)","v":"-"},"http://183.62.54.51:8841/data/files/certificate/000000000439/95358f49104741e79b93f016eab5e10d/signed/840_刘敏华_三等奖_6727.pdf"]
[841,"P306119089579","好吃的水果","小学组","新媒体新技术教学应用课例","三等奖",{"$f":"RIGHT(LEFT(VLOOKUP(B843,'[1]002'!B:M,3,0),7),3)","v":"韶关市"},{"$f":"VLOOKUP(B843,'[1]002'!B:M,7,0)","v":"黄聪"},{"$f":"VLOOKUP(B843,'[1]002'!B:M,8,0)","v":"仁化县第二小学"},{"$f":"VLOOKUP(B843,'[1]002'!B:M,11,0)","v":"邓毅萍"},{"$f":"VLOOKUP(B843,'[1]002'!B:M,12,0)","v":"仁化县第二小学"},{"$f":"VLOOKUP(B843,[2]sheet2!B:L,10,0)","v":"-"},{"$f":"VLOOKUP(B843,[2]sheet2!B:L,11,0)","v":"-"},"http://183.62.54.51:8841/data/files/certificate/000000000439/3370821ebc6e48a39a3806838bd3f9ea/signed/841_黄聪、邓毅萍_三等奖_6728.pdf"]
[842,"P306119088642","体积与容积","小学组","新媒体新技术教学应用课例","三等奖",{"$f":"RIGHT(LEFT(VLOOKUP(B844,'[1]002'!B:M,3,0),7),3)","v":"韶关市"},{"$f":"VLOOKUP(B844,'[1]002'!B:M,7,0)","v":"潘华办"},{"$f":"VLOOKUP(B844,'[1]002'!B:M,8,0)","v":"新丰县实验小学"},{"$f":"VLOOKUP(B844,'[1]002'!B:M,11,0)","v":"-"},{"$f":"VLOOKUP(B844,'[1]002'!B:M,12,0)","v":"-"},{"$f":"VLOOKUP(B844,[2]sheet2!B:L,10,0)","v":"-"},{"$f":"VLOOKUP(B844,[2]sheet2!B:L,11,0)","v":"-"},"http://183.62.54.51:8841/data/files/certificate/000000000439/503a29a3b03f4bc28e10dd328efc596d/signed/842_潘华办_三等奖_6729.pdf"]
[843,"P306119089198","MothersDay","小学组","新媒体新技术教学应用课例","三等奖",{"$f":"RIGHT(LEFT(VLOOKUP(B845,'[1]002'!B:M,3,0),7),3)","v":"韶关市"},{"$f":"VLOOKUP(B845,'[1]002'!B:M,7,0)","v":"陈玉玲"},{"$f":"VLOOKUP(B845,'[1]002'!B:M,8,0)","v":"韶关市浈江区执信小学"},{"$f":"VLOOKUP(B845,'[1]002'!B:M,11,0)","v":"-"},{"$f":"VLOOKUP(B845,'[1]002'!B:M,12,0)","v":"-"},{"$f":"VLOOKUP(B845,[2]sheet2!B:L,10,0)","v":"-"},{"$f":"VLOOKUP(B845,[2]sheet2!B:L,11,0)","v":"-"},"http://183.62.54.51:8841/data/files/certificate/000000000439/6b84cd3c065e476198d38496d11dcad2/signed/843_陈玉玲_三等奖_6730.pdf"]
[844,"P306119090150","拼音王国大闯关","小学组","新媒体新技术教学应用课例","三等奖",{"$f":"RIGHT(LEFT(VLOOKUP(B846,'[1]002'!B:M,3,0),7),3)","v":"韶关市"},{"$f":"VLOOKUP(B846,'[1]002'!B:M,7,0)","v":"范桂丽"},{"$f":"VLOOKUP(B846,'[1]002'!B:M,8,0)","v":"韶关市武江区田家炳沙湖绿洲小学"},{"$f":"VLOOKUP(B846,'[1]002'!B:M,11,0)","v":"蔡慧良"},{"$f":"VLOOKUP(B846,'[1]002'!B:M,12,0)","v":"韶关市武江区田家炳沙湖绿洲小学"},{"$f":"VLOOKUP(B846,[2]sheet2!B:L,10,0)","v":"-"},{"$f":"VLOOKUP(B846,[2]sheet2!B:L,11,0)","v":"-"},"http://183.62.54.51:8841/data/files/certificate/000000000439/de69ca16bbc84b92a2fb20a0118c5f43/signed/844_范桂丽、蔡慧良_三等奖_6731.pdf"]
[845,"P306119090200","大嘴怪","小学组","新媒体新技术教学应用课例","三等奖",{"$f":"RIGHT(LEFT(VLOOKUP(B847,'[1]002'!B:M,3,0),7),3)","v":"韶关市"},{"$f":"VLOOKUP(B847,'[1]002'!B:M,7,0)","v":"何婷婷"},{"$f":"VLOOKUP(B847,'[1]002'!B:M,8,0)","v":"韶关市武江区华泰小学"},{"$f":"VLOOKUP(B847,'[1]002'!B:M,11,0)","v":"吴颖妍"},{"$f":"VLOOKUP(B847,'[1]002'!B:M,12,0)","v":"韶关市武江区华泰小学"},{"$f":"VLOOKUP(B847,[2]sheet2!B:L,10,0)","v":"郭圣兴"},{"$f":"VLOOKUP(B847,[2]sheet2!B:L,11,0)","v":"韶关市武江区华泰小学"},"http://183.62.54.51:8841/data/files/certificate/000000000439/dac9f824b24542d7a8878b2698b22004/signed/845_何婷婷、吴颖妍、郭圣兴_三等奖_6732.pdf"]
[846,"P306119088888","捕鱼达人","小学组","新媒体新技术教学应用课例","三等奖",{"$f":"RIGHT(LEFT(VLOOKUP(B848,'[1]002'!B:M,3,0),7),3)","v":"韶关市"},{"$f":"VLOOKUP(B848,'[1]002'!B:M,7,0)","v":"吴颖妍"},{"$f":"VLOOKUP(B848,'[1]002'!B:M,8,0)","v":"韶关市武江区华泰小学"},{"$f":"VLOOKUP(B848,'[1]002'!B:M,11,0)","v":"郭圣兴"},{"$f":"VLOOKUP(B848,'[1]002'!B:M,12,0)","v":"韶关市武江区华泰小学"},{"$f":"VLOOKUP(B848,[2]sheet2!B:L,10,0)","v":"-"},{"$f":"VLOOKUP(B848,[2]sheet2!B:L,11,0)","v":"-"},"http://183.62.54.51:8841/data/files/certificate/000000000439/64b9cfebfe684a31b4822f68d77d7ef5/signed/846_吴颖妍、郭圣兴_三等奖_6733.pdf"]
[847,"P306119080546","16零点五分","小学组","新媒体新技术教学应用课例","三等奖",{"$f":"RIGHT(LEFT(VLOOKUP(B849,'[1]002'!B:M,3,0),7),3)","v":"韶关市"},{"$f":"VLOOKUP(B849,'[1]002'!B:M,7,0)","v":"徐文艳"},{"$f":"VLOOKUP(B849,'[1]002'!B:M,8,0)","v":"始兴县马市镇中心小学"},{"$f":"VLOOKUP(B849,'[1]002'!B:M,11,0)","v":"-"},{"$f":"VLOOKUP(B849,'[1]002'!B:M,12,0)","v":"-"},{"$f":"VLOOKUP(B849,[2]sheet2!B:L,10,0)","v":"-"},{"$f":"VLOOKUP(B849,[2]sheet2!B:L,11,0)","v":"-"},"http://183.62.54.51:8841/data/files/certificate/000000000439/9a3fd1b7d96b425dad2957b8a66686a9/signed/847_徐文艳_三等奖_6734.pdf"]
[848,"P306119088927","笔的演变","小学组","新媒体新技术教学应用课例","三等奖",{"$f":"RIGHT(LEFT(VLOOKUP(B850,'[1]002'!B:M,3,0),7),3)","v":"韶关市"},{"$f":"VLOOKUP(B850,'[1]002'!B:M,7,0)","v":"杨馥菲"},{"$f":"VLOOKUP(B850,'[1]002'!B:M,8,0)","v":"韶关市武江区田家炳沙湖绿洲小学"},{"$f":"VLOOKUP(B850,'[1]002'!B:M,11,0)","v":"蔡慧良"},{"$f":"VLOOKUP(B850,'[1]002'!B:M,12,0)","v":"韶关市武江区田家炳沙湖绿洲小学"},{"$f":"VLOOKUP(B850,[2]sheet2!B:L,10,0)","v":"-"},{"$f":"VLOOKUP(B850,[2]sheet2!B:L,11,0)","v":"-"},"http://183.62.54.51:8841/data/files/certificate/000000000439/c802c89207e444e1b81cf1fe1ad8a818/signed/848_杨馥菲、蔡慧良_三等奖_6735.pdf"]
[849,"P306119093476","认识我们灵活多变的手","小学组","新媒体新技术教学应用课例","三等奖",{"$f":"RIGHT(LEFT(VLOOKUP(B851,'[1]002'!B:M,3,0),7),3)","v":"河源市"},{"$f":"VLOOKUP(B851,'[1]002'!B:M,7,0)","v":"邹穗"},{"$f":"VLOOKUP(B851,'[1]002'!B:M,8,0)","v":"老隆镇第三小学"},{"$f":"VLOOKUP(B851,'[1]002'!B:M,11,0)","v":"-"},{"$f":"VLOOKUP(B851,'[1]002'!B:M,12,0)","v":"-"},{"$f":"VLOOKUP(B851,[2]sheet2!B:L,10,0)","v":"-"},{"$f":"VLOOKUP(B851,[2]sheet2!B:L,11,0)","v":"-"},"http://183.62.54.51:8841/data/files/certificate/000000000439/88857c66ecfd405994386c68eaef578a/signed/849_邹穗_三等奖_6736.pdf"]
[850,"P306119089428","建桥梁","小学组","新媒体新技术教学应用课例","三等奖",{"$f":"RIGHT(LEFT(VLOOKUP(B852,'[1]002'!B:M,3,0),7),3)","v":"梅州市"},{"$f":"VLOOKUP(B852,'[1]002'!B:M,7,0)","v":"黄文斌"},{"$f":"VLOOKUP(B852,'[1]002'!B:M,8,0)","v":"梅州市梅县区新城中心小学"},{"$f":"VLOOKUP(B852,'[1]002'!B:M,11,0)","v":"-"},{"$f":"VLOOKUP(B852,'[1]002'!B:M,12,0)","v":"-"},{"$f":"VLOOKUP(B852,[2]sheet2!B:L,10,0)","v":"-"},{"$f":"VLOOKUP(B852,[2]sheet2!B:L,11,0)","v":"-"},"http://183.62.54.51:8841/data/files/certificate/000000000439/48de91f90bee4577895f4fac107fa9c7/signed/850_黄文斌_三等奖_6737.pdf"]
[851,"P306119079773","2和5的倍数的特征","小学组","新媒体新技术教学应用课例","三等奖",{"$f":"RIGHT(LEFT(VLOOKUP(B853,'[1]002'!B:M,3,0),7),3)","v":"梅州市"},{"$f":"VLOOKUP(B853,'[1]002'!B:M,7,0)","v":"廖子金"},{"$f":"VLOOKUP(B853,'[1]002'!B:M,8,0)","v":"梅州市梅江区五洲小学"},{"$f":"VLOOKUP(B853,'[1]002'!B:M,11,0)","v":"-"},{"$f":"VLOOKUP(B853,'[1]002'!B:M,12,0)","v":"-"},{"$f":"VLOOKUP(B853,[2]sheet2!B:L,10,0)","v":"-"},{"$f":"VLOOKUP(B853,[2]sheet2!B:L,11,0)","v":"-"},"http://183.62.54.51:8841/data/files/certificate/000000000439/139a89ad1e9d4d62b7d8c55aa9b6d14f/signed/851_廖子金_三等奖_6738.pdf"]
[852,"P306119092805","三角形","小学组","新媒体新技术教学应用课例","三等奖",{"$f":"RIGHT(LEFT(VLOOKUP(B854,'[1]002'!B:M,3,0),7),3)","v":"东莞市"},{"$f":"VLOOKUP(B854,'[1]002'!B:M,7,0)","v":"何棋珍"},{"$f":"VLOOKUP(B854,'[1]002'!B:M,8,0)","v":"东莞市大朗镇三星小学"},{"$f":"VLOOKUP(B854,'[1]002'!B:M,11,0)","v":"欧燕华"},{"$f":"VLOOKUP(B854,'[1]002'!B:M,12,0)","v":"东莞市大朗镇三星小学"},{"$f":"VLOOKUP(B854,[2]sheet2!B:L,10,0)","v":"-"},{"$f":"VLOOKUP(B854,[2]sheet2!B:L,11,0)","v":"-"},"http://183.62.54.51:8841/data/files/certificate/000000000439/58460b67d3d14b759f2bfde3eb477f1a/signed/852_何棋珍、欧燕华_三等奖_6739.pdf"]
[853,"P306119092423","洋娃娃和小熊跳舞","小学组","新媒体新技术教学应用课例","三等奖",{"$f":"RIGHT(LEFT(VLOOKUP(B855,'[1]002'!B:M,3,0),7),3)","v":"东莞市"},{"$f":"VLOOKUP(B855,'[1]002'!B:M,7,0)","v":"马丽"},{"$f":"VLOOKUP(B855,'[1]002'!B:M,8,0)","v":"东莞市南城区阳光第二小学"},{"$f":"VLOOKUP(B855,'[1]002'!B:M,11,0)","v":"-"},{"$f":"VLOOKUP(B855,'[1]002'!B:M,12,0)","v":"-"},{"$f":"VLOOKUP(B855,[2]sheet2!B:L,10,0)","v":"-"},{"$f":"VLOOKUP(B855,[2]sheet2!B:L,11,0)","v":"-"},"http://183.62.54.51:8841/data/files/certificate/000000000439/123e4d5809b24047b49ce8eee2da3594/signed/853_马丽_三等奖_6740.pdf"]
[854,"P306119092419","WhatAnimalIsIt","小学组","新媒体新技术教学应用课例","三等奖",{"$f":"RIGHT(LEFT(VLOOKUP(B856,'[1]002'!B:M,3,0),7),3)","v":"东莞市"},{"$f":"VLOOKUP(B856,'[1]002'!B:M,7,0)","v":"何棋珍"},{"$f":"VLOOKUP(B856,'[1]002'!B:M,8,0)","v":"东莞市大朗镇三星小学"},{"$f":"VLOOKUP(B856,'[1]002'!B:M,11,0)","v":"冯艺尧"},{"$f":"VLOOKUP(B856,'[1]002'!B:M,12,0)","v":"东莞市大朗镇三星小学"},{"$f":"VLOOKUP(B856,[2]sheet2!B:L,10,0)","v":"-"},{"$f":"VLOOKUP(B856,[2]sheet2!B:L,11,0)","v":"-"},"http://183.62.54.51:8841/data/files/certificate/000000000439/3b6635310c94438c9d7de97c7871b14e/signed/854_何棋珍、冯艺尧_三等奖_6741.pdf"]
[855,"P306119092422","青蛙卖泥塘","小学组","新媒体新技术教学应用课例","三等奖",{"$f":"RIGHT(LEFT(VLOOKUP(B857,'[1]002'!B:M,3,0),7),3)","v":"东莞市"},{"$f":"VLOOKUP(B857,'[1]002'!B:M,7,0)","v":"李贤慧"},{"$f":"VLOOKUP(B857,'[1]002'!B:M,8,0)","v":"东莞市南城中心小学"},{"$f":"VLOOKUP(B857,'[1]002'!B:M,11,0)","v":"-"},{"$f":"VLOOKUP(B857,'[1]002'!B:M,12,0)","v":"-"},{"$f":"VLOOKUP(B857,[2]sheet2!B:L,10,0)","v":"-"},{"$f":"VLOOKUP(B857,[2]sheet2!B:L,11,0)","v":"-"},"http://183.62.54.51:8841/data/files/certificate/000000000439/8d78cdfbcf134e4e9fcfef187cc1f10d/signed/855_李贤慧_三等奖_6742.pdf"]
[856,"P306119092421","有趣的汉字","小学组","新媒体新技术教学应用课例","三等奖",{"$f":"RIGHT(LEFT(VLOOKUP(B858,'[1]002'!B:M,3,0),7),3)","v":"东莞市"},{"$f":"VLOOKUP(B858,'[1]002'!B:M,7,0)","v":"陈子伟"},{"$f":"VLOOKUP(B858,'[1]002'!B:M,8,0)","v":"东莞市麻涌镇大步小学"},{"$f":"VLOOKUP(B858,'[1]002'!B:M,11,0)","v":"-"},{"$f":"VLOOKUP(B858,'[1]002'!B:M,12,0)","v":"-"},{"$f":"VLOOKUP(B858,[2]sheet2!B:L,10,0)","v":"-"},{"$f":"VLOOKUP(B858,[2]sheet2!B:L,11,0)","v":"-"},"http://183.62.54.51:8841/data/files/certificate/000000000439/2cadbf97fdc34f25a198f64e4b7afee5/signed/856_陈子伟_三等奖_6743.pdf"]
[857,"P306119092425","青山不老","小学组","新媒体新技术教学应用课例","三等奖",{"$f":"RIGHT(LEFT(VLOOKUP(B859,'[1]002'!B:M,3,0),7),3)","v":"东莞市"},{"$f":"VLOOKUP(B859,'[1]002'!B:M,7,0)","v":"李洁兴"},{"$f":"VLOOKUP(B859,'[1]002'!B:M,8,0)","v":"东莞市麻涌镇大盛小学"},{"$f":"VLOOKUP(B859,'[1]002'!B:M,11,0)","v":"-"},{"$f":"VLOOKUP(B859,'[1]002'!B:M,12,0)","v":"-"},{"$f":"VLOOKUP(B859,[2]sheet2!B:L,10,0)","v":"-"},{"$f":"VLOOKUP(B859,[2]sheet2!B:L,11,0)","v":"-"},"http://183.62.54.51:8841/data/files/certificate/000000000439/495a910cc0da495db936e56b38aa87b5/signed/857_李洁兴_三等奖_6744.pdf"]
[858,"P306119092426","5动物儿歌","小学组","新媒体新技术教学应用课例","三等奖",{"$f":"RIGHT(LEFT(VLOOKUP(B860,'[1]002'!B:M,3,0),7),3)","v":"东莞市"},{"$f":"VLOOKUP(B860,'[1]002'!B:M,7,0)","v":"吴慧花"},{"$f":"VLOOKUP(B860,'[1]002'!B:M,8,0)","v":"东莞市南城区阳光第六小学"},{"$f":"VLOOKUP(B860,'[1]002'!B:M,11,0)","v":"王静文"},{"$f":"VLOOKUP(B860,'[1]002'!B:M,12,0)","v":"东莞市南城区阳光第六小学"},{"$f":"VLOOKUP(B860,[2]sheet2!B:L,10,0)","v":"-"},{"$f":"VLOOKUP(B860,[2]sheet2!B:L,11,0)","v":"-"},"http://183.62.54.51:8841/data/files/certificate/000000000439/1ddb2125260f4e41a8fc2fbf368ab904/signed/858_吴慧花、王静文_三等奖_6745.pdf"]
[859,"P306119092428","我的植物朋友","小学组","新媒体新技术教学应用课例","三等奖",{"$f":"RIGHT(LEFT(VLOOKUP(B861,'[1]002'!B:M,3,0),7),3)","v":"东莞市"},{"$f":"VLOOKUP(B861,'[1]002'!B:M,7,0)","v":"吴敏娥"},{"$f":"VLOOKUP(B861,'[1]002'!B:M,8,0)","v":"东莞市横沥镇中心小学"},{"$f":"VLOOKUP(B861,'[1]002'!B:M,11,0)","v":"-"},{"$f":"VLOOKUP(B861,'[1]002'!B:M,12,0)","v":"-"},{"$f":"VLOOKUP(B861,[2]sheet2!B:L,10,0)","v":"-"},{"$f":"VLOOKUP(B861,[2]sheet2!B:L,11,0)","v":"-"},"http://183.62.54.51:8841/data/files/certificate/000000000439/1232e090f2c04e69aad149d984d82348/signed/859_吴敏娥_三等奖_6746.pdf"]
[860,"P306119092417","ThreeFish","小学组","新媒体新技术教学应用课例","三等奖",{"$f":"RIGHT(LEFT(VLOOKUP(B862,'[1]002'!B:M,3,0),7),3)","v":"东莞市"},{"$f":"VLOOKUP(B862,'[1]002'!B:M,7,0)","v":"欧阳玉芬"},{"$f":"VLOOKUP(B862,'[1]002'!B:M,8,0)","v":"东莞市南城中心小学"},{"$f":"VLOOKUP(B862,'[1]002'!B:M,11,0)","v":"-"},{"$f":"VLOOKUP(B862,'[1]002'!B:M,12,0)","v":"-"},{"$f":"VLOOKUP(B862,[2]sheet2!B:L,10,0)","v":"-"},{"$f":"VLOOKUP(B862,[2]sheet2!B:L,11,0)","v":"-"},"http://183.62.54.51:8841/data/files/certificate/000000000439/5f03cddd63c345c2afde49e30aa57c8f/signed/860_欧阳玉芬_三等奖_6747.pdf"]
[861,"P306119092424","PEP四下Unit3WeatherBLetstalk","小学组","新媒体新技术教学应用课例","三等奖",{"$f":"RIGHT(LEFT(VLOOKUP(B863,'[1]002'!B:M,3,0),7),3)","v":"东莞市"},{"$f":"VLOOKUP(B863,'[1]002'!B:M,7,0)","v":"龙自欢"},{"$f":"VLOOKUP(B863,'[1]002'!B:M,8,0)","v":"东莞市东城虎英小学"},{"$f":"VLOOKUP(B863,'[1]002'!B:M,11,0)","v":"刘淑君"},{"$f":"VLOOKUP(B863,'[1]002'!B:M,12,0)","v":"东莞市东城虎英小学"},{"$f":"VLOOKUP(B863,[2]sheet2!B:L,10,0)","v":"-"},{"$f":"VLOOKUP(B863,[2]sheet2!B:L,11,0)","v":"-"},"http://183.62.54.51:8841/data/files/certificate/000000000439/1631b4556f064ab2af5fe795825f4a61/signed/861_龙自欢、刘淑君_三等奖_6748.pdf"]
[862,"P306119088740","老水牛角弯弯","小学组","新媒体新技术教学应用课例","三等奖",{"$f":"RIGHT(LEFT(VLOOKUP(B864,'[1]002'!B:M,3,0),7),3)","v":"中山市"},{"$f":"VLOOKUP(B864,'[1]002'!B:M,7,0)","v":"谢淑怡"},{"$f":"VLOOKUP(B864,'[1]002'!B:M,8,0)","v":"中山市东凤镇凤鸣小学"},{"$f":"VLOOKUP(B864,'[1]002'!B:M,11,0)","v":"-"},{"$f":"VLOOKUP(B864,'[1]002'!B:M,12,0)","v":"-"},{"$f":"VLOOKUP(B864,[2]sheet2!B:L,10,0)","v":"-"},{"$f":"VLOOKUP(B864,[2]sheet2!B:L,11,0)","v":"-"},"http://183.62.54.51:8841/data/files/certificate/000000000439/3595fdb01ef34e5ba93a171b937b2036/signed/862_谢淑怡_三等奖_6749.pdf"]
[863,"P306119089215","倍的认识","小学组","新媒体新技术教学应用课例","三等奖",{"$f":"RIGHT(LEFT(VLOOKUP(B865,'[1]002'!B:M,3,0),7),3)","v":"中山市"},{"$f":"VLOOKUP(B865,'[1]002'!B:M,7,0)","v":"黄敏珊"},{"$f":"VLOOKUP(B865,'[1]002'!B:M,8,0)","v":"中山火炬高技术产业开发区香晖园小学"},{"$f":"VLOOKUP(B865,'[1]002'!B:M,11,0)","v":"翟伟钰"},{"$f":"VLOOKUP(B865,'[1]002'!B:M,12,0)","v":"中山火炬高技术产业开发区香晖园小学"},{"$f":"VLOOKUP(B865,[2]sheet2!B:L,10,0)","v":"-"},{"$f":"VLOOKUP(B865,[2]sheet2!B:L,11,0)","v":"-"},"http://183.62.54.51:8841/data/files/certificate/000000000439/11c19c539d6b47e6aabe1fd9fd598c30/signed/863_黄敏珊、翟伟钰_三等奖_6750.pdf"]
[864,"P306119088227","吹泡泡","小学组","新媒体新技术教学应用课例","三等奖",{"$f":"RIGHT(LEFT(VLOOKUP(B866,'[1]002'!B:M,3,0),7),3)","v":"中山市"},{"$f":"VLOOKUP(B866,'[1]002'!B:M,7,0)","v":"林漫青"},{"$f":"VLOOKUP(B866,'[1]002'!B:M,8,0)","v":"中山市西区沙朗小学"},{"$f":"VLOOKUP(B866,'[1]002'!B:M,11,0)","v":"严禄星"},{"$f":"VLOOKUP(B866,'[1]002'!B:M,12,0)","v":"中山市西区沙朗小学"},{"$f":"VLOOKUP(B866,[2]sheet2!B:L,10,0)","v":"李晓军"},{"$f":"VLOOKUP(B866,[2]sheet2!B:L,11,0)","v":"中山市西区沙朗小学"},"http://183.62.54.51:8841/data/files/certificate/000000000439/d23c6cdc0f414b7184ce878ca867aabe/signed/864_林漫青、严禄星、李晓军_三等奖_6751.pdf"]
[865,"P306119089554","我们建个群吧","小学组","新媒体新技术教学应用课例","三等奖",{"$f":"RIGHT(LEFT(VLOOKUP(B867,'[1]002'!B:M,3,0),7),3)","v":"中山市"},{"$f":"VLOOKUP(B867,'[1]002'!B:M,7,0)","v":"徐铭侃"},{"$f":"VLOOKUP(B867,'[1]002'!B:M,8,0)","v":"中山市实验小学"},{"$f":"VLOOKUP(B867,'[1]002'!B:M,11,0)","v":"-"},{"$f":"VLOOKUP(B867,'[1]002'!B:M,12,0)","v":"-"},{"$f":"VLOOKUP(B867,[2]sheet2!B:L,10,0)","v":"-"},{"$f":"VLOOKUP(B867,[2]sheet2!B:L,11,0)","v":"-"},"http://183.62.54.51:8841/data/files/certificate/000000000439/0f4a5db3cac84735a471329915f23d18/signed/865_徐铭侃_三等奖_6752.pdf"]
[866,"P306119088270","Our Clothes","小学组","新媒体新技术教学应用课例","三等奖",{"$f":"RIGHT(LEFT(VLOOKUP(B868,'[1]002'!B:M,3,0),7),3)","v":"中山市"},{"$f":"VLOOKUP(B868,'[1]002'!B:M,7,0)","v":"胡雅"},{"$f":"VLOOKUP(B868,'[1]002'!B:M,8,0)","v":"中山市西区铁城小学"},{"$f":"VLOOKUP(B868,'[1]002'!B:M,11,0)","v":"-"},{"$f":"VLOOKUP(B868,'[1]002'!B:M,12,0)","v":"-"},{"$f":"VLOOKUP(B868,[2]sheet2!B:L,10,0)","v":"-"},{"$f":"VLOOKUP(B868,[2]sheet2!B:L,11,0)","v":"-"},"http://183.62.54.51:8841/data/files/certificate/000000000439/87b4a6e878954ac8a4e03eabbc3632aa/signed/866_胡雅_三等奖_6753.pdf"]
[867,"P306119088785","Book 3 Unit 6 Toys","小学组","新媒体新技术教学应用课例","三等奖",{"$f":"RIGHT(LEFT(VLOOKUP(B869,'[1]002'!B:M,3,0),7),3)","v":"中山市"},{"$f":"VLOOKUP(B869,'[1]002'!B:M,7,0)","v":"曹新竹"},{"$f":"VLOOKUP(B869,'[1]002'!B:M,8,0)","v":"中山市石岐中心小学"},{"$f":"VLOOKUP(B869,'[1]002'!B:M,11,0)","v":"-"},{"$f":"VLOOKUP(B869,'[1]002'!B:M,12,0)","v":"-"},{"$f":"VLOOKUP(B869,[2]sheet2!B:L,10,0)","v":"-"},{"$f":"VLOOKUP(B869,[2]sheet2!B:L,11,0)","v":"-"},"http://183.62.54.51:8841/data/files/certificate/000000000439/3c9401f647da496b89d115ce7ebed9a5/signed/867_曹新竹_三等奖_6754.pdf"]
[868,"P306119090300","Unit3Animals","小学组","新媒体新技术教学应用课例","三等奖",{"$f":"RIGHT(LEFT(VLOOKUP(B870,'[1]002'!B:M,3,0),7),3)","v":"中山市"},{"$f":"VLOOKUP(B870,'[1]002'!B:M,7,0)","v":"陈水玲"},{"$f":"VLOOKUP(B870,'[1]002'!B:M,8,0)","v":"中山市西区中心小学"},{"$f":"VLOOKUP(B870,'[1]002'!B:M,11,0)","v":"-"},{"$f":"VLOOKUP(B870,'[1]002'!B:M,12,0)","v":"-"},{"$f":"VLOOKUP(B870,[2]sheet2!B:L,10,0)","v":"-"},{"$f":"VLOOKUP(B870,[2]sheet2!B:L,11,0)","v":"-"},"http://183.62.54.51:8841/data/files/certificate/000000000439/5cefaacc573849f5badcb9571220b8ea/signed/868_陈水玲_三等奖_6755.pdf"]
[869,"P306119089358","语文园地八","小学组","新媒体新技术教学应用课例","三等奖",{"$f":"RIGHT(LEFT(VLOOKUP(B871,'[1]002'!B:M,3,0),7),3)","v":"中山市"},{"$f":"VLOOKUP(B871,'[1]002'!B:M,7,0)","v":"林丽奋"},{"$f":"VLOOKUP(B871,'[1]002'!B:M,8,0)","v":"中山市沙溪镇龙瑞小学"},{"$f":"VLOOKUP(B871,'[1]002'!B:M,11,0)","v":"-"},{"$f":"VLOOKUP(B871,'[1]002'!B:M,12,0)","v":"-"},{"$f":"VLOOKUP(B871,[2]sheet2!B:L,10,0)","v":"-"},{"$f":"VLOOKUP(B871,[2]sheet2!B:L,11,0)","v":"-"},"http://183.62.54.51:8841/data/files/certificate/000000000439/84cdcec5463b4217abdf82ed48264fc5/signed/869_林丽奋_三等奖_6756.pdf"]
[870,"P306119089113","Unit5 A Circus in the park ( Story）","小学组","新媒体新技术教学应用课例","三等奖",{"$f":"RIGHT(LEFT(VLOOKUP(B872,'[1]002'!B:M,3,0),7),3)","v":"中山市"},{"$f":"VLOOKUP(B872,'[1]002'!B:M,7,0)","v":"林苑梅"},{"$f":"VLOOKUP(B872,'[1]002'!B:M,8,0)","v":"中山市沙溪镇中心小学"},{"$f":"VLOOKUP(B872,'[1]002'!B:M,11,0)","v":"-"},{"$f":"VLOOKUP(B872,'[1]002'!B:M,12,0)","v":"-"},{"$f":"VLOOKUP(B872,[2]sheet2!B:L,10,0)","v":"-"},{"$f":"VLOOKUP(B872,[2]sheet2!B:L,11,0)","v":"-"},"http://183.62.54.51:8841/data/files/certificate/000000000439/b6ded7dcfcb646c8bd668f6629f7d2db/signed/870_林苑梅_三等奖_6757.pdf"]
[871,"P306119089823","葫芦丝打音学习乐曲苗家姑娘过山来","小学组","新媒体新技术教学应用课例","三等奖",{"$f":"RIGHT(LEFT(VLOOKUP(B873,'[1]002'!B:M,3,0),7),3)","v":"中山市"},{"$f":"VLOOKUP(B873,'[1]002'!B:M,7,0)","v":"蓝旭雯"},{"$f":"VLOOKUP(B873,'[1]002'!B:M,8,0)","v":"中山市阜沙镇牛角小学"},{"$f":"VLOOKUP(B873,'[1]002'!B:M,11,0)","v":"任思"},{"$f":"VLOOKUP(B873,'[1]002'!B:M,12,0)","v":"中山市阜沙镇牛角小学"},{"$f":"VLOOKUP(B873,[2]sheet2!B:L,10,0)","v":"-"},{"$f":"VLOOKUP(B873,[2]sheet2!B:L,11,0)","v":"-"},"http://183.62.54.51:8841/data/files/certificate/000000000439/77e27dfd7d704c1dbe2ef5278b62598a/signed/871_蓝旭雯、任思_三等奖_6758.pdf"]
[872,"P306119088538","Scratch JR 火箭发射升空","小学组","新媒体新技术教学应用课例","三等奖",{"$f":"RIGHT(LEFT(VLOOKUP(B874,'[1]002'!B:M,3,0),7),3)","v":"中山市"},{"$f":"VLOOKUP(B874,'[1]002'!B:M,7,0)","v":"郑启立"},{"$f":"VLOOKUP(B874,'[1]002'!B:M,8,0)","v":"中山市石岐杨仙逸小学"},{"$f":"VLOOKUP(B874,'[1]002'!B:M,11,0)","v":"-"},{"$f":"VLOOKUP(B874,'[1]002'!B:M,12,0)","v":"-"},{"$f":"VLOOKUP(B874,[2]sheet2!B:L,10,0)","v":"-"},{"$f":"VLOOKUP(B874,[2]sheet2!B:L,11,0)","v":"-"},"http://183.62.54.51:8841/data/files/certificate/000000000439/85b72fc935b2453c9388b93b255fb1da/signed/872_郑启立_三等奖_6759.pdf"]
[873,"P306119091841","Going Outing","小学组","新媒体新技术教学应用课例","三等奖",{"$f":"RIGHT(LEFT(VLOOKUP(B875,'[1]002'!B:M,3,0),7),3)","v":"江门市"},{"$f":"VLOOKUP(B875,'[1]002'!B:M,7,0)","v":"林小云"},{"$f":"VLOOKUP(B875,'[1]002'!B:M,8,0)","v":"外海银泉小学"},{"$f":"VLOOKUP(B875,'[1]002'!B:M,11,0)","v":"-"},{"$f":"VLOOKUP(B875,'[1]002'!B:M,12,0)","v":"-"},{"$f":"VLOOKUP(B875,[2]sheet2!B:L,10,0)","v":"-"},{"$f":"VLOOKUP(B875,[2]sheet2!B:L,11,0)","v":"-"},"http://183.62.54.51:8841/data/files/certificate/000000000439/833f56e2d0de4b1f908c29ede2b7968b/signed/873_林小云_三等奖_6760.pdf"]
[874,"P306119092350","口算乘法","小学组","新媒体新技术教学应用课例","三等奖",{"$f":"RIGHT(LEFT(VLOOKUP(B876,'[1]002'!B:M,3,0),7),3)","v":"江门市"},{"$f":"VLOOKUP(B876,'[1]002'!B:M,7,0)","v":"李文清"},{"$f":"VLOOKUP(B876,'[1]002'!B:M,8,0)","v":"台山市新宁小学"},{"$f":"VLOOKUP(B876,'[1]002'!B:M,11,0)","v":"-"},{"$f":"VLOOKUP(B876,'[1]002'!B:M,12,0)","v":"-"},{"$f":"VLOOKUP(B876,[2]sheet2!B:L,10,0)","v":"-"},{"$f":"VLOOKUP(B876,[2]sheet2!B:L,11,0)","v":"-"},"http://183.62.54.51:8841/data/files/certificate/000000000439/8931f6a8e49c4edc8587111c27d7247a/signed/874_李文清_三等奖_6761.pdf"]
[875,"P306119091838","漂浮的画","小学组","新媒体新技术教学应用课例","三等奖",{"$f":"RIGHT(LEFT(VLOOKUP(B877,'[1]002'!B:M,3,0),7),3)","v":"江门市"},{"$f":"VLOOKUP(B877,'[1]002'!B:M,7,0)","v":"陈淑贤"},{"$f":"VLOOKUP(B877,'[1]002'!B:M,8,0)","v":"外海中心小学"},{"$f":"VLOOKUP(B877,'[1]002'!B:M,11,0)","v":"-"},{"$f":"VLOOKUP(B877,'[1]002'!B:M,12,0)","v":"-"},{"$f":"VLOOKUP(B877,[2]sheet2!B:L,10,0)","v":"-"},{"$f":"VLOOKUP(B877,[2]sheet2!B:L,11,0)","v":"-"},"http://183.62.54.51:8841/data/files/certificate/000000000439/96bc1769f8c64421a4d26522fc5d3622/signed/875_陈淑贤_三等奖_6762.pdf"]
[876,"P306119091294","图形的旋转一","小学组","新媒体新技术教学应用课例","三等奖",{"$f":"RIGHT(LEFT(VLOOKUP(B878,'[1]002'!B:M,3,0),7),3)","v":"茂名市"},{"$f":"VLOOKUP(B878,'[1]002'!B:M,7,0)","v":"朱飞飞"},{"$f":"VLOOKUP(B878,'[1]002'!B:M,8,0)","v":"茂名市方兴小学"},{"$f":"VLOOKUP(B878,'[1]002'!B:M,11,0)","v":"-"},{"$f":"VLOOKUP(B878,'[1]002'!B:M,12,0)","v":"-"},{"$f":"VLOOKUP(B878,[2]sheet2!B:L,10,0)","v":"-"},{"$f":"VLOOKUP(B878,[2]sheet2!B:L,11,0)","v":"-"},"http://183.62.54.51:8841/data/files/certificate/000000000439/424032a9fdea449d84623002d68985cc/signed/876_朱飞飞_三等奖_6763.pdf"]
[877,"P306119091361","咕咚","小学组","新媒体新技术教学应用课例","三等奖",{"$f":"RIGHT(LEFT(VLOOKUP(B879,'[1]002'!B:M,3,0),7),3)","v":"茂名市"},{"$f":"VLOOKUP(B879,'[1]002'!B:M,7,0)","v":"陈秀燕"},{"$f":"VLOOKUP(B879,'[1]002'!B:M,8,0)","v":"茂名市福华小学"},{"$f":"VLOOKUP(B879,'[1]002'!B:M,11,0)","v":"-"},{"$f":"VLOOKUP(B879,'[1]002'!B:M,12,0)","v":"-"},{"$f":"VLOOKUP(B879,[2]sheet2!B:L,10,0)","v":"-"},{"$f":"VLOOKUP(B879,[2]sheet2!B:L,11,0)","v":"-"},"http://183.62.54.51:8841/data/files/certificate/000000000439/6ff0622cf4364295a9c199e323071c3b/signed/877_陈秀燕_三等奖_6764.pdf"]
[878,"P306119091358","仙人掌国画","小学组","新媒体新技术教学应用课例","三等奖",{"$f":"RIGHT(LEFT(VLOOKUP(B880,'[1]002'!B:M,3,0),7),3)","v":"茂名市"},{"$f":"VLOOKUP(B880,'[1]002'!B:M,7,0)","v":"梁翠媚"},{"$f":"VLOOKUP(B880,'[1]002'!B:M,8,0)","v":"茂名市第三小学"},{"$f":"VLOOKUP(B880,'[1]002'!B:M,11,0)","v":"-"},{"$f":"VLOOKUP(B880,'[1]002'!B:M,12,0)","v":"-"},{"$f":"VLOOKUP(B880,[2]sheet2!B:L,10,0)","v":"-"},{"$f":"VLOOKUP(B880,[2]sheet2!B:L,11,0)","v":"-"},"http://183.62.54.51:8841/data/files/certificate/000000000439/e78dc8929d8e4e5ea4a50f8470fcf9a6/signed/878_梁翠媚_三等奖_6765.pdf"]
[879,"P306119090215","两数之和的奇偶性","小学组","新媒体新技术教学应用课例","三等奖",{"$f":"RIGHT(LEFT(VLOOKUP(B881,'[1]002'!B:M,3,0),7),3)","v":"肇庆市"},{"$f":"VLOOKUP(B881,'[1]002'!B:M,7,0)","v":"黄万鹏"},{"$f":"VLOOKUP(B881,'[1]002'!B:M,8,0)","v":"肇庆市第四小学"},{"$f":"VLOOKUP(B881,'[1]002'!B:M,11,0)","v":"-"},{"$f":"VLOOKUP(B881,'[1]002'!B:M,12,0)","v":"-"},{"$f":"VLOOKUP(B881,[2]sheet2!B:L,10,0)","v":"-"},{"$f":"VLOOKUP(B881,[2]sheet2!B:L,11,0)","v":"-"},"http://183.62.54.51:8841/data/files/certificate/000000000439/ea405ca589cc4c0da7e60ad3f20affa8/signed/879_黄万鹏_三等奖_6766.pdf"]
[880,"P306119091281","年月日","小学组","新媒体新技术教学应用课例","三等奖",{"$f":"RIGHT(LEFT(VLOOKUP(B882,'[1]002'!B:M,3,0),7),3)","v":"肇庆市"},{"$f":"VLOOKUP(B882,'[1]002'!B:M,7,0)","v":"龙海兰"},{"$f":"VLOOKUP(B882,'[1]002'!B:M,8,0)","v":"怀集县怀城镇第二小学"},{"$f":"VLOOKUP(B882,'[1]002'!B:M,11,0)","v":"-"},{"$f":"VLOOKUP(B882,'[1]002'!B:M,12,0)","v":"-"},{"$f":"VLOOKUP(B882,[2]sheet2!B:L,10,0)","v":"-"},{"$f":"VLOOKUP(B882,[2]sheet2!B:L,11,0)","v":"-"},"http://183.62.54.51:8841/data/files/certificate/000000000439/a3113f5652de4263b030ca5af9b1d394/signed/880_龙海兰_三等奖_6767.pdf"]
[881,"P306119090214","七月的天山","小学组","新媒体新技术教学应用课例","三等奖",{"$f":"RIGHT(LEFT(VLOOKUP(B883,'[1]002'!B:M,3,0),7),3)","v":"肇庆市"},{"$f":"VLOOKUP(B883,'[1]002'!B:M,7,0)","v":"冯妍"},{"$f":"VLOOKUP(B883,'[1]002'!B:M,8,0)","v":"肇庆市第四小学"},{"$f":"VLOOKUP(B883,'[1]002'!B:M,11,0)","v":"-"},{"$f":"VLOOKUP(B883,'[1]002'!B:M,12,0)","v":"-"},{"$f":"VLOOKUP(B883,[2]sheet2!B:L,10,0)","v":"-"},{"$f":"VLOOKUP(B883,[2]sheet2!B:L,11,0)","v":"-"},"http://183.62.54.51:8841/data/files/certificate/000000000439/86dbc83b21734f70a8697b7425e81ca7/signed/881_冯妍_三等奖_6768.pdf"]
[882,"P306119091189","藏戏","小学组","新媒体新技术教学应用课例","三等奖",{"$f":"RIGHT(LEFT(VLOOKUP(B884,'[1]002'!B:M,3,0),7),3)","v":"肇庆市"},{"$f":"VLOOKUP(B884,'[1]002'!B:M,7,0)","v":"李少波"},{"$f":"VLOOKUP(B884,'[1]002'!B:M,8,0)","v":"鼎湖逸夫小学"},{"$f":"VLOOKUP(B884,'[1]002'!B:M,11,0)","v":"-"},{"$f":"VLOOKUP(B884,'[1]002'!B:M,12,0)","v":"-"},{"$f":"VLOOKUP(B884,[2]sheet2!B:L,10,0)","v":"-"},{"$f":"VLOOKUP(B884,[2]sheet2!B:L,11,0)","v":"-"},"http://183.62.54.51:8841/data/files/certificate/000000000439/e313058cf20146aabfa7b0a9fa345326/signed/882_李少波_三等奖_6769.pdf"]
[883,"P306119091686","两小儿辩日","小学组","新媒体新技术教学应用课例","三等奖",{"$f":"RIGHT(LEFT(VLOOKUP(B885,'[1]002'!B:M,3,0),7),3)","v":"清远市"},{"$f":"VLOOKUP(B885,'[1]002'!B:M,7,0)","v":"吴春丽"},{"$f":"VLOOKUP(B885,'[1]002'!B:M,8,0)","v":"英德市第一小学"},{"$f":"VLOOKUP(B885,'[1]002'!B:M,11,0)","v":"-"},{"$f":"VLOOKUP(B885,'[1]002'!B:M,12,0)","v":"-"},{"$f":"VLOOKUP(B885,[2]sheet2!B:L,10,0)","v":"-"},{"$f":"VLOOKUP(B885,[2]sheet2!B:L,11,0)","v":"-"},"http://183.62.54.51:8841/data/files/certificate/000000000439/3a9098be79f84dea819508f471f9fe60/signed/883_吴春丽_三等奖_6770.pdf"]
[884,"P306119079906","三角形的认识","小学组","新媒体新技术教学应用课例","三等奖",{"$f":"RIGHT(LEFT(VLOOKUP(B886,'[1]002'!B:M,3,0),7),3)","v":"云浮市"},{"$f":"VLOOKUP(B886,'[1]002'!B:M,7,0)","v":"乐天威"},{"$f":"VLOOKUP(B886,'[1]002'!B:M,8,0)","v":"罗定第一小学"},{"$f":"VLOOKUP(B886,'[1]002'!B:M,11,0)","v":"-"},{"$f":"VLOOKUP(B886,'[1]002'!B:M,12,0)","v":"-"},{"$f":"VLOOKUP(B886,[2]sheet2!B:L,10,0)","v":"-"},{"$f":"VLOOKUP(B886,[2]sheet2!B:L,11,0)","v":"-"},"http://183.62.54.51:8841/data/files/certificate/000000000439/7174ffd821af4578acb321e250c28d27/signed/884_乐天威_三等奖_6771.pdf"]
[885,"P306119090439","认识面积","小学组","新媒体新技术教学应用课例","三等奖",{"$f":"RIGHT(LEFT(VLOOKUP(B887,'[1]002'!B:M,3,0),7),3)","v":"云浮市"},{"$f":"VLOOKUP(B887,'[1]002'!B:M,7,0)","v":"黎水莹"},{"$f":"VLOOKUP(B887,'[1]002'!B:M,8,0)","v":"罗定第一小学"},{"$f":"VLOOKUP(B887,'[1]002'!B:M,11,0)","v":"-"},{"$f":"VLOOKUP(B887,'[1]002'!B:M,12,0)","v":"-"},{"$f":"VLOOKUP(B887,[2]sheet2!B:L,10,0)","v":"-"},{"$f":"VLOOKUP(B887,[2]sheet2!B:L,11,0)","v":"-"},"http://183.62.54.51:8841/data/files/certificate/000000000439/883d2d59193845f8a9ab18f0199245b7/signed/885_黎水莹_三等奖_6772.pdf"]
[886,"P306119082924","Unit4Readandwrite","小学组","新媒体新技术教学应用课例","三等奖",{"$f":"RIGHT(LEFT(VLOOKUP(B888,'[1]002'!B:M,3,0),7),3)","v":"云浮市"},{"$f":"VLOOKUP(B888,'[1]002'!B:M,7,0)","v":"刘少涛"},{"$f":"VLOOKUP(B888,'[1]002'!B:M,8,0)","v":"云浮市第一小学"},{"$f":"VLOOKUP(B888,'[1]002'!B:M,11,0)","v":"-"},{"$f":"VLOOKUP(B888,'[1]002'!B:M,12,0)","v":"-"},{"$f":"VLOOKUP(B888,[2]sheet2!B:L,10,0)","v":"-"},{"$f":"VLOOKUP(B888,[2]sheet2!B:L,11,0)","v":"-"},"http://183.62.54.51:8841/data/files/certificate/000000000439/daa0803ba8864b469f954c8a4b4210c8/signed/886_刘少涛_三等奖_6773.pdf"]
[887,"P306119084985","两位数乘两位数不进位的乘法笔算","小学组","新媒体新技术教学应用课例","三等奖",{"$f":"RIGHT(LEFT(VLOOKUP(B889,'[1]002'!B:M,3,0),7),3)","v":"云浮市"},{"$f":"VLOOKUP(B889,'[1]002'!B:M,7,0)","v":"李连桂"},{"$f":"VLOOKUP(B889,'[1]002'!B:M,8,0)","v":"新兴县大江镇梭郎小学"},{"$f":"VLOOKUP(B889,'[1]002'!B:M,11,0)","v":"-"},{"$f":"VLOOKUP(B889,'[1]002'!B:M,12,0)","v":"-"},{"$f":"VLOOKUP(B889,[2]sheet2!B:L,10,0)","v":"-"},{"$f":"VLOOKUP(B889,[2]sheet2!B:L,11,0)","v":"-"},"http://183.62.54.51:8841/data/files/certificate/000000000439/64b0a935421545c38ca7d441f6cbb225/signed/887_李连桂_三等奖_6774.pdf"]
[888,"P302119090727","课间十分钟","小学组","教育资源应用案例_项目单位","三等奖","佛山市",{"$f":"VLOOKUP(B890,'[1]002'!B:M,7,0)","v":"陈嘉欣"},{"$f":"VLOOKUP(B890,'[1]002'!B:M,8,0)","v":"禅城区东鄱小学"},{"$f":"VLOOKUP(B890,'[1]002'!B:M,11,0)","v":"-"},{"$f":"VLOOKUP(B890,'[1]002'!B:M,12,0)","v":"-"},{"$f":"VLOOKUP(B890,[2]sheet2!B:L,10,0)","v":"-"},{"$f":"VLOOKUP(B890,[2]sheet2!B:L,11,0)","v":"-"},"http://183.62.54.51:8841/data/files/certificate/000000000439/dc6731aca85f4946a79f904a270abc73/signed/888_陈嘉欣_三等奖_6775.pdf"]
[889,"P302119090728","蜜蜂+单元习作《我做了一项小实验》单元整合","小学组","教育资源应用案例_项目单位","三等奖","佛山市",{"$f":"VLOOKUP(B891,'[1]002'!B:M,7,0)","v":"蔡 捷"},{"$f":"VLOOKUP(B891,'[1]002'!B:M,8,0)","v":"佛山市同济小学"},{"$f":"VLOOKUP(B891,'[1]002'!B:M,11,0)","v":"-"},{"$f":"VLOOKUP(B891,'[1]002'!B:M,12,0)","v":"-"},{"$f":"VLOOKUP(B891,[2]sheet2!B:L,10,0)","v":"-"},{"$f":"VLOOKUP(B891,[2]sheet2!B:L,11,0)","v":"-"},"http://183.62.54.51:8841/data/files/certificate/000000000439/43c058e9fcd840a7a160246b20281c8d/signed/889_蔡捷_三等奖_6776.pdf"]
[890,"P303219093203","信息与信息技术 学习系统","初中组","课件","一等奖","广州市",{"$f":"VLOOKUP(B892,'[1]002'!B:M,7,0)","v":"张光怡"},{"$f":"VLOOKUP(B892,'[1]002'!B:M,8,0)","v":"广州市荔湾区花地中学"},{"$f":"VLOOKUP(B892,'[1]002'!B:M,11,0)","v":"-"},{"$f":"VLOOKUP(B892,'[1]002'!B:M,12,0)","v":"-"},{"$f":"VLOOKUP(B892,[2]sheet2!B:L,10,0)","v":"-"},{"$f":"VLOOKUP(B892,[2]sheet2!B:L,11,0)","v":"-"},"http://183.62.54.51:8841/data/files/certificate/000000000439/b10165c2ab1b4981b31022a1ad9f0d0b/signed/890_张光怡_一等奖_6777.pdf"]
[891,"P303219092760","趣味镶嵌","初中组","课件","一等奖","深圳市",{"$f":"VLOOKUP(B893,'[1]002'!B:M,7,0)","v":"林采露"},{"$f":"VLOOKUP(B893,'[1]002'!B:M,8,0)","v":"深圳市光明区楼村小学"},{"$f":"VLOOKUP(B893,'[1]002'!B:M,11,0)","v":"-"},{"$f":"VLOOKUP(B893,'[1]002'!B:M,12,0)","v":"-"},{"$f":"VLOOKUP(B893,[2]sheet2!B:L,10,0)","v":"-"},{"$f":"VLOOKUP(B893,[2]sheet2!B:L,11,0)","v":"-"},"http://183.62.54.51:8841/data/files/certificate/000000000439/bb1f8d0f729d4190ba0f5fb7d85a6b28/signed/891_林采露_一等奖_6778.pdf"]
[892,"P303219090392","澳大利亚","初中组","课件","一等奖","珠海市",{"$f":"VLOOKUP(B894,'[1]002'!B:M,7,0)","v":"陈晓佳"},{"$f":"VLOOKUP(B894,'[1]002'!B:M,8,0)","v":"珠海市第九中学"},{"$f":"VLOOKUP(B894,'[1]002'!B:M,11,0)","v":"-"},{"$f":"VLOOKUP(B894,'[1]002'!B:M,12,0)","v":"-"},{"$f":"VLOOKUP(B894,[2]sheet2!B:L,10,0)","v":"-"},{"$f":"VLOOKUP(B894,[2]sheet2!B:L,11,0)","v":"-"},"http://183.62.54.51:8841/data/files/certificate/000000000439/69522917da944d839da0c96570844641/signed/892_陈晓佳_一等奖_6779.pdf"]
[893,"P303219091071","探究中国的气候","初中组","课件","一等奖","佛山市",{"$f":"VLOOKUP(B895,'[1]002'!B:M,7,0)","v":"李贵庭"},{"$f":"VLOOKUP(B895,'[1]002'!B:M,8,0)","v":"佛山市顺德区梁开初级中学"},"张炽","佛山市顺德区教育发展中心",{"$f":"VLOOKUP(B895,[2]sheet2!B:L,10,0)","v":"-"},{"$f":"VLOOKUP(B895,[2]sheet2!B:L,11,0)","v":"-"},"http://183.62.54.51:8841/data/files/certificate/000000000439/bf4b4b1a79df4d879237e3e26f1aaafa/signed/893_李贵庭、张炽、陈桂华_一等奖_6780.pdf"]
[894,"P303219091074","爸爸去哪儿新疆篇","初中组","课件","一等奖","佛山市",{"$f":"VLOOKUP(B896,'[1]002'!B:M,7,0)","v":"麦艳娴"},{"$f":"VLOOKUP(B896,'[1]002'!B:M,8,0)","v":"佛山市顺德区梁开初级中学"},{"$f":"VLOOKUP(B896,'[1]002'!B:M,11,0)","v":"-"},{"$f":"VLOOKUP(B896,'[1]002'!B:M,12,0)","v":"-"},{"$f":"VLOOKUP(B896,[2]sheet2!B:L,10,0)","v":"-"},{"$f":"VLOOKUP(B896,[2]sheet2!B:L,11,0)","v":"-"},"http://183.62.54.51:8841/data/files/certificate/000000000439/b8c8bf05b5634e3aad2e83aeaf206aeb/signed/894_麦艳娴_一等奖_6781.pdf"]
[895,"P303219091070","PBL视角下的光的折射专题学习","初中组","课件","一等奖","佛山市",{"$f":"VLOOKUP(B897,'[1]002'!B:M,7,0)","v":"陈桂华"},{"$f":"VLOOKUP(B897,'[1]002'!B:M,8,0)","v":"佛山市顺德区梁开初级中学"},{"$f":"VLOOKUP(B897,'[1]002'!B:M,11,0)","v":"张炽"},{"$f":"VLOOKUP(B897,'[1]002'!B:M,12,0)","v":"佛山市顺德区教育发展中心"},{"$f":"VLOOKUP(B897,[2]sheet2!B:L,10,0)","v":"李贵庭"},{"$f":"VLOOKUP(B897,[2]sheet2!B:L,11,0)","v":"佛山市顺德区梁开初级中学"},"http://183.62.54.51:8841/data/files/certificate/000000000439/a7ee791001234b67af7b80de8f11087a/signed/895_陈桂华、张炽、李贵庭_一等奖_6782.pdf"]
[896,"P303219091069","木兰诗","初中组","课件","一等奖","佛山市",{"$f":"VLOOKUP(B898,'[1]002'!B:M,7,0)","v":"刘上玲"},{"$f":"VLOOKUP(B898,'[1]002'!B:M,8,0)","v":"佛山市顺德区西山小学高新区学校"},{"$f":"VLOOKUP(B898,'[1]002'!B:M,11,0)","v":"郑宏彬"},{"$f":"VLOOKUP(B898,'[1]002'!B:M,12,0)","v":"佛山市顺德区北滘中心小学"},{"$f":"VLOOKUP(B898,[2]sheet2!B:L,10,0)","v":"陈惠峰"},{"$f":"VLOOKUP(B898,[2]sheet2!B:L,11,0)","v":"佛山市顺德区东马宁小学"},"http://183.62.54.51:8841/data/files/certificate/000000000439/13ef29e9215e4eb8bdba6a252e13f851/signed/896_刘上玲、郑宏彬、陈惠峰_一等奖_6783.pdf"]
[897,"P303219088306","岳阳楼记","初中组","课件","一等奖","韶关市",{"$f":"VLOOKUP(B899,'[1]002'!B:M,7,0)","v":"周志英"},{"$f":"VLOOKUP(B899,'[1]002'!B:M,8,0)","v":"始兴县马市中学"},"刘国威","始兴县逸夫小学",{"$f":"VLOOKUP(B899,[2]sheet2!B:L,10,0)","v":"-"},{"$f":"VLOOKUP(B899,[2]sheet2!B:L,11,0)","v":"-"},"http://183.62.54.51:8841/data/files/certificate/000000000439/5df9538ede3042e591cefbd57c5154da/signed/897_周志英、刘国威_一等奖_6784.pdf"]
[898,"P303219090542","勾股定理","初中组","课件","一等奖","韶关市",{"$f":"VLOOKUP(B900,'[1]002'!B:M,7,0)","v":"黄琨"},{"$f":"VLOOKUP(B900,'[1]002'!B:M,8,0)","v":"韶关市曲江初级中学"},{"$f":"VLOOKUP(B900,'[1]002'!B:M,11,0)","v":"-"},{"$f":"VLOOKUP(B900,'[1]002'!B:M,12,0)","v":"-"},{"$f":"VLOOKUP(B900,[2]sheet2!B:L,10,0)","v":"-"},{"$f":"VLOOKUP(B900,[2]sheet2!B:L,11,0)","v":"-"},"http://183.62.54.51:8841/data/files/certificate/000000000439/67541f47fcb44d84bd8eb7d8575bc9bc/signed/898_黄琨_一等奖_6785.pdf"]
[899,"P303219089069","Do you like bananas？","初中组","课件","一等奖","韶关市",{"$f":"VLOOKUP(B901,'[1]002'!B:M,7,0)","v":"黄德洁"},{"$f":"VLOOKUP(B901,'[1]002'!B:M,8,0)","v":"韶关市第九中学"},{"$f":"VLOOKUP(B901,'[1]002'!B:M,11,0)","v":"潘高峰"},{"$f":"VLOOKUP(B901,'[1]002'!B:M,12,0)","v":"韶关市第九中学"},{"$f":"VLOOKUP(B901,[2]sheet2!B:L,10,0)","v":"-"},{"$f":"VLOOKUP(B901,[2]sheet2!B:L,11,0)","v":"-"},"http://183.62.54.51:8841/data/files/certificate/000000000439/3f709afac33f44e8b765c6812e83d009/signed/899_黄德洁、潘高峰_一等奖_6786.pdf"]
[900,"P303219093353","Unit5Whydoyoulikepandas","初中组","课件","一等奖","河源市",{"$f":"VLOOKUP(B902,'[1]002'!B:M,7,0)","v":"罗素珊"},{"$f":"VLOOKUP(B902,'[1]002'!B:M,8,0)","v":"河源市源城区宝源学校"},{"$f":"VLOOKUP(B902,'[1]002'!B:M,11,0)","v":"-"},{"$f":"VLOOKUP(B902,'[1]002'!B:M,12,0)","v":"-"},{"$f":"VLOOKUP(B902,[2]sheet2!B:L,10,0)","v":"-"},{"$f":"VLOOKUP(B902,[2]sheet2!B:L,11,0)","v":"-"},"http://183.62.54.51:8841/data/files/certificate/000000000439/a4c05c516a0f4327b0aa00b6479153af/signed/900_罗素珊_一等奖_6787.pdf"]
[901,"P303219092486","望岳","初中组","课件","一等奖","东莞市",{"$f":"VLOOKUP(B903,'[1]002'!B:M,7,0)","v":"萧伟豪"},{"$f":"VLOOKUP(B903,'[1]002'!B:M,8,0)","v":"东莞市石碣东风实验学校"},{"$f":"VLOOKUP(B903,'[1]002'!B:M,11,0)","v":"毛安世"},{"$f":"VLOOKUP(B903,'[1]002'!B:M,12,0)","v":"东莞市石碣东风实验学校"},{"$f":"VLOOKUP(B903,[2]sheet2!B:L,10,0)","v":"-"},{"$f":"VLOOKUP(B903,[2]sheet2!B:L,11,0)","v":"-"},"http://183.62.54.51:8841/data/files/certificate/000000000439/7f5922284cb04532a0b849f59f5f0ad5/signed/901_萧伟豪、毛安世_一等奖_6788.pdf"]
[902,"P303219089205","Family and friends 读写综合","初中组","课件","一等奖","中山市",{"$f":"VLOOKUP(B904,'[1]002'!B:M,7,0)","v":"唐莹"},{"$f":"VLOOKUP(B904,'[1]002'!B:M,8,0)","v":"中山市五桂山学校"},{"$f":"VLOOKUP(B904,'[1]002'!B:M,11,0)","v":"-"},{"$f":"VLOOKUP(B904,'[1]002'!B:M,12,0)","v":"-"},{"$f":"VLOOKUP(B904,[2]sheet2!B:L,10,0)","v":"-"},{"$f":"VLOOKUP(B904,[2]sheet2!B:L,11,0)","v":"-"},"http://183.62.54.51:8841/data/files/certificate/000000000439/8410b5d7754846fcae6e85a95d744352/signed/902_唐莹_一等奖_6789.pdf"]
[903,"P303219091759","Photoshop图层蒙版","初中组","课件","一等奖","江门市",{"$f":"VLOOKUP(B905,'[1]002'!B:M,7,0)","v":"韩双凤"},{"$f":"VLOOKUP(B905,'[1]002'!B:M,8,0)","v":"江门市蓬江区荷塘中学"},{"$f":"VLOOKUP(B905,'[1]002'!B:M,11,0)","v":"朱应伟"},{"$f":"VLOOKUP(B905,'[1]002'!B:M,12,0)","v":"江门市蓬江区荷塘中学"},{"$f":"VLOOKUP(B905,[2]sheet2!B:L,10,0)","v":"-"},{"$f":"VLOOKUP(B905,[2]sheet2!B:L,11,0)","v":"-"},"http://183.62.54.51:8841/data/files/certificate/000000000439/bd4b1afe960641efb3d499080e324cfa/signed/903_韩双凤、朱应伟_一等奖_6790.pdf"]
[904,"P303219092952","缓解压力写作课课件","初中组","课件","一等奖","湛江市",{"$f":"VLOOKUP(B906,'[1]002'!B:M,7,0)","v":"彭丽群"},{"$f":"VLOOKUP(B906,'[1]002'!B:M,8,0)","v":"岭南师范学院附属中学"},{"$f":"VLOOKUP(B906,'[1]002'!B:M,11,0)","v":"-"},{"$f":"VLOOKUP(B906,'[1]002'!B:M,12,0)","v":"-"},{"$f":"VLOOKUP(B906,[2]sheet2!B:L,10,0)","v":"-"},{"$f":"VLOOKUP(B906,[2]sheet2!B:L,11,0)","v":"-"},"http://183.62.54.51:8841/data/files/certificate/000000000439/fdd05ad6e5d748bf8069ba0dd55be505/signed/904_彭丽群_一等奖_6791.pdf"]
[905,"P303219092948","陋室铭","初中组","课件","一等奖","湛江市",{"$f":"VLOOKUP(B907,'[1]002'!B:M,7,0)","v":"黄婷"},{"$f":"VLOOKUP(B907,'[1]002'!B:M,8,0)","v":"岭南师范学院附属中学"},{"$f":"VLOOKUP(B907,'[1]002'!B:M,11,0)","v":"-"},{"$f":"VLOOKUP(B907,'[1]002'!B:M,12,0)","v":"-"},{"$f":"VLOOKUP(B907,[2]sheet2!B:L,10,0)","v":"-"},{"$f":"VLOOKUP(B907,[2]sheet2!B:L,11,0)","v":"-"},"http://183.62.54.51:8841/data/files/certificate/000000000439/61ad12658b8749508e7faa516bce5235/signed/905_黄婷_一等奖_6792.pdf"]
[906,"P305219093230","The Canton Tower is calling","初中组","微课","一等奖","广州市",{"$f":"VLOOKUP(B908,'[1]002'!B:M,7,0)","v":"黄琦"},{"$f":"VLOOKUP(B908,'[1]002'!B:M,8,0)","v":"广州市培英中学"},{"$f":"VLOOKUP(B908,'[1]002'!B:M,11,0)","v":"-"},{"$f":"VLOOKUP(B908,'[1]002'!B:M,12,0)","v":"-"},{"$f":"VLOOKUP(B908,[2]sheet2!B:L,10,0)","v":"-"},{"$f":"VLOOKUP(B908,[2]sheet2!B:L,11,0)","v":"-"},"http://183.62.54.51:8841/data/files/certificate/000000000439/4464bf94276340039669256ab5d9bef5/signed/906_黄琦_一等奖_6793.pdf"]
[907,"P305219093235","潮虫、鼠妇、卷甲虫一一傻傻不分的老鼠好朋友们","初中组","微课","一等奖","广州市",{"$f":"VLOOKUP(B909,'[1]002'!B:M,7,0)","v":"郑思东"},{"$f":"VLOOKUP(B909,'[1]002'!B:M,8,0)","v":"广州市真光中学"},{"$f":"VLOOKUP(B909,'[1]002'!B:M,11,0)","v":"崔楚颖"},{"$f":"VLOOKUP(B909,'[1]002'!B:M,12,0)","v":"广州市荔湾区真光中英文小学"},{"$f":"VLOOKUP(B909,[2]sheet2!B:L,10,0)","v":"-"},{"$f":"VLOOKUP(B909,[2]sheet2!B:L,11,0)","v":"-"},"http://183.62.54.51:8841/data/files/certificate/000000000439/ba2c63ff4eac46fdb8e18b9ff4b2d8ca/signed/907_郑思东、崔楚颖_一等奖_6794.pdf"]
[908,"P305219093233","肖像描写方法指导","初中组","微课","一等奖","广州市",{"$f":"VLOOKUP(B910,'[1]002'!B:M,7,0)","v":"阳玉莹"},{"$f":"VLOOKUP(B910,'[1]002'!B:M,8,0)","v":"广州市第十六中学"},{"$f":"VLOOKUP(B910,'[1]002'!B:M,11,0)","v":"-"},{"$f":"VLOOKUP(B910,'[1]002'!B:M,12,0)","v":"-"},{"$f":"VLOOKUP(B910,[2]sheet2!B:L,10,0)","v":"-"},{"$f":"VLOOKUP(B910,[2]sheet2!B:L,11,0)","v":"-"},"http://183.62.54.51:8841/data/files/certificate/000000000439/55db0fcfa6ac46fa9ca7eb249517ed4f/signed/908_阳玉莹_一等奖_6795.pdf"]
[909,"P305219092684","在欢乐谷学祈使句","初中组","微课","一等奖","深圳市",{"$f":"VLOOKUP(B911,'[1]002'!B:M,7,0)","v":"杨婷婷"},{"$f":"VLOOKUP(B911,'[1]002'!B:M,8,0)","v":"深圳市龙华区大浪实验学校"},{"$f":"VLOOKUP(B911,'[1]002'!B:M,11,0)","v":"-"},{"$f":"VLOOKUP(B911,'[1]002'!B:M,12,0)","v":"-"},{"$f":"VLOOKUP(B911,[2]sheet2!B:L,10,0)","v":"-"},{"$f":"VLOOKUP(B911,[2]sheet2!B:L,11,0)","v":"-"},"http://183.62.54.51:8841/data/files/certificate/000000000439/c8f2fed545914b21add58078aade6b44/signed/909_杨婷婷_一等奖_6796.pdf"]
[910,"P305219092683","PS图层蒙版","初中组","微课","一等奖","深圳市",{"$f":"VLOOKUP(B912,'[1]002'!B:M,7,0)","v":"黄晓媚"},{"$f":"VLOOKUP(B912,'[1]002'!B:M,8,0)","v":"深圳市龙华区同胜学校"},{"$f":"VLOOKUP(B912,'[1]002'!B:M,11,0)","v":"-"},{"$f":"VLOOKUP(B912,'[1]002'!B:M,12,0)","v":"-"},{"$f":"VLOOKUP(B912,[2]sheet2!B:L,10,0)","v":"-"},{"$f":"VLOOKUP(B912,[2]sheet2!B:L,11,0)","v":"-"},"http://183.62.54.51:8841/data/files/certificate/000000000439/60489401b7e64a7e9d565ea853878976/signed/910_黄晓媚_一等奖_6797.pdf"]
[911,"P305219092686","过去分词作宾语补足语","初中组","微课","一等奖","深圳市",{"$f":"VLOOKUP(B913,'[1]002'!B:M,7,0)","v":"刘静"},{"$f":"VLOOKUP(B913,'[1]002'!B:M,8,0)","v":"龙岗区布吉贤义外国语学校"},{"$f":"VLOOKUP(B913,'[1]002'!B:M,11,0)","v":"-"},{"$f":"VLOOKUP(B913,'[1]002'!B:M,12,0)","v":"-"},{"$f":"VLOOKUP(B913,[2]sheet2!B:L,10,0)","v":"-"},{"$f":"VLOOKUP(B913,[2]sheet2!B:L,11,0)","v":"-"},"http://183.62.54.51:8841/data/files/certificate/000000000439/b891e8f2291f4aceb9bc12a157aea36c/signed/911_刘静_一等奖_6798.pdf"]
[912,"P305219092690","神奇的硬币","初中组","微课","一等奖","深圳市",{"$f":"VLOOKUP(B914,'[1]002'!B:M,7,0)","v":"陈耿炎"},{"$f":"VLOOKUP(B914,'[1]002'!B:M,8,0)","v":"横岗街道中心学校"},{"$f":"VLOOKUP(B914,'[1]002'!B:M,11,0)","v":"张惠瑶"},{"$f":"VLOOKUP(B914,'[1]002'!B:M,12,0)","v":"南湾街道下李朗小学"},{"$f":"VLOOKUP(B914,[2]sheet2!B:L,10,0)","v":"-"},{"$f":"VLOOKUP(B914,[2]sheet2!B:L,11,0)","v":"-"},"http://183.62.54.51:8841/data/files/certificate/000000000439/faf05d4d0aab4dfd8f7041dc1ba3de52/signed/912_陈耿炎、张惠瑶_一等奖_6799.pdf"]
[913,"P305219091885","how far，how soon， how long，how often词义辨析","初中组","微课","一等奖","汕头市",{"$f":"VLOOKUP(B915,'[1]002'!B:M,7,0)","v":"张　洁"},{"$f":"VLOOKUP(B915,'[1]002'!B:M,8,0)","v":"汕头市金园实验中学"},{"$f":"VLOOKUP(B915,'[1]002'!B:M,11,0)","v":"-"},{"$f":"VLOOKUP(B915,'[1]002'!B:M,12,0)","v":"-"},{"$f":"VLOOKUP(B915,[2]sheet2!B:L,10,0)","v":"-"},{"$f":"VLOOKUP(B915,[2]sheet2!B:L,11,0)","v":"-"},"http://183.62.54.51:8841/data/files/certificate/000000000439/85667c2877cd442ba3030001660f8373/signed/913_张　洁_一等奖_6800.pdf"]
[914,"P305219090465","地球和地球仪","初中组","微课","一等奖","韶关市",{"$f":"VLOOKUP(B916,'[1]002'!B:M,7,0)","v":"黄凤容"},{"$f":"VLOOKUP(B916,'[1]002'!B:M,8,0)","v":"韶关市曲江区樟市中学"},{"$f":"VLOOKUP(B916,'[1]002'!B:M,11,0)","v":"-"},{"$f":"VLOOKUP(B916,'[1]002'!B:M,12,0)","v":"-"},{"$f":"VLOOKUP(B916,[2]sheet2!B:L,10,0)","v":"-"},{"$f":"VLOOKUP(B916,[2]sheet2!B:L,11,0)","v":"-"},"http://183.62.54.51:8841/data/files/certificate/000000000439/31cabc238ec449e49d3658e887c8bee8/signed/914_黄凤容_一等奖_6801.pdf"]
[915,"P305219089514","被动语态在一般过去时中的运用","初中组","微课","一等奖","韶关市",{"$f":"VLOOKUP(B917,'[1]002'!B:M,7,0)","v":"尹玲"},{"$f":"VLOOKUP(B917,'[1]002'!B:M,8,0)","v":"仁化县第一中学"},{"$f":"VLOOKUP(B917,'[1]002'!B:M,11,0)","v":"-"},{"$f":"VLOOKUP(B917,'[1]002'!B:M,12,0)","v":"-"},{"$f":"VLOOKUP(B917,[2]sheet2!B:L,10,0)","v":"-"},{"$f":"VLOOKUP(B917,[2]sheet2!B:L,11,0)","v":"-"},"http://183.62.54.51:8841/data/files/certificate/000000000439/9ca82d0207d74f9ab75199c5e62bba40/signed/915_尹玲_一等奖_6802.pdf"]
[916,"P305219088583","待定系数法求一次函数解析式","初中组","微课","一等奖","韶关市",{"$f":"VLOOKUP(B918,'[1]002'!B:M,7,0)","v":"张桃红"},{"$f":"VLOOKUP(B918,'[1]002'!B:M,8,0)","v":"韶关市第八中学"},{"$f":"VLOOKUP(B918,'[1]002'!B:M,11,0)","v":"-"},{"$f":"VLOOKUP(B918,'[1]002'!B:M,12,0)","v":"-"},{"$f":"VLOOKUP(B918,[2]sheet2!B:L,10,0)","v":"-"},{"$f":"VLOOKUP(B918,[2]sheet2!B:L,11,0)","v":"-"},"http://183.62.54.51:8841/data/files/certificate/000000000439/ce46df1a1bc54075b3dff3cb603c871f/signed/916_张桃红_一等奖_6803.pdf"]
[917,"P305219092122","认识压强","初中组","微课","一等奖","惠州市",{"$f":"VLOOKUP(B919,'[1]002'!B:M,7,0)","v":"谢国强"},{"$f":"VLOOKUP(B919,'[1]002'!B:M,8,0)","v":"博罗县福田中学"},{"$f":"VLOOKUP(B919,'[1]002'!B:M,11,0)","v":"-"},{"$f":"VLOOKUP(B919,'[1]002'!B:M,12,0)","v":"-"},{"$f":"VLOOKUP(B919,[2]sheet2!B:L,10,0)","v":"-"},{"$f":"VLOOKUP(B919,[2]sheet2!B:L,11,0)","v":"-"},"http://183.62.54.51:8841/data/files/certificate/000000000439/b528b9b7117e49e394cf8ca8e6b82040/signed/917_谢国强_一等奖_6804.pdf"]
[918,"P305219092581","多图层的动画","初中组","微课","一等奖","东莞市",{"$f":"VLOOKUP(B920,'[1]002'!B:M,7,0)","v":"陆泽娜"},{"$f":"VLOOKUP(B920,'[1]002'!B:M,8,0)","v":"东莞市厚街湖景中学"},{"$f":"VLOOKUP(B920,'[1]002'!B:M,11,0)","v":"谢昭丰"},{"$f":"VLOOKUP(B920,'[1]002'!B:M,12,0)","v":"东莞市厚街湖景中学"},{"$f":"VLOOKUP(B920,[2]sheet2!B:L,10,0)","v":"-"},{"$f":"VLOOKUP(B920,[2]sheet2!B:L,11,0)","v":"-"},"http://183.62.54.51:8841/data/files/certificate/000000000439/681b470ec8714e47b3cfeceda5db344e/signed/918_陆泽娜、谢昭丰_一等奖_6805.pdf"]
[919,"P305219092576","质量守恒定律","初中组","微课","一等奖","东莞市",{"$f":"VLOOKUP(B921,'[1]002'!B:M,7,0)","v":"钟文婷"},{"$f":"VLOOKUP(B921,'[1]002'!B:M,8,0)","v":"东莞市松山湖实验中学"},{"$f":"VLOOKUP(B921,'[1]002'!B:M,11,0)","v":"-"},{"$f":"VLOOKUP(B921,'[1]002'!B:M,12,0)","v":"-"},{"$f":"VLOOKUP(B921,[2]sheet2!B:L,10,0)","v":"-"},{"$f":"VLOOKUP(B921,[2]sheet2!B:L,11,0)","v":"-"},"http://183.62.54.51:8841/data/files/certificate/000000000439/05f5b49555d54ff9aaefcb6c33beca3c/signed/919_钟文婷_一等奖_6806.pdf"]
[920,"P305219092572","安全用电","初中组","微课","一等奖","东莞市",{"$f":"VLOOKUP(B922,'[1]002'!B:M,7,0)","v":"廖浩铭"},{"$f":"VLOOKUP(B922,'[1]002'!B:M,8,0)","v":"东莞市可园中学"},{"$f":"VLOOKUP(B922,'[1]002'!B:M,11,0)","v":"-"},{"$f":"VLOOKUP(B922,'[1]002'!B:M,12,0)","v":"-"},{"$f":"VLOOKUP(B922,[2]sheet2!B:L,10,0)","v":"-"},{"$f":"VLOOKUP(B922,[2]sheet2!B:L,11,0)","v":"-"},"http://183.62.54.51:8841/data/files/certificate/000000000439/674222331ddd4c2bbd1bf764adde0aab/signed/920_廖浩铭_一等奖_6807.pdf"]
[921,"P305219092578","认识内能","初中组","微课","一等奖","东莞市",{"$f":"VLOOKUP(B923,'[1]002'!B:M,7,0)","v":"廖浩铭"},{"$f":"VLOOKUP(B923,'[1]002'!B:M,8,0)","v":"东莞市可园中学"},{"$f":"VLOOKUP(B923,'[1]002'!B:M,11,0)","v":"-"},{"$f":"VLOOKUP(B923,'[1]002'!B:M,12,0)","v":"-"},{"$f":"VLOOKUP(B923,[2]sheet2!B:L,10,0)","v":"-"},{"$f":"VLOOKUP(B923,[2]sheet2!B:L,11,0)","v":"-"},"http://183.62.54.51:8841/data/files/certificate/000000000439/3884e5c2cbc24bc48c2ab695a71ed12c/signed/921_廖浩铭_一等奖_6808.pdf"]
[922,"P305219089667","VB程序设计的过程_交通信号灯","初中组","微课","一等奖","中山市",{"$f":"VLOOKUP(B924,'[1]002'!B:M,7,0)","v":"谭鹏"},{"$f":"VLOOKUP(B924,'[1]002'!B:M,8,0)","v":"中山市东区远洋学校"},{"$f":"VLOOKUP(B924,'[1]002'!B:M,11,0)","v":"赵奇伟"},{"$f":"VLOOKUP(B924,'[1]002'!B:M,12,0)","v":"中山市东区远洋学校"},{"$f":"VLOOKUP(B924,[2]sheet2!B:L,10,0)","v":"-"},{"$f":"VLOOKUP(B924,[2]sheet2!B:L,11,0)","v":"-"},"http://183.62.54.51:8841/data/files/certificate/000000000439/4f383c561f4741b498d5fb97368b0dd5/signed/922_谭鹏、赵奇伟_一等奖_6809.pdf"]
[923,"P305219091409","物理君你好","初中组","微课","一等奖","茂名市",{"$f":"VLOOKUP(B925,'[1]002'!B:M,7,0)","v":"李华新"},{"$f":"VLOOKUP(B925,'[1]002'!B:M,8,0)","v":"茂名市启源中学"},{"$f":"VLOOKUP(B925,'[1]002'!B:M,11,0)","v":"-"},{"$f":"VLOOKUP(B925,'[1]002'!B:M,12,0)","v":"-"},{"$f":"VLOOKUP(B925,[2]sheet2!B:L,10,0)","v":"-"},{"$f":"VLOOKUP(B925,[2]sheet2!B:L,11,0)","v":"-"},"http://183.62.54.51:8841/data/files/certificate/000000000439/6847b571b10242789aa9d0aacba6a005/signed/923_李华新_一等奖_6810.pdf"]
[924,"P305219091407","视觉中的红屋顶","初中组","微课","一等奖","茂名市",{"$f":"VLOOKUP(B926,'[1]002'!B:M,7,0)","v":"王舒华"},{"$f":"VLOOKUP(B926,'[1]002'!B:M,8,0)","v":"茂名市龙岭学校"},{"$f":"VLOOKUP(B926,'[1]002'!B:M,11,0)","v":"-"},{"$f":"VLOOKUP(B926,'[1]002'!B:M,12,0)","v":"-"},{"$f":"VLOOKUP(B926,[2]sheet2!B:L,10,0)","v":"-"},{"$f":"VLOOKUP(B926,[2]sheet2!B:L,11,0)","v":"-"},"http://183.62.54.51:8841/data/files/certificate/000000000439/08b27ee96dff47fa8956ab18aab14ec8/signed/924_王舒华_一等奖_6811.pdf"]
[925,"P305219091640","三角形的中位线","初中组","微课","一等奖","清远市",{"$f":"VLOOKUP(B927,'[1]002'!B:M,7,0)","v":"朱光睿"},{"$f":"VLOOKUP(B927,'[1]002'!B:M,8,0)","v":"英德市第一小学"},{"$f":"VLOOKUP(B927,'[1]002'!B:M,11,0)","v":"-"},{"$f":"VLOOKUP(B927,'[1]002'!B:M,12,0)","v":"-"},{"$f":"VLOOKUP(B927,[2]sheet2!B:L,10,0)","v":"-"},{"$f":"VLOOKUP(B927,[2]sheet2!B:L,11,0)","v":"-"},"http://183.62.54.51:8841/data/files/certificate/000000000439/549a5292a9644e969411bd2960b19d07/signed/925_朱光睿_一等奖_6812.pdf"]
[926,"P305219085742","加热高锰酸钾制取氧气","初中组","微课","一等奖","潮州市",{"$f":"VLOOKUP(B928,'[1]002'!B:M,7,0)","v":"苏培成"},"潮州市潮安区凤塘镇智勇中学",{"$f":"VLOOKUP(B928,'[1]002'!B:M,11,0)","v":"-"},{"$f":"VLOOKUP(B928,'[1]002'!B:M,12,0)","v":"-"},{"$f":"VLOOKUP(B928,[2]sheet2!B:L,10,0)","v":"-"},{"$f":"VLOOKUP(B928,[2]sheet2!B:L,11,0)","v":"-"},"http://183.62.54.51:8841/data/files/certificate/000000000439/9854cc2e7849444097a4fe1315b3ac3b/signed/926_苏培成_一等奖_6813.pdf"]
[927,"P307219092828","信息平台下初中英语课外阅读混合式教学模式实践案例","初中组","信息技术创新教学案例","一等奖","东莞市",{"$f":"VLOOKUP(B929,'[1]002'!B:M,7,0)","v":"谢迎春"},{"$f":"VLOOKUP(B929,'[1]002'!B:M,8,0)","v":"东莞市松山湖实验中学"},{"$f":"VLOOKUP(B929,'[1]002'!B:M,11,0)","v":"李晶"},{"$f":"VLOOKUP(B929,'[1]002'!B:M,12,0)","v":"东莞市松山湖实验中学"},{"$f":"VLOOKUP(B929,[2]sheet2!B:L,10,0)","v":"陈婉琼"},{"$f":"VLOOKUP(B929,[2]sheet2!B:L,11,0)","v":"东莞市松山湖实验中学"},"http://183.62.54.51:8841/data/files/certificate/000000000439/6dbb192555e74e6f902d21516359becd/signed/927_谢迎春、李晶、陈婉琼_一等奖_6814.pdf"]
[928,"P301219087643","未来已来","初中组","教师网络空间应用案例","一等奖","梅州市",{"$f":"VLOOKUP(B930,'[1]002'!B:M,7,0)","v":"葛小英"},{"$f":"VLOOKUP(B930,'[1]002'!B:M,8,0)","v":"广东梅县外国语学校"},{"$f":"VLOOKUP(B930,'[1]002'!B:M,11,0)","v":"-"},{"$f":"VLOOKUP(B930,'[1]002'!B:M,12,0)","v":"-"},{"$f":"VLOOKUP(B930,[2]sheet2!B:L,10,0)","v":"-"},{"$f":"VLOOKUP(B930,[2]sheet2!B:L,11,0)","v":"-"},"http://183.62.54.51:8841/data/files/certificate/000000000439/daa80c6c3c514e109bdf57210dd9a04c/signed/928_葛小英_一等奖_6815.pdf"]
[929,"P304219092846","助眠香薰蜡的设计与制作","初中组","跨学科项目式学习教学案例","一等奖","东莞市",{"$f":"VLOOKUP(B931,'[1]002'!B:M,7,0)","v":"叶敏仪"},{"$f":"VLOOKUP(B931,'[1]002'!B:M,8,0)","v":"东莞市松山湖实验中学"},{"$f":"VLOOKUP(B931,'[1]002'!B:M,11,0)","v":"-"},{"$f":"VLOOKUP(B931,'[1]002'!B:M,12,0)","v":"-"},{"$f":"VLOOKUP(B931,[2]sheet2!B:L,10,0)","v":"-"},{"$f":"VLOOKUP(B931,[2]sheet2!B:L,11,0)","v":"-"},"http://183.62.54.51:8841/data/files/certificate/000000000439/993ff94b31d5494db6f26704f602d56b/signed/929_叶敏仪_一等奖_6816.pdf"]
[930,"P306219093217","沙画艺术美丽的广州","初中组","新媒体新技术教学应用课例","一等奖",{"$f":"RIGHT(LEFT(VLOOKUP(B932,'[1]002'!B:M,3,0),7),3)","v":"广州市"},{"$f":"VLOOKUP(B932,'[1]002'!B:M,7,0)","v":"陈良玉"},{"$f":"VLOOKUP(B932,'[1]002'!B:M,8,0)","v":"广州市花都区圆玄中学"},{"$f":"VLOOKUP(B932,'[1]002'!B:M,11,0)","v":"-"},{"$f":"VLOOKUP(B932,'[1]002'!B:M,12,0)","v":"-"},{"$f":"VLOOKUP(B932,[2]sheet2!B:L,10,0)","v":"-"},{"$f":"VLOOKUP(B932,[2]sheet2!B:L,11,0)","v":"-"},"http://183.62.54.51:8841/data/files/certificate/000000000439/060bb18f05c94b1182a4615d9d6a9b26/signed/930_陈良玉_一等奖_6817.pdf"]
[931,"P306219093218","正方形","初中组","新媒体新技术教学应用课例","一等奖",{"$f":"RIGHT(LEFT(VLOOKUP(B933,'[1]002'!B:M,3,0),7),3)","v":"广州市"},{"$f":"VLOOKUP(B933,'[1]002'!B:M,7,0)","v":"苏国东"},{"$f":"VLOOKUP(B933,'[1]002'!B:M,8,0)","v":"广州市真光中学"},{"$f":"VLOOKUP(B933,'[1]002'!B:M,11,0)","v":"-"},{"$f":"VLOOKUP(B933,'[1]002'!B:M,12,0)","v":"-"},{"$f":"VLOOKUP(B933,[2]sheet2!B:L,10,0)","v":"-"},{"$f":"VLOOKUP(B933,[2]sheet2!B:L,11,0)","v":"-"},"http://183.62.54.51:8841/data/files/certificate/000000000439/d63262b4f84a43c18d7f56920efb950b/signed/931_苏国东_一等奖_6818.pdf"]
[932,"P306219092665","图形联想创意","初中组","新媒体新技术教学应用课例","一等奖",{"$f":"RIGHT(LEFT(VLOOKUP(B934,'[1]002'!B:M,3,0),7),3)","v":"深圳市"},{"$f":"VLOOKUP(B934,'[1]002'!B:M,7,0)","v":"刘晟"},{"$f":"VLOOKUP(B934,'[1]002'!B:M,8,0)","v":"深圳市福田区上步中学"},{"$f":"VLOOKUP(B934,'[1]002'!B:M,11,0)","v":"-"},{"$f":"VLOOKUP(B934,'[1]002'!B:M,12,0)","v":"-"},{"$f":"VLOOKUP(B934,[2]sheet2!B:L,10,0)","v":"-"},{"$f":"VLOOKUP(B934,[2]sheet2!B:L,11,0)","v":"-"},"http://183.62.54.51:8841/data/files/certificate/000000000439/5d69479ef50a42ffa69e0fa68ea6a8da/signed/932_刘晟_一等奖_6819.pdf"]
[933,"P306219092664","利用三角形全等测距离","初中组","新媒体新技术教学应用课例","一等奖",{"$f":"RIGHT(LEFT(VLOOKUP(B935,'[1]002'!B:M,3,0),7),3)","v":"深圳市"},{"$f":"VLOOKUP(B935,'[1]002'!B:M,7,0)","v":"王海霞"},{"$f":"VLOOKUP(B935,'[1]002'!B:M,8,0)","v":"深圳市田东中学"},{"$f":"VLOOKUP(B935,'[1]002'!B:M,11,0)","v":"-"},{"$f":"VLOOKUP(B935,'[1]002'!B:M,12,0)","v":"-"},{"$f":"VLOOKUP(B935,[2]sheet2!B:L,10,0)","v":"-"},{"$f":"VLOOKUP(B935,[2]sheet2!B:L,11,0)","v":"-"},"http://183.62.54.51:8841/data/files/certificate/000000000439/7e6ac2becdee41118dfb26c58ea62d74/signed/933_王海霞_一等奖_6820.pdf"]
[934,"P306219088782","粤创乐美","初中组","新媒体新技术教学应用课例","一等奖",{"$f":"RIGHT(LEFT(VLOOKUP(B936,'[1]002'!B:M,3,0),7),3)","v":"珠海市"},{"$f":"VLOOKUP(B936,'[1]002'!B:M,7,0)","v":"李誉"},{"$f":"VLOOKUP(B936,'[1]002'!B:M,8,0)","v":"珠海市第九中学"},{"$f":"VLOOKUP(B936,'[1]002'!B:M,11,0)","v":"汤黎黎"},{"$f":"VLOOKUP(B936,'[1]002'!B:M,12,0)","v":"珠海市第九中学"},{"$f":"VLOOKUP(B936,[2]sheet2!B:L,10,0)","v":"-"},{"$f":"VLOOKUP(B936,[2]sheet2!B:L,11,0)","v":"-"},"http://183.62.54.51:8841/data/files/certificate/000000000439/6532fee0c0764851860492fa21d7fd31/signed/934_李誉、汤黎黎_一等奖_6821.pdf"]
[935,"P307219085941","VR云互动同课同构课例心脏","初中组","新媒体新技术教学应用课例","一等奖",{"$f":"RIGHT(LEFT(VLOOKUP(B937,'[1]002'!B:M,3,0),7),3)","v":"珠海市"},{"$f":"VLOOKUP(B937,'[1]002'!B:M,7,0)","v":"林艳"},{"$f":"VLOOKUP(B937,'[1]002'!B:M,8,0)","v":"珠海市文园中学"},{"$f":"VLOOKUP(B937,'[1]002'!B:M,11,0)","v":"易秦"},{"$f":"VLOOKUP(B937,'[1]002'!B:M,12,0)","v":"珠海市第十一中学"},{"$f":"VLOOKUP(B937,[2]sheet2!B:L,10,0)","v":"-"},{"$f":"VLOOKUP(B937,[2]sheet2!B:L,11,0)","v":"-"},"http://183.62.54.51:8841/data/files/certificate/000000000439/a37ba15cde944408883f333b3f626356/signed/935_林艳、易秦_一等奖_6822.pdf"]
[936,"P302219087988","声音的特性","初中组","新媒体新技术教学应用课例","一等奖",{"$f":"RIGHT(LEFT(VLOOKUP(B938,'[1]002'!B:M,3,0),7),3)","v":"珠海市"},{"$f":"VLOOKUP(B938,'[1]002'!B:M,7,0)","v":"王薇"},{"$f":"VLOOKUP(B938,'[1]002'!B:M,8,0)","v":"珠海市前山中学"},{"$f":"VLOOKUP(B938,'[1]002'!B:M,11,0)","v":"-"},{"$f":"VLOOKUP(B938,'[1]002'!B:M,12,0)","v":"-"},{"$f":"VLOOKUP(B938,[2]sheet2!B:L,10,0)","v":"-"},{"$f":"VLOOKUP(B938,[2]sheet2!B:L,11,0)","v":"-"},"http://183.62.54.51:8841/data/files/certificate/000000000439/f6b6c1ed0b3d497db3f2dd1211d576fd/signed/936_王薇_一等奖_6823.pdf"]
[937,"P306219090362","就英法联军远征中国致巴特勒上尉的信","初中组","新媒体新技术教学应用课例","一等奖",{"$f":"RIGHT(LEFT(VLOOKUP(B939,'[1]002'!B:M,3,0),7),3)","v":"珠海市"},{"$f":"VLOOKUP(B939,'[1]002'!B:M,7,0)","v":"刘娟娟"},{"$f":"VLOOKUP(B939,'[1]002'!B:M,8,0)","v":"珠海市第五中学"},{"$f":"VLOOKUP(B939,'[1]002'!B:M,11,0)","v":"-"},{"$f":"VLOOKUP(B939,'[1]002'!B:M,12,0)","v":"-"},{"$f":"VLOOKUP(B939,[2]sheet2!B:L,10,0)","v":"-"},{"$f":"VLOOKUP(B939,[2]sheet2!B:L,11,0)","v":"-"},"http://183.62.54.51:8841/data/files/certificate/000000000439/44a203dd426a436fb0790e63a23128a7/signed/937_刘娟娟_一等奖_6824.pdf"]
[938,"P306219089725","人教版九年级Unit13","初中组","新媒体新技术教学应用课例","一等奖",{"$f":"RIGHT(LEFT(VLOOKUP(B940,'[1]002'!B:M,3,0),7),3)","v":"珠海市"},{"$f":"VLOOKUP(B940,'[1]002'!B:M,7,0)","v":"张凡"},{"$f":"VLOOKUP(B940,'[1]002'!B:M,8,0)","v":"珠海市第五中学"},{"$f":"VLOOKUP(B940,'[1]002'!B:M,11,0)","v":"-"},{"$f":"VLOOKUP(B940,'[1]002'!B:M,12,0)","v":"-"},{"$f":"VLOOKUP(B940,[2]sheet2!B:L,10,0)","v":"-"},{"$f":"VLOOKUP(B940,[2]sheet2!B:L,11,0)","v":"-"},"http://183.62.54.51:8841/data/files/certificate/000000000439/a9e79669a6d24b2789f62f76fe54b552/signed/938_张凡_一等奖_6825.pdf"]
[939,"P306219091040","己亥杂诗","初中组","新媒体新技术教学应用课例","一等奖",{"$f":"RIGHT(LEFT(VLOOKUP(B941,'[1]002'!B:M,3,0),7),3)","v":"佛山市"},{"$f":"VLOOKUP(B941,'[1]002'!B:M,7,0)","v":"欧敏华"},{"$f":"VLOOKUP(B941,'[1]002'!B:M,8,0)","v":"佛山市三水区三水中学附属初中"},{"$f":"VLOOKUP(B941,'[1]002'!B:M,11,0)","v":"王作为"},{"$f":"VLOOKUP(B941,'[1]002'!B:M,12,0)","v":"佛山市三水区三水中学附属初中"},{"$f":"VLOOKUP(B941,[2]sheet2!B:L,10,0)","v":"-"},{"$f":"VLOOKUP(B941,[2]sheet2!B:L,11,0)","v":"-"},"http://183.62.54.51:8841/data/files/certificate/000000000439/0550b26b11ed4c0da1e29de27b59b9e3/signed/939_欧敏华、王作为_一等奖_6826.pdf"]
[940,"P306219089700","英语升中备考复习课之话题复习九Plans and Arrangements","初中组","新媒体新技术教学应用课例","一等奖",{"$f":"RIGHT(LEFT(VLOOKUP(B942,'[1]002'!B:M,3,0),7),3)","v":"韶关市"},{"$f":"VLOOKUP(B942,'[1]002'!B:M,7,0)","v":"祝卓昕"},{"$f":"VLOOKUP(B942,'[1]002'!B:M,8,0)","v":"韶关市韶钢实验学校"},{"$f":"VLOOKUP(B942,'[1]002'!B:M,11,0)","v":"-"},{"$f":"VLOOKUP(B942,'[1]002'!B:M,12,0)","v":"-"},{"$f":"VLOOKUP(B942,[2]sheet2!B:L,10,0)","v":"-"},{"$f":"VLOOKUP(B942,[2]sheet2!B:L,11,0)","v":"-"},"http://183.62.54.51:8841/data/files/certificate/000000000439/94c6ed78af924a78896d46c3b030f654/signed/940_祝卓昕_一等奖_6827.pdf"]
[941,"P306219092430","课外阅读FindJoyinFinland","初中组","新媒体新技术教学应用课例","一等奖",{"$f":"RIGHT(LEFT(VLOOKUP(B943,'[1]002'!B:M,3,0),7),3)","v":"东莞市"},{"$f":"VLOOKUP(B943,'[1]002'!B:M,7,0)","v":"林卓容"},{"$f":"VLOOKUP(B943,'[1]002'!B:M,8,0)","v":"东莞市松山湖实验中学"},{"$f":"VLOOKUP(B943,'[1]002'!B:M,11,0)","v":"-"},{"$f":"VLOOKUP(B943,'[1]002'!B:M,12,0)","v":"-"},{"$f":"VLOOKUP(B943,[2]sheet2!B:L,10,0)","v":"-"},{"$f":"VLOOKUP(B943,[2]sheet2!B:L,11,0)","v":"-"},"http://183.62.54.51:8841/data/files/certificate/000000000439/8283ed53043f48559fd0b3a0dfbb025a/signed/941_林卓容_一等奖_6828.pdf"]
[942,"P306219092437","中国区域地理之河流专题复习","初中组","新媒体新技术教学应用课例","一等奖",{"$f":"RIGHT(LEFT(VLOOKUP(B944,'[1]002'!B:M,3,0),7),3)","v":"东莞市"},{"$f":"VLOOKUP(B944,'[1]002'!B:M,7,0)","v":"郭振维"},{"$f":"VLOOKUP(B944,'[1]002'!B:M,8,0)","v":"东莞市松山湖实验中学"},{"$f":"VLOOKUP(B944,'[1]002'!B:M,11,0)","v":"-"},{"$f":"VLOOKUP(B944,'[1]002'!B:M,12,0)","v":"-"},{"$f":"VLOOKUP(B944,[2]sheet2!B:L,10,0)","v":"-"},{"$f":"VLOOKUP(B944,[2]sheet2!B:L,11,0)","v":"-"},"http://183.62.54.51:8841/data/files/certificate/000000000439/53515a8d6d364890bc3c6cf8659dc08c/signed/942_郭振维_一等奖_6829.pdf"]
[943,"P306219089024","Unit 7 Do you think you will have your own robot","初中组","新媒体新技术教学应用课例","一等奖",{"$f":"RIGHT(LEFT(VLOOKUP(B945,'[1]002'!B:M,3,0),7),3)","v":"中山市"},{"$f":"VLOOKUP(B945,'[1]002'!B:M,7,0)","v":"刘敏"},{"$f":"VLOOKUP(B945,'[1]002'!B:M,8,0)","v":"中山市沙溪初级中学"},{"$f":"VLOOKUP(B945,'[1]002'!B:M,11,0)","v":"-"},{"$f":"VLOOKUP(B945,'[1]002'!B:M,12,0)","v":"-"},{"$f":"VLOOKUP(B945,[2]sheet2!B:L,10,0)","v":"-"},{"$f":"VLOOKUP(B945,[2]sheet2!B:L,11,0)","v":"-"},"http://183.62.54.51:8841/data/files/certificate/000000000439/53bcb12e95e9425caf8ba59314003379/signed/943_刘敏_一等奖_6830.pdf"]
[944,"P306219088903","侠客秋景行——运用修辞让作文更生动（互评互改课）","初中组","新媒体新技术教学应用课例","一等奖",{"$f":"RIGHT(LEFT(VLOOKUP(B946,'[1]002'!B:M,3,0),7),3)","v":"中山市"},{"$f":"VLOOKUP(B946,'[1]002'!B:M,7,0)","v":"王然"},{"$f":"VLOOKUP(B946,'[1]002'!B:M,8,0)","v":"中山市沙溪初级中学"},{"$f":"VLOOKUP(B946,'[1]002'!B:M,11,0)","v":"-"},{"$f":"VLOOKUP(B946,'[1]002'!B:M,12,0)","v":"-"},{"$f":"VLOOKUP(B946,[2]sheet2!B:L,10,0)","v":"-"},{"$f":"VLOOKUP(B946,[2]sheet2!B:L,11,0)","v":"-"},"http://183.62.54.51:8841/data/files/certificate/000000000439/79254a90cfb74c4baa6ad6b54732471c/signed/944_王然_一等奖_6831.pdf"]
[945,"P303219092757","我的坦克我做主","初中组","课件","二等奖","深圳市",{"$f":"VLOOKUP(B947,'[1]002'!B:M,7,0)","v":"龙西仔"},{"$f":"VLOOKUP(B947,'[1]002'!B:M,8,0)","v":"深圳市田东中学"},{"$f":"VLOOKUP(B947,'[1]002'!B:M,11,0)","v":"-"},{"$f":"VLOOKUP(B947,'[1]002'!B:M,12,0)","v":"-"},{"$f":"VLOOKUP(B947,[2]sheet2!B:L,10,0)","v":"-"},{"$f":"VLOOKUP(B947,[2]sheet2!B:L,11,0)","v":"-"},"http://183.62.54.51:8841/data/files/certificate/000000000439/2ce6ac64213d4700ae5392aa8ccb7fb7/signed/945_龙西仔_二等奖_6832.pdf"]
[946,"P303219091561","地形和地势第二课时中国的地势特征","初中组","课件","二等奖","珠海市",{"$f":"VLOOKUP(B948,'[1]002'!B:M,7,0)","v":"夏艳华"},{"$f":"VLOOKUP(B948,'[1]002'!B:M,8,0)","v":"珠海市第九中学"},{"$f":"VLOOKUP(B948,'[1]002'!B:M,11,0)","v":"-"},{"$f":"VLOOKUP(B948,'[1]002'!B:M,12,0)","v":"-"},{"$f":"VLOOKUP(B948,[2]sheet2!B:L,10,0)","v":"-"},{"$f":"VLOOKUP(B948,[2]sheet2!B:L,11,0)","v":"-"},"http://183.62.54.51:8841/data/files/certificate/000000000439/8d76217d4f7443bcad7473e687976ea5/signed/946_夏艳华_二等奖_6833.pdf"]
[947,"P303219090355","畅游美国","初中组","课件","二等奖","珠海市",{"$f":"VLOOKUP(B949,'[1]002'!B:M,7,0)","v":"马诗妍"},{"$f":"VLOOKUP(B949,'[1]002'!B:M,8,0)","v":"珠海市第九中学"},{"$f":"VLOOKUP(B949,'[1]002'!B:M,11,0)","v":"-"},{"$f":"VLOOKUP(B949,'[1]002'!B:M,12,0)","v":"-"},{"$f":"VLOOKUP(B949,[2]sheet2!B:L,10,0)","v":"-"},{"$f":"VLOOKUP(B949,[2]sheet2!B:L,11,0)","v":"-"},"http://183.62.54.51:8841/data/files/certificate/000000000439/8d11ae3aab404a63b9da5b22ea59ff9f/signed/947_马诗妍_二等奖_6834.pdf"]
[948,"P303219089943","unit10 I‘d like some noodles- Section A","初中组","课件","二等奖","珠海市",{"$f":"VLOOKUP(B950,'[1]002'!B:M,7,0)","v":"余信毅"},{"$f":"VLOOKUP(B950,'[1]002'!B:M,8,0)","v":"珠海市第九中学"},{"$f":"VLOOKUP(B950,'[1]002'!B:M,11,0)","v":"-"},{"$f":"VLOOKUP(B950,'[1]002'!B:M,12,0)","v":"-"},{"$f":"VLOOKUP(B950,[2]sheet2!B:L,10,0)","v":"-"},{"$f":"VLOOKUP(B950,[2]sheet2!B:L,11,0)","v":"-"},"http://183.62.54.51:8841/data/files/certificate/000000000439/4856e65bd0d64d418b2be9681e52d560/signed/948_余信毅_二等奖_6835.pdf"]
[949,"P303219089201","美国希沃白板课件","初中组","课件","二等奖","珠海市",{"$f":"VLOOKUP(B951,'[1]002'!B:M,7,0)","v":"崔贵妮"},{"$f":"VLOOKUP(B951,'[1]002'!B:M,8,0)","v":"珠海市第九中学"},{"$f":"VLOOKUP(B951,'[1]002'!B:M,11,0)","v":"-"},{"$f":"VLOOKUP(B951,'[1]002'!B:M,12,0)","v":"-"},{"$f":"VLOOKUP(B951,[2]sheet2!B:L,10,0)","v":"-"},{"$f":"VLOOKUP(B951,[2]sheet2!B:L,11,0)","v":"-"},"http://183.62.54.51:8841/data/files/certificate/000000000439/1cd586839a1941779d91eda0f3f80b11/signed/949_崔贵妮_二等奖_6836.pdf"]
[950,"P303219091908","北魏政治和北方民族大交融","初中组","课件","二等奖","汕头市",{"$f":"VLOOKUP(B952,'[1]002'!B:M,7,0)","v":"林文伟"},{"$f":"VLOOKUP(B952,'[1]002'!B:M,8,0)","v":"汕头市达濠第三中学"},{"$f":"VLOOKUP(B952,'[1]002'!B:M,11,0)","v":"王丽珊"},{"$f":"VLOOKUP(B952,'[1]002'!B:M,12,0)","v":"汕头市达濠第三中学"},{"$f":"VLOOKUP(B952,[2]sheet2!B:L,10,0)","v":"-"},{"$f":"VLOOKUP(B952,[2]sheet2!B:L,11,0)","v":"-"},"http://183.62.54.51:8841/data/files/certificate/000000000439/cc89feccc90b473aa014e9909624a314/signed/950_林文伟、王丽珊_二等奖_6837.pdf"]
[951,"P303219092658","潮汕文化主题PPT制作指引","初中组","课件","二等奖","汕头市",{"$f":"VLOOKUP(B953,'[1]002'!B:M,7,0)","v":"陈海琪"},{"$f":"VLOOKUP(B953,'[1]002'!B:M,8,0)","v":"汕头市澄海中学"},{"$f":"VLOOKUP(B953,'[1]002'!B:M,11,0)","v":"-"},{"$f":"VLOOKUP(B953,'[1]002'!B:M,12,0)","v":"-"},{"$f":"VLOOKUP(B953,[2]sheet2!B:L,10,0)","v":"-"},{"$f":"VLOOKUP(B953,[2]sheet2!B:L,11,0)","v":"-"},"http://183.62.54.51:8841/data/files/certificate/000000000439/85b6a5d5209a442ebde4454cf6138799/signed/951_陈海琪_二等奖_6838.pdf"]
[952,"P303219091901","八年级数学下册18.2.2菱形课件","初中组","课件","二等奖","汕头市",{"$f":"VLOOKUP(B954,'[1]002'!B:M,7,0)","v":"林穗娜"},{"$f":"VLOOKUP(B954,'[1]002'!B:M,8,0)","v":"汕头市澄海苏湾中学"},{"$f":"VLOOKUP(B954,'[1]002'!B:M,11,0)","v":"-"},{"$f":"VLOOKUP(B954,'[1]002'!B:M,12,0)","v":"-"},{"$f":"VLOOKUP(B954,[2]sheet2!B:L,10,0)","v":"-"},{"$f":"VLOOKUP(B954,[2]sheet2!B:L,11,0)","v":"-"},"http://183.62.54.51:8841/data/files/certificate/000000000439/1348af83508c47dbbd058d99dae779f8/signed/952_林穗娜_二等奖_6839.pdf"]
[953,"P303219091900","Unit3SectionBPeriod1","初中组","课件","二等奖","汕头市",{"$f":"VLOOKUP(B955,'[1]002'!B:M,7,0)","v":"李云"},{"$f":"VLOOKUP(B955,'[1]002'!B:M,8,0)","v":"汕头市澄海茂南中学"},{"$f":"VLOOKUP(B955,'[1]002'!B:M,11,0)","v":"-"},{"$f":"VLOOKUP(B955,'[1]002'!B:M,12,0)","v":"-"},{"$f":"VLOOKUP(B955,[2]sheet2!B:L,10,0)","v":"-"},{"$f":"VLOOKUP(B955,[2]sheet2!B:L,11,0)","v":"-"},"http://183.62.54.51:8841/data/files/certificate/000000000439/adbbf927c2cd45418cea2c477470bc09/signed/953_李云_二等奖_6840.pdf"]
[954,"P303219091907","28.1.3特殊角的三角函数值","初中组","课件","二等奖","汕头市",{"$f":"VLOOKUP(B956,'[1]002'!B:M,7,0)","v":"陈业进"},{"$f":"VLOOKUP(B956,'[1]002'!B:M,8,0)","v":"汕头市潮南区司马浦溪美朱初级中学"},{"$f":"VLOOKUP(B956,'[1]002'!B:M,11,0)","v":"-"},{"$f":"VLOOKUP(B956,'[1]002'!B:M,12,0)","v":"-"},{"$f":"VLOOKUP(B956,[2]sheet2!B:L,10,0)","v":"-"},{"$f":"VLOOKUP(B956,[2]sheet2!B:L,11,0)","v":"-"},"http://183.62.54.51:8841/data/files/certificate/000000000439/d37f3ce967324e0f90adca50a368bece/signed/954_陈业进_二等奖_6841.pdf"]
[955,"P303219091905","Dragon Boat Festival in China and in the US","初中组","课件","二等奖","汕头市",{"$f":"VLOOKUP(B957,'[1]002'!B:M,7,0)","v":"高潇萱"},{"$f":"VLOOKUP(B957,'[1]002'!B:M,8,0)","v":"汕头市澄海实验高级中学"},{"$f":"VLOOKUP(B957,'[1]002'!B:M,11,0)","v":"-"},{"$f":"VLOOKUP(B957,'[1]002'!B:M,12,0)","v":"-"},{"$f":"VLOOKUP(B957,[2]sheet2!B:L,10,0)","v":"-"},{"$f":"VLOOKUP(B957,[2]sheet2!B:L,11,0)","v":"-"},"http://183.62.54.51:8841/data/files/certificate/000000000439/80a033230249411380317d615dd42273/signed/955_高潇萱_二等奖_6842.pdf"]
[956,"P303219091049","我的母亲","初中组","课件","二等奖","佛山市",{"$f":"VLOOKUP(B958,'[1]002'!B:M,7,0)","v":"王艳珍"},{"$f":"VLOOKUP(B958,'[1]002'!B:M,8,0)","v":"佛山市外国语学校"},{"$f":"VLOOKUP(B958,'[1]002'!B:M,11,0)","v":"-"},{"$f":"VLOOKUP(B958,'[1]002'!B:M,12,0)","v":"-"},{"$f":"VLOOKUP(B958,[2]sheet2!B:L,10,0)","v":"-"},{"$f":"VLOOKUP(B958,[2]sheet2!B:L,11,0)","v":"-"},"http://183.62.54.51:8841/data/files/certificate/000000000439/5f9ec40bb7854cef895dbf2b45fa5d4f/signed/956_王艳珍_二等奖_6843.pdf"]
[957,"P303219091054","第14课海峡两岸的交往","初中组","课件","二等奖","佛山市",{"$f":"VLOOKUP(B959,'[1]002'!B:M,7,0)","v":"黄桂香"},{"$f":"VLOOKUP(B959,'[1]002'!B:M,8,0)","v":"佛山市南海石门实验中学"},{"$f":"VLOOKUP(B959,'[1]002'!B:M,11,0)","v":"-"},{"$f":"VLOOKUP(B959,'[1]002'!B:M,12,0)","v":"-"},{"$f":"VLOOKUP(B959,[2]sheet2!B:L,10,0)","v":"-"},{"$f":"VLOOKUP(B959,[2]sheet2!B:L,11,0)","v":"-"},"http://183.62.54.51:8841/data/files/certificate/000000000439/c88348b6216f46979f359a427732f1ec/signed/957_黄桂香_二等奖_6844.pdf"]
[958,"P303219091046","西班牙语数字0到20的挑战学习","初中组","课件","二等奖","佛山市",{"$f":"VLOOKUP(B960,'[1]002'!B:M,7,0)","v":"黄婧"},{"$f":"VLOOKUP(B960,'[1]002'!B:M,8,0)","v":"佛山市外国语学校"},{"$f":"VLOOKUP(B960,'[1]002'!B:M,11,0)","v":"-"},{"$f":"VLOOKUP(B960,'[1]002'!B:M,12,0)","v":"-"},{"$f":"VLOOKUP(B960,[2]sheet2!B:L,10,0)","v":"-"},{"$f":"VLOOKUP(B960,[2]sheet2!B:L,11,0)","v":"-"},"http://183.62.54.51:8841/data/files/certificate/000000000439/5586ef337244411bae1dcec26804e230/signed/958_黄婧_二等奖_6845.pdf"]
[959,"P303219091057","宋元时期的都市和文化","初中组","课件","二等奖","佛山市",{"$f":"VLOOKUP(B961,'[1]002'!B:M,7,0)","v":"陈兰仙"},{"$f":"VLOOKUP(B961,'[1]002'!B:M,8,0)","v":"佛山市南海区里水镇和顺第一初级中学"},{"$f":"VLOOKUP(B961,'[1]002'!B:M,11,0)","v":"-"},{"$f":"VLOOKUP(B961,'[1]002'!B:M,12,0)","v":"-"},{"$f":"VLOOKUP(B961,[2]sheet2!B:L,10,0)","v":"-"},{"$f":"VLOOKUP(B961,[2]sheet2!B:L,11,0)","v":"-"},"http://183.62.54.51:8841/data/files/certificate/000000000439/114278549ce9448faa7c9065d5b52664/signed/959_陈兰仙_二等奖_6846.pdf"]
[960,"P303219091058","Module9Unit2","初中组","课件","二等奖","佛山市",{"$f":"VLOOKUP(B962,'[1]002'!B:M,7,0)","v":"陈燕峰"},{"$f":"VLOOKUP(B962,'[1]002'!B:M,8,0)","v":"佛山市南海区桂城街道文翰中学"},{"$f":"VLOOKUP(B962,'[1]002'!B:M,11,0)","v":"-"},{"$f":"VLOOKUP(B962,'[1]002'!B:M,12,0)","v":"-"},{"$f":"VLOOKUP(B962,[2]sheet2!B:L,10,0)","v":"-"},{"$f":"VLOOKUP(B962,[2]sheet2!B:L,11,0)","v":"-"},"http://183.62.54.51:8841/data/files/certificate/000000000439/13655bf4b27343e7aa57976e011982a4/signed/960_陈燕峰_二等奖_6847.pdf"]
[961,"P303219091065","第20课清朝君主专制的强化","初中组","课件","二等奖","佛山市",{"$f":"VLOOKUP(B963,'[1]002'!B:M,7,0)","v":"廖丹萍"},{"$f":"VLOOKUP(B963,'[1]002'!B:M,8,0)","v":"佛山市禅城区张槎中学"},{"$f":"VLOOKUP(B963,'[1]002'!B:M,11,0)","v":"-"},{"$f":"VLOOKUP(B963,'[1]002'!B:M,12,0)","v":"-"},{"$f":"VLOOKUP(B963,[2]sheet2!B:L,10,0)","v":"-"},{"$f":"VLOOKUP(B963,[2]sheet2!B:L,11,0)","v":"-"},"http://183.62.54.51:8841/data/files/certificate/000000000439/61d6d4b16afe450f97a9918013f8540d/signed/961_廖丹萍_二等奖_6848.pdf"]
[962,"P303219088343","空城计","初中组","课件","二等奖","韶关市",{"$f":"VLOOKUP(B964,'[1]002'!B:M,7,0)","v":"钟礼斌"},{"$f":"VLOOKUP(B964,'[1]002'!B:M,8,0)","v":"始兴县马市中学"},{"$f":"VLOOKUP(B964,'[1]002'!B:M,11,0)","v":"-"},{"$f":"VLOOKUP(B964,'[1]002'!B:M,12,0)","v":"-"},{"$f":"VLOOKUP(B964,[2]sheet2!B:L,10,0)","v":"-"},{"$f":"VLOOKUP(B964,[2]sheet2!B:L,11,0)","v":"-"},"http://183.62.54.51:8841/data/files/certificate/000000000439/6e226386e13a438eb22d91ad229b21d4/signed/962_钟礼斌_二等奖_6849.pdf"]
[963,"P303219090453","国画","初中组","课件","二等奖","韶关市",{"$f":"VLOOKUP(B965,'[1]002'!B:M,7,0)","v":"杨宝林"},{"$f":"VLOOKUP(B965,'[1]002'!B:M,8,0)","v":"仁化县第一中学"},{"$f":"VLOOKUP(B965,'[1]002'!B:M,11,0)","v":"-"},{"$f":"VLOOKUP(B965,'[1]002'!B:M,12,0)","v":"-"},{"$f":"VLOOKUP(B965,[2]sheet2!B:L,10,0)","v":"-"},{"$f":"VLOOKUP(B965,[2]sheet2!B:L,11,0)","v":"-"},"http://183.62.54.51:8841/data/files/certificate/000000000439/04952306e299413fbd6518e84937d1c7/signed/963_杨宝林_二等奖_6850.pdf"]
[964,"P303219089109","Where did you go on vacation","初中组","课件","二等奖","韶关市",{"$f":"VLOOKUP(B966,'[1]002'!B:M,7,0)","v":"熊丽萍"},{"$f":"VLOOKUP(B966,'[1]002'!B:M,8,0)","v":"仁化县周田中学"},{"$f":"VLOOKUP(B966,'[1]002'!B:M,11,0)","v":"-"},{"$f":"VLOOKUP(B966,'[1]002'!B:M,12,0)","v":"-"},{"$f":"VLOOKUP(B966,[2]sheet2!B:L,10,0)","v":"-"},{"$f":"VLOOKUP(B966,[2]sheet2!B:L,11,0)","v":"-"},"http://183.62.54.51:8841/data/files/certificate/000000000439/54269a57880b4f5c9498809197e11903/signed/964_熊丽萍_二等奖_6851.pdf"]
[965,"P303219087784","It is raining","初中组","课件","二等奖","韶关市",{"$f":"VLOOKUP(B967,'[1]002'!B:M,7,0)","v":"余立宇"},{"$f":"VLOOKUP(B967,'[1]002'!B:M,8,0)","v":"韶关市第十五中学"},{"$f":"VLOOKUP(B967,'[1]002'!B:M,11,0)","v":"黎文娟"},{"$f":"VLOOKUP(B967,'[1]002'!B:M,12,0)","v":"韶关市第十五中学"},{"$f":"VLOOKUP(B967,[2]sheet2!B:L,10,0)","v":"-"},{"$f":"VLOOKUP(B967,[2]sheet2!B:L,11,0)","v":"-"},"http://183.62.54.51:8841/data/files/certificate/000000000439/a5891577350c4345b8005ed51c3dcd25/signed/965_余立宇、黎文娟_二等奖_6852.pdf"]
[966,"P303219087909","第三课制作动作补间动画","初中组","课件","二等奖","韶关市",{"$f":"VLOOKUP(B968,'[1]002'!B:M,7,0)","v":"张  璟"},{"$f":"VLOOKUP(B968,'[1]002'!B:M,8,0)","v":"广东北江实验学校"},{"$f":"VLOOKUP(B968,'[1]002'!B:M,11,0)","v":"-"},{"$f":"VLOOKUP(B968,'[1]002'!B:M,12,0)","v":"-"},{"$f":"VLOOKUP(B968,[2]sheet2!B:L,10,0)","v":"-"},{"$f":"VLOOKUP(B968,[2]sheet2!B:L,11,0)","v":"-"},"http://183.62.54.51:8841/data/files/certificate/000000000439/27e583211c124aea979045dc0797531b/signed/966_张璟_二等奖_6853.pdf"]
[967,"P303219093346","flash课件之ps名片设计","初中组","课件","二等奖","河源市",{"$f":"VLOOKUP(B969,'[1]002'!B:M,7,0)","v":"罗旭婵"},{"$f":"VLOOKUP(B969,'[1]002'!B:M,8,0)","v":"河源市源城外国语学校"},{"$f":"VLOOKUP(B969,'[1]002'!B:M,11,0)","v":"-"},{"$f":"VLOOKUP(B969,'[1]002'!B:M,12,0)","v":"-"},{"$f":"VLOOKUP(B969,[2]sheet2!B:L,10,0)","v":"-"},{"$f":"VLOOKUP(B969,[2]sheet2!B:L,11,0)","v":"-"},"http://183.62.54.51:8841/data/files/certificate/000000000439/53251027c27948ff8a43a0c2c2eed4c5/signed/967_罗旭婵_二等奖_6854.pdf"]
[968,"P303219093364","如何拯救大象","初中组","课件","二等奖","河源市",{"$f":"VLOOKUP(B970,'[1]002'!B:M,7,0)","v":"李艳"},{"$f":"VLOOKUP(B970,'[1]002'!B:M,8,0)","v":"河源市北大附属德爱国际学校"},{"$f":"VLOOKUP(B970,'[1]002'!B:M,11,0)","v":"-"},{"$f":"VLOOKUP(B970,'[1]002'!B:M,12,0)","v":"-"},{"$f":"VLOOKUP(B970,[2]sheet2!B:L,10,0)","v":"-"},{"$f":"VLOOKUP(B970,[2]sheet2!B:L,11,0)","v":"-"},"http://183.62.54.51:8841/data/files/certificate/000000000439/19c410762b1045389e471f013ca64aae/signed/968_李艳_二等奖_6855.pdf"]
[969,"P303219093355","天下兴亡匹夫有责","初中组","课件","二等奖","河源市",{"$f":"VLOOKUP(B971,'[1]002'!B:M,7,0)","v":"曾灵销"},{"$f":"VLOOKUP(B971,'[1]002'!B:M,8,0)","v":"河源市第一中学"},{"$f":"VLOOKUP(B971,'[1]002'!B:M,11,0)","v":"-"},{"$f":"VLOOKUP(B971,'[1]002'!B:M,12,0)","v":"-"},{"$f":"VLOOKUP(B971,[2]sheet2!B:L,10,0)","v":"-"},{"$f":"VLOOKUP(B971,[2]sheet2!B:L,11,0)","v":"-"},"http://183.62.54.51:8841/data/files/certificate/000000000439/c0e25956be074b23b6e4350b5a7c8214/signed/969_曾灵销_二等奖_6856.pdf"]
[970,"P303219092204","中国石拱桥","初中组","课件","二等奖","惠州市",{"$f":"VLOOKUP(B972,'[1]002'!B:M,7,0)","v":"朱伟文"},{"$f":"VLOOKUP(B972,'[1]002'!B:M,8,0)","v":"惠州大亚湾经济技术开发区第三中学"},{"$f":"VLOOKUP(B972,'[1]002'!B:M,11,0)","v":"-"},{"$f":"VLOOKUP(B972,'[1]002'!B:M,12,0)","v":"-"},{"$f":"VLOOKUP(B972,[2]sheet2!B:L,10,0)","v":"-"},{"$f":"VLOOKUP(B972,[2]sheet2!B:L,11,0)","v":"-"},"http://183.62.54.51:8841/data/files/certificate/000000000439/fed1ff22fb404886a65e97d63fcc8a68/signed/970_朱伟文_二等奖_6857.pdf"]
[971,"P303219092492","带条件的函数","初中组","课件","二等奖","东莞市",{"$f":"VLOOKUP(B973,'[1]002'!B:M,7,0)","v":"周艳"},{"$f":"VLOOKUP(B973,'[1]002'!B:M,8,0)","v":"东莞市樟木头中学"},{"$f":"VLOOKUP(B973,'[1]002'!B:M,11,0)","v":"-"},{"$f":"VLOOKUP(B973,'[1]002'!B:M,12,0)","v":"-"},{"$f":"VLOOKUP(B973,[2]sheet2!B:L,10,0)","v":"-"},{"$f":"VLOOKUP(B973,[2]sheet2!B:L,11,0)","v":"-"},"http://183.62.54.51:8841/data/files/certificate/000000000439/4712a82b37de4b4ea26b7672bab2bffc/signed/971_周艳_二等奖_6858.pdf"]
[972,"P303219092488","黄河颂","初中组","课件","二等奖","东莞市",{"$f":"VLOOKUP(B974,'[1]002'!B:M,7,0)","v":"刘玉华"},{"$f":"VLOOKUP(B974,'[1]002'!B:M,8,0)","v":"东莞市石碣中学"},{"$f":"VLOOKUP(B974,'[1]002'!B:M,11,0)","v":"-"},{"$f":"VLOOKUP(B974,'[1]002'!B:M,12,0)","v":"-"},{"$f":"VLOOKUP(B974,[2]sheet2!B:L,10,0)","v":"-"},{"$f":"VLOOKUP(B974,[2]sheet2!B:L,11,0)","v":"-"},"http://183.62.54.51:8841/data/files/certificate/000000000439/25a60c02036a4266b6ad9d75b3873959/signed/972_刘玉华_二等奖_6859.pdf"]
[973,"P303219092490","图像合成","初中组","课件","二等奖","东莞市",{"$f":"VLOOKUP(B975,'[1]002'!B:M,7,0)","v":"傅顺文"},{"$f":"VLOOKUP(B975,'[1]002'!B:M,8,0)","v":"东莞市南城阳光实验中学"},{"$f":"VLOOKUP(B975,'[1]002'!B:M,11,0)","v":"-"},{"$f":"VLOOKUP(B975,'[1]002'!B:M,12,0)","v":"-"},{"$f":"VLOOKUP(B975,[2]sheet2!B:L,10,0)","v":"-"},{"$f":"VLOOKUP(B975,[2]sheet2!B:L,11,0)","v":"-"},"http://183.62.54.51:8841/data/files/certificate/000000000439/d3419e1e4dd347e1a047aab0f1aa1b91/signed/973_傅顺文_二等奖_6860.pdf"]
[974,"P303219092491","杨辉三角探究课课件","初中组","课件","二等奖","东莞市",{"$f":"VLOOKUP(B976,'[1]002'!B:M,7,0)","v":"梁锡林"},{"$f":"VLOOKUP(B976,'[1]002'!B:M,8,0)","v":"东莞市松山湖实验中学"},{"$f":"VLOOKUP(B976,'[1]002'!B:M,11,0)","v":"-"},{"$f":"VLOOKUP(B976,'[1]002'!B:M,12,0)","v":"-"},{"$f":"VLOOKUP(B976,[2]sheet2!B:L,10,0)","v":"-"},{"$f":"VLOOKUP(B976,[2]sheet2!B:L,11,0)","v":"-"},"http://183.62.54.51:8841/data/files/certificate/000000000439/7052ae9f0c25413bbff39d7da7f53e1c/signed/974_梁锡林_二等奖_6861.pdf"]
[975,"P303219092496","敬畏生命","初中组","课件","二等奖","东莞市",{"$f":"VLOOKUP(B977,'[1]002'!B:M,7,0)","v":"冯任夷"},{"$f":"VLOOKUP(B977,'[1]002'!B:M,8,0)","v":"东莞市石碣东风实验学校"},{"$f":"VLOOKUP(B977,'[1]002'!B:M,11,0)","v":"-"},{"$f":"VLOOKUP(B977,'[1]002'!B:M,12,0)","v":"-"},{"$f":"VLOOKUP(B977,[2]sheet2!B:L,10,0)","v":"-"},{"$f":"VLOOKUP(B977,[2]sheet2!B:L,11,0)","v":"-"},"http://183.62.54.51:8841/data/files/certificate/000000000439/f16542d345304e6fa0c8c05ff41a72b9/signed/975_冯任夷_二等奖_6862.pdf"]
[976,"P303219092497","想象的汽车","初中组","课件","二等奖","东莞市",{"$f":"VLOOKUP(B978,'[1]002'!B:M,7,0)","v":"蔡惠玲"},{"$f":"VLOOKUP(B978,'[1]002'!B:M,8,0)","v":"东莞市松山湖实验中学"},{"$f":"VLOOKUP(B978,'[1]002'!B:M,11,0)","v":"-"},{"$f":"VLOOKUP(B978,'[1]002'!B:M,12,0)","v":"-"},{"$f":"VLOOKUP(B978,[2]sheet2!B:L,10,0)","v":"-"},{"$f":"VLOOKUP(B978,[2]sheet2!B:L,11,0)","v":"-"},"http://183.62.54.51:8841/data/files/certificate/000000000439/415b7aaebb144cc89e61ecdb7647eeec/signed/976_蔡惠玲_二等奖_6863.pdf"]
[977,"P303219092489","等高线地形图的判读","初中组","课件","二等奖","东莞市",{"$f":"VLOOKUP(B979,'[1]002'!B:M,7,0)","v":"邱丽云"},{"$f":"VLOOKUP(B979,'[1]002'!B:M,8,0)","v":"东莞市松山湖实验中学"},{"$f":"VLOOKUP(B979,'[1]002'!B:M,11,0)","v":"-"},{"$f":"VLOOKUP(B979,'[1]002'!B:M,12,0)","v":"-"},{"$f":"VLOOKUP(B979,[2]sheet2!B:L,10,0)","v":"-"},{"$f":"VLOOKUP(B979,[2]sheet2!B:L,11,0)","v":"-"},"http://183.62.54.51:8841/data/files/certificate/000000000439/a86c81875553463a8ee061d65a495764/signed/977_邱丽云_二等奖_6864.pdf"]
[978,"P303219092493","春望","初中组","课件","二等奖","东莞市",{"$f":"VLOOKUP(B980,'[1]002'!B:M,7,0)","v":"刘玉华"},{"$f":"VLOOKUP(B980,'[1]002'!B:M,8,0)","v":"东莞市石碣中学"},{"$f":"VLOOKUP(B980,'[1]002'!B:M,11,0)","v":"-"},{"$f":"VLOOKUP(B980,'[1]002'!B:M,12,0)","v":"-"},{"$f":"VLOOKUP(B980,[2]sheet2!B:L,10,0)","v":"-"},{"$f":"VLOOKUP(B980,[2]sheet2!B:L,11,0)","v":"-"},"http://183.62.54.51:8841/data/files/certificate/000000000439/7bc39b6d43f2428c9782fe0e39c1d99c/signed/978_刘玉华_二等奖_6865.pdf"]
[979,"P303119089053","轴对称","初中组","课件","二等奖","中山市",{"$f":"VLOOKUP(B981,'[1]002'!B:M,7,0)","v":"徐旭辉"},{"$f":"VLOOKUP(B981,'[1]002'!B:M,8,0)","v":"中山市西区中心小学"},{"$f":"VLOOKUP(B981,'[1]002'!B:M,11,0)","v":"黄剑锋"},{"$f":"VLOOKUP(B981,'[1]002'!B:M,12,0)","v":"中山市实验小学"},{"$f":"VLOOKUP(B981,[2]sheet2!B:L,10,0)","v":"-"},{"$f":"VLOOKUP(B981,[2]sheet2!B:L,11,0)","v":"-"},"http://183.62.54.51:8841/data/files/certificate/000000000439/d8e5a63d1c81415ba30223425fa90302/signed/979_徐旭辉、黄剑锋_二等奖_6866.pdf"]
[980,"P303219088413","热机","初中组","课件","二等奖","中山市",{"$f":"VLOOKUP(B982,'[1]002'!B:M,7,0)","v":"危光明"},{"$f":"VLOOKUP(B982,'[1]002'!B:M,8,0)","v":"中山市东区松苑中学"},{"$f":"VLOOKUP(B982,'[1]002'!B:M,11,0)","v":"-"},{"$f":"VLOOKUP(B982,'[1]002'!B:M,12,0)","v":"-"},{"$f":"VLOOKUP(B982,[2]sheet2!B:L,10,0)","v":"-"},{"$f":"VLOOKUP(B982,[2]sheet2!B:L,11,0)","v":"-"},"http://183.62.54.51:8841/data/files/certificate/000000000439/6faa03251a3a4ddc9268eaddea9b248a/signed/980_危光明_二等奖_6867.pdf"]
[981,"P303219091764","俄罗斯","初中组","课件","二等奖","江门市",{"$f":"VLOOKUP(B983,'[1]002'!B:M,7,0)","v":"黎秀云"},{"$f":"VLOOKUP(B983,'[1]002'!B:M,8,0)","v":"江门市棠下初级中学"},{"$f":"VLOOKUP(B983,'[1]002'!B:M,11,0)","v":"-"},{"$f":"VLOOKUP(B983,'[1]002'!B:M,12,0)","v":"-"},{"$f":"VLOOKUP(B983,[2]sheet2!B:L,10,0)","v":"-"},{"$f":"VLOOKUP(B983,[2]sheet2!B:L,11,0)","v":"-"},"http://183.62.54.51:8841/data/files/certificate/000000000439/14941a4bb9c2455fa0fd38ef254b1a78/signed/981_黎秀云_二等奖_6868.pdf"]
[982,"P303219091766","制作引导线动画","初中组","课件","二等奖","江门市",{"$f":"VLOOKUP(B984,'[1]002'!B:M,7,0)","v":"韦雪萍"},{"$f":"VLOOKUP(B984,'[1]002'!B:M,8,0)","v":"江门市培英初级中学"},{"$f":"VLOOKUP(B984,'[1]002'!B:M,11,0)","v":"-"},{"$f":"VLOOKUP(B984,'[1]002'!B:M,12,0)","v":"-"},{"$f":"VLOOKUP(B984,[2]sheet2!B:L,10,0)","v":"-"},{"$f":"VLOOKUP(B984,[2]sheet2!B:L,11,0)","v":"-"},"http://183.62.54.51:8841/data/files/certificate/000000000439/003da638b6f048bb9b1c09394ce04fb6/signed/982_韦雪萍_二等奖_6869.pdf"]
[983,"P303219091366","天上的街市","初中组","课件","二等奖","茂名市",{"$f":"VLOOKUP(B985,'[1]002'!B:M,7,0)","v":"车远"},{"$f":"VLOOKUP(B985,'[1]002'!B:M,8,0)","v":"茂名市启源中学"},{"$f":"VLOOKUP(B985,'[1]002'!B:M,11,0)","v":"-"},{"$f":"VLOOKUP(B985,'[1]002'!B:M,12,0)","v":"-"},{"$f":"VLOOKUP(B985,[2]sheet2!B:L,10,0)","v":"-"},{"$f":"VLOOKUP(B985,[2]sheet2!B:L,11,0)","v":"-"},"http://183.62.54.51:8841/data/files/certificate/000000000439/7cd7f5a20fce4346b59c536d5787f2fd/signed/983_车远_二等奖_6870.pdf"]
[984,"P303219091327","初中英语课外阅读MovingElephants","初中组","课件","二等奖","茂名市",{"$f":"VLOOKUP(B986,'[1]002'!B:M,7,0)","v":"冯媛焕"},{"$f":"VLOOKUP(B986,'[1]002'!B:M,8,0)","v":"茂名市龙岭学校"},{"$f":"VLOOKUP(B986,'[1]002'!B:M,11,0)","v":"-"},{"$f":"VLOOKUP(B986,'[1]002'!B:M,12,0)","v":"-"},{"$f":"VLOOKUP(B986,[2]sheet2!B:L,10,0)","v":"-"},{"$f":"VLOOKUP(B986,[2]sheet2!B:L,11,0)","v":"-"},"http://183.62.54.51:8841/data/files/certificate/000000000439/d6dc9e07124c424e9c6312ead368304d/signed/984_冯媛焕_二等奖_6871.pdf"]
[985,"P303219091368","青春的情绪","初中组","课件","二等奖","茂名市",{"$f":"VLOOKUP(B987,'[1]002'!B:M,7,0)","v":"黄子君"},{"$f":"VLOOKUP(B987,'[1]002'!B:M,8,0)","v":"茂名市育才学校"},{"$f":"VLOOKUP(B987,'[1]002'!B:M,11,0)","v":"-"},{"$f":"VLOOKUP(B987,'[1]002'!B:M,12,0)","v":"-"},{"$f":"VLOOKUP(B987,[2]sheet2!B:L,10,0)","v":"-"},{"$f":"VLOOKUP(B987,[2]sheet2!B:L,11,0)","v":"-"},"http://183.62.54.51:8841/data/files/certificate/000000000439/dc7c12adcc584bd1a130aea0d73e3f0c/signed/985_黄子君_二等奖_6872.pdf"]
[986,"P303219091437","外研版八年级下册M3U1","初中组","课件","二等奖","茂名市",{"$f":"VLOOKUP(B988,'[1]002'!B:M,7,0)","v":"陈海莲"},{"$f":"VLOOKUP(B988,'[1]002'!B:M,8,0)","v":"茂名市行知中学"},{"$f":"VLOOKUP(B988,'[1]002'!B:M,11,0)","v":"-"},{"$f":"VLOOKUP(B988,'[1]002'!B:M,12,0)","v":"-"},{"$f":"VLOOKUP(B988,[2]sheet2!B:L,10,0)","v":"-"},{"$f":"VLOOKUP(B988,[2]sheet2!B:L,11,0)","v":"-"},"http://183.62.54.51:8841/data/files/certificate/000000000439/c249ac2e0e7f4ecca0cb2af8d08ee04b/signed/986_陈海莲_二等奖_6873.pdf"]
[987,"P303219090278","反比例函数图象与性质","初中组","课件","二等奖","肇庆市",{"$f":"VLOOKUP(B989,'[1]002'!B:M,7,0)","v":"杨春晓"},{"$f":"VLOOKUP(B989,'[1]002'!B:M,8,0)","v":"德庆县九市中学"},{"$f":"VLOOKUP(B989,'[1]002'!B:M,11,0)","v":"-"},{"$f":"VLOOKUP(B989,'[1]002'!B:M,12,0)","v":"-"},{"$f":"VLOOKUP(B989,[2]sheet2!B:L,10,0)","v":"-"},{"$f":"VLOOKUP(B989,[2]sheet2!B:L,11,0)","v":"-"},"http://183.62.54.51:8841/data/files/certificate/000000000439/efe75f9c65364ca5bc664acbc27338ed/signed/987_杨春晓_二等奖_6874.pdf"]
[988,"P303219091208","第一节疆域和行政区划","初中组","课件","二等奖","肇庆市",{"$f":"VLOOKUP(B990,'[1]002'!B:M,7,0)","v":"张丽"},{"$f":"VLOOKUP(B990,'[1]002'!B:M,8,0)","v":"鼎湖区沙浦镇初级中学"},{"$f":"VLOOKUP(B990,'[1]002'!B:M,11,0)","v":"-"},{"$f":"VLOOKUP(B990,'[1]002'!B:M,12,0)","v":"-"},{"$f":"VLOOKUP(B990,[2]sheet2!B:L,10,0)","v":"-"},{"$f":"VLOOKUP(B990,[2]sheet2!B:L,11,0)","v":"-"},"http://183.62.54.51:8841/data/files/certificate/000000000439/6d270db3a5d24a20912df6908f464961/signed/988_张丽_二等奖_6875.pdf"]
[989,"P303219091594","仁爱版七年级上册第四单元Topic3SectionC读写训练","初中组","课件","二等奖","清远市",{"$f":"VLOOKUP(B991,'[1]002'!B:M,7,0)","v":"罗婉君"},{"$f":"VLOOKUP(B991,'[1]002'!B:M,8,0)","v":"清远市清城区清城中学"},{"$f":"VLOOKUP(B991,'[1]002'!B:M,11,0)","v":"-"},{"$f":"VLOOKUP(B991,'[1]002'!B:M,12,0)","v":"-"},{"$f":"VLOOKUP(B991,[2]sheet2!B:L,10,0)","v":"-"},{"$f":"VLOOKUP(B991,[2]sheet2!B:L,11,0)","v":"-"},"http://183.62.54.51:8841/data/files/certificate/000000000439/0624af0e4e05418fab9f75037c025b45/signed/989_罗婉君_二等奖_6876.pdf"]
[990,"P303219091593","中考话题作文训练","初中组","课件","二等奖","清远市",{"$f":"VLOOKUP(B992,'[1]002'!B:M,7,0)","v":"罗婉君"},{"$f":"VLOOKUP(B992,'[1]002'!B:M,8,0)","v":"清远市清城区清城中学"},{"$f":"VLOOKUP(B992,'[1]002'!B:M,11,0)","v":"-"},{"$f":"VLOOKUP(B992,'[1]002'!B:M,12,0)","v":"-"},{"$f":"VLOOKUP(B992,[2]sheet2!B:L,10,0)","v":"-"},{"$f":"VLOOKUP(B992,[2]sheet2!B:L,11,0)","v":"-"},"http://183.62.54.51:8841/data/files/certificate/000000000439/856ac8a6fdee47609a6f2dd22060cacc/signed/990_罗婉君_二等奖_6877.pdf"]
[991,"P303219084444","七年级英语上册Unit4Topic1SectionA","初中组","课件","二等奖","云浮市",{"$f":"VLOOKUP(B993,'[1]002'!B:M,7,0)","v":"潘慧"},{"$f":"VLOOKUP(B993,'[1]002'!B:M,8,0)","v":"新兴县六祖镇集成中学"},{"$f":"VLOOKUP(B993,'[1]002'!B:M,11,0)","v":"-"},{"$f":"VLOOKUP(B993,'[1]002'!B:M,12,0)","v":"-"},{"$f":"VLOOKUP(B993,[2]sheet2!B:L,10,0)","v":"-"},{"$f":"VLOOKUP(B993,[2]sheet2!B:L,11,0)","v":"-"},"http://183.62.54.51:8841/data/files/certificate/000000000439/35ab825c26724ebb80f2f537a70eabc2/signed/991_潘慧_二等奖_6878.pdf"]
[992,"P305219093229","利用App控制开关灯","初中组","微课","二等奖","广州市",{"$f":"VLOOKUP(B994,'[1]002'!B:M,7,0)","v":"陆桂华"},{"$f":"VLOOKUP(B994,'[1]002'!B:M,8,0)","v":"广州市第一中学"},{"$f":"VLOOKUP(B994,'[1]002'!B:M,11,0)","v":"-"},{"$f":"VLOOKUP(B994,'[1]002'!B:M,12,0)","v":"-"},{"$f":"VLOOKUP(B994,[2]sheet2!B:L,10,0)","v":"-"},{"$f":"VLOOKUP(B994,[2]sheet2!B:L,11,0)","v":"-"},"http://183.62.54.51:8841/data/files/certificate/000000000439/b0d21df4a113447fbbbca36d020c87d4/signed/992_陆桂华_二等奖_6879.pdf"]
[993,"P305219093231","过去进行时","初中组","微课","二等奖","广州市",{"$f":"VLOOKUP(B995,'[1]002'!B:M,7,0)","v":"李婷婷"},{"$f":"VLOOKUP(B995,'[1]002'!B:M,8,0)","v":"广州市南国学校"},{"$f":"VLOOKUP(B995,'[1]002'!B:M,11,0)","v":"-"},{"$f":"VLOOKUP(B995,'[1]002'!B:M,12,0)","v":"-"},{"$f":"VLOOKUP(B995,[2]sheet2!B:L,10,0)","v":"-"},{"$f":"VLOOKUP(B995,[2]sheet2!B:L,11,0)","v":"-"},"http://183.62.54.51:8841/data/files/certificate/000000000439/0863fa09f780409eae26d83bcdc8694c/signed/993_李婷婷_二等奖_6880.pdf"]
[994,"P305219093227","凸透镜成像规律","初中组","微课","二等奖","广州市",{"$f":"VLOOKUP(B996,'[1]002'!B:M,7,0)","v":"何敏怡"},{"$f":"VLOOKUP(B996,'[1]002'!B:M,8,0)","v":"广州市第四中学"},{"$f":"VLOOKUP(B996,'[1]002'!B:M,11,0)","v":"-"},{"$f":"VLOOKUP(B996,'[1]002'!B:M,12,0)","v":"-"},{"$f":"VLOOKUP(B996,[2]sheet2!B:L,10,0)","v":"-"},{"$f":"VLOOKUP(B996,[2]sheet2!B:L,11,0)","v":"-"},"http://183.62.54.51:8841/data/files/certificate/000000000439/7793d8c7dee44c708fb02730eecd91e9/signed/994_何敏怡_二等奖_6881.pdf"]
[995,"P305219093232","23.1图形的旋转（性质的探究）","初中组","微课","二等奖","广州市",{"$f":"VLOOKUP(B997,'[1]002'!B:M,7,0)","v":"陈银荣"},{"$f":"VLOOKUP(B997,'[1]002'!B:M,8,0)","v":"广州市荔湾区立贤学校"},{"$f":"VLOOKUP(B997,'[1]002'!B:M,11,0)","v":"-"},{"$f":"VLOOKUP(B997,'[1]002'!B:M,12,0)","v":"-"},{"$f":"VLOOKUP(B997,[2]sheet2!B:L,10,0)","v":"-"},{"$f":"VLOOKUP(B997,[2]sheet2!B:L,11,0)","v":"-"},"http://183.62.54.51:8841/data/files/certificate/000000000439/20219a285bf54ff2bebadb92e69acac5/signed/995_陈银荣_二等奖_6882.pdf"]
[996,"P305219092678","求你了写作不要再用那几个词","初中组","微课","二等奖","深圳市",{"$f":"VLOOKUP(B998,'[1]002'!B:M,7,0)","v":"邵贤婷"},{"$f":"VLOOKUP(B998,'[1]002'!B:M,8,0)","v":"深圳市田东中学"},{"$f":"VLOOKUP(B998,'[1]002'!B:M,11,0)","v":"-"},{"$f":"VLOOKUP(B998,'[1]002'!B:M,12,0)","v":"-"},{"$f":"VLOOKUP(B998,[2]sheet2!B:L,10,0)","v":"-"},{"$f":"VLOOKUP(B998,[2]sheet2!B:L,11,0)","v":"-"},"http://183.62.54.51:8841/data/files/certificate/000000000439/069d4c26f30e41b599e501b71df0707a/signed/996_邵贤婷_二等奖_6883.pdf"]
[997,"P305219092679","情境剪纸之双喜","初中组","微课","二等奖","深圳市",{"$f":"VLOOKUP(B999,'[1]002'!B:M,7,0)","v":"丁慧"},{"$f":"VLOOKUP(B999,'[1]002'!B:M,8,0)","v":"深圳市福田区劳动技术教育中心"},{"$f":"VLOOKUP(B999,'[1]002'!B:M,11,0)","v":"-"},{"$f":"VLOOKUP(B999,'[1]002'!B:M,12,0)","v":"-"},{"$f":"VLOOKUP(B999,[2]sheet2!B:L,10,0)","v":"-"},{"$f":"VLOOKUP(B999,[2]sheet2!B:L,11,0)","v":"-"},"http://183.62.54.51:8841/data/files/certificate/000000000439/3c77ef6d80d24147a67a409fec8a1a69/signed/997_丁慧_二等奖_6884.pdf"]
[998,"P305219092689","二力平衡","初中组","微课","二等奖","深圳市",{"$f":"VLOOKUP(B1000,'[1]002'!B:M,7,0)","v":"程晓龙"},{"$f":"VLOOKUP(B1000,'[1]002'!B:M,8,0)","v":"深圳市龙华区外国语学校"},{"$f":"VLOOKUP(B1000,'[1]002'!B:M,11,0)","v":"-"},{"$f":"VLOOKUP(B1000,'[1]002'!B:M,12,0)","v":"-"},{"$f":"VLOOKUP(B1000,[2]sheet2!B:L,10,0)","v":"-"},{"$f":"VLOOKUP(B1000,[2]sheet2!B:L,11,0)","v":"-"},"http://183.62.54.51:8841/data/files/certificate/000000000439/71e5a319265b4f2c959ec99ae3415844/signed/998_程晓龙_二等奖_6885.pdf"]
[999,"P305219092693","3分钟学习故事写作的策略","初中组","微课","二等奖","深圳市",{"$f":"VLOOKUP(B1001,'[1]002'!B:M,7,0)","v":"程江"},{"$f":"VLOOKUP(B1001,'[1]002'!B:M,8,0)","v":"深圳市新华中学"},{"$f":"VLOOKUP(B1001,'[1]002'!B:M,11,0)","v":"-"},{"$f":"VLOOKUP(B1001,'[1]002'!B:M,12,0)","v":"-"},{"$f":"VLOOKUP(B1001,[2]sheet2!B:L,10,0)","v":"-"},{"$f":"VLOOKUP(B1001,[2]sheet2!B:L,11,0)","v":"-"},"http://183.62.54.51:8841/data/files/certificate/000000000439/66d5b1ebf18443dbbd24b992d6da6801/signed/999_程江_二等奖_6886.pdf"]
[1000,"P305219092691","磁生电","初中组","微课","二等奖","深圳市",{"$f":"VLOOKUP(B1002,'[1]002'!B:M,7,0)","v":"蔡丹洁"},{"$f":"VLOOKUP(B1002,'[1]002'!B:M,8,0)","v":"深圳市南山区桃源中学"},{"$f":"VLOOKUP(B1002,'[1]002'!B:M,11,0)","v":"-"},{"$f":"VLOOKUP(B1002,'[1]002'!B:M,12,0)","v":"-"},{"$f":"VLOOKUP(B1002,[2]sheet2!B:L,10,0)","v":"-"},{"$f":"VLOOKUP(B1002,[2]sheet2!B:L,11,0)","v":"-"},"http://183.62.54.51:8841/data/files/certificate/000000000439/4b30cc85e6b449069c2917e3be7c6253/signed/1000_蔡丹洁_二等奖_6887.pdf"]
[1001,"P305219092680","电生磁和磁生电","初中组","微课","二等奖","深圳市",{"$f":"VLOOKUP(B1003,'[1]002'!B:M,7,0)","v":"赖洁璇"},{"$f":"VLOOKUP(B1003,'[1]002'!B:M,8,0)","v":"坪山区坪山中学"},{"$f":"VLOOKUP(B1003,'[1]002'!B:M,11,0)","v":"冯志雯"},{"$f":"VLOOKUP(B1003,'[1]002'!B:M,12,0)","v":"坪山区坪山实验学校"},{"$f":"VLOOKUP(B1003,[2]sheet2!B:L,10,0)","v":"-"},{"$f":"VLOOKUP(B1003,[2]sheet2!B:L,11,0)","v":"-"},"http://183.62.54.51:8841/data/files/certificate/000000000439/eeef333089cf4bc9a6ba680e8015d84c/signed/1001_赖洁璇、冯志雯_二等奖_6888.pdf"]
[1002,"P305219090356","在极地地区地图上判断方向","初中组","微课","二等奖","珠海市",{"$f":"VLOOKUP(B1004,'[1]002'!B:M,7,0)","v":"马诗妍"},{"$f":"VLOOKUP(B1004,'[1]002'!B:M,8,0)","v":"珠海市第九中学"},{"$f":"VLOOKUP(B1004,'[1]002'!B:M,11,0)","v":"-"},{"$f":"VLOOKUP(B1004,'[1]002'!B:M,12,0)","v":"-"},{"$f":"VLOOKUP(B1004,[2]sheet2!B:L,10,0)","v":"-"},{"$f":"VLOOKUP(B1004,[2]sheet2!B:L,11,0)","v":"-"},"http://183.62.54.51:8841/data/files/certificate/000000000439/ec3475c151e048de99f08681a90e8f24/signed/1002_马诗妍_二等奖_6889.pdf"]
[1003,"P305219087239","平方根","初中组","微课","二等奖","珠海市",{"$f":"VLOOKUP(B1005,'[1]002'!B:M,7,0)","v":"范婷婷"},{"$f":"VLOOKUP(B1005,'[1]002'!B:M,8,0)","v":"珠海市小林中学"},{"$f":"VLOOKUP(B1005,'[1]002'!B:M,11,0)","v":"-"},{"$f":"VLOOKUP(B1005,'[1]002'!B:M,12,0)","v":"-"},{"$f":"VLOOKUP(B1005,[2]sheet2!B:L,10,0)","v":"-"},{"$f":"VLOOKUP(B1005,[2]sheet2!B:L,11,0)","v":"-"},"http://183.62.54.51:8841/data/files/certificate/000000000439/8f1d19893aca44b8b569ee8f09bd89a7/signed/1003_范婷婷_二等奖_6890.pdf"]
[1004,"P305219087985","连通器原理","初中组","微课","二等奖","珠海市",{"$f":"VLOOKUP(B1006,'[1]002'!B:M,7,0)","v":"王薇"},{"$f":"VLOOKUP(B1006,'[1]002'!B:M,8,0)","v":"珠海市前山中学"},{"$f":"VLOOKUP(B1006,'[1]002'!B:M,11,0)","v":"-"},{"$f":"VLOOKUP(B1006,'[1]002'!B:M,12,0)","v":"-"},{"$f":"VLOOKUP(B1006,[2]sheet2!B:L,10,0)","v":"-"},{"$f":"VLOOKUP(B1006,[2]sheet2!B:L,11,0)","v":"-"},"http://183.62.54.51:8841/data/files/certificate/000000000439/49f24032569041b99afd53ad83f396bf/signed/1004_王薇_二等奖_6891.pdf"]
[1005,"P305219088077","液体压强的公式推导","初中组","微课","二等奖","珠海市",{"$f":"VLOOKUP(B1007,'[1]002'!B:M,7,0)","v":"严剑辉"},{"$f":"VLOOKUP(B1007,'[1]002'!B:M,8,0)","v":"珠海市前山中学"},{"$f":"VLOOKUP(B1007,'[1]002'!B:M,11,0)","v":"-"},{"$f":"VLOOKUP(B1007,'[1]002'!B:M,12,0)","v":"-"},{"$f":"VLOOKUP(B1007,[2]sheet2!B:L,10,0)","v":"-"},{"$f":"VLOOKUP(B1007,[2]sheet2!B:L,11,0)","v":"-"},"http://183.62.54.51:8841/data/files/certificate/000000000439/b6a0364f1fe64f2cafad0122380c7459/signed/1005_严剑辉_二等奖_6892.pdf"]
[1006,"P305219091884","学习借景抒情的方法","初中组","微课","二等奖","汕头市",{"$f":"VLOOKUP(B1008,'[1]002'!B:M,7,0)","v":"李三春"},{"$f":"VLOOKUP(B1008,'[1]002'!B:M,8,0)","v":"汕头市滨海中学"},{"$f":"VLOOKUP(B1008,'[1]002'!B:M,11,0)","v":"-"},{"$f":"VLOOKUP(B1008,'[1]002'!B:M,12,0)","v":"-"},{"$f":"VLOOKUP(B1008,[2]sheet2!B:L,10,0)","v":"-"},{"$f":"VLOOKUP(B1008,[2]sheet2!B:L,11,0)","v":"-"},"http://183.62.54.51:8841/data/files/certificate/000000000439/44d0414d3f0f487aa076711a8e7432b4/signed/1006_李三春_二等奖_6893.pdf"]
[1007,"P305219091880","初中英语易混词语用法辨析other, the other等","初中组","微课","二等奖","汕头市",{"$f":"VLOOKUP(B1009,'[1]002'!B:M,7,0)","v":"康毅"},{"$f":"VLOOKUP(B1009,'[1]002'!B:M,8,0)","v":"汕头市东厦中学"},{"$f":"VLOOKUP(B1009,'[1]002'!B:M,11,0)","v":"-"},{"$f":"VLOOKUP(B1009,'[1]002'!B:M,12,0)","v":"-"},{"$f":"VLOOKUP(B1009,[2]sheet2!B:L,10,0)","v":"-"},{"$f":"VLOOKUP(B1009,[2]sheet2!B:L,11,0)","v":"-"},"http://183.62.54.51:8841/data/files/certificate/000000000439/27262203272143069b373524fce3ba8b/signed/1007_康毅_二等奖_6894.pdf"]
[1008,"P305219091887","情景式微课之some time等词义辨析","初中组","微课","二等奖","汕头市",{"$f":"VLOOKUP(B1010,'[1]002'!B:M,7,0)","v":"张  晓"},{"$f":"VLOOKUP(B1010,'[1]002'!B:M,8,0)","v":"汕头市金园实验中学"},{"$f":"VLOOKUP(B1010,'[1]002'!B:M,11,0)","v":"-"},{"$f":"VLOOKUP(B1010,'[1]002'!B:M,12,0)","v":"-"},{"$f":"VLOOKUP(B1010,[2]sheet2!B:L,10,0)","v":"-"},{"$f":"VLOOKUP(B1010,[2]sheet2!B:L,11,0)","v":"-"},"http://183.62.54.51:8841/data/files/certificate/000000000439/36efd4b0fc024352863bf9c3f9cab7dd/signed/1008_张晓_二等奖_6895.pdf"]
[1009,"P305219091876","如何正确使用介词in on at表述时间","初中组","微课","二等奖","汕头市",{"$f":"VLOOKUP(B1011,'[1]002'!B:M,7,0)","v":"彭曼青"},{"$f":"VLOOKUP(B1011,'[1]002'!B:M,8,0)","v":"汕头市世贸实验学校"},{"$f":"VLOOKUP(B1011,'[1]002'!B:M,11,0)","v":"-"},{"$f":"VLOOKUP(B1011,'[1]002'!B:M,12,0)","v":"-"},{"$f":"VLOOKUP(B1011,[2]sheet2!B:L,10,0)","v":"-"},{"$f":"VLOOKUP(B1011,[2]sheet2!B:L,11,0)","v":"-"},"http://183.62.54.51:8841/data/files/certificate/000000000439/313faea34128421ebc2a7755ce9b7a75/signed/1009_彭曼青_二等奖_6896.pdf"]
[1010,"P305219091889","二次函数y=ax2的图象和性质","初中组","微课","二等奖","汕头市",{"$f":"VLOOKUP(B1012,'[1]002'!B:M,7,0)","v":"郑霓"},{"$f":"VLOOKUP(B1012,'[1]002'!B:M,8,0)","v":"汕头市潮南区陇田东波学校"},{"$f":"VLOOKUP(B1012,'[1]002'!B:M,11,0)","v":"-"},{"$f":"VLOOKUP(B1012,'[1]002'!B:M,12,0)","v":"-"},{"$f":"VLOOKUP(B1012,[2]sheet2!B:L,10,0)","v":"-"},{"$f":"VLOOKUP(B1012,[2]sheet2!B:L,11,0)","v":"-"},"http://183.62.54.51:8841/data/files/certificate/000000000439/3ccfca116fa34b15a524db7a51ac3f0e/signed/1010_郑霓_二等奖_6897.pdf"]
[1011,"P305219091875","探究杠杆的平衡条件","初中组","微课","二等奖","汕头市",{"$f":"VLOOKUP(B1013,'[1]002'!B:M,7,0)","v":"周树君"},{"$f":"VLOOKUP(B1013,'[1]002'!B:M,8,0)","v":"汕头市新溪中学"},{"$f":"VLOOKUP(B1013,'[1]002'!B:M,11,0)","v":"-"},{"$f":"VLOOKUP(B1013,'[1]002'!B:M,12,0)","v":"-"},{"$f":"VLOOKUP(B1013,[2]sheet2!B:L,10,0)","v":"-"},{"$f":"VLOOKUP(B1013,[2]sheet2!B:L,11,0)","v":"-"},"http://183.62.54.51:8841/data/files/certificate/000000000439/1cb22073de10479a816c95d85e42abd3/signed/1011_周树君_二等奖_6898.pdf"]
[1012,"P305219091877","甲状腺激素对蝌蚪生长发育的影响","初中组","微课","二等奖","汕头市",{"$f":"VLOOKUP(B1014,'[1]002'!B:M,7,0)","v":"陈木雄"},{"$f":"VLOOKUP(B1014,'[1]002'!B:M,8,0)","v":"汕头市金禧中学"},{"$f":"VLOOKUP(B1014,'[1]002'!B:M,11,0)","v":"-"},{"$f":"VLOOKUP(B1014,'[1]002'!B:M,12,0)","v":"-"},{"$f":"VLOOKUP(B1014,[2]sheet2!B:L,10,0)","v":"-"},{"$f":"VLOOKUP(B1014,[2]sheet2!B:L,11,0)","v":"-"},"http://183.62.54.51:8841/data/files/certificate/000000000439/2e18d9183dc34c9ab686fad7ed6b5178/signed/1012_陈木雄_二等奖_6899.pdf"]
[1013,"P305219091878","测量铝块的密度","初中组","微课","二等奖","汕头市",{"$f":"VLOOKUP(B1015,'[1]002'!B:M,7,0)","v":"林琳"},{"$f":"VLOOKUP(B1015,'[1]002'!B:M,8,0)","v":"广东第二师范学院龙湖附属中学"},{"$f":"VLOOKUP(B1015,'[1]002'!B:M,11,0)","v":"-"},{"$f":"VLOOKUP(B1015,'[1]002'!B:M,12,0)","v":"-"},{"$f":"VLOOKUP(B1015,[2]sheet2!B:L,10,0)","v":"-"},{"$f":"VLOOKUP(B1015,[2]sheet2!B:L,11,0)","v":"-"},"http://183.62.54.51:8841/data/files/certificate/000000000439/20ba12968b9747b890d013ed9061a333/signed/1013_林琳_二等奖_6900.pdf"]
[1014,"P305219091886","酸的化学性质","初中组","微课","二等奖","汕头市",{"$f":"VLOOKUP(B1016,'[1]002'!B:M,7,0)","v":"陈彤"},{"$f":"VLOOKUP(B1016,'[1]002'!B:M,8,0)","v":"汕头市滨海中学"},{"$f":"VLOOKUP(B1016,'[1]002'!B:M,11,0)","v":"-"},{"$f":"VLOOKUP(B1016,'[1]002'!B:M,12,0)","v":"-"},{"$f":"VLOOKUP(B1016,[2]sheet2!B:L,10,0)","v":"-"},{"$f":"VLOOKUP(B1016,[2]sheet2!B:L,11,0)","v":"-"},"http://183.62.54.51:8841/data/files/certificate/000000000439/3263859f65d64eafa7e0e18f694fb466/signed/1014_陈彤_二等奖_6901.pdf"]
[1015,"P305219091872","探究浮力大小与物体排开液体体积的关系","初中组","微课","二等奖","汕头市",{"$f":"VLOOKUP(B1017,'[1]002'!B:M,7,0)","v":"王育涛"},{"$f":"VLOOKUP(B1017,'[1]002'!B:M,8,0)","v":"汕头市新溪中学"},{"$f":"VLOOKUP(B1017,'[1]002'!B:M,11,0)","v":"-"},{"$f":"VLOOKUP(B1017,'[1]002'!B:M,12,0)","v":"-"},{"$f":"VLOOKUP(B1017,[2]sheet2!B:L,10,0)","v":"-"},{"$f":"VLOOKUP(B1017,[2]sheet2!B:L,11,0)","v":"-"},"http://183.62.54.51:8841/data/files/certificate/000000000439/d129028f8ff1495e9e381ebf610647d4/signed/1015_王育涛_二等奖_6902.pdf"]
[1016,"P305219091891","蹲踞式跳远——腾空步技术动作学习","初中组","微课","二等奖","汕头市",{"$f":"VLOOKUP(B1018,'[1]002'!B:M,7,0)","v":"芮炜鑫"},{"$f":"VLOOKUP(B1018,'[1]002'!B:M,8,0)","v":"汕头市谢易初中学"},{"$f":"VLOOKUP(B1018,'[1]002'!B:M,11,0)","v":"-"},{"$f":"VLOOKUP(B1018,'[1]002'!B:M,12,0)","v":"-"},{"$f":"VLOOKUP(B1018,[2]sheet2!B:L,10,0)","v":"-"},{"$f":"VLOOKUP(B1018,[2]sheet2!B:L,11,0)","v":"-"},"http://183.62.54.51:8841/data/files/certificate/000000000439/5d80042fd44a410cabb58795a361c51d/signed/1016_芮炜鑫_二等奖_6903.pdf"]
[1017,"P305219091873","探究平面镜成像时像与物的关系","初中组","微课","二等奖","汕头市",{"$f":"VLOOKUP(B1019,'[1]002'!B:M,7,0)","v":"纪泽娜"},{"$f":"VLOOKUP(B1019,'[1]002'!B:M,8,0)","v":"汕头市新溪中学"},{"$f":"VLOOKUP(B1019,'[1]002'!B:M,11,0)","v":"-"},{"$f":"VLOOKUP(B1019,'[1]002'!B:M,12,0)","v":"-"},{"$f":"VLOOKUP(B1019,[2]sheet2!B:L,10,0)","v":"-"},{"$f":"VLOOKUP(B1019,[2]sheet2!B:L,11,0)","v":"-"},"http://183.62.54.51:8841/data/files/certificate/000000000439/eeea613d0768455e813da44b243ea8c8/signed/1017_纪泽娜_二等奖_6904.pdf"]
[1018,"P305219091874","测量铝块的密度","初中组","微课","二等奖","汕头市",{"$f":"VLOOKUP(B1020,'[1]002'!B:M,7,0)","v":"黄庆虹"},{"$f":"VLOOKUP(B1020,'[1]002'!B:M,8,0)","v":"汕头市新溪中学"},{"$f":"VLOOKUP(B1020,'[1]002'!B:M,11,0)","v":"-"},{"$f":"VLOOKUP(B1020,'[1]002'!B:M,12,0)","v":"-"},{"$f":"VLOOKUP(B1020,[2]sheet2!B:L,10,0)","v":"-"},{"$f":"VLOOKUP(B1020,[2]sheet2!B:L,11,0)","v":"-"},"http://183.62.54.51:8841/data/files/certificate/000000000439/fcf5a896dafb4bcfa0974772efbccf37/signed/1018_黄庆虹_二等奖_6905.pdf"]
[1019,"P305219091008","分式的通分","初中组","微课","二等奖","佛山市",{"$f":"VLOOKUP(B1021,'[1]002'!B:M,7,0)","v":"邝洪胜"},{"$f":"VLOOKUP(B1021,'[1]002'!B:M,8,0)","v":"佛山市顺德区容桂四基初级中学"},{"$f":"VLOOKUP(B1021,'[1]002'!B:M,11,0)","v":"-"},{"$f":"VLOOKUP(B1021,'[1]002'!B:M,12,0)","v":"-"},{"$f":"VLOOKUP(B1021,[2]sheet2!B:L,10,0)","v":"-"},{"$f":"VLOOKUP(B1021,[2]sheet2!B:L,11,0)","v":"-"},"http://183.62.54.51:8841/data/files/certificate/000000000439/25c2c33bebef48e6885589ca29697978/signed/1019_邝洪胜_二等奖_6906.pdf"]
[1020,"P305219091006","光沿直线传播","初中组","微课","二等奖","佛山市",{"$f":"VLOOKUP(B1022,'[1]002'!B:M,7,0)","v":"郑丽冰"},{"$f":"VLOOKUP(B1022,'[1]002'!B:M,8,0)","v":"佛山市顺德区均安建安初级中学"},{"$f":"VLOOKUP(B1022,'[1]002'!B:M,11,0)","v":"张丹颖"},{"$f":"VLOOKUP(B1022,'[1]002'!B:M,12,0)","v":"佛山市顺德区均安建安初级中学"},{"$f":"VLOOKUP(B1022,[2]sheet2!B:L,10,0)","v":"-"},{"$f":"VLOOKUP(B1022,[2]sheet2!B:L,11,0)","v":"-"},"http://183.62.54.51:8841/data/files/certificate/000000000439/b357e99f21d94ace8f8c4b51bb85a4c3/signed/1020_郑丽冰、张丹颖_二等奖_6907.pdf"]
[1021,"P305219091007","光的色散","初中组","微课","二等奖","佛山市",{"$f":"VLOOKUP(B1023,'[1]002'!B:M,7,0)","v":"林邦惜"},{"$f":"VLOOKUP(B1023,'[1]002'!B:M,8,0)","v":"佛山市顺德区均安建安初级中学"},{"$f":"VLOOKUP(B1023,'[1]002'!B:M,11,0)","v":"张丹颖"},{"$f":"VLOOKUP(B1023,'[1]002'!B:M,12,0)","v":"佛山市顺德区均安建安初级中学"},{"$f":"VLOOKUP(B1023,[2]sheet2!B:L,10,0)","v":"-"},{"$f":"VLOOKUP(B1023,[2]sheet2!B:L,11,0)","v":"-"},"http://183.62.54.51:8841/data/files/certificate/000000000439/d0b509e92f9e4b20b969da7938e9e08d/signed/1021_林邦惜、张丹颖_二等奖_6908.pdf"]
[1022,"P305219090975","突破冠词易错点泛指和特指","初中组","微课","二等奖","佛山市",{"$f":"VLOOKUP(B1024,'[1]002'!B:M,7,0)","v":"敖雪琼"},{"$f":"VLOOKUP(B1024,'[1]002'!B:M,8,0)","v":"佛山市城北中学"},{"$f":"VLOOKUP(B1024,'[1]002'!B:M,11,0)","v":"-"},{"$f":"VLOOKUP(B1024,'[1]002'!B:M,12,0)","v":"-"},{"$f":"VLOOKUP(B1024,[2]sheet2!B:L,10,0)","v":"-"},{"$f":"VLOOKUP(B1024,[2]sheet2!B:L,11,0)","v":"-"},"http://183.62.54.51:8841/data/files/certificate/000000000439/771e8930cfbf4e44a73154b226f0b599/signed/1022_敖雪琼_二等奖_6909.pdf"]
[1023,"P305219091005","磁现象与磁感线","初中组","微课","二等奖","佛山市",{"$f":"VLOOKUP(B1025,'[1]002'!B:M,7,0)","v":"郑丽冰"},{"$f":"VLOOKUP(B1025,'[1]002'!B:M,8,0)","v":"佛山市顺德区均安建安初级中学"},{"$f":"VLOOKUP(B1025,'[1]002'!B:M,11,0)","v":"张丹颖"},{"$f":"VLOOKUP(B1025,'[1]002'!B:M,12,0)","v":"佛山市顺德区均安建安初级中学"},{"$f":"VLOOKUP(B1025,[2]sheet2!B:L,10,0)","v":"-"},{"$f":"VLOOKUP(B1025,[2]sheet2!B:L,11,0)","v":"-"},"http://183.62.54.51:8841/data/files/certificate/000000000439/5e712f2141be4dbabe4bfd29a040ae6e/signed/1023_郑丽冰、张丹颖_二等奖_6910.pdf"]
[1024,"P305219090980","使用Excel函数制作比赛自动评分表","初中组","微课","二等奖","佛山市",{"$f":"VLOOKUP(B1026,'[1]002'!B:M,7,0)","v":"黄韶君"},{"$f":"VLOOKUP(B1026,'[1]002'!B:M,8,0)","v":"佛山市第十四中学"},{"$f":"VLOOKUP(B1026,'[1]002'!B:M,11,0)","v":"-"},{"$f":"VLOOKUP(B1026,'[1]002'!B:M,12,0)","v":"-"},{"$f":"VLOOKUP(B1026,[2]sheet2!B:L,10,0)","v":"-"},{"$f":"VLOOKUP(B1026,[2]sheet2!B:L,11,0)","v":"-"},"http://183.62.54.51:8841/data/files/certificate/000000000439/6296b37e945d4137a7a803c332c43674/signed/1024_黄韶君_二等奖_6911.pdf"]
[1025,"P305219090978","膈肌运动与呼吸的关系","初中组","微课","二等奖","佛山市",{"$f":"VLOOKUP(B1027,'[1]002'!B:M,7,0)","v":"何丽燕"},{"$f":"VLOOKUP(B1027,'[1]002'!B:M,8,0)","v":"佛山市外国语学校"},{"$f":"VLOOKUP(B1027,'[1]002'!B:M,11,0)","v":"-"},{"$f":"VLOOKUP(B1027,'[1]002'!B:M,12,0)","v":"-"},{"$f":"VLOOKUP(B1027,[2]sheet2!B:L,10,0)","v":"-"},{"$f":"VLOOKUP(B1027,[2]sheet2!B:L,11,0)","v":"-"},"http://183.62.54.51:8841/data/files/certificate/000000000439/af379cad0b23489fabdc07db7e4fd59e/signed/1025_何丽燕_二等奖_6912.pdf"]
[1026,"P305219090052","最短路径问题--将军饮马","初中组","微课","二等奖","韶关市",{"$f":"VLOOKUP(B1028,'[1]002'!B:M,7,0)","v":"卢荣平"},{"$f":"VLOOKUP(B1028,'[1]002'!B:M,8,0)","v":"仁化县第一中学"},{"$f":"VLOOKUP(B1028,'[1]002'!B:M,11,0)","v":"-"},{"$f":"VLOOKUP(B1028,'[1]002'!B:M,12,0)","v":"-"},{"$f":"VLOOKUP(B1028,[2]sheet2!B:L,10,0)","v":"-"},{"$f":"VLOOKUP(B1028,[2]sheet2!B:L,11,0)","v":"-"},"http://183.62.54.51:8841/data/files/certificate/000000000439/51c654c827714b518ae83bb3ea0ea558/signed/1026_卢荣平_二等奖_6913.pdf"]
[1027,"P305219088842","循环程序","初中组","微课","二等奖","韶关市",{"$f":"VLOOKUP(B1029,'[1]002'!B:M,7,0)","v":"刘小丽"},{"$f":"VLOOKUP(B1029,'[1]002'!B:M,8,0)","v":"广东北江实验学校"},{"$f":"VLOOKUP(B1029,'[1]002'!B:M,11,0)","v":"-"},{"$f":"VLOOKUP(B1029,'[1]002'!B:M,12,0)","v":"-"},{"$f":"VLOOKUP(B1029,[2]sheet2!B:L,10,0)","v":"-"},{"$f":"VLOOKUP(B1029,[2]sheet2!B:L,11,0)","v":"-"},"http://183.62.54.51:8841/data/files/certificate/000000000439/c9fb1f8bb6b248ea8b1edc3b3706db7e/signed/1027_刘小丽_二等奖_6914.pdf"]
[1028,"P305219090454","滚动的球体","初中组","微课","二等奖","韶关市",{"$f":"VLOOKUP(B1030,'[1]002'!B:M,7,0)","v":"杨宝林"},{"$f":"VLOOKUP(B1030,'[1]002'!B:M,8,0)","v":"仁化县第一中学"},{"$f":"VLOOKUP(B1030,'[1]002'!B:M,11,0)","v":"-"},{"$f":"VLOOKUP(B1030,'[1]002'!B:M,12,0)","v":"-"},{"$f":"VLOOKUP(B1030,[2]sheet2!B:L,10,0)","v":"-"},{"$f":"VLOOKUP(B1030,[2]sheet2!B:L,11,0)","v":"-"},"http://183.62.54.51:8841/data/files/certificate/000000000439/bd3078b667134cac987e411215e39f72/signed/1028_杨宝林_二等奖_6915.pdf"]
[1029,"P305219088394","空气中氧气含量的测定","初中组","微课","二等奖","韶关市",{"$f":"VLOOKUP(B1031,'[1]002'!B:M,7,0)","v":"黄夏"},{"$f":"VLOOKUP(B1031,'[1]002'!B:M,8,0)","v":"韶关市第九中学"},{"$f":"VLOOKUP(B1031,'[1]002'!B:M,11,0)","v":"潘高峰"},{"$f":"VLOOKUP(B1031,'[1]002'!B:M,12,0)","v":"韶关市第九中学"},{"$f":"VLOOKUP(B1031,[2]sheet2!B:L,10,0)","v":"-"},{"$f":"VLOOKUP(B1031,[2]sheet2!B:L,11,0)","v":"-"},"http://183.62.54.51:8841/data/files/certificate/000000000439/4dd3ebdbad6240ba8e0ea331c8ffca43/signed/1029_黄夏、潘高峰_二等奖_6916.pdf"]
[1030,"P305219088665","力学中的功","初中组","微课","二等奖","韶关市",{"$f":"VLOOKUP(B1032,'[1]002'!B:M,7,0)","v":"张福珍"},{"$f":"VLOOKUP(B1032,'[1]002'!B:M,8,0)","v":"翁源县龙仙中学"},{"$f":"VLOOKUP(B1032,'[1]002'!B:M,11,0)","v":"-"},{"$f":"VLOOKUP(B1032,'[1]002'!B:M,12,0)","v":"-"},{"$f":"VLOOKUP(B1032,[2]sheet2!B:L,10,0)","v":"-"},{"$f":"VLOOKUP(B1032,[2]sheet2!B:L,11,0)","v":"-"},"http://183.62.54.51:8841/data/files/certificate/000000000439/b78c56f8e0b4417c8e90c4fa7f74cb43/signed/1030_张福珍_二等奖_6917.pdf"]
[1031,"P305219087920","密度与社会生活","初中组","微课","二等奖","韶关市",{"$f":"VLOOKUP(B1033,'[1]002'!B:M,7,0)","v":"马晓虹"},{"$f":"VLOOKUP(B1033,'[1]002'!B:M,8,0)","v":"韶关一中实验学校"},{"$f":"VLOOKUP(B1033,'[1]002'!B:M,11,0)","v":"-"},{"$f":"VLOOKUP(B1033,'[1]002'!B:M,12,0)","v":"-"},{"$f":"VLOOKUP(B1033,[2]sheet2!B:L,10,0)","v":"-"},{"$f":"VLOOKUP(B1033,[2]sheet2!B:L,11,0)","v":"-"},"http://183.62.54.51:8841/data/files/certificate/000000000439/c78aea608bf34ed1ae61a4f0e2f57d1a/signed/1031_马晓虹_二等奖_6918.pdf"]
[1032,"P305219088695","叶表皮气孔的观察","初中组","微课","二等奖","韶关市",{"$f":"VLOOKUP(B1034,'[1]002'!B:M,7,0)","v":"王燕娟"},{"$f":"VLOOKUP(B1034,'[1]002'!B:M,8,0)","v":"韶关市第十一中学"},{"$f":"VLOOKUP(B1034,'[1]002'!B:M,11,0)","v":"潘高峰"},{"$f":"VLOOKUP(B1034,'[1]002'!B:M,12,0)","v":"韶关市第九中学"},{"$f":"VLOOKUP(B1034,[2]sheet2!B:L,10,0)","v":"-"},{"$f":"VLOOKUP(B1034,[2]sheet2!B:L,11,0)","v":"-"},"http://183.62.54.51:8841/data/files/certificate/000000000439/a3e04ab6b2414dedb3ac524a318d60b5/signed/1032_王燕娟、潘高峰_二等奖_6919.pdf"]
[1033,"P305219093387","人教新目标初中英语八年级上册Unit8Howtomakeabananamilkshake","初中组","微课","二等奖","河源市",{"$f":"VLOOKUP(B1035,'[1]002'!B:M,7,0)","v":"艾施连"},{"$f":"VLOOKUP(B1035,'[1]002'!B:M,8,0)","v":"河源市北大附属德爱国际学校"},{"$f":"VLOOKUP(B1035,'[1]002'!B:M,11,0)","v":"-"},{"$f":"VLOOKUP(B1035,'[1]002'!B:M,12,0)","v":"-"},{"$f":"VLOOKUP(B1035,[2]sheet2!B:L,10,0)","v":"-"},{"$f":"VLOOKUP(B1035,[2]sheet2!B:L,11,0)","v":"-"},"http://183.62.54.51:8841/data/files/certificate/000000000439/5b133bc43e0a45798ff85a719523f541/signed/1033_艾施连_二等奖_6920.pdf"]
[1034,"P305219093377","人教新目标初中英语八年级上册HowToMakeAcceptOrDeclineAnInvitation","初中组","微课","二等奖","河源市",{"$f":"VLOOKUP(B1036,'[1]002'!B:M,7,0)","v":"张  琪"},{"$f":"VLOOKUP(B1036,'[1]002'!B:M,8,0)","v":"河源市北大附属德爱国际学校"},{"$f":"VLOOKUP(B1036,'[1]002'!B:M,11,0)","v":"-"},{"$f":"VLOOKUP(B1036,'[1]002'!B:M,12,0)","v":"-"},{"$f":"VLOOKUP(B1036,[2]sheet2!B:L,10,0)","v":"-"},{"$f":"VLOOKUP(B1036,[2]sheet2!B:L,11,0)","v":"-"},"http://183.62.54.51:8841/data/files/certificate/000000000439/b5ff55fac7ff458591b0db8ce5c984db/signed/1034_张琪_二等奖_6921.pdf"]
[1035,"P305219093376","探究鸟适于飞行的特点","初中组","微课","二等奖","河源市",{"$f":"VLOOKUP(B1037,'[1]002'!B:M,7,0)","v":"戴海霞"},{"$f":"VLOOKUP(B1037,'[1]002'!B:M,8,0)","v":"东源县崇文学校"},{"$f":"VLOOKUP(B1037,'[1]002'!B:M,11,0)","v":"-"},{"$f":"VLOOKUP(B1037,'[1]002'!B:M,12,0)","v":"-"},{"$f":"VLOOKUP(B1037,[2]sheet2!B:L,10,0)","v":"-"},{"$f":"VLOOKUP(B1037,[2]sheet2!B:L,11,0)","v":"-"},"http://183.62.54.51:8841/data/files/certificate/000000000439/a20b70b0c778488883564c13c7bc0ba8/signed/1035_戴海霞_二等奖_6922.pdf"]
[1036,"P305219079183","CO2与水反应的探究","初中组","微课","二等奖","梅州市",{"$f":"VLOOKUP(B1038,'[1]002'!B:M,7,0)","v":"陈丹妮"},{"$f":"VLOOKUP(B1038,'[1]002'!B:M,8,0)","v":"梅州市学艺中学"},{"$f":"VLOOKUP(B1038,'[1]002'!B:M,11,0)","v":"-"},{"$f":"VLOOKUP(B1038,'[1]002'!B:M,12,0)","v":"-"},{"$f":"VLOOKUP(B1038,[2]sheet2!B:L,10,0)","v":"-"},{"$f":"VLOOKUP(B1038,[2]sheet2!B:L,11,0)","v":"-"},"http://183.62.54.51:8841/data/files/certificate/000000000439/2845e2e0fa434b14bc3ce8cacd2ef03f/signed/1036_陈丹妮_二等奖_6923.pdf"]
[1037,"P305219092123","感叹句微课","初中组","微课","二等奖","惠州市",{"$f":"VLOOKUP(B1039,'[1]002'!B:M,7,0)","v":"高裕玲"},{"$f":"VLOOKUP(B1039,'[1]002'!B:M,8,0)","v":"博罗县三乡中学"},{"$f":"VLOOKUP(B1039,'[1]002'!B:M,11,0)","v":"-"},{"$f":"VLOOKUP(B1039,'[1]002'!B:M,12,0)","v":"-"},{"$f":"VLOOKUP(B1039,[2]sheet2!B:L,10,0)","v":"-"},{"$f":"VLOOKUP(B1039,[2]sheet2!B:L,11,0)","v":"-"},"http://183.62.54.51:8841/data/files/certificate/000000000439/ba581c0db3014ac8ac919b076fdc0fe3/signed/1037_高裕玲_二等奖_6924.pdf"]
[1038,"P305219092384","物质的变化","初中组","微课","二等奖","汕尾市",{"$f":"VLOOKUP(B1040,'[1]002'!B:M,7,0)","v":"翁映芬"},{"$f":"VLOOKUP(B1040,'[1]002'!B:M,8,0)","v":"陆河县螺溪中学"},{"$f":"VLOOKUP(B1040,'[1]002'!B:M,11,0)","v":"-"},{"$f":"VLOOKUP(B1040,'[1]002'!B:M,12,0)","v":"-"},{"$f":"VLOOKUP(B1040,[2]sheet2!B:L,10,0)","v":"-"},{"$f":"VLOOKUP(B1040,[2]sheet2!B:L,11,0)","v":"-"},"http://183.62.54.51:8841/data/files/certificate/000000000439/0f8c7626ad404df4b372af976cbe6480/signed/1038_翁映芬_二等奖_6925.pdf"]
[1039,"P305219092580","如何写明信片","初中组","微课","二等奖","东莞市",{"$f":"VLOOKUP(B1041,'[1]002'!B:M,7,0)","v":"钟浩然"},{"$f":"VLOOKUP(B1041,'[1]002'!B:M,8,0)","v":"东莞市厚街湖景中学"},{"$f":"VLOOKUP(B1041,'[1]002'!B:M,11,0)","v":"钟珊珊"},{"$f":"VLOOKUP(B1041,'[1]002'!B:M,12,0)","v":"东莞市塘厦中学"},{"$f":"VLOOKUP(B1041,[2]sheet2!B:L,10,0)","v":"-"},{"$f":"VLOOKUP(B1041,[2]sheet2!B:L,11,0)","v":"-"},"http://183.62.54.51:8841/data/files/certificate/000000000439/ceed4ba6dcde413f8199522e064ebb60/signed/1039_钟浩然、钟珊珊_二等奖_6926.pdf"]
[1040,"P305219088882","等高线地形图的绘制","初中组","微课","二等奖","中山市",{"$f":"VLOOKUP(B1042,'[1]002'!B:M,7,0)","v":"杨晓茗"},{"$f":"VLOOKUP(B1042,'[1]002'!B:M,8,0)","v":"中山市五桂山学校"},{"$f":"VLOOKUP(B1042,'[1]002'!B:M,11,0)","v":"-"},{"$f":"VLOOKUP(B1042,'[1]002'!B:M,12,0)","v":"-"},{"$f":"VLOOKUP(B1042,[2]sheet2!B:L,10,0)","v":"-"},{"$f":"VLOOKUP(B1042,[2]sheet2!B:L,11,0)","v":"-"},"http://183.62.54.51:8841/data/files/certificate/000000000439/7ad9de584124471caedbb030cbb00c7d/signed/1040_杨晓茗_二等奖_6927.pdf"]
[1041,"P305219088696","三级跳远---第一跳单足跳","初中组","微课","二等奖","中山市",{"$f":"VLOOKUP(B1043,'[1]002'!B:M,7,0)","v":"郭州杰"},{"$f":"VLOOKUP(B1043,'[1]002'!B:M,8,0)","v":"中山市沙溪初级中学"},{"$f":"VLOOKUP(B1043,'[1]002'!B:M,11,0)","v":"钟卫兵"},{"$f":"VLOOKUP(B1043,'[1]002'!B:M,12,0)","v":"中山市沙溪初级中学"},{"$f":"VLOOKUP(B1043,[2]sheet2!B:L,10,0)","v":"-"},{"$f":"VLOOKUP(B1043,[2]sheet2!B:L,11,0)","v":"-"},"http://183.62.54.51:8841/data/files/certificate/000000000439/cc1b389ef7604e9198014803d32d4f88/signed/1041_郭州杰、钟卫兵_二等奖_6928.pdf"]
[1042,"P305219088418","双控灯电路的设计","初中组","微课","二等奖","中山市",{"$f":"VLOOKUP(B1044,'[1]002'!B:M,7,0)","v":"危光明"},{"$f":"VLOOKUP(B1044,'[1]002'!B:M,8,0)","v":"中山市东区松苑中学"},{"$f":"VLOOKUP(B1044,'[1]002'!B:M,11,0)","v":"-"},{"$f":"VLOOKUP(B1044,'[1]002'!B:M,12,0)","v":"-"},{"$f":"VLOOKUP(B1044,[2]sheet2!B:L,10,0)","v":"-"},{"$f":"VLOOKUP(B1044,[2]sheet2!B:L,11,0)","v":"-"},"http://183.62.54.51:8841/data/files/certificate/000000000439/a33b2bc71e064b48b1f425afc83543bb/signed/1042_危光明_二等奖_6929.pdf"]
[1043,"P305219092007","制作遮罩动画","初中组","微课","二等奖","江门市",{"$f":"VLOOKUP(B1045,'[1]002'!B:M,7,0)","v":"周裕德"},{"$f":"VLOOKUP(B1045,'[1]002'!B:M,8,0)","v":"开平市东河中学"},{"$f":"VLOOKUP(B1045,'[1]002'!B:M,11,0)","v":"-"},{"$f":"VLOOKUP(B1045,'[1]002'!B:M,12,0)","v":"-"},{"$f":"VLOOKUP(B1045,[2]sheet2!B:L,10,0)","v":"-"},{"$f":"VLOOKUP(B1045,[2]sheet2!B:L,11,0)","v":"-"},"http://183.62.54.51:8841/data/files/certificate/000000000439/d171be0d137f4bbdac09ad92bb855eeb/signed/1043_周裕德_二等奖_6930.pdf"]
[1044,"P305219091770","垂直于弦的直径","初中组","微课","二等奖","江门市",{"$f":"VLOOKUP(B1046,'[1]002'!B:M,7,0)","v":"陈铭波"},{"$f":"VLOOKUP(B1046,'[1]002'!B:M,8,0)","v":"江门市实验中学"},{"$f":"VLOOKUP(B1046,'[1]002'!B:M,11,0)","v":"-"},{"$f":"VLOOKUP(B1046,'[1]002'!B:M,12,0)","v":"-"},{"$f":"VLOOKUP(B1046,[2]sheet2!B:L,10,0)","v":"-"},{"$f":"VLOOKUP(B1046,[2]sheet2!B:L,11,0)","v":"-"},"http://183.62.54.51:8841/data/files/certificate/000000000439/d784d1b5d2914e4aaae70ff372c18997/signed/1044_陈铭波_二等奖_6931.pdf"]
[1045,"P305219091772","勇闯游戏关卡熟练驾御二次函数图像和性质","初中组","微课","二等奖","江门市",{"$f":"VLOOKUP(B1047,'[1]002'!B:M,7,0)","v":"黄晓莺"},{"$f":"VLOOKUP(B1047,'[1]002'!B:M,8,0)","v":"江门市怡福中学"},{"$f":"VLOOKUP(B1047,'[1]002'!B:M,11,0)","v":"-"},{"$f":"VLOOKUP(B1047,'[1]002'!B:M,12,0)","v":"-"},{"$f":"VLOOKUP(B1047,[2]sheet2!B:L,10,0)","v":"-"},{"$f":"VLOOKUP(B1047,[2]sheet2!B:L,11,0)","v":"-"},"http://183.62.54.51:8841/data/files/certificate/000000000439/3c9bfafbcb4f4c4eb47fc32512bf1575/signed/1045_黄晓莺_二等奖_6932.pdf"]
[1046,"P305219092329","现在完成时","初中组","微课","二等奖","江门市",{"$f":"VLOOKUP(B1048,'[1]002'!B:M,7,0)","v":"林安怡"},{"$f":"VLOOKUP(B1048,'[1]002'!B:M,8,0)","v":"江门市第九中学"},{"$f":"VLOOKUP(B1048,'[1]002'!B:M,11,0)","v":"-"},{"$f":"VLOOKUP(B1048,'[1]002'!B:M,12,0)","v":"-"},{"$f":"VLOOKUP(B1048,[2]sheet2!B:L,10,0)","v":"-"},{"$f":"VLOOKUP(B1048,[2]sheet2!B:L,11,0)","v":"-"},"http://183.62.54.51:8841/data/files/certificate/000000000439/4a222baf37fb46d0acc21952ebc0f807/signed/1046_林安怡_二等奖_6933.pdf"]
[1047,"P305219091820","高锰酸钾制取氧气的操作过程","初中组","微课","二等奖","江门市",{"$f":"VLOOKUP(B1049,'[1]002'!B:M,7,0)","v":"林秋燕"},{"$f":"VLOOKUP(B1049,'[1]002'!B:M,8,0)","v":"江门市第十一中学"},{"$f":"VLOOKUP(B1049,'[1]002'!B:M,11,0)","v":"-"},{"$f":"VLOOKUP(B1049,'[1]002'!B:M,12,0)","v":"-"},{"$f":"VLOOKUP(B1049,[2]sheet2!B:L,10,0)","v":"-"},{"$f":"VLOOKUP(B1049,[2]sheet2!B:L,11,0)","v":"-"},"http://183.62.54.51:8841/data/files/certificate/000000000439/7fcbc8b5e1c346d685611d6550b55c34/signed/1047_林秋燕_二等奖_6934.pdf"]
[1048,"P305219092954","探究骨的成分与物理特性","初中组","微课","二等奖","湛江市",{"$f":"VLOOKUP(B1050,'[1]002'!B:M,7,0)","v":"吴小艳"},{"$f":"VLOOKUP(B1050,'[1]002'!B:M,8,0)","v":"湛江市坡头区第一中学"},{"$f":"VLOOKUP(B1050,'[1]002'!B:M,11,0)","v":"罗球安"},{"$f":"VLOOKUP(B1050,'[1]002'!B:M,12,0)","v":"湛江市坡头区第一中学"},{"$f":"VLOOKUP(B1050,[2]sheet2!B:L,10,0)","v":"-"},{"$f":"VLOOKUP(B1050,[2]sheet2!B:L,11,0)","v":"-"},"http://183.62.54.51:8841/data/files/certificate/000000000439/781fbcc2d17744f78a708f28c093d205/signed/1048_吴小艳、罗球安_二等奖_6935.pdf"]
[1049,"P305219091410","宾语从句","初中组","微课","二等奖","茂名市",{"$f":"VLOOKUP(B1051,'[1]002'!B:M,7,0)","v":"戴敏思"},{"$f":"VLOOKUP(B1051,'[1]002'!B:M,8,0)","v":"茂名市行知中学"},{"$f":"VLOOKUP(B1051,'[1]002'!B:M,11,0)","v":"-"},{"$f":"VLOOKUP(B1051,'[1]002'!B:M,12,0)","v":"-"},{"$f":"VLOOKUP(B1051,[2]sheet2!B:L,10,0)","v":"-"},{"$f":"VLOOKUP(B1051,[2]sheet2!B:L,11,0)","v":"-"},"http://183.62.54.51:8841/data/files/certificate/000000000439/6dad46fb6fae48608762b814d41dcd6b/signed/1049_戴敏思_二等奖_6936.pdf"]
[1050,"P305219091403","巧说文言虚词而","初中组","微课","二等奖","茂名市",{"$f":"VLOOKUP(B1052,'[1]002'!B:M,7,0)","v":"黄彩金"},{"$f":"VLOOKUP(B1052,'[1]002'!B:M,8,0)","v":"茂名市博雅中学"},{"$f":"VLOOKUP(B1052,'[1]002'!B:M,11,0)","v":"-"},{"$f":"VLOOKUP(B1052,'[1]002'!B:M,12,0)","v":"-"},{"$f":"VLOOKUP(B1052,[2]sheet2!B:L,10,0)","v":"-"},{"$f":"VLOOKUP(B1052,[2]sheet2!B:L,11,0)","v":"-"},"http://183.62.54.51:8841/data/files/certificate/000000000439/ce76aa9a3f324c418399cb1c0c191018/signed/1050_黄彩金_二等奖_6937.pdf"]
[1051,"P305219091405","认识flash时间轴","初中组","微课","二等奖","茂名市",{"$f":"VLOOKUP(B1053,'[1]002'!B:M,7,0)","v":"杨晓婷"},{"$f":"VLOOKUP(B1053,'[1]002'!B:M,8,0)","v":"茂名市博雅中学"},{"$f":"VLOOKUP(B1053,'[1]002'!B:M,11,0)","v":"-"},{"$f":"VLOOKUP(B1053,'[1]002'!B:M,12,0)","v":"-"},{"$f":"VLOOKUP(B1053,[2]sheet2!B:L,10,0)","v":"-"},{"$f":"VLOOKUP(B1053,[2]sheet2!B:L,11,0)","v":"-"},"http://183.62.54.51:8841/data/files/certificate/000000000439/01bf2e552fd94af69ac7c1f95048e61f/signed/1051_杨晓婷_二等奖_6938.pdf"]
[1052,"P305219091207","家庭电路","初中组","微课","二等奖","肇庆市",{"$f":"VLOOKUP(B1054,'[1]002'!B:M,7,0)","v":"李惠娟"},{"$f":"VLOOKUP(B1054,'[1]002'!B:M,8,0)","v":"鼎湖区广利街道办事处广利初级中学"},{"$f":"VLOOKUP(B1054,'[1]002'!B:M,11,0)","v":"-"},{"$f":"VLOOKUP(B1054,'[1]002'!B:M,12,0)","v":"-"},{"$f":"VLOOKUP(B1054,[2]sheet2!B:L,10,0)","v":"-"},{"$f":"VLOOKUP(B1054,[2]sheet2!B:L,11,0)","v":"-"},"http://183.62.54.51:8841/data/files/certificate/000000000439/b8a4d8dd6c404b1b9554d8365ec426fa/signed/1052_李惠娟_二等奖_6939.pdf"]
[1053,"P305219091642","Unit6Topic1Howtosay在树上inEnglish","初中组","微课","二等奖","清远市",{"$f":"VLOOKUP(B1055,'[1]002'!B:M,7,0)","v":"江伟霞"},{"$f":"VLOOKUP(B1055,'[1]002'!B:M,8,0)","v":"清远市清城区松岗中学"},{"$f":"VLOOKUP(B1055,'[1]002'!B:M,11,0)","v":"-"},{"$f":"VLOOKUP(B1055,'[1]002'!B:M,12,0)","v":"-"},{"$f":"VLOOKUP(B1055,[2]sheet2!B:L,10,0)","v":"-"},{"$f":"VLOOKUP(B1055,[2]sheet2!B:L,11,0)","v":"-"},"http://183.62.54.51:8841/data/files/certificate/000000000439/7f97055990f34a1ab694c75b1cc30166/signed/1053_江伟霞_二等奖_6940.pdf"]
[1054,"P305219091648","种子植物","初中组","微课","二等奖","清远市",{"$f":"VLOOKUP(B1056,'[1]002'!B:M,7,0)","v":"李志可"},{"$f":"VLOOKUP(B1056,'[1]002'!B:M,8,0)","v":"清远市清新区何黄玉湘中学"},{"$f":"VLOOKUP(B1056,'[1]002'!B:M,11,0)","v":"-"},{"$f":"VLOOKUP(B1056,'[1]002'!B:M,12,0)","v":"-"},{"$f":"VLOOKUP(B1056,[2]sheet2!B:L,10,0)","v":"-"},{"$f":"VLOOKUP(B1056,[2]sheet2!B:L,11,0)","v":"-"},"http://183.62.54.51:8841/data/files/certificate/000000000439/b991d878a5c34409ae95a37092c38a32/signed/1054_李志可_二等奖_6941.pdf"]
[1055,"P305219091639","形容词的比较等级","初中组","微课","二等奖","清远市",{"$f":"VLOOKUP(B1057,'[1]002'!B:M,7,0)","v":"苏琴"},{"$f":"VLOOKUP(B1057,'[1]002'!B:M,8,0)","v":"石潭镇第一初级中学"},{"$f":"VLOOKUP(B1057,'[1]002'!B:M,11,0)","v":"-"},{"$f":"VLOOKUP(B1057,'[1]002'!B:M,12,0)","v":"-"},{"$f":"VLOOKUP(B1057,[2]sheet2!B:L,10,0)","v":"-"},{"$f":"VLOOKUP(B1057,[2]sheet2!B:L,11,0)","v":"-"},"http://183.62.54.51:8841/data/files/certificate/000000000439/84ea812a37ec4363bd75cc045e3cfb9e/signed/1055_苏琴_二等奖_6942.pdf"]
[1056,"P305219091646","一般现在时","初中组","微课","二等奖","清远市",{"$f":"VLOOKUP(B1058,'[1]002'!B:M,7,0)","v":"张丽萍"},{"$f":"VLOOKUP(B1058,'[1]002'!B:M,8,0)","v":"清远市源潭中学"},{"$f":"VLOOKUP(B1058,'[1]002'!B:M,11,0)","v":"-"},{"$f":"VLOOKUP(B1058,'[1]002'!B:M,12,0)","v":"-"},{"$f":"VLOOKUP(B1058,[2]sheet2!B:L,10,0)","v":"-"},{"$f":"VLOOKUP(B1058,[2]sheet2!B:L,11,0)","v":"-"},"http://183.62.54.51:8841/data/files/certificate/000000000439/5a9cb5e1c00647ffa1f6a202d61a53f4/signed/1056_张丽萍_二等奖_6943.pdf"]
[1057,"P305219085746","燃烧和灭火","初中组","微课","二等奖","潮州市",{"$f":"VLOOKUP(B1059,'[1]002'!B:M,7,0)","v":"苏培成"},{"$f":"VLOOKUP(B1059,'[1]002'!B:M,8,0)","v":"潮州市潮安区金石镇仙都初级中学"},{"$f":"VLOOKUP(B1059,'[1]002'!B:M,11,0)","v":"-"},{"$f":"VLOOKUP(B1059,'[1]002'!B:M,12,0)","v":"-"},{"$f":"VLOOKUP(B1059,[2]sheet2!B:L,10,0)","v":"-"},{"$f":"VLOOKUP(B1059,[2]sheet2!B:L,11,0)","v":"-"},"http://183.62.54.51:8841/data/files/certificate/000000000439/ba9aee2d016349f489c9d12332af048d/signed/1057_苏培成_二等奖_6944.pdf"]
[1058,"P305219087222","串联和并联","初中组","微课","二等奖","云浮市",{"$f":"VLOOKUP(B1060,'[1]002'!B:M,7,0)","v":"陈慧"},{"$f":"VLOOKUP(B1060,'[1]002'!B:M,8,0)","v":"云浮市云安区白石镇中学"},{"$f":"VLOOKUP(B1060,'[1]002'!B:M,11,0)","v":"-"},{"$f":"VLOOKUP(B1060,'[1]002'!B:M,12,0)","v":"-"},{"$f":"VLOOKUP(B1060,[2]sheet2!B:L,10,0)","v":"-"},{"$f":"VLOOKUP(B1060,[2]sheet2!B:L,11,0)","v":"-"},"http://183.62.54.51:8841/data/files/certificate/000000000439/5b9319234c01436ea2dc8054ad57b230/signed/1058_陈慧_二等奖_6945.pdf"]
[1059,"P305219087117","功","初中组","微课","二等奖","云浮市",{"$f":"VLOOKUP(B1061,'[1]002'!B:M,7,0)","v":"陈慧"},{"$f":"VLOOKUP(B1061,'[1]002'!B:M,8,0)","v":"云浮市云安区白石镇中学"},{"$f":"VLOOKUP(B1061,'[1]002'!B:M,11,0)","v":"-"},{"$f":"VLOOKUP(B1061,'[1]002'!B:M,12,0)","v":"-"},{"$f":"VLOOKUP(B1061,[2]sheet2!B:L,10,0)","v":"-"},{"$f":"VLOOKUP(B1061,[2]sheet2!B:L,11,0)","v":"-"},"http://183.62.54.51:8841/data/files/certificate/000000000439/e3ae478db8c74bbca051cf296e11e409/signed/1059_陈慧_二等奖_6946.pdf"]
[1060,"P305219079451","色彩的冷暖","初中组","微课","二等奖","云浮市",{"$f":"VLOOKUP(B1062,'[1]002'!B:M,7,0)","v":"吴沛玲"},{"$f":"VLOOKUP(B1062,'[1]002'!B:M,8,0)","v":"云浮市第一中学"},{"$f":"VLOOKUP(B1062,'[1]002'!B:M,11,0)","v":"-"},{"$f":"VLOOKUP(B1062,'[1]002'!B:M,12,0)","v":"-"},{"$f":"VLOOKUP(B1062,[2]sheet2!B:L,10,0)","v":"-"},{"$f":"VLOOKUP(B1062,[2]sheet2!B:L,11,0)","v":"-"},"http://183.62.54.51:8841/data/files/certificate/000000000439/91307b2f78394f5ca1a5a31549d9890e/signed/1060_吴沛玲_二等奖_6947.pdf"]
[1061,"P305219088953","燃烧条件的探究","初中组","微课","二等奖","云浮市",{"$f":"VLOOKUP(B1063,'[1]002'!B:M,7,0)","v":"吕雪平"},{"$f":"VLOOKUP(B1063,'[1]002'!B:M,8,0)","v":"新兴县簕竹镇初级中学"},{"$f":"VLOOKUP(B1063,'[1]002'!B:M,11,0)","v":"-"},{"$f":"VLOOKUP(B1063,'[1]002'!B:M,12,0)","v":"-"},{"$f":"VLOOKUP(B1063,[2]sheet2!B:L,10,0)","v":"-"},{"$f":"VLOOKUP(B1063,[2]sheet2!B:L,11,0)","v":"-"},"http://183.62.54.51:8841/data/files/certificate/000000000439/ba8660c894764e1894ffb1b319900e7c/signed/1061_吕雪平_二等奖_6948.pdf"]
[1062,"P307219093247","初中数学“双反馈三阶段”翻转课堂 教学模型的实践研究","初中组","信息技术创新教学案例","二等奖","广州市",{"$f":"VLOOKUP(B1064,'[1]002'!B:M,7,0)","v":"王智君"},{"$f":"VLOOKUP(B1064,'[1]002'!B:M,8,0)","v":"广州市东晓中学"},{"$f":"VLOOKUP(B1064,'[1]002'!B:M,11,0)","v":"-"},{"$f":"VLOOKUP(B1064,'[1]002'!B:M,12,0)","v":"-"},{"$f":"VLOOKUP(B1064,[2]sheet2!B:L,10,0)","v":"-"},{"$f":"VLOOKUP(B1064,[2]sheet2!B:L,11,0)","v":"-"},"http://183.62.54.51:8841/data/files/certificate/000000000439/6829589acd0f436f821a2b90b5e58849/signed/1062_王智君_二等奖_6949.pdf"]
[1063,"P307219092675","聪明的送餐机器人","初中组","信息技术创新教学案例","二等奖","深圳市",{"$f":"VLOOKUP(B1065,'[1]002'!B:M,7,0)","v":"龙西仔"},{"$f":"VLOOKUP(B1065,'[1]002'!B:M,8,0)","v":"深圳市田东中学"},{"$f":"VLOOKUP(B1065,'[1]002'!B:M,11,0)","v":"马瑞"},{"$f":"VLOOKUP(B1065,'[1]002'!B:M,12,0)","v":"-"},{"$f":"VLOOKUP(B1065,[2]sheet2!B:L,10,0)","v":"-"},{"$f":"VLOOKUP(B1065,[2]sheet2!B:L,11,0)","v":"-"},"http://183.62.54.51:8841/data/files/certificate/000000000439/ac4c8e7ef23b4728a91661b3164989b7/signed/1063_龙西仔、马瑞_二等奖_6950.pdf"]
[1064,"P307219092674","失明的声控灯","初中组","信息技术创新教学案例","二等奖","深圳市",{"$f":"VLOOKUP(B1066,'[1]002'!B:M,7,0)","v":"吴永豪"},{"$f":"VLOOKUP(B1066,'[1]002'!B:M,8,0)","v":"深圳市光明区外国语学校"},{"$f":"VLOOKUP(B1066,'[1]002'!B:M,11,0)","v":"-"},{"$f":"VLOOKUP(B1066,'[1]002'!B:M,12,0)","v":"-"},{"$f":"VLOOKUP(B1066,[2]sheet2!B:L,10,0)","v":"-"},{"$f":"VLOOKUP(B1066,[2]sheet2!B:L,11,0)","v":"-"},"http://183.62.54.51:8841/data/files/certificate/000000000439/0b4f0f47624c4282814dc08f0e457140/signed/1064_吴永豪_二等奖_6951.pdf"]
[1065,"P307219089597","面向创客教育的初中AppInventor课程开发与实践研究","初中组","信息技术创新教学案例","二等奖","珠海市",{"$f":"VLOOKUP(B1067,'[1]002'!B:M,7,0)","v":"李誉"},{"$f":"VLOOKUP(B1067,'[1]002'!B:M,8,0)","v":"珠海市第九中学"},{"$f":"VLOOKUP(B1067,'[1]002'!B:M,11,0)","v":"-"},{"$f":"VLOOKUP(B1067,'[1]002'!B:M,12,0)","v":"-"},{"$f":"VLOOKUP(B1067,[2]sheet2!B:L,10,0)","v":"-"},{"$f":"VLOOKUP(B1067,[2]sheet2!B:L,11,0)","v":"-"},"http://183.62.54.51:8841/data/files/certificate/000000000439/b6ccaf92794d4ab8bd1e8f8618079285/signed/1065_李誉_二等奖_6952.pdf"]
[1066,"P307219092830","基于云平台和学习软件探索初中英语O2O教学模式","初中组","信息技术创新教学案例","二等奖","东莞市",{"$f":"VLOOKUP(B1068,'[1]002'!B:M,7,0)","v":"吴文芳"},{"$f":"VLOOKUP(B1068,'[1]002'!B:M,8,0)","v":"东莞市竹溪中学"},{"$f":"VLOOKUP(B1068,'[1]002'!B:M,11,0)","v":"赖容花"},{"$f":"VLOOKUP(B1068,'[1]002'!B:M,12,0)","v":"东莞市竹溪中学"},{"$f":"VLOOKUP(B1068,[2]sheet2!B:L,10,0)","v":"郑秀兰"},{"$f":"VLOOKUP(B1068,[2]sheet2!B:L,11,0)","v":"东莞市竹溪中学"},"http://183.62.54.51:8841/data/files/certificate/000000000439/0cd32a6f8b344216b45e710d525b9b99/signed/1066_吴文芳、赖容花、郑秀兰_二等奖_6953.pdf"]
[1067,"P307219088754","制取氧气","初中组","信息技术创新教学案例","二等奖","中山市",{"$f":"VLOOKUP(B1069,'[1]002'!B:M,7,0)","v":"郑婷月"},{"$f":"VLOOKUP(B1069,'[1]002'!B:M,8,0)","v":"中山市西区铁城初级中学"},{"$f":"VLOOKUP(B1069,'[1]002'!B:M,11,0)","v":"苏敏坚"},{"$f":"VLOOKUP(B1069,'[1]002'!B:M,12,0)","v":"中山市西区铁城初级中学"},{"$f":"VLOOKUP(B1069,[2]sheet2!B:L,10,0)","v":"-"},{"$f":"VLOOKUP(B1069,[2]sheet2!B:L,11,0)","v":"-"},"http://183.62.54.51:8841/data/files/certificate/000000000439/d5472139df614857a8d92b9f628fab77/signed/1067_郑婷月、苏敏坚_二等奖_6954.pdf"]
[1068,"P307219091435","Module7 Unit2 It is still read and loved","初中组","信息技术创新教学案例","二等奖","茂名市",{"$f":"VLOOKUP(B1070,'[1]002'!B:M,7,0)","v":"陈玉梅"},{"$f":"VLOOKUP(B1070,'[1]002'!B:M,8,0)","v":"茂名市龙岭学校"},{"$f":"VLOOKUP(B1070,'[1]002'!B:M,11,0)","v":"-"},{"$f":"VLOOKUP(B1070,'[1]002'!B:M,12,0)","v":"-"},{"$f":"VLOOKUP(B1070,[2]sheet2!B:L,10,0)","v":"-"},{"$f":"VLOOKUP(B1070,[2]sheet2!B:L,11,0)","v":"-"},"http://183.62.54.51:8841/data/files/certificate/000000000439/c60d67cbe76140df9a91ff694041874d/signed/1068_陈玉梅_二等奖_6955.pdf"]
[1069,"P301219089592","微型网络社区促进学生整体阅读名著西游记","初中组","教师网络空间应用案例","二等奖","珠海市",{"$f":"VLOOKUP(B1071,'[1]002'!B:M,7,0)","v":"孙北平"},{"$f":"VLOOKUP(B1071,'[1]002'!B:M,8,0)","v":"珠海市第五中学"},{"$f":"VLOOKUP(B1071,'[1]002'!B:M,11,0)","v":"-"},{"$f":"VLOOKUP(B1071,'[1]002'!B:M,12,0)","v":"-"},{"$f":"VLOOKUP(B1071,[2]sheet2!B:L,10,0)","v":"-"},{"$f":"VLOOKUP(B1071,[2]sheet2!B:L,11,0)","v":"-"},"http://183.62.54.51:8841/data/files/certificate/000000000439/9d53a045f9944eb6b46d467d32072a2a/signed/1069_孙北平_二等奖_6956.pdf"]
[1070,"P301219093373","网络学习空间支持的初中帮带协同教学模式实践应用案例","初中组","教师网络空间应用案例","二等奖","河源市",{"$f":"VLOOKUP(B1072,'[1]002'!B:M,7,0)","v":"李淑玲"},{"$f":"VLOOKUP(B1072,'[1]002'!B:M,8,0)","v":"东源县崇文学校"},{"$f":"VLOOKUP(B1072,'[1]002'!B:M,11,0)","v":"江龙"},{"$f":"VLOOKUP(B1072,'[1]002'!B:M,12,0)","v":"东源县崇文学校"},{"$f":"VLOOKUP(B1072,[2]sheet2!B:L,10,0)","v":"张蓉"},{"$f":"VLOOKUP(B1072,[2]sheet2!B:L,11,0)","v":"东源县崇文学校"},"http://183.62.54.51:8841/data/files/certificate/000000000439/81e12fdc4af24ad3b83250e2fa468951/signed/1070_李淑玲、江龙、张蓉_二等奖_6957.pdf"]
[1071,"P301219089502","溢彩化学，五光十色","初中组","教师网络空间应用案例","二等奖","中山市",{"$f":"VLOOKUP(B1073,'[1]002'!B:M,7,0)","v":"赵国华"},{"$f":"VLOOKUP(B1073,'[1]002'!B:M,8,0)","v":"中山市石岐中学"},{"$f":"VLOOKUP(B1073,'[1]002'!B:M,11,0)","v":"-"},{"$f":"VLOOKUP(B1073,'[1]002'!B:M,12,0)","v":"-"},{"$f":"VLOOKUP(B1073,[2]sheet2!B:L,10,0)","v":"-"},{"$f":"VLOOKUP(B1073,[2]sheet2!B:L,11,0)","v":"-"},"http://183.62.54.51:8841/data/files/certificate/000000000439/ab893ce525b04a02abefb388f9044005/signed/1071_赵国华_二等奖_6958.pdf"]
[1072,"P301219089377","跨越多彩空间遇见精彩数学","初中组","教师网络空间应用案例","二等奖","中山市",{"$f":"VLOOKUP(B1074,'[1]002'!B:M,7,0)","v":"余凯健"},{"$f":"VLOOKUP(B1074,'[1]002'!B:M,8,0)","v":"中山市石岐中学"},{"$f":"VLOOKUP(B1074,'[1]002'!B:M,11,0)","v":"-"},{"$f":"VLOOKUP(B1074,'[1]002'!B:M,12,0)","v":"-"},{"$f":"VLOOKUP(B1074,[2]sheet2!B:L,10,0)","v":"-"},{"$f":"VLOOKUP(B1074,[2]sheet2!B:L,11,0)","v":"-"},"http://183.62.54.51:8841/data/files/certificate/000000000439/3d768e94d18840248d77d9967c12d405/signed/1072_余凯健_二等奖_6959.pdf"]
[1073,"P304219089598","网络微数据库_成语接龙APP","初中组","跨学科项目式学习教学案例","二等奖","珠海市",{"$f":"VLOOKUP(B1075,'[1]002'!B:M,7,0)","v":"朱志"},{"$f":"VLOOKUP(B1075,'[1]002'!B:M,8,0)","v":"珠海市第九中学"},{"$f":"VLOOKUP(B1075,'[1]002'!B:M,11,0)","v":"-"},{"$f":"VLOOKUP(B1075,'[1]002'!B:M,12,0)","v":"-"},{"$f":"VLOOKUP(B1075,[2]sheet2!B:L,10,0)","v":"-"},{"$f":"VLOOKUP(B1075,[2]sheet2!B:L,11,0)","v":"-"},"http://183.62.54.51:8841/data/files/certificate/000000000439/6a4fa5ef57b143828c5ec3b4deac3c11/signed/1073_朱志_二等奖_6960.pdf"]
[1074,"P304219093375","科创和STEM教育理念下项目式学习创新课程初中数学科实践课之哪个地方夏天更热哪个地方冬天更冷","初中组","跨学科项目式学习教学案例","二等奖","河源市",{"$f":"VLOOKUP(B1076,'[1]002'!B:M,7,0)","v":"黄贵梅"},{"$f":"VLOOKUP(B1076,'[1]002'!B:M,8,0)","v":"河源市第一中学"},{"$f":"VLOOKUP(B1076,'[1]002'!B:M,11,0)","v":"-"},{"$f":"VLOOKUP(B1076,'[1]002'!B:M,12,0)","v":"-"},{"$f":"VLOOKUP(B1076,[2]sheet2!B:L,10,0)","v":"-"},{"$f":"VLOOKUP(B1076,[2]sheet2!B:L,11,0)","v":"-"},"http://183.62.54.51:8841/data/files/certificate/000000000439/bd3815481c6f455699cd061d9df317dd/signed/1074_黄贵梅_二等奖_6961.pdf"]
[1075,"P304219088669","基于信息技术下地震灾害预警项目的实践","初中组","跨学科项目式学习教学案例","二等奖","中山市",{"$f":"VLOOKUP(B1077,'[1]002'!B:M,7,0)","v":"苏敏坚"},{"$f":"VLOOKUP(B1077,'[1]002'!B:M,8,0)","v":"中山市西区铁城初级中学"},{"$f":"VLOOKUP(B1077,'[1]002'!B:M,11,0)","v":"陈秋菊"},{"$f":"VLOOKUP(B1077,'[1]002'!B:M,12,0)","v":"中山市西区铁城初级中学"},{"$f":"VLOOKUP(B1077,[2]sheet2!B:L,10,0)","v":"-"},{"$f":"VLOOKUP(B1077,[2]sheet2!B:L,11,0)","v":"-"},"http://183.62.54.51:8841/data/files/certificate/000000000439/3b5ecbc267654674909fee383965951b/signed/1075_苏敏坚、陈秋菊_二等奖_6962.pdf"]
[1076,"P304219090108","信息技术支撑下的STEM与语文阅读教学","初中组","跨学科项目式学习教学案例","二等奖","云浮市",{"$f":"VLOOKUP(B1078,'[1]002'!B:M,7,0)","v":"何志雄"},{"$f":"VLOOKUP(B1078,'[1]002'!B:M,8,0)","v":"云浮市云安区石城镇石城中学"},{"$f":"VLOOKUP(B1078,'[1]002'!B:M,11,0)","v":"莫秋玲"},{"$f":"VLOOKUP(B1078,'[1]002'!B:M,12,0)","v":"云浮市云安区石城镇石城中学"},{"$f":"VLOOKUP(B1078,[2]sheet2!B:L,10,0)","v":"周伟明"},{"$f":"VLOOKUP(B1078,[2]sheet2!B:L,11,0)","v":"云浮市云安区石城镇石城中学"},"http://183.62.54.51:8841/data/files/certificate/000000000439/1e91342bbfb141d48b53fc5cb0ad9fff/signed/1076_何志雄、莫秋玲、周伟明_二等奖_6963.pdf"]
[1077,"P306219093267","智慧课堂八年级上册U4形容词语法教学","初中组","新媒体新技术教学应用课例","二等奖",{"$f":"RIGHT(LEFT(VLOOKUP(B1079,'[1]002'!B:M,3,0),7),3)","v":"广州市"},{"$f":"VLOOKUP(B1079,'[1]002'!B:M,7,0)","v":"洪薇"},{"$f":"VLOOKUP(B1079,'[1]002'!B:M,8,0)","v":"广州市白云区桃园中学"},{"$f":"VLOOKUP(B1079,'[1]002'!B:M,11,0)","v":"-"},{"$f":"VLOOKUP(B1079,'[1]002'!B:M,12,0)","v":"-"},{"$f":"VLOOKUP(B1079,[2]sheet2!B:L,10,0)","v":"-"},{"$f":"VLOOKUP(B1079,[2]sheet2!B:L,11,0)","v":"-"},"http://183.62.54.51:8841/data/files/certificate/000000000439/10a8f433f29e4af5ada15eb77cedb721/signed/1077_洪薇_二等奖_6964.pdf"]
[1078,"P306219093214","中考作文审题立意升格指导","初中组","新媒体新技术教学应用课例","二等奖",{"$f":"RIGHT(LEFT(VLOOKUP(B1080,'[1]002'!B:M,3,0),7),3)","v":"广州市"},{"$f":"VLOOKUP(B1080,'[1]002'!B:M,7,0)","v":"江慧琼"},{"$f":"VLOOKUP(B1080,'[1]002'!B:M,8,0)","v":"广州市南海中学"},{"$f":"VLOOKUP(B1080,'[1]002'!B:M,11,0)","v":"-"},{"$f":"VLOOKUP(B1080,'[1]002'!B:M,12,0)","v":"-"},{"$f":"VLOOKUP(B1080,[2]sheet2!B:L,10,0)","v":"-"},{"$f":"VLOOKUP(B1080,[2]sheet2!B:L,11,0)","v":"-"},"http://183.62.54.51:8841/data/files/certificate/000000000439/c54b1b623e06474ca7f40ca59b917fba/signed/1078_江慧琼_二等奖_6965.pdf"]
[1079,"P306219092662","图形的旋转","初中组","新媒体新技术教学应用课例","二等奖",{"$f":"RIGHT(LEFT(VLOOKUP(B1081,'[1]002'!B:M,3,0),7),3)","v":"深圳市"},{"$f":"VLOOKUP(B1081,'[1]002'!B:M,7,0)","v":"艾明红"},{"$f":"VLOOKUP(B1081,'[1]002'!B:M,8,0)","v":"深圳市福田区红岭中学"},{"$f":"VLOOKUP(B1081,'[1]002'!B:M,11,0)","v":"-"},{"$f":"VLOOKUP(B1081,'[1]002'!B:M,12,0)","v":"-"},{"$f":"VLOOKUP(B1081,[2]sheet2!B:L,10,0)","v":"-"},{"$f":"VLOOKUP(B1081,[2]sheet2!B:L,11,0)","v":"-"},"http://183.62.54.51:8841/data/files/certificate/000000000439/f446a771934d4930a266cd30845271ee/signed/1079_艾明红_二等奖_6966.pdf"]
[1080,"P306219089483","描述人的外貌","初中组","新媒体新技术教学应用课例","二等奖",{"$f":"RIGHT(LEFT(VLOOKUP(B1082,'[1]002'!B:M,3,0),7),3)","v":"珠海市"},{"$f":"VLOOKUP(B1082,'[1]002'!B:M,7,0)","v":"刘莉"},{"$f":"VLOOKUP(B1082,'[1]002'!B:M,8,0)","v":"珠海市第五中学"},{"$f":"VLOOKUP(B1082,'[1]002'!B:M,11,0)","v":"-"},{"$f":"VLOOKUP(B1082,'[1]002'!B:M,12,0)","v":"-"},{"$f":"VLOOKUP(B1082,[2]sheet2!B:L,10,0)","v":"-"},{"$f":"VLOOKUP(B1082,[2]sheet2!B:L,11,0)","v":"-"},"http://183.62.54.51:8841/data/files/certificate/000000000439/22e291969c5141119f366720d88d3a7f/signed/1080_刘莉_二等奖_6967.pdf"]
[1081,"P307219089585","网络微数据库_成语接龙APP","初中组","新媒体新技术教学应用课例","二等奖",{"$f":"RIGHT(LEFT(VLOOKUP(B1083,'[1]002'!B:M,3,0),7),3)","v":"珠海市"},{"$f":"VLOOKUP(B1083,'[1]002'!B:M,7,0)","v":"朱志"},{"$f":"VLOOKUP(B1083,'[1]002'!B:M,8,0)","v":"珠海市第九中学"},{"$f":"VLOOKUP(B1083,'[1]002'!B:M,11,0)","v":"-"},{"$f":"VLOOKUP(B1083,'[1]002'!B:M,12,0)","v":"-"},{"$f":"VLOOKUP(B1083,[2]sheet2!B:L,10,0)","v":"-"},{"$f":"VLOOKUP(B1083,[2]sheet2!B:L,11,0)","v":"-"},"http://183.62.54.51:8841/data/files/certificate/000000000439/7e01f53c18de4ea3bffeebf6b26092b4/signed/1081_朱志_二等奖_6968.pdf"]
[1082,"P306219092100","钢铁是怎样炼成的","初中组","新媒体新技术教学应用课例","二等奖",{"$f":"RIGHT(LEFT(VLOOKUP(B1084,'[1]002'!B:M,3,0),7),3)","v":"珠海市"},{"$f":"VLOOKUP(B1084,'[1]002'!B:M,7,0)","v":"蓝倩"},{"$f":"VLOOKUP(B1084,'[1]002'!B:M,8,0)","v":"珠海市平沙镇第三中学"},{"$f":"VLOOKUP(B1084,'[1]002'!B:M,11,0)","v":"-"},{"$f":"VLOOKUP(B1084,'[1]002'!B:M,12,0)","v":"-"},{"$f":"VLOOKUP(B1084,[2]sheet2!B:L,10,0)","v":"-"},{"$f":"VLOOKUP(B1084,[2]sheet2!B:L,11,0)","v":"-"},"http://183.62.54.51:8841/data/files/certificate/000000000439/3a0296a9dfc849b6b737791ca29f59c1/signed/1082_蓝倩_二等奖_6969.pdf"]
[1083,"P306219091010","八年级上册Module6Unit2","初中组","新媒体新技术教学应用课例","二等奖",{"$f":"RIGHT(LEFT(VLOOKUP(B1085,'[1]002'!B:M,3,0),7),3)","v":"佛山市"},{"$f":"VLOOKUP(B1085,'[1]002'!B:M,7,0)","v":"谭蕴贤"},{"$f":"VLOOKUP(B1085,'[1]002'!B:M,8,0)","v":"佛山市高明区沧江中学"},{"$f":"VLOOKUP(B1085,'[1]002'!B:M,11,0)","v":"-"},{"$f":"VLOOKUP(B1085,'[1]002'!B:M,12,0)","v":"-"},{"$f":"VLOOKUP(B1085,[2]sheet2!B:L,10,0)","v":"-"},{"$f":"VLOOKUP(B1085,[2]sheet2!B:L,11,0)","v":"-"},"http://183.62.54.51:8841/data/files/certificate/000000000439/2006ac23befd40c4baff5eafcfef1ab4/signed/1083_谭蕴贤_二等奖_6970.pdf"]
[1084,"P306219091038","八年级上册Module10写作与评价","初中组","新媒体新技术教学应用课例","二等奖",{"$f":"RIGHT(LEFT(VLOOKUP(B1086,'[1]002'!B:M,3,0),7),3)","v":"佛山市"},{"$f":"VLOOKUP(B1086,'[1]002'!B:M,7,0)","v":"陈翠梅"},{"$f":"VLOOKUP(B1086,'[1]002'!B:M,8,0)","v":"佛山市三水区西南街道健力宝中学"},{"$f":"VLOOKUP(B1086,'[1]002'!B:M,11,0)","v":"-"},{"$f":"VLOOKUP(B1086,'[1]002'!B:M,12,0)","v":"-"},{"$f":"VLOOKUP(B1086,[2]sheet2!B:L,10,0)","v":"-"},{"$f":"VLOOKUP(B1086,[2]sheet2!B:L,11,0)","v":"-"},"http://183.62.54.51:8841/data/files/certificate/000000000439/30e92a83517a4541bfd8247c82fcca1e/signed/1084_陈翠梅_二等奖_6971.pdf"]
[1085,"P306219091031","美好生活需要法律","初中组","新媒体新技术教学应用课例","二等奖",{"$f":"RIGHT(LEFT(VLOOKUP(B1087,'[1]002'!B:M,3,0),7),3)","v":"佛山市"},{"$f":"VLOOKUP(B1087,'[1]002'!B:M,7,0)","v":"林丽斯"},{"$f":"VLOOKUP(B1087,'[1]002'!B:M,8,0)","v":"佛山市顺德区梁开初级中学"},{"$f":"VLOOKUP(B1087,'[1]002'!B:M,11,0)","v":"-"},{"$f":"VLOOKUP(B1087,'[1]002'!B:M,12,0)","v":"-"},{"$f":"VLOOKUP(B1087,[2]sheet2!B:L,10,0)","v":"-"},{"$f":"VLOOKUP(B1087,[2]sheet2!B:L,11,0)","v":"-"},"http://183.62.54.51:8841/data/files/certificate/000000000439/db99ed66d9af4f67bab139e7a0fbfa48/signed/1085_林丽斯_二等奖_6972.pdf"]
[1086,"P306219091026","因式分解复习课","初中组","新媒体新技术教学应用课例","二等奖",{"$f":"RIGHT(LEFT(VLOOKUP(B1088,'[1]002'!B:M,3,0),7),3)","v":"佛山市"},{"$f":"VLOOKUP(B1088,'[1]002'!B:M,7,0)","v":"李志颖"},{"$f":"VLOOKUP(B1088,'[1]002'!B:M,8,0)","v":"佛山市南海区丹灶镇初级中学"},{"$f":"VLOOKUP(B1088,'[1]002'!B:M,11,0)","v":"-"},{"$f":"VLOOKUP(B1088,'[1]002'!B:M,12,0)","v":"-"},{"$f":"VLOOKUP(B1088,[2]sheet2!B:L,10,0)","v":"-"},{"$f":"VLOOKUP(B1088,[2]sheet2!B:L,11,0)","v":"-"},"http://183.62.54.51:8841/data/files/certificate/000000000439/f4de86d5d6354e1399568b446bcbef39/signed/1086_李志颖_二等奖_6973.pdf"]
[1087,"P306219091030","统计图的选择","初中组","新媒体新技术教学应用课例","二等奖",{"$f":"RIGHT(LEFT(VLOOKUP(B1089,'[1]002'!B:M,3,0),7),3)","v":"佛山市"},{"$f":"VLOOKUP(B1089,'[1]002'!B:M,7,0)","v":"黄启勇"},{"$f":"VLOOKUP(B1089,'[1]002'!B:M,8,0)","v":"佛山市顺德区梁开初级中学"},{"$f":"VLOOKUP(B1089,'[1]002'!B:M,11,0)","v":"-"},{"$f":"VLOOKUP(B1089,'[1]002'!B:M,12,0)","v":"-"},{"$f":"VLOOKUP(B1089,[2]sheet2!B:L,10,0)","v":"-"},{"$f":"VLOOKUP(B1089,[2]sheet2!B:L,11,0)","v":"-"},"http://183.62.54.51:8841/data/files/certificate/000000000439/191ab7ce4db64e7297c3cea51cd9f248/signed/1087_黄启勇_二等奖_6974.pdf"]
[1088,"P306219091025","传染病及其预防","初中组","新媒体新技术教学应用课例","二等奖",{"$f":"RIGHT(LEFT(VLOOKUP(B1090,'[1]002'!B:M,3,0),7),3)","v":"佛山市"},{"$f":"VLOOKUP(B1090,'[1]002'!B:M,7,0)","v":"吴俏燕"},{"$f":"VLOOKUP(B1090,'[1]002'!B:M,8,0)","v":"佛山市南海石门实验中学"},{"$f":"VLOOKUP(B1090,'[1]002'!B:M,11,0)","v":"-"},{"$f":"VLOOKUP(B1090,'[1]002'!B:M,12,0)","v":"-"},{"$f":"VLOOKUP(B1090,[2]sheet2!B:L,10,0)","v":"-"},{"$f":"VLOOKUP(B1090,[2]sheet2!B:L,11,0)","v":"-"},"http://183.62.54.51:8841/data/files/certificate/000000000439/5b9b8d27d75147dd90e5ef8370c404f5/signed/1088_吴俏燕_二等奖_6975.pdf"]
[1089,"P306219092433","Myschoollife话题写作课","初中组","新媒体新技术教学应用课例","二等奖",{"$f":"RIGHT(LEFT(VLOOKUP(B1091,'[1]002'!B:M,3,0),7),3)","v":"东莞市"},{"$f":"VLOOKUP(B1091,'[1]002'!B:M,7,0)","v":"李晶"},{"$f":"VLOOKUP(B1091,'[1]002'!B:M,8,0)","v":"东莞市松山湖实验中学"},{"$f":"VLOOKUP(B1091,'[1]002'!B:M,11,0)","v":"-"},{"$f":"VLOOKUP(B1091,'[1]002'!B:M,12,0)","v":"-"},{"$f":"VLOOKUP(B1091,[2]sheet2!B:L,10,0)","v":"-"},{"$f":"VLOOKUP(B1091,[2]sheet2!B:L,11,0)","v":"-"},"http://183.62.54.51:8841/data/files/certificate/000000000439/d686074f099940f7ba059a4ae1854dc6/signed/1089_李晶_二等奖_6976.pdf"]
[1090,"P306219092429","让直观想象展翅飞翔","初中组","新媒体新技术教学应用课例","二等奖",{"$f":"RIGHT(LEFT(VLOOKUP(B1092,'[1]002'!B:M,3,0),7),3)","v":"东莞市"},{"$f":"VLOOKUP(B1092,'[1]002'!B:M,7,0)","v":"陈晓辉"},{"$f":"VLOOKUP(B1092,'[1]002'!B:M,8,0)","v":"东莞市松山湖实验中学"},{"$f":"VLOOKUP(B1092,'[1]002'!B:M,11,0)","v":"梁锡林"},{"$f":"VLOOKUP(B1092,'[1]002'!B:M,12,0)","v":"东莞市松山湖实验中学"},{"$f":"VLOOKUP(B1092,[2]sheet2!B:L,10,0)","v":"-"},{"$f":"VLOOKUP(B1092,[2]sheet2!B:L,11,0)","v":"-"},"http://183.62.54.51:8841/data/files/certificate/000000000439/bd42874c72a94aed8ed50c25dd2009b4/signed/1090_陈晓辉、梁锡林_二等奖_6977.pdf"]
[1091,"P306219089588","Festivals and celebrations","初中组","新媒体新技术教学应用课例","二等奖",{"$f":"RIGHT(LEFT(VLOOKUP(B1093,'[1]002'!B:M,3,0),7),3)","v":"中山市"},{"$f":"VLOOKUP(B1093,'[1]002'!B:M,7,0)","v":"谭雁群"},{"$f":"VLOOKUP(B1093,'[1]002'!B:M,8,0)","v":"中山市石岐中学"},{"$f":"VLOOKUP(B1093,'[1]002'!B:M,11,0)","v":"-"},{"$f":"VLOOKUP(B1093,'[1]002'!B:M,12,0)","v":"-"},{"$f":"VLOOKUP(B1093,[2]sheet2!B:L,10,0)","v":"-"},{"$f":"VLOOKUP(B1093,[2]sheet2!B:L,11,0)","v":"-"},"http://183.62.54.51:8841/data/files/certificate/000000000439/db691753dfdb45feb510d4f548208502/signed/1091_谭雁群_二等奖_6978.pdf"]
[1092,"P306219088376","圆周角","初中组","新媒体新技术教学应用课例","二等奖",{"$f":"RIGHT(LEFT(VLOOKUP(B1094,'[1]002'!B:M,3,0),7),3)","v":"中山市"},{"$f":"VLOOKUP(B1094,'[1]002'!B:M,7,0)","v":"刘瑞祥"},{"$f":"VLOOKUP(B1094,'[1]002'!B:M,8,0)","v":"中山市北区中学"},{"$f":"VLOOKUP(B1094,'[1]002'!B:M,11,0)","v":"-"},{"$f":"VLOOKUP(B1094,'[1]002'!B:M,12,0)","v":"-"},{"$f":"VLOOKUP(B1094,[2]sheet2!B:L,10,0)","v":"-"},{"$f":"VLOOKUP(B1094,[2]sheet2!B:L,11,0)","v":"-"},"http://183.62.54.51:8841/data/files/certificate/000000000439/09a3ee911e1b4cc39648018ce7d5f9a4/signed/1092_刘瑞祥_二等奖_6979.pdf"]
[1093,"P306219088177","串、并联电路电流规律","初中组","新媒体新技术教学应用课例","二等奖",{"$f":"RIGHT(LEFT(VLOOKUP(B1095,'[1]002'!B:M,3,0),7),3)","v":"中山市"},{"$f":"VLOOKUP(B1095,'[1]002'!B:M,7,0)","v":"周志良"},{"$f":"VLOOKUP(B1095,'[1]002'!B:M,8,0)","v":"中山市实验中学"},{"$f":"VLOOKUP(B1095,'[1]002'!B:M,11,0)","v":"-"},{"$f":"VLOOKUP(B1095,'[1]002'!B:M,12,0)","v":"-"},{"$f":"VLOOKUP(B1095,[2]sheet2!B:L,10,0)","v":"-"},{"$f":"VLOOKUP(B1095,[2]sheet2!B:L,11,0)","v":"-"},"http://183.62.54.51:8841/data/files/certificate/000000000439/ec9937c255f641f6bccdf397328050f9/signed/1093_周志良_二等奖_6980.pdf"]
[1094,"P306219088403","国家行政机关","初中组","新媒体新技术教学应用课例","二等奖",{"$f":"RIGHT(LEFT(VLOOKUP(B1096,'[1]002'!B:M,3,0),7),3)","v":"中山市"},{"$f":"VLOOKUP(B1096,'[1]002'!B:M,7,0)","v":"萧嘉铭"},{"$f":"VLOOKUP(B1096,'[1]002'!B:M,8,0)","v":"中山市石岐中学"},{"$f":"VLOOKUP(B1096,'[1]002'!B:M,11,0)","v":"-"},{"$f":"VLOOKUP(B1096,'[1]002'!B:M,12,0)","v":"-"},{"$f":"VLOOKUP(B1096,[2]sheet2!B:L,10,0)","v":"-"},{"$f":"VLOOKUP(B1096,[2]sheet2!B:L,11,0)","v":"-"},"http://183.62.54.51:8841/data/files/certificate/000000000439/e3885c9beeba4ab2b1bb7979a153b481/signed/1094_萧嘉铭_二等奖_6981.pdf"]
[1095,"P306219092036","一元一次方程的解法（复习）","初中组","新媒体新技术教学应用课例","二等奖",{"$f":"RIGHT(LEFT(VLOOKUP(B1097,'[1]002'!B:M,3,0),7),3)","v":"江门市"},{"$f":"VLOOKUP(B1097,'[1]002'!B:M,7,0)","v":"陈智勇"},{"$f":"VLOOKUP(B1097,'[1]002'!B:M,8,0)","v":"台山市新宁中学"},{"$f":"VLOOKUP(B1097,'[1]002'!B:M,11,0)","v":"-"},{"$f":"VLOOKUP(B1097,'[1]002'!B:M,12,0)","v":"-"},{"$f":"VLOOKUP(B1097,[2]sheet2!B:L,10,0)","v":"-"},{"$f":"VLOOKUP(B1097,[2]sheet2!B:L,11,0)","v":"-"},"http://183.62.54.51:8841/data/files/certificate/000000000439/26fd82355fa54db185413fc05fcff6dc/signed/1095_陈智勇_二等奖_6982.pdf"]
[1096,"P306219092964","摩擦力","初中组","新媒体新技术教学应用课例","二等奖",{"$f":"RIGHT(LEFT(VLOOKUP(B1098,'[1]002'!B:M,3,0),7),3)","v":"湛江市"},{"$f":"VLOOKUP(B1098,'[1]002'!B:M,7,0)","v":"高玲英"},{"$f":"VLOOKUP(B1098,'[1]002'!B:M,8,0)","v":"湛江一中培才学校"},{"$f":"VLOOKUP(B1098,'[1]002'!B:M,11,0)","v":"-"},{"$f":"VLOOKUP(B1098,'[1]002'!B:M,12,0)","v":"-"},{"$f":"VLOOKUP(B1098,[2]sheet2!B:L,10,0)","v":"-"},{"$f":"VLOOKUP(B1098,[2]sheet2!B:L,11,0)","v":"-"},"http://183.62.54.51:8841/data/files/certificate/000000000439/7a0fbae4ae724ad5bf08e57de41e20d2/signed/1096_高玲英_二等奖_6983.pdf"]
[1097,"P306219092963","验证中和反应的发生","初中组","新媒体新技术教学应用课例","二等奖",{"$f":"RIGHT(LEFT(VLOOKUP(B1099,'[1]002'!B:M,3,0),7),3)","v":"湛江市"},{"$f":"VLOOKUP(B1099,'[1]002'!B:M,7,0)","v":"何萍"},{"$f":"VLOOKUP(B1099,'[1]002'!B:M,8,0)","v":"湛江市二中海东中学"},{"$f":"VLOOKUP(B1099,'[1]002'!B:M,11,0)","v":"-"},{"$f":"VLOOKUP(B1099,'[1]002'!B:M,12,0)","v":"-"},{"$f":"VLOOKUP(B1099,[2]sheet2!B:L,10,0)","v":"-"},{"$f":"VLOOKUP(B1099,[2]sheet2!B:L,11,0)","v":"-"},"http://183.62.54.51:8841/data/files/certificate/000000000439/a08abd48e2f34fffba3340e46216ffde/signed/1097_何萍_二等奖_6984.pdf"]
[1098,"P306219091375","课题1 常见的酸和碱——酸的化学性质","初中组","新媒体新技术教学应用课例","二等奖",{"$f":"RIGHT(LEFT(VLOOKUP(B1100,'[1]002'!B:M,3,0),7),3)","v":"茂名市"},{"$f":"VLOOKUP(B1100,'[1]002'!B:M,7,0)","v":"余晓云"},{"$f":"VLOOKUP(B1100,'[1]002'!B:M,8,0)","v":"茂名市龙岭学校"},{"$f":"VLOOKUP(B1100,'[1]002'!B:M,11,0)","v":"-"},{"$f":"VLOOKUP(B1100,'[1]002'!B:M,12,0)","v":"-"},{"$f":"VLOOKUP(B1100,[2]sheet2!B:L,10,0)","v":"-"},{"$f":"VLOOKUP(B1100,[2]sheet2!B:L,11,0)","v":"-"},"http://183.62.54.51:8841/data/files/certificate/000000000439/02de7cec29644350b51f588a1b49d8d8/signed/1098_余晓云_二等奖_6985.pdf"]
[1099,"P303219093204","初中英语被动语态交互式课件","初中组","课件","三等奖","广州市",{"$f":"VLOOKUP(B1101,'[1]002'!B:M,7,0)","v":"谢全胜"},{"$f":"VLOOKUP(B1101,'[1]002'!B:M,8,0)","v":"广州市育才中学"},{"$f":"VLOOKUP(B1101,'[1]002'!B:M,11,0)","v":"-"},{"$f":"VLOOKUP(B1101,'[1]002'!B:M,12,0)","v":"-"},{"$f":"VLOOKUP(B1101,[2]sheet2!B:L,10,0)","v":"-"},{"$f":"VLOOKUP(B1101,[2]sheet2!B:L,11,0)","v":"-"},"http://183.62.54.51:8841/data/files/certificate/000000000439/ca18912b52ca4682b8cf38a6466b2b90/signed/1099_谢全胜_三等奖_6986.pdf"]
[1100,"P303219092759","二氧化碳和一氧化碳","初中组","课件","三等奖","深圳市",{"$f":"VLOOKUP(B1102,'[1]002'!B:M,7,0)","v":"黄  玲"},{"$f":"VLOOKUP(B1102,'[1]002'!B:M,8,0)","v":"深圳市南山区桃苑学校"},{"$f":"VLOOKUP(B1102,'[1]002'!B:M,11,0)","v":"-"},{"$f":"VLOOKUP(B1102,'[1]002'!B:M,12,0)","v":"-"},{"$f":"VLOOKUP(B1102,[2]sheet2!B:L,10,0)","v":"-"},{"$f":"VLOOKUP(B1102,[2]sheet2!B:L,11,0)","v":"-"},"http://183.62.54.51:8841/data/files/certificate/000000000439/8de99b409a4d4d118ecda5fc83a90906/signed/1100_黄玲_三等奖_6987.pdf"]
[1101,"P303219092756","集体生活邀请我","初中组","课件","三等奖","深圳市",{"$f":"VLOOKUP(B1103,'[1]002'!B:M,7,0)","v":"伍艺娜"},{"$f":"VLOOKUP(B1103,'[1]002'!B:M,8,0)","v":"深圳市龙岗区宝龙学校"},{"$f":"VLOOKUP(B1103,'[1]002'!B:M,11,0)","v":"-"},{"$f":"VLOOKUP(B1103,'[1]002'!B:M,12,0)","v":"-"},{"$f":"VLOOKUP(B1103,[2]sheet2!B:L,10,0)","v":"-"},{"$f":"VLOOKUP(B1103,[2]sheet2!B:L,11,0)","v":"-"},"http://183.62.54.51:8841/data/files/certificate/000000000439/6d918075d575489eae70ede7cd531f12/signed/1101_伍艺娜_三等奖_6988.pdf"]
[1102,"P303219088799","用坐标表示地理位置","初中组","课件","三等奖","珠海市",{"$f":"VLOOKUP(B1104,'[1]002'!B:M,7,0)","v":"向乾华"},{"$f":"VLOOKUP(B1104,'[1]002'!B:M,8,0)","v":"珠海市第九中学"},{"$f":"VLOOKUP(B1104,'[1]002'!B:M,11,0)","v":"-"},{"$f":"VLOOKUP(B1104,'[1]002'!B:M,12,0)","v":"-"},{"$f":"VLOOKUP(B1104,[2]sheet2!B:L,10,0)","v":"-"},{"$f":"VLOOKUP(B1104,[2]sheet2!B:L,11,0)","v":"-"},"http://183.62.54.51:8841/data/files/certificate/000000000439/3a2ac70c7c744c25a5c66bb317153e24/signed/1102_向乾华_三等奖_6989.pdf"]
[1103,"P303219090364","Pnonics Learning","初中组","课件","三等奖","珠海市",{"$f":"VLOOKUP(B1105,'[1]002'!B:M,7,0)","v":"徐小莹"},{"$f":"VLOOKUP(B1105,'[1]002'!B:M,8,0)","v":"珠海市第五中学"},{"$f":"VLOOKUP(B1105,'[1]002'!B:M,11,0)","v":"-"},{"$f":"VLOOKUP(B1105,'[1]002'!B:M,12,0)","v":"-"},{"$f":"VLOOKUP(B1105,[2]sheet2!B:L,10,0)","v":"-"},{"$f":"VLOOKUP(B1105,[2]sheet2!B:L,11,0)","v":"-"},"http://183.62.54.51:8841/data/files/certificate/000000000439/5c6520aac9e040a0a71751feb8589241/signed/1103_徐小莹_三等奖_6990.pdf"]
[1104,"P303219087980","声音的特性","初中组","课件","三等奖","珠海市",{"$f":"VLOOKUP(B1106,'[1]002'!B:M,7,0)","v":"王薇"},{"$f":"VLOOKUP(B1106,'[1]002'!B:M,8,0)","v":"珠海市前山中学"},{"$f":"VLOOKUP(B1106,'[1]002'!B:M,11,0)","v":"-"},{"$f":"VLOOKUP(B1106,'[1]002'!B:M,12,0)","v":"-"},{"$f":"VLOOKUP(B1106,[2]sheet2!B:L,10,0)","v":"-"},{"$f":"VLOOKUP(B1106,[2]sheet2!B:L,11,0)","v":"-"},"http://183.62.54.51:8841/data/files/certificate/000000000439/785ac70a82c9437e89f41bd8b95795f0/signed/1104_王薇_三等奖_6991.pdf"]
[1105,"P303219089246","金刚石石墨和C60","初中组","课件","三等奖","珠海市",{"$f":"VLOOKUP(B1107,'[1]002'!B:M,7,0)","v":"魏明红"},{"$f":"VLOOKUP(B1107,'[1]002'!B:M,8,0)","v":"珠海市第五中学"},{"$f":"VLOOKUP(B1107,'[1]002'!B:M,11,0)","v":"-"},{"$f":"VLOOKUP(B1107,'[1]002'!B:M,12,0)","v":"-"},{"$f":"VLOOKUP(B1107,[2]sheet2!B:L,10,0)","v":"-"},{"$f":"VLOOKUP(B1107,[2]sheet2!B:L,11,0)","v":"-"},"http://183.62.54.51:8841/data/files/certificate/000000000439/1201a167e01248078bcbae0d348eac56/signed/1105_魏明红_三等奖_6992.pdf"]
[1106,"P303219089702","粤创乐美","初中组","课件","三等奖","珠海市",{"$f":"VLOOKUP(B1108,'[1]002'!B:M,7,0)","v":"李誉"},{"$f":"VLOOKUP(B1108,'[1]002'!B:M,8,0)","v":"珠海市第九中学"},{"$f":"VLOOKUP(B1108,'[1]002'!B:M,11,0)","v":"汤黎黎"},{"$f":"VLOOKUP(B1108,'[1]002'!B:M,12,0)","v":"珠海市第九中学"},{"$f":"VLOOKUP(B1108,[2]sheet2!B:L,10,0)","v":"-"},{"$f":"VLOOKUP(B1108,[2]sheet2!B:L,11,0)","v":"-"},"http://183.62.54.51:8841/data/files/certificate/000000000439/1ee12b0f643f4e579b11c0b131419f8d/signed/1106_李誉、汤黎黎_三等奖_6993.pdf"]
[1107,"P303219089253","声音的特性","初中组","课件","三等奖","珠海市",{"$f":"VLOOKUP(B1109,'[1]002'!B:M,7,0)","v":"张银"},{"$f":"VLOOKUP(B1109,'[1]002'!B:M,8,0)","v":"珠海市前山中学"},{"$f":"VLOOKUP(B1109,'[1]002'!B:M,11,0)","v":"-"},{"$f":"VLOOKUP(B1109,'[1]002'!B:M,12,0)","v":"-"},{"$f":"VLOOKUP(B1109,[2]sheet2!B:L,10,0)","v":"-"},{"$f":"VLOOKUP(B1109,[2]sheet2!B:L,11,0)","v":"-"},"http://183.62.54.51:8841/data/files/certificate/000000000439/99146dfeeb0f4470a2b434c206bb5c6b/signed/1107_张银_三等奖_6994.pdf"]
[1108,"P303219090358","就英法联军远征中国致巴特勒上尉的信","初中组","课件","三等奖","珠海市",{"$f":"VLOOKUP(B1110,'[1]002'!B:M,7,0)","v":"刘娟娟"},{"$f":"VLOOKUP(B1110,'[1]002'!B:M,8,0)","v":"珠海市第五中学"},{"$f":"VLOOKUP(B1110,'[1]002'!B:M,11,0)","v":"-"},{"$f":"VLOOKUP(B1110,'[1]002'!B:M,12,0)","v":"-"},{"$f":"VLOOKUP(B1110,[2]sheet2!B:L,10,0)","v":"-"},{"$f":"VLOOKUP(B1110,[2]sheet2!B:L,11,0)","v":"-"},"http://183.62.54.51:8841/data/files/certificate/000000000439/64b0c5c72e1249908b04b5d2ed174980/signed/1108_刘娟娟_三等奖_6995.pdf"]
[1109,"P303219088211","电磁学作图复习","初中组","课件","三等奖","珠海市",{"$f":"VLOOKUP(B1111,'[1]002'!B:M,7,0)","v":"严剑辉"},{"$f":"VLOOKUP(B1111,'[1]002'!B:M,8,0)","v":"珠海市前山中学"},{"$f":"VLOOKUP(B1111,'[1]002'!B:M,11,0)","v":"-"},{"$f":"VLOOKUP(B1111,'[1]002'!B:M,12,0)","v":"-"},{"$f":"VLOOKUP(B1111,[2]sheet2!B:L,10,0)","v":"-"},{"$f":"VLOOKUP(B1111,[2]sheet2!B:L,11,0)","v":"-"},"http://183.62.54.51:8841/data/files/certificate/000000000439/3e038b91b0774daba3a22a629da36174/signed/1109_严剑辉_三等奖_6996.pdf"]
[1110,"P303219089226","记承天寺夜游","初中组","课件","三等奖","珠海市",{"$f":"VLOOKUP(B1112,'[1]002'!B:M,7,0)","v":"曾小娜"},{"$f":"VLOOKUP(B1112,'[1]002'!B:M,8,0)","v":"珠海市前山中学"},{"$f":"VLOOKUP(B1112,'[1]002'!B:M,11,0)","v":"-"},{"$f":"VLOOKUP(B1112,'[1]002'!B:M,12,0)","v":"-"},{"$f":"VLOOKUP(B1112,[2]sheet2!B:L,10,0)","v":"-"},{"$f":"VLOOKUP(B1112,[2]sheet2!B:L,11,0)","v":"-"},"http://183.62.54.51:8841/data/files/certificate/000000000439/03c96d42ed234a348fbbad2683ff4ee3/signed/1110_曾小娜_三等奖_6997.pdf"]
[1111,"P303219091909","Python画正多边形","初中组","课件","三等奖","汕头市",{"$f":"VLOOKUP(B1113,'[1]002'!B:M,7,0)","v":"萧雯琳"},{"$f":"VLOOKUP(B1113,'[1]002'!B:M,8,0)","v":"汕头市濠江区澳头学校"},{"$f":"VLOOKUP(B1113,'[1]002'!B:M,11,0)","v":"-"},{"$f":"VLOOKUP(B1113,'[1]002'!B:M,12,0)","v":"-"},{"$f":"VLOOKUP(B1113,[2]sheet2!B:L,10,0)","v":"-"},{"$f":"VLOOKUP(B1113,[2]sheet2!B:L,11,0)","v":"-"},"http://183.62.54.51:8841/data/files/certificate/000000000439/75f76620db774713ac2836806e6498ab/signed/1111_萧雯琳_三等奖_6998.pdf"]
[1112,"P303219091902","二元一次方程组","初中组","课件","三等奖","汕头市",{"$f":"VLOOKUP(B1114,'[1]002'!B:M,7,0)","v":"肖岱芸"},{"$f":"VLOOKUP(B1114,'[1]002'!B:M,8,0)","v":"汕头市澄海实验高级中学"},{"$f":"VLOOKUP(B1114,'[1]002'!B:M,11,0)","v":"庄彦玲"},{"$f":"VLOOKUP(B1114,'[1]002'!B:M,12,0)","v":"汕头市澄海实验高级中学"},{"$f":"VLOOKUP(B1114,[2]sheet2!B:L,10,0)","v":"-"},{"$f":"VLOOKUP(B1114,[2]sheet2!B:L,11,0)","v":"-"},"http://183.62.54.51:8841/data/files/certificate/000000000439/b31b9fa8f54f488caacd8441d4911ab6/signed/1112_肖岱芸、庄彦玲_三等奖_6999.pdf"]
[1113,"P303219091903","河中石兽","初中组","课件","三等奖","汕头市",{"$f":"VLOOKUP(B1115,'[1]002'!B:M,7,0)","v":"金晓瑾"},{"$f":"VLOOKUP(B1115,'[1]002'!B:M,8,0)","v":"汕头市澄海实验高级中学"},{"$f":"VLOOKUP(B1115,'[1]002'!B:M,11,0)","v":"潘瑞琪"},{"$f":"VLOOKUP(B1115,'[1]002'!B:M,12,0)","v":"汕头市澄海实验高级中学"},{"$f":"VLOOKUP(B1115,[2]sheet2!B:L,10,0)","v":"-"},{"$f":"VLOOKUP(B1115,[2]sheet2!B:L,11,0)","v":"-"},"http://183.62.54.51:8841/data/files/certificate/000000000439/6210882949c3470b9669ce39551b99c7/signed/1113_金晓瑾、潘瑞琪_三等奖_7000.pdf"]
[1114,"P303219091904","Can you play the guitar?","初中组","课件","三等奖","汕头市",{"$f":"VLOOKUP(B1116,'[1]002'!B:M,7,0)","v":"林少煌"},{"$f":"VLOOKUP(B1116,'[1]002'!B:M,8,0)","v":"汕头市澄海实验高级中学"},{"$f":"VLOOKUP(B1116,'[1]002'!B:M,11,0)","v":"-"},{"$f":"VLOOKUP(B1116,'[1]002'!B:M,12,0)","v":"-"},{"$f":"VLOOKUP(B1116,[2]sheet2!B:L,10,0)","v":"-"},{"$f":"VLOOKUP(B1116,[2]sheet2!B:L,11,0)","v":"-"},"http://183.62.54.51:8841/data/files/certificate/000000000439/6009d76ec10e4fc290f795a632a64ab7/signed/1114_林少煌_三等奖_7001.pdf"]
[1115,"P303219091899","制作多媒体演示作品","初中组","课件","三等奖","汕头市",{"$f":"VLOOKUP(B1117,'[1]002'!B:M,7,0)","v":"罗莎"},{"$f":"VLOOKUP(B1117,'[1]002'!B:M,8,0)","v":"汕头市潮南区博雅实验学校"},{"$f":"VLOOKUP(B1117,'[1]002'!B:M,11,0)","v":"-"},{"$f":"VLOOKUP(B1117,'[1]002'!B:M,12,0)","v":"-"},{"$f":"VLOOKUP(B1117,[2]sheet2!B:L,10,0)","v":"-"},{"$f":"VLOOKUP(B1117,[2]sheet2!B:L,11,0)","v":"-"},"http://183.62.54.51:8841/data/files/certificate/000000000439/5535f57b264b45f4a26e6f81afd7e226/signed/1115_罗莎_三等奖_7002.pdf"]
[1116,"P303219091912","第二节 植株的生长","初中组","课件","三等奖","汕头市",{"$f":"VLOOKUP(B1118,'[1]002'!B:M,7,0)","v":"游秀清"},{"$f":"VLOOKUP(B1118,'[1]002'!B:M,8,0)","v":"汕头市玉新中学"},{"$f":"VLOOKUP(B1118,'[1]002'!B:M,11,0)","v":"-"},{"$f":"VLOOKUP(B1118,'[1]002'!B:M,12,0)","v":"-"},{"$f":"VLOOKUP(B1118,[2]sheet2!B:L,10,0)","v":"-"},{"$f":"VLOOKUP(B1118,[2]sheet2!B:L,11,0)","v":"-"},"http://183.62.54.51:8841/data/files/certificate/000000000439/36a6a56c02124f1c84255522aea95db1/signed/1116_游秀清_三等奖_7003.pdf"]
[1117,"P303219091906","钢铁长城","初中组","课件","三等奖","汕头市",{"$f":"VLOOKUP(B1119,'[1]002'!B:M,7,0)","v":"杨秋霞"},{"$f":"VLOOKUP(B1119,'[1]002'!B:M,8,0)","v":"汕头市达濠第三中学"},{"$f":"VLOOKUP(B1119,'[1]002'!B:M,11,0)","v":"-"},{"$f":"VLOOKUP(B1119,'[1]002'!B:M,12,0)","v":"-"},{"$f":"VLOOKUP(B1119,[2]sheet2!B:L,10,0)","v":"-"},{"$f":"VLOOKUP(B1119,[2]sheet2!B:L,11,0)","v":"-"},"http://183.62.54.51:8841/data/files/certificate/000000000439/aafe5825aa594697a1965a446c4efdca/signed/1117_杨秋霞_三等奖_7004.pdf"]
[1118,"P303219091072","C语言程序设计之if语句","初中组","课件","三等奖","佛山市",{"$f":"VLOOKUP(B1120,'[1]002'!B:M,7,0)","v":"邬弘"},{"$f":"VLOOKUP(B1120,'[1]002'!B:M,8,0)","v":"佛山市顺德区大良南江中学"},{"$f":"VLOOKUP(B1120,'[1]002'!B:M,11,0)","v":"肖镱膑"},{"$f":"VLOOKUP(B1120,'[1]002'!B:M,12,0)","v":"陆河外国语学校"},{"$f":"VLOOKUP(B1120,[2]sheet2!B:L,10,0)","v":"-"},{"$f":"VLOOKUP(B1120,[2]sheet2!B:L,11,0)","v":"-"},"http://183.62.54.51:8841/data/files/certificate/000000000439/100ab3e7d65044529bb8b70749485b1e/signed/1118_邬弘、肖镱膑_三等奖_7005.pdf"]
[1119,"P303219091073","分布式拒绝服务攻击","初中组","课件","三等奖","佛山市",{"$f":"VLOOKUP(B1121,'[1]002'!B:M,7,0)","v":"邬弘"},{"$f":"VLOOKUP(B1121,'[1]002'!B:M,8,0)","v":"佛山市顺德区大良南江中学"},{"$f":"VLOOKUP(B1121,'[1]002'!B:M,11,0)","v":"林秋圆"},{"$f":"VLOOKUP(B1121,'[1]002'!B:M,12,0)","v":"佛山市顺德区大良南江中学"},{"$f":"VLOOKUP(B1121,[2]sheet2!B:L,10,0)","v":"刘青梅"},{"$f":"VLOOKUP(B1121,[2]sheet2!B:L,11,0)","v":"佛山市顺德区大良南江中学"},"http://183.62.54.51:8841/data/files/certificate/000000000439/b2401e36a0a746a5bf65e8dce048d0b0/signed/1119_邬弘、林秋圆、刘青梅_三等奖_7006.pdf"]
[1120,"P303219091052","电磁铁","初中组","课件","三等奖","佛山市",{"$f":"VLOOKUP(B1122,'[1]002'!B:M,7,0)","v":"翁观容"},{"$f":"VLOOKUP(B1122,'[1]002'!B:M,8,0)","v":"佛山市南海区桂城街道文翰中学"},{"$f":"VLOOKUP(B1122,'[1]002'!B:M,11,0)","v":"-"},{"$f":"VLOOKUP(B1122,'[1]002'!B:M,12,0)","v":"-"},{"$f":"VLOOKUP(B1122,[2]sheet2!B:L,10,0)","v":"-"},{"$f":"VLOOKUP(B1122,[2]sheet2!B:L,11,0)","v":"-"},"http://183.62.54.51:8841/data/files/certificate/000000000439/616cc417259c40818d6603ebb0ef0c01/signed/1120_翁观容_三等奖_7007.pdf"]
[1121,"P303219091060","浮力","初中组","课件","三等奖","佛山市",{"$f":"VLOOKUP(B1123,'[1]002'!B:M,7,0)","v":"梁嘉乐"},{"$f":"VLOOKUP(B1123,'[1]002'!B:M,8,0)","v":"佛山市外国语学校"},{"$f":"VLOOKUP(B1123,'[1]002'!B:M,11,0)","v":"-"},{"$f":"VLOOKUP(B1123,'[1]002'!B:M,12,0)","v":"-"},{"$f":"VLOOKUP(B1123,[2]sheet2!B:L,10,0)","v":"-"},{"$f":"VLOOKUP(B1123,[2]sheet2!B:L,11,0)","v":"-"},"http://183.62.54.51:8841/data/files/certificate/000000000439/32b547d680724d24b98f85b15995405f/signed/1121_梁嘉乐_三等奖_7008.pdf"]
[1122,"P303219091051","昆虫的生殖和发育","初中组","课件","三等奖","佛山市",{"$f":"VLOOKUP(B1124,'[1]002'!B:M,7,0)","v":"吴俏燕"},{"$f":"VLOOKUP(B1124,'[1]002'!B:M,8,0)","v":"佛山市南海石门实验中学"},{"$f":"VLOOKUP(B1124,'[1]002'!B:M,11,0)","v":"-"},{"$f":"VLOOKUP(B1124,'[1]002'!B:M,12,0)","v":"-"},{"$f":"VLOOKUP(B1124,[2]sheet2!B:L,10,0)","v":"-"},{"$f":"VLOOKUP(B1124,[2]sheet2!B:L,11,0)","v":"-"},"http://183.62.54.51:8841/data/files/certificate/000000000439/3c9bc49797ec4fadb569e005966419c8/signed/1122_吴俏燕_三等奖_7009.pdf"]
[1123,"P303219091075","光学复习","初中组","课件","三等奖","佛山市",{"$f":"VLOOKUP(B1125,'[1]002'!B:M,7,0)","v":"林邦惜"},{"$f":"VLOOKUP(B1125,'[1]002'!B:M,8,0)","v":"佛山市顺德区均安建安初级中学"},{"$f":"VLOOKUP(B1125,'[1]002'!B:M,11,0)","v":"张丹颖"},{"$f":"VLOOKUP(B1125,'[1]002'!B:M,12,0)","v":"佛山市顺德区均安建安初级中学"},{"$f":"VLOOKUP(B1125,[2]sheet2!B:L,10,0)","v":"-"},{"$f":"VLOOKUP(B1125,[2]sheet2!B:L,11,0)","v":"-"},"http://183.62.54.51:8841/data/files/certificate/000000000439/2d73fdedfd874d5dbd2c671cbca5102b/signed/1123_林邦惜、张丹颖_三等奖_7010.pdf"]
[1124,"P303219091047","外研版九年级上册Moudule4Unit1","初中组","课件","三等奖","佛山市",{"$f":"VLOOKUP(B1126,'[1]002'!B:M,7,0)","v":"孙婷婷"},{"$f":"VLOOKUP(B1126,'[1]002'!B:M,8,0)","v":"佛山市外国语学校"},{"$f":"VLOOKUP(B1126,'[1]002'!B:M,11,0)","v":"-"},{"$f":"VLOOKUP(B1126,'[1]002'!B:M,12,0)","v":"-"},{"$f":"VLOOKUP(B1126,[2]sheet2!B:L,10,0)","v":"-"},{"$f":"VLOOKUP(B1126,[2]sheet2!B:L,11,0)","v":"-"},"http://183.62.54.51:8841/data/files/certificate/000000000439/4f1d8b3ad51b481aa2326de3e7fa1cd8/signed/1124_孙婷婷_三等奖_7011.pdf"]
[1125,"P303219091076","散步","初中组","课件","三等奖","佛山市",{"$f":"VLOOKUP(B1127,'[1]002'!B:M,7,0)","v":"黄碧婷"},{"$f":"VLOOKUP(B1127,'[1]002'!B:M,8,0)","v":"佛山市三水区西南中学"},{"$f":"VLOOKUP(B1127,'[1]002'!B:M,11,0)","v":"-"},{"$f":"VLOOKUP(B1127,'[1]002'!B:M,12,0)","v":"-"},{"$f":"VLOOKUP(B1127,[2]sheet2!B:L,10,0)","v":"-"},{"$f":"VLOOKUP(B1127,[2]sheet2!B:L,11,0)","v":"-"},"http://183.62.54.51:8841/data/files/certificate/000000000439/28ab53410fa74e70b222b023c6c7609b/signed/1125_黄碧婷_三等奖_7012.pdf"]
[1126,"P303219091043","使用Excel函数制作比赛自动评分表","初中组","课件","三等奖","佛山市",{"$f":"VLOOKUP(B1128,'[1]002'!B:M,7,0)","v":"黄韶君"},{"$f":"VLOOKUP(B1128,'[1]002'!B:M,8,0)","v":"佛山市第十四中学"},{"$f":"VLOOKUP(B1128,'[1]002'!B:M,11,0)","v":"-"},{"$f":"VLOOKUP(B1128,'[1]002'!B:M,12,0)","v":"-"},{"$f":"VLOOKUP(B1128,[2]sheet2!B:L,10,0)","v":"-"},{"$f":"VLOOKUP(B1128,[2]sheet2!B:L,11,0)","v":"-"},"http://183.62.54.51:8841/data/files/certificate/000000000439/1bf4501f78cf4c78a194477e3023de5d/signed/1126_黄韶君_三等奖_7013.pdf"]
[1127,"P303219091044","显微镜的结构和使用","初中组","课件","三等奖","佛山市",{"$f":"VLOOKUP(B1129,'[1]002'!B:M,7,0)","v":"康绮嫦"},{"$f":"VLOOKUP(B1129,'[1]002'!B:M,8,0)","v":"佛山市外国语学校"},{"$f":"VLOOKUP(B1129,'[1]002'!B:M,11,0)","v":"-"},{"$f":"VLOOKUP(B1129,'[1]002'!B:M,12,0)","v":"-"},{"$f":"VLOOKUP(B1129,[2]sheet2!B:L,10,0)","v":"-"},{"$f":"VLOOKUP(B1129,[2]sheet2!B:L,11,0)","v":"-"},"http://183.62.54.51:8841/data/files/certificate/000000000439/1579afefede846ef9d2e4c9fa1159f00/signed/1127_康绮嫦_三等奖_7014.pdf"]
[1128,"P303219091078","金刚石石墨C60","初中组","课件","三等奖","佛山市",{"$f":"VLOOKUP(B1130,'[1]002'!B:M,7,0)","v":"禤玉霞"},{"$f":"VLOOKUP(B1130,'[1]002'!B:M,8,0)","v":"佛山市三水区西南街道健力宝中学"},{"$f":"VLOOKUP(B1130,'[1]002'!B:M,11,0)","v":"-"},{"$f":"VLOOKUP(B1130,'[1]002'!B:M,12,0)","v":"-"},{"$f":"VLOOKUP(B1130,[2]sheet2!B:L,10,0)","v":"-"},{"$f":"VLOOKUP(B1130,[2]sheet2!B:L,11,0)","v":"-"},"http://183.62.54.51:8841/data/files/certificate/000000000439/39261a303f634efe98715a49bc6d68a2/signed/1128_禤玉霞_三等奖_7015.pdf"]
[1129,"P303219088697","Safety and first aid","初中组","课件","三等奖","韶关市",{"$f":"VLOOKUP(B1131,'[1]002'!B:M,7,0)","v":"郭成燕"},{"$f":"VLOOKUP(B1131,'[1]002'!B:M,8,0)","v":"韶关市第九中学"},{"$f":"VLOOKUP(B1131,'[1]002'!B:M,11,0)","v":"潘高峰"},{"$f":"VLOOKUP(B1131,'[1]002'!B:M,12,0)","v":"韶关市第九中学"},{"$f":"VLOOKUP(B1131,[2]sheet2!B:L,10,0)","v":"-"},{"$f":"VLOOKUP(B1131,[2]sheet2!B:L,11,0)","v":"-"},"http://183.62.54.51:8841/data/files/certificate/000000000439/d932eae22167443199ef2cd694126bd2/signed/1129_郭成燕、潘高峰_三等奖_7016.pdf"]
[1130,"P303219089000","爱莲说","初中组","课件","三等奖","韶关市",{"$f":"VLOOKUP(B1132,'[1]002'!B:M,7,0)","v":"刘璐"},{"$f":"VLOOKUP(B1132,'[1]002'!B:M,8,0)","v":"始兴县九龄中学"},{"$f":"VLOOKUP(B1132,'[1]002'!B:M,11,0)","v":"-"},{"$f":"VLOOKUP(B1132,'[1]002'!B:M,12,0)","v":"-"},{"$f":"VLOOKUP(B1132,[2]sheet2!B:L,10,0)","v":"-"},{"$f":"VLOOKUP(B1132,[2]sheet2!B:L,11,0)","v":"-"},"http://183.62.54.51:8841/data/files/certificate/000000000439/35d02edc373f4169bd0e3d1ad9c2faa8/signed/1130_刘璐_三等奖_7017.pdf"]
[1131,"P303219089593","数据计算公式和函数","初中组","课件","三等奖","韶关市",{"$f":"VLOOKUP(B1133,'[1]002'!B:M,7,0)","v":"谭富盛"},{"$f":"VLOOKUP(B1133,'[1]002'!B:M,8,0)","v":"仁化县董塘中学"},{"$f":"VLOOKUP(B1133,'[1]002'!B:M,11,0)","v":"-"},{"$f":"VLOOKUP(B1133,'[1]002'!B:M,12,0)","v":"-"},{"$f":"VLOOKUP(B1133,[2]sheet2!B:L,10,0)","v":"-"},{"$f":"VLOOKUP(B1133,[2]sheet2!B:L,11,0)","v":"-"},"http://183.62.54.51:8841/data/files/certificate/000000000439/eebd787943ac4a08bd2cdcaa47f753b0/signed/1131_谭富盛_三等奖_7018.pdf"]
[1132,"P303219088685","燃烧和灭火","初中组","课件","三等奖","韶关市",{"$f":"VLOOKUP(B1134,'[1]002'!B:M,7,0)","v":"黄夏"},{"$f":"VLOOKUP(B1134,'[1]002'!B:M,8,0)","v":"韶关市第九中学"},{"$f":"VLOOKUP(B1134,'[1]002'!B:M,11,0)","v":"潘高峰"},{"$f":"VLOOKUP(B1134,'[1]002'!B:M,12,0)","v":"韶关市第九中学"},{"$f":"VLOOKUP(B1134,[2]sheet2!B:L,10,0)","v":"-"},{"$f":"VLOOKUP(B1134,[2]sheet2!B:L,11,0)","v":"-"},"http://183.62.54.51:8841/data/files/certificate/000000000439/1ff955774a764cd69ccfc126aba6825f/signed/1132_黄夏、潘高峰_三等奖_7019.pdf"]
[1133,"P303219088692","不等式的性质","初中组","课件","三等奖","韶关市",{"$f":"VLOOKUP(B1135,'[1]002'!B:M,7,0)","v":"李桂秀"},{"$f":"VLOOKUP(B1135,'[1]002'!B:M,8,0)","v":"始兴县九龄中学"},{"$f":"VLOOKUP(B1135,'[1]002'!B:M,11,0)","v":"-"},{"$f":"VLOOKUP(B1135,'[1]002'!B:M,12,0)","v":"-"},{"$f":"VLOOKUP(B1135,[2]sheet2!B:L,10,0)","v":"-"},{"$f":"VLOOKUP(B1135,[2]sheet2!B:L,11,0)","v":"-"},"http://183.62.54.51:8841/data/files/certificate/000000000439/61a5da83c2d643dea2afc8f8223ac25c/signed/1133_李桂秀_三等奖_7020.pdf"]
[1134,"P303219088998","马说","初中组","课件","三等奖","韶关市",{"$f":"VLOOKUP(B1136,'[1]002'!B:M,7,0)","v":"刘龙伟"},{"$f":"VLOOKUP(B1136,'[1]002'!B:M,8,0)","v":"始兴县逸夫小学"},{"$f":"VLOOKUP(B1136,'[1]002'!B:M,11,0)","v":"-"},{"$f":"VLOOKUP(B1136,'[1]002'!B:M,12,0)","v":"-"},{"$f":"VLOOKUP(B1136,[2]sheet2!B:L,10,0)","v":"-"},{"$f":"VLOOKUP(B1136,[2]sheet2!B:L,11,0)","v":"-"},"http://183.62.54.51:8841/data/files/certificate/000000000439/ec32c437c3cd49dbbd1406714a500342/signed/1134_刘龙伟_三等奖_7021.pdf"]
[1135,"P303219088341","月食","初中组","课件","三等奖","韶关市",{"$f":"VLOOKUP(B1137,'[1]002'!B:M,7,0)","v":"李光星"},{"$f":"VLOOKUP(B1137,'[1]002'!B:M,8,0)","v":"仁化县实验学校"},{"$f":"VLOOKUP(B1137,'[1]002'!B:M,11,0)","v":"-"},{"$f":"VLOOKUP(B1137,'[1]002'!B:M,12,0)","v":"-"},{"$f":"VLOOKUP(B1137,[2]sheet2!B:L,10,0)","v":"-"},{"$f":"VLOOKUP(B1137,[2]sheet2!B:L,11,0)","v":"-"},"http://183.62.54.51:8841/data/files/certificate/000000000439/75b8d3d514974dfa92a94c257adcb6f4/signed/1135_李光星_三等奖_7022.pdf"]
[1136,"P303219089968","我与集体共成长","初中组","课件","三等奖","韶关市",{"$f":"VLOOKUP(B1138,'[1]002'!B:M,7,0)","v":"刘定东"},{"$f":"VLOOKUP(B1138,'[1]002'!B:M,8,0)","v":"仁化县周田中学"},{"$f":"VLOOKUP(B1138,'[1]002'!B:M,11,0)","v":"-"},{"$f":"VLOOKUP(B1138,'[1]002'!B:M,12,0)","v":"-"},{"$f":"VLOOKUP(B1138,[2]sheet2!B:L,10,0)","v":"-"},{"$f":"VLOOKUP(B1138,[2]sheet2!B:L,11,0)","v":"-"},"http://183.62.54.51:8841/data/files/certificate/000000000439/71fba1a75cf741d6bbb44cb49fd93671/signed/1136_刘定东_三等奖_7023.pdf"]
[1137,"P303219093357","人教版九年级Unit13SectionA读写综合课","初中组","课件","三等奖","河源市",{"$f":"VLOOKUP(B1139,'[1]002'!B:M,7,0)","v":"刘妮艳"},{"$f":"VLOOKUP(B1139,'[1]002'!B:M,8,0)","v":"河源市第一中学"},{"$f":"VLOOKUP(B1139,'[1]002'!B:M,11,0)","v":"-"},{"$f":"VLOOKUP(B1139,'[1]002'!B:M,12,0)","v":"-"},{"$f":"VLOOKUP(B1139,[2]sheet2!B:L,10,0)","v":"-"},{"$f":"VLOOKUP(B1139,[2]sheet2!B:L,11,0)","v":"-"},"http://183.62.54.51:8841/data/files/certificate/000000000439/ad1bab6aeb5a406b86213432a656840b/signed/1137_刘妮艳_三等奖_7024.pdf"]
[1138,"P303219093356","等边三角形的判定","初中组","课件","三等奖","河源市",{"$f":"VLOOKUP(B1140,'[1]002'!B:M,7,0)","v":"杨利红"},{"$f":"VLOOKUP(B1140,'[1]002'!B:M,8,0)","v":"河源市第一中学"},{"$f":"VLOOKUP(B1140,'[1]002'!B:M,11,0)","v":"-"},{"$f":"VLOOKUP(B1140,'[1]002'!B:M,12,0)","v":"-"},{"$f":"VLOOKUP(B1140,[2]sheet2!B:L,10,0)","v":"-"},{"$f":"VLOOKUP(B1140,[2]sheet2!B:L,11,0)","v":"-"},"http://183.62.54.51:8841/data/files/certificate/000000000439/5cb6d343607246af9f8dcec634b56d91/signed/1138_杨利红_三等奖_7025.pdf"]
[1139,"P303219093362","人教版初中英语八年级下册Unit4SectionB第四课时","初中组","课件","三等奖","河源市",{"$f":"VLOOKUP(B1141,'[1]002'!B:M,7,0)","v":"黎  敏"},{"$f":"VLOOKUP(B1141,'[1]002'!B:M,8,0)","v":"河源市北大附属德爱国际学校"},{"$f":"VLOOKUP(B1141,'[1]002'!B:M,11,0)","v":"-"},{"$f":"VLOOKUP(B1141,'[1]002'!B:M,12,0)","v":"-"},{"$f":"VLOOKUP(B1141,[2]sheet2!B:L,10,0)","v":"-"},{"$f":"VLOOKUP(B1141,[2]sheet2!B:L,11,0)","v":"-"},"http://183.62.54.51:8841/data/files/certificate/000000000439/73d764faf03e43c1ba71ad21b7771949/signed/1139_黎敏_三等奖_7026.pdf"]
[1140,"P303219093358","Unit7Howmucharethesesocks","初中组","课件","三等奖","河源市",{"$f":"VLOOKUP(B1142,'[1]002'!B:M,7,0)","v":"翟玉凤"},{"$f":"VLOOKUP(B1142,'[1]002'!B:M,8,0)","v":"河源市第二中学"},{"$f":"VLOOKUP(B1142,'[1]002'!B:M,11,0)","v":"-"},{"$f":"VLOOKUP(B1142,'[1]002'!B:M,12,0)","v":"-"},{"$f":"VLOOKUP(B1142,[2]sheet2!B:L,10,0)","v":"-"},{"$f":"VLOOKUP(B1142,[2]sheet2!B:L,11,0)","v":"-"},"http://183.62.54.51:8841/data/files/certificate/000000000439/2205b9881eb3445bbc8b65806be5431f/signed/1140_翟玉凤_三等奖_7027.pdf"]
[1141,"P303219093361","人教新目标初中英语八年级下册Unit3SectionA第一课时","初中组","课件","三等奖","河源市",{"$f":"VLOOKUP(B1143,'[1]002'!B:M,7,0)","v":"张  琪"},{"$f":"VLOOKUP(B1143,'[1]002'!B:M,8,0)","v":"河源市北大附属德爱国际学校"},{"$f":"VLOOKUP(B1143,'[1]002'!B:M,11,0)","v":"-"},{"$f":"VLOOKUP(B1143,'[1]002'!B:M,12,0)","v":"-"},{"$f":"VLOOKUP(B1143,[2]sheet2!B:L,10,0)","v":"-"},{"$f":"VLOOKUP(B1143,[2]sheet2!B:L,11,0)","v":"-"},"http://183.62.54.51:8841/data/files/certificate/000000000439/4c060e6b6bfb4bdcba1298065f3588b3/signed/1141_张琪_三等奖_7028.pdf"]
[1142,"P303219093348","Unit6Doyoulikebananas","初中组","课件","三等奖","河源市",{"$f":"VLOOKUP(B1144,'[1]002'!B:M,7,0)","v":"陈小燕"},{"$f":"VLOOKUP(B1144,'[1]002'!B:M,8,0)","v":"河源市第二中学"},{"$f":"VLOOKUP(B1144,'[1]002'!B:M,11,0)","v":"-"},{"$f":"VLOOKUP(B1144,'[1]002'!B:M,12,0)","v":"-"},{"$f":"VLOOKUP(B1144,[2]sheet2!B:L,10,0)","v":"-"},{"$f":"VLOOKUP(B1144,[2]sheet2!B:L,11,0)","v":"-"},"http://183.62.54.51:8841/data/files/certificate/000000000439/4d3de26e0e374ba2ab5d217db634c533/signed/1142_陈小燕_三等奖_7029.pdf"]
[1143,"P303219093365","线段射线直线","初中组","课件","三等奖","河源市",{"$f":"VLOOKUP(B1145,'[1]002'!B:M,7,0)","v":"王柱暖"},{"$f":"VLOOKUP(B1145,'[1]002'!B:M,8,0)","v":"紫金县临江第二中学"},{"$f":"VLOOKUP(B1145,'[1]002'!B:M,11,0)","v":"-"},{"$f":"VLOOKUP(B1145,'[1]002'!B:M,12,0)","v":"-"},{"$f":"VLOOKUP(B1145,[2]sheet2!B:L,10,0)","v":"-"},{"$f":"VLOOKUP(B1145,[2]sheet2!B:L,11,0)","v":"-"},"http://183.62.54.51:8841/data/files/certificate/000000000439/3502d59442544f96a80ff38ab3f597a6/signed/1143_王柱暖_三等奖_7030.pdf"]
[1144,"P303219093343","元朝的建立及统治","初中组","课件","三等奖","河源市",{"$f":"VLOOKUP(B1146,'[1]002'!B:M,7,0)","v":"邱慧良"},{"$f":"VLOOKUP(B1146,'[1]002'!B:M,8,0)","v":"河源市第一中学"},{"$f":"VLOOKUP(B1146,'[1]002'!B:M,11,0)","v":"-"},{"$f":"VLOOKUP(B1146,'[1]002'!B:M,12,0)","v":"-"},{"$f":"VLOOKUP(B1146,[2]sheet2!B:L,10,0)","v":"-"},{"$f":"VLOOKUP(B1146,[2]sheet2!B:L,11,0)","v":"-"},"http://183.62.54.51:8841/data/files/certificate/000000000439/f72c9652ac784967a5548d119e5f4db4/signed/1144_邱慧良_三等奖_7031.pdf"]
[1145,"P303219093359","维护秩序","初中组","课件","三等奖","河源市",{"$f":"VLOOKUP(B1147,'[1]002'!B:M,7,0)","v":"何丽芳"},{"$f":"VLOOKUP(B1147,'[1]002'!B:M,8,0)","v":"东源县崇文学校"},{"$f":"VLOOKUP(B1147,'[1]002'!B:M,11,0)","v":"-"},{"$f":"VLOOKUP(B1147,'[1]002'!B:M,12,0)","v":"-"},{"$f":"VLOOKUP(B1147,[2]sheet2!B:L,10,0)","v":"-"},{"$f":"VLOOKUP(B1147,[2]sheet2!B:L,11,0)","v":"-"},"http://183.62.54.51:8841/data/files/certificate/000000000439/193330055fb3462092c8d2fb956b1d56/signed/1145_何丽芳_三等奖_7032.pdf"]
[1146,"P303219093360","中考复习光学作图专题","初中组","课件","三等奖","河源市",{"$f":"VLOOKUP(B1148,'[1]002'!B:M,7,0)","v":"叶小林"},{"$f":"VLOOKUP(B1148,'[1]002'!B:M,8,0)","v":"河源市源城区宝源学校"},{"$f":"VLOOKUP(B1148,'[1]002'!B:M,11,0)","v":"-"},{"$f":"VLOOKUP(B1148,'[1]002'!B:M,12,0)","v":"-"},{"$f":"VLOOKUP(B1148,[2]sheet2!B:L,10,0)","v":"-"},{"$f":"VLOOKUP(B1148,[2]sheet2!B:L,11,0)","v":"-"},"http://183.62.54.51:8841/data/files/certificate/000000000439/33c1c5f145e44adc80659aa49c316ca2/signed/1146_叶小林_三等奖_7033.pdf"]
[1147,"P303219093366","元素","初中组","课件","三等奖","河源市",{"$f":"VLOOKUP(B1149,'[1]002'!B:M,7,0)","v":"叶智华"},{"$f":"VLOOKUP(B1149,'[1]002'!B:M,8,0)","v":"连平县第二初级中学"},{"$f":"VLOOKUP(B1149,'[1]002'!B:M,11,0)","v":"-"},{"$f":"VLOOKUP(B1149,'[1]002'!B:M,12,0)","v":"-"},{"$f":"VLOOKUP(B1149,[2]sheet2!B:L,10,0)","v":"-"},{"$f":"VLOOKUP(B1149,[2]sheet2!B:L,11,0)","v":"-"},"http://183.62.54.51:8841/data/files/certificate/000000000439/9fc5213b91d546a4aa984493d59852a3/signed/1147_叶智华_三等奖_7034.pdf"]
[1148,"P303219093347","北宋的政治","初中组","课件","三等奖","河源市",{"$f":"VLOOKUP(B1150,'[1]002'!B:M,7,0)","v":"李敏娜"},{"$f":"VLOOKUP(B1150,'[1]002'!B:M,8,0)","v":"河源市第一中学"},{"$f":"VLOOKUP(B1150,'[1]002'!B:M,11,0)","v":"-"},{"$f":"VLOOKUP(B1150,'[1]002'!B:M,12,0)","v":"-"},{"$f":"VLOOKUP(B1150,[2]sheet2!B:L,10,0)","v":"-"},{"$f":"VLOOKUP(B1150,[2]sheet2!B:L,11,0)","v":"-"},"http://183.62.54.51:8841/data/files/certificate/000000000439/4ca2bea875cb4888a6cc2eaca302328b/signed/1148_李敏娜_三等奖_7035.pdf"]
[1149,"P303219093351","液体压强与流速关系课件","初中组","课件","三等奖","河源市",{"$f":"VLOOKUP(B1151,'[1]002'!B:M,7,0)","v":"黄宝国"},{"$f":"VLOOKUP(B1151,'[1]002'!B:M,8,0)","v":"东源县黄田中学"},{"$f":"VLOOKUP(B1151,'[1]002'!B:M,11,0)","v":"-"},{"$f":"VLOOKUP(B1151,'[1]002'!B:M,12,0)","v":"-"},{"$f":"VLOOKUP(B1151,[2]sheet2!B:L,10,0)","v":"-"},{"$f":"VLOOKUP(B1151,[2]sheet2!B:L,11,0)","v":"-"},"http://183.62.54.51:8841/data/files/certificate/000000000439/61adf62bc84445e988b9cdcf4b8c21f6/signed/1149_黄宝国_三等奖_7036.pdf"]
[1150,"P303219093363","古诗苑漫步","初中组","课件","三等奖","河源市",{"$f":"VLOOKUP(B1152,'[1]002'!B:M,7,0)","v":"廖春红"},{"$f":"VLOOKUP(B1152,'[1]002'!B:M,8,0)","v":"河源市北大附属德爱国际学校"},{"$f":"VLOOKUP(B1152,'[1]002'!B:M,11,0)","v":"-"},{"$f":"VLOOKUP(B1152,'[1]002'!B:M,12,0)","v":"-"},{"$f":"VLOOKUP(B1152,[2]sheet2!B:L,10,0)","v":"-"},{"$f":"VLOOKUP(B1152,[2]sheet2!B:L,11,0)","v":"-"},"http://183.62.54.51:8841/data/files/certificate/000000000439/6e4db90a7e69427ba6ab56e752979f01/signed/1150_廖春红_三等奖_7037.pdf"]
[1151,"P303219087674","人教版八年级英语下 Unit 9  (Section B 2b Reading)","初中组","课件","三等奖","梅州市",{"$f":"VLOOKUP(B1153,'[1]002'!B:M,7,0)","v":"丘琴"},{"$f":"VLOOKUP(B1153,'[1]002'!B:M,8,0)","v":"广东梅县外国语学校"},{"$f":"VLOOKUP(B1153,'[1]002'!B:M,11,0)","v":"-"},{"$f":"VLOOKUP(B1153,'[1]002'!B:M,12,0)","v":"-"},{"$f":"VLOOKUP(B1153,[2]sheet2!B:L,10,0)","v":"-"},{"$f":"VLOOKUP(B1153,[2]sheet2!B:L,11,0)","v":"-"},"http://183.62.54.51:8841/data/files/certificate/000000000439/637d56d27d684dcb8dfd82c31d84a733/signed/1151_丘琴_三等奖_7038.pdf"]
[1152,"P303219092129","平行线的性质","初中组","课件","三等奖","惠州市",{"$f":"VLOOKUP(B1154,'[1]002'!B:M,7,0)","v":"马伟荣"},{"$f":"VLOOKUP(B1154,'[1]002'!B:M,8,0)","v":"博罗县龙溪第二中学"},{"$f":"VLOOKUP(B1154,'[1]002'!B:M,11,0)","v":"-"},{"$f":"VLOOKUP(B1154,'[1]002'!B:M,12,0)","v":"-"},{"$f":"VLOOKUP(B1154,[2]sheet2!B:L,10,0)","v":"-"},{"$f":"VLOOKUP(B1154,[2]sheet2!B:L,11,0)","v":"-"},"http://183.62.54.51:8841/data/files/certificate/000000000439/f5b746d0f077467798ada4f358f731a4/signed/1152_马伟荣_三等奖_7039.pdf"]
[1153,"P303219092357","珠江三角洲自然环境","初中组","课件","三等奖","汕尾市",{"$f":"VLOOKUP(B1155,'[1]002'!B:M,7,0)","v":"林丽娜"},{"$f":"VLOOKUP(B1155,'[1]002'!B:M,8,0)","v":"汕尾市城区新城中学"},{"$f":"VLOOKUP(B1155,'[1]002'!B:M,11,0)","v":"-"},{"$f":"VLOOKUP(B1155,'[1]002'!B:M,12,0)","v":"-"},{"$f":"VLOOKUP(B1155,[2]sheet2!B:L,10,0)","v":"-"},{"$f":"VLOOKUP(B1155,[2]sheet2!B:L,11,0)","v":"-"},"http://183.62.54.51:8841/data/files/certificate/000000000439/845eb34c5901490c85f2113cbeb39c72/signed/1153_林丽娜_三等奖_7040.pdf"]
[1154,"P303219092358","探究分子的性质","初中组","课件","三等奖","汕尾市",{"$f":"VLOOKUP(B1156,'[1]002'!B:M,7,0)","v":"罗仿金"},{"$f":"VLOOKUP(B1156,'[1]002'!B:M,8,0)","v":"陆河县螺溪中学"},{"$f":"VLOOKUP(B1156,'[1]002'!B:M,11,0)","v":"-"},{"$f":"VLOOKUP(B1156,'[1]002'!B:M,12,0)","v":"-"},{"$f":"VLOOKUP(B1156,[2]sheet2!B:L,10,0)","v":"-"},{"$f":"VLOOKUP(B1156,[2]sheet2!B:L,11,0)","v":"-"},"http://183.62.54.51:8841/data/files/certificate/000000000439/3b64ae7cf5b14849b1a1dab615bf6c8f/signed/1154_罗仿金_三等奖_7041.pdf"]
[1155,"P303219092495","不等式及其解集","初中组","课件","三等奖","东莞市",{"$f":"VLOOKUP(B1157,'[1]002'!B:M,7,0)","v":"付金娜"},{"$f":"VLOOKUP(B1157,'[1]002'!B:M,8,0)","v":"东莞市长安振安初级中学"},{"$f":"VLOOKUP(B1157,'[1]002'!B:M,11,0)","v":"彭小勇"},{"$f":"VLOOKUP(B1157,'[1]002'!B:M,12,0)","v":"东莞市长安振安初级中学"},{"$f":"VLOOKUP(B1157,[2]sheet2!B:L,10,0)","v":"柯诗婷"},{"$f":"VLOOKUP(B1157,[2]sheet2!B:L,11,0)","v":"东莞市长安振安初级中学"},"http://183.62.54.51:8841/data/files/certificate/000000000439/6c97f31b078347e29efb13cd0d1f718e/signed/1155_付金娜、彭小勇、柯诗婷_三等奖_7042.pdf"]
[1156,"P303219088328","瓶子中有多少豆子","初中组","课件","三等奖","中山市",{"$f":"VLOOKUP(B1158,'[1]002'!B:M,7,0)","v":"李锋"},{"$f":"VLOOKUP(B1158,'[1]002'!B:M,8,0)","v":"中山市溪角初级中学"},{"$f":"VLOOKUP(B1158,'[1]002'!B:M,11,0)","v":"-"},{"$f":"VLOOKUP(B1158,'[1]002'!B:M,12,0)","v":"-"},{"$f":"VLOOKUP(B1158,[2]sheet2!B:L,10,0)","v":"-"},{"$f":"VLOOKUP(B1158,[2]sheet2!B:L,11,0)","v":"-"},"http://183.62.54.51:8841/data/files/certificate/000000000439/62216760e75744a7a214c078ad1a8ec2/signed/1156_李锋_三等奖_7043.pdf"]
[1157,"P303219088635","沂蒙山小调","初中组","课件","三等奖","中山市",{"$f":"VLOOKUP(B1159,'[1]002'!B:M,7,0)","v":"吴炘"},{"$f":"VLOOKUP(B1159,'[1]002'!B:M,8,0)","v":"中山市西区铁城初级中学"},{"$f":"VLOOKUP(B1159,'[1]002'!B:M,11,0)","v":"苏敏坚"},{"$f":"VLOOKUP(B1159,'[1]002'!B:M,12,0)","v":"中山市西区铁城初级中学"},{"$f":"VLOOKUP(B1159,[2]sheet2!B:L,10,0)","v":"-"},{"$f":"VLOOKUP(B1159,[2]sheet2!B:L,11,0)","v":"-"},"http://183.62.54.51:8841/data/files/certificate/000000000439/e35f93864bc74c6d8b927369c5dc983f/signed/1157_吴炘、苏敏坚_三等奖_7044.pdf"]
[1158,"P303219088645","罗斯福新政","初中组","课件","三等奖","中山市",{"$f":"VLOOKUP(B1160,'[1]002'!B:M,7,0)","v":"刘瑞"},{"$f":"VLOOKUP(B1160,'[1]002'!B:M,8,0)","v":"中山市沙溪初级中学"},{"$f":"VLOOKUP(B1160,'[1]002'!B:M,11,0)","v":"吴宝颖"},{"$f":"VLOOKUP(B1160,'[1]002'!B:M,12,0)","v":"中山市沙溪初级中学"},{"$f":"VLOOKUP(B1160,[2]sheet2!B:L,10,0)","v":"姚清"},{"$f":"VLOOKUP(B1160,[2]sheet2!B:L,11,0)","v":"中山市沙溪初级中学"},"http://183.62.54.51:8841/data/files/certificate/000000000439/ed259399e2904e3f98b1bf2919ccaf0d/signed/1158_刘瑞、吴宝颖、姚清_三等奖_7045.pdf"]
[1159,"P303219091760","比心（输送血液的泵——心脏课件）","初中组","课件","三等奖","江门市",{"$f":"VLOOKUP(B1161,'[1]002'!B:M,7,0)","v":"苏绮雯"},{"$f":"VLOOKUP(B1161,'[1]002'!B:M,8,0)","v":"江门市广德实验学校"},{"$f":"VLOOKUP(B1161,'[1]002'!B:M,11,0)","v":"-"},{"$f":"VLOOKUP(B1161,'[1]002'!B:M,12,0)","v":"-"},{"$f":"VLOOKUP(B1161,[2]sheet2!B:L,10,0)","v":"-"},{"$f":"VLOOKUP(B1161,[2]sheet2!B:L,11,0)","v":"-"},"http://183.62.54.51:8841/data/files/certificate/000000000439/14c61d78af164e4b9ffcc9336fb316b7/signed/1159_苏绮雯_三等奖_7046.pdf"]
[1160,"P303219092002","Flash逐帧动画","初中组","课件","三等奖","江门市",{"$f":"VLOOKUP(B1162,'[1]002'!B:M,7,0)","v":"周裕德"},{"$f":"VLOOKUP(B1162,'[1]002'!B:M,8,0)","v":"开平市东河中学"},{"$f":"VLOOKUP(B1162,'[1]002'!B:M,11,0)","v":"-"},{"$f":"VLOOKUP(B1162,'[1]002'!B:M,12,0)","v":"-"},{"$f":"VLOOKUP(B1162,[2]sheet2!B:L,10,0)","v":"-"},{"$f":"VLOOKUP(B1162,[2]sheet2!B:L,11,0)","v":"-"},"http://183.62.54.51:8841/data/files/certificate/000000000439/13a4eebca25248d284b9d510c5ae8c3f/signed/1160_周裕德_三等奖_7047.pdf"]
[1161,"P303219091763","魅力图层让动画更精彩","初中组","课件","三等奖","江门市",{"$f":"VLOOKUP(B1163,'[1]002'!B:M,7,0)","v":"杨坤"},{"$f":"VLOOKUP(B1163,'[1]002'!B:M,8,0)","v":"江门市蓬江区杜阮镇楼山初级中学"},{"$f":"VLOOKUP(B1163,'[1]002'!B:M,11,0)","v":"彭雳娜"},{"$f":"VLOOKUP(B1163,'[1]002'!B:M,12,0)","v":"江门市陈白沙小学"},{"$f":"VLOOKUP(B1163,[2]sheet2!B:L,10,0)","v":"-"},{"$f":"VLOOKUP(B1163,[2]sheet2!B:L,11,0)","v":"-"},"http://183.62.54.51:8841/data/files/certificate/000000000439/cfae0abbe6774fc1bbabfb9455978855/signed/1161_杨坤、彭雳娜_三等奖_7048.pdf"]
[1162,"P303219091822","沃尔塔瓦河","初中组","课件","三等奖","江门市",{"$f":"VLOOKUP(B1164,'[1]002'!B:M,7,0)","v":"袁晶"},{"$f":"VLOOKUP(B1164,'[1]002'!B:M,8,0)","v":"江海区外海中学"},{"$f":"VLOOKUP(B1164,'[1]002'!B:M,11,0)","v":"-"},{"$f":"VLOOKUP(B1164,'[1]002'!B:M,12,0)","v":"-"},{"$f":"VLOOKUP(B1164,[2]sheet2!B:L,10,0)","v":"-"},{"$f":"VLOOKUP(B1164,[2]sheet2!B:L,11,0)","v":"-"},"http://183.62.54.51:8841/data/files/certificate/000000000439/fe0733f132bd4b9fb130c6fbe008a45f/signed/1162_袁晶_三等奖_7049.pdf"]
[1163,"P303219091762","美化生活的肌理","初中组","课件","三等奖","江门市",{"$f":"VLOOKUP(B1165,'[1]002'!B:M,7,0)","v":"黄瑞爱"},{"$f":"VLOOKUP(B1165,'[1]002'!B:M,8,0)","v":"江门市蓬江区杜阮镇楼山初级中学"},{"$f":"VLOOKUP(B1165,'[1]002'!B:M,11,0)","v":"-"},{"$f":"VLOOKUP(B1165,'[1]002'!B:M,12,0)","v":"-"},{"$f":"VLOOKUP(B1165,[2]sheet2!B:L,10,0)","v":"-"},{"$f":"VLOOKUP(B1165,[2]sheet2!B:L,11,0)","v":"-"},"http://183.62.54.51:8841/data/files/certificate/000000000439/b44a3c6543014cc6a544dc125849a04f/signed/1163_黄瑞爱_三等奖_7050.pdf"]
[1164,"P303219092054","人体对外界环境的感知","初中组","课件","三等奖","江门市",{"$f":"VLOOKUP(B1166,'[1]002'!B:M,7,0)","v":"吴桂枝"},{"$f":"VLOOKUP(B1166,'[1]002'!B:M,8,0)","v":"鹤山市桃源中学"},{"$f":"VLOOKUP(B1166,'[1]002'!B:M,11,0)","v":"-"},{"$f":"VLOOKUP(B1166,'[1]002'!B:M,12,0)","v":"-"},{"$f":"VLOOKUP(B1166,[2]sheet2!B:L,10,0)","v":"-"},{"$f":"VLOOKUP(B1166,[2]sheet2!B:L,11,0)","v":"-"},"http://183.62.54.51:8841/data/files/certificate/000000000439/5e0df41c3dec495f978c139b04bf4ccb/signed/1164_吴桂枝_三等奖_7051.pdf"]
[1165,"P303219092037","力","初中组","课件","三等奖","江门市",{"$f":"VLOOKUP(B1167,'[1]002'!B:M,7,0)","v":"吴剑云"},{"$f":"VLOOKUP(B1167,'[1]002'!B:M,8,0)","v":"台山市任远中学"},{"$f":"VLOOKUP(B1167,'[1]002'!B:M,11,0)","v":"-"},{"$f":"VLOOKUP(B1167,'[1]002'!B:M,12,0)","v":"-"},{"$f":"VLOOKUP(B1167,[2]sheet2!B:L,10,0)","v":"-"},{"$f":"VLOOKUP(B1167,[2]sheet2!B:L,11,0)","v":"-"},"http://183.62.54.51:8841/data/files/certificate/000000000439/5b9083e0620d4186b1c46603dfbd2083/signed/1165_吴剑云_三等奖_7052.pdf"]
[1166,"P303219092951","轴对称","初中组","课件","三等奖","湛江市",{"$f":"VLOOKUP(B1168,'[1]002'!B:M,7,0)","v":"陈羽萍"},{"$f":"VLOOKUP(B1168,'[1]002'!B:M,8,0)","v":"湛江市初级实验中学"},{"$f":"VLOOKUP(B1168,'[1]002'!B:M,11,0)","v":"-"},{"$f":"VLOOKUP(B1168,'[1]002'!B:M,12,0)","v":"-"},{"$f":"VLOOKUP(B1168,[2]sheet2!B:L,10,0)","v":"-"},{"$f":"VLOOKUP(B1168,[2]sheet2!B:L,11,0)","v":"-"},"http://183.62.54.51:8841/data/files/certificate/000000000439/57c5b1f2726142bd83e5fa133f1be1fb/signed/1166_陈羽萍_三等奖_7053.pdf"]
[1167,"P303219092945","血液运输之血管","初中组","课件","三等奖","湛江市",{"$f":"VLOOKUP(B1169,'[1]002'!B:M,7,0)","v":"陈家清"},{"$f":"VLOOKUP(B1169,'[1]002'!B:M,8,0)","v":"湛江市第十七中学"},{"$f":"VLOOKUP(B1169,'[1]002'!B:M,11,0)","v":"-"},{"$f":"VLOOKUP(B1169,'[1]002'!B:M,12,0)","v":"-"},{"$f":"VLOOKUP(B1169,[2]sheet2!B:L,10,0)","v":"-"},{"$f":"VLOOKUP(B1169,[2]sheet2!B:L,11,0)","v":"-"},"http://183.62.54.51:8841/data/files/certificate/000000000439/c597bda27d2d4c4d9affc60d752451b6/signed/1167_陈家清_三等奖_7054.pdf"]
[1168,"P303219092946","人体细胞获得氧气的过程","初中组","课件","三等奖","湛江市",{"$f":"VLOOKUP(B1170,'[1]002'!B:M,7,0)","v":"陈家清"},{"$f":"VLOOKUP(B1170,'[1]002'!B:M,8,0)","v":"湛江市第十七中学"},{"$f":"VLOOKUP(B1170,'[1]002'!B:M,11,0)","v":"-"},{"$f":"VLOOKUP(B1170,'[1]002'!B:M,12,0)","v":"-"},{"$f":"VLOOKUP(B1170,[2]sheet2!B:L,10,0)","v":"-"},{"$f":"VLOOKUP(B1170,[2]sheet2!B:L,11,0)","v":"-"},"http://183.62.54.51:8841/data/files/certificate/000000000439/bb28fe59ab8b41b3b8335168b878b4d5/signed/1168_陈家清_三等奖_7055.pdf"]
[1169,"P303219092953","绪言/化学使世界变得更加绚丽多彩","初中组","课件","三等奖","湛江市",{"$f":"VLOOKUP(B1171,'[1]002'!B:M,7,0)","v":"李应育"},{"$f":"VLOOKUP(B1171,'[1]002'!B:M,8,0)","v":"岭南师范学院附属中学"},{"$f":"VLOOKUP(B1171,'[1]002'!B:M,11,0)","v":"-"},{"$f":"VLOOKUP(B1171,'[1]002'!B:M,12,0)","v":"-"},{"$f":"VLOOKUP(B1171,[2]sheet2!B:L,10,0)","v":"-"},{"$f":"VLOOKUP(B1171,[2]sheet2!B:L,11,0)","v":"-"},"http://183.62.54.51:8841/data/files/certificate/000000000439/0556792498684edb9519f924934e2ad4/signed/1169_李应育_三等奖_7056.pdf"]
[1170,"P303219091365","平行四边形的性质","初中组","课件","三等奖","茂名市",{"$f":"VLOOKUP(B1172,'[1]002'!B:M,7,0)","v":"吴汉媚"},{"$f":"VLOOKUP(B1172,'[1]002'!B:M,8,0)","v":"茂名市博雅中学"},{"$f":"VLOOKUP(B1172,'[1]002'!B:M,11,0)","v":"-"},{"$f":"VLOOKUP(B1172,'[1]002'!B:M,12,0)","v":"-"},{"$f":"VLOOKUP(B1172,[2]sheet2!B:L,10,0)","v":"-"},{"$f":"VLOOKUP(B1172,[2]sheet2!B:L,11,0)","v":"-"},"http://183.62.54.51:8841/data/files/certificate/000000000439/850bc1f6f6e345e9ba8fc800f5b59343/signed/1170_吴汉媚_三等奖_7057.pdf"]
[1171,"P303219091544","乡愁","初中组","课件","三等奖","茂名市",{"$f":"VLOOKUP(B1173,'[1]002'!B:M,7,0)","v":"刘小霞"},{"$f":"VLOOKUP(B1173,'[1]002'!B:M,8,0)","v":"茂名市新世纪学校"},{"$f":"VLOOKUP(B1173,'[1]002'!B:M,11,0)","v":"-"},{"$f":"VLOOKUP(B1173,'[1]002'!B:M,12,0)","v":"-"},{"$f":"VLOOKUP(B1173,[2]sheet2!B:L,10,0)","v":"-"},{"$f":"VLOOKUP(B1173,[2]sheet2!B:L,11,0)","v":"-"},"http://183.62.54.51:8841/data/files/certificate/000000000439/ef23819e93e9409298f53bb3d8d76799/signed/1171_刘小霞_三等奖_7058.pdf"]
[1172,"P303219091440","八年级下册M3U1","初中组","课件","三等奖","茂名市",{"$f":"VLOOKUP(B1174,'[1]002'!B:M,7,0)","v":"戴敏思"},{"$f":"VLOOKUP(B1174,'[1]002'!B:M,8,0)","v":"茂名市行知中学"},{"$f":"VLOOKUP(B1174,'[1]002'!B:M,11,0)","v":"-"},{"$f":"VLOOKUP(B1174,'[1]002'!B:M,12,0)","v":"-"},{"$f":"VLOOKUP(B1174,[2]sheet2!B:L,10,0)","v":"-"},{"$f":"VLOOKUP(B1174,[2]sheet2!B:L,11,0)","v":"-"},"http://183.62.54.51:8841/data/files/certificate/000000000439/15d02e0b2dd244d3b5fbc5c84f1f3ceb/signed/1172_戴敏思_三等奖_7059.pdf"]
[1173,"P303219091326","平均数","初中组","课件","三等奖","茂名市",{"$f":"VLOOKUP(B1175,'[1]002'!B:M,7,0)","v":"陈兴海"},{"$f":"VLOOKUP(B1175,'[1]002'!B:M,8,0)","v":"茂名市新世纪学校"},{"$f":"VLOOKUP(B1175,'[1]002'!B:M,11,0)","v":"-"},{"$f":"VLOOKUP(B1175,'[1]002'!B:M,12,0)","v":"-"},{"$f":"VLOOKUP(B1175,[2]sheet2!B:L,10,0)","v":"-"},{"$f":"VLOOKUP(B1175,[2]sheet2!B:L,11,0)","v":"-"},"http://183.62.54.51:8841/data/files/certificate/000000000439/9d2f9e83bc6242d0a38cef68f868788b/signed/1173_陈兴海_三等奖_7060.pdf"]
[1174,"P303219091438","广东省人口变化与城市发展","初中组","课件","三等奖","茂名市",{"$f":"VLOOKUP(B1176,'[1]002'!B:M,7,0)","v":"黄越"},{"$f":"VLOOKUP(B1176,'[1]002'!B:M,8,0)","v":"茂名市行知中学"},{"$f":"VLOOKUP(B1176,'[1]002'!B:M,11,0)","v":"-"},{"$f":"VLOOKUP(B1176,'[1]002'!B:M,12,0)","v":"-"},{"$f":"VLOOKUP(B1176,[2]sheet2!B:L,10,0)","v":"-"},{"$f":"VLOOKUP(B1176,[2]sheet2!B:L,11,0)","v":"-"},"http://183.62.54.51:8841/data/files/certificate/000000000439/91d66a169098411d8bd517e584d631dd/signed/1174_黄越_三等奖_7061.pdf"]
[1175,"P303219090223","香港回归","初中组","课件","三等奖","肇庆市",{"$f":"VLOOKUP(B1177,'[1]002'!B:M,7,0)","v":"黄静"},{"$f":"VLOOKUP(B1177,'[1]002'!B:M,8,0)","v":"肇庆市第五中学"},{"$f":"VLOOKUP(B1177,'[1]002'!B:M,11,0)","v":"-"},{"$f":"VLOOKUP(B1177,'[1]002'!B:M,12,0)","v":"-"},{"$f":"VLOOKUP(B1177,[2]sheet2!B:L,10,0)","v":"-"},{"$f":"VLOOKUP(B1177,[2]sheet2!B:L,11,0)","v":"-"},"http://183.62.54.51:8841/data/files/certificate/000000000439/2721a2bf38a84538865c62bf2a2e4f22/signed/1175_黄静_三等奖_7062.pdf"]
[1176,"P303219090224","从永磁体谈起","初中组","课件","三等奖","肇庆市",{"$f":"VLOOKUP(B1178,'[1]002'!B:M,7,0)","v":"陈军"},{"$f":"VLOOKUP(B1178,'[1]002'!B:M,8,0)","v":"肇庆市第五中学"},{"$f":"VLOOKUP(B1178,'[1]002'!B:M,11,0)","v":"-"},{"$f":"VLOOKUP(B1178,'[1]002'!B:M,12,0)","v":"-"},{"$f":"VLOOKUP(B1178,[2]sheet2!B:L,10,0)","v":"-"},{"$f":"VLOOKUP(B1178,[2]sheet2!B:L,11,0)","v":"-"},"http://183.62.54.51:8841/data/files/certificate/000000000439/dfa3071a96164a4eaea688c0ffa5d056/signed/1176_陈军_三等奖_7063.pdf"]
[1177,"P303219092224","人体的神经调节","初中组","课件","三等奖","肇庆市",{"$f":"VLOOKUP(B1179,'[1]002'!B:M,7,0)","v":"吴清连"},{"$f":"VLOOKUP(B1179,'[1]002'!B:M,8,0)","v":"封开县封川中学"},{"$f":"VLOOKUP(B1179,'[1]002'!B:M,11,0)","v":"-"},{"$f":"VLOOKUP(B1179,'[1]002'!B:M,12,0)","v":"-"},{"$f":"VLOOKUP(B1179,[2]sheet2!B:L,10,0)","v":"-"},{"$f":"VLOOKUP(B1179,[2]sheet2!B:L,11,0)","v":"-"},"http://183.62.54.51:8841/data/files/certificate/000000000439/4ea4601cbd2e42b8b6739362acb4440c/signed/1177_吴清连_三等奖_7064.pdf"]
[1178,"P303219091626","仁爱版八年级下册Unit7Topic1SectionB教学课件","初中组","课件","三等奖","清远市",{"$f":"VLOOKUP(B1180,'[1]002'!B:M,7,0)","v":"江伟霞"},{"$f":"VLOOKUP(B1180,'[1]002'!B:M,8,0)","v":"清远市清城区松岗中学"},{"$f":"VLOOKUP(B1180,'[1]002'!B:M,11,0)","v":"-"},{"$f":"VLOOKUP(B1180,'[1]002'!B:M,12,0)","v":"-"},{"$f":"VLOOKUP(B1180,[2]sheet2!B:L,10,0)","v":"-"},{"$f":"VLOOKUP(B1180,[2]sheet2!B:L,11,0)","v":"-"},"http://183.62.54.51:8841/data/files/certificate/000000000439/6b6e0278e47b45c68b73871b22ffc68c/signed/1178_江伟霞_三等奖_7065.pdf"]
[1179,"P303219091605","仁爱版七年级英语下册Unit6Topic2SectionB","初中组","课件","三等奖","清远市",{"$f":"VLOOKUP(B1181,'[1]002'!B:M,7,0)","v":"钱美静"},{"$f":"VLOOKUP(B1181,'[1]002'!B:M,8,0)","v":"清新区禾云中学"},{"$f":"VLOOKUP(B1181,'[1]002'!B:M,11,0)","v":"-"},{"$f":"VLOOKUP(B1181,'[1]002'!B:M,12,0)","v":"-"},{"$f":"VLOOKUP(B1181,[2]sheet2!B:L,10,0)","v":"-"},{"$f":"VLOOKUP(B1181,[2]sheet2!B:L,11,0)","v":"-"},"http://183.62.54.51:8841/data/files/certificate/000000000439/587f3f7980bf41a4a93a91a616290015/signed/1179_钱美静_三等奖_7066.pdf"]
[1180,"P303219091595","二次函数的图象与性质","初中组","课件","三等奖","清远市",{"$f":"VLOOKUP(B1182,'[1]002'!B:M,7,0)","v":"徐贵玉"},{"$f":"VLOOKUP(B1182,'[1]002'!B:M,8,0)","v":"英德市英德中学"},{"$f":"VLOOKUP(B1182,'[1]002'!B:M,11,0)","v":"-"},{"$f":"VLOOKUP(B1182,'[1]002'!B:M,12,0)","v":"-"},{"$f":"VLOOKUP(B1182,[2]sheet2!B:L,10,0)","v":"-"},{"$f":"VLOOKUP(B1182,[2]sheet2!B:L,11,0)","v":"-"},"http://183.62.54.51:8841/data/files/certificate/000000000439/dcaf040fe437444c8e6c6e2f6b86c2d5/signed/1180_徐贵玉_三等奖_7067.pdf"]
[1181,"P303219086847","燃烧和灭火","初中组","课件","三等奖","潮州市",{"$f":"VLOOKUP(B1183,'[1]002'!B:M,7,0)","v":"苏培成"},{"$f":"VLOOKUP(B1183,'[1]002'!B:M,8,0)","v":"潮州市潮安区金石镇仙都初级中学"},{"$f":"VLOOKUP(B1183,'[1]002'!B:M,11,0)","v":"-"},{"$f":"VLOOKUP(B1183,'[1]002'!B:M,12,0)","v":"-"},{"$f":"VLOOKUP(B1183,[2]sheet2!B:L,10,0)","v":"-"},{"$f":"VLOOKUP(B1183,[2]sheet2!B:L,11,0)","v":"-"},"http://183.62.54.51:8841/data/files/certificate/000000000439/aafe89d0f253474cb0b8e7adf20027fe/signed/1181_苏培成_三等奖_7068.pdf"]
[1182,"P303219079692","学校生活中考复习指导","初中组","课件","三等奖","云浮市",{"$f":"VLOOKUP(B1184,'[1]002'!B:M,7,0)","v":"黄宇明"},{"$f":"VLOOKUP(B1184,'[1]002'!B:M,8,0)","v":"罗定市廷锴纪念中学"},{"$f":"VLOOKUP(B1184,'[1]002'!B:M,11,0)","v":"-"},{"$f":"VLOOKUP(B1184,'[1]002'!B:M,12,0)","v":"-"},{"$f":"VLOOKUP(B1184,[2]sheet2!B:L,10,0)","v":"-"},{"$f":"VLOOKUP(B1184,[2]sheet2!B:L,11,0)","v":"-"},"http://183.62.54.51:8841/data/files/certificate/000000000439/0cdfb2f51d534e49a5af5a163c536c7e/signed/1182_黄宇明_三等奖_7069.pdf"]
[1183,"P303219084389","Unit7Topic2SectionB","初中组","课件","三等奖","云浮市",{"$f":"VLOOKUP(B1185,'[1]002'!B:M,7,0)","v":"吴婉玲"},{"$f":"VLOOKUP(B1185,'[1]002'!B:M,8,0)","v":"新兴县六祖镇集成中学"},{"$f":"VLOOKUP(B1185,'[1]002'!B:M,11,0)","v":"-"},{"$f":"VLOOKUP(B1185,'[1]002'!B:M,12,0)","v":"-"},{"$f":"VLOOKUP(B1185,[2]sheet2!B:L,10,0)","v":"-"},{"$f":"VLOOKUP(B1185,[2]sheet2!B:L,11,0)","v":"-"},"http://183.62.54.51:8841/data/files/certificate/000000000439/de746ae017934ee5953a735d05371704/signed/1183_吴婉玲_三等奖_7070.pdf"]
[1184,"P305219093236","文章不厌百回改一一记叙文的修改润色","初中组","微课","三等奖","广州市",{"$f":"VLOOKUP(B1186,'[1]002'!B:M,7,0)","v":"卢灼杭"},{"$f":"VLOOKUP(B1186,'[1]002'!B:M,8,0)","v":"广州市白云区平沙培英学校"},{"$f":"VLOOKUP(B1186,'[1]002'!B:M,11,0)","v":"-"},{"$f":"VLOOKUP(B1186,'[1]002'!B:M,12,0)","v":"-"},{"$f":"VLOOKUP(B1186,[2]sheet2!B:L,10,0)","v":"-"},{"$f":"VLOOKUP(B1186,[2]sheet2!B:L,11,0)","v":"-"},"http://183.62.54.51:8841/data/files/certificate/000000000439/cbb6953baad1451c86b90df2439ca609/signed/1184_卢灼杭_三等奖_7071.pdf"]
[1185,"P305219093234","读书方法之圈点批注法指导","初中组","微课","三等奖","广州市",{"$f":"VLOOKUP(B1187,'[1]002'!B:M,7,0)","v":"阳玉莹"},{"$f":"VLOOKUP(B1187,'[1]002'!B:M,8,0)","v":"广州市第十六中学"},{"$f":"VLOOKUP(B1187,'[1]002'!B:M,11,0)","v":"-"},{"$f":"VLOOKUP(B1187,'[1]002'!B:M,12,0)","v":"-"},{"$f":"VLOOKUP(B1187,[2]sheet2!B:L,10,0)","v":"-"},{"$f":"VLOOKUP(B1187,[2]sheet2!B:L,11,0)","v":"-"},"http://183.62.54.51:8841/data/files/certificate/000000000439/0eb486c6900e42ab84339fa5dbce1a77/signed/1185_阳玉莹_三等奖_7072.pdf"]
[1186,"P305219092692","英语书面表达提升策略","初中组","微课","三等奖","深圳市",{"$f":"VLOOKUP(B1188,'[1]002'!B:M,7,0)","v":"阮敏凤"},{"$f":"VLOOKUP(B1188,'[1]002'!B:M,8,0)","v":"深圳市大鹏新区葵涌中学"},{"$f":"VLOOKUP(B1188,'[1]002'!B:M,11,0)","v":"-"},{"$f":"VLOOKUP(B1188,'[1]002'!B:M,12,0)","v":"-"},{"$f":"VLOOKUP(B1188,[2]sheet2!B:L,10,0)","v":"-"},{"$f":"VLOOKUP(B1188,[2]sheet2!B:L,11,0)","v":"-"},"http://183.62.54.51:8841/data/files/certificate/000000000439/616daef56f194f7ca119305e58644fa4/signed/1186_阮敏凤_三等奖_7073.pdf"]
[1187,"P305219090294","有人落水救还是不救","初中组","微课","三等奖","珠海市",{"$f":"VLOOKUP(B1189,'[1]002'!B:M,7,0)","v":"曾晓琴"},{"$f":"VLOOKUP(B1189,'[1]002'!B:M,8,0)","v":"珠海市紫荆中学"},{"$f":"VLOOKUP(B1189,'[1]002'!B:M,11,0)","v":"-"},{"$f":"VLOOKUP(B1189,'[1]002'!B:M,12,0)","v":"-"},{"$f":"VLOOKUP(B1189,[2]sheet2!B:L,10,0)","v":"-"},{"$f":"VLOOKUP(B1189,[2]sheet2!B:L,11,0)","v":"-"},"http://183.62.54.51:8841/data/files/certificate/000000000439/84e9276a3e86490088b81ee0a8df72f2/signed/1187_曾晓琴_三等奖_7074.pdf"]
[1188,"P305219088664","物质变化的基本类型","初中组","微课","三等奖","珠海市",{"$f":"VLOOKUP(B1190,'[1]002'!B:M,7,0)","v":"谢思"},{"$f":"VLOOKUP(B1190,'[1]002'!B:M,8,0)","v":"珠海市前山中学"},{"$f":"VLOOKUP(B1190,'[1]002'!B:M,11,0)","v":"-"},{"$f":"VLOOKUP(B1190,'[1]002'!B:M,12,0)","v":"-"},{"$f":"VLOOKUP(B1190,[2]sheet2!B:L,10,0)","v":"-"},{"$f":"VLOOKUP(B1190,[2]sheet2!B:L,11,0)","v":"-"},"http://183.62.54.51:8841/data/files/certificate/000000000439/262df5ed60db418d9481c9f04e0bf22f/signed/1188_谢思_三等奖_7075.pdf"]
[1189,"P305219091897","竹里馆","初中组","微课","三等奖","汕头市",{"$f":"VLOOKUP(B1191,'[1]002'!B:M,7,0)","v":"赖丽玲"},{"$f":"VLOOKUP(B1191,'[1]002'!B:M,8,0)","v":"汕头市玉新中学"},{"$f":"VLOOKUP(B1191,'[1]002'!B:M,11,0)","v":"-"},{"$f":"VLOOKUP(B1191,'[1]002'!B:M,12,0)","v":"-"},{"$f":"VLOOKUP(B1191,[2]sheet2!B:L,10,0)","v":"-"},{"$f":"VLOOKUP(B1191,[2]sheet2!B:L,11,0)","v":"-"},"http://183.62.54.51:8841/data/files/certificate/000000000439/341d3471684c4dbb8142334f2fd412c3/signed/1189_赖丽玲_三等奖_7076.pdf"]
[1190,"P305219091881","探究流体压强与流速的关系","初中组","微课","三等奖","汕头市",{"$f":"VLOOKUP(B1192,'[1]002'!B:M,7,0)","v":"刘芝航"},{"$f":"VLOOKUP(B1192,'[1]002'!B:M,8,0)","v":"汕头市谢易初中学"},{"$f":"VLOOKUP(B1192,'[1]002'!B:M,11,0)","v":"-"},{"$f":"VLOOKUP(B1192,'[1]002'!B:M,12,0)","v":"-"},{"$f":"VLOOKUP(B1192,[2]sheet2!B:L,10,0)","v":"-"},{"$f":"VLOOKUP(B1192,[2]sheet2!B:L,11,0)","v":"-"},"http://183.62.54.51:8841/data/files/certificate/000000000439/9c425004a5b74d35b0767beddc39bece/signed/1190_刘芝航_三等奖_7077.pdf"]
[1191,"P305219091883","修辞手法之比喻","初中组","微课","三等奖","汕头市",{"$f":"VLOOKUP(B1193,'[1]002'!B:M,7,0)","v":"杨鸿东"},{"$f":"VLOOKUP(B1193,'[1]002'!B:M,8,0)","v":"汕头市广澳学校"},{"$f":"VLOOKUP(B1193,'[1]002'!B:M,11,0)","v":"-"},{"$f":"VLOOKUP(B1193,'[1]002'!B:M,12,0)","v":"-"},{"$f":"VLOOKUP(B1193,[2]sheet2!B:L,10,0)","v":"-"},{"$f":"VLOOKUP(B1193,[2]sheet2!B:L,11,0)","v":"-"},"http://183.62.54.51:8841/data/files/certificate/000000000439/f80bb991b92e4f6480f3cb8587452d99/signed/1191_杨鸿东_三等奖_7078.pdf"]
[1192,"P305219091882","测量铝块的密度","初中组","微课","三等奖","汕头市",{"$f":"VLOOKUP(B1194,'[1]002'!B:M,7,0)","v":"刘芝航"},{"$f":"VLOOKUP(B1194,'[1]002'!B:M,8,0)","v":"汕头市谢易初中学"},{"$f":"VLOOKUP(B1194,'[1]002'!B:M,11,0)","v":"-"},{"$f":"VLOOKUP(B1194,'[1]002'!B:M,12,0)","v":"-"},{"$f":"VLOOKUP(B1194,[2]sheet2!B:L,10,0)","v":"-"},{"$f":"VLOOKUP(B1194,[2]sheet2!B:L,11,0)","v":"-"},"http://183.62.54.51:8841/data/files/certificate/000000000439/9236efa511e84778b684ffd9d5fd9e07/signed/1192_刘芝航_三等奖_7079.pdf"]
[1193,"P305219091896","让证明动起来--勾股定理的六种证明方法演示","初中组","微课","三等奖","汕头市",{"$f":"VLOOKUP(B1195,'[1]002'!B:M,7,0)","v":"林青"},{"$f":"VLOOKUP(B1195,'[1]002'!B:M,8,0)","v":"汕头金山中学南区学校"},{"$f":"VLOOKUP(B1195,'[1]002'!B:M,11,0)","v":"-"},{"$f":"VLOOKUP(B1195,'[1]002'!B:M,12,0)","v":"-"},{"$f":"VLOOKUP(B1195,[2]sheet2!B:L,10,0)","v":"-"},{"$f":"VLOOKUP(B1195,[2]sheet2!B:L,11,0)","v":"-"},"http://183.62.54.51:8841/data/files/certificate/000000000439/0c82541397a34e95830b5cd9f3c62420/signed/1193_林青_三等奖_7080.pdf"]
[1194,"P305219091000","阿基米德原理之死海不死的秘密","初中组","微课","三等奖","佛山市",{"$f":"VLOOKUP(B1196,'[1]002'!B:M,7,0)","v":"陈春颖"},{"$f":"VLOOKUP(B1196,'[1]002'!B:M,8,0)","v":"佛山市顺德区均安镇文田初级中学"},{"$f":"VLOOKUP(B1196,'[1]002'!B:M,11,0)","v":"-"},{"$f":"VLOOKUP(B1196,'[1]002'!B:M,12,0)","v":"-"},{"$f":"VLOOKUP(B1196,[2]sheet2!B:L,10,0)","v":"-"},{"$f":"VLOOKUP(B1196,[2]sheet2!B:L,11,0)","v":"-"},"http://183.62.54.51:8841/data/files/certificate/000000000439/35751d86c65e41f2afa4264329fc1d1d/signed/1194_陈春颖_三等奖_7081.pdf"]
[1195,"P305219090986","亲社会行为","初中组","微课","三等奖","佛山市",{"$f":"VLOOKUP(B1197,'[1]002'!B:M,7,0)","v":"潘燕芳"},{"$f":"VLOOKUP(B1197,'[1]002'!B:M,8,0)","v":"佛山市南海区西樵镇樵北初级中学"},{"$f":"VLOOKUP(B1197,'[1]002'!B:M,11,0)","v":"-"},{"$f":"VLOOKUP(B1197,'[1]002'!B:M,12,0)","v":"-"},{"$f":"VLOOKUP(B1197,[2]sheet2!B:L,10,0)","v":"-"},{"$f":"VLOOKUP(B1197,[2]sheet2!B:L,11,0)","v":"-"},"http://183.62.54.51:8841/data/files/certificate/000000000439/f94da1dfb72c4979b1a8f712c50720ea/signed/1195_潘燕芳_三等奖_7082.pdf"]
[1196,"P305219090983","外研版七年级下册第四模块写作指导课","初中组","微课","三等奖","佛山市",{"$f":"VLOOKUP(B1198,'[1]002'!B:M,7,0)","v":"郑主均"},{"$f":"VLOOKUP(B1198,'[1]002'!B:M,8,0)","v":"佛山市南海区丹灶镇金沙中学"},{"$f":"VLOOKUP(B1198,'[1]002'!B:M,11,0)","v":"-"},{"$f":"VLOOKUP(B1198,'[1]002'!B:M,12,0)","v":"-"},{"$f":"VLOOKUP(B1198,[2]sheet2!B:L,10,0)","v":"-"},{"$f":"VLOOKUP(B1198,[2]sheet2!B:L,11,0)","v":"-"},"http://183.62.54.51:8841/data/files/certificate/000000000439/66cd8972eb6f42019c6db84222fdd718/signed/1196_郑主均_三等奖_7083.pdf"]
[1197,"P305219090998","璀璨星空","初中组","微课","三等奖","佛山市",{"$f":"VLOOKUP(B1199,'[1]002'!B:M,7,0)","v":"张惠姗"},{"$f":"VLOOKUP(B1199,'[1]002'!B:M,8,0)","v":"佛山市顺德区容桂四基初级中学"},{"$f":"VLOOKUP(B1199,'[1]002'!B:M,11,0)","v":"-"},{"$f":"VLOOKUP(B1199,'[1]002'!B:M,12,0)","v":"-"},{"$f":"VLOOKUP(B1199,[2]sheet2!B:L,10,0)","v":"-"},{"$f":"VLOOKUP(B1199,[2]sheet2!B:L,11,0)","v":"-"},"http://183.62.54.51:8841/data/files/certificate/000000000439/3bdd0bde92da412db7973664cbf61dd4/signed/1197_张惠姗_三等奖_7084.pdf"]
[1198,"P305219090984","光的反射","初中组","微课","三等奖","佛山市",{"$f":"VLOOKUP(B1200,'[1]002'!B:M,7,0)","v":"翁观容"},{"$f":"VLOOKUP(B1200,'[1]002'!B:M,8,0)","v":"佛山市南海区桂城街道文翰中学"},{"$f":"VLOOKUP(B1200,'[1]002'!B:M,11,0)","v":"-"},{"$f":"VLOOKUP(B1200,'[1]002'!B:M,12,0)","v":"-"},{"$f":"VLOOKUP(B1200,[2]sheet2!B:L,10,0)","v":"-"},{"$f":"VLOOKUP(B1200,[2]sheet2!B:L,11,0)","v":"-"},"http://183.62.54.51:8841/data/files/certificate/000000000439/e4e2628ec9b54cb3bc3b49c64791f942/signed/1198_翁观容_三等奖_7085.pdf"]
[1199,"P305219090987","大气压强","初中组","微课","三等奖","佛山市",{"$f":"VLOOKUP(B1201,'[1]002'!B:M,7,0)","v":"吴春梅"},{"$f":"VLOOKUP(B1201,'[1]002'!B:M,8,0)","v":"佛山市南海区里水镇和顺第一初级中学"},{"$f":"VLOOKUP(B1201,'[1]002'!B:M,11,0)","v":"-"},{"$f":"VLOOKUP(B1201,'[1]002'!B:M,12,0)","v":"-"},{"$f":"VLOOKUP(B1201,[2]sheet2!B:L,10,0)","v":"-"},{"$f":"VLOOKUP(B1201,[2]sheet2!B:L,11,0)","v":"-"},"http://183.62.54.51:8841/data/files/certificate/000000000439/996a70f709e843fe831fdab1fa48bc47/signed/1199_吴春梅_三等奖_7086.pdf"]
[1200,"P305219090997","二进制与十六进制之间的转换","初中组","微课","三等奖","佛山市",{"$f":"VLOOKUP(B1202,'[1]002'!B:M,7,0)","v":"张惠姗"},{"$f":"VLOOKUP(B1202,'[1]002'!B:M,8,0)","v":"佛山市顺德区容桂四基初级中学"},{"$f":"VLOOKUP(B1202,'[1]002'!B:M,11,0)","v":"-"},{"$f":"VLOOKUP(B1202,'[1]002'!B:M,12,0)","v":"-"},{"$f":"VLOOKUP(B1202,[2]sheet2!B:L,10,0)","v":"-"},{"$f":"VLOOKUP(B1202,[2]sheet2!B:L,11,0)","v":"-"},"http://183.62.54.51:8841/data/files/certificate/000000000439/f2ad70541e184bedb43d751e75e40aca/signed/1200_张惠姗_三等奖_7087.pdf"]
[1201,"P305219090999","Excel之Vlookup查找函数","初中组","微课","三等奖","佛山市",{"$f":"VLOOKUP(B1203,'[1]002'!B:M,7,0)","v":"李贵庭"},{"$f":"VLOOKUP(B1203,'[1]002'!B:M,8,0)","v":"佛山市顺德区梁开初级中学"},{"$f":"VLOOKUP(B1203,'[1]002'!B:M,11,0)","v":"-"},{"$f":"VLOOKUP(B1203,'[1]002'!B:M,12,0)","v":"-"},{"$f":"VLOOKUP(B1203,[2]sheet2!B:L,10,0)","v":"-"},{"$f":"VLOOKUP(B1203,[2]sheet2!B:L,11,0)","v":"-"},"http://183.62.54.51:8841/data/files/certificate/000000000439/7e9f29fd5b9b41b58cb7b9a4775992b2/signed/1201_李贵庭_三等奖_7088.pdf"]
[1202,"P305219090990","问路与指路","初中组","微课","三等奖","佛山市",{"$f":"VLOOKUP(B1204,'[1]002'!B:M,7,0)","v":"苏佩玲"},{"$f":"VLOOKUP(B1204,'[1]002'!B:M,8,0)","v":"佛山市南海区九江镇初级中学"},{"$f":"VLOOKUP(B1204,'[1]002'!B:M,11,0)","v":"-"},{"$f":"VLOOKUP(B1204,'[1]002'!B:M,12,0)","v":"-"},{"$f":"VLOOKUP(B1204,[2]sheet2!B:L,10,0)","v":"-"},{"$f":"VLOOKUP(B1204,[2]sheet2!B:L,11,0)","v":"-"},"http://183.62.54.51:8841/data/files/certificate/000000000439/ac321288282b456fb15ec84bf58f0cee/signed/1202_苏佩玲_三等奖_7089.pdf"]
[1203,"P305219090981","制作倒计时动画","初中组","微课","三等奖","佛山市",{"$f":"VLOOKUP(B1205,'[1]002'!B:M,7,0)","v":"黄韶君"},{"$f":"VLOOKUP(B1205,'[1]002'!B:M,8,0)","v":"佛山市第十四中学"},{"$f":"VLOOKUP(B1205,'[1]002'!B:M,11,0)","v":"-"},{"$f":"VLOOKUP(B1205,'[1]002'!B:M,12,0)","v":"-"},{"$f":"VLOOKUP(B1205,[2]sheet2!B:L,10,0)","v":"-"},{"$f":"VLOOKUP(B1205,[2]sheet2!B:L,11,0)","v":"-"},"http://183.62.54.51:8841/data/files/certificate/000000000439/0e11d48a4aaf41eb832998d770aa0b71/signed/1203_黄韶君_三等奖_7090.pdf"]
[1204,"P305219090996","小明哪去了等高线地形图判读","初中组","微课","三等奖","佛山市",{"$f":"VLOOKUP(B1206,'[1]002'!B:M,7,0)","v":"赖丽容"},{"$f":"VLOOKUP(B1206,'[1]002'!B:M,8,0)","v":"佛山市顺德区乐从沙滘初级中学"},{"$f":"VLOOKUP(B1206,'[1]002'!B:M,11,0)","v":"-"},{"$f":"VLOOKUP(B1206,'[1]002'!B:M,12,0)","v":"-"},{"$f":"VLOOKUP(B1206,[2]sheet2!B:L,10,0)","v":"-"},{"$f":"VLOOKUP(B1206,[2]sheet2!B:L,11,0)","v":"-"},"http://183.62.54.51:8841/data/files/certificate/000000000439/2605d984bee042e48a8b0ca16ba5395f/signed/1204_赖丽容_三等奖_7091.pdf"]
[1205,"P305219090976","DIY手工陶艺小花盆","初中组","微课","三等奖","佛山市",{"$f":"VLOOKUP(B1207,'[1]002'!B:M,7,0)","v":"罗欢喜"},{"$f":"VLOOKUP(B1207,'[1]002'!B:M,8,0)","v":"佛山市汾江中学"},{"$f":"VLOOKUP(B1207,'[1]002'!B:M,11,0)","v":"-"},{"$f":"VLOOKUP(B1207,'[1]002'!B:M,12,0)","v":"-"},{"$f":"VLOOKUP(B1207,[2]sheet2!B:L,10,0)","v":"-"},{"$f":"VLOOKUP(B1207,[2]sheet2!B:L,11,0)","v":"-"},"http://183.62.54.51:8841/data/files/certificate/000000000439/fa05307bd5354863829d9b3b6ac41668/signed/1205_罗欢喜_三等奖_7092.pdf"]
[1206,"P305219091003","情绪ABC理论","初中组","微课","三等奖","佛山市",{"$f":"VLOOKUP(B1208,'[1]002'!B:M,7,0)","v":"陈露"},{"$f":"VLOOKUP(B1208,'[1]002'!B:M,8,0)","v":"佛山市顺德区梁开初级中学"},{"$f":"VLOOKUP(B1208,'[1]002'!B:M,11,0)","v":"-"},{"$f":"VLOOKUP(B1208,'[1]002'!B:M,12,0)","v":"-"},{"$f":"VLOOKUP(B1208,[2]sheet2!B:L,10,0)","v":"-"},{"$f":"VLOOKUP(B1208,[2]sheet2!B:L,11,0)","v":"-"},"http://183.62.54.51:8841/data/files/certificate/000000000439/c9af995e3a60433cac0f57c408d10d70/signed/1206_陈露_三等奖_7093.pdf"]
[1207,"P305219090994","分式的乘除法","初中组","微课","三等奖","佛山市",{"$f":"VLOOKUP(B1209,'[1]002'!B:M,7,0)","v":"刘焕贞"},{"$f":"VLOOKUP(B1209,'[1]002'!B:M,8,0)","v":"佛山市禅城区张槎中学"},{"$f":"VLOOKUP(B1209,'[1]002'!B:M,11,0)","v":"-"},{"$f":"VLOOKUP(B1209,'[1]002'!B:M,12,0)","v":"-"},{"$f":"VLOOKUP(B1209,[2]sheet2!B:L,10,0)","v":"-"},{"$f":"VLOOKUP(B1209,[2]sheet2!B:L,11,0)","v":"-"},"http://183.62.54.51:8841/data/files/certificate/000000000439/eaadc75f3da94292a3cd80fbeb8172fe/signed/1207_刘焕贞_三等奖_7094.pdf"]
[1208,"P305219090973","利用控制变量法探究燃烧的条件","初中组","微课","三等奖","佛山市",{"$f":"VLOOKUP(B1210,'[1]002'!B:M,7,0)","v":"廖文凤"},{"$f":"VLOOKUP(B1210,'[1]002'!B:M,8,0)","v":"佛山市高明区荷城街道荷城中学"},{"$f":"VLOOKUP(B1210,'[1]002'!B:M,11,0)","v":"-"},{"$f":"VLOOKUP(B1210,'[1]002'!B:M,12,0)","v":"-"},{"$f":"VLOOKUP(B1210,[2]sheet2!B:L,10,0)","v":"-"},{"$f":"VLOOKUP(B1210,[2]sheet2!B:L,11,0)","v":"-"},"http://183.62.54.51:8841/data/files/certificate/000000000439/83b724b9e3484121a307e1c97e7a50dd/signed/1208_廖文凤_三等奖_7095.pdf"]
[1209,"P305219090995","八年级数学微课探索勾股定理","初中组","微课","三等奖","佛山市",{"$f":"VLOOKUP(B1211,'[1]002'!B:M,7,0)","v":"黄金雄"},{"$f":"VLOOKUP(B1211,'[1]002'!B:M,8,0)","v":"佛山市顺德区乐从沙滘初级中学"},{"$f":"VLOOKUP(B1211,'[1]002'!B:M,11,0)","v":"-"},{"$f":"VLOOKUP(B1211,'[1]002'!B:M,12,0)","v":"-"},{"$f":"VLOOKUP(B1211,[2]sheet2!B:L,10,0)","v":"-"},{"$f":"VLOOKUP(B1211,[2]sheet2!B:L,11,0)","v":"-"},"http://183.62.54.51:8841/data/files/certificate/000000000439/3d92ca7fa7ed4583a2a5058eba17e5f4/signed/1209_黄金雄_三等奖_7096.pdf"]
[1210,"P305219089911","SUMIF函数格式二的具体用法","初中组","微课","三等奖","韶关市",{"$f":"VLOOKUP(B1212,'[1]002'!B:M,7,0)","v":"石彩云"},{"$f":"VLOOKUP(B1212,'[1]002'!B:M,8,0)","v":"韶关市曲江区罗坑学校"},{"$f":"VLOOKUP(B1212,'[1]002'!B:M,11,0)","v":"-"},{"$f":"VLOOKUP(B1212,'[1]002'!B:M,12,0)","v":"-"},{"$f":"VLOOKUP(B1212,[2]sheet2!B:L,10,0)","v":"-"},{"$f":"VLOOKUP(B1212,[2]sheet2!B:L,11,0)","v":"-"},"http://183.62.54.51:8841/data/files/certificate/000000000439/ca35d15d67bb476bb772b6e03c22b09e/signed/1210_石彩云_三等奖_7097.pdf"]
[1211,"P305219090207","质量守恒定律","初中组","微课","三等奖","韶关市",{"$f":"VLOOKUP(B1213,'[1]002'!B:M,7,0)","v":"范梦珍"},{"$f":"VLOOKUP(B1213,'[1]002'!B:M,8,0)","v":"韶关市曲江初级中学"},{"$f":"VLOOKUP(B1213,'[1]002'!B:M,11,0)","v":"-"},{"$f":"VLOOKUP(B1213,'[1]002'!B:M,12,0)","v":"-"},{"$f":"VLOOKUP(B1213,[2]sheet2!B:L,10,0)","v":"-"},{"$f":"VLOOKUP(B1213,[2]sheet2!B:L,11,0)","v":"-"},"http://183.62.54.51:8841/data/files/certificate/000000000439/fa9a358e767a4d4e9c626d9f86698c35/signed/1211_范梦珍_三等奖_7098.pdf"]
[1212,"P305219087343","人称代词与物主代词","初中组","微课","三等奖","韶关市",{"$f":"VLOOKUP(B1214,'[1]002'!B:M,7,0)","v":"张靖岚"},{"$f":"VLOOKUP(B1214,'[1]002'!B:M,8,0)","v":"韶关市武江区龙归中学"},{"$f":"VLOOKUP(B1214,'[1]002'!B:M,11,0)","v":"潘高峰"},{"$f":"VLOOKUP(B1214,'[1]002'!B:M,12,0)","v":"韶关市第九中学"},{"$f":"VLOOKUP(B1214,[2]sheet2!B:L,10,0)","v":"-"},{"$f":"VLOOKUP(B1214,[2]sheet2!B:L,11,0)","v":"-"},"http://183.62.54.51:8841/data/files/certificate/000000000439/b4fe4d3ad3b94214b3334ae41f277cf8/signed/1212_张靖岚、潘高峰_三等奖_7099.pdf"]
[1213,"P305219090507","心脏的结构","初中组","微课","三等奖","韶关市",{"$f":"VLOOKUP(B1215,'[1]002'!B:M,7,0)","v":"叶月梅"},{"$f":"VLOOKUP(B1215,'[1]002'!B:M,8,0)","v":"韶关市曲江初级中学"},{"$f":"VLOOKUP(B1215,'[1]002'!B:M,11,0)","v":"-"},{"$f":"VLOOKUP(B1215,'[1]002'!B:M,12,0)","v":"-"},{"$f":"VLOOKUP(B1215,[2]sheet2!B:L,10,0)","v":"-"},{"$f":"VLOOKUP(B1215,[2]sheet2!B:L,11,0)","v":"-"},"http://183.62.54.51:8841/data/files/certificate/000000000439/2939679ec857432096eaa7dfd1d3e7ee/signed/1213_叶月梅_三等奖_7100.pdf"]
[1214,"P305219088425","溶液的形成","初中组","微课","三等奖","韶关市",{"$f":"VLOOKUP(B1216,'[1]002'!B:M,7,0)","v":"邱耀华"},{"$f":"VLOOKUP(B1216,'[1]002'!B:M,8,0)","v":"始兴县墨江中学"},{"$f":"VLOOKUP(B1216,'[1]002'!B:M,11,0)","v":"-"},{"$f":"VLOOKUP(B1216,'[1]002'!B:M,12,0)","v":"-"},{"$f":"VLOOKUP(B1216,[2]sheet2!B:L,10,0)","v":"-"},{"$f":"VLOOKUP(B1216,[2]sheet2!B:L,11,0)","v":"-"},"http://183.62.54.51:8841/data/files/certificate/000000000439/e898de56ecae47e7b0b1c05d9ab60d97/signed/1214_邱耀华_三等奖_7101.pdf"]
[1215,"P305219087969","微课：绝对值","初中组","微课","三等奖","韶关市",{"$f":"VLOOKUP(B1217,'[1]002'!B:M,7,0)","v":"钟艳琴"},{"$f":"VLOOKUP(B1217,'[1]002'!B:M,8,0)","v":"韶关市第十四中学"},{"$f":"VLOOKUP(B1217,'[1]002'!B:M,11,0)","v":"-"},{"$f":"VLOOKUP(B1217,'[1]002'!B:M,12,0)","v":"-"},{"$f":"VLOOKUP(B1217,[2]sheet2!B:L,10,0)","v":"-"},{"$f":"VLOOKUP(B1217,[2]sheet2!B:L,11,0)","v":"-"},"http://183.62.54.51:8841/data/files/certificate/000000000439/2246abab5080418a976b1d4772a492b0/signed/1215_钟艳琴_三等奖_7102.pdf"]
[1216,"P305219093382","VLOOKUP与HLOOKUP函数","初中组","微课","三等奖","河源市",{"$f":"VLOOKUP(B1218,'[1]002'!B:M,7,0)","v":"罗端娥"},{"$f":"VLOOKUP(B1218,'[1]002'!B:M,8,0)","v":"河源市第一中学"},{"$f":"VLOOKUP(B1218,'[1]002'!B:M,11,0)","v":"-"},{"$f":"VLOOKUP(B1218,'[1]002'!B:M,12,0)","v":"-"},{"$f":"VLOOKUP(B1218,[2]sheet2!B:L,10,0)","v":"-"},{"$f":"VLOOKUP(B1218,[2]sheet2!B:L,11,0)","v":"-"},"http://183.62.54.51:8841/data/files/certificate/000000000439/a806b4bfa1524ab6a4e694d2a003a506/signed/1216_罗端娥_三等奖_7103.pdf"]
[1217,"P305219093388","小火箭3D建模教学","初中组","微课","三等奖","河源市",{"$f":"VLOOKUP(B1219,'[1]002'!B:M,7,0)","v":"韩旭"},{"$f":"VLOOKUP(B1219,'[1]002'!B:M,8,0)","v":"河源市北大附属德爱国际学校"},{"$f":"VLOOKUP(B1219,'[1]002'!B:M,11,0)","v":"-"},{"$f":"VLOOKUP(B1219,'[1]002'!B:M,12,0)","v":"-"},{"$f":"VLOOKUP(B1219,[2]sheet2!B:L,10,0)","v":"-"},{"$f":"VLOOKUP(B1219,[2]sheet2!B:L,11,0)","v":"-"},"http://183.62.54.51:8841/data/files/certificate/000000000439/2a80a125c95c4ab7939b8dda7bdf6fb5/signed/1217_韩旭_三等奖_7104.pdf"]
[1218,"P305219093381","三角形的中线","初中组","微课","三等奖","河源市",{"$f":"VLOOKUP(B1220,'[1]002'!B:M,7,0)","v":"谢小丽"},{"$f":"VLOOKUP(B1220,'[1]002'!B:M,8,0)","v":"连平县绣缎中学"},{"$f":"VLOOKUP(B1220,'[1]002'!B:M,11,0)","v":"-"},{"$f":"VLOOKUP(B1220,'[1]002'!B:M,12,0)","v":"-"},{"$f":"VLOOKUP(B1220,[2]sheet2!B:L,10,0)","v":"-"},{"$f":"VLOOKUP(B1220,[2]sheet2!B:L,11,0)","v":"-"},"http://183.62.54.51:8841/data/files/certificate/000000000439/15416c3224ed4b0f8c048c9be30169fc/signed/1218_谢小丽_三等奖_7105.pdf"]
[1219,"P305219093386","洋务运动的评价","初中组","微课","三等奖","河源市",{"$f":"VLOOKUP(B1221,'[1]002'!B:M,7,0)","v":"李淑玲"},{"$f":"VLOOKUP(B1221,'[1]002'!B:M,8,0)","v":"东源县崇文学校"},{"$f":"VLOOKUP(B1221,'[1]002'!B:M,11,0)","v":"江龙"},{"$f":"VLOOKUP(B1221,'[1]002'!B:M,12,0)","v":"东源县崇文学校"},{"$f":"VLOOKUP(B1221,[2]sheet2!B:L,10,0)","v":"李雪峰"},{"$f":"VLOOKUP(B1221,[2]sheet2!B:L,11,0)","v":"东源县崇文学校"},"http://183.62.54.51:8841/data/files/certificate/000000000439/84f69ff599084ec8a6875c9980bd2771/signed/1219_李淑玲、江龙、李雪峰_三等奖_7106.pdf"]
[1220,"P305219080379","多情自古伤离别之谈古诗词送别意象","初中组","微课","三等奖","梅州市",{"$f":"VLOOKUP(B1222,'[1]002'!B:M,7,0)","v":"钟兰梅"},{"$f":"VLOOKUP(B1222,'[1]002'!B:M,8,0)","v":"梅州市学艺中学"},{"$f":"VLOOKUP(B1222,'[1]002'!B:M,11,0)","v":"-"},{"$f":"VLOOKUP(B1222,'[1]002'!B:M,12,0)","v":"-"},{"$f":"VLOOKUP(B1222,[2]sheet2!B:L,10,0)","v":"-"},{"$f":"VLOOKUP(B1222,[2]sheet2!B:L,11,0)","v":"-"},"http://183.62.54.51:8841/data/files/certificate/000000000439/84489f277b7b4ca8bf347dfb4811e0b9/signed/1220_钟兰梅_三等奖_7107.pdf"]
[1221,"P305219092127","滑动变阻器","初中组","微课","三等奖","惠州市",{"$f":"VLOOKUP(B1223,'[1]002'!B:M,7,0)","v":"叶盛枝"},{"$f":"VLOOKUP(B1223,'[1]002'!B:M,8,0)","v":"博罗县园洲中学"},{"$f":"VLOOKUP(B1223,'[1]002'!B:M,11,0)","v":"-"},{"$f":"VLOOKUP(B1223,'[1]002'!B:M,12,0)","v":"-"},{"$f":"VLOOKUP(B1223,[2]sheet2!B:L,10,0)","v":"-"},{"$f":"VLOOKUP(B1223,[2]sheet2!B:L,11,0)","v":"-"},"http://183.62.54.51:8841/data/files/certificate/000000000439/792bb595ef984297af9a0360045fb082/signed/1221_叶盛枝_三等奖_7108.pdf"]
[1222,"P305219092125","家庭电路","初中组","微课","三等奖","惠州市",{"$f":"VLOOKUP(B1224,'[1]002'!B:M,7,0)","v":"梁毅胜"},{"$f":"VLOOKUP(B1224,'[1]002'!B:M,8,0)","v":"博罗县园洲中学"},{"$f":"VLOOKUP(B1224,'[1]002'!B:M,11,0)","v":"-"},{"$f":"VLOOKUP(B1224,'[1]002'!B:M,12,0)","v":"-"},{"$f":"VLOOKUP(B1224,[2]sheet2!B:L,10,0)","v":"-"},{"$f":"VLOOKUP(B1224,[2]sheet2!B:L,11,0)","v":"-"},"http://183.62.54.51:8841/data/files/certificate/000000000439/737c38077acc41d387c86a1dea7647e0/signed/1222_梁毅胜_三等奖_7109.pdf"]
[1223,"P305219092237","七年级下册信息高效课堂总复习","初中组","微课","三等奖","惠州市",{"$f":"VLOOKUP(B1225,'[1]002'!B:M,7,0)","v":"刘范广"},{"$f":"VLOOKUP(B1225,'[1]002'!B:M,8,0)","v":"惠州市光正实验学校"},{"$f":"VLOOKUP(B1225,'[1]002'!B:M,11,0)","v":"-"},{"$f":"VLOOKUP(B1225,'[1]002'!B:M,12,0)","v":"-"},{"$f":"VLOOKUP(B1225,[2]sheet2!B:L,10,0)","v":"-"},{"$f":"VLOOKUP(B1225,[2]sheet2!B:L,11,0)","v":"-"},"http://183.62.54.51:8841/data/files/certificate/000000000439/9130e39f603c46cc9fa7edf592c87c21/signed/1223_刘范广_三等奖_7110.pdf"]
[1224,"P305219092238","表格的设计与制作","初中组","微课","三等奖","惠州市",{"$f":"VLOOKUP(B1226,'[1]002'!B:M,7,0)","v":"王志云"},{"$f":"VLOOKUP(B1226,'[1]002'!B:M,8,0)","v":"惠州市光正实验学校"},{"$f":"VLOOKUP(B1226,'[1]002'!B:M,11,0)","v":"-"},{"$f":"VLOOKUP(B1226,'[1]002'!B:M,12,0)","v":"-"},{"$f":"VLOOKUP(B1226,[2]sheet2!B:L,10,0)","v":"-"},{"$f":"VLOOKUP(B1226,[2]sheet2!B:L,11,0)","v":"-"},"http://183.62.54.51:8841/data/files/certificate/000000000439/7bb6a697233045cca4c41559f6a91b04/signed/1224_王志云_三等奖_7111.pdf"]
[1225,"P305219092382","化学方程式的配平方法最小公倍数法","初中组","微课","三等奖","汕尾市",{"$f":"VLOOKUP(B1227,'[1]002'!B:M,7,0)","v":"翁映芬"},{"$f":"VLOOKUP(B1227,'[1]002'!B:M,8,0)","v":"陆河县螺溪中学"},{"$f":"VLOOKUP(B1227,'[1]002'!B:M,11,0)","v":"-"},{"$f":"VLOOKUP(B1227,'[1]002'!B:M,12,0)","v":"-"},{"$f":"VLOOKUP(B1227,[2]sheet2!B:L,10,0)","v":"-"},{"$f":"VLOOKUP(B1227,[2]sheet2!B:L,11,0)","v":"-"},"http://183.62.54.51:8841/data/files/certificate/000000000439/579dd43e3017432883dd568f341f0afe/signed/1225_翁映芬_三等奖_7112.pdf"]
[1226,"P305219088640","摩擦力","初中组","微课","三等奖","中山市",{"$f":"VLOOKUP(B1228,'[1]002'!B:M,7,0)","v":"万来和"},{"$f":"VLOOKUP(B1228,'[1]002'!B:M,8,0)","v":"中山市石岐中学"},{"$f":"VLOOKUP(B1228,'[1]002'!B:M,11,0)","v":"-"},{"$f":"VLOOKUP(B1228,'[1]002'!B:M,12,0)","v":"-"},{"$f":"VLOOKUP(B1228,[2]sheet2!B:L,10,0)","v":"-"},{"$f":"VLOOKUP(B1228,[2]sheet2!B:L,11,0)","v":"-"},"http://183.62.54.51:8841/data/files/certificate/000000000439/6cce512897ef4182bfaa0671346e1ae3/signed/1226_万来和_三等奖_7113.pdf"]
[1227,"P305219088872","图层的概念和应用","初中组","微课","三等奖","中山市",{"$f":"VLOOKUP(B1229,'[1]002'!B:M,7,0)","v":"王怡涵"},{"$f":"VLOOKUP(B1229,'[1]002'!B:M,8,0)","v":"中山市坦洲实验中学"},{"$f":"VLOOKUP(B1229,'[1]002'!B:M,11,0)","v":"李思静"},{"$f":"VLOOKUP(B1229,'[1]002'!B:M,12,0)","v":"中山市坦洲中学"},{"$f":"VLOOKUP(B1229,[2]sheet2!B:L,10,0)","v":"-"},{"$f":"VLOOKUP(B1229,[2]sheet2!B:L,11,0)","v":"-"},"http://183.62.54.51:8841/data/files/certificate/000000000439/e6b6cf155cd944dcab48905c753df2b6/signed/1227_王怡涵、李思静_三等奖_7114.pdf"]
[1228,"P305219088657","观察叶片的结构","初中组","微课","三等奖","中山市",{"$f":"VLOOKUP(B1230,'[1]002'!B:M,7,0)","v":"梁朝文"},{"$f":"VLOOKUP(B1230,'[1]002'!B:M,8,0)","v":"中山市西区铁城初级中学"},{"$f":"VLOOKUP(B1230,'[1]002'!B:M,11,0)","v":"苏敏坚"},{"$f":"VLOOKUP(B1230,'[1]002'!B:M,12,0)","v":"中山市西区铁城初级中学"},{"$f":"VLOOKUP(B1230,[2]sheet2!B:L,10,0)","v":"-"},{"$f":"VLOOKUP(B1230,[2]sheet2!B:L,11,0)","v":"-"},"http://183.62.54.51:8841/data/files/certificate/000000000439/ffec746558d84aabb3fbcd0c3299eccf/signed/1228_梁朝文、苏敏坚_三等奖_7115.pdf"]
[1229,"P305219088275","程序的循环结构","初中组","微课","三等奖","中山市",{"$f":"VLOOKUP(B1231,'[1]002'!B:M,7,0)","v":"方琴"},{"$f":"VLOOKUP(B1231,'[1]002'!B:M,8,0)","v":"中山市北区中学"},{"$f":"VLOOKUP(B1231,'[1]002'!B:M,11,0)","v":"-"},{"$f":"VLOOKUP(B1231,'[1]002'!B:M,12,0)","v":"-"},{"$f":"VLOOKUP(B1231,[2]sheet2!B:L,10,0)","v":"-"},{"$f":"VLOOKUP(B1231,[2]sheet2!B:L,11,0)","v":"-"},"http://183.62.54.51:8841/data/files/certificate/000000000439/8c058862f2e0489c90c3a3639eaa9a66/signed/1229_方琴_三等奖_7116.pdf"]
[1230,"P305219090124","赏析孔乙己形象之矛盾性","初中组","微课","三等奖","中山市",{"$f":"VLOOKUP(B1232,'[1]002'!B:M,7,0)","v":"李松龄"},{"$f":"VLOOKUP(B1232,'[1]002'!B:M,8,0)","v":"中山市沙溪初级中学"},{"$f":"VLOOKUP(B1232,'[1]002'!B:M,11,0)","v":"-"},{"$f":"VLOOKUP(B1232,'[1]002'!B:M,12,0)","v":"-"},{"$f":"VLOOKUP(B1232,[2]sheet2!B:L,10,0)","v":"-"},{"$f":"VLOOKUP(B1232,[2]sheet2!B:L,11,0)","v":"-"},"http://183.62.54.51:8841/data/files/certificate/000000000439/6e1600d26acb4c218ee5dd47ca684cfd/signed/1230_李松龄_三等奖_7117.pdf"]
[1231,"P305219091819","形容词的比较级与最高级","初中组","微课","三等奖","江门市",{"$f":"VLOOKUP(B1233,'[1]002'!B:M,7,0)","v":"陈妙玲"},{"$f":"VLOOKUP(B1233,'[1]002'!B:M,8,0)","v":"江海区外海中学"},{"$f":"VLOOKUP(B1233,'[1]002'!B:M,11,0)","v":"-"},{"$f":"VLOOKUP(B1233,'[1]002'!B:M,12,0)","v":"-"},{"$f":"VLOOKUP(B1233,[2]sheet2!B:L,10,0)","v":"-"},{"$f":"VLOOKUP(B1233,[2]sheet2!B:L,11,0)","v":"-"},"http://183.62.54.51:8841/data/files/certificate/000000000439/1b2ec618aebe4f3aa44847e2d79578ac/signed/1231_陈妙玲_三等奖_7118.pdf"]
[1232,"P305219092072","How的感叹句","初中组","微课","三等奖","江门市",{"$f":"VLOOKUP(B1234,'[1]002'!B:M,7,0)","v":"胡锦清"},{"$f":"VLOOKUP(B1234,'[1]002'!B:M,8,0)","v":"江门市新会区沙堆镇梅阁学校"},{"$f":"VLOOKUP(B1234,'[1]002'!B:M,11,0)","v":"-"},{"$f":"VLOOKUP(B1234,'[1]002'!B:M,12,0)","v":"-"},{"$f":"VLOOKUP(B1234,[2]sheet2!B:L,10,0)","v":"-"},{"$f":"VLOOKUP(B1234,[2]sheet2!B:L,11,0)","v":"-"},"http://183.62.54.51:8841/data/files/certificate/000000000439/98049b18061f451195dc7319ee3abb48/signed/1232_胡锦清_三等奖_7119.pdf"]
[1233,"P305219092051","天气的表达","初中组","微课","三等奖","江门市",{"$f":"VLOOKUP(B1235,'[1]002'!B:M,7,0)","v":"罗丹"},{"$f":"VLOOKUP(B1235,'[1]002'!B:M,8,0)","v":"鹤山市桃源中学"},{"$f":"VLOOKUP(B1235,'[1]002'!B:M,11,0)","v":"-"},{"$f":"VLOOKUP(B1235,'[1]002'!B:M,12,0)","v":"-"},{"$f":"VLOOKUP(B1235,[2]sheet2!B:L,10,0)","v":"-"},{"$f":"VLOOKUP(B1235,[2]sheet2!B:L,11,0)","v":"-"},"http://183.62.54.51:8841/data/files/certificate/000000000439/89a36b922e5046c686e08fedb38f67da/signed/1233_罗丹_三等奖_7120.pdf"]
[1234,"P305219092073","质量守恒定律","初中组","微课","三等奖","江门市",{"$f":"VLOOKUP(B1236,'[1]002'!B:M,7,0)","v":"陈国荣"},{"$f":"VLOOKUP(B1236,'[1]002'!B:M,8,0)","v":"江门市新会区沙堆镇沙西初级中学"},{"$f":"VLOOKUP(B1236,'[1]002'!B:M,11,0)","v":"-"},{"$f":"VLOOKUP(B1236,'[1]002'!B:M,12,0)","v":"-"},{"$f":"VLOOKUP(B1236,[2]sheet2!B:L,10,0)","v":"-"},{"$f":"VLOOKUP(B1236,[2]sheet2!B:L,11,0)","v":"-"},"http://183.62.54.51:8841/data/files/certificate/000000000439/3ac30832236f43aa8b4baa37555d4536/signed/1234_陈国荣_三等奖_7121.pdf"]
[1235,"P305219092006","制作逐帧动画","初中组","微课","三等奖","江门市",{"$f":"VLOOKUP(B1237,'[1]002'!B:M,7,0)","v":"周裕德"},{"$f":"VLOOKUP(B1237,'[1]002'!B:M,8,0)","v":"开平市东河中学"},{"$f":"VLOOKUP(B1237,'[1]002'!B:M,11,0)","v":"张亦梁"},{"$f":"VLOOKUP(B1237,'[1]002'!B:M,12,0)","v":"开平市东河中学"},{"$f":"VLOOKUP(B1237,[2]sheet2!B:L,10,0)","v":"-"},{"$f":"VLOOKUP(B1237,[2]sheet2!B:L,11,0)","v":"-"},"http://183.62.54.51:8841/data/files/certificate/000000000439/3108bc1e50e64bedb956d2a6b6f22dad/signed/1235_周裕德、张亦梁_三等奖_7122.pdf"]
[1236,"P305219091774","电子相册","初中组","微课","三等奖","江门市",{"$f":"VLOOKUP(B1238,'[1]002'!B:M,7,0)","v":"杨坤"},{"$f":"VLOOKUP(B1238,'[1]002'!B:M,8,0)","v":"江门市蓬江区杜阮镇楼山初级中学"},{"$f":"VLOOKUP(B1238,'[1]002'!B:M,11,0)","v":"-"},{"$f":"VLOOKUP(B1238,'[1]002'!B:M,12,0)","v":"-"},{"$f":"VLOOKUP(B1238,[2]sheet2!B:L,10,0)","v":"-"},{"$f":"VLOOKUP(B1238,[2]sheet2!B:L,11,0)","v":"-"},"http://183.62.54.51:8841/data/files/certificate/000000000439/8de7663f64f545378ec88a1d64a0124e/signed/1236_杨坤_三等奖_7123.pdf"]
[1237,"P305219092052","点的坐标特点易错题专题","初中组","微课","三等奖","江门市",{"$f":"VLOOKUP(B1239,'[1]002'!B:M,7,0)","v":"邓小军"},{"$f":"VLOOKUP(B1239,'[1]002'!B:M,8,0)","v":"鹤山市桃源中学"},{"$f":"VLOOKUP(B1239,'[1]002'!B:M,11,0)","v":"-"},{"$f":"VLOOKUP(B1239,'[1]002'!B:M,12,0)","v":"-"},{"$f":"VLOOKUP(B1239,[2]sheet2!B:L,10,0)","v":"-"},{"$f":"VLOOKUP(B1239,[2]sheet2!B:L,11,0)","v":"-"},"http://183.62.54.51:8841/data/files/certificate/000000000439/8962e1ada83f4ce496fdc035f02922a8/signed/1237_邓小军_三等奖_7124.pdf"]
[1238,"P305219092956","多功能瓶的使用","初中组","微课","三等奖","湛江市",{"$f":"VLOOKUP(B1240,'[1]002'!B:M,7,0)","v":"李应育"},{"$f":"VLOOKUP(B1240,'[1]002'!B:M,8,0)","v":"岭南师范学院附属中学"},{"$f":"VLOOKUP(B1240,'[1]002'!B:M,11,0)","v":"-"},{"$f":"VLOOKUP(B1240,'[1]002'!B:M,12,0)","v":"-"},{"$f":"VLOOKUP(B1240,[2]sheet2!B:L,10,0)","v":"-"},{"$f":"VLOOKUP(B1240,[2]sheet2!B:L,11,0)","v":"-"},"http://183.62.54.51:8841/data/files/certificate/000000000439/02ad5b60df6d4427a0bbd7bbea2a4eac/signed/1238_李应育_三等奖_7125.pdf"]
[1239,"P305219092957","全等三角形","初中组","微课","三等奖","湛江市",{"$f":"VLOOKUP(B1241,'[1]002'!B:M,7,0)","v":"祝大兴"},{"$f":"VLOOKUP(B1241,'[1]002'!B:M,8,0)","v":"徐闻县锦和中学"},{"$f":"VLOOKUP(B1241,'[1]002'!B:M,11,0)","v":"-"},{"$f":"VLOOKUP(B1241,'[1]002'!B:M,12,0)","v":"-"},{"$f":"VLOOKUP(B1241,[2]sheet2!B:L,10,0)","v":"-"},{"$f":"VLOOKUP(B1241,[2]sheet2!B:L,11,0)","v":"-"},"http://183.62.54.51:8841/data/files/certificate/000000000439/3a39f2bdca49453cab570c944f9d3ae2/signed/1239_祝大兴_三等奖_7126.pdf"]
[1240,"P305219092955","用创新装置探究可燃物燃烧的条件","初中组","微课","三等奖","湛江市",{"$f":"VLOOKUP(B1242,'[1]002'!B:M,7,0)","v":"陈英珠"},{"$f":"VLOOKUP(B1242,'[1]002'!B:M,8,0)","v":"徐闻县西连中学"},{"$f":"VLOOKUP(B1242,'[1]002'!B:M,11,0)","v":"-"},{"$f":"VLOOKUP(B1242,'[1]002'!B:M,12,0)","v":"-"},{"$f":"VLOOKUP(B1242,[2]sheet2!B:L,10,0)","v":"-"},{"$f":"VLOOKUP(B1242,[2]sheet2!B:L,11,0)","v":"-"},"http://183.62.54.51:8841/data/files/certificate/000000000439/0cea023e83cd49ab81071b492eab56ae/signed/1240_陈英珠_三等奖_7127.pdf"]
[1241,"P305219092962","英语不定代词辨析another other the others","初中组","微课","三等奖","湛江市",{"$f":"VLOOKUP(B1243,'[1]002'!B:M,7,0)","v":"高筱婉"},{"$f":"VLOOKUP(B1243,'[1]002'!B:M,8,0)","v":"湛江市二中海东中学"},{"$f":"VLOOKUP(B1243,'[1]002'!B:M,11,0)","v":"-"},{"$f":"VLOOKUP(B1243,'[1]002'!B:M,12,0)","v":"-"},{"$f":"VLOOKUP(B1243,[2]sheet2!B:L,10,0)","v":"-"},{"$f":"VLOOKUP(B1243,[2]sheet2!B:L,11,0)","v":"-"},"http://183.62.54.51:8841/data/files/certificate/000000000439/1acae32abe7b48ce9b0b492e95870eb6/signed/1241_高筱婉_三等奖_7128.pdf"]
[1242,"P305219092958","一般现在时","初中组","微课","三等奖","湛江市",{"$f":"VLOOKUP(B1244,'[1]002'!B:M,7,0)","v":"周雯静"},{"$f":"VLOOKUP(B1244,'[1]002'!B:M,8,0)","v":"湛江市二中海东中学"},{"$f":"VLOOKUP(B1244,'[1]002'!B:M,11,0)","v":"-"},{"$f":"VLOOKUP(B1244,'[1]002'!B:M,12,0)","v":"-"},{"$f":"VLOOKUP(B1244,[2]sheet2!B:L,10,0)","v":"-"},{"$f":"VLOOKUP(B1244,[2]sheet2!B:L,11,0)","v":"-"},"http://183.62.54.51:8841/data/files/certificate/000000000439/f57c1d3ac5754a25bf7cc264d4d73e2d/signed/1242_周雯静_三等奖_7129.pdf"]
[1243,"P305219091406","现在完成时have been与have gone的区别","初中组","微课","三等奖","茂名市",{"$f":"VLOOKUP(B1245,'[1]002'!B:M,7,0)","v":"余夏竹"},{"$f":"VLOOKUP(B1245,'[1]002'!B:M,8,0)","v":"茂名市启源中学"},{"$f":"VLOOKUP(B1245,'[1]002'!B:M,11,0)","v":"-"},{"$f":"VLOOKUP(B1245,'[1]002'!B:M,12,0)","v":"-"},{"$f":"VLOOKUP(B1245,[2]sheet2!B:L,10,0)","v":"-"},{"$f":"VLOOKUP(B1245,[2]sheet2!B:L,11,0)","v":"-"},"http://183.62.54.51:8841/data/files/certificate/000000000439/07474bbf8dcf4aac8327695728b5370f/signed/1243_余夏竹_三等奖_7130.pdf"]
[1244,"P305219091304","二氧化碳实验室制取装置的研究","初中组","微课","三等奖","茂名市",{"$f":"VLOOKUP(B1246,'[1]002'!B:M,7,0)","v":"梁明珠"},{"$f":"VLOOKUP(B1246,'[1]002'!B:M,8,0)","v":"茂名市新世纪学校"},{"$f":"VLOOKUP(B1246,'[1]002'!B:M,11,0)","v":"-"},{"$f":"VLOOKUP(B1246,'[1]002'!B:M,12,0)","v":"-"},{"$f":"VLOOKUP(B1246,[2]sheet2!B:L,10,0)","v":"-"},{"$f":"VLOOKUP(B1246,[2]sheet2!B:L,11,0)","v":"-"},"http://183.62.54.51:8841/data/files/certificate/000000000439/06833d11bcfd49b08fd80967701ee113/signed/1244_梁明珠_三等奖_7131.pdf"]
[1245,"P305219091305","正确认识性别角色","初中组","微课","三等奖","茂名市",{"$f":"VLOOKUP(B1247,'[1]002'!B:M,7,0)","v":"颜芸"},{"$f":"VLOOKUP(B1247,'[1]002'!B:M,8,0)","v":"茂名市博雅中学"},{"$f":"VLOOKUP(B1247,'[1]002'!B:M,11,0)","v":"-"},{"$f":"VLOOKUP(B1247,'[1]002'!B:M,12,0)","v":"-"},{"$f":"VLOOKUP(B1247,[2]sheet2!B:L,10,0)","v":"-"},{"$f":"VLOOKUP(B1247,[2]sheet2!B:L,11,0)","v":"-"},"http://183.62.54.51:8841/data/files/certificate/000000000439/db88aaef857d44c0b407a6a790a5045a/signed/1245_颜芸_三等奖_7132.pdf"]
[1246,"P305219091537","PPT特效字的制作","初中组","微课","三等奖","茂名市",{"$f":"VLOOKUP(B1248,'[1]002'!B:M,7,0)","v":"莫柳咏"},{"$f":"VLOOKUP(B1248,'[1]002'!B:M,8,0)","v":"茂名市第十中学"},{"$f":"VLOOKUP(B1248,'[1]002'!B:M,11,0)","v":"柯宇媚"},{"$f":"VLOOKUP(B1248,'[1]002'!B:M,12,0)","v":"化州市中垌镇杨充小学"},{"$f":"VLOOKUP(B1248,[2]sheet2!B:L,10,0)","v":"-"},{"$f":"VLOOKUP(B1248,[2]sheet2!B:L,11,0)","v":"-"},"http://183.62.54.51:8841/data/files/certificate/000000000439/a887c72253aa4a6486fdb94c8f83dbf2/signed/1246_莫柳咏、柯宇媚_三等奖_7133.pdf"]
[1247,"P305219091206","用电能表测量电功","初中组","微课","三等奖","肇庆市",{"$f":"VLOOKUP(B1249,'[1]002'!B:M,7,0)","v":"王永贵"},{"$f":"VLOOKUP(B1249,'[1]002'!B:M,8,0)","v":"鼎湖区广利街道办事处广利初级中学"},{"$f":"VLOOKUP(B1249,'[1]002'!B:M,11,0)","v":"-"},{"$f":"VLOOKUP(B1249,'[1]002'!B:M,12,0)","v":"-"},{"$f":"VLOOKUP(B1249,[2]sheet2!B:L,10,0)","v":"-"},{"$f":"VLOOKUP(B1249,[2]sheet2!B:L,11,0)","v":"-"},"http://183.62.54.51:8841/data/files/certificate/000000000439/dbe24f9b55314c9bb1870bf810b2ddeb/signed/1247_王永贵_三等奖_7134.pdf"]
[1248,"P305219089862","DNA的家庭简易粗提取","初中组","微课","三等奖","肇庆市",{"$f":"VLOOKUP(B1250,'[1]002'!B:M,7,0)","v":"陈梅生"},{"$f":"VLOOKUP(B1250,'[1]002'!B:M,8,0)","v":"肇庆高新技术产业开发区大旺中学"},{"$f":"VLOOKUP(B1250,'[1]002'!B:M,11,0)","v":"-"},{"$f":"VLOOKUP(B1250,'[1]002'!B:M,12,0)","v":"-"},{"$f":"VLOOKUP(B1250,[2]sheet2!B:L,10,0)","v":"-"},{"$f":"VLOOKUP(B1250,[2]sheet2!B:L,11,0)","v":"-"},"http://183.62.54.51:8841/data/files/certificate/000000000439/ba9f46a74fcd49ef849f4ad5fb742f23/signed/1248_陈梅生_三等奖_7135.pdf"]
[1249,"P305219091643","一次函数的性质之增减性","初中组","微课","三等奖","清远市",{"$f":"VLOOKUP(B1251,'[1]002'!B:M,7,0)","v":"朱光睿"},{"$f":"VLOOKUP(B1251,'[1]002'!B:M,8,0)","v":"英德市第一小学"},{"$f":"VLOOKUP(B1251,'[1]002'!B:M,11,0)","v":"-"},{"$f":"VLOOKUP(B1251,'[1]002'!B:M,12,0)","v":"-"},{"$f":"VLOOKUP(B1251,[2]sheet2!B:L,10,0)","v":"-"},{"$f":"VLOOKUP(B1251,[2]sheet2!B:L,11,0)","v":"-"},"http://183.62.54.51:8841/data/files/certificate/000000000439/e4bbf21361714e1e8cc3338e52135461/signed/1249_朱光睿_三等奖_7136.pdf"]
[1250,"P305219091641","仁爱七年级英语There_be句型微课","初中组","微课","三等奖","清远市",{"$f":"VLOOKUP(B1252,'[1]002'!B:M,7,0)","v":"吴丽芳"},{"$f":"VLOOKUP(B1252,'[1]002'!B:M,8,0)","v":"连州市北山中学"},{"$f":"VLOOKUP(B1252,'[1]002'!B:M,11,0)","v":"-"},{"$f":"VLOOKUP(B1252,'[1]002'!B:M,12,0)","v":"-"},{"$f":"VLOOKUP(B1252,[2]sheet2!B:L,10,0)","v":"-"},{"$f":"VLOOKUP(B1252,[2]sheet2!B:L,11,0)","v":"-"},"http://183.62.54.51:8841/data/files/certificate/000000000439/8f6ded20d9524f7e8bb5f93c858b7060/signed/1250_吴丽芳_三等奖_7137.pdf"]
[1251,"P305219091644","用flash软件画画之几何造型法","初中组","微课","三等奖","清远市",{"$f":"VLOOKUP(B1253,'[1]002'!B:M,7,0)","v":"熊华英"},{"$f":"VLOOKUP(B1253,'[1]002'!B:M,8,0)","v":"连州市北山中学"},{"$f":"VLOOKUP(B1253,'[1]002'!B:M,11,0)","v":"-"},{"$f":"VLOOKUP(B1253,'[1]002'!B:M,12,0)","v":"-"},{"$f":"VLOOKUP(B1253,[2]sheet2!B:L,10,0)","v":"-"},{"$f":"VLOOKUP(B1253,[2]sheet2!B:L,11,0)","v":"-"},"http://183.62.54.51:8841/data/files/certificate/000000000439/ce69b30d8bdd4c83aec1462725688209/signed/1251_熊华英_三等奖_7138.pdf"]
[1252,"P305219091647","For循环语句画多边形","初中组","微课","三等奖","清远市",{"$f":"VLOOKUP(B1254,'[1]002'!B:M,7,0)","v":"欧少平"},{"$f":"VLOOKUP(B1254,'[1]002'!B:M,8,0)","v":"连州市慧光中学"},{"$f":"VLOOKUP(B1254,'[1]002'!B:M,11,0)","v":"-"},{"$f":"VLOOKUP(B1254,'[1]002'!B:M,12,0)","v":"-"},{"$f":"VLOOKUP(B1254,[2]sheet2!B:L,10,0)","v":"-"},{"$f":"VLOOKUP(B1254,[2]sheet2!B:L,11,0)","v":"-"},"http://183.62.54.51:8841/data/files/certificate/000000000439/26c9d67fea6b4a19b2c6ed2f396951fd/signed/1252_欧少平_三等奖_7139.pdf"]
[1253,"P305219079876","元素周期表","初中组","微课","三等奖","潮州市",{"$f":"VLOOKUP(B1255,'[1]002'!B:M,7,0)","v":"洪彦芬"},{"$f":"VLOOKUP(B1255,'[1]002'!B:M,8,0)","v":"潮州市枫溪区云光中学"},{"$f":"VLOOKUP(B1255,'[1]002'!B:M,11,0)","v":"-"},{"$f":"VLOOKUP(B1255,'[1]002'!B:M,12,0)","v":"-"},{"$f":"VLOOKUP(B1255,[2]sheet2!B:L,10,0)","v":"-"},{"$f":"VLOOKUP(B1255,[2]sheet2!B:L,11,0)","v":"-"},"http://183.62.54.51:8841/data/files/certificate/000000000439/93ca195ebae04e4d8e12e6ca7c51fb83/signed/1253_洪彦芬_三等奖_7140.pdf"]
[1254,"P305219079501","复分解反应","初中组","微课","三等奖","潮州市",{"$f":"VLOOKUP(B1256,'[1]002'!B:M,7,0)","v":"韦泽文"},{"$f":"VLOOKUP(B1256,'[1]002'!B:M,8,0)","v":"潮州市湘桥区开元初级中学"},{"$f":"VLOOKUP(B1256,'[1]002'!B:M,11,0)","v":"-"},{"$f":"VLOOKUP(B1256,'[1]002'!B:M,12,0)","v":"-"},{"$f":"VLOOKUP(B1256,[2]sheet2!B:L,10,0)","v":"-"},{"$f":"VLOOKUP(B1256,[2]sheet2!B:L,11,0)","v":"-"},"http://183.62.54.51:8841/data/files/certificate/000000000439/726ef4dcc2c141eca7d73b23ea48d8b8/signed/1254_韦泽文_三等奖_7141.pdf"]
[1255,"P305219080213","青春的情绪","初中组","微课","三等奖","潮州市",{"$f":"VLOOKUP(B1257,'[1]002'!B:M,7,0)","v":"蔡玫苹"},{"$f":"VLOOKUP(B1257,'[1]002'!B:M,8,0)","v":"龙溪中学"},{"$f":"VLOOKUP(B1257,'[1]002'!B:M,11,0)","v":"-"},{"$f":"VLOOKUP(B1257,'[1]002'!B:M,12,0)","v":"-"},{"$f":"VLOOKUP(B1257,[2]sheet2!B:L,10,0)","v":"-"},{"$f":"VLOOKUP(B1257,[2]sheet2!B:L,11,0)","v":"-"},"http://183.62.54.51:8841/data/files/certificate/000000000439/e76698b88fae41c2995df61a145f6f15/signed/1255_蔡玫苹_三等奖_7142.pdf"]
[1256,"P305219088887","体操—前滚翻","初中组","微课","三等奖","云浮市",{"$f":"VLOOKUP(B1258,'[1]002'!B:M,7,0)","v":"陈金海"},{"$f":"VLOOKUP(B1258,'[1]002'!B:M,8,0)","v":"云浮市云安区白石镇中学"},{"$f":"VLOOKUP(B1258,'[1]002'!B:M,11,0)","v":"-"},{"$f":"VLOOKUP(B1258,'[1]002'!B:M,12,0)","v":"-"},{"$f":"VLOOKUP(B1258,[2]sheet2!B:L,10,0)","v":"-"},{"$f":"VLOOKUP(B1258,[2]sheet2!B:L,11,0)","v":"-"},"http://183.62.54.51:8841/data/files/certificate/000000000439/f034f62b623a47dab947d24a56e72bff/signed/1256_陈金海_三等奖_7143.pdf"]
[1257,"P305219081087","心脏结构模式图","初中组","微课","三等奖","云浮市",{"$f":"VLOOKUP(B1259,'[1]002'!B:M,7,0)","v":"龙智良"},{"$f":"VLOOKUP(B1259,'[1]002'!B:M,8,0)","v":"新兴县蚕岗中学"},{"$f":"VLOOKUP(B1259,'[1]002'!B:M,11,0)","v":"-"},{"$f":"VLOOKUP(B1259,'[1]002'!B:M,12,0)","v":"-"},{"$f":"VLOOKUP(B1259,[2]sheet2!B:L,10,0)","v":"-"},{"$f":"VLOOKUP(B1259,[2]sheet2!B:L,11,0)","v":"-"},"http://183.62.54.51:8841/data/files/certificate/000000000439/6adb0c36758a412a8872c99464d02e6a/signed/1257_龙智良_三等奖_7144.pdf"]
[1258,"P305219079801","着装礼仪","初中组","微课","三等奖","云浮市",{"$f":"VLOOKUP(B1260,'[1]002'!B:M,7,0)","v":"黄宇明"},{"$f":"VLOOKUP(B1260,'[1]002'!B:M,8,0)","v":"罗定市廷锴纪念中学"},{"$f":"VLOOKUP(B1260,'[1]002'!B:M,11,0)","v":"-"},{"$f":"VLOOKUP(B1260,'[1]002'!B:M,12,0)","v":"-"},{"$f":"VLOOKUP(B1260,[2]sheet2!B:L,10,0)","v":"-"},{"$f":"VLOOKUP(B1260,[2]sheet2!B:L,11,0)","v":"-"},"http://183.62.54.51:8841/data/files/certificate/000000000439/16219e3dc28f449d9c099a72589058e0/signed/1258_黄宇明_三等奖_7145.pdf"]
[1259,"P305219080011","练习制取酸碱指示剂","初中组","微课","三等奖","云浮市",{"$f":"VLOOKUP(B1261,'[1]002'!B:M,7,0)","v":"欧东海"},{"$f":"VLOOKUP(B1261,'[1]002'!B:M,8,0)","v":"新兴县六祖镇集成中学"},{"$f":"VLOOKUP(B1261,'[1]002'!B:M,11,0)","v":"陈小云"},{"$f":"VLOOKUP(B1261,'[1]002'!B:M,12,0)","v":"新兴县六祖镇集成中学"},{"$f":"VLOOKUP(B1261,[2]sheet2!B:L,10,0)","v":"-"},{"$f":"VLOOKUP(B1261,[2]sheet2!B:L,11,0)","v":"-"},"http://183.62.54.51:8841/data/files/certificate/000000000439/02708cdc0c9f4ec099009447f97eab21/signed/1259_欧东海、陈小云_三等奖_7146.pdf"]
[1260,"P307219092671","幽默智慧的漫画","初中组","信息技术创新教学案例","三等奖","深圳市",{"$f":"VLOOKUP(B1262,'[1]002'!B:M,7,0)","v":"罗晓倩"},{"$f":"VLOOKUP(B1262,'[1]002'!B:M,8,0)","v":"深圳市光明区李松蓢学校"},{"$f":"VLOOKUP(B1262,'[1]002'!B:M,11,0)","v":"-"},{"$f":"VLOOKUP(B1262,'[1]002'!B:M,12,0)","v":"-"},{"$f":"VLOOKUP(B1262,[2]sheet2!B:L,10,0)","v":"-"},{"$f":"VLOOKUP(B1262,[2]sheet2!B:L,11,0)","v":"-"},"http://183.62.54.51:8841/data/files/certificate/000000000439/198a0c003c6641319126dcf9a2a0004c/signed/1260_罗晓倩_三等奖_7147.pdf"]
[1261,"P307219092673","制作楼道自动感应灯","初中组","信息技术创新教学案例","三等奖","深圳市",{"$f":"VLOOKUP(B1263,'[1]002'!B:M,7,0)","v":"张鸿斌"},{"$f":"VLOOKUP(B1263,'[1]002'!B:M,8,0)","v":"坪山区坪山中学"},{"$f":"VLOOKUP(B1263,'[1]002'!B:M,11,0)","v":"-"},{"$f":"VLOOKUP(B1263,'[1]002'!B:M,12,0)","v":"-"},{"$f":"VLOOKUP(B1263,[2]sheet2!B:L,10,0)","v":"-"},{"$f":"VLOOKUP(B1263,[2]sheet2!B:L,11,0)","v":"-"},"http://183.62.54.51:8841/data/files/certificate/000000000439/669c550af7ac41ad95f026c0983e1fd7/signed/1261_张鸿斌_三等奖_7148.pdf"]
[1262,"P307219089601","寻找站牌","初中组","信息技术创新教学案例","三等奖","珠海市",{"$f":"VLOOKUP(B1264,'[1]002'!B:M,7,0)","v":"朱志"},{"$f":"VLOOKUP(B1264,'[1]002'!B:M,8,0)","v":"珠海市第九中学"},{"$f":"VLOOKUP(B1264,'[1]002'!B:M,11,0)","v":"-"},{"$f":"VLOOKUP(B1264,'[1]002'!B:M,12,0)","v":"-"},{"$f":"VLOOKUP(B1264,[2]sheet2!B:L,10,0)","v":"-"},{"$f":"VLOOKUP(B1264,[2]sheet2!B:L,11,0)","v":"-"},"http://183.62.54.51:8841/data/files/certificate/000000000439/104f4249852a4c64a1643fa8ee9875be/signed/1262_朱志_三等奖_7149.pdf"]
[1263,"P307219090970","打造自己的LED屏","初中组","信息技术创新教学案例","三等奖","佛山市",{"$f":"VLOOKUP(B1265,'[1]002'!B:M,7,0)","v":"伍贵强"},{"$f":"VLOOKUP(B1265,'[1]002'!B:M,8,0)","v":"佛山市顺德区杏坛梁銶琚初级中学"},{"$f":"VLOOKUP(B1265,'[1]002'!B:M,11,0)","v":"林达春"},{"$f":"VLOOKUP(B1265,'[1]002'!B:M,12,0)","v":"佛山市顺德区杏坛梁銶琚初级中学"},{"$f":"VLOOKUP(B1265,[2]sheet2!B:L,10,0)","v":"张婷婷"},{"$f":"VLOOKUP(B1265,[2]sheet2!B:L,11,0)","v":"佛山市顺德区杏坛镇林文恩初级中学"},"http://183.62.54.51:8841/data/files/certificate/000000000439/55bece11e8ed406db1c2f0bde62cdfa4/signed/1263_伍贵强、林达春、张婷婷_三等奖_7150.pdf"]
[1264,"P307219090964","滚水珠","初中组","信息技术创新教学案例","三等奖","佛山市",{"$f":"VLOOKUP(B1266,'[1]002'!B:M,7,0)","v":"杨观明"},{"$f":"VLOOKUP(B1266,'[1]002'!B:M,8,0)","v":"佛山市顺德区伦教周君令中学"},{"$f":"VLOOKUP(B1266,'[1]002'!B:M,11,0)","v":"-"},{"$f":"VLOOKUP(B1266,'[1]002'!B:M,12,0)","v":"-"},{"$f":"VLOOKUP(B1266,[2]sheet2!B:L,10,0)","v":"-"},{"$f":"VLOOKUP(B1266,[2]sheet2!B:L,11,0)","v":"-"},"http://183.62.54.51:8841/data/files/certificate/000000000439/5eb4002953884816b706aa49d03672ef/signed/1264_杨观明_三等奖_7151.pdf"]
[1265,"P307219090963","人人都是产品经理","初中组","信息技术创新教学案例","三等奖","佛山市",{"$f":"VLOOKUP(B1267,'[1]002'!B:M,7,0)","v":"张勇"},{"$f":"VLOOKUP(B1267,'[1]002'!B:M,8,0)","v":"佛山市顺德区乐从大墩初级中学"},{"$f":"VLOOKUP(B1267,'[1]002'!B:M,11,0)","v":"-"},{"$f":"VLOOKUP(B1267,'[1]002'!B:M,12,0)","v":"-"},{"$f":"VLOOKUP(B1267,[2]sheet2!B:L,10,0)","v":"-"},{"$f":"VLOOKUP(B1267,[2]sheet2!B:L,11,0)","v":"-"},"http://183.62.54.51:8841/data/files/certificate/000000000439/dc8e66a8c84a41aeb34ebe2d3cce6562/signed/1265_张勇_三等奖_7152.pdf"]
[1266,"P307219090969","利用三角形全等测距离","初中组","信息技术创新教学案例","三等奖","佛山市",{"$f":"VLOOKUP(B1268,'[1]002'!B:M,7,0)","v":"陈波"},{"$f":"VLOOKUP(B1268,'[1]002'!B:M,8,0)","v":"佛山市顺德区容桂兴华初级中学"},{"$f":"VLOOKUP(B1268,'[1]002'!B:M,11,0)","v":"张焜懿"},{"$f":"VLOOKUP(B1268,'[1]002'!B:M,12,0)","v":"佛山市顺德区容桂兴华初级中学"},{"$f":"VLOOKUP(B1268,[2]sheet2!B:L,10,0)","v":"-"},{"$f":"VLOOKUP(B1268,[2]sheet2!B:L,11,0)","v":"-"},"http://183.62.54.51:8841/data/files/certificate/000000000439/d6bc2f282fec409a937656df23aa685f/signed/1266_陈波、张焜懿_三等奖_7153.pdf"]
[1267,"P307219093374","微课在初中信息技术教学中有效运用的案例研究信息","初中组","信息技术创新教学案例","三等奖","河源市",{"$f":"VLOOKUP(B1269,'[1]002'!B:M,7,0)","v":"张蓉"},{"$f":"VLOOKUP(B1269,'[1]002'!B:M,8,0)","v":"东源县崇文学校"},{"$f":"VLOOKUP(B1269,'[1]002'!B:M,11,0)","v":"-"},{"$f":"VLOOKUP(B1269,'[1]002'!B:M,12,0)","v":"-"},{"$f":"VLOOKUP(B1269,[2]sheet2!B:L,10,0)","v":"-"},{"$f":"VLOOKUP(B1269,[2]sheet2!B:L,11,0)","v":"-"},"http://183.62.54.51:8841/data/files/certificate/000000000439/b0b4039e3adf4a1e96f05f78ed5fe6f7/signed/1267_张蓉_三等奖_7154.pdf"]
[1268,"P307219092831","信息技术八年级下册第六课设计图案","初中组","信息技术创新教学案例","三等奖","东莞市",{"$f":"VLOOKUP(B1270,'[1]002'!B:M,7,0)","v":"梁雪梅"},{"$f":"VLOOKUP(B1270,'[1]002'!B:M,8,0)","v":"东莞市南城阳光实验中学"},{"$f":"VLOOKUP(B1270,'[1]002'!B:M,11,0)","v":"-"},{"$f":"VLOOKUP(B1270,'[1]002'!B:M,12,0)","v":"-"},{"$f":"VLOOKUP(B1270,[2]sheet2!B:L,10,0)","v":"-"},{"$f":"VLOOKUP(B1270,[2]sheet2!B:L,11,0)","v":"-"},"http://183.62.54.51:8841/data/files/certificate/000000000439/097039a5383949daac6803fa80a16a7a/signed/1268_梁雪梅_三等奖_7155.pdf"]
[1269,"P307219092829","AR演绎中国的地形地势","初中组","信息技术创新教学案例","三等奖","东莞市",{"$f":"VLOOKUP(B1271,'[1]002'!B:M,7,0)","v":"邱丽云"},{"$f":"VLOOKUP(B1271,'[1]002'!B:M,8,0)","v":"东莞市松山湖实验中学"},{"$f":"VLOOKUP(B1271,'[1]002'!B:M,11,0)","v":"-"},{"$f":"VLOOKUP(B1271,'[1]002'!B:M,12,0)","v":"-"},{"$f":"VLOOKUP(B1271,[2]sheet2!B:L,10,0)","v":"-"},{"$f":"VLOOKUP(B1271,[2]sheet2!B:L,11,0)","v":"-"},"http://183.62.54.51:8841/data/files/certificate/000000000439/8995e112ba004e4da72ed4a8a266a84b/signed/1269_邱丽云_三等奖_7156.pdf"]
[1270,"P307219088204","超声波测距","初中组","信息技术创新教学案例","三等奖","中山市",{"$f":"VLOOKUP(B1272,'[1]002'!B:M,7,0)","v":"邱亚辉"},{"$f":"VLOOKUP(B1272,'[1]002'!B:M,8,0)","v":"中山市东凤中学"},{"$f":"VLOOKUP(B1272,'[1]002'!B:M,11,0)","v":"-"},{"$f":"VLOOKUP(B1272,'[1]002'!B:M,12,0)","v":"-"},{"$f":"VLOOKUP(B1272,[2]sheet2!B:L,10,0)","v":"-"},{"$f":"VLOOKUP(B1272,[2]sheet2!B:L,11,0)","v":"-"},"http://183.62.54.51:8841/data/files/certificate/000000000439/f3e941ea12f14a53bbea28c2252fb55b/signed/1270_邱亚辉_三等奖_7157.pdf"]
[1271,"P307219090391","智慧校园之初中在线数学","初中组","教师网络空间应用案例","三等奖","珠海市",{"$f":"VLOOKUP(B1273,'[1]002'!B:M,7,0)","v":"姚敏"},{"$f":"VLOOKUP(B1273,'[1]002'!B:M,8,0)","v":"珠海市第九中学"},{"$f":"VLOOKUP(B1273,'[1]002'!B:M,11,0)","v":"-"},{"$f":"VLOOKUP(B1273,'[1]002'!B:M,12,0)","v":"-"},{"$f":"VLOOKUP(B1273,[2]sheet2!B:L,10,0)","v":"-"},{"$f":"VLOOKUP(B1273,[2]sheet2!B:L,11,0)","v":"-"},"http://183.62.54.51:8841/data/files/certificate/000000000439/aa8f0d6223dc4b1295dccbd837053cf6/signed/1271_姚敏_三等奖_7158.pdf"]
[1272,"P301219091913","智慧实验云","初中组","教师网络空间应用案例","三等奖","汕头市",{"$f":"VLOOKUP(B1274,'[1]002'!B:M,7,0)","v":"陈俊雄"},{"$f":"VLOOKUP(B1274,'[1]002'!B:M,8,0)","v":"汕头市潮南区司马浦大布初级中学"},{"$f":"VLOOKUP(B1274,'[1]002'!B:M,11,0)","v":"-"},{"$f":"VLOOKUP(B1274,'[1]002'!B:M,12,0)","v":"-"},{"$f":"VLOOKUP(B1274,[2]sheet2!B:L,10,0)","v":"-"},{"$f":"VLOOKUP(B1274,[2]sheet2!B:L,11,0)","v":"-"},"http://183.62.54.51:8841/data/files/certificate/000000000439/d5ad2b35121545cd8ee642d5f2477cb7/signed/1272_陈俊雄_三等奖_7159.pdf"]
[1273,"P301219092837","自媒体下的湖景微信公众平台运行及教育教学效果探究","初中组","教师网络空间应用案例","三等奖","东莞市",{"$f":"VLOOKUP(B1275,'[1]002'!B:M,7,0)","v":"钟浩然"},{"$f":"VLOOKUP(B1275,'[1]002'!B:M,8,0)","v":"东莞市厚街湖景中学"},{"$f":"VLOOKUP(B1275,'[1]002'!B:M,11,0)","v":"曾维贵"},{"$f":"VLOOKUP(B1275,'[1]002'!B:M,12,0)","v":"东莞市厚街湖景中学"},{"$f":"VLOOKUP(B1275,[2]sheet2!B:L,10,0)","v":"李小玲"},{"$f":"VLOOKUP(B1275,[2]sheet2!B:L,11,0)","v":"东莞市厚街湖景中学"},"http://183.62.54.51:8841/data/files/certificate/000000000439/ff184c103310473ba93dd4a55a2680c3/signed/1273_钟浩然、曾维贵、李小玲_三等奖_7160.pdf"]
[1274,"P301219090145","舞动群文穿越时空","初中组","教师网络空间应用案例","三等奖","中山市",{"$f":"VLOOKUP(B1276,'[1]002'!B:M,7,0)","v":"曾蓉蓉"},{"$f":"VLOOKUP(B1276,'[1]002'!B:M,8,0)","v":"中山市石岐中学"},{"$f":"VLOOKUP(B1276,'[1]002'!B:M,11,0)","v":"-"},{"$f":"VLOOKUP(B1276,'[1]002'!B:M,12,0)","v":"-"},{"$f":"VLOOKUP(B1276,[2]sheet2!B:L,10,0)","v":"-"},{"$f":"VLOOKUP(B1276,[2]sheet2!B:L,11,0)","v":"-"},"http://183.62.54.51:8841/data/files/certificate/000000000439/76a00acd3b3b4ff5b4f25007cf557e69/signed/1274_曾蓉蓉_三等奖_7161.pdf"]
[1275,"P304219091871","知遇沙盘以文绘心森林奇遇记","初中组","跨学科项目式学习教学案例","三等奖","汕头市",{"$f":"VLOOKUP(B1277,'[1]002'!B:M,7,0)","v":"李飞龙"},{"$f":"VLOOKUP(B1277,'[1]002'!B:M,8,0)","v":"汕头市达濠第二中学"},{"$f":"VLOOKUP(B1277,'[1]002'!B:M,11,0)","v":"-"},{"$f":"VLOOKUP(B1277,'[1]002'!B:M,12,0)","v":"-"},{"$f":"VLOOKUP(B1277,[2]sheet2!B:L,10,0)","v":"-"},{"$f":"VLOOKUP(B1277,[2]sheet2!B:L,11,0)","v":"-"},"http://183.62.54.51:8841/data/files/certificate/000000000439/c8e781a846af4c06b8b8b7940b014e95/signed/1275_李飞龙_三等奖_7162.pdf"]
[1276,"P304219092847","基于信息化平台的初中天文科普综合实践活动","初中组","跨学科项目式学习教学案例","三等奖","东莞市",{"$f":"VLOOKUP(B1278,'[1]002'!B:M,7,0)","v":"郭振维"},{"$f":"VLOOKUP(B1278,'[1]002'!B:M,8,0)","v":"东莞市松山湖实验中学"},{"$f":"VLOOKUP(B1278,'[1]002'!B:M,11,0)","v":"-"},{"$f":"VLOOKUP(B1278,'[1]002'!B:M,12,0)","v":"-"},{"$f":"VLOOKUP(B1278,[2]sheet2!B:L,10,0)","v":"-"},{"$f":"VLOOKUP(B1278,[2]sheet2!B:L,11,0)","v":"-"},"http://183.62.54.51:8841/data/files/certificate/000000000439/4e296c95fd3e475ca91478aed3169fe3/signed/1276_郭振维_三等奖_7163.pdf"]
[1277,"P304219093051","体会母爱，体验真情--用PowerPoint制作MV","初中组","跨学科项目式学习教学案例","三等奖","湛江市",{"$f":"VLOOKUP(B1279,'[1]002'!B:M,7,0)","v":"杨海娟　"},{"$f":"VLOOKUP(B1279,'[1]002'!B:M,8,0)","v":"湛江一中培才学校"},{"$f":"VLOOKUP(B1279,'[1]002'!B:M,11,0)","v":"-"},{"$f":"VLOOKUP(B1279,'[1]002'!B:M,12,0)","v":"-"},{"$f":"VLOOKUP(B1279,[2]sheet2!B:L,10,0)","v":"-"},{"$f":"VLOOKUP(B1279,[2]sheet2!B:L,11,0)","v":"-"},"http://183.62.54.51:8841/data/files/certificate/000000000439/66780c788dba4f2a8b87c853b547bd5b/signed/1277_杨海娟　_三等奖_7164.pdf"]
[1278,"P306219093215","重力","初中组","新媒体新技术教学应用课例","三等奖",{"$f":"RIGHT(LEFT(VLOOKUP(B1280,'[1]002'!B:M,3,0),7),3)","v":"广州市"},{"$f":"VLOOKUP(B1280,'[1]002'!B:M,7,0)","v":"李丹虹"},{"$f":"VLOOKUP(B1280,'[1]002'!B:M,8,0)","v":"华南理工大学附属实验学校"},{"$f":"VLOOKUP(B1280,'[1]002'!B:M,11,0)","v":"-"},{"$f":"VLOOKUP(B1280,'[1]002'!B:M,12,0)","v":"-"},{"$f":"VLOOKUP(B1280,[2]sheet2!B:L,10,0)","v":"-"},{"$f":"VLOOKUP(B1280,[2]sheet2!B:L,11,0)","v":"-"},"http://183.62.54.51:8841/data/files/certificate/000000000439/c981523a6753491fa727eaf36608064e/signed/1278_李丹虹_三等奖_7165.pdf"]
[1279,"P306219093219","认识多媒体","初中组","新媒体新技术教学应用课例","三等奖",{"$f":"RIGHT(LEFT(VLOOKUP(B1281,'[1]002'!B:M,3,0),7),3)","v":"广州市"},{"$f":"VLOOKUP(B1281,'[1]002'!B:M,7,0)","v":"罗淑枚"},{"$f":"VLOOKUP(B1281,'[1]002'!B:M,8,0)","v":"广州市花都区新华街培新学校"},{"$f":"VLOOKUP(B1281,'[1]002'!B:M,11,0)","v":"-"},{"$f":"VLOOKUP(B1281,'[1]002'!B:M,12,0)","v":"-"},{"$f":"VLOOKUP(B1281,[2]sheet2!B:L,10,0)","v":"-"},{"$f":"VLOOKUP(B1281,[2]sheet2!B:L,11,0)","v":"-"},"http://183.62.54.51:8841/data/files/certificate/000000000439/89f842f285a8481aa3c8ceb1382a8cc5/signed/1279_罗淑枚_三等奖_7166.pdf"]
[1280,"P306219093216","特洛伊木马阅读鉴赏课","初中组","新媒体新技术教学应用课例","三等奖",{"$f":"RIGHT(LEFT(VLOOKUP(B1282,'[1]002'!B:M,3,0),7),3)","v":"广州市"},{"$f":"VLOOKUP(B1282,'[1]002'!B:M,7,0)","v":"谢全胜"},{"$f":"VLOOKUP(B1282,'[1]002'!B:M,8,0)","v":"广州市育才中学"},{"$f":"VLOOKUP(B1282,'[1]002'!B:M,11,0)","v":"-"},{"$f":"VLOOKUP(B1282,'[1]002'!B:M,12,0)","v":"-"},{"$f":"VLOOKUP(B1282,[2]sheet2!B:L,10,0)","v":"-"},{"$f":"VLOOKUP(B1282,[2]sheet2!B:L,11,0)","v":"-"},"http://183.62.54.51:8841/data/files/certificate/000000000439/4e705848ce70458a84371a13acaafa16/signed/1280_谢全胜_三等奖_7167.pdf"]
[1281,"P306219092661","一元一次方程小结与复习","初中组","新媒体新技术教学应用课例","三等奖",{"$f":"RIGHT(LEFT(VLOOKUP(B1283,'[1]002'!B:M,3,0),7),3)","v":"深圳市"},{"$f":"VLOOKUP(B1283,'[1]002'!B:M,7,0)","v":"李小鹏"},{"$f":"VLOOKUP(B1283,'[1]002'!B:M,8,0)","v":"深圳市田东中学"},{"$f":"VLOOKUP(B1283,'[1]002'!B:M,11,0)","v":"-"},{"$f":"VLOOKUP(B1283,'[1]002'!B:M,12,0)","v":"-"},{"$f":"VLOOKUP(B1283,[2]sheet2!B:L,10,0)","v":"-"},{"$f":"VLOOKUP(B1283,[2]sheet2!B:L,11,0)","v":"-"},"http://183.62.54.51:8841/data/files/certificate/000000000439/b57948e6d6c04ff585cfdd5f23746512/signed/1281_李小鹏_三等奖_7168.pdf"]
[1282,"P306219092663","凸透镜成像的规律","初中组","新媒体新技术教学应用课例","三等奖",{"$f":"RIGHT(LEFT(VLOOKUP(B1284,'[1]002'!B:M,3,0),7),3)","v":"深圳市"},{"$f":"VLOOKUP(B1284,'[1]002'!B:M,7,0)","v":"雷珊珊"},{"$f":"VLOOKUP(B1284,'[1]002'!B:M,8,0)","v":"深圳市罗湖外语学校"},{"$f":"VLOOKUP(B1284,'[1]002'!B:M,11,0)","v":"-"},{"$f":"VLOOKUP(B1284,'[1]002'!B:M,12,0)","v":"-"},{"$f":"VLOOKUP(B1284,[2]sheet2!B:L,10,0)","v":"-"},{"$f":"VLOOKUP(B1284,[2]sheet2!B:L,11,0)","v":"-"},"http://183.62.54.51:8841/data/files/certificate/000000000439/992524efba8a4e8cb1aa4f9ee8668d25/signed/1282_雷珊珊_三等奖_7169.pdf"]
[1283,"P306219089211","小小说两篇小巷","初中组","新媒体新技术教学应用课例","三等奖",{"$f":"RIGHT(LEFT(VLOOKUP(B1285,'[1]002'!B:M,3,0),7),3)","v":"珠海市"},{"$f":"VLOOKUP(B1285,'[1]002'!B:M,7,0)","v":"曾小娜"},{"$f":"VLOOKUP(B1285,'[1]002'!B:M,8,0)","v":"珠海市前山中学"},{"$f":"VLOOKUP(B1285,'[1]002'!B:M,11,0)","v":"-"},{"$f":"VLOOKUP(B1285,'[1]002'!B:M,12,0)","v":"-"},{"$f":"VLOOKUP(B1285,[2]sheet2!B:L,10,0)","v":"-"},{"$f":"VLOOKUP(B1285,[2]sheet2!B:L,11,0)","v":"-"},"http://183.62.54.51:8841/data/files/certificate/000000000439/ef4ebb8eedc2472ca1fda96a4540b60e/signed/1283_曾小娜_三等奖_7170.pdf"]
[1284,"P306219089440","记承天寺夜游","初中组","新媒体新技术教学应用课例","三等奖",{"$f":"RIGHT(LEFT(VLOOKUP(B1286,'[1]002'!B:M,3,0),7),3)","v":"珠海市"},{"$f":"VLOOKUP(B1286,'[1]002'!B:M,7,0)","v":"孙北平"},{"$f":"VLOOKUP(B1286,'[1]002'!B:M,8,0)","v":"珠海市第五中学"},{"$f":"VLOOKUP(B1286,'[1]002'!B:M,11,0)","v":"-"},{"$f":"VLOOKUP(B1286,'[1]002'!B:M,12,0)","v":"-"},{"$f":"VLOOKUP(B1286,[2]sheet2!B:L,10,0)","v":"-"},{"$f":"VLOOKUP(B1286,[2]sheet2!B:L,11,0)","v":"-"},"http://183.62.54.51:8841/data/files/certificate/000000000439/cbc31b7f7a2249f3b7c5c7a5039d8a82/signed/1284_孙北平_三等奖_7171.pdf"]
[1285,"P306219091533","地形和地势第二课时中国的地势特征","初中组","新媒体新技术教学应用课例","三等奖",{"$f":"RIGHT(LEFT(VLOOKUP(B1287,'[1]002'!B:M,3,0),7),3)","v":"珠海市"},{"$f":"VLOOKUP(B1287,'[1]002'!B:M,7,0)","v":"夏艳华"},{"$f":"VLOOKUP(B1287,'[1]002'!B:M,8,0)","v":"珠海市第九中学"},{"$f":"VLOOKUP(B1287,'[1]002'!B:M,11,0)","v":"-"},{"$f":"VLOOKUP(B1287,'[1]002'!B:M,12,0)","v":"-"},{"$f":"VLOOKUP(B1287,[2]sheet2!B:L,10,0)","v":"-"},{"$f":"VLOOKUP(B1287,[2]sheet2!B:L,11,0)","v":"-"},"http://183.62.54.51:8841/data/files/certificate/000000000439/3b4d3e62721a4bebaa2c00b72a63cc5a/signed/1285_夏艳华_三等奖_7172.pdf"]
[1286,"P307219088652","物质的变化和性质","初中组","新媒体新技术教学应用课例","三等奖",{"$f":"RIGHT(LEFT(VLOOKUP(B1288,'[1]002'!B:M,3,0),7),3)","v":"珠海市"},{"$f":"VLOOKUP(B1288,'[1]002'!B:M,7,0)","v":"谢思"},{"$f":"VLOOKUP(B1288,'[1]002'!B:M,8,0)","v":"珠海市前山中学"},{"$f":"VLOOKUP(B1288,'[1]002'!B:M,11,0)","v":"-"},{"$f":"VLOOKUP(B1288,'[1]002'!B:M,12,0)","v":"-"},{"$f":"VLOOKUP(B1288,[2]sheet2!B:L,10,0)","v":"-"},{"$f":"VLOOKUP(B1288,[2]sheet2!B:L,11,0)","v":"-"},"http://183.62.54.51:8841/data/files/certificate/000000000439/1ce7835cb60a40a199bc59a2a3d09462/signed/1286_谢思_三等奖_7173.pdf"]
[1287,"P306219089310","反比例函数的图象和性质  第1课时","初中组","新媒体新技术教学应用课例","三等奖",{"$f":"RIGHT(LEFT(VLOOKUP(B1289,'[1]002'!B:M,3,0),7),3)","v":"珠海市"},{"$f":"VLOOKUP(B1289,'[1]002'!B:M,7,0)","v":"沈达"},{"$f":"VLOOKUP(B1289,'[1]002'!B:M,8,0)","v":"珠海市第五中学"},{"$f":"VLOOKUP(B1289,'[1]002'!B:M,11,0)","v":"-"},{"$f":"VLOOKUP(B1289,'[1]002'!B:M,12,0)","v":"-"},{"$f":"VLOOKUP(B1289,[2]sheet2!B:L,10,0)","v":"-"},{"$f":"VLOOKUP(B1289,[2]sheet2!B:L,11,0)","v":"-"},"http://183.62.54.51:8841/data/files/certificate/000000000439/6b22d3b3f0914218904cab4349c37ddc/signed/1287_沈达_三等奖_7174.pdf"]
[1288,"P305219087785","压强","初中组","新媒体新技术教学应用课例","三等奖",{"$f":"RIGHT(LEFT(VLOOKUP(B1290,'[1]002'!B:M,3,0),7),3)","v":"珠海市"},{"$f":"VLOOKUP(B1290,'[1]002'!B:M,7,0)","v":"严剑辉"},{"$f":"VLOOKUP(B1290,'[1]002'!B:M,8,0)","v":"珠海市前山中学"},{"$f":"VLOOKUP(B1290,'[1]002'!B:M,11,0)","v":"-"},{"$f":"VLOOKUP(B1290,'[1]002'!B:M,12,0)","v":"-"},{"$f":"VLOOKUP(B1290,[2]sheet2!B:L,10,0)","v":"-"},{"$f":"VLOOKUP(B1290,[2]sheet2!B:L,11,0)","v":"-"},"http://183.62.54.51:8841/data/files/certificate/000000000439/7aee81e36d644813896c7af92bd752a3/signed/1288_严剑辉_三等奖_7175.pdf"]
[1289,"P306219088487","图像专题复习","初中组","新媒体新技术教学应用课例","三等奖",{"$f":"RIGHT(LEFT(VLOOKUP(B1291,'[1]002'!B:M,3,0),7),3)","v":"珠海市"},{"$f":"VLOOKUP(B1291,'[1]002'!B:M,7,0)","v":"严剑辉"},{"$f":"VLOOKUP(B1291,'[1]002'!B:M,8,0)","v":"珠海市前山中学"},{"$f":"VLOOKUP(B1291,'[1]002'!B:M,11,0)","v":"张银"},{"$f":"VLOOKUP(B1291,'[1]002'!B:M,12,0)","v":"珠海市前山中学"},{"$f":"VLOOKUP(B1291,[2]sheet2!B:L,10,0)","v":"-"},{"$f":"VLOOKUP(B1291,[2]sheet2!B:L,11,0)","v":"-"},"http://183.62.54.51:8841/data/files/certificate/000000000439/89df7dd87abd46dcbee6c0e5afc750a1/signed/1289_严剑辉、张银_三等奖_7176.pdf"]
[1290,"P306219092610","多边形的外角和","初中组","新媒体新技术教学应用课例","三等奖",{"$f":"RIGHT(LEFT(VLOOKUP(B1292,'[1]002'!B:M,3,0),7),3)","v":"珠海市"},{"$f":"VLOOKUP(B1292,'[1]002'!B:M,7,0)","v":"谢金宁"},{"$f":"VLOOKUP(B1292,'[1]002'!B:M,8,0)","v":"珠海市第五中学"},{"$f":"VLOOKUP(B1292,'[1]002'!B:M,11,0)","v":"-"},{"$f":"VLOOKUP(B1292,'[1]002'!B:M,12,0)","v":"-"},{"$f":"VLOOKUP(B1292,[2]sheet2!B:L,10,0)","v":"-"},{"$f":"VLOOKUP(B1292,[2]sheet2!B:L,11,0)","v":"-"},"http://183.62.54.51:8841/data/files/certificate/000000000439/36553834b621494ab2958eec1fdb0e35/signed/1290_谢金宁_三等奖_7177.pdf"]
[1291,"P306219090393","在线课堂之A型图的探究","初中组","新媒体新技术教学应用课例","三等奖",{"$f":"RIGHT(LEFT(VLOOKUP(B1293,'[1]002'!B:M,3,0),7),3)","v":"珠海市"},{"$f":"VLOOKUP(B1293,'[1]002'!B:M,7,0)","v":"王丽杰"},{"$f":"VLOOKUP(B1293,'[1]002'!B:M,8,0)","v":"珠海市第九中学"},{"$f":"VLOOKUP(B1293,'[1]002'!B:M,11,0)","v":"-"},{"$f":"VLOOKUP(B1293,'[1]002'!B:M,12,0)","v":"-"},{"$f":"VLOOKUP(B1293,[2]sheet2!B:L,10,0)","v":"-"},{"$f":"VLOOKUP(B1293,[2]sheet2!B:L,11,0)","v":"-"},"http://183.62.54.51:8841/data/files/certificate/000000000439/4d5ce42f27ce465bb25189d65011a2ab/signed/1291_王丽杰_三等奖_7178.pdf"]
[1292,"P302219089761","以礼待人","初中组","新媒体新技术教学应用课例","三等奖",{"$f":"RIGHT(LEFT(VLOOKUP(B1294,'[1]002'!B:M,3,0),7),3)","v":"珠海市"},{"$f":"VLOOKUP(B1294,'[1]002'!B:M,7,0)","v":"张凤"},{"$f":"VLOOKUP(B1294,'[1]002'!B:M,8,0)","v":"珠海市前山中学"},{"$f":"VLOOKUP(B1294,'[1]002'!B:M,11,0)","v":"-"},{"$f":"VLOOKUP(B1294,'[1]002'!B:M,12,0)","v":"-"},{"$f":"VLOOKUP(B1294,[2]sheet2!B:L,10,0)","v":"-"},{"$f":"VLOOKUP(B1294,[2]sheet2!B:L,11,0)","v":"-"},"http://183.62.54.51:8841/data/files/certificate/000000000439/3fc3e277b40341f0b40867fdf9afbc55/signed/1292_张凤_三等奖_7179.pdf"]
[1293,"P306219088738","Starter Unit 1 Good morning! 4a-4d","初中组","新媒体新技术教学应用课例","三等奖",{"$f":"RIGHT(LEFT(VLOOKUP(B1295,'[1]002'!B:M,3,0),7),3)","v":"珠海市"},{"$f":"VLOOKUP(B1295,'[1]002'!B:M,7,0)","v":"马颖新"},{"$f":"VLOOKUP(B1295,'[1]002'!B:M,8,0)","v":"珠海市前山中学"},{"$f":"VLOOKUP(B1295,'[1]002'!B:M,11,0)","v":"-"},{"$f":"VLOOKUP(B1295,'[1]002'!B:M,12,0)","v":"-"},{"$f":"VLOOKUP(B1295,[2]sheet2!B:L,10,0)","v":"-"},{"$f":"VLOOKUP(B1295,[2]sheet2!B:L,11,0)","v":"-"},"http://183.62.54.51:8841/data/files/certificate/000000000439/5da2f506e66444dd9c554be61e44b54d/signed/1293_马颖新_三等奖_7180.pdf"]
[1294,"P307219089772","憧憬美好集体","初中组","新媒体新技术教学应用课例","三等奖",{"$f":"RIGHT(LEFT(VLOOKUP(B1296,'[1]002'!B:M,3,0),7),3)","v":"珠海市"},{"$f":"VLOOKUP(B1296,'[1]002'!B:M,7,0)","v":"张凤"},{"$f":"VLOOKUP(B1296,'[1]002'!B:M,8,0)","v":"珠海市前山中学"},{"$f":"VLOOKUP(B1296,'[1]002'!B:M,11,0)","v":"-"},{"$f":"VLOOKUP(B1296,'[1]002'!B:M,12,0)","v":"-"},{"$f":"VLOOKUP(B1296,[2]sheet2!B:L,10,0)","v":"-"},{"$f":"VLOOKUP(B1296,[2]sheet2!B:L,11,0)","v":"-"},"http://183.62.54.51:8841/data/files/certificate/000000000439/94414bc7b06a47118f8b77dcb97911a9/signed/1294_张凤_三等奖_7181.pdf"]
[1295,"P306219089016","牛顿第一定律","初中组","新媒体新技术教学应用课例","三等奖",{"$f":"RIGHT(LEFT(VLOOKUP(B1297,'[1]002'!B:M,3,0),7),3)","v":"珠海市"},{"$f":"VLOOKUP(B1297,'[1]002'!B:M,7,0)","v":"张银"},{"$f":"VLOOKUP(B1297,'[1]002'!B:M,8,0)","v":"珠海市前山中学"},{"$f":"VLOOKUP(B1297,'[1]002'!B:M,11,0)","v":"-"},{"$f":"VLOOKUP(B1297,'[1]002'!B:M,12,0)","v":"-"},{"$f":"VLOOKUP(B1297,[2]sheet2!B:L,10,0)","v":"-"},{"$f":"VLOOKUP(B1297,[2]sheet2!B:L,11,0)","v":"-"},"http://183.62.54.51:8841/data/files/certificate/000000000439/59228e5e4e8b4e7c8d42134e990828e2/signed/1295_张银_三等奖_7182.pdf"]
[1296,"P306219091018","生活环境的巨大变化","初中组","新媒体新技术教学应用课例","三等奖",{"$f":"RIGHT(LEFT(VLOOKUP(B1298,'[1]002'!B:M,3,0),7),3)","v":"佛山市"},{"$f":"VLOOKUP(B1298,'[1]002'!B:M,7,0)","v":"黄静芸"},{"$f":"VLOOKUP(B1298,'[1]002'!B:M,8,0)","v":"禅城区南庄镇第三中学"},{"$f":"VLOOKUP(B1298,'[1]002'!B:M,11,0)","v":"-"},{"$f":"VLOOKUP(B1298,'[1]002'!B:M,12,0)","v":"-"},{"$f":"VLOOKUP(B1298,[2]sheet2!B:L,10,0)","v":"-"},{"$f":"VLOOKUP(B1298,[2]sheet2!B:L,11,0)","v":"-"},"http://183.62.54.51:8841/data/files/certificate/000000000439/84d2aaa202ed4581b376bf6aeea956f9/signed/1296_黄静芸_三等奖_7183.pdf"]
[1297,"P306219091036","认识三角形","初中组","新媒体新技术教学应用课例","三等奖",{"$f":"RIGHT(LEFT(VLOOKUP(B1299,'[1]002'!B:M,3,0),7),3)","v":"佛山市"},{"$f":"VLOOKUP(B1299,'[1]002'!B:M,7,0)","v":"张虹"},{"$f":"VLOOKUP(B1299,'[1]002'!B:M,8,0)","v":"佛山市顺德区梁开初级中学"},{"$f":"VLOOKUP(B1299,'[1]002'!B:M,11,0)","v":"-"},{"$f":"VLOOKUP(B1299,'[1]002'!B:M,12,0)","v":"-"},{"$f":"VLOOKUP(B1299,[2]sheet2!B:L,10,0)","v":"-"},{"$f":"VLOOKUP(B1299,[2]sheet2!B:L,11,0)","v":"-"},"http://183.62.54.51:8841/data/files/certificate/000000000439/aac0c00397794eeabe29a87af7eb6dbe/signed/1297_张虹_三等奖_7184.pdf"]
[1298,"P306219091013","三角形全等专题复习","初中组","新媒体新技术教学应用课例","三等奖",{"$f":"RIGHT(LEFT(VLOOKUP(B1300,'[1]002'!B:M,3,0),7),3)","v":"佛山市"},{"$f":"VLOOKUP(B1300,'[1]002'!B:M,7,0)","v":"黄振聪"},{"$f":"VLOOKUP(B1300,'[1]002'!B:M,8,0)","v":"佛山市第三中学初中部"},{"$f":"VLOOKUP(B1300,'[1]002'!B:M,11,0)","v":"-"},{"$f":"VLOOKUP(B1300,'[1]002'!B:M,12,0)","v":"-"},{"$f":"VLOOKUP(B1300,[2]sheet2!B:L,10,0)","v":"-"},{"$f":"VLOOKUP(B1300,[2]sheet2!B:L,11,0)","v":"-"},"http://183.62.54.51:8841/data/files/certificate/000000000439/b18db44afa3f4242ab50c841f533c468/signed/1298_黄振聪_三等奖_7185.pdf"]
[1299,"P306219091033","物联网应用教学遥控灯","初中组","新媒体新技术教学应用课例","三等奖",{"$f":"RIGHT(LEFT(VLOOKUP(B1301,'[1]002'!B:M,3,0),7),3)","v":"佛山市"},{"$f":"VLOOKUP(B1301,'[1]002'!B:M,7,0)","v":"曾科华"},{"$f":"VLOOKUP(B1301,'[1]002'!B:M,8,0)","v":"佛山市顺德区大良顺峰初级中学"},{"$f":"VLOOKUP(B1301,'[1]002'!B:M,11,0)","v":"朱海燕"},{"$f":"VLOOKUP(B1301,'[1]002'!B:M,12,0)","v":"佛山市顺德区大良顺峰初级中学"},{"$f":"VLOOKUP(B1301,[2]sheet2!B:L,10,0)","v":"-"},{"$f":"VLOOKUP(B1301,[2]sheet2!B:L,11,0)","v":"-"},"http://183.62.54.51:8841/data/files/certificate/000000000439/53bcab3dee384217b31f9e98c16f1ef5/signed/1299_曾科华、朱海燕_三等奖_7186.pdf"]
[1300,"P306219091024","定时器的使用第二课时","初中组","新媒体新技术教学应用课例","三等奖",{"$f":"RIGHT(LEFT(VLOOKUP(B1302,'[1]002'!B:M,3,0),7),3)","v":"佛山市"},{"$f":"VLOOKUP(B1302,'[1]002'!B:M,7,0)","v":"李国豪"},{"$f":"VLOOKUP(B1302,'[1]002'!B:M,8,0)","v":"佛山市南海区石门实验学校"},{"$f":"VLOOKUP(B1302,'[1]002'!B:M,11,0)","v":"-"},{"$f":"VLOOKUP(B1302,'[1]002'!B:M,12,0)","v":"-"},{"$f":"VLOOKUP(B1302,[2]sheet2!B:L,10,0)","v":"-"},{"$f":"VLOOKUP(B1302,[2]sheet2!B:L,11,0)","v":"-"},"http://183.62.54.51:8841/data/files/certificate/000000000439/feccf377e408422f85c383e700a4521a/signed/1300_李国豪_三等奖_7187.pdf"]
[1301,"P306219091012","Module8Unit1","初中组","新媒体新技术教学应用课例","三等奖",{"$f":"RIGHT(LEFT(VLOOKUP(B1303,'[1]002'!B:M,3,0),7),3)","v":"佛山市"},{"$f":"VLOOKUP(B1303,'[1]002'!B:M,7,0)","v":"柳敏"},{"$f":"VLOOKUP(B1303,'[1]002'!B:M,8,0)","v":"佛山市高明区沧江中学"},{"$f":"VLOOKUP(B1303,'[1]002'!B:M,11,0)","v":"-"},{"$f":"VLOOKUP(B1303,'[1]002'!B:M,12,0)","v":"-"},{"$f":"VLOOKUP(B1303,[2]sheet2!B:L,10,0)","v":"-"},{"$f":"VLOOKUP(B1303,[2]sheet2!B:L,11,0)","v":"-"},"http://183.62.54.51:8841/data/files/certificate/000000000439/36aab5bf7d924d378a2cf94aaecf0b20/signed/1301_柳敏_三等奖_7188.pdf"]
[1302,"P306119090205","皇帝的新装","初中组","新媒体新技术教学应用课例","三等奖","佛山市","林志云","佛山市禅城区南庄镇第三中学","-","-",{"$f":"VLOOKUP(B1304,[2]sheet2!B:L,10,0)","v":{"$error":"#N/A"}},{"$f":"VLOOKUP(B1304,[2]sheet2!B:L,11,0)","v":{"$error":"#N/A"}},"http://183.62.54.51:8841/data/files/certificate/000000000439/bd8029a3a66c451090a38066002bbe06/signed/1302_林志云_三等奖_7189.pdf"]
[1303,"P306219091035","宋元时期的都市和文化","初中组","新媒体新技术教学应用课例","三等奖",{"$f":"RIGHT(LEFT(VLOOKUP(B1305,'[1]002'!B:M,3,0),7),3)","v":"佛山市"},{"$f":"VLOOKUP(B1305,'[1]002'!B:M,7,0)","v":"黄敏"},{"$f":"VLOOKUP(B1305,'[1]002'!B:M,8,0)","v":"佛山市顺德区容桂兴华初级中学"},{"$f":"VLOOKUP(B1305,'[1]002'!B:M,11,0)","v":"张焜懿"},{"$f":"VLOOKUP(B1305,'[1]002'!B:M,12,0)","v":"佛山市顺德区容桂兴华初级中学"},{"$f":"VLOOKUP(B1305,[2]sheet2!B:L,10,0)","v":"-"},{"$f":"VLOOKUP(B1305,[2]sheet2!B:L,11,0)","v":"-"},"http://183.62.54.51:8841/data/files/certificate/000000000439/6e94cef3aae44306ac36f88877e45f4f/signed/1303_黄敏、张焜懿_三等奖_7190.pdf"]
[1304,"P306219091027","中考时态复习","初中组","新媒体新技术教学应用课例","三等奖",{"$f":"RIGHT(LEFT(VLOOKUP(B1306,'[1]002'!B:M,3,0),7),3)","v":"佛山市"},{"$f":"VLOOKUP(B1306,'[1]002'!B:M,7,0)","v":"陈思圆"},{"$f":"VLOOKUP(B1306,'[1]002'!B:M,8,0)","v":"佛山市第三中学初中部"},{"$f":"VLOOKUP(B1306,'[1]002'!B:M,11,0)","v":"-"},{"$f":"VLOOKUP(B1306,'[1]002'!B:M,12,0)","v":"-"},{"$f":"VLOOKUP(B1306,[2]sheet2!B:L,10,0)","v":"-"},{"$f":"VLOOKUP(B1306,[2]sheet2!B:L,11,0)","v":"-"},"http://183.62.54.51:8841/data/files/certificate/000000000439/e101f1dbc93b463f9f4689970cf1c4f6/signed/1304_陈思圆_三等奖_7191.pdf"]
[1305,"P306219091023","测量小灯泡的电阻","初中组","新媒体新技术教学应用课例","三等奖",{"$f":"RIGHT(LEFT(VLOOKUP(B1307,'[1]002'!B:M,3,0),7),3)","v":"佛山市"},{"$f":"VLOOKUP(B1307,'[1]002'!B:M,7,0)","v":"黄镇鹏"},{"$f":"VLOOKUP(B1307,'[1]002'!B:M,8,0)","v":"佛山市南海石门实验中学"},{"$f":"VLOOKUP(B1307,'[1]002'!B:M,11,0)","v":"-"},{"$f":"VLOOKUP(B1307,'[1]002'!B:M,12,0)","v":"-"},{"$f":"VLOOKUP(B1307,[2]sheet2!B:L,10,0)","v":"-"},{"$f":"VLOOKUP(B1307,[2]sheet2!B:L,11,0)","v":"-"},"http://183.62.54.51:8841/data/files/certificate/000000000439/27ef8589c4594ed9aab51f976e5faef7/signed/1305_黄镇鹏_三等奖_7192.pdf"]
[1306,"P306119090199","长株潭城市群的内部差异与联系","初中组","新媒体新技术教学应用课例","三等奖","佛山市","高嘉敏","佛山市禅城区南庄镇第三中学","-","-",{"$f":"VLOOKUP(B1308,[2]sheet2!B:L,10,0)","v":{"$error":"#N/A"}},{"$f":"VLOOKUP(B1308,[2]sheet2!B:L,11,0)","v":{"$error":"#N/A"}},"http://183.62.54.51:8841/data/files/certificate/000000000439/4c26844215224aefb20a46a2029ebc87/signed/1306_高嘉敏_三等奖_7193.pdf"]
[1307,"P306119090201","因式分解专题复习","初中组","新媒体新技术教学应用课例","三等奖","佛山市","利莹莹","佛山市禅城区南庄镇第三中学","-","-",{"$f":"VLOOKUP(B1309,[2]sheet2!B:L,10,0)","v":{"$error":"#N/A"}},{"$f":"VLOOKUP(B1309,[2]sheet2!B:L,11,0)","v":{"$error":"#N/A"}},"http://183.62.54.51:8841/data/files/certificate/000000000439/5565e9dc94d04327be48b3ce19218a24/signed/1307_利莹莹_三等奖_7194.pdf"]
[1308,"P306219091011","七年级生物下册第四单元第四章第四节输血与血型","初中组","新媒体新技术教学应用课例","三等奖",{"$f":"RIGHT(LEFT(VLOOKUP(B1310,'[1]002'!B:M,3,0),7),3)","v":"佛山市"},{"$f":"VLOOKUP(B1310,'[1]002'!B:M,7,0)","v":"何惠玲"},{"$f":"VLOOKUP(B1310,'[1]002'!B:M,8,0)","v":"佛山市高明区沧江中学"},{"$f":"VLOOKUP(B1310,'[1]002'!B:M,11,0)","v":"-"},{"$f":"VLOOKUP(B1310,'[1]002'!B:M,12,0)","v":"-"},{"$f":"VLOOKUP(B1310,[2]sheet2!B:L,10,0)","v":"-"},{"$f":"VLOOKUP(B1310,[2]sheet2!B:L,11,0)","v":"-"},"http://183.62.54.51:8841/data/files/certificate/000000000439/7a6e7d7aeaf040eda016cb4d599e41ba/signed/1308_何惠玲_三等奖_7195.pdf"]
[1309,"P306219091029","用按钮控制呼吸灯的位置移动","初中组","新媒体新技术教学应用课例","三等奖",{"$f":"RIGHT(LEFT(VLOOKUP(B1311,'[1]002'!B:M,3,0),7),3)","v":"佛山市"},{"$f":"VLOOKUP(B1311,'[1]002'!B:M,7,0)","v":"刘常森"},{"$f":"VLOOKUP(B1311,'[1]002'!B:M,8,0)","v":"佛山市顺德区均安建安初级中学"},{"$f":"VLOOKUP(B1311,'[1]002'!B:M,11,0)","v":"-"},{"$f":"VLOOKUP(B1311,'[1]002'!B:M,12,0)","v":"-"},{"$f":"VLOOKUP(B1311,[2]sheet2!B:L,10,0)","v":"-"},{"$f":"VLOOKUP(B1311,[2]sheet2!B:L,11,0)","v":"-"},"http://183.62.54.51:8841/data/files/certificate/000000000439/62f23e0da26149e49bea7de62c121a68/signed/1309_刘常森_三等奖_7196.pdf"]
[1310,"P306119090197","合理营养和食品安全","初中组","新媒体新技术教学应用课例","三等奖","佛山市","胡伟平","佛山市禅城区南庄镇第三中学","-","-",{"$f":"VLOOKUP(B1312,[2]sheet2!B:L,10,0)","v":{"$error":"#N/A"}},{"$f":"VLOOKUP(B1312,[2]sheet2!B:L,11,0)","v":{"$error":"#N/A"}},"http://183.62.54.51:8841/data/files/certificate/000000000439/dfbc04ca29744b8795c9ac7272a64012/signed/1310_胡伟平_三等奖_7197.pdf"]
[1311,"P306119090203","Unit 1 He is the boy who won the photo competition last year.","初中组","新媒体新技术教学应用课例","三等奖","佛山市","肖淳芳","佛山市禅城区南庄镇第三中学","-","-",{"$f":"VLOOKUP(B1313,[2]sheet2!B:L,10,0)","v":{"$error":"#N/A"}},{"$f":"VLOOKUP(B1313,[2]sheet2!B:L,11,0)","v":{"$error":"#N/A"}},"http://183.62.54.51:8841/data/files/certificate/000000000439/384e010456e4418f9feb673f5d29a397/signed/1311_肖淳芳_三等奖_7198.pdf"]
[1312,"P306219091019","青藏地区","初中组","新媒体新技术教学应用课例","三等奖",{"$f":"RIGHT(LEFT(VLOOKUP(B1314,'[1]002'!B:M,3,0),7),3)","v":"佛山市"},{"$f":"VLOOKUP(B1314,'[1]002'!B:M,7,0)","v":"蔡耀纯"},{"$f":"VLOOKUP(B1314,'[1]002'!B:M,8,0)","v":"佛山市南海区丹灶镇金沙中学"},{"$f":"VLOOKUP(B1314,'[1]002'!B:M,11,0)","v":"-"},{"$f":"VLOOKUP(B1314,'[1]002'!B:M,12,0)","v":"-"},{"$f":"VLOOKUP(B1314,[2]sheet2!B:L,10,0)","v":"-"},{"$f":"VLOOKUP(B1314,[2]sheet2!B:L,11,0)","v":"-"},"http://183.62.54.51:8841/data/files/certificate/000000000439/fffd528b06d44555b9a4eb9f22fdc333/signed/1312_蔡耀纯_三等奖_7199.pdf"]
[1313,"P306219088384","How do you get to school?","初中组","新媒体新技术教学应用课例","三等奖",{"$f":"RIGHT(LEFT(VLOOKUP(B1315,'[1]002'!B:M,3,0),7),3)","v":"韶关市"},{"$f":"VLOOKUP(B1315,'[1]002'!B:M,7,0)","v":"郭成燕"},{"$f":"VLOOKUP(B1315,'[1]002'!B:M,8,0)","v":"韶关市第九中学"},{"$f":"VLOOKUP(B1315,'[1]002'!B:M,11,0)","v":"潘高峰"},{"$f":"VLOOKUP(B1315,'[1]002'!B:M,12,0)","v":"韶关市第九中学"},{"$f":"VLOOKUP(B1315,[2]sheet2!B:L,10,0)","v":"-"},{"$f":"VLOOKUP(B1315,[2]sheet2!B:L,11,0)","v":"-"},"http://183.62.54.51:8841/data/files/certificate/000000000439/67af17d5b4e44428bb876eb8524b7055/signed/1313_郭成燕、潘高峰_三等奖_7200.pdf"]
[1314,"P306219088388","生肖的联想","初中组","新媒体新技术教学应用课例","三等奖",{"$f":"RIGHT(LEFT(VLOOKUP(B1316,'[1]002'!B:M,3,0),7),3)","v":"韶关市"},{"$f":"VLOOKUP(B1316,'[1]002'!B:M,7,0)","v":"高龄玲"},{"$f":"VLOOKUP(B1316,'[1]002'!B:M,8,0)","v":"韶关市第九中学"},{"$f":"VLOOKUP(B1316,'[1]002'!B:M,11,0)","v":"潘高峰"},{"$f":"VLOOKUP(B1316,'[1]002'!B:M,12,0)","v":"韶关市第九中学"},{"$f":"VLOOKUP(B1316,[2]sheet2!B:L,10,0)","v":"-"},{"$f":"VLOOKUP(B1316,[2]sheet2!B:L,11,0)","v":"-"},"http://183.62.54.51:8841/data/files/certificate/000000000439/aa086c8e19404bf9800312fe6b9f32c2/signed/1314_高龄玲、潘高峰_三等奖_7201.pdf"]
[1315,"P306219088378","聚落","初中组","新媒体新技术教学应用课例","三等奖",{"$f":"RIGHT(LEFT(VLOOKUP(B1317,'[1]002'!B:M,3,0),7),3)","v":"韶关市"},{"$f":"VLOOKUP(B1317,'[1]002'!B:M,7,0)","v":"黄安丽"},{"$f":"VLOOKUP(B1317,'[1]002'!B:M,8,0)","v":"韶关市第十四中学"},{"$f":"VLOOKUP(B1317,'[1]002'!B:M,11,0)","v":"-"},{"$f":"VLOOKUP(B1317,'[1]002'!B:M,12,0)","v":"-"},{"$f":"VLOOKUP(B1317,[2]sheet2!B:L,10,0)","v":"-"},{"$f":"VLOOKUP(B1317,[2]sheet2!B:L,11,0)","v":"-"},"http://183.62.54.51:8841/data/files/certificate/000000000439/900e02e168134ec49f7e74395783eb66/signed/1315_黄安丽_三等奖_7202.pdf"]
[1316,"P306219093369","Rainboweating","初中组","新媒体新技术教学应用课例","三等奖",{"$f":"RIGHT(LEFT(VLOOKUP(B1318,'[1]002'!B:M,3,0),7),3)","v":"河源市"},{"$f":"VLOOKUP(B1318,'[1]002'!B:M,7,0)","v":"刘小蓉"},{"$f":"VLOOKUP(B1318,'[1]002'!B:M,8,0)","v":"东源县实验中学"},{"$f":"VLOOKUP(B1318,'[1]002'!B:M,11,0)","v":"-"},{"$f":"VLOOKUP(B1318,'[1]002'!B:M,12,0)","v":"-"},{"$f":"VLOOKUP(B1318,[2]sheet2!B:L,10,0)","v":"-"},{"$f":"VLOOKUP(B1318,[2]sheet2!B:L,11,0)","v":"-"},"http://183.62.54.51:8841/data/files/certificate/000000000439/f0fbc7b8cba046c4b8165c6962279119/signed/1316_刘小蓉_三等奖_7203.pdf"]
[1317,"P306219092241","用电子表格检索数据","初中组","新媒体新技术教学应用课例","三等奖",{"$f":"RIGHT(LEFT(VLOOKUP(B1319,'[1]002'!B:M,3,0),7),3)","v":"惠州市"},{"$f":"VLOOKUP(B1319,'[1]002'!B:M,7,0)","v":"王志云"},{"$f":"VLOOKUP(B1319,'[1]002'!B:M,8,0)","v":"惠州市光正实验学校"},{"$f":"VLOOKUP(B1319,'[1]002'!B:M,11,0)","v":"-"},{"$f":"VLOOKUP(B1319,'[1]002'!B:M,12,0)","v":"-"},{"$f":"VLOOKUP(B1319,[2]sheet2!B:L,10,0)","v":"-"},{"$f":"VLOOKUP(B1319,[2]sheet2!B:L,11,0)","v":"-"},"http://183.62.54.51:8841/data/files/certificate/000000000439/b249a513912c40168c18ebe40d561f95/signed/1317_王志云_三等奖_7204.pdf"]
[1318,"P306219092440","松山湖实验中学杨山青Elephant课外阅读","初中组","新媒体新技术教学应用课例","三等奖",{"$f":"RIGHT(LEFT(VLOOKUP(B1320,'[1]002'!B:M,3,0),7),3)","v":"东莞市"},{"$f":"VLOOKUP(B1320,'[1]002'!B:M,7,0)","v":"杨山青"},{"$f":"VLOOKUP(B1320,'[1]002'!B:M,8,0)","v":"东莞市东华初级中学"},{"$f":"VLOOKUP(B1320,'[1]002'!B:M,11,0)","v":"-"},{"$f":"VLOOKUP(B1320,'[1]002'!B:M,12,0)","v":"-"},{"$f":"VLOOKUP(B1320,[2]sheet2!B:L,10,0)","v":"-"},{"$f":"VLOOKUP(B1320,[2]sheet2!B:L,11,0)","v":"-"},"http://183.62.54.51:8841/data/files/certificate/000000000439/96d70ed139534a638d91d550ce373577/signed/1318_杨山青_三等奖_7205.pdf"]
[1319,"P306219092434","正视发展挑战","初中组","新媒体新技术教学应用课例","三等奖",{"$f":"RIGHT(LEFT(VLOOKUP(B1321,'[1]002'!B:M,3,0),7),3)","v":"东莞市"},{"$f":"VLOOKUP(B1321,'[1]002'!B:M,7,0)","v":"丁梦蕾"},{"$f":"VLOOKUP(B1321,'[1]002'!B:M,8,0)","v":"东莞市松山湖实验中学"},{"$f":"VLOOKUP(B1321,'[1]002'!B:M,11,0)","v":"-"},{"$f":"VLOOKUP(B1321,'[1]002'!B:M,12,0)","v":"-"},{"$f":"VLOOKUP(B1321,[2]sheet2!B:L,10,0)","v":"-"},{"$f":"VLOOKUP(B1321,[2]sheet2!B:L,11,0)","v":"-"},"http://183.62.54.51:8841/data/files/certificate/000000000439/8f8ba49ff25540c2923198dfb943ff87/signed/1319_丁梦蕾_三等奖_7206.pdf"]
[1320,"P306219092436","孙悟空三性一体人物形象分析教学课例","初中组","新媒体新技术教学应用课例","三等奖",{"$f":"RIGHT(LEFT(VLOOKUP(B1322,'[1]002'!B:M,3,0),7),3)","v":"东莞市"},{"$f":"VLOOKUP(B1322,'[1]002'!B:M,7,0)","v":"刘秋云"},{"$f":"VLOOKUP(B1322,'[1]002'!B:M,8,0)","v":"东莞市低涌中学"},{"$f":"VLOOKUP(B1322,'[1]002'!B:M,11,0)","v":"-"},{"$f":"VLOOKUP(B1322,'[1]002'!B:M,12,0)","v":"-"},{"$f":"VLOOKUP(B1322,[2]sheet2!B:L,10,0)","v":"-"},{"$f":"VLOOKUP(B1322,[2]sheet2!B:L,11,0)","v":"-"},"http://183.62.54.51:8841/data/files/certificate/000000000439/dbf5c4ab52a34b10bee32bd6cff446c7/signed/1320_刘秋云_三等奖_7207.pdf"]
[1321,"P306219092431","法不可违","初中组","新媒体新技术教学应用课例","三等奖",{"$f":"RIGHT(LEFT(VLOOKUP(B1323,'[1]002'!B:M,3,0),7),3)","v":"东莞市"},{"$f":"VLOOKUP(B1323,'[1]002'!B:M,7,0)","v":"林倩琪"},{"$f":"VLOOKUP(B1323,'[1]002'!B:M,8,0)","v":"东莞市松山湖实验中学"},{"$f":"VLOOKUP(B1323,'[1]002'!B:M,11,0)","v":"-"},{"$f":"VLOOKUP(B1323,'[1]002'!B:M,12,0)","v":"-"},{"$f":"VLOOKUP(B1323,[2]sheet2!B:L,10,0)","v":"-"},{"$f":"VLOOKUP(B1323,[2]sheet2!B:L,11,0)","v":"-"},"http://183.62.54.51:8841/data/files/certificate/000000000439/5f9c3b1737b645c88495fa58c948df69/signed/1321_林倩琪_三等奖_7208.pdf"]
[1322,"P306219092439","初中生物创新教学以病毒一课为例","初中组","新媒体新技术教学应用课例","三等奖",{"$f":"RIGHT(LEFT(VLOOKUP(B1324,'[1]002'!B:M,3,0),7),3)","v":"东莞市"},{"$f":"VLOOKUP(B1324,'[1]002'!B:M,7,0)","v":"卢嘉欣"},{"$f":"VLOOKUP(B1324,'[1]002'!B:M,8,0)","v":"东莞市松山湖实验中学"},{"$f":"VLOOKUP(B1324,'[1]002'!B:M,11,0)","v":"-"},{"$f":"VLOOKUP(B1324,'[1]002'!B:M,12,0)","v":"-"},{"$f":"VLOOKUP(B1324,[2]sheet2!B:L,10,0)","v":"-"},{"$f":"VLOOKUP(B1324,[2]sheet2!B:L,11,0)","v":"-"},"http://183.62.54.51:8841/data/files/certificate/000000000439/7d55785e8a47421699a268bfbba254e5/signed/1322_卢嘉欣_三等奖_7209.pdf"]
[1323,"P306219092442","欧姆定律","初中组","新媒体新技术教学应用课例","三等奖",{"$f":"RIGHT(LEFT(VLOOKUP(B1325,'[1]002'!B:M,3,0),7),3)","v":"东莞市"},{"$f":"VLOOKUP(B1325,'[1]002'!B:M,7,0)","v":"廖浩铭"},{"$f":"VLOOKUP(B1325,'[1]002'!B:M,8,0)","v":"东莞市可园中学"},{"$f":"VLOOKUP(B1325,'[1]002'!B:M,11,0)","v":"-"},{"$f":"VLOOKUP(B1325,'[1]002'!B:M,12,0)","v":"-"},{"$f":"VLOOKUP(B1325,[2]sheet2!B:L,10,0)","v":"-"},{"$f":"VLOOKUP(B1325,[2]sheet2!B:L,11,0)","v":"-"},"http://183.62.54.51:8841/data/files/certificate/000000000439/ef9c96f3679f4b12bc3a4c5ddd3565c0/signed/1323_廖浩铭_三等奖_7210.pdf"]
[1324,"P306219088958","图层应用","初中组","新媒体新技术教学应用课例","三等奖",{"$f":"RIGHT(LEFT(VLOOKUP(B1326,'[1]002'!B:M,3,0),7),3)","v":"中山市"},{"$f":"VLOOKUP(B1326,'[1]002'!B:M,7,0)","v":"王怡涵"},{"$f":"VLOOKUP(B1326,'[1]002'!B:M,8,0)","v":"中山市坦洲实验中学"},{"$f":"VLOOKUP(B1326,'[1]002'!B:M,11,0)","v":"-"},{"$f":"VLOOKUP(B1326,'[1]002'!B:M,12,0)","v":"-"},{"$f":"VLOOKUP(B1326,[2]sheet2!B:L,10,0)","v":"-"},{"$f":"VLOOKUP(B1326,[2]sheet2!B:L,11,0)","v":"-"},"http://183.62.54.51:8841/data/files/certificate/000000000439/99afac11f02643d3b482352eb076143b/signed/1324_王怡涵_三等奖_7211.pdf"]
[1325,"P307219090352","一次函数与二元一次方程组","初中组","新媒体新技术教学应用课例","三等奖",{"$f":"RIGHT(LEFT(VLOOKUP(B1327,'[1]002'!B:M,3,0),7),3)","v":"中山市"},{"$f":"VLOOKUP(B1327,'[1]002'!B:M,7,0)","v":"邓婷"},{"$f":"VLOOKUP(B1327,'[1]002'!B:M,8,0)","v":"中山市东区远洋学校"},{"$f":"VLOOKUP(B1327,'[1]002'!B:M,11,0)","v":"王安平"},{"$f":"VLOOKUP(B1327,'[1]002'!B:M,12,0)","v":"中山市东区远洋学校"},{"$f":"VLOOKUP(B1327,[2]sheet2!B:L,10,0)","v":"-"},{"$f":"VLOOKUP(B1327,[2]sheet2!B:L,11,0)","v":"-"},"http://183.62.54.51:8841/data/files/certificate/000000000439/081a2558d9794511aec5dbc199dba105/signed/1325_邓婷、王安平_三等奖_7212.pdf"]
[1326,"P306219089135","使用Photoshop合成端午节海报","初中组","新媒体新技术教学应用课例","三等奖",{"$f":"RIGHT(LEFT(VLOOKUP(B1328,'[1]002'!B:M,3,0),7),3)","v":"中山市"},{"$f":"VLOOKUP(B1328,'[1]002'!B:M,7,0)","v":"李思静"},{"$f":"VLOOKUP(B1328,'[1]002'!B:M,8,0)","v":"中山市坦洲中学"},{"$f":"VLOOKUP(B1328,'[1]002'!B:M,11,0)","v":"-"},{"$f":"VLOOKUP(B1328,'[1]002'!B:M,12,0)","v":"-"},{"$f":"VLOOKUP(B1328,[2]sheet2!B:L,10,0)","v":"-"},{"$f":"VLOOKUP(B1328,[2]sheet2!B:L,11,0)","v":"-"},"http://183.62.54.51:8841/data/files/certificate/000000000439/82108589dc5141c59099c42c05bdfbff/signed/1326_李思静_三等奖_7213.pdf"]
[1327,"P306219088948","神奇的魔法师——利用滤镜制作图像特效","初中组","新媒体新技术教学应用课例","三等奖",{"$f":"RIGHT(LEFT(VLOOKUP(B1329,'[1]002'!B:M,3,0),7),3)","v":"中山市"},{"$f":"VLOOKUP(B1329,'[1]002'!B:M,7,0)","v":"刘小娜"},{"$f":"VLOOKUP(B1329,'[1]002'!B:M,8,0)","v":"中山市坦洲实验中学"},{"$f":"VLOOKUP(B1329,'[1]002'!B:M,11,0)","v":"-"},{"$f":"VLOOKUP(B1329,'[1]002'!B:M,12,0)","v":"-"},{"$f":"VLOOKUP(B1329,[2]sheet2!B:L,10,0)","v":"-"},{"$f":"VLOOKUP(B1329,[2]sheet2!B:L,11,0)","v":"-"},"http://183.62.54.51:8841/data/files/certificate/000000000439/e56785c1cf7f4f509d5ab737c1ea9deb/signed/1327_刘小娜_三等奖_7214.pdf"]
[1328,"P306219088712","赏析景物描写作用","初中组","新媒体新技术教学应用课例","三等奖",{"$f":"RIGHT(LEFT(VLOOKUP(B1330,'[1]002'!B:M,3,0),7),3)","v":"中山市"},{"$f":"VLOOKUP(B1330,'[1]002'!B:M,7,0)","v":"饶龙霞"},{"$f":"VLOOKUP(B1330,'[1]002'!B:M,8,0)","v":"中山市西区铁城初级中学"},{"$f":"VLOOKUP(B1330,'[1]002'!B:M,11,0)","v":"苏敏坚"},{"$f":"VLOOKUP(B1330,'[1]002'!B:M,12,0)","v":"中山市西区铁城初级中学"},{"$f":"VLOOKUP(B1330,[2]sheet2!B:L,10,0)","v":"-"},{"$f":"VLOOKUP(B1330,[2]sheet2!B:L,11,0)","v":"-"},"http://183.62.54.51:8841/data/files/certificate/000000000439/70d6da60bb09412db483fee2d8ccdca1/signed/1328_饶龙霞、苏敏坚_三等奖_7215.pdf"]
[1329,"P306219089228","酸碱盐的复习（第1课时）","初中组","新媒体新技术教学应用课例","三等奖",{"$f":"RIGHT(LEFT(VLOOKUP(B1331,'[1]002'!B:M,3,0),7),3)","v":"中山市"},{"$f":"VLOOKUP(B1331,'[1]002'!B:M,7,0)","v":"黄海萍"},{"$f":"VLOOKUP(B1331,'[1]002'!B:M,8,0)","v":"中山市石岐中学"},{"$f":"VLOOKUP(B1331,'[1]002'!B:M,11,0)","v":"-"},{"$f":"VLOOKUP(B1331,'[1]002'!B:M,12,0)","v":"-"},{"$f":"VLOOKUP(B1331,[2]sheet2!B:L,10,0)","v":"-"},{"$f":"VLOOKUP(B1331,[2]sheet2!B:L,11,0)","v":"-"},"http://183.62.54.51:8841/data/files/certificate/000000000439/9ed38f72c8d64e5f92fe7d8d18138f27/signed/1329_黄海萍_三等奖_7216.pdf"]
[1330,"P306219088616","Unit 6 I’m going to study computer science.","初中组","新媒体新技术教学应用课例","三等奖",{"$f":"RIGHT(LEFT(VLOOKUP(B1332,'[1]002'!B:M,3,0),7),3)","v":"中山市"},{"$f":"VLOOKUP(B1332,'[1]002'!B:M,7,0)","v":"张平怡"},{"$f":"VLOOKUP(B1332,'[1]002'!B:M,8,0)","v":"中山市溪角初级中学"},{"$f":"VLOOKUP(B1332,'[1]002'!B:M,11,0)","v":"-"},{"$f":"VLOOKUP(B1332,'[1]002'!B:M,12,0)","v":"-"},{"$f":"VLOOKUP(B1332,[2]sheet2!B:L,10,0)","v":"-"},{"$f":"VLOOKUP(B1332,[2]sheet2!B:L,11,0)","v":"-"},"http://183.62.54.51:8841/data/files/certificate/000000000439/a5278e43f2524f4b98f9155729fa5850/signed/1330_张平怡_三等奖_7217.pdf"]
[1331,"P306219089101","小石潭记复习","初中组","新媒体新技术教学应用课例","三等奖",{"$f":"RIGHT(LEFT(VLOOKUP(B1333,'[1]002'!B:M,3,0),7),3)","v":"中山市"},{"$f":"VLOOKUP(B1333,'[1]002'!B:M,7,0)","v":"林英"},{"$f":"VLOOKUP(B1333,'[1]002'!B:M,8,0)","v":"中山市北区中学"},{"$f":"VLOOKUP(B1333,'[1]002'!B:M,11,0)","v":"-"},{"$f":"VLOOKUP(B1333,'[1]002'!B:M,12,0)","v":"-"},{"$f":"VLOOKUP(B1333,[2]sheet2!B:L,10,0)","v":"-"},{"$f":"VLOOKUP(B1333,[2]sheet2!B:L,11,0)","v":"-"},"http://183.62.54.51:8841/data/files/certificate/000000000439/21c6803141c4438b9e425955b188e3eb/signed/1331_林英_三等奖_7218.pdf"]
[1332,"P306219092784","北魏政治和北方民族大交融","初中组","新媒体新技术教学应用课例","三等奖",{"$f":"RIGHT(LEFT(VLOOKUP(B1334,'[1]002'!B:M,3,0),7),3)","v":"江门市"},{"$f":"VLOOKUP(B1334,'[1]002'!B:M,7,0)","v":"唐新成"},{"$f":"VLOOKUP(B1334,'[1]002'!B:M,8,0)","v":"台山市新宁中学"},{"$f":"VLOOKUP(B1334,'[1]002'!B:M,11,0)","v":"-"},{"$f":"VLOOKUP(B1334,'[1]002'!B:M,12,0)","v":"-"},{"$f":"VLOOKUP(B1334,[2]sheet2!B:L,10,0)","v":"-"},{"$f":"VLOOKUP(B1334,[2]sheet2!B:L,11,0)","v":"-"},"http://183.62.54.51:8841/data/files/certificate/000000000439/f1e87d7044a9489694ab314ff9eff45e/signed/1332_唐新成_三等奖_7219.pdf"]
[1333,"P306219092034","应用电子书包技术优化英语课堂教学","初中组","新媒体新技术教学应用课例","三等奖",{"$f":"RIGHT(LEFT(VLOOKUP(B1335,'[1]002'!B:M,3,0),7),3)","v":"江门市"},{"$f":"VLOOKUP(B1335,'[1]002'!B:M,7,0)","v":"谭巧珍"},{"$f":"VLOOKUP(B1335,'[1]002'!B:M,8,0)","v":"台山市新宁中学"},{"$f":"VLOOKUP(B1335,'[1]002'!B:M,11,0)","v":"-"},{"$f":"VLOOKUP(B1335,'[1]002'!B:M,12,0)","v":"-"},{"$f":"VLOOKUP(B1335,[2]sheet2!B:L,10,0)","v":"-"},{"$f":"VLOOKUP(B1335,[2]sheet2!B:L,11,0)","v":"-"},"http://183.62.54.51:8841/data/files/certificate/000000000439/a5e60f15a96c4b449818044a3709f7f2/signed/1333_谭巧珍_三等奖_7220.pdf"]
[1334,"P306219091997","19.2.3一次函数与方程、不等式（1）","初中组","新媒体新技术教学应用课例","三等奖",{"$f":"RIGHT(LEFT(VLOOKUP(B1336,'[1]002'!B:M,3,0),7),3)","v":"江门市"},{"$f":"VLOOKUP(B1336,'[1]002'!B:M,7,0)","v":"谈健安"},{"$f":"VLOOKUP(B1336,'[1]002'!B:M,8,0)","v":"开平市金山中学"},{"$f":"VLOOKUP(B1336,'[1]002'!B:M,11,0)","v":"-"},{"$f":"VLOOKUP(B1336,'[1]002'!B:M,12,0)","v":"-"},{"$f":"VLOOKUP(B1336,[2]sheet2!B:L,10,0)","v":"-"},{"$f":"VLOOKUP(B1336,[2]sheet2!B:L,11,0)","v":"-"},"http://183.62.54.51:8841/data/files/certificate/000000000439/98302717acbd47b3ab6a9ac5e93db8c9/signed/1334_谈健安_三等奖_7221.pdf"]
[1335,"P306219092075","Module11Unit1BodyLanguage","初中组","新媒体新技术教学应用课例","三等奖",{"$f":"RIGHT(LEFT(VLOOKUP(B1337,'[1]002'!B:M,3,0),7),3)","v":"江门市"},{"$f":"VLOOKUP(B1337,'[1]002'!B:M,7,0)","v":"杨惠娟"},{"$f":"VLOOKUP(B1337,'[1]002'!B:M,8,0)","v":"江门市新会葵城中学"},{"$f":"VLOOKUP(B1337,'[1]002'!B:M,11,0)","v":"-"},{"$f":"VLOOKUP(B1337,'[1]002'!B:M,12,0)","v":"-"},{"$f":"VLOOKUP(B1337,[2]sheet2!B:L,10,0)","v":"-"},{"$f":"VLOOKUP(B1337,[2]sheet2!B:L,11,0)","v":"-"},"http://183.62.54.51:8841/data/files/certificate/000000000439/c2a61eeffd2345c4b9bf8cb88cf0adeb/signed/1335_杨惠娟_三等奖_7222.pdf"]
[1336,"P306219091821","菱形的判定","初中组","新媒体新技术教学应用课例","三等奖",{"$f":"RIGHT(LEFT(VLOOKUP(B1338,'[1]002'!B:M,3,0),7),3)","v":"江门市"},{"$f":"VLOOKUP(B1338,'[1]002'!B:M,7,0)","v":"林兆强"},{"$f":"VLOOKUP(B1338,'[1]002'!B:M,8,0)","v":"江门市第十一中学"},{"$f":"VLOOKUP(B1338,'[1]002'!B:M,11,0)","v":"-"},{"$f":"VLOOKUP(B1338,'[1]002'!B:M,12,0)","v":"-"},{"$f":"VLOOKUP(B1338,[2]sheet2!B:L,10,0)","v":"-"},{"$f":"VLOOKUP(B1338,[2]sheet2!B:L,11,0)","v":"-"},"http://183.62.54.51:8841/data/files/certificate/000000000439/e8e33977fd994367b24614b7ccac40e0/signed/1336_林兆强_三等奖_7223.pdf"]
[1337,"P306219091789","人类对细菌和真菌的利用","初中组","新媒体新技术教学应用课例","三等奖",{"$f":"RIGHT(LEFT(VLOOKUP(B1339,'[1]002'!B:M,3,0),7),3)","v":"江门市"},{"$f":"VLOOKUP(B1339,'[1]002'!B:M,7,0)","v":"李  明"},{"$f":"VLOOKUP(B1339,'[1]002'!B:M,8,0)","v":"江门市第九中学"},{"$f":"VLOOKUP(B1339,'[1]002'!B:M,11,0)","v":"-"},{"$f":"VLOOKUP(B1339,'[1]002'!B:M,12,0)","v":"-"},{"$f":"VLOOKUP(B1339,[2]sheet2!B:L,10,0)","v":"-"},{"$f":"VLOOKUP(B1339,[2]sheet2!B:L,11,0)","v":"-"},"http://183.62.54.51:8841/data/files/certificate/000000000439/53dcdc23bad9413993465a3380b8d6a2/signed/1337_李明_三等奖_7224.pdf"]
[1338,"P306219091378","用计算机做科学实验","初中组","新媒体新技术教学应用课例","三等奖",{"$f":"RIGHT(LEFT(VLOOKUP(B1340,'[1]002'!B:M,3,0),7),3)","v":"茂名市"},{"$f":"VLOOKUP(B1340,'[1]002'!B:M,7,0)","v":"陈文政"},{"$f":"VLOOKUP(B1340,'[1]002'!B:M,8,0)","v":"茂名市第七中学"},{"$f":"VLOOKUP(B1340,'[1]002'!B:M,11,0)","v":"-"},{"$f":"VLOOKUP(B1340,'[1]002'!B:M,12,0)","v":"-"},{"$f":"VLOOKUP(B1340,[2]sheet2!B:L,10,0)","v":"-"},{"$f":"VLOOKUP(B1340,[2]sheet2!B:L,11,0)","v":"-"},"http://183.62.54.51:8841/data/files/certificate/000000000439/7fc661bf55bc45088ce6adeb423fef57/signed/1338_陈文政_三等奖_7225.pdf"]
[1339,"P306219091302","因式分解复习课","初中组","新媒体新技术教学应用课例","三等奖",{"$f":"RIGHT(LEFT(VLOOKUP(B1341,'[1]002'!B:M,3,0),7),3)","v":"茂名市"},{"$f":"VLOOKUP(B1341,'[1]002'!B:M,7,0)","v":"吴丹媚"},{"$f":"VLOOKUP(B1341,'[1]002'!B:M,8,0)","v":"茂名市博雅中学"},{"$f":"VLOOKUP(B1341,'[1]002'!B:M,11,0)","v":"-"},{"$f":"VLOOKUP(B1341,'[1]002'!B:M,12,0)","v":"-"},{"$f":"VLOOKUP(B1341,[2]sheet2!B:L,10,0)","v":"-"},{"$f":"VLOOKUP(B1341,[2]sheet2!B:L,11,0)","v":"-"},"http://183.62.54.51:8841/data/files/certificate/000000000439/b568d0a8531243f4a08b9e2266f60b17/signed/1339_吴丹媚_三等奖_7226.pdf"]
[1340,"P306219091430","分式的加减法1","初中组","新媒体新技术教学应用课例","三等奖",{"$f":"RIGHT(LEFT(VLOOKUP(B1342,'[1]002'!B:M,3,0),7),3)","v":"茂名市"},{"$f":"VLOOKUP(B1342,'[1]002'!B:M,7,0)","v":"郑夏玲"},{"$f":"VLOOKUP(B1342,'[1]002'!B:M,8,0)","v":"茂名市博雅中学"},{"$f":"VLOOKUP(B1342,'[1]002'!B:M,11,0)","v":"-"},{"$f":"VLOOKUP(B1342,'[1]002'!B:M,12,0)","v":"-"},{"$f":"VLOOKUP(B1342,[2]sheet2!B:L,10,0)","v":"-"},{"$f":"VLOOKUP(B1342,[2]sheet2!B:L,11,0)","v":"-"},"http://183.62.54.51:8841/data/files/certificate/000000000439/07acd45a10174e048371a5228a6d3736/signed/1340_郑夏玲_三等奖_7227.pdf"]
[1341,"P306219091376","M3Unit2 Thhis year we are training more carefully.","初中组","新媒体新技术教学应用课例","三等奖",{"$f":"RIGHT(LEFT(VLOOKUP(B1343,'[1]002'!B:M,3,0),7),3)","v":"茂名市"},{"$f":"VLOOKUP(B1343,'[1]002'!B:M,7,0)","v":"黄小莲"},{"$f":"VLOOKUP(B1343,'[1]002'!B:M,8,0)","v":"茂名市愉园中学"},{"$f":"VLOOKUP(B1343,'[1]002'!B:M,11,0)","v":"-"},{"$f":"VLOOKUP(B1343,'[1]002'!B:M,12,0)","v":"-"},{"$f":"VLOOKUP(B1343,[2]sheet2!B:L,10,0)","v":"-"},{"$f":"VLOOKUP(B1343,[2]sheet2!B:L,11,0)","v":"-"},"http://183.62.54.51:8841/data/files/certificate/000000000439/ca87c9e8e19f4e6fbec9a620d1403fe4/signed/1341_黄小莲_三等奖_7228.pdf"]
[1342,"P306219091431","外交事业的发展","初中组","新媒体新技术教学应用课例","三等奖",{"$f":"RIGHT(LEFT(VLOOKUP(B1344,'[1]002'!B:M,3,0),7),3)","v":"茂名市"},{"$f":"VLOOKUP(B1344,'[1]002'!B:M,7,0)","v":"张乔君"},{"$f":"VLOOKUP(B1344,'[1]002'!B:M,8,0)","v":"茂名市启源中学"},{"$f":"VLOOKUP(B1344,'[1]002'!B:M,11,0)","v":"-"},{"$f":"VLOOKUP(B1344,'[1]002'!B:M,12,0)","v":"-"},{"$f":"VLOOKUP(B1344,[2]sheet2!B:L,10,0)","v":"-"},{"$f":"VLOOKUP(B1344,[2]sheet2!B:L,11,0)","v":"-"},"http://183.62.54.51:8841/data/files/certificate/000000000439/fec7722fe28a4148b415846264675b57/signed/1342_张乔君_三等奖_7229.pdf"]
[1343,"P306219091555","蚊子和狮子","初中组","新媒体新技术教学应用课例","三等奖",{"$f":"RIGHT(LEFT(VLOOKUP(B1345,'[1]002'!B:M,3,0),7),3)","v":"茂名市"},{"$f":"VLOOKUP(B1345,'[1]002'!B:M,7,0)","v":"柯嘉敏"},{"$f":"VLOOKUP(B1345,'[1]002'!B:M,8,0)","v":"茂名市新世纪学校"},{"$f":"VLOOKUP(B1345,'[1]002'!B:M,11,0)","v":"柯宇媚"},{"$f":"VLOOKUP(B1345,'[1]002'!B:M,12,0)","v":"化州市中垌镇杨充小学"},{"$f":"VLOOKUP(B1345,[2]sheet2!B:L,10,0)","v":"-"},{"$f":"VLOOKUP(B1345,[2]sheet2!B:L,11,0)","v":"-"},"http://183.62.54.51:8841/data/files/certificate/000000000439/4d80e4f2c3b1485bb99c82cf55797478/signed/1343_柯嘉敏、柯宇媚_三等奖_7230.pdf"]
[1344,"P306219091301","病句的辨析与修改","初中组","新媒体新技术教学应用课例","三等奖",{"$f":"RIGHT(LEFT(VLOOKUP(B1346,'[1]002'!B:M,3,0),7),3)","v":"茂名市"},{"$f":"VLOOKUP(B1346,'[1]002'!B:M,7,0)","v":"邹金兰"},{"$f":"VLOOKUP(B1346,'[1]002'!B:M,8,0)","v":"高州市镇江中学"},{"$f":"VLOOKUP(B1346,'[1]002'!B:M,11,0)","v":"-"},{"$f":"VLOOKUP(B1346,'[1]002'!B:M,12,0)","v":"-"},{"$f":"VLOOKUP(B1346,[2]sheet2!B:L,10,0)","v":"-"},{"$f":"VLOOKUP(B1346,[2]sheet2!B:L,11,0)","v":"-"},"http://183.62.54.51:8841/data/files/certificate/000000000439/501bd14519904b0485215012ea8be260/signed/1344_邹金兰_三等奖_7231.pdf"]
[1345,"P306219091429","夯实法治基石","初中组","新媒体新技术教学应用课例","三等奖",{"$f":"RIGHT(LEFT(VLOOKUP(B1347,'[1]002'!B:M,3,0),7),3)","v":"茂名市"},{"$f":"VLOOKUP(B1347,'[1]002'!B:M,7,0)","v":"许田金"},{"$f":"VLOOKUP(B1347,'[1]002'!B:M,8,0)","v":"茂名市博雅中学"},{"$f":"VLOOKUP(B1347,'[1]002'!B:M,11,0)","v":"-"},{"$f":"VLOOKUP(B1347,'[1]002'!B:M,12,0)","v":"-"},{"$f":"VLOOKUP(B1347,[2]sheet2!B:L,10,0)","v":"-"},{"$f":"VLOOKUP(B1347,[2]sheet2!B:L,11,0)","v":"-"},"http://183.62.54.51:8841/data/files/certificate/000000000439/3697f929eeab4baeb6c5be772ef0c430/signed/1345_许田金_三等奖_7232.pdf"]
[1346,"P306219091204","一次函数的图像和性质","初中组","新媒体新技术教学应用课例","三等奖",{"$f":"RIGHT(LEFT(VLOOKUP(B1348,'[1]002'!B:M,3,0),7),3)","v":"肇庆市"},{"$f":"VLOOKUP(B1348,'[1]002'!B:M,7,0)","v":"欧文杰"},{"$f":"VLOOKUP(B1348,'[1]002'!B:M,8,0)","v":"鼎湖区永安镇初级中学"},{"$f":"VLOOKUP(B1348,'[1]002'!B:M,11,0)","v":"-"},{"$f":"VLOOKUP(B1348,'[1]002'!B:M,12,0)","v":"-"},{"$f":"VLOOKUP(B1348,[2]sheet2!B:L,10,0)","v":"-"},{"$f":"VLOOKUP(B1348,[2]sheet2!B:L,11,0)","v":"-"},"http://183.62.54.51:8841/data/files/certificate/000000000439/33e4374d513542dd9f78871e52dda3c2/signed/1346_欧文杰_三等奖_7233.pdf"]
[1347,"P306219091691","何时获得最大利润","初中组","新媒体新技术教学应用课例","三等奖",{"$f":"RIGHT(LEFT(VLOOKUP(B1349,'[1]002'!B:M,3,0),7),3)","v":"清远市"},{"$f":"VLOOKUP(B1349,'[1]002'!B:M,7,0)","v":"李丽丹"},{"$f":"VLOOKUP(B1349,'[1]002'!B:M,8,0)","v":"英德市第八中学"},{"$f":"VLOOKUP(B1349,'[1]002'!B:M,11,0)","v":"-"},{"$f":"VLOOKUP(B1349,'[1]002'!B:M,12,0)","v":"-"},{"$f":"VLOOKUP(B1349,[2]sheet2!B:L,10,0)","v":"-"},{"$f":"VLOOKUP(B1349,[2]sheet2!B:L,11,0)","v":"-"},"http://183.62.54.51:8841/data/files/certificate/000000000439/acaa800f6b604013bebd2f8f186d0206/signed/1347_李丽丹_三等奖_7234.pdf"]
[1348,"P306219091698","仁爱英语七年级下册第6单元第二个话题第2课","初中组","新媒体新技术教学应用课例","三等奖",{"$f":"RIGHT(LEFT(VLOOKUP(B1350,'[1]002'!B:M,3,0),7),3)","v":"清远市"},{"$f":"VLOOKUP(B1350,'[1]002'!B:M,7,0)","v":"卢会玲"},{"$f":"VLOOKUP(B1350,'[1]002'!B:M,8,0)","v":"清远市博爱学校"},{"$f":"VLOOKUP(B1350,'[1]002'!B:M,11,0)","v":"-"},{"$f":"VLOOKUP(B1350,'[1]002'!B:M,12,0)","v":"-"},{"$f":"VLOOKUP(B1350,[2]sheet2!B:L,10,0)","v":"-"},{"$f":"VLOOKUP(B1350,[2]sheet2!B:L,11,0)","v":"-"},"http://183.62.54.51:8841/data/files/certificate/000000000439/5139041684c14098862e6fc0dc4fa449/signed/1348_卢会玲_三等奖_7235.pdf"]
[1349,"P306219087285","6.4探究滑动摩擦力","初中组","新媒体新技术教学应用课例","三等奖",{"$f":"RIGHT(LEFT(VLOOKUP(B1351,'[1]002'!B:M,3,0),7),3)","v":"潮州市"},{"$f":"VLOOKUP(B1351,'[1]002'!B:M,7,0)","v":"许绿垒"},{"$f":"VLOOKUP(B1351,'[1]002'!B:M,8,0)","v":"潮州市湘桥区城南实验中学"},{"$f":"VLOOKUP(B1351,'[1]002'!B:M,11,0)","v":"-"},{"$f":"VLOOKUP(B1351,'[1]002'!B:M,12,0)","v":"-"},{"$f":"VLOOKUP(B1351,[2]sheet2!B:L,10,0)","v":"-"},{"$f":"VLOOKUP(B1351,[2]sheet2!B:L,11,0)","v":"-"},"http://183.62.54.51:8841/data/files/certificate/000000000439/66cd0d3bb1de4513ae6693c608b8b6df/signed/1349_许绿垒_三等奖_7236.pdf"]
[1350,"P302219091080","酸和碱的中和反应","初中组","教育资源应用案例_项目单位","三等奖","佛山市",{"$f":"VLOOKUP(B1352,'[1]002'!B:M,7,0)","v":"陈蕴"},{"$f":"VLOOKUP(B1352,'[1]002'!B:M,8,0)","v":"佛山市三水区西南街道健力宝中学"},{"$f":"VLOOKUP(B1352,'[1]002'!B:M,11,0)","v":"-"},{"$f":"VLOOKUP(B1352,'[1]002'!B:M,12,0)","v":"-"},{"$f":"VLOOKUP(B1352,[2]sheet2!B:L,10,0)","v":"-"},{"$f":"VLOOKUP(B1352,[2]sheet2!B:L,11,0)","v":"-"},"http://183.62.54.51:8841/data/files/certificate/000000000439/6507e77d9e0c456dacd9f8f2209c54d8/signed/1350_陈蕴_三等奖_7237.pdf"]
[1351,"P302219091372","提公因式法分解因式","初中组","教育资源应用案例_项目单位","三等奖","茂名市",{"$f":"VLOOKUP(B1353,'[1]002'!B:M,7,0)","v":"吴秀萍"},{"$f":"VLOOKUP(B1353,'[1]002'!B:M,8,0)","v":"茂名市第九中学"},{"$f":"VLOOKUP(B1353,'[1]002'!B:M,11,0)","v":"-"},{"$f":"VLOOKUP(B1353,'[1]002'!B:M,12,0)","v":"-"},{"$f":"VLOOKUP(B1353,[2]sheet2!B:L,10,0)","v":"-"},{"$f":"VLOOKUP(B1353,[2]sheet2!B:L,11,0)","v":"-"},"http://183.62.54.51:8841/data/files/certificate/000000000439/0e885094a2dd489a93c5c9aa07a5b025/signed/1351_吴秀萍_三等奖_7238.pdf"]
[1352,"P302219081067","北师大2011版七年级下册第13章第一节健康及其条件","初中组","教育资源应用案例_项目单位","三等奖","云浮市",{"$f":"VLOOKUP(B1354,'[1]002'!B:M,7,0)","v":"龙智良"},{"$f":"VLOOKUP(B1354,'[1]002'!B:M,8,0)","v":"新兴县蚕岗中学"},{"$f":"VLOOKUP(B1354,'[1]002'!B:M,11,0)","v":"-"},{"$f":"VLOOKUP(B1354,'[1]002'!B:M,12,0)","v":"-"},{"$f":"VLOOKUP(B1354,[2]sheet2!B:L,10,0)","v":"-"},{"$f":"VLOOKUP(B1354,[2]sheet2!B:L,11,0)","v":"-"},"http://183.62.54.51:8841/data/files/certificate/000000000439/47fd522312c54880a4f87f0b8db0c44a/signed/1352_龙智良_三等奖_7239.pdf"]
[1353,"P303319093213","生活中的圆周运动","高中组","课件","一等奖","广州市",{"$f":"VLOOKUP(B1355,'[1]002'!B:M,7,0)","v":"何少娜"},{"$f":"VLOOKUP(B1355,'[1]002'!B:M,8,0)","v":"广州彭加木纪念中学"},{"$f":"VLOOKUP(B1355,'[1]002'!B:M,11,0)","v":"-"},{"$f":"VLOOKUP(B1355,'[1]002'!B:M,12,0)","v":"-"},{"$f":"VLOOKUP(B1355,[2]sheet2!B:L,10,0)","v":"-"},{"$f":"VLOOKUP(B1355,[2]sheet2!B:L,11,0)","v":"-"},"http://183.62.54.51:8841/data/files/certificate/000000000439/c874178646b54cd5b776b8e519da036a/signed/1353_何少娜_一等奖_7240.pdf"]
[1354,"P303319093208","发现摆线之美","高中组","课件","一等奖","广州市",{"$f":"VLOOKUP(B1356,'[1]002'!B:M,7,0)","v":"侯锦标"},{"$f":"VLOOKUP(B1356,'[1]002'!B:M,8,0)","v":"广州市第四中学"},{"$f":"VLOOKUP(B1356,'[1]002'!B:M,11,0)","v":"-"},{"$f":"VLOOKUP(B1356,'[1]002'!B:M,12,0)","v":"-"},{"$f":"VLOOKUP(B1356,[2]sheet2!B:L,10,0)","v":"-"},{"$f":"VLOOKUP(B1356,[2]sheet2!B:L,11,0)","v":"-"},"http://183.62.54.51:8841/data/files/certificate/000000000439/dee4ea61289041f79fb486926f05c8c6/signed/1354_侯锦标_一等奖_7241.pdf"]
[1355,"P303319093207","球面距离","高中组","课件","一等奖","广州市",{"$f":"VLOOKUP(B1357,'[1]002'!B:M,7,0)","v":"侯锦标"},{"$f":"VLOOKUP(B1357,'[1]002'!B:M,8,0)","v":"广州市第四中学"},{"$f":"VLOOKUP(B1357,'[1]002'!B:M,11,0)","v":"蔡睿"},{"$f":"VLOOKUP(B1357,'[1]002'!B:M,12,0)","v":"广州市第四中学"},{"$f":"VLOOKUP(B1357,[2]sheet2!B:L,10,0)","v":"-"},{"$f":"VLOOKUP(B1357,[2]sheet2!B:L,11,0)","v":"-"},"http://183.62.54.51:8841/data/files/certificate/000000000439/6f7f8ca8d6694ca08610a43b0e09f300/signed/1355_侯锦标、蔡睿_一等奖_7242.pdf"]
[1356,"P303319092272","洋流","高中组","课件","一等奖","汕头市",{"$f":"VLOOKUP(B1358,'[1]002'!B:M,7,0)","v":"杨洁彤"},{"$f":"VLOOKUP(B1358,'[1]002'!B:M,8,0)","v":"汕头市东厦中学"},{"$f":"VLOOKUP(B1358,'[1]002'!B:M,11,0)","v":"文及溢"},{"$f":"VLOOKUP(B1358,'[1]002'!B:M,12,0)","v":"汕头市第四中学"},{"$f":"VLOOKUP(B1358,[2]sheet2!B:L,10,0)","v":"-"},{"$f":"VLOOKUP(B1358,[2]sheet2!B:L,11,0)","v":"-"},"http://183.62.54.51:8841/data/files/certificate/000000000439/b61c52d16aa44b3bba70455f8cc33bdc/signed/1356_杨洁彤、文及溢_一等奖_7243.pdf"]
[1357,"P303319092270","几种常见的磁场（第一课时）","高中组","课件","一等奖","汕头市",{"$f":"VLOOKUP(B1359,'[1]002'!B:M,7,0)","v":"叶枫"},{"$f":"VLOOKUP(B1359,'[1]002'!B:M,8,0)","v":"汕头市金山中学"},{"$f":"VLOOKUP(B1359,'[1]002'!B:M,11,0)","v":"-"},{"$f":"VLOOKUP(B1359,'[1]002'!B:M,12,0)","v":"-"},{"$f":"VLOOKUP(B1359,[2]sheet2!B:L,10,0)","v":"-"},{"$f":"VLOOKUP(B1359,[2]sheet2!B:L,11,0)","v":"-"},"http://183.62.54.51:8841/data/files/certificate/000000000439/351e63a12106401cb58477afbfcd94f5/signed/1357_叶枫_一等奖_7244.pdf"]
[1358,"P303319092280","汉字与书法","高中组","课件","一等奖","汕头市",{"$f":"VLOOKUP(B1360,'[1]002'!B:M,7,0)","v":"张秋鸿"},{"$f":"VLOOKUP(B1360,'[1]002'!B:M,8,0)","v":"汕头市澄海苏北中学"},{"$f":"VLOOKUP(B1360,'[1]002'!B:M,11,0)","v":"-"},{"$f":"VLOOKUP(B1360,'[1]002'!B:M,12,0)","v":"-"},{"$f":"VLOOKUP(B1360,[2]sheet2!B:L,10,0)","v":"-"},{"$f":"VLOOKUP(B1360,[2]sheet2!B:L,11,0)","v":"-"},"http://183.62.54.51:8841/data/files/certificate/000000000439/5018810d64b2462cb4cc117101dbcaa2/signed/1358_张秋鸿_一等奖_7245.pdf"]
[1359,"P303319092286","价值的创造与实现","高中组","课件","一等奖","汕头市",{"$f":"VLOOKUP(B1361,'[1]002'!B:M,7,0)","v":"李楚恋"},{"$f":"VLOOKUP(B1361,'[1]002'!B:M,8,0)","v":"汕头市达濠华侨中学"},{"$f":"VLOOKUP(B1361,'[1]002'!B:M,11,0)","v":"-"},{"$f":"VLOOKUP(B1361,'[1]002'!B:M,12,0)","v":"-"},{"$f":"VLOOKUP(B1361,[2]sheet2!B:L,10,0)","v":"-"},{"$f":"VLOOKUP(B1361,[2]sheet2!B:L,11,0)","v":"-"},"http://183.62.54.51:8841/data/files/certificate/000000000439/b24feef7b74f4156a7c2260c77079b7e/signed/1359_李楚恋_一等奖_7246.pdf"]
[1360,"P303319092274","人的认识从何而来","高中组","课件","一等奖","汕头市",{"$f":"VLOOKUP(B1362,'[1]002'!B:M,7,0)","v":"钟彤"},{"$f":"VLOOKUP(B1362,'[1]002'!B:M,8,0)","v":"汕头市东厦中学"},{"$f":"VLOOKUP(B1362,'[1]002'!B:M,11,0)","v":"-"},{"$f":"VLOOKUP(B1362,'[1]002'!B:M,12,0)","v":"-"},{"$f":"VLOOKUP(B1362,[2]sheet2!B:L,10,0)","v":"-"},{"$f":"VLOOKUP(B1362,[2]sheet2!B:L,11,0)","v":"-"},"http://183.62.54.51:8841/data/files/certificate/000000000439/b9e8ff0a9ded4a96a2e57e8bd490daaf/signed/1360_钟彤_一等奖_7247.pdf"]
[1361,"P303319092271","区域经济和重心的南移","高中组","课件","一等奖","汕头市",{"$f":"VLOOKUP(B1363,'[1]002'!B:M,7,0)","v":"李远飞"},{"$f":"VLOOKUP(B1363,'[1]002'!B:M,8,0)","v":"汕头市澄海苏湾中学"},{"$f":"VLOOKUP(B1363,'[1]002'!B:M,11,0)","v":"-"},{"$f":"VLOOKUP(B1363,'[1]002'!B:M,12,0)","v":"-"},{"$f":"VLOOKUP(B1363,[2]sheet2!B:L,10,0)","v":"-"},{"$f":"VLOOKUP(B1363,[2]sheet2!B:L,11,0)","v":"-"},"http://183.62.54.51:8841/data/files/certificate/000000000439/50177cbb6c00450aa383b93794f68f4f/signed/1361_李远飞_一等奖_7248.pdf"]
[1362,"P303319090635","探究安培力","高中组","课件","一等奖","佛山市",{"$f":"VLOOKUP(B1364,'[1]002'!B:M,7,0)","v":"黄宗毅"},{"$f":"VLOOKUP(B1364,'[1]002'!B:M,8,0)","v":"佛山市顺德区乐从沙滘初级中学"},{"$f":"VLOOKUP(B1364,'[1]002'!B:M,11,0)","v":"-"},{"$f":"VLOOKUP(B1364,'[1]002'!B:M,12,0)","v":"-"},{"$f":"VLOOKUP(B1364,[2]sheet2!B:L,10,0)","v":"-"},{"$f":"VLOOKUP(B1364,[2]sheet2!B:L,11,0)","v":"-"},"http://183.62.54.51:8841/data/files/certificate/000000000439/dc3522311b7a4e48aeeacb606ced3372/signed/1362_黄宗毅_一等奖_7249.pdf"]
[1363,"P303319093389","新时代的劳动者","高中组","课件","一等奖","河源市",{"$f":"VLOOKUP(B1365,'[1]002'!B:M,7,0)","v":"叶胜蓉"},{"$f":"VLOOKUP(B1365,'[1]002'!B:M,8,0)","v":"广东省紫金中学"},{"$f":"VLOOKUP(B1365,'[1]002'!B:M,11,0)","v":"钱发飞"},{"$f":"VLOOKUP(B1365,'[1]002'!B:M,12,0)","v":"紫金县职业技术学校"},{"$f":"VLOOKUP(B1365,[2]sheet2!B:L,10,0)","v":"-"},{"$f":"VLOOKUP(B1365,[2]sheet2!B:L,11,0)","v":"-"},"http://183.62.54.51:8841/data/files/certificate/000000000439/f32e9e7cc4574881876df7412363230a/signed/1363_叶胜蓉、钱发飞_一等奖_7250.pdf"]
[1364,"P303319092256","高中物理flash课件","高中组","课件","一等奖","惠州市",{"$f":"VLOOKUP(B1366,'[1]002'!B:M,7,0)","v":"路嘉瑜"},{"$f":"VLOOKUP(B1366,'[1]002'!B:M,8,0)","v":"惠州市光正实验学校"},"叶粉娥","佛山市顺德区容桂上佳市小学",{"$f":"VLOOKUP(B1366,[2]sheet2!B:L,10,0)","v":"-"},{"$f":"VLOOKUP(B1366,[2]sheet2!B:L,11,0)","v":"-"},"http://183.62.54.51:8841/data/files/certificate/000000000439/458caec7af0245708f2086a3798be919/signed/1364_路嘉瑜、叶粉娥_一等奖_7251.pdf"]
[1365,"P303319092498","信息安全","高中组","课件","一等奖","东莞市",{"$f":"VLOOKUP(B1367,'[1]002'!B:M,7,0)","v":"郑旭淳"},{"$f":"VLOOKUP(B1367,'[1]002'!B:M,8,0)","v":"东莞市第六高级中学"},{"$f":"VLOOKUP(B1367,'[1]002'!B:M,11,0)","v":"黎清万"},{"$f":"VLOOKUP(B1367,'[1]002'!B:M,12,0)","v":"东莞市第六高级中学"},{"$f":"VLOOKUP(B1367,[2]sheet2!B:L,10,0)","v":"颜兰"},{"$f":"VLOOKUP(B1367,[2]sheet2!B:L,11,0)","v":"东莞市第六高级中学"},"http://183.62.54.51:8841/data/files/certificate/000000000439/bffcde7a8acb4bb5980777115c2a0f1f/signed/1365_郑旭淳、黎清万、颜兰_一等奖_7252.pdf"]
[1366,"P303319092499","通过神经系统的调节","高中组","课件","一等奖","东莞市",{"$f":"VLOOKUP(B1368,'[1]002'!B:M,7,0)","v":"蔡欢慈"},{"$f":"VLOOKUP(B1368,'[1]002'!B:M,8,0)","v":"东莞市东城第一中学"},{"$f":"VLOOKUP(B1368,'[1]002'!B:M,11,0)","v":"-"},{"$f":"VLOOKUP(B1368,'[1]002'!B:M,12,0)","v":"-"},{"$f":"VLOOKUP(B1368,[2]sheet2!B:L,10,0)","v":"-"},{"$f":"VLOOKUP(B1368,[2]sheet2!B:L,11,0)","v":"-"},"http://183.62.54.51:8841/data/files/certificate/000000000439/fb3a3a799c4247609e6bedc8785bf3c1/signed/1366_蔡欢慈_一等奖_7253.pdf"]
[1367,"P303319093017","第二节动能势能","高中组","课件","一等奖","湛江市",{"$f":"VLOOKUP(B1369,'[1]002'!B:M,7,0)","v":"吴蜜"},{"$f":"VLOOKUP(B1369,'[1]002'!B:M,8,0)","v":"湛江经济技术开发区觉民中学"},{"$f":"VLOOKUP(B1369,'[1]002'!B:M,11,0)","v":"-"},{"$f":"VLOOKUP(B1369,'[1]002'!B:M,12,0)","v":"-"},{"$f":"VLOOKUP(B1369,[2]sheet2!B:L,10,0)","v":"-"},{"$f":"VLOOKUP(B1369,[2]sheet2!B:L,11,0)","v":"-"},"http://183.62.54.51:8841/data/files/certificate/000000000439/9982d643017b44f3aed442523267d6c2/signed/1367_吴蜜_一等奖_7254.pdf"]
[1368,"P303319093044","主谓一致","高中组","课件","一等奖","湛江市",{"$f":"VLOOKUP(B1370,'[1]002'!B:M,7,0)","v":"王思婷"},{"$f":"VLOOKUP(B1370,'[1]002'!B:M,8,0)","v":"岭南师范学院附属中学"},{"$f":"VLOOKUP(B1370,'[1]002'!B:M,11,0)","v":"-"},{"$f":"VLOOKUP(B1370,'[1]002'!B:M,12,0)","v":"-"},{"$f":"VLOOKUP(B1370,[2]sheet2!B:L,10,0)","v":"-"},{"$f":"VLOOKUP(B1370,[2]sheet2!B:L,11,0)","v":"-"},"http://183.62.54.51:8841/data/files/certificate/000000000439/2209ed15fa96401cb309d5ab5ec5b724/signed/1368_王思婷_一等奖_7255.pdf"]
[1369,"P303319093049","爱进制","高中组","课件","一等奖","湛江市",{"$f":"VLOOKUP(B1371,'[1]002'!B:M,7,0)","v":"曹红丽"},{"$f":"VLOOKUP(B1371,'[1]002'!B:M,8,0)","v":"湛江市爱周高级中学"},{"$f":"VLOOKUP(B1371,'[1]002'!B:M,11,0)","v":"-"},{"$f":"VLOOKUP(B1371,'[1]002'!B:M,12,0)","v":"-"},{"$f":"VLOOKUP(B1371,[2]sheet2!B:L,10,0)","v":"-"},{"$f":"VLOOKUP(B1371,[2]sheet2!B:L,11,0)","v":"-"},"http://183.62.54.51:8841/data/files/certificate/000000000439/14e4eb6129f543d3b58f9da2fb6bb04b/signed/1369_曹红丽_一等奖_7256.pdf"]
[1370,"P303319087831","影视音乐","高中组","课件","一等奖","云浮市",{"$f":"VLOOKUP(B1372,'[1]002'!B:M,7,0)","v":"廖国灿"},{"$f":"VLOOKUP(B1372,'[1]002'!B:M,8,0)","v":"罗定中学"},{"$f":"VLOOKUP(B1372,'[1]002'!B:M,11,0)","v":"韦建强"},{"$f":"VLOOKUP(B1372,'[1]002'!B:M,12,0)","v":"罗定中学"},{"$f":"VLOOKUP(B1372,[2]sheet2!B:L,10,0)","v":"刘美红"},{"$f":"VLOOKUP(B1372,[2]sheet2!B:L,11,0)","v":"罗定中学"},"http://183.62.54.51:8841/data/files/certificate/000000000439/a7895d7e03be410eb6d9c04492037631/signed/1370_廖国灿、韦建强、刘美红_一等奖_7257.pdf"]
[1371,"P305319093237","探究钠与水反应","高中组","微课","一等奖","广州市",{"$f":"VLOOKUP(B1373,'[1]002'!B:M,7,0)","v":"曾显林"},{"$f":"VLOOKUP(B1373,'[1]002'!B:M,8,0)","v":"广东广雅中学"},{"$f":"VLOOKUP(B1373,'[1]002'!B:M,11,0)","v":"-"},{"$f":"VLOOKUP(B1373,'[1]002'!B:M,12,0)","v":"-"},{"$f":"VLOOKUP(B1373,[2]sheet2!B:L,10,0)","v":"-"},{"$f":"VLOOKUP(B1373,[2]sheet2!B:L,11,0)","v":"-"},"http://183.62.54.51:8841/data/files/certificate/000000000439/107c02ffedbc44dc953c1d0f6f87897b/signed/1371_曾显林_一等奖_7258.pdf"]
[1372,"P305319092700","实业救国","高中组","微课","一等奖","深圳市",{"$f":"VLOOKUP(B1374,'[1]002'!B:M,7,0)","v":"温娜"},{"$f":"VLOOKUP(B1374,'[1]002'!B:M,8,0)","v":"深圳市罗湖外语学校"},{"$f":"VLOOKUP(B1374,'[1]002'!B:M,11,0)","v":"-"},{"$f":"VLOOKUP(B1374,'[1]002'!B:M,12,0)","v":"-"},{"$f":"VLOOKUP(B1374,[2]sheet2!B:L,10,0)","v":"-"},{"$f":"VLOOKUP(B1374,[2]sheet2!B:L,11,0)","v":"-"},"http://183.62.54.51:8841/data/files/certificate/000000000439/5bab0d610c6e4c4b94fa7894f387aa36/signed/1372_温娜_一等奖_7259.pdf"]
[1373,"P305319092299","英语听说考试速记微技能指导","高中组","微课","一等奖","汕头市",{"$f":"VLOOKUP(B1375,'[1]002'!B:M,7,0)","v":"吴怡文"},{"$f":"VLOOKUP(B1375,'[1]002'!B:M,8,0)","v":"汕头市聿怀中学"},{"$f":"VLOOKUP(B1375,'[1]002'!B:M,11,0)","v":"-"},{"$f":"VLOOKUP(B1375,'[1]002'!B:M,12,0)","v":"-"},{"$f":"VLOOKUP(B1375,[2]sheet2!B:L,10,0)","v":"-"},{"$f":"VLOOKUP(B1375,[2]sheet2!B:L,11,0)","v":"-"},"http://183.62.54.51:8841/data/files/certificate/000000000439/2c8d3ae3f1824352a8b8b564e8c3d629/signed/1373_吴怡文_一等奖_7260.pdf"]
[1374,"P305319092301","如何提高文章的内在美","高中组","微课","一等奖","汕头市",{"$f":"VLOOKUP(B1376,'[1]002'!B:M,7,0)","v":"黄晓为"},{"$f":"VLOOKUP(B1376,'[1]002'!B:M,8,0)","v":"汕头市达濠华侨中学"},{"$f":"VLOOKUP(B1376,'[1]002'!B:M,11,0)","v":"-"},{"$f":"VLOOKUP(B1376,'[1]002'!B:M,12,0)","v":"-"},{"$f":"VLOOKUP(B1376,[2]sheet2!B:L,10,0)","v":"-"},{"$f":"VLOOKUP(B1376,[2]sheet2!B:L,11,0)","v":"-"},"http://183.62.54.51:8841/data/files/certificate/000000000439/92f24ce01bff4270a869a8308d9db2df/signed/1374_黄晓为_一等奖_7261.pdf"]
[1375,"P305319092294","步步为营之球截面性质的简单应用","高中组","微课","一等奖","汕头市",{"$f":"VLOOKUP(B1377,'[1]002'!B:M,7,0)","v":"许秋妍"},{"$f":"VLOOKUP(B1377,'[1]002'!B:M,8,0)","v":"汕头市第一中学"},{"$f":"VLOOKUP(B1377,'[1]002'!B:M,11,0)","v":"-"},{"$f":"VLOOKUP(B1377,'[1]002'!B:M,12,0)","v":"-"},{"$f":"VLOOKUP(B1377,[2]sheet2!B:L,10,0)","v":"-"},{"$f":"VLOOKUP(B1377,[2]sheet2!B:L,11,0)","v":"-"},"http://183.62.54.51:8841/data/files/certificate/000000000439/15e42bf11e934a48924214cdde126ebc/signed/1375_许秋妍_一等奖_7262.pdf"]
[1376,"P305319092311","扩散现象","高中组","微课","一等奖","汕头市",{"$f":"VLOOKUP(B1378,'[1]002'!B:M,7,0)","v":"黄晓琼"},{"$f":"VLOOKUP(B1378,'[1]002'!B:M,8,0)","v":"汕头市河浦中学"},{"$f":"VLOOKUP(B1378,'[1]002'!B:M,11,0)","v":"-"},{"$f":"VLOOKUP(B1378,'[1]002'!B:M,12,0)","v":"-"},{"$f":"VLOOKUP(B1378,[2]sheet2!B:L,10,0)","v":"-"},{"$f":"VLOOKUP(B1378,[2]sheet2!B:L,11,0)","v":"-"},"http://183.62.54.51:8841/data/files/certificate/000000000439/ef0512739c0648fc96f801a98ac95516/signed/1376_黄晓琼_一等奖_7263.pdf"]
[1377,"P305319092309","逐帧动画与视觉暂留","高中组","微课","一等奖","汕头市",{"$f":"VLOOKUP(B1379,'[1]002'!B:M,7,0)","v":"王霞"},{"$f":"VLOOKUP(B1379,'[1]002'!B:M,8,0)","v":"汕头市聿怀中学"},{"$f":"VLOOKUP(B1379,'[1]002'!B:M,11,0)","v":"-"},{"$f":"VLOOKUP(B1379,'[1]002'!B:M,12,0)","v":"-"},{"$f":"VLOOKUP(B1379,[2]sheet2!B:L,10,0)","v":"-"},{"$f":"VLOOKUP(B1379,[2]sheet2!B:L,11,0)","v":"-"},"http://183.62.54.51:8841/data/files/certificate/000000000439/ce0876f5d27f4cc58ca866c1e3bb1b65/signed/1377_王霞_一等奖_7264.pdf"]
[1378,"P305319090657","乙醇的催化氧化反应","高中组","微课","一等奖","佛山市",{"$f":"VLOOKUP(B1380,'[1]002'!B:M,7,0)","v":"赵丽珍"},{"$f":"VLOOKUP(B1380,'[1]002'!B:M,8,0)","v":"佛山市南海区九江中学"},{"$f":"VLOOKUP(B1380,'[1]002'!B:M,11,0)","v":"-"},{"$f":"VLOOKUP(B1380,'[1]002'!B:M,12,0)","v":"-"},{"$f":"VLOOKUP(B1380,[2]sheet2!B:L,10,0)","v":"-"},{"$f":"VLOOKUP(B1380,[2]sheet2!B:L,11,0)","v":"-"},"http://183.62.54.51:8841/data/files/certificate/000000000439/e7aa680e574349cfab3d29a47e7b1088/signed/1378_赵丽珍_一等奖_7265.pdf"]
[1379,"P305319092208","利用insert函数向列表中添加新元素","高中组","微课","一等奖","惠州市",{"$f":"VLOOKUP(B1381,'[1]002'!B:M,7,0)","v":"刘送娥"},{"$f":"VLOOKUP(B1381,'[1]002'!B:M,8,0)","v":"华南师范大学附属惠阳学校"},{"$f":"VLOOKUP(B1381,'[1]002'!B:M,11,0)","v":"-"},{"$f":"VLOOKUP(B1381,'[1]002'!B:M,12,0)","v":"-"},{"$f":"VLOOKUP(B1381,[2]sheet2!B:L,10,0)","v":"-"},{"$f":"VLOOKUP(B1381,[2]sheet2!B:L,11,0)","v":"-"},"http://183.62.54.51:8841/data/files/certificate/000000000439/5f32549674d747bab40a93b2f319824f/signed/1379_刘送娥_一等奖_7266.pdf"]
[1380,"P305319092985","创意无处不在——有趣的条形码","高中组","微课","一等奖","湛江市",{"$f":"VLOOKUP(B1382,'[1]002'!B:M,7,0)","v":"李琳"},{"$f":"VLOOKUP(B1382,'[1]002'!B:M,8,0)","v":"湛江二中港城中学"},{"$f":"VLOOKUP(B1382,'[1]002'!B:M,11,0)","v":"-"},{"$f":"VLOOKUP(B1382,'[1]002'!B:M,12,0)","v":"-"},{"$f":"VLOOKUP(B1382,[2]sheet2!B:L,10,0)","v":"-"},{"$f":"VLOOKUP(B1382,[2]sheet2!B:L,11,0)","v":"-"},"http://183.62.54.51:8841/data/files/certificate/000000000439/e49d3e8b80b54fd3b99d54ec606da70e/signed/1380_李琳_一等奖_7267.pdf"]
[1381,"P305319092987","使用Camtasia软件制作微课-测定溶液酸碱性","高中组","微课","一等奖","湛江市",{"$f":"VLOOKUP(B1383,'[1]002'!B:M,7,0)","v":"杜晓华"},{"$f":"VLOOKUP(B1383,'[1]002'!B:M,8,0)","v":"岭南师范学院附属中学"},{"$f":"VLOOKUP(B1383,'[1]002'!B:M,11,0)","v":"-"},{"$f":"VLOOKUP(B1383,'[1]002'!B:M,12,0)","v":"-"},{"$f":"VLOOKUP(B1383,[2]sheet2!B:L,10,0)","v":"-"},{"$f":"VLOOKUP(B1383,[2]sheet2!B:L,11,0)","v":"-"},"http://183.62.54.51:8841/data/files/certificate/000000000439/5251aba54b644bd4be63b1963b633e2b/signed/1381_杜晓华_一等奖_7268.pdf"]
[1382,"P305319091794","风化作用与风力侵蚀作用","高中组","微课","一等奖","茂名市",{"$f":"VLOOKUP(B1384,'[1]002'!B:M,7,0)","v":"何杰"},{"$f":"VLOOKUP(B1384,'[1]002'!B:M,8,0)","v":"广东高州中学"},{"$f":"VLOOKUP(B1384,'[1]002'!B:M,11,0)","v":"-"},{"$f":"VLOOKUP(B1384,'[1]002'!B:M,12,0)","v":"-"},{"$f":"VLOOKUP(B1384,[2]sheet2!B:L,10,0)","v":"-"},{"$f":"VLOOKUP(B1384,[2]sheet2!B:L,11,0)","v":"-"},"http://183.62.54.51:8841/data/files/certificate/000000000439/6ca00ddfbe6b4975952b5b84d3550c82/signed/1382_何杰_一等奖_7269.pdf"]
[1383,"P307319092677","信息技术助力数学探究","高中组","信息技术创新教学案例","一等奖","深圳市",{"$f":"VLOOKUP(B1385,'[1]002'!B:M,7,0)","v":"张红红"},{"$f":"VLOOKUP(B1385,'[1]002'!B:M,8,0)","v":"人大附中深圳学校"},{"$f":"VLOOKUP(B1385,'[1]002'!B:M,11,0)","v":"-"},{"$f":"VLOOKUP(B1385,'[1]002'!B:M,12,0)","v":"-"},{"$f":"VLOOKUP(B1385,[2]sheet2!B:L,10,0)","v":"-"},{"$f":"VLOOKUP(B1385,[2]sheet2!B:L,11,0)","v":"-"},"http://183.62.54.51:8841/data/files/certificate/000000000439/b14cf7ff89bb4d76bd70596405dcbfe3/signed/1383_张红红_一等奖_7270.pdf"]
[1384,"P307319090608","倒车智能提醒项目教学案例","高中组","信息技术创新教学案例","一等奖","佛山市",{"$f":"VLOOKUP(B1386,'[1]002'!B:M,7,0)","v":"曾俏华"},{"$f":"VLOOKUP(B1386,'[1]002'!B:M,8,0)","v":"佛山市顺德区青云中学"},{"$f":"VLOOKUP(B1386,'[1]002'!B:M,11,0)","v":"陈仲光"},{"$f":"VLOOKUP(B1386,'[1]002'!B:M,12,0)","v":"佛山市顺德区青云中学"},{"$f":"VLOOKUP(B1386,[2]sheet2!B:L,10,0)","v":"-"},{"$f":"VLOOKUP(B1386,[2]sheet2!B:L,11,0)","v":"-"},"http://183.62.54.51:8841/data/files/certificate/000000000439/5f1dcdeaf4ec44799634c25aa7e8521d/signed/1384_曾俏华、陈仲光_一等奖_7271.pdf"]
[1385,"P307319090605","中学机器人课程分层教学案例","高中组","信息技术创新教学案例","一等奖","佛山市",{"$f":"VLOOKUP(B1387,'[1]002'!B:M,7,0)","v":"胡楚佳"},{"$f":"VLOOKUP(B1387,'[1]002'!B:M,8,0)","v":"佛山市顺德区罗定邦中学"},{"$f":"VLOOKUP(B1387,'[1]002'!B:M,11,0)","v":"-"},{"$f":"VLOOKUP(B1387,'[1]002'!B:M,12,0)","v":"-"},{"$f":"VLOOKUP(B1387,[2]sheet2!B:L,10,0)","v":"-"},{"$f":"VLOOKUP(B1387,[2]sheet2!B:L,11,0)","v":"-"},"http://183.62.54.51:8841/data/files/certificate/000000000439/2e5cc4aad476418c97a363fbcc5b3f0d/signed/1385_胡楚佳_一等奖_7272.pdf"]
[1386,"P301319092764","Python中常见数据集合：列表、元组及字典","高中组","教师网络空间应用案例","一等奖","深圳市",{"$f":"VLOOKUP(B1388,'[1]002'!B:M,7,0)","v":"于欢"},{"$f":"VLOOKUP(B1388,'[1]002'!B:M,8,0)","v":"龙华高级中学"},{"$f":"VLOOKUP(B1388,'[1]002'!B:M,11,0)","v":"-"},{"$f":"VLOOKUP(B1388,'[1]002'!B:M,12,0)","v":"-"},{"$f":"VLOOKUP(B1388,[2]sheet2!B:L,10,0)","v":"-"},{"$f":"VLOOKUP(B1388,[2]sheet2!B:L,11,0)","v":"-"},"http://183.62.54.51:8841/data/files/certificate/000000000439/e5ac06c23dd44b45b37b7b9daefa2fd8/signed/1386_于欢_一等奖_7273.pdf"]
[1387,"P304319092320","潮汕传统文化艺术设计跨学科项目学习教学案例","高中组","跨学科项目式学习教学案例","一等奖","汕头市",{"$f":"VLOOKUP(B1389,'[1]002'!B:M,7,0)","v":"林晗"},{"$f":"VLOOKUP(B1389,'[1]002'!B:M,8,0)","v":"汕头市澄海实验高级中学"},{"$f":"VLOOKUP(B1389,'[1]002'!B:M,11,0)","v":"蔡晓环"},{"$f":"VLOOKUP(B1389,'[1]002'!B:M,12,0)","v":"汕头市澄海实验高级中学"},{"$f":"VLOOKUP(B1389,[2]sheet2!B:L,10,0)","v":"谢蔚"},{"$f":"VLOOKUP(B1389,[2]sheet2!B:L,11,0)","v":"汕头市澄海实验高级中学"},"http://183.62.54.51:8841/data/files/certificate/000000000439/2b1b0285c146467e95b51cd4a0d6df78/signed/1387_林晗、蔡晓环、谢蔚_一等奖_7274.pdf"]
[1388,"P306319093225","苏轼在岭南微信公众号推文写作与交流","高中组","新媒体新技术教学应用课例","一等奖",{"$f":"RIGHT(LEFT(VLOOKUP(B1390,'[1]002'!B:M,3,0),7),3)","v":"广州市"},{"$f":"VLOOKUP(B1390,'[1]002'!B:M,7,0)","v":"帅晨晨"},{"$f":"VLOOKUP(B1390,'[1]002'!B:M,8,0)","v":"广东实验中学越秀学校"},{"$f":"VLOOKUP(B1390,'[1]002'!B:M,11,0)","v":"-"},{"$f":"VLOOKUP(B1390,'[1]002'!B:M,12,0)","v":"-"},{"$f":"VLOOKUP(B1390,[2]sheet2!B:L,10,0)","v":"-"},{"$f":"VLOOKUP(B1390,[2]sheet2!B:L,11,0)","v":"-"},"http://183.62.54.51:8841/data/files/certificate/000000000439/5b1d4e5396aa4444afc0bf9256cc6d39/signed/1388_帅晨晨_一等奖_7275.pdf"]
[1389,"P306319091930","囚绿记","高中组","新媒体新技术教学应用课例","一等奖",{"$f":"RIGHT(LEFT(VLOOKUP(B1391,'[1]002'!B:M,3,0),7),3)","v":"江门市"},{"$f":"VLOOKUP(B1391,'[1]002'!B:M,7,0)","v":"唐科升"},{"$f":"VLOOKUP(B1391,'[1]002'!B:M,8,0)","v":"开平市长师中学"},{"$f":"VLOOKUP(B1391,'[1]002'!B:M,11,0)","v":"-"},{"$f":"VLOOKUP(B1391,'[1]002'!B:M,12,0)","v":"-"},{"$f":"VLOOKUP(B1391,[2]sheet2!B:L,10,0)","v":"-"},{"$f":"VLOOKUP(B1391,[2]sheet2!B:L,11,0)","v":"-"},"http://183.62.54.51:8841/data/files/certificate/000000000439/71981429ccbb4218ac613427d8e7fff0/signed/1389_唐科升_一等奖_7276.pdf"]
[1390,"P303319093206","分子与细胞核心知识手册","高中组","课件","二等奖","广州市",{"$f":"VLOOKUP(B1392,'[1]002'!B:M,7,0)","v":"裴文梅"},{"$f":"VLOOKUP(B1392,'[1]002'!B:M,8,0)","v":"广州市南海中学"},{"$f":"VLOOKUP(B1392,'[1]002'!B:M,11,0)","v":"-"},{"$f":"VLOOKUP(B1392,'[1]002'!B:M,12,0)","v":"-"},{"$f":"VLOOKUP(B1392,[2]sheet2!B:L,10,0)","v":"-"},{"$f":"VLOOKUP(B1392,[2]sheet2!B:L,11,0)","v":"-"},"http://183.62.54.51:8841/data/files/certificate/000000000439/6557e0bd928244bbbbe3ae6ad2d2067c/signed/1390_裴文梅_二等奖_7277.pdf"]
[1391,"P303319093211","2.4正态分布","高中组","课件","二等奖","广州市",{"$f":"VLOOKUP(B1393,'[1]002'!B:M,7,0)","v":"郑瑞萍"},{"$f":"VLOOKUP(B1393,'[1]002'!B:M,8,0)","v":"广州市西关培英中学"},{"$f":"VLOOKUP(B1393,'[1]002'!B:M,11,0)","v":"-"},{"$f":"VLOOKUP(B1393,'[1]002'!B:M,12,0)","v":"-"},{"$f":"VLOOKUP(B1393,[2]sheet2!B:L,10,0)","v":"-"},{"$f":"VLOOKUP(B1393,[2]sheet2!B:L,11,0)","v":"-"},"http://183.62.54.51:8841/data/files/certificate/000000000439/9315554e77494ebc9d017984216e112f/signed/1391_郑瑞萍_二等奖_7278.pdf"]
[1392,"P303319093209","原电池","高中组","课件","二等奖","广州市",{"$f":"VLOOKUP(B1394,'[1]002'!B:M,7,0)","v":"王绍红"},{"$f":"VLOOKUP(B1394,'[1]002'!B:M,8,0)","v":"广州市南沙第一中学"},{"$f":"VLOOKUP(B1394,'[1]002'!B:M,11,0)","v":"-"},{"$f":"VLOOKUP(B1394,'[1]002'!B:M,12,0)","v":"-"},{"$f":"VLOOKUP(B1394,[2]sheet2!B:L,10,0)","v":"-"},{"$f":"VLOOKUP(B1394,[2]sheet2!B:L,11,0)","v":"-"},"http://183.62.54.51:8841/data/files/certificate/000000000439/1f55f4854bd345ca9cf655b8eaee43c0/signed/1392_王绍红_二等奖_7279.pdf"]
[1393,"P303319092279","蝶恋花","高中组","课件","二等奖","汕头市",{"$f":"VLOOKUP(B1395,'[1]002'!B:M,7,0)","v":"陈梓盼"},{"$f":"VLOOKUP(B1395,'[1]002'!B:M,8,0)","v":"汕头市澄海实验高级中学"},{"$f":"VLOOKUP(B1395,'[1]002'!B:M,11,0)","v":"-"},{"$f":"VLOOKUP(B1395,'[1]002'!B:M,12,0)","v":"-"},{"$f":"VLOOKUP(B1395,[2]sheet2!B:L,10,0)","v":"-"},{"$f":"VLOOKUP(B1395,[2]sheet2!B:L,11,0)","v":"-"},"http://183.62.54.51:8841/data/files/certificate/000000000439/14516694cbea434fbf259f3186481848/signed/1393_陈梓盼_二等奖_7280.pdf"]
[1394,"P303319092281","1.5 函数y＝Asin(ωx＋φ)的图象","高中组","课件","二等奖","汕头市",{"$f":"VLOOKUP(B1396,'[1]002'!B:M,7,0)","v":"黄晓瑜"},{"$f":"VLOOKUP(B1396,'[1]002'!B:M,8,0)","v":"汕头市达濠第二中学"},{"$f":"VLOOKUP(B1396,'[1]002'!B:M,11,0)","v":"-"},{"$f":"VLOOKUP(B1396,'[1]002'!B:M,12,0)","v":"-"},{"$f":"VLOOKUP(B1396,[2]sheet2!B:L,10,0)","v":"-"},{"$f":"VLOOKUP(B1396,[2]sheet2!B:L,11,0)","v":"-"},"http://183.62.54.51:8841/data/files/certificate/000000000439/5318cc82d70d4cdab2874742185fbd7e/signed/1394_黄晓瑜_二等奖_7281.pdf"]
[1395,"P303319092276","降低化学反应活化能的酶","高中组","课件","二等奖","汕头市",{"$f":"VLOOKUP(B1397,'[1]002'!B:M,7,0)","v":"莫妙之"},{"$f":"VLOOKUP(B1397,'[1]002'!B:M,8,0)","v":"汕头市澄海东里中学"},{"$f":"VLOOKUP(B1397,'[1]002'!B:M,11,0)","v":"-"},{"$f":"VLOOKUP(B1397,'[1]002'!B:M,12,0)","v":"-"},{"$f":"VLOOKUP(B1397,[2]sheet2!B:L,10,0)","v":"-"},{"$f":"VLOOKUP(B1397,[2]sheet2!B:L,11,0)","v":"-"},"http://183.62.54.51:8841/data/files/certificate/000000000439/0e614e41b0ac407798e7b694e12e62b2/signed/1395_莫妙之_二等奖_7282.pdf"]
[1396,"P303319092285","篮球三步上篮","高中组","课件","二等奖","汕头市",{"$f":"VLOOKUP(B1398,'[1]002'!B:M,7,0)","v":"陈惠儿"},{"$f":"VLOOKUP(B1398,'[1]002'!B:M,8,0)","v":"汕头市实验学校"},{"$f":"VLOOKUP(B1398,'[1]002'!B:M,11,0)","v":"林泽婉"},{"$f":"VLOOKUP(B1398,'[1]002'!B:M,12,0)","v":"汕头市实验学校"},{"$f":"VLOOKUP(B1398,[2]sheet2!B:L,10,0)","v":"-"},{"$f":"VLOOKUP(B1398,[2]sheet2!B:L,11,0)","v":"-"},"http://183.62.54.51:8841/data/files/certificate/000000000439/1365779d11de40d795dc27fc0b76d1d7/signed/1396_陈惠儿、林泽婉_二等奖_7283.pdf"]
[1397,"P303319092278","诗歌鉴赏之形象分析","高中组","课件","二等奖","汕头市",{"$f":"VLOOKUP(B1399,'[1]002'!B:M,7,0)","v":"林苗芳"},{"$f":"VLOOKUP(B1399,'[1]002'!B:M,8,0)","v":"汕头市澄海实验高级中学"},{"$f":"VLOOKUP(B1399,'[1]002'!B:M,11,0)","v":"-"},{"$f":"VLOOKUP(B1399,'[1]002'!B:M,12,0)","v":"-"},{"$f":"VLOOKUP(B1399,[2]sheet2!B:L,10,0)","v":"-"},{"$f":"VLOOKUP(B1399,[2]sheet2!B:L,11,0)","v":"-"},"http://183.62.54.51:8841/data/files/certificate/000000000439/b6e82f91e2fe4105af3af07b2d5084bc/signed/1397_林苗芳_二等奖_7284.pdf"]
[1398,"P303319092277","青玉案元夕","高中组","课件","二等奖","汕头市",{"$f":"VLOOKUP(B1400,'[1]002'!B:M,7,0)","v":"李瑞屏"},{"$f":"VLOOKUP(B1400,'[1]002'!B:M,8,0)","v":"汕头市澄海东里中学"},{"$f":"VLOOKUP(B1400,'[1]002'!B:M,11,0)","v":"-"},{"$f":"VLOOKUP(B1400,'[1]002'!B:M,12,0)","v":"-"},{"$f":"VLOOKUP(B1400,[2]sheet2!B:L,10,0)","v":"-"},{"$f":"VLOOKUP(B1400,[2]sheet2!B:L,11,0)","v":"-"},"http://183.62.54.51:8841/data/files/certificate/000000000439/57beaf93a355409986ae547524d76e38/signed/1398_李瑞屏_二等奖_7285.pdf"]
[1399,"P303319092284","熟悉的陌生人—氧气","高中组","课件","二等奖","汕头市",{"$f":"VLOOKUP(B1401,'[1]002'!B:M,7,0)","v":"林静纯"},{"$f":"VLOOKUP(B1401,'[1]002'!B:M,8,0)","v":"汕头市达濠华侨中学"},{"$f":"VLOOKUP(B1401,'[1]002'!B:M,11,0)","v":"-"},{"$f":"VLOOKUP(B1401,'[1]002'!B:M,12,0)","v":"-"},{"$f":"VLOOKUP(B1401,[2]sheet2!B:L,10,0)","v":"-"},{"$f":"VLOOKUP(B1401,[2]sheet2!B:L,11,0)","v":"-"},"http://183.62.54.51:8841/data/files/certificate/000000000439/9ddc8ba40597464690d40a7bb8164636/signed/1399_林静纯_二等奖_7286.pdf"]
[1400,"P303319092269","树立创新意识是唯物辩证法的要求","高中组","课件","二等奖","汕头市",{"$f":"VLOOKUP(B1402,'[1]002'!B:M,7,0)","v":"丁丹英"},{"$f":"VLOOKUP(B1402,'[1]002'!B:M,8,0)","v":"汕头市澄海中学"},{"$f":"VLOOKUP(B1402,'[1]002'!B:M,11,0)","v":"-"},{"$f":"VLOOKUP(B1402,'[1]002'!B:M,12,0)","v":"-"},{"$f":"VLOOKUP(B1402,[2]sheet2!B:L,10,0)","v":"-"},{"$f":"VLOOKUP(B1402,[2]sheet2!B:L,11,0)","v":"-"},"http://183.62.54.51:8841/data/files/certificate/000000000439/4950a3c8e415473d8f7f4d9a74c8555e/signed/1400_丁丹英_二等奖_7287.pdf"]
[1401,"P303319090633","电子商务与网络安全","高中组","课件","二等奖","佛山市",{"$f":"VLOOKUP(B1403,'[1]002'!B:M,7,0)","v":"胡楚佳"},{"$f":"VLOOKUP(B1403,'[1]002'!B:M,8,0)","v":"佛山市顺德区罗定邦中学"},{"$f":"VLOOKUP(B1403,'[1]002'!B:M,11,0)","v":"-"},{"$f":"VLOOKUP(B1403,'[1]002'!B:M,12,0)","v":"-"},{"$f":"VLOOKUP(B1403,[2]sheet2!B:L,10,0)","v":"-"},{"$f":"VLOOKUP(B1403,[2]sheet2!B:L,11,0)","v":"-"},"http://183.62.54.51:8841/data/files/certificate/000000000439/b9ef1a7814a543fa99a5c2b72585d1a9/signed/1401_胡楚佳_二等奖_7288.pdf"]
[1402,"P303319090636","杠杆","高中组","课件","二等奖","佛山市",{"$f":"VLOOKUP(B1404,'[1]002'!B:M,7,0)","v":"姚淑仪"},{"$f":"VLOOKUP(B1404,'[1]002'!B:M,8,0)","v":"佛山市顺德区北滘中学"},{"$f":"VLOOKUP(B1404,'[1]002'!B:M,11,0)","v":"-"},{"$f":"VLOOKUP(B1404,'[1]002'!B:M,12,0)","v":"-"},{"$f":"VLOOKUP(B1404,[2]sheet2!B:L,10,0)","v":"-"},{"$f":"VLOOKUP(B1404,[2]sheet2!B:L,11,0)","v":"-"},"http://183.62.54.51:8841/data/files/certificate/000000000439/a916c3a337f248ddb707abcc85cb8a35/signed/1402_姚淑仪_二等奖_7289.pdf"]
[1403,"P303319090632","坚持党的全面领导","高中组","课件","二等奖","佛山市",{"$f":"VLOOKUP(B1405,'[1]002'!B:M,7,0)","v":"谭晓冬"},{"$f":"VLOOKUP(B1405,'[1]002'!B:M,8,0)","v":"佛山市第三中学"},{"$f":"VLOOKUP(B1405,'[1]002'!B:M,11,0)","v":"-"},{"$f":"VLOOKUP(B1405,'[1]002'!B:M,12,0)","v":"-"},{"$f":"VLOOKUP(B1405,[2]sheet2!B:L,10,0)","v":"-"},{"$f":"VLOOKUP(B1405,[2]sheet2!B:L,11,0)","v":"-"},"http://183.62.54.51:8841/data/files/certificate/000000000439/41b7e068e4a84a7b9c0af0a2983caf5c/signed/1403_谭晓冬_二等奖_7290.pdf"]
[1404,"P303319090627","被动语态的复习与运用","高中组","课件","二等奖","佛山市",{"$f":"VLOOKUP(B1406,'[1]002'!B:M,7,0)","v":"冯小静"},{"$f":"VLOOKUP(B1406,'[1]002'!B:M,8,0)","v":"佛山巿南海区西樵高级中学"},{"$f":"VLOOKUP(B1406,'[1]002'!B:M,11,0)","v":"-"},{"$f":"VLOOKUP(B1406,'[1]002'!B:M,12,0)","v":"-"},{"$f":"VLOOKUP(B1406,[2]sheet2!B:L,10,0)","v":"-"},{"$f":"VLOOKUP(B1406,[2]sheet2!B:L,11,0)","v":"-"},"http://183.62.54.51:8841/data/files/certificate/000000000439/2329bdce3f2d47d38fe207fcebcdd984/signed/1404_冯小静_二等奖_7291.pdf"]
[1405,"P303319089548","细胞的能量通货ATP","高中组","课件","二等奖","韶关市",{"$f":"VLOOKUP(B1407,'[1]002'!B:M,7,0)","v":"雷珍珠"},{"$f":"VLOOKUP(B1407,'[1]002'!B:M,8,0)","v":"仁化县第一中学"},{"$f":"VLOOKUP(B1407,'[1]002'!B:M,11,0)","v":"-"},{"$f":"VLOOKUP(B1407,'[1]002'!B:M,12,0)","v":"-"},{"$f":"VLOOKUP(B1407,[2]sheet2!B:L,10,0)","v":"-"},{"$f":"VLOOKUP(B1407,[2]sheet2!B:L,11,0)","v":"-"},"http://183.62.54.51:8841/data/files/certificate/000000000439/53c82fb253dc4e21857b91ea101da2f1/signed/1405_雷珍珠_二等奖_7292.pdf"]
[1406,"P303319093390","人工固氮技术合成氨","高中组","课件","二等奖","河源市",{"$f":"VLOOKUP(B1408,'[1]002'!B:M,7,0)","v":"魏晓萍"},{"$f":"VLOOKUP(B1408,'[1]002'!B:M,8,0)","v":"龙川县田家炳中学"},{"$f":"VLOOKUP(B1408,'[1]002'!B:M,11,0)","v":"-"},{"$f":"VLOOKUP(B1408,'[1]002'!B:M,12,0)","v":"-"},{"$f":"VLOOKUP(B1408,[2]sheet2!B:L,10,0)","v":"-"},{"$f":"VLOOKUP(B1408,[2]sheet2!B:L,11,0)","v":"-"},"http://183.62.54.51:8841/data/files/certificate/000000000439/9057f5ab77954391be31e336b31c7f7f/signed/1406_魏晓萍_二等奖_7293.pdf"]
[1407,"P303319092502","用智能工具处理信息","高中组","课件","二等奖","东莞市",{"$f":"VLOOKUP(B1409,'[1]002'!B:M,7,0)","v":"殷小凤"},{"$f":"VLOOKUP(B1409,'[1]002'!B:M,8,0)","v":"东莞市石龙中学"},{"$f":"VLOOKUP(B1409,'[1]002'!B:M,11,0)","v":"-"},{"$f":"VLOOKUP(B1409,'[1]002'!B:M,12,0)","v":"-"},{"$f":"VLOOKUP(B1409,[2]sheet2!B:L,10,0)","v":"-"},{"$f":"VLOOKUP(B1409,[2]sheet2!B:L,11,0)","v":"-"},"http://183.62.54.51:8841/data/files/certificate/000000000439/441a019454da43cea508cd16b7ff9829/signed/1407_殷小凤_二等奖_7294.pdf"]
[1408,"P303319089367","基因指导蛋白质的合成","高中组","课件","二等奖","中山市",{"$f":"VLOOKUP(B1410,'[1]002'!B:M,7,0)","v":"杜倩"},{"$f":"VLOOKUP(B1410,'[1]002'!B:M,8,0)","v":"中山市小榄中学（中山市外国语学校）"},{"$f":"VLOOKUP(B1410,'[1]002'!B:M,11,0)","v":"-"},{"$f":"VLOOKUP(B1410,'[1]002'!B:M,12,0)","v":"-"},{"$f":"VLOOKUP(B1410,[2]sheet2!B:L,10,0)","v":"-"},{"$f":"VLOOKUP(B1410,[2]sheet2!B:L,11,0)","v":"-"},"http://183.62.54.51:8841/data/files/certificate/000000000439/02288fd19249461cac279476202408f1/signed/1408_杜倩_二等奖_7295.pdf"]
[1409,"P303319088267","电磁感应之双棒模型","高中组","课件","二等奖","中山市",{"$f":"VLOOKUP(B1411,'[1]002'!B:M,7,0)","v":"肖云剑"},{"$f":"VLOOKUP(B1411,'[1]002'!B:M,8,0)","v":"中山市华侨中学"},{"$f":"VLOOKUP(B1411,'[1]002'!B:M,11,0)","v":"-"},{"$f":"VLOOKUP(B1411,'[1]002'!B:M,12,0)","v":"-"},{"$f":"VLOOKUP(B1411,[2]sheet2!B:L,10,0)","v":"-"},{"$f":"VLOOKUP(B1411,[2]sheet2!B:L,11,0)","v":"-"},"http://183.62.54.51:8841/data/files/certificate/000000000439/07094d31fd02470d89ee73649f1b36ac/signed/1409_肖云剑_二等奖_7296.pdf"]
[1410,"P303319092096","4.1营造地表形态的力量","高中组","课件","二等奖","江门市",{"$f":"VLOOKUP(B1412,'[1]002'!B:M,7,0)","v":"钟少娟"},{"$f":"VLOOKUP(B1412,'[1]002'!B:M,8,0)","v":"江门市新会第一中学"},{"$f":"VLOOKUP(B1412,'[1]002'!B:M,11,0)","v":"-"},{"$f":"VLOOKUP(B1412,'[1]002'!B:M,12,0)","v":"-"},{"$f":"VLOOKUP(B1412,[2]sheet2!B:L,10,0)","v":"-"},{"$f":"VLOOKUP(B1412,[2]sheet2!B:L,11,0)","v":"-"},"http://183.62.54.51:8841/data/files/certificate/000000000439/385c9cf88693452fa4667cfd8e2670d7/signed/1410_钟少娟_二等奖_7297.pdf"]
[1411,"P303319092656","降低化学反应活化能的酶","高中组","课件","二等奖","江门市",{"$f":"VLOOKUP(B1413,'[1]002'!B:M,7,0)","v":"刘锦昌"},{"$f":"VLOOKUP(B1413,'[1]002'!B:M,8,0)","v":"江门市新会第一中学"},{"$f":"VLOOKUP(B1413,'[1]002'!B:M,11,0)","v":"-"},{"$f":"VLOOKUP(B1413,'[1]002'!B:M,12,0)","v":"-"},{"$f":"VLOOKUP(B1413,[2]sheet2!B:L,10,0)","v":"-"},{"$f":"VLOOKUP(B1413,[2]sheet2!B:L,11,0)","v":"-"},"http://183.62.54.51:8841/data/files/certificate/000000000439/c55a786ed81c4ef3b821559e3eee2a2f/signed/1411_刘锦昌_二等奖_7298.pdf"]
[1412,"P303319093016","走近京剧-迎来春色换人间","高中组","课件","二等奖","湛江市",{"$f":"VLOOKUP(B1414,'[1]002'!B:M,7,0)","v":"邓冬梅"},{"$f":"VLOOKUP(B1414,'[1]002'!B:M,8,0)","v":"湛江市坡头区第一中学"},{"$f":"VLOOKUP(B1414,'[1]002'!B:M,11,0)","v":"-"},{"$f":"VLOOKUP(B1414,'[1]002'!B:M,12,0)","v":"-"},{"$f":"VLOOKUP(B1414,[2]sheet2!B:L,10,0)","v":"-"},{"$f":"VLOOKUP(B1414,[2]sheet2!B:L,11,0)","v":"-"},"http://183.62.54.51:8841/data/files/certificate/000000000439/7b00f1d7d0b84c4abb891de6ce53220a/signed/1412_邓冬梅_二等奖_7299.pdf"]
[1413,"P303319093025","基于python的选择排序实现","高中组","课件","二等奖","湛江市",{"$f":"VLOOKUP(B1415,'[1]002'!B:M,7,0)","v":"陈怡"},{"$f":"VLOOKUP(B1415,'[1]002'!B:M,8,0)","v":"湛江市第二中学"},{"$f":"VLOOKUP(B1415,'[1]002'!B:M,11,0)","v":"-"},{"$f":"VLOOKUP(B1415,'[1]002'!B:M,12,0)","v":"-"},{"$f":"VLOOKUP(B1415,[2]sheet2!B:L,10,0)","v":"-"},{"$f":"VLOOKUP(B1415,[2]sheet2!B:L,11,0)","v":"-"},"http://183.62.54.51:8841/data/files/certificate/000000000439/fa03024d460d4880897c7c05b28621cd/signed/1413_陈怡_二等奖_7300.pdf"]
[1414,"P303319093040","高中英语必修二 Unit4 Wildlife Protection","高中组","课件","二等奖","湛江市",{"$f":"VLOOKUP(B1416,'[1]002'!B:M,7,0)","v":"宁国平"},{"$f":"VLOOKUP(B1416,'[1]002'!B:M,8,0)","v":"湛江市爱周高级中学"},{"$f":"VLOOKUP(B1416,'[1]002'!B:M,11,0)","v":"-"},{"$f":"VLOOKUP(B1416,'[1]002'!B:M,12,0)","v":"-"},{"$f":"VLOOKUP(B1416,[2]sheet2!B:L,10,0)","v":"-"},{"$f":"VLOOKUP(B1416,[2]sheet2!B:L,11,0)","v":"-"},"http://183.62.54.51:8841/data/files/certificate/000000000439/b33aea88a9114873ad0128db5f6a5d3c/signed/1414_宁国平_二等奖_7301.pdf"]
[1415,"P303319093022","函数y=Asin(ωx+φ)的图象","高中组","课件","二等奖","湛江市",{"$f":"VLOOKUP(B1417,'[1]002'!B:M,7,0)","v":"李翔"},{"$f":"VLOOKUP(B1417,'[1]002'!B:M,8,0)","v":"岭南师范学院附属中学"},{"$f":"VLOOKUP(B1417,'[1]002'!B:M,11,0)","v":"-"},{"$f":"VLOOKUP(B1417,'[1]002'!B:M,12,0)","v":"-"},{"$f":"VLOOKUP(B1417,[2]sheet2!B:L,10,0)","v":"-"},{"$f":"VLOOKUP(B1417,[2]sheet2!B:L,11,0)","v":"-"},"http://183.62.54.51:8841/data/files/certificate/000000000439/23dbd836471d4d828be56328c7f0db3f/signed/1415_李翔_二等奖_7302.pdf"]
[1416,"P303319093036","鸦片战争","高中组","课件","二等奖","湛江市",{"$f":"VLOOKUP(B1418,'[1]002'!B:M,7,0)","v":"郭玢"},{"$f":"VLOOKUP(B1418,'[1]002'!B:M,8,0)","v":"湛江经济技术开发区第一中学"},{"$f":"VLOOKUP(B1418,'[1]002'!B:M,11,0)","v":"-"},{"$f":"VLOOKUP(B1418,'[1]002'!B:M,12,0)","v":"-"},{"$f":"VLOOKUP(B1418,[2]sheet2!B:L,10,0)","v":"-"},{"$f":"VLOOKUP(B1418,[2]sheet2!B:L,11,0)","v":"-"},"http://183.62.54.51:8841/data/files/certificate/000000000439/1abd1245b6a34f3b923bf497a91b305e/signed/1416_郭玢_二等奖_7303.pdf"]
[1417,"P303319093019","做好就业与自主创业的准备","高中组","课件","二等奖","湛江市",{"$f":"VLOOKUP(B1419,'[1]002'!B:M,7,0)","v":"林珊"},{"$f":"VLOOKUP(B1419,'[1]002'!B:M,8,0)","v":"湛江市坡头区第一中学"},{"$f":"VLOOKUP(B1419,'[1]002'!B:M,11,0)","v":"-"},{"$f":"VLOOKUP(B1419,'[1]002'!B:M,12,0)","v":"-"},{"$f":"VLOOKUP(B1419,[2]sheet2!B:L,10,0)","v":"-"},{"$f":"VLOOKUP(B1419,[2]sheet2!B:L,11,0)","v":"-"},"http://183.62.54.51:8841/data/files/certificate/000000000439/de92b29cc83c4970b85248b46f9cca8b/signed/1417_林珊_二等奖_7304.pdf"]
[1418,"P303319093018","钠的重要化合物","高中组","课件","二等奖","湛江市",{"$f":"VLOOKUP(B1420,'[1]002'!B:M,7,0)","v":"陆艺"},{"$f":"VLOOKUP(B1420,'[1]002'!B:M,8,0)","v":"湛江市坡头区第一中学"},{"$f":"VLOOKUP(B1420,'[1]002'!B:M,11,0)","v":"-"},{"$f":"VLOOKUP(B1420,'[1]002'!B:M,12,0)","v":"-"},{"$f":"VLOOKUP(B1420,[2]sheet2!B:L,10,0)","v":"-"},{"$f":"VLOOKUP(B1420,[2]sheet2!B:L,11,0)","v":"-"},"http://183.62.54.51:8841/data/files/certificate/000000000439/d318df383ec244a48bae3fdb56480955/signed/1418_陆艺_二等奖_7305.pdf"]
[1419,"P303319091609","光合作用","高中组","课件","二等奖","清远市",{"$f":"VLOOKUP(B1421,'[1]002'!B:M,7,0)","v":"饶猛兵"},{"$f":"VLOOKUP(B1421,'[1]002'!B:M,8,0)","v":"连南县民族高级中学"},{"$f":"VLOOKUP(B1421,'[1]002'!B:M,11,0)","v":"-"},{"$f":"VLOOKUP(B1421,'[1]002'!B:M,12,0)","v":"-"},{"$f":"VLOOKUP(B1421,[2]sheet2!B:L,10,0)","v":"-"},{"$f":"VLOOKUP(B1421,[2]sheet2!B:L,11,0)","v":"-"},"http://183.62.54.51:8841/data/files/certificate/000000000439/824c856fc41f46a7b63bbf6520b52523/signed/1419_饶猛兵_二等奖_7306.pdf"]
[1420,"P303319091613","语法填空之动词的解题技巧","高中组","课件","二等奖","清远市",{"$f":"VLOOKUP(B1422,'[1]002'!B:M,7,0)","v":"张丽萍"},{"$f":"VLOOKUP(B1422,'[1]002'!B:M,8,0)","v":"清远市源潭中学"},{"$f":"VLOOKUP(B1422,'[1]002'!B:M,11,0)","v":"-"},{"$f":"VLOOKUP(B1422,'[1]002'!B:M,12,0)","v":"-"},{"$f":"VLOOKUP(B1422,[2]sheet2!B:L,10,0)","v":"-"},{"$f":"VLOOKUP(B1422,[2]sheet2!B:L,11,0)","v":"-"},"http://183.62.54.51:8841/data/files/certificate/000000000439/e179b073d7ca4929a41f0d34d907c074/signed/1420_张丽萍_二等奖_7307.pdf"]
[1421,"P303319090093","世界地理之欧洲西部","高中组","课件","二等奖","潮州市",{"$f":"VLOOKUP(B1423,'[1]002'!B:M,7,0)","v":"谢婉"},{"$f":"VLOOKUP(B1423,'[1]002'!B:M,8,0)","v":"潮州市绵德中学"},{"$f":"VLOOKUP(B1423,'[1]002'!B:M,11,0)","v":"-"},{"$f":"VLOOKUP(B1423,'[1]002'!B:M,12,0)","v":"-"},{"$f":"VLOOKUP(B1423,[2]sheet2!B:L,10,0)","v":"-"},{"$f":"VLOOKUP(B1423,[2]sheet2!B:L,11,0)","v":"-"},"http://183.62.54.51:8841/data/files/certificate/000000000439/86676fd51e664f01996611110b0e97ed/signed/1421_谢婉_二等奖_7308.pdf"]
[1422,"P303319087836","DNA分子的结构","高中组","课件","二等奖","云浮市",{"$f":"VLOOKUP(B1424,'[1]002'!B:M,7,0)","v":"刘剑锋"},{"$f":"VLOOKUP(B1424,'[1]002'!B:M,8,0)","v":"新兴县惠能中学"},{"$f":"VLOOKUP(B1424,'[1]002'!B:M,11,0)","v":"-"},{"$f":"VLOOKUP(B1424,'[1]002'!B:M,12,0)","v":"-"},{"$f":"VLOOKUP(B1424,[2]sheet2!B:L,10,0)","v":"-"},{"$f":"VLOOKUP(B1424,[2]sheet2!B:L,11,0)","v":"-"},"http://183.62.54.51:8841/data/files/certificate/000000000439/1a3dbeba99224990b5c3ed7e95cd43f6/signed/1422_刘剑锋_二等奖_7309.pdf"]
[1423,"P303319087842","人口的空间变化","高中组","课件","二等奖","云浮市",{"$f":"VLOOKUP(B1425,'[1]002'!B:M,7,0)","v":"刘剑锋"},{"$f":"VLOOKUP(B1425,'[1]002'!B:M,8,0)","v":"新兴县惠能中学"},{"$f":"VLOOKUP(B1425,'[1]002'!B:M,11,0)","v":"-"},{"$f":"VLOOKUP(B1425,'[1]002'!B:M,12,0)","v":"-"},{"$f":"VLOOKUP(B1425,[2]sheet2!B:L,10,0)","v":"-"},{"$f":"VLOOKUP(B1425,[2]sheet2!B:L,11,0)","v":"-"},"http://183.62.54.51:8841/data/files/certificate/000000000439/f9a168666c884312af686fda10e2cdc2/signed/1423_刘剑锋_二等奖_7310.pdf"]
[1424,"P305319093241","类比让物理如此精彩---- 电源和电流","高中组","微课","二等奖","广州市",{"$f":"VLOOKUP(B1426,'[1]002'!B:M,7,0)","v":"孔莉林"},{"$f":"VLOOKUP(B1426,'[1]002'!B:M,8,0)","v":"广州中学"},{"$f":"VLOOKUP(B1426,'[1]002'!B:M,11,0)","v":"-"},{"$f":"VLOOKUP(B1426,'[1]002'!B:M,12,0)","v":"-"},{"$f":"VLOOKUP(B1426,[2]sheet2!B:L,10,0)","v":"-"},{"$f":"VLOOKUP(B1426,[2]sheet2!B:L,11,0)","v":"-"},"http://183.62.54.51:8841/data/files/certificate/000000000439/b97037eccafb4e75b1b4e9ea281e90eb/signed/1424_孔莉林_二等奖_7311.pdf"]
[1425,"P305319093240","电烙铁焊接方法","高中组","微课","二等奖","广州市",{"$f":"VLOOKUP(B1427,'[1]002'!B:M,7,0)","v":"肖国锋"},{"$f":"VLOOKUP(B1427,'[1]002'!B:M,8,0)","v":"广东第二师范学院番禺附属中学"},{"$f":"VLOOKUP(B1427,'[1]002'!B:M,11,0)","v":"-"},{"$f":"VLOOKUP(B1427,'[1]002'!B:M,12,0)","v":"-"},{"$f":"VLOOKUP(B1427,[2]sheet2!B:L,10,0)","v":"-"},{"$f":"VLOOKUP(B1427,[2]sheet2!B:L,11,0)","v":"-"},"http://183.62.54.51:8841/data/files/certificate/000000000439/1ff572eb064840758b365b6881297844/signed/1425_肖国锋_二等奖_7312.pdf"]
[1426,"P305319093242","生物与地理环境","高中组","微课","二等奖","广州市",{"$f":"VLOOKUP(B1428,'[1]002'!B:M,7,0)","v":"杨建瑜"},{"$f":"VLOOKUP(B1428,'[1]002'!B:M,8,0)","v":"广州市南武中学"},{"$f":"VLOOKUP(B1428,'[1]002'!B:M,11,0)","v":"-"},{"$f":"VLOOKUP(B1428,'[1]002'!B:M,12,0)","v":"-"},{"$f":"VLOOKUP(B1428,[2]sheet2!B:L,10,0)","v":"-"},{"$f":"VLOOKUP(B1428,[2]sheet2!B:L,11,0)","v":"-"},"http://183.62.54.51:8841/data/files/certificate/000000000439/89c3f267165c49e7a6ea0876a83a5772/signed/1426_杨建瑜_二等奖_7313.pdf"]
[1427,"P305319090450","智能灯光控制系统","高中组","微课","二等奖","珠海市",{"$f":"VLOOKUP(B1429,'[1]002'!B:M,7,0)","v":"陈声坤"},{"$f":"VLOOKUP(B1429,'[1]002'!B:M,8,0)","v":"北京师范大学珠海附属高级中学"},{"$f":"VLOOKUP(B1429,'[1]002'!B:M,11,0)","v":"-"},{"$f":"VLOOKUP(B1429,'[1]002'!B:M,12,0)","v":"-"},{"$f":"VLOOKUP(B1429,[2]sheet2!B:L,10,0)","v":"-"},{"$f":"VLOOKUP(B1429,[2]sheet2!B:L,11,0)","v":"-"},"http://183.62.54.51:8841/data/files/certificate/000000000439/88c3a8a1257848c2b6b58259f2c59c89/signed/1427_陈声坤_二等奖_7314.pdf"]
[1428,"P305319090451","抢答器模拟制作","高中组","微课","二等奖","珠海市",{"$f":"VLOOKUP(B1430,'[1]002'!B:M,7,0)","v":"陈声坤"},{"$f":"VLOOKUP(B1430,'[1]002'!B:M,8,0)","v":"北京师范大学珠海附属高级中学"},{"$f":"VLOOKUP(B1430,'[1]002'!B:M,11,0)","v":"-"},{"$f":"VLOOKUP(B1430,'[1]002'!B:M,12,0)","v":"-"},{"$f":"VLOOKUP(B1430,[2]sheet2!B:L,10,0)","v":"-"},{"$f":"VLOOKUP(B1430,[2]sheet2!B:L,11,0)","v":"-"},"http://183.62.54.51:8841/data/files/certificate/000000000439/809d865a6e2746fbb72e2af1c12ca18e/signed/1428_陈声坤_二等奖_7315.pdf"]
[1429,"P305319092317","复合函数的定义域","高中组","微课","二等奖","汕头市",{"$f":"VLOOKUP(B1431,'[1]002'!B:M,7,0)","v":"黄晓瑜"},{"$f":"VLOOKUP(B1431,'[1]002'!B:M,8,0)","v":"汕头市达濠第二中学"},{"$f":"VLOOKUP(B1431,'[1]002'!B:M,11,0)","v":"-"},{"$f":"VLOOKUP(B1431,'[1]002'!B:M,12,0)","v":"-"},{"$f":"VLOOKUP(B1431,[2]sheet2!B:L,10,0)","v":"-"},{"$f":"VLOOKUP(B1431,[2]sheet2!B:L,11,0)","v":"-"},"http://183.62.54.51:8841/data/files/certificate/000000000439/fb7ca028a4a94dcaab04133af4624de3/signed/1429_黄晓瑜_二等奖_7316.pdf"]
[1430,"P305319092292","解三角形之正、余弦定理、面积公式的应用","高中组","微课","二等奖","汕头市",{"$f":"VLOOKUP(B1432,'[1]002'!B:M,7,0)","v":"林丽芳"},{"$f":"VLOOKUP(B1432,'[1]002'!B:M,8,0)","v":"汕头市潮阳区金堡中学"},{"$f":"VLOOKUP(B1432,'[1]002'!B:M,11,0)","v":"-"},{"$f":"VLOOKUP(B1432,'[1]002'!B:M,12,0)","v":"-"},{"$f":"VLOOKUP(B1432,[2]sheet2!B:L,10,0)","v":"-"},{"$f":"VLOOKUP(B1432,[2]sheet2!B:L,11,0)","v":"-"},"http://183.62.54.51:8841/data/files/certificate/000000000439/f3d7ff8ae0f54fc080225dde4ae8bfc9/signed/1430_林丽芳_二等奖_7317.pdf"]
[1431,"P305319092319","Premiere键控抠像","高中组","微课","二等奖","汕头市",{"$f":"VLOOKUP(B1433,'[1]002'!B:M,7,0)","v":"李冬妮"},{"$f":"VLOOKUP(B1433,'[1]002'!B:M,8,0)","v":"汕头市河浦中学"},{"$f":"VLOOKUP(B1433,'[1]002'!B:M,11,0)","v":"林哲群"},{"$f":"VLOOKUP(B1433,'[1]002'!B:M,12,0)","v":"汕头市河浦中学"},{"$f":"VLOOKUP(B1433,[2]sheet2!B:L,10,0)","v":"-"},{"$f":"VLOOKUP(B1433,[2]sheet2!B:L,11,0)","v":"-"},"http://183.62.54.51:8841/data/files/certificate/000000000439/5e298bd945e349cda8511187cf7394eb/signed/1431_李冬妮、林哲群_二等奖_7318.pdf"]
[1432,"P305319092293","巧用二面角解决球内接问题","高中组","微课","二等奖","汕头市",{"$f":"VLOOKUP(B1434,'[1]002'!B:M,7,0)","v":"蔡洁瑜"},{"$f":"VLOOKUP(B1434,'[1]002'!B:M,8,0)","v":"汕头市第一中学"},{"$f":"VLOOKUP(B1434,'[1]002'!B:M,11,0)","v":"-"},{"$f":"VLOOKUP(B1434,'[1]002'!B:M,12,0)","v":"-"},{"$f":"VLOOKUP(B1434,[2]sheet2!B:L,10,0)","v":"-"},{"$f":"VLOOKUP(B1434,[2]sheet2!B:L,11,0)","v":"-"},"http://183.62.54.51:8841/data/files/certificate/000000000439/c0eb3940f40442cd9a708976b8d0869f/signed/1432_蔡洁瑜_二等奖_7319.pdf"]
[1433,"P305319090660","液体的表面张力","高中组","微课","二等奖","佛山市",{"$f":"VLOOKUP(B1435,'[1]002'!B:M,7,0)","v":"何妹才"},{"$f":"VLOOKUP(B1435,'[1]002'!B:M,8,0)","v":"佛山市顺德区罗定邦中学"},{"$f":"VLOOKUP(B1435,'[1]002'!B:M,11,0)","v":"-"},{"$f":"VLOOKUP(B1435,'[1]002'!B:M,12,0)","v":"-"},{"$f":"VLOOKUP(B1435,[2]sheet2!B:L,10,0)","v":"-"},{"$f":"VLOOKUP(B1435,[2]sheet2!B:L,11,0)","v":"-"},"http://183.62.54.51:8841/data/files/certificate/000000000439/1d3ec1214d574c09811be72c163fe5a4/signed/1433_何妹才_二等奖_7320.pdf"]
[1434,"P305319090658","什么是美","高中组","微课","二等奖","佛山市",{"$f":"VLOOKUP(B1436,'[1]002'!B:M,7,0)","v":"陈维维"},{"$f":"VLOOKUP(B1436,'[1]002'!B:M,8,0)","v":"佛山市顺德区青云中学"},{"$f":"VLOOKUP(B1436,'[1]002'!B:M,11,0)","v":"夏颖"},{"$f":"VLOOKUP(B1436,'[1]002'!B:M,12,0)","v":"佛山市顺德区青云中学"},{"$f":"VLOOKUP(B1436,[2]sheet2!B:L,10,0)","v":"-"},{"$f":"VLOOKUP(B1436,[2]sheet2!B:L,11,0)","v":"-"},"http://183.62.54.51:8841/data/files/certificate/000000000439/9ee47e15695e416aaa7609ec98ed4463/signed/1434_陈维维、夏颖_二等奖_7321.pdf"]
[1435,"P305319090661","经济大危机","高中组","微课","二等奖","佛山市",{"$f":"VLOOKUP(B1437,'[1]002'!B:M,7,0)","v":"郑莹春"},{"$f":"VLOOKUP(B1437,'[1]002'!B:M,8,0)","v":"佛山市顺德区青云中学"},{"$f":"VLOOKUP(B1437,'[1]002'!B:M,11,0)","v":"-"},{"$f":"VLOOKUP(B1437,'[1]002'!B:M,12,0)","v":"-"},{"$f":"VLOOKUP(B1437,[2]sheet2!B:L,10,0)","v":"-"},{"$f":"VLOOKUP(B1437,[2]sheet2!B:L,11,0)","v":"-"},"http://183.62.54.51:8841/data/files/certificate/000000000439/85f5f26fd57b49dba15507a005979f7b/signed/1435_郑莹春_二等奖_7322.pdf"]
[1436,"P305319090663","杠杆及其平衡原理","高中组","微课","二等奖","佛山市",{"$f":"VLOOKUP(B1438,'[1]002'!B:M,7,0)","v":"姚淑仪"},{"$f":"VLOOKUP(B1438,'[1]002'!B:M,8,0)","v":"佛山市顺德区北滘中学"},{"$f":"VLOOKUP(B1438,'[1]002'!B:M,11,0)","v":"-"},{"$f":"VLOOKUP(B1438,'[1]002'!B:M,12,0)","v":"-"},{"$f":"VLOOKUP(B1438,[2]sheet2!B:L,10,0)","v":"-"},{"$f":"VLOOKUP(B1438,[2]sheet2!B:L,11,0)","v":"-"},"http://183.62.54.51:8841/data/files/certificate/000000000439/32186700c37e476e98f4ede2acaed9d6/signed/1436_姚淑仪_二等奖_7323.pdf"]
[1437,"P305319090655","三庭五眼绘动画人物正脸","高中组","微课","二等奖","佛山市",{"$f":"VLOOKUP(B1439,'[1]002'!B:M,7,0)","v":"顾丽贤"},{"$f":"VLOOKUP(B1439,'[1]002'!B:M,8,0)","v":"佛山市南海区第一中学"},{"$f":"VLOOKUP(B1439,'[1]002'!B:M,11,0)","v":"-"},{"$f":"VLOOKUP(B1439,'[1]002'!B:M,12,0)","v":"-"},{"$f":"VLOOKUP(B1439,[2]sheet2!B:L,10,0)","v":"-"},{"$f":"VLOOKUP(B1439,[2]sheet2!B:L,11,0)","v":"-"},"http://183.62.54.51:8841/data/files/certificate/000000000439/4d0b7a8a4f9e4fab88c1d12a9b4f9474/signed/1437_顾丽贤_二等奖_7324.pdf"]
[1438,"P305319090653","社会历史的主体","高中组","微课","二等奖","佛山市",{"$f":"VLOOKUP(B1440,'[1]002'!B:M,7,0)","v":"金阿宁"},{"$f":"VLOOKUP(B1440,'[1]002'!B:M,8,0)","v":"佛山市南海区执信中学"},{"$f":"VLOOKUP(B1440,'[1]002'!B:M,11,0)","v":"-"},{"$f":"VLOOKUP(B1440,'[1]002'!B:M,12,0)","v":"-"},{"$f":"VLOOKUP(B1440,[2]sheet2!B:L,10,0)","v":"-"},{"$f":"VLOOKUP(B1440,[2]sheet2!B:L,11,0)","v":"-"},"http://183.62.54.51:8841/data/files/certificate/000000000439/c3d78b6ba4e7425695f1bd97e4f01af4/signed/1438_金阿宁_二等奖_7325.pdf"]
[1439,"P305319090647","苯的结构","高中组","微课","二等奖","佛山市",{"$f":"VLOOKUP(B1441,'[1]002'!B:M,7,0)","v":"吴倩"},{"$f":"VLOOKUP(B1441,'[1]002'!B:M,8,0)","v":"佛山巿南海区西樵高级中学"},{"$f":"VLOOKUP(B1441,'[1]002'!B:M,11,0)","v":"-"},{"$f":"VLOOKUP(B1441,'[1]002'!B:M,12,0)","v":"-"},{"$f":"VLOOKUP(B1441,[2]sheet2!B:L,10,0)","v":"-"},{"$f":"VLOOKUP(B1441,[2]sheet2!B:L,11,0)","v":"-"},"http://183.62.54.51:8841/data/files/certificate/000000000439/4d8deb6e288a4a2eb6a04ecc2a3e0755/signed/1439_吴倩_二等奖_7326.pdf"]
[1440,"P305319090649","音的分组","高中组","微课","二等奖","佛山市",{"$f":"VLOOKUP(B1442,'[1]002'!B:M,7,0)","v":"吴志锋"},{"$f":"VLOOKUP(B1442,'[1]002'!B:M,8,0)","v":"佛山市南海区第一中学"},{"$f":"VLOOKUP(B1442,'[1]002'!B:M,11,0)","v":"-"},{"$f":"VLOOKUP(B1442,'[1]002'!B:M,12,0)","v":"-"},{"$f":"VLOOKUP(B1442,[2]sheet2!B:L,10,0)","v":"-"},{"$f":"VLOOKUP(B1442,[2]sheet2!B:L,11,0)","v":"-"},"http://183.62.54.51:8841/data/files/certificate/000000000439/d95c145197064aa2a8e34537ce5d4aec/signed/1440_吴志锋_二等奖_7327.pdf"]
[1441,"P305319090643","地球的圈层结构","高中组","微课","二等奖","佛山市",{"$f":"VLOOKUP(B1443,'[1]002'!B:M,7,0)","v":"钟如光"},{"$f":"VLOOKUP(B1443,'[1]002'!B:M,8,0)","v":"佛山市南海区桂城中学"},{"$f":"VLOOKUP(B1443,'[1]002'!B:M,11,0)","v":"-"},{"$f":"VLOOKUP(B1443,'[1]002'!B:M,12,0)","v":"-"},{"$f":"VLOOKUP(B1443,[2]sheet2!B:L,10,0)","v":"-"},{"$f":"VLOOKUP(B1443,[2]sheet2!B:L,11,0)","v":"-"},"http://183.62.54.51:8841/data/files/certificate/000000000439/f36b3f255ae4407a9dc7d8f44c6dabc2/signed/1441_钟如光_二等奖_7328.pdf"]
[1442,"P305319090651","罗斯福新政","高中组","微课","二等奖","佛山市",{"$f":"VLOOKUP(B1444,'[1]002'!B:M,7,0)","v":"潘丽芬"},{"$f":"VLOOKUP(B1444,'[1]002'!B:M,8,0)","v":"佛山市南海区罗村高级中学"},{"$f":"VLOOKUP(B1444,'[1]002'!B:M,11,0)","v":"-"},{"$f":"VLOOKUP(B1444,'[1]002'!B:M,12,0)","v":"-"},{"$f":"VLOOKUP(B1444,[2]sheet2!B:L,10,0)","v":"-"},{"$f":"VLOOKUP(B1444,[2]sheet2!B:L,11,0)","v":"-"},"http://183.62.54.51:8841/data/files/certificate/000000000439/0facb81e8a8144aaac0eca082a5cf844/signed/1442_潘丽芬_二等奖_7329.pdf"]
[1443,"P305319088890","向量的加法","高中组","微课","二等奖","韶关市",{"$f":"VLOOKUP(B1445,'[1]002'!B:M,7,0)","v":"刘雨昀"},{"$f":"VLOOKUP(B1445,'[1]002'!B:M,8,0)","v":"仁化县仁化中学"},{"$f":"VLOOKUP(B1445,'[1]002'!B:M,11,0)","v":"尹杰杰"},{"$f":"VLOOKUP(B1445,'[1]002'!B:M,12,0)","v":"仁化县仁化中学"},{"$f":"VLOOKUP(B1445,[2]sheet2!B:L,10,0)","v":"-"},{"$f":"VLOOKUP(B1445,[2]sheet2!B:L,11,0)","v":"-"},"http://183.62.54.51:8841/data/files/certificate/000000000439/358faf65ec054eeba84028e9179528fa/signed/1443_刘雨昀、尹杰杰_二等奖_7330.pdf"]
[1444,"P305319079690","对校园暴力说不","高中组","微课","二等奖","梅州市",{"$f":"VLOOKUP(B1446,'[1]002'!B:M,7,0)","v":"余雪芬"},{"$f":"VLOOKUP(B1446,'[1]002'!B:M,8,0)","v":"梅州市梅江区嘉应中学"},{"$f":"VLOOKUP(B1446,'[1]002'!B:M,11,0)","v":"-"},{"$f":"VLOOKUP(B1446,'[1]002'!B:M,12,0)","v":"-"},{"$f":"VLOOKUP(B1446,[2]sheet2!B:L,10,0)","v":"-"},{"$f":"VLOOKUP(B1446,[2]sheet2!B:L,11,0)","v":"-"},"http://183.62.54.51:8841/data/files/certificate/000000000439/ded1ed301fd44884b381f86061610daa/signed/1444_余雪芬_二等奖_7331.pdf"]
[1445,"P305319092398","如何制作白醋电池","高中组","微课","二等奖","汕尾市",{"$f":"VLOOKUP(B1447,'[1]002'!B:M,7,0)","v":"彭津"},{"$f":"VLOOKUP(B1447,'[1]002'!B:M,8,0)","v":"陆河县陆河中学"},{"$f":"VLOOKUP(B1447,'[1]002'!B:M,11,0)","v":"-"},{"$f":"VLOOKUP(B1447,'[1]002'!B:M,12,0)","v":"-"},{"$f":"VLOOKUP(B1447,[2]sheet2!B:L,10,0)","v":"-"},{"$f":"VLOOKUP(B1447,[2]sheet2!B:L,11,0)","v":"-"},"http://183.62.54.51:8841/data/files/certificate/000000000439/ba09eb78b3154b13b1a473210447af7b/signed/1445_彭津_二等奖_7332.pdf"]
[1446,"P305319092592","保卫我的wifi之防止别人蹭wifi","高中组","微课","二等奖","东莞市",{"$f":"VLOOKUP(B1448,'[1]002'!B:M,7,0)","v":"颜兰"},{"$f":"VLOOKUP(B1448,'[1]002'!B:M,8,0)","v":"东莞市第六高级中学"},{"$f":"VLOOKUP(B1448,'[1]002'!B:M,11,0)","v":"郑旭淳"},{"$f":"VLOOKUP(B1448,'[1]002'!B:M,12,0)","v":"东莞市第六高级中学"},{"$f":"VLOOKUP(B1448,[2]sheet2!B:L,10,0)","v":"黎清万"},{"$f":"VLOOKUP(B1448,[2]sheet2!B:L,11,0)","v":"东莞市第六高级中学"},"http://183.62.54.51:8841/data/files/certificate/000000000439/d6626f488cd840de87d2578318493904/signed/1446_颜兰、郑旭淳、黎清万_二等奖_7333.pdf"]
[1447,"P305319092584","超重与失重","高中组","微课","二等奖","东莞市",{"$f":"VLOOKUP(B1449,'[1]002'!B:M,7,0)","v":"李鑫"},{"$f":"VLOOKUP(B1449,'[1]002'!B:M,8,0)","v":"东莞市第二高级中学"},{"$f":"VLOOKUP(B1449,'[1]002'!B:M,11,0)","v":"-"},{"$f":"VLOOKUP(B1449,'[1]002'!B:M,12,0)","v":"-"},{"$f":"VLOOKUP(B1449,[2]sheet2!B:L,10,0)","v":"-"},{"$f":"VLOOKUP(B1449,[2]sheet2!B:L,11,0)","v":"-"},"http://183.62.54.51:8841/data/files/certificate/000000000439/8ca427b85c5341d5997880f104eb979e/signed/1447_李鑫_二等奖_7334.pdf"]
[1448,"P305319092593","自由落体运动的性质","高中组","微课","二等奖","东莞市",{"$f":"VLOOKUP(B1450,'[1]002'!B:M,7,0)","v":"李鑫"},{"$f":"VLOOKUP(B1450,'[1]002'!B:M,8,0)","v":"东莞市第二高级中学"},{"$f":"VLOOKUP(B1450,'[1]002'!B:M,11,0)","v":"-"},{"$f":"VLOOKUP(B1450,'[1]002'!B:M,12,0)","v":"-"},{"$f":"VLOOKUP(B1450,[2]sheet2!B:L,10,0)","v":"-"},{"$f":"VLOOKUP(B1450,[2]sheet2!B:L,11,0)","v":"-"},"http://183.62.54.51:8841/data/files/certificate/000000000439/9a056e8399364bbbb6d07dc48dd2ddc2/signed/1448_李鑫_二等奖_7335.pdf"]
[1449,"P305319089508","四种命题间的相互关系","高中组","微课","二等奖","中山市",{"$f":"VLOOKUP(B1451,'[1]002'!B:M,7,0)","v":"卜宪江"},{"$f":"VLOOKUP(B1451,'[1]002'!B:M,8,0)","v":"中山市小榄中学（中山市外国语学校）"},{"$f":"VLOOKUP(B1451,'[1]002'!B:M,11,0)","v":"-"},{"$f":"VLOOKUP(B1451,'[1]002'!B:M,12,0)","v":"-"},{"$f":"VLOOKUP(B1451,[2]sheet2!B:L,10,0)","v":"-"},{"$f":"VLOOKUP(B1451,[2]sheet2!B:L,11,0)","v":"-"},"http://183.62.54.51:8841/data/files/certificate/000000000439/33ae45aef6c6496c809deedd45f84dab/signed/1449_卜宪江_二等奖_7336.pdf"]
[1450,"P305319089711","日语时间节点之语法辨析","高中组","微课","二等奖","中山市",{"$f":"VLOOKUP(B1452,'[1]002'!B:M,7,0)","v":"孟希桐"},{"$f":"VLOOKUP(B1452,'[1]002'!B:M,8,0)","v":"中山市东区中学"},{"$f":"VLOOKUP(B1452,'[1]002'!B:M,11,0)","v":"-"},{"$f":"VLOOKUP(B1452,'[1]002'!B:M,12,0)","v":"-"},{"$f":"VLOOKUP(B1452,[2]sheet2!B:L,10,0)","v":"-"},{"$f":"VLOOKUP(B1452,[2]sheet2!B:L,11,0)","v":"-"},"http://183.62.54.51:8841/data/files/certificate/000000000439/e10603eb8aed4ec380803a674d483693/signed/1450_孟希桐_二等奖_7337.pdf"]
[1451,"P305319088398","概念教学之基因的定义","高中组","微课","二等奖","中山市",{"$f":"VLOOKUP(B1453,'[1]002'!B:M,7,0)","v":"梁旭欣"},{"$f":"VLOOKUP(B1453,'[1]002'!B:M,8,0)","v":"中山市龙山中学"},{"$f":"VLOOKUP(B1453,'[1]002'!B:M,11,0)","v":"-"},{"$f":"VLOOKUP(B1453,'[1]002'!B:M,12,0)","v":"-"},{"$f":"VLOOKUP(B1453,[2]sheet2!B:L,10,0)","v":"-"},{"$f":"VLOOKUP(B1453,[2]sheet2!B:L,11,0)","v":"-"},"http://183.62.54.51:8841/data/files/certificate/000000000439/6018b229cbfc4db18e2fabf4c5a75116/signed/1451_梁旭欣_二等奖_7338.pdf"]
[1452,"P305319092028","资本主义经济危机的原因","高中组","微课","二等奖","江门市",{"$f":"VLOOKUP(B1454,'[1]002'!B:M,7,0)","v":"韩方程"},{"$f":"VLOOKUP(B1454,'[1]002'!B:M,8,0)","v":"台山市第一中学"},{"$f":"VLOOKUP(B1454,'[1]002'!B:M,11,0)","v":"-"},{"$f":"VLOOKUP(B1454,'[1]002'!B:M,12,0)","v":"-"},{"$f":"VLOOKUP(B1454,[2]sheet2!B:L,10,0)","v":"-"},{"$f":"VLOOKUP(B1454,[2]sheet2!B:L,11,0)","v":"-"},"http://183.62.54.51:8841/data/files/certificate/000000000439/9d8c753b22974725bcd8bf6583658683/signed/1452_韩方程_二等奖_7339.pdf"]
[1453,"P305319092977","网络域名探秘","高中组","微课","二等奖","湛江市",{"$f":"VLOOKUP(B1455,'[1]002'!B:M,7,0)","v":"尉刚"},{"$f":"VLOOKUP(B1455,'[1]002'!B:M,8,0)","v":"湛江市第二中学"},{"$f":"VLOOKUP(B1455,'[1]002'!B:M,11,0)","v":"-"},{"$f":"VLOOKUP(B1455,'[1]002'!B:M,12,0)","v":"-"},{"$f":"VLOOKUP(B1455,[2]sheet2!B:L,10,0)","v":"-"},{"$f":"VLOOKUP(B1455,[2]sheet2!B:L,11,0)","v":"-"},"http://183.62.54.51:8841/data/files/certificate/000000000439/a0cd2f09a8c64bf68fedbc72d68a6f5d/signed/1453_尉刚_二等奖_7340.pdf"]
[1454,"P305319091425","农业的区位选择","高中组","微课","二等奖","茂名市",{"$f":"VLOOKUP(B1456,'[1]002'!B:M,7,0)","v":"冯健"},{"$f":"VLOOKUP(B1456,'[1]002'!B:M,8,0)","v":"高州市分界中学"},{"$f":"VLOOKUP(B1456,'[1]002'!B:M,11,0)","v":"-"},{"$f":"VLOOKUP(B1456,'[1]002'!B:M,12,0)","v":"-"},{"$f":"VLOOKUP(B1456,[2]sheet2!B:L,10,0)","v":"-"},{"$f":"VLOOKUP(B1456,[2]sheet2!B:L,11,0)","v":"-"},"http://183.62.54.51:8841/data/files/certificate/000000000439/0eb979ae7e594e71b1ae4afd4a45afa6/signed/1454_冯健_二等奖_7341.pdf"]
[1455,"P305319090204","图片和声音的存储空间","高中组","微课","二等奖","肇庆市",{"$f":"VLOOKUP(B1457,'[1]002'!B:M,7,0)","v":"孔沛念"},{"$f":"VLOOKUP(B1457,'[1]002'!B:M,8,0)","v":"肇庆高新技术产业开发区大旺中学"},{"$f":"VLOOKUP(B1457,'[1]002'!B:M,11,0)","v":"-"},{"$f":"VLOOKUP(B1457,'[1]002'!B:M,12,0)","v":"-"},{"$f":"VLOOKUP(B1457,[2]sheet2!B:L,10,0)","v":"-"},{"$f":"VLOOKUP(B1457,[2]sheet2!B:L,11,0)","v":"-"},"http://183.62.54.51:8841/data/files/certificate/000000000439/f34302fc147f448185bd08426c9318bf/signed/1455_孔沛念_二等奖_7342.pdf"]
[1456,"P305319091658","定语从句关系代词that和which的用法","高中组","微课","二等奖","清远市",{"$f":"VLOOKUP(B1458,'[1]002'!B:M,7,0)","v":"张丽萍"},{"$f":"VLOOKUP(B1458,'[1]002'!B:M,8,0)","v":"清远市源潭中学"},{"$f":"VLOOKUP(B1458,'[1]002'!B:M,11,0)","v":"-"},{"$f":"VLOOKUP(B1458,'[1]002'!B:M,12,0)","v":"-"},{"$f":"VLOOKUP(B1458,[2]sheet2!B:L,10,0)","v":"-"},{"$f":"VLOOKUP(B1458,[2]sheet2!B:L,11,0)","v":"-"},"http://183.62.54.51:8841/data/files/certificate/000000000439/1a6a4000de5f48a38d970ac3242cd3a7/signed/1456_张丽萍_二等奖_7343.pdf"]
[1457,"P305319091653","圆的标准方程","高中组","微课","二等奖","清远市",{"$f":"VLOOKUP(B1459,'[1]002'!B:M,7,0)","v":"付贵"},{"$f":"VLOOKUP(B1459,'[1]002'!B:M,8,0)","v":"清远市第三中学"},{"$f":"VLOOKUP(B1459,'[1]002'!B:M,11,0)","v":"-"},{"$f":"VLOOKUP(B1459,'[1]002'!B:M,12,0)","v":"-"},{"$f":"VLOOKUP(B1459,[2]sheet2!B:L,10,0)","v":"-"},{"$f":"VLOOKUP(B1459,[2]sheet2!B:L,11,0)","v":"-"},"http://183.62.54.51:8841/data/files/certificate/000000000439/e50ec094b45240cea7a4fc500cd3ca7e/signed/1457_付贵_二等奖_7344.pdf"]
[1458,"P305319091663","分清场合巧妙用语","高中组","微课","二等奖","清远市",{"$f":"VLOOKUP(B1460,'[1]002'!B:M,7,0)","v":"卢建华"},{"$f":"VLOOKUP(B1460,'[1]002'!B:M,8,0)","v":"清远市源潭中学"},{"$f":"VLOOKUP(B1460,'[1]002'!B:M,11,0)","v":"-"},{"$f":"VLOOKUP(B1460,'[1]002'!B:M,12,0)","v":"-"},{"$f":"VLOOKUP(B1460,[2]sheet2!B:L,10,0)","v":"-"},{"$f":"VLOOKUP(B1460,[2]sheet2!B:L,11,0)","v":"-"},"http://183.62.54.51:8841/data/files/certificate/000000000439/a701cf4529be4f8bb34e76e3506bb43f/signed/1458_卢建华_二等奖_7345.pdf"]
[1459,"P305319091661","定语从句关系副词","高中组","微课","二等奖","清远市",{"$f":"VLOOKUP(B1461,'[1]002'!B:M,7,0)","v":"冯带娣"},{"$f":"VLOOKUP(B1461,'[1]002'!B:M,8,0)","v":"清远市源潭中学"},{"$f":"VLOOKUP(B1461,'[1]002'!B:M,11,0)","v":"-"},{"$f":"VLOOKUP(B1461,'[1]002'!B:M,12,0)","v":"-"},{"$f":"VLOOKUP(B1461,[2]sheet2!B:L,10,0)","v":"-"},{"$f":"VLOOKUP(B1461,[2]sheet2!B:L,11,0)","v":"-"},"http://183.62.54.51:8841/data/files/certificate/000000000439/cc7b9ed0db1f4028b5647f95429efd9d/signed/1459_冯带娣_二等奖_7346.pdf"]
[1460,"P305319091650","探究光照强度对光合作用强度的影响","高中组","微课","二等奖","清远市",{"$f":"VLOOKUP(B1462,'[1]002'!B:M,7,0)","v":"陈迪"},{"$f":"VLOOKUP(B1462,'[1]002'!B:M,8,0)","v":"清远市第一中学"},{"$f":"VLOOKUP(B1462,'[1]002'!B:M,11,0)","v":"-"},{"$f":"VLOOKUP(B1462,'[1]002'!B:M,12,0)","v":"-"},{"$f":"VLOOKUP(B1462,[2]sheet2!B:L,10,0)","v":"-"},{"$f":"VLOOKUP(B1462,[2]sheet2!B:L,11,0)","v":"-"},"http://183.62.54.51:8841/data/files/certificate/000000000439/c40811277cbd4cc08bedd72de067f524/signed/1460_陈迪_二等奖_7347.pdf"]
[1461,"P305319091656","力的分解","高中组","微课","二等奖","清远市",{"$f":"VLOOKUP(B1463,'[1]002'!B:M,7,0)","v":"温雯露"},{"$f":"VLOOKUP(B1463,'[1]002'!B:M,8,0)","v":"清远市第三中学"},{"$f":"VLOOKUP(B1463,'[1]002'!B:M,11,0)","v":"-"},{"$f":"VLOOKUP(B1463,'[1]002'!B:M,12,0)","v":"-"},{"$f":"VLOOKUP(B1463,[2]sheet2!B:L,10,0)","v":"-"},{"$f":"VLOOKUP(B1463,[2]sheet2!B:L,11,0)","v":"-"},"http://183.62.54.51:8841/data/files/certificate/000000000439/434fd90411ba49e69fd298d6956d323f/signed/1461_温雯露_二等奖_7348.pdf"]
[1462,"P305319080863","幂函数的图象与性质","高中组","微课","二等奖","潮州市",{"$f":"VLOOKUP(B1464,'[1]002'!B:M,7,0)","v":"林佳燕"},{"$f":"VLOOKUP(B1464,'[1]002'!B:M,8,0)","v":"龙溪中学"},{"$f":"VLOOKUP(B1464,'[1]002'!B:M,11,0)","v":"-"},{"$f":"VLOOKUP(B1464,'[1]002'!B:M,12,0)","v":"-"},{"$f":"VLOOKUP(B1464,[2]sheet2!B:L,10,0)","v":"-"},{"$f":"VLOOKUP(B1464,[2]sheet2!B:L,11,0)","v":"-"},"http://183.62.54.51:8841/data/files/certificate/000000000439/f17a2678441f4000ac7a936cf5b4fd09/signed/1462_林佳燕_二等奖_7349.pdf"]
[1463,"P305319079667","高中英语语法强调句微课教学","高中组","微课","二等奖","潮州市",{"$f":"VLOOKUP(B1465,'[1]002'!B:M,7,0)","v":"赖梨凤"},{"$f":"VLOOKUP(B1465,'[1]002'!B:M,8,0)","v":"潮州市华侨中学"},{"$f":"VLOOKUP(B1465,'[1]002'!B:M,11,0)","v":"-"},{"$f":"VLOOKUP(B1465,'[1]002'!B:M,12,0)","v":"-"},{"$f":"VLOOKUP(B1465,[2]sheet2!B:L,10,0)","v":"-"},{"$f":"VLOOKUP(B1465,[2]sheet2!B:L,11,0)","v":"-"},"http://183.62.54.51:8841/data/files/certificate/000000000439/28a02dca88534e3b95c1f408a229b7c0/signed/1463_赖梨凤_二等奖_7350.pdf"]
[1464,"P305319079429","糖类","高中组","微课","二等奖","潮州市",{"$f":"VLOOKUP(B1466,'[1]002'!B:M,7,0)","v":"蔡晓多"},{"$f":"VLOOKUP(B1466,'[1]002'!B:M,8,0)","v":"潮州市华侨中学"},{"$f":"VLOOKUP(B1466,'[1]002'!B:M,11,0)","v":"-"},{"$f":"VLOOKUP(B1466,'[1]002'!B:M,12,0)","v":"-"},{"$f":"VLOOKUP(B1466,[2]sheet2!B:L,10,0)","v":"-"},{"$f":"VLOOKUP(B1466,[2]sheet2!B:L,11,0)","v":"-"},"http://183.62.54.51:8841/data/files/certificate/000000000439/eeca8037fccd4273b44fa04e5098bd03/signed/1464_蔡晓多_二等奖_7351.pdf"]
[1465,"P305319091137","三角函数图像的应用","高中组","微课","二等奖","云浮市",{"$f":"VLOOKUP(B1467,'[1]002'!B:M,7,0)","v":"周肖馨"},{"$f":"VLOOKUP(B1467,'[1]002'!B:M,8,0)","v":"新兴县惠能中学"},{"$f":"VLOOKUP(B1467,'[1]002'!B:M,11,0)","v":"-"},{"$f":"VLOOKUP(B1467,'[1]002'!B:M,12,0)","v":"-"},{"$f":"VLOOKUP(B1467,[2]sheet2!B:L,10,0)","v":"-"},{"$f":"VLOOKUP(B1467,[2]sheet2!B:L,11,0)","v":"-"},"http://183.62.54.51:8841/data/files/certificate/000000000439/18546af79d1243ac80965ddc44644f25/signed/1465_周肖馨_二等奖_7352.pdf"]
[1466,"P305319090388","Photoshop图层蒙版","高中组","微课","二等奖","云浮市",{"$f":"VLOOKUP(B1468,'[1]002'!B:M,7,0)","v":"廖锐光"},{"$f":"VLOOKUP(B1468,'[1]002'!B:M,8,0)","v":"罗定中学城东学校"},{"$f":"VLOOKUP(B1468,'[1]002'!B:M,11,0)","v":"-"},{"$f":"VLOOKUP(B1468,'[1]002'!B:M,12,0)","v":"-"},{"$f":"VLOOKUP(B1468,[2]sheet2!B:L,10,0)","v":"-"},{"$f":"VLOOKUP(B1468,[2]sheet2!B:L,11,0)","v":"-"},"http://183.62.54.51:8841/data/files/certificate/000000000439/7153faa6dc2741329004a75e45ee15c5/signed/1466_廖锐光_二等奖_7353.pdf"]
[1467,"P307319093246","中学生财商教育实践活动加互联网研究","高中组","信息技术创新教学案例","二等奖","广州市",{"$f":"VLOOKUP(B1469,'[1]002'!B:M,7,0)","v":"周雅莉"},{"$f":"VLOOKUP(B1469,'[1]002'!B:M,8,0)","v":"广州市第十六中学"},{"$f":"VLOOKUP(B1469,'[1]002'!B:M,11,0)","v":"-"},{"$f":"VLOOKUP(B1469,'[1]002'!B:M,12,0)","v":"-"},{"$f":"VLOOKUP(B1469,[2]sheet2!B:L,10,0)","v":"-"},{"$f":"VLOOKUP(B1469,[2]sheet2!B:L,11,0)","v":"-"},"http://183.62.54.51:8841/data/files/certificate/000000000439/17c039cba09a4baeb69e1ca7108a1541/signed/1467_周雅莉_二等奖_7354.pdf"]
[1468,"P307319090606","基于定邦教育云系统的1加1主体建构课堂英语教学案例","高中组","信息技术创新教学案例","二等奖","佛山市",{"$f":"VLOOKUP(B1470,'[1]002'!B:M,7,0)","v":"桂偲佳"},{"$f":"VLOOKUP(B1470,'[1]002'!B:M,8,0)","v":"佛山市顺德区罗定邦中学"},{"$f":"VLOOKUP(B1470,'[1]002'!B:M,11,0)","v":"-"},{"$f":"VLOOKUP(B1470,'[1]002'!B:M,12,0)","v":"-"},{"$f":"VLOOKUP(B1470,[2]sheet2!B:L,10,0)","v":"-"},{"$f":"VLOOKUP(B1470,[2]sheet2!B:L,11,0)","v":"-"},"http://183.62.54.51:8841/data/files/certificate/000000000439/655f41f042624a4498e3a3aec6a537ef/signed/1468_桂偲佳_二等奖_7355.pdf"]
[1469,"P307319092826","基于云端数据下的深度情景式英语听说课探究","高中组","信息技术创新教学案例","二等奖","东莞市",{"$f":"VLOOKUP(B1471,'[1]002'!B:M,7,0)","v":"钟浩然"},{"$f":"VLOOKUP(B1471,'[1]002'!B:M,8,0)","v":"东莞市厚街湖景中学"},{"$f":"VLOOKUP(B1471,'[1]002'!B:M,11,0)","v":"卢祉君"},{"$f":"VLOOKUP(B1471,'[1]002'!B:M,12,0)","v":"东莞市厚街湖景中学"},{"$f":"VLOOKUP(B1471,[2]sheet2!B:L,10,0)","v":"李小玲"},{"$f":"VLOOKUP(B1471,[2]sheet2!B:L,11,0)","v":"东莞市厚街湖景中学"},"http://183.62.54.51:8841/data/files/certificate/000000000439/4a81233c3cba4dc9b7aa35303941f524/signed/1469_钟浩然、卢祉君、李小玲_二等奖_7356.pdf"]
[1470,"P307319092827","App移动编程创客课程","高中组","信息技术创新教学案例","二等奖","东莞市",{"$f":"VLOOKUP(B1472,'[1]002'!B:M,7,0)","v":"黎清万"},{"$f":"VLOOKUP(B1472,'[1]002'!B:M,8,0)","v":"东莞市第六高级中学"},{"$f":"VLOOKUP(B1472,'[1]002'!B:M,11,0)","v":"郑旭淳"},{"$f":"VLOOKUP(B1472,'[1]002'!B:M,12,0)","v":"东莞市第六高级中学"},{"$f":"VLOOKUP(B1472,[2]sheet2!B:L,10,0)","v":"颜兰"},{"$f":"VLOOKUP(B1472,[2]sheet2!B:L,11,0)","v":"东莞市第六高级中学"},"http://183.62.54.51:8841/data/files/certificate/000000000439/77a0329f8cd843d69c4b47638b96df30/signed/1470_黎清万、郑旭淳、颜兰_二等奖_7357.pdf"]
[1471,"P307319079588","图像的加工之背景图的制作教学案例","高中组","信息技术创新教学案例","二等奖","云浮市",{"$f":"VLOOKUP(B1473,'[1]002'!B:M,7,0)","v":"叶金海"},{"$f":"VLOOKUP(B1473,'[1]002'!B:M,8,0)","v":"罗定中学"},{"$f":"VLOOKUP(B1473,'[1]002'!B:M,11,0)","v":"-"},{"$f":"VLOOKUP(B1473,'[1]002'!B:M,12,0)","v":"-"},{"$f":"VLOOKUP(B1473,[2]sheet2!B:L,10,0)","v":"-"},{"$f":"VLOOKUP(B1473,[2]sheet2!B:L,11,0)","v":"-"},"http://183.62.54.51:8841/data/files/certificate/000000000439/afb1e13126684cec8bdaad3f369f84a6/signed/1471_叶金海_二等奖_7358.pdf"]
[1472,"P304319086831","乡村振兴中传统文化的传承","高中组","跨学科项目式学习教学案例","二等奖","云浮市",{"$f":"VLOOKUP(B1474,'[1]002'!B:M,7,0)","v":"苏志英"},{"$f":"VLOOKUP(B1474,'[1]002'!B:M,8,0)","v":"新兴县惠能中学"},{"$f":"VLOOKUP(B1474,'[1]002'!B:M,11,0)","v":"-"},{"$f":"VLOOKUP(B1474,'[1]002'!B:M,12,0)","v":"-"},{"$f":"VLOOKUP(B1474,[2]sheet2!B:L,10,0)","v":"-"},{"$f":"VLOOKUP(B1474,[2]sheet2!B:L,11,0)","v":"-"},"http://183.62.54.51:8841/data/files/certificate/000000000439/91a39dffa6f04958b95a8bbabda7c6ab/signed/1472_苏志英_二等奖_7359.pdf"]
[1473,"P304319089459","神奇的植物色素","高中组","跨学科项目式学习教学案例","二等奖","云浮市",{"$f":"VLOOKUP(B1475,'[1]002'!B:M,7,0)","v":"区晓嫦"},{"$f":"VLOOKUP(B1475,'[1]002'!B:M,8,0)","v":"罗定中学"},{"$f":"VLOOKUP(B1475,'[1]002'!B:M,11,0)","v":"吴金群"},{"$f":"VLOOKUP(B1475,'[1]002'!B:M,12,0)","v":"罗定中学"},{"$f":"VLOOKUP(B1475,[2]sheet2!B:L,10,0)","v":"杨文勇"},{"$f":"VLOOKUP(B1475,[2]sheet2!B:L,11,0)","v":"罗定中学"},"http://183.62.54.51:8841/data/files/certificate/000000000439/bd7d8bdffab247099125dbfb9185ed5c/signed/1473_区晓嫦、吴金群、杨文勇_二等奖_7360.pdf"]
[1474,"P306319093224","高二物理案例《探究感应电流的产生条件》","高中组","新媒体新技术教学应用课例","二等奖",{"$f":"RIGHT(LEFT(VLOOKUP(B1476,'[1]002'!B:M,3,0),7),3)","v":"广州市"},{"$f":"VLOOKUP(B1476,'[1]002'!B:M,7,0)","v":"朱碧凡"},{"$f":"VLOOKUP(B1476,'[1]002'!B:M,8,0)","v":"广州市增城区郑中钧中学"},{"$f":"VLOOKUP(B1476,'[1]002'!B:M,11,0)","v":"-"},{"$f":"VLOOKUP(B1476,'[1]002'!B:M,12,0)","v":"-"},{"$f":"VLOOKUP(B1476,[2]sheet2!B:L,10,0)","v":"-"},{"$f":"VLOOKUP(B1476,[2]sheet2!B:L,11,0)","v":"-"},"http://183.62.54.51:8841/data/files/certificate/000000000439/868551ad5cc44b1198c613805749becf/signed/1474_朱碧凡_二等奖_7361.pdf"]
[1475,"P306319093220","化学平衡移动复习","高中组","新媒体新技术教学应用课例","二等奖",{"$f":"RIGHT(LEFT(VLOOKUP(B1477,'[1]002'!B:M,3,0),7),3)","v":"广州市"},{"$f":"VLOOKUP(B1477,'[1]002'!B:M,7,0)","v":"孙旭波"},{"$f":"VLOOKUP(B1477,'[1]002'!B:M,8,0)","v":"广州中学"},{"$f":"VLOOKUP(B1477,'[1]002'!B:M,11,0)","v":"-"},{"$f":"VLOOKUP(B1477,'[1]002'!B:M,12,0)","v":"-"},{"$f":"VLOOKUP(B1477,[2]sheet2!B:L,10,0)","v":"-"},{"$f":"VLOOKUP(B1477,[2]sheet2!B:L,11,0)","v":"-"},"http://183.62.54.51:8841/data/files/certificate/000000000439/b6513daaedf34554b2bbdf37a29a7ef6/signed/1475_孙旭波_二等奖_7362.pdf"]
[1476,"P306319093221","到新闻视窗亮相","高中组","新媒体新技术教学应用课例","二等奖",{"$f":"RIGHT(LEFT(VLOOKUP(B1478,'[1]002'!B:M,3,0),7),3)","v":"广州市"},{"$f":"VLOOKUP(B1478,'[1]002'!B:M,7,0)","v":"刘虹"},{"$f":"VLOOKUP(B1478,'[1]002'!B:M,8,0)","v":"广州市第十六中学"},{"$f":"VLOOKUP(B1478,'[1]002'!B:M,11,0)","v":"-"},{"$f":"VLOOKUP(B1478,'[1]002'!B:M,12,0)","v":"-"},{"$f":"VLOOKUP(B1478,[2]sheet2!B:L,10,0)","v":"-"},{"$f":"VLOOKUP(B1478,[2]sheet2!B:L,11,0)","v":"-"},"http://183.62.54.51:8841/data/files/certificate/000000000439/010364f9fce046b38bb01c1f3646badb/signed/1476_刘虹_二等奖_7363.pdf"]
[1477,"P306319092746","几类不同增长的函数模型","高中组","新媒体新技术教学应用课例","二等奖",{"$f":"RIGHT(LEFT(VLOOKUP(B1479,'[1]002'!B:M,3,0),7),3)","v":"深圳市"},{"$f":"VLOOKUP(B1479,'[1]002'!B:M,7,0)","v":"周后来"},{"$f":"VLOOKUP(B1479,'[1]002'!B:M,8,0)","v":"深圳大学师范学院附属中学"},{"$f":"VLOOKUP(B1479,'[1]002'!B:M,11,0)","v":"-"},{"$f":"VLOOKUP(B1479,'[1]002'!B:M,12,0)","v":"-"},{"$f":"VLOOKUP(B1479,[2]sheet2!B:L,10,0)","v":"-"},{"$f":"VLOOKUP(B1479,[2]sheet2!B:L,11,0)","v":"-"},"http://183.62.54.51:8841/data/files/certificate/000000000439/e1955b0e4e89401eb66309976dbb1268/signed/1477_周后来_二等奖_7364.pdf"]
[1478,"P306319092748","基于虚拟现实（VR）技术的细胞器-系统内的分工合作（第一课时）","高中组","新媒体新技术教学应用课例","二等奖",{"$f":"RIGHT(LEFT(VLOOKUP(B1480,'[1]002'!B:M,3,0),7),3)","v":"深圳市"},{"$f":"VLOOKUP(B1480,'[1]002'!B:M,7,0)","v":"何金妹"},{"$f":"VLOOKUP(B1480,'[1]002'!B:M,8,0)","v":"深圳市第三高级中学"},{"$f":"VLOOKUP(B1480,'[1]002'!B:M,11,0)","v":"-"},{"$f":"VLOOKUP(B1480,'[1]002'!B:M,12,0)","v":"-"},{"$f":"VLOOKUP(B1480,[2]sheet2!B:L,10,0)","v":"-"},{"$f":"VLOOKUP(B1480,[2]sheet2!B:L,11,0)","v":"-"},"http://183.62.54.51:8841/data/files/certificate/000000000439/76806fed6a634c3c8bc3e7f984473de4/signed/1478_何金妹_二等奖_7365.pdf"]
[1479,"P306319092264","永恒的中华民族精神","高中组","新媒体新技术教学应用课例","二等奖",{"$f":"RIGHT(LEFT(VLOOKUP(B1481,'[1]002'!B:M,3,0),7),3)","v":"汕头市"},{"$f":"VLOOKUP(B1481,'[1]002'!B:M,7,0)","v":"沈晓娴"},{"$f":"VLOOKUP(B1481,'[1]002'!B:M,8,0)","v":"汕头市澄海实验高级中学"},{"$f":"VLOOKUP(B1481,'[1]002'!B:M,11,0)","v":"-"},{"$f":"VLOOKUP(B1481,'[1]002'!B:M,12,0)","v":"-"},{"$f":"VLOOKUP(B1481,[2]sheet2!B:L,10,0)","v":"-"},{"$f":"VLOOKUP(B1481,[2]sheet2!B:L,11,0)","v":"-"},"http://183.62.54.51:8841/data/files/certificate/000000000439/8974c53ca9624294a7235aeb1acc1abe/signed/1479_沈晓娴_二等奖_7366.pdf"]
[1480,"P306319092265","二项式定理","高中组","新媒体新技术教学应用课例","二等奖",{"$f":"RIGHT(LEFT(VLOOKUP(B1482,'[1]002'!B:M,3,0),7),3)","v":"汕头市"},{"$f":"VLOOKUP(B1482,'[1]002'!B:M,7,0)","v":"曾颖嘉"},{"$f":"VLOOKUP(B1482,'[1]002'!B:M,8,0)","v":"汕头市澄海实验高级中学"},{"$f":"VLOOKUP(B1482,'[1]002'!B:M,11,0)","v":"-"},{"$f":"VLOOKUP(B1482,'[1]002'!B:M,12,0)","v":"-"},{"$f":"VLOOKUP(B1482,[2]sheet2!B:L,10,0)","v":"-"},{"$f":"VLOOKUP(B1482,[2]sheet2!B:L,11,0)","v":"-"},"http://183.62.54.51:8841/data/files/certificate/000000000439/edc67eb27b55458497f0e55a225693c8/signed/1480_曾颖嘉_二等奖_7367.pdf"]
[1481,"P306319090612","多角度看中国古代抑商","高中组","新媒体新技术教学应用课例","二等奖",{"$f":"RIGHT(LEFT(VLOOKUP(B1483,'[1]002'!B:M,3,0),7),3)","v":"佛山市"},{"$f":"VLOOKUP(B1483,'[1]002'!B:M,7,0)","v":"吴凯琪"},{"$f":"VLOOKUP(B1483,'[1]002'!B:M,8,0)","v":"佛山巿南海区西樵高级中学"},{"$f":"VLOOKUP(B1483,'[1]002'!B:M,11,0)","v":"-"},{"$f":"VLOOKUP(B1483,'[1]002'!B:M,12,0)","v":"-"},{"$f":"VLOOKUP(B1483,[2]sheet2!B:L,10,0)","v":"-"},{"$f":"VLOOKUP(B1483,[2]sheet2!B:L,11,0)","v":"-"},"http://183.62.54.51:8841/data/files/certificate/000000000439/1a129b0c63de434099257004829d7213/signed/1481_吴凯琪_二等奖_7368.pdf"]
[1482,"P306319090617","人类遗传病","高中组","新媒体新技术教学应用课例","二等奖",{"$f":"RIGHT(LEFT(VLOOKUP(B1484,'[1]002'!B:M,3,0),7),3)","v":"佛山市"},{"$f":"VLOOKUP(B1484,'[1]002'!B:M,7,0)","v":"邹德乐"},{"$f":"VLOOKUP(B1484,'[1]002'!B:M,8,0)","v":"佛山市顺德区罗定邦中学"},{"$f":"VLOOKUP(B1484,'[1]002'!B:M,11,0)","v":"-"},{"$f":"VLOOKUP(B1484,'[1]002'!B:M,12,0)","v":"-"},{"$f":"VLOOKUP(B1484,[2]sheet2!B:L,10,0)","v":"-"},{"$f":"VLOOKUP(B1484,[2]sheet2!B:L,11,0)","v":"-"},"http://183.62.54.51:8841/data/files/certificate/000000000439/d72612d431154ae8bfa6b7f65548c794/signed/1482_邹德乐_二等奖_7369.pdf"]
[1483,"P306319090620","金属钠的化学性质","高中组","新媒体新技术教学应用课例","二等奖",{"$f":"RIGHT(LEFT(VLOOKUP(B1485,'[1]002'!B:M,3,0),7),3)","v":"佛山市"},{"$f":"VLOOKUP(B1485,'[1]002'!B:M,7,0)","v":"陈凯淇"},{"$f":"VLOOKUP(B1485,'[1]002'!B:M,8,0)","v":"佛山市顺德区罗定邦中学"},{"$f":"VLOOKUP(B1485,'[1]002'!B:M,11,0)","v":"-"},{"$f":"VLOOKUP(B1485,'[1]002'!B:M,12,0)","v":"-"},{"$f":"VLOOKUP(B1485,[2]sheet2!B:L,10,0)","v":"-"},{"$f":"VLOOKUP(B1485,[2]sheet2!B:L,11,0)","v":"-"},"http://183.62.54.51:8841/data/files/certificate/000000000439/370f4b507280482d92ed20317ecfefad/signed/1483_陈凯淇_二等奖_7370.pdf"]
[1484,"P306319090616","祝福人物形象分析","高中组","新媒体新技术教学应用课例","二等奖",{"$f":"RIGHT(LEFT(VLOOKUP(B1486,'[1]002'!B:M,3,0),7),3)","v":"佛山市"},{"$f":"VLOOKUP(B1486,'[1]002'!B:M,7,0)","v":"林素"},{"$f":"VLOOKUP(B1486,'[1]002'!B:M,8,0)","v":"佛山巿南海区西樵高级中学"},{"$f":"VLOOKUP(B1486,'[1]002'!B:M,11,0)","v":"-"},{"$f":"VLOOKUP(B1486,'[1]002'!B:M,12,0)","v":"-"},{"$f":"VLOOKUP(B1486,[2]sheet2!B:L,10,0)","v":"-"},{"$f":"VLOOKUP(B1486,[2]sheet2!B:L,11,0)","v":"-"},"http://183.62.54.51:8841/data/files/certificate/000000000439/309d5684bfde40d9998a1ac896d657f0/signed/1484_林素_二等奖_7371.pdf"]
[1485,"P306319093014","网上资源检索——搜索引擎","高中组","新媒体新技术教学应用课例","二等奖",{"$f":"RIGHT(LEFT(VLOOKUP(B1487,'[1]002'!B:M,3,0),7),3)","v":"湛江市"},{"$f":"VLOOKUP(B1487,'[1]002'!B:M,7,0)","v":"曹红丽"},{"$f":"VLOOKUP(B1487,'[1]002'!B:M,8,0)","v":"湛江市爱周高级中学"},{"$f":"VLOOKUP(B1487,'[1]002'!B:M,11,0)","v":"白果"},{"$f":"VLOOKUP(B1487,'[1]002'!B:M,12,0)","v":"湛江市爱周高级中学"},{"$f":"VLOOKUP(B1487,[2]sheet2!B:L,10,0)","v":"-"},{"$f":"VLOOKUP(B1487,[2]sheet2!B:L,11,0)","v":"-"},"http://183.62.54.51:8841/data/files/certificate/000000000439/7d280cec66d24a03b63de2382d24f4fb/signed/1485_曹红丽、白果_二等奖_7372.pdf"]
[1486,"P306319093005","平面与平面垂直的判定","高中组","新媒体新技术教学应用课例","二等奖",{"$f":"RIGHT(LEFT(VLOOKUP(B1488,'[1]002'!B:M,3,0),7),3)","v":"湛江市"},{"$f":"VLOOKUP(B1488,'[1]002'!B:M,7,0)","v":"李翔"},{"$f":"VLOOKUP(B1488,'[1]002'!B:M,8,0)","v":"岭南师范学院附属中学"},{"$f":"VLOOKUP(B1488,'[1]002'!B:M,11,0)","v":"-"},{"$f":"VLOOKUP(B1488,'[1]002'!B:M,12,0)","v":"-"},{"$f":"VLOOKUP(B1488,[2]sheet2!B:L,10,0)","v":"-"},{"$f":"VLOOKUP(B1488,[2]sheet2!B:L,11,0)","v":"-"},"http://183.62.54.51:8841/data/files/certificate/000000000439/efd14b8a4ce2457799584e2e690d0f61/signed/1486_李翔_二等奖_7373.pdf"]
[1487,"P306319089930","社会历史的主体","高中组","新媒体新技术教学应用课例","二等奖",{"$f":"RIGHT(LEFT(VLOOKUP(B1489,'[1]002'!B:M,3,0),7),3)","v":"云浮市"},{"$f":"VLOOKUP(B1489,'[1]002'!B:M,7,0)","v":"龚苑媛"},{"$f":"VLOOKUP(B1489,'[1]002'!B:M,8,0)","v":"云浮市云浮中学"},{"$f":"VLOOKUP(B1489,'[1]002'!B:M,11,0)","v":"-"},{"$f":"VLOOKUP(B1489,'[1]002'!B:M,12,0)","v":"-"},{"$f":"VLOOKUP(B1489,[2]sheet2!B:L,10,0)","v":"-"},{"$f":"VLOOKUP(B1489,[2]sheet2!B:L,11,0)","v":"-"},"http://183.62.54.51:8841/data/files/certificate/000000000439/6c63febc174743a286668124f9d0297a/signed/1487_龚苑媛_二等奖_7374.pdf"]
[1488,"P306319089791","声声慢","高中组","新媒体新技术教学应用课例","二等奖",{"$f":"RIGHT(LEFT(VLOOKUP(B1490,'[1]002'!B:M,3,0),7),3)","v":"云浮市"},{"$f":"VLOOKUP(B1490,'[1]002'!B:M,7,0)","v":"卢宇"},{"$f":"VLOOKUP(B1490,'[1]002'!B:M,8,0)","v":"罗定中学"},{"$f":"VLOOKUP(B1490,'[1]002'!B:M,11,0)","v":"-"},{"$f":"VLOOKUP(B1490,'[1]002'!B:M,12,0)","v":"-"},{"$f":"VLOOKUP(B1490,[2]sheet2!B:L,10,0)","v":"-"},{"$f":"VLOOKUP(B1490,[2]sheet2!B:L,11,0)","v":"-"},"http://183.62.54.51:8841/data/files/certificate/000000000439/cc9f2a7429c248ce82df2a05f710a476/signed/1488_卢宇_二等奖_7375.pdf"]
[1489,"P302319092965","6.1努力做遵纪守法的好公民","高中组","教育资源应用案例_项目单位","二等奖","湛江市",{"$f":"VLOOKUP(B1491,'[1]002'!B:M,7,0)","v":"罗谷花　"},{"$f":"VLOOKUP(B1491,'[1]002'!B:M,8,0)","v":"湛江市爱周高级中学"},{"$f":"VLOOKUP(B1491,'[1]002'!B:M,11,0)","v":"-"},{"$f":"VLOOKUP(B1491,'[1]002'!B:M,12,0)","v":"-"},{"$f":"VLOOKUP(B1491,[2]sheet2!B:L,10,0)","v":"-"},{"$f":"VLOOKUP(B1491,[2]sheet2!B:L,11,0)","v":"-"},"http://183.62.54.51:8841/data/files/certificate/000000000439/ed6e3084fab146ea86f7404124a694bc/signed/1489_罗谷花　_二等奖_7376.pdf"]
[1490,"P302319092967","作用力与反作用力","高中组","教育资源应用案例_项目单位","二等奖","湛江市",{"$f":"VLOOKUP(B1492,'[1]002'!B:M,7,0)","v":"杨敏丹"},{"$f":"VLOOKUP(B1492,'[1]002'!B:M,8,0)","v":"湛江市爱周高级中学"},{"$f":"VLOOKUP(B1492,'[1]002'!B:M,11,0)","v":"-"},{"$f":"VLOOKUP(B1492,'[1]002'!B:M,12,0)","v":"-"},{"$f":"VLOOKUP(B1492,[2]sheet2!B:L,10,0)","v":"-"},{"$f":"VLOOKUP(B1492,[2]sheet2!B:L,11,0)","v":"-"},"http://183.62.54.51:8841/data/files/certificate/000000000439/7047d9ad490e4f3bbefecfbe7293c219/signed/1490_杨敏丹_二等奖_7377.pdf"]
[1491,"P303319093212","第三章第一节自然界的水循环","高中组","课件","三等奖","广州市",{"$f":"VLOOKUP(B1493,'[1]002'!B:M,7,0)","v":"陈冰"},{"$f":"VLOOKUP(B1493,'[1]002'!B:M,8,0)","v":"广州市南海中学"},{"$f":"VLOOKUP(B1493,'[1]002'!B:M,11,0)","v":"-"},{"$f":"VLOOKUP(B1493,'[1]002'!B:M,12,0)","v":"-"},{"$f":"VLOOKUP(B1493,[2]sheet2!B:L,10,0)","v":"-"},{"$f":"VLOOKUP(B1493,[2]sheet2!B:L,11,0)","v":"-"},"http://183.62.54.51:8841/data/files/certificate/000000000439/8e4feb3b89eb4dfe87a53e4a5e464c7c/signed/1491_陈冰_三等奖_7378.pdf"]
[1492,"P303319092761","光电效应与波粒二象性","高中组","课件","三等奖","深圳市",{"$f":"VLOOKUP(B1494,'[1]002'!B:M,7,0)","v":"赵刚"},{"$f":"VLOOKUP(B1494,'[1]002'!B:M,8,0)","v":"深圳市福田区红岭中学"},{"$f":"VLOOKUP(B1494,'[1]002'!B:M,11,0)","v":"-"},{"$f":"VLOOKUP(B1494,'[1]002'!B:M,12,0)","v":"-"},{"$f":"VLOOKUP(B1494,[2]sheet2!B:L,10,0)","v":"-"},{"$f":"VLOOKUP(B1494,[2]sheet2!B:L,11,0)","v":"-"},"http://183.62.54.51:8841/data/files/certificate/000000000439/4362e0526e914c0eb402f352bf410371/signed/1492_赵刚_三等奖_7379.pdf"]
[1493,"P303319092762","城市内部空间结构","高中组","课件","三等奖","深圳市",{"$f":"VLOOKUP(B1495,'[1]002'!B:M,7,0)","v":"王伟亚"},{"$f":"VLOOKUP(B1495,'[1]002'!B:M,8,0)","v":"深圳市福田外国语高级中学"},{"$f":"VLOOKUP(B1495,'[1]002'!B:M,11,0)","v":"-"},{"$f":"VLOOKUP(B1495,'[1]002'!B:M,12,0)","v":"-"},{"$f":"VLOOKUP(B1495,[2]sheet2!B:L,10,0)","v":"-"},{"$f":"VLOOKUP(B1495,[2]sheet2!B:L,11,0)","v":"-"},"http://183.62.54.51:8841/data/files/certificate/000000000439/2e7689e9d10c48f0b8433e3ffdf39a33/signed/1493_王伟亚_三等奖_7380.pdf"]
[1494,"P303319092275","两个基本计数原理","高中组","课件","三等奖","汕头市",{"$f":"VLOOKUP(B1496,'[1]002'!B:M,7,0)","v":"张壮群"},{"$f":"VLOOKUP(B1496,'[1]002'!B:M,8,0)","v":"汕头市达濠华侨中学"},{"$f":"VLOOKUP(B1496,'[1]002'!B:M,11,0)","v":"-"},{"$f":"VLOOKUP(B1496,'[1]002'!B:M,12,0)","v":"-"},{"$f":"VLOOKUP(B1496,[2]sheet2!B:L,10,0)","v":"-"},{"$f":"VLOOKUP(B1496,[2]sheet2!B:L,11,0)","v":"-"},"http://183.62.54.51:8841/data/files/certificate/000000000439/68b3c810a08f4b5d90676906aa8c1a1e/signed/1494_张壮群_三等奖_7381.pdf"]
[1495,"P303319092282","现在完成进行时","高中组","课件","三等奖","汕头市",{"$f":"VLOOKUP(B1497,'[1]002'!B:M,7,0)","v":"陈淑姿"},{"$f":"VLOOKUP(B1497,'[1]002'!B:M,8,0)","v":"汕头市达濠第二中学"},{"$f":"VLOOKUP(B1497,'[1]002'!B:M,11,0)","v":"-"},{"$f":"VLOOKUP(B1497,'[1]002'!B:M,12,0)","v":"-"},{"$f":"VLOOKUP(B1497,[2]sheet2!B:L,10,0)","v":"-"},{"$f":"VLOOKUP(B1497,[2]sheet2!B:L,11,0)","v":"-"},"http://183.62.54.51:8841/data/files/certificate/000000000439/2e11602bd8b2460585a4a3b7d1303b69/signed/1495_陈淑姿_三等奖_7382.pdf"]
[1496,"P303319092283","文言文特殊句式•倒装句","高中组","课件","三等奖","汕头市",{"$f":"VLOOKUP(B1498,'[1]002'!B:M,7,0)","v":"苏映珊"},{"$f":"VLOOKUP(B1498,'[1]002'!B:M,8,0)","v":"汕头市河浦中学"},{"$f":"VLOOKUP(B1498,'[1]002'!B:M,11,0)","v":"-"},{"$f":"VLOOKUP(B1498,'[1]002'!B:M,12,0)","v":"-"},{"$f":"VLOOKUP(B1498,[2]sheet2!B:L,10,0)","v":"-"},{"$f":"VLOOKUP(B1498,[2]sheet2!B:L,11,0)","v":"-"},"http://183.62.54.51:8841/data/files/certificate/000000000439/6e5a4b6437f94ac78a2e5d66efbcb0bf/signed/1496_苏映珊_三等奖_7383.pdf"]
[1497,"P303319090626","两条直线平行与垂直的判定","高中组","课件","三等奖","佛山市",{"$f":"VLOOKUP(B1499,'[1]002'!B:M,7,0)","v":"梁灵慧"},{"$f":"VLOOKUP(B1499,'[1]002'!B:M,8,0)","v":"佛山市南海区桂华中学"},{"$f":"VLOOKUP(B1499,'[1]002'!B:M,11,0)","v":"-"},{"$f":"VLOOKUP(B1499,'[1]002'!B:M,12,0)","v":"-"},{"$f":"VLOOKUP(B1499,[2]sheet2!B:L,10,0)","v":"-"},{"$f":"VLOOKUP(B1499,[2]sheet2!B:L,11,0)","v":"-"},"http://183.62.54.51:8841/data/files/certificate/000000000439/944c9d26653d4450a5c7ff1806603d55/signed/1497_梁灵慧_三等奖_7384.pdf"]
[1498,"P303319090624","Unit5RhythmLesson2BeijingOpera","高中组","课件","三等奖","佛山市",{"$f":"VLOOKUP(B1500,'[1]002'!B:M,7,0)","v":"卢昌梅"},{"$f":"VLOOKUP(B1500,'[1]002'!B:M,8,0)","v":"佛山巿南海区西樵高级中学"},{"$f":"VLOOKUP(B1500,'[1]002'!B:M,11,0)","v":"-"},{"$f":"VLOOKUP(B1500,'[1]002'!B:M,12,0)","v":"-"},{"$f":"VLOOKUP(B1500,[2]sheet2!B:L,10,0)","v":"-"},{"$f":"VLOOKUP(B1500,[2]sheet2!B:L,11,0)","v":"-"},"http://183.62.54.51:8841/data/files/certificate/000000000439/a5de05cdfa0647da92b5bf6bce7e3b7e/signed/1498_卢昌梅_三等奖_7385.pdf"]
[1499,"P303319090631","工业地域的形成","高中组","课件","三等奖","佛山市",{"$f":"VLOOKUP(B1501,'[1]002'!B:M,7,0)","v":"郭祖科"},{"$f":"VLOOKUP(B1501,'[1]002'!B:M,8,0)","v":"佛山巿南海区西樵高级中学"},{"$f":"VLOOKUP(B1501,'[1]002'!B:M,11,0)","v":"-"},{"$f":"VLOOKUP(B1501,'[1]002'!B:M,12,0)","v":"-"},{"$f":"VLOOKUP(B1501,[2]sheet2!B:L,10,0)","v":"-"},{"$f":"VLOOKUP(B1501,[2]sheet2!B:L,11,0)","v":"-"},"http://183.62.54.51:8841/data/files/certificate/000000000439/8313facca32447dda7ff21a1b6d3d521/signed/1499_郭祖科_三等奖_7386.pdf"]
[1500,"P303319090629","交通运输方式和布局","高中组","课件","三等奖","佛山市",{"$f":"VLOOKUP(B1502,'[1]002'!B:M,7,0)","v":"邱婉屏"},{"$f":"VLOOKUP(B1502,'[1]002'!B:M,8,0)","v":"佛山市南海区桂华中学"},{"$f":"VLOOKUP(B1502,'[1]002'!B:M,11,0)","v":"-"},{"$f":"VLOOKUP(B1502,'[1]002'!B:M,12,0)","v":"-"},{"$f":"VLOOKUP(B1502,[2]sheet2!B:L,10,0)","v":"-"},{"$f":"VLOOKUP(B1502,[2]sheet2!B:L,11,0)","v":"-"},"http://183.62.54.51:8841/data/files/certificate/000000000439/3032f6000d93405e8404ee0378d9b48f/signed/1500_邱婉屏_三等奖_7387.pdf"]
[1501,"P303319090622","全球气候变化","高中组","课件","三等奖","佛山市",{"$f":"VLOOKUP(B1503,'[1]002'!B:M,7,0)","v":"邱婉屏"},{"$f":"VLOOKUP(B1503,'[1]002'!B:M,8,0)","v":"佛山市南海区桂华中学"},{"$f":"VLOOKUP(B1503,'[1]002'!B:M,11,0)","v":"-"},{"$f":"VLOOKUP(B1503,'[1]002'!B:M,12,0)","v":"-"},{"$f":"VLOOKUP(B1503,[2]sheet2!B:L,10,0)","v":"-"},{"$f":"VLOOKUP(B1503,[2]sheet2!B:L,11,0)","v":"-"},"http://183.62.54.51:8841/data/files/certificate/000000000439/d8a89e38163940688f26febfe31536df/signed/1501_邱婉屏_三等奖_7388.pdf"]
[1502,"P303319090621","农业的区位选择","高中组","课件","三等奖","佛山市",{"$f":"VLOOKUP(B1504,'[1]002'!B:M,7,0)","v":"胡继兰"},{"$f":"VLOOKUP(B1504,'[1]002'!B:M,8,0)","v":"佛山市第一中学"},{"$f":"VLOOKUP(B1504,'[1]002'!B:M,11,0)","v":"-"},{"$f":"VLOOKUP(B1504,'[1]002'!B:M,12,0)","v":"-"},{"$f":"VLOOKUP(B1504,[2]sheet2!B:L,10,0)","v":"-"},{"$f":"VLOOKUP(B1504,[2]sheet2!B:L,11,0)","v":"-"},"http://183.62.54.51:8841/data/files/certificate/000000000439/ef4d9d74e50d41678fd4cba2daded5f7/signed/1502_胡继兰_三等奖_7389.pdf"]
[1503,"P303319090637","食品添加剂","高中组","课件","三等奖","佛山市",{"$f":"VLOOKUP(B1505,'[1]002'!B:M,7,0)","v":"洪生锋"},{"$f":"VLOOKUP(B1505,'[1]002'!B:M,8,0)","v":"佛山市顺德区罗定邦中学"},{"$f":"VLOOKUP(B1505,'[1]002'!B:M,11,0)","v":"胡楚佳"},{"$f":"VLOOKUP(B1505,'[1]002'!B:M,12,0)","v":"佛山市顺德区罗定邦中学"},{"$f":"VLOOKUP(B1505,[2]sheet2!B:L,10,0)","v":"-"},{"$f":"VLOOKUP(B1505,[2]sheet2!B:L,11,0)","v":"-"},"http://183.62.54.51:8841/data/files/certificate/000000000439/d572909b70d84721941911f2758975bf/signed/1503_洪生锋、胡楚佳_三等奖_7390.pdf"]
[1504,"P303319090030","雷雨","高中组","课件","三等奖","韶关市",{"$f":"VLOOKUP(B1506,'[1]002'!B:M,7,0)","v":"周小宁"},{"$f":"VLOOKUP(B1506,'[1]002'!B:M,8,0)","v":"仁化县第一中学"},{"$f":"VLOOKUP(B1506,'[1]002'!B:M,11,0)","v":"-"},{"$f":"VLOOKUP(B1506,'[1]002'!B:M,12,0)","v":"-"},{"$f":"VLOOKUP(B1506,[2]sheet2!B:L,10,0)","v":"-"},{"$f":"VLOOKUP(B1506,[2]sheet2!B:L,11,0)","v":"-"},"http://183.62.54.51:8841/data/files/certificate/000000000439/73f5e838d20442978f8b1a8347b63b3b/signed/1504_周小宁_三等奖_7391.pdf"]
[1505,"P303319090057","禁毒禁烟主题班会","高中组","课件","三等奖","韶关市",{"$f":"VLOOKUP(B1507,'[1]002'!B:M,7,0)","v":"罗伟强"},{"$f":"VLOOKUP(B1507,'[1]002'!B:M,8,0)","v":"仁化县第一中学"},{"$f":"VLOOKUP(B1507,'[1]002'!B:M,11,0)","v":"-"},{"$f":"VLOOKUP(B1507,'[1]002'!B:M,12,0)","v":"-"},{"$f":"VLOOKUP(B1507,[2]sheet2!B:L,10,0)","v":"-"},{"$f":"VLOOKUP(B1507,[2]sheet2!B:L,11,0)","v":"-"},"http://183.62.54.51:8841/data/files/certificate/000000000439/e3d02239f80b44ac9dab8bf471256686/signed/1505_罗伟强_三等奖_7392.pdf"]
[1506,"P303319087827","农业区位因素","高中组","课件","三等奖","韶关市",{"$f":"VLOOKUP(B1508,'[1]002'!B:M,7,0)","v":"郭丽君"},{"$f":"VLOOKUP(B1508,'[1]002'!B:M,8,0)","v":"仁化县仁化中学"},{"$f":"VLOOKUP(B1508,'[1]002'!B:M,11,0)","v":"-"},{"$f":"VLOOKUP(B1508,'[1]002'!B:M,12,0)","v":"-"},{"$f":"VLOOKUP(B1508,[2]sheet2!B:L,10,0)","v":"-"},{"$f":"VLOOKUP(B1508,[2]sheet2!B:L,11,0)","v":"-"},"http://183.62.54.51:8841/data/files/certificate/000000000439/ca5bfe6971c24400814956007ea26004/signed/1506_郭丽君_三等奖_7393.pdf"]
[1507,"P303319092202","人教版高中英语必修一第四单元阅读课 课件","高中组","课件","三等奖","惠州市",{"$f":"VLOOKUP(B1509,'[1]002'!B:M,7,0)","v":"曾卫平"},{"$f":"VLOOKUP(B1509,'[1]002'!B:M,8,0)","v":"惠东县惠东荣超中学"},{"$f":"VLOOKUP(B1509,'[1]002'!B:M,11,0)","v":"-"},{"$f":"VLOOKUP(B1509,'[1]002'!B:M,12,0)","v":"-"},{"$f":"VLOOKUP(B1509,[2]sheet2!B:L,10,0)","v":"-"},{"$f":"VLOOKUP(B1509,[2]sheet2!B:L,11,0)","v":"-"},"http://183.62.54.51:8841/data/files/certificate/000000000439/b8826e1cc25040629993fa4cc3940d8e/signed/1507_曾卫平_三等奖_7394.pdf"]
[1508,"P303319092503","红楼梦赏析教学网站之第一回","高中组","课件","三等奖","东莞市",{"$f":"VLOOKUP(B1510,'[1]002'!B:M,7,0)","v":"黎清万"},{"$f":"VLOOKUP(B1510,'[1]002'!B:M,8,0)","v":"东莞市第六高级中学"},{"$f":"VLOOKUP(B1510,'[1]002'!B:M,11,0)","v":"颜兰"},{"$f":"VLOOKUP(B1510,'[1]002'!B:M,12,0)","v":"东莞市第六高级中学"},{"$f":"VLOOKUP(B1510,[2]sheet2!B:L,10,0)","v":"-"},{"$f":"VLOOKUP(B1510,[2]sheet2!B:L,11,0)","v":"-"},"http://183.62.54.51:8841/data/files/certificate/000000000439/9b5470d930b24d28a22712e64cae5092/signed/1508_黎清万、颜兰_三等奖_7395.pdf"]
[1509,"P303319092505","议题式教学东莞的前世今生之走进东莞转型","高中组","课件","三等奖","东莞市",{"$f":"VLOOKUP(B1511,'[1]002'!B:M,7,0)","v":"赖肖芬"},{"$f":"VLOOKUP(B1511,'[1]002'!B:M,8,0)","v":"东莞高级中学"},{"$f":"VLOOKUP(B1511,'[1]002'!B:M,11,0)","v":"-"},{"$f":"VLOOKUP(B1511,'[1]002'!B:M,12,0)","v":"-"},{"$f":"VLOOKUP(B1511,[2]sheet2!B:L,10,0)","v":"-"},{"$f":"VLOOKUP(B1511,[2]sheet2!B:L,11,0)","v":"-"},"http://183.62.54.51:8841/data/files/certificate/000000000439/ff7587fa4692405e87a28cab4d7be290/signed/1509_赖肖芬_三等奖_7396.pdf"]
[1510,"P303319092506","血糖平衡的调节","高中组","课件","三等奖","东莞市",{"$f":"VLOOKUP(B1512,'[1]002'!B:M,7,0)","v":"辛如"},{"$f":"VLOOKUP(B1512,'[1]002'!B:M,8,0)","v":"东莞市大岭山中学"},{"$f":"VLOOKUP(B1512,'[1]002'!B:M,11,0)","v":"-"},{"$f":"VLOOKUP(B1512,'[1]002'!B:M,12,0)","v":"-"},{"$f":"VLOOKUP(B1512,[2]sheet2!B:L,10,0)","v":"-"},{"$f":"VLOOKUP(B1512,[2]sheet2!B:L,11,0)","v":"-"},"http://183.62.54.51:8841/data/files/certificate/000000000439/585757e3d36c4f68bed7e2f9a7fe11f0/signed/1510_辛如_三等奖_7397.pdf"]
[1511,"P303319089138","分散系及其分类","高中组","课件","三等奖","中山市",{"$f":"VLOOKUP(B1513,'[1]002'!B:M,7,0)","v":"刘洁嫦"},{"$f":"VLOOKUP(B1513,'[1]002'!B:M,8,0)","v":"中山市龙山中学"},{"$f":"VLOOKUP(B1513,'[1]002'!B:M,11,0)","v":"-"},{"$f":"VLOOKUP(B1513,'[1]002'!B:M,12,0)","v":"-"},{"$f":"VLOOKUP(B1513,[2]sheet2!B:L,10,0)","v":"-"},{"$f":"VLOOKUP(B1513,[2]sheet2!B:L,11,0)","v":"-"},"http://183.62.54.51:8841/data/files/certificate/000000000439/5c1299cc929c4c48b44e1da600b180bc/signed/1511_刘洁嫦_三等奖_7398.pdf"]
[1512,"P303319089438","北大是我美丽羞涩的梦","高中组","课件","三等奖","中山市",{"$f":"VLOOKUP(B1514,'[1]002'!B:M,7,0)","v":"许纯丽"},{"$f":"VLOOKUP(B1514,'[1]002'!B:M,8,0)","v":"中山市杨仙逸中学"},{"$f":"VLOOKUP(B1514,'[1]002'!B:M,11,0)","v":"-"},{"$f":"VLOOKUP(B1514,'[1]002'!B:M,12,0)","v":"-"},{"$f":"VLOOKUP(B1514,[2]sheet2!B:L,10,0)","v":"-"},{"$f":"VLOOKUP(B1514,[2]sheet2!B:L,11,0)","v":"-"},"http://183.62.54.51:8841/data/files/certificate/000000000439/0423ed4cea394268b687d808eb4ac96f/signed/1512_许纯丽_三等奖_7399.pdf"]
[1513,"P303319088293","文化在继承中发展","高中组","课件","三等奖","中山市",{"$f":"VLOOKUP(B1515,'[1]002'!B:M,7,0)","v":"陈婷婷"},{"$f":"VLOOKUP(B1515,'[1]002'!B:M,8,0)","v":"中山市杨仙逸中学"},{"$f":"VLOOKUP(B1515,'[1]002'!B:M,11,0)","v":"-"},{"$f":"VLOOKUP(B1515,'[1]002'!B:M,12,0)","v":"-"},{"$f":"VLOOKUP(B1515,[2]sheet2!B:L,10,0)","v":"-"},{"$f":"VLOOKUP(B1515,[2]sheet2!B:L,11,0)","v":"-"},"http://183.62.54.51:8841/data/files/certificate/000000000439/499d08b278014a4585932c9959f18894/signed/1513_陈婷婷_三等奖_7400.pdf"]
[1514,"P303319089780","热力环流和大气水平运动","高中组","课件","三等奖","中山市",{"$f":"VLOOKUP(B1516,'[1]002'!B:M,7,0)","v":"王波"},{"$f":"VLOOKUP(B1516,'[1]002'!B:M,8,0)","v":"中山市龙山中学"},{"$f":"VLOOKUP(B1516,'[1]002'!B:M,11,0)","v":"冯树涛"},{"$f":"VLOOKUP(B1516,'[1]002'!B:M,12,0)","v":"中山市龙山中学"},{"$f":"VLOOKUP(B1516,[2]sheet2!B:L,10,0)","v":"-"},{"$f":"VLOOKUP(B1516,[2]sheet2!B:L,11,0)","v":"-"},"http://183.62.54.51:8841/data/files/certificate/000000000439/4ea3af5ffb9d46d0ae7be6ccde6bad7e/signed/1514_王波、冯树涛_三等奖_7401.pdf"]
[1515,"P303319089685","千年红木话沧桑——以中山大涌红木家具为例探讨工业复习","高中组","课件","三等奖","中山市",{"$f":"VLOOKUP(B1517,'[1]002'!B:M,7,0)","v":"冯树涛"},{"$f":"VLOOKUP(B1517,'[1]002'!B:M,8,0)","v":"中山市龙山中学"},{"$f":"VLOOKUP(B1517,'[1]002'!B:M,11,0)","v":"王波"},{"$f":"VLOOKUP(B1517,'[1]002'!B:M,12,0)","v":"中山市龙山中学"},{"$f":"VLOOKUP(B1517,[2]sheet2!B:L,10,0)","v":"-"},{"$f":"VLOOKUP(B1517,[2]sheet2!B:L,11,0)","v":"-"},"http://183.62.54.51:8841/data/files/certificate/000000000439/58bae8cfd9594126bc045f71625eb435/signed/1515_冯树涛、王波_三等奖_7402.pdf"]
[1516,"P303319092033","从战时共产主义到斯大林模式","高中组","课件","三等奖","江门市",{"$f":"VLOOKUP(B1518,'[1]002'!B:M,7,0)","v":"吕洁"},{"$f":"VLOOKUP(B1518,'[1]002'!B:M,8,0)","v":"台山市第一中学"},{"$f":"VLOOKUP(B1518,'[1]002'!B:M,11,0)","v":"-"},{"$f":"VLOOKUP(B1518,'[1]002'!B:M,12,0)","v":"-"},{"$f":"VLOOKUP(B1518,[2]sheet2!B:L,10,0)","v":"-"},{"$f":"VLOOKUP(B1518,[2]sheet2!B:L,11,0)","v":"-"},"http://183.62.54.51:8841/data/files/certificate/000000000439/f7b86d0111ea44ebbf43b94735dee546/signed/1516_吕洁_三等奖_7403.pdf"]
[1517,"P303319092032","生态系统的物质循环","高中组","课件","三等奖","江门市",{"$f":"VLOOKUP(B1519,'[1]002'!B:M,7,0)","v":"王明燕"},{"$f":"VLOOKUP(B1519,'[1]002'!B:M,8,0)","v":"台山市鹏权中学"},{"$f":"VLOOKUP(B1519,'[1]002'!B:M,11,0)","v":"-"},{"$f":"VLOOKUP(B1519,'[1]002'!B:M,12,0)","v":"-"},{"$f":"VLOOKUP(B1519,[2]sheet2!B:L,10,0)","v":"-"},{"$f":"VLOOKUP(B1519,[2]sheet2!B:L,11,0)","v":"-"},"http://183.62.54.51:8841/data/files/certificate/000000000439/f974cd3890b4403cb21588483ccdf41a/signed/1517_王明燕_三等奖_7404.pdf"]
[1518,"P303319091849","第二单元赞美祖国","高中组","课件","三等奖","江门市",{"$f":"VLOOKUP(B1520,'[1]002'!B:M,7,0)","v":"方芳"},{"$f":"VLOOKUP(B1520,'[1]002'!B:M,8,0)","v":"江海区外海中学"},{"$f":"VLOOKUP(B1520,'[1]002'!B:M,11,0)","v":"-"},{"$f":"VLOOKUP(B1520,'[1]002'!B:M,12,0)","v":"-"},{"$f":"VLOOKUP(B1520,[2]sheet2!B:L,10,0)","v":"-"},{"$f":"VLOOKUP(B1520,[2]sheet2!B:L,11,0)","v":"-"},"http://183.62.54.51:8841/data/files/certificate/000000000439/01b2ea33e615499b9b1c0e1521fc2b55/signed/1518_方芳_三等奖_7405.pdf"]
[1519,"P303319093030","Book3Unit5同位语从句","高中组","课件","三等奖","湛江市",{"$f":"VLOOKUP(B1521,'[1]002'!B:M,7,0)","v":"金华晶"},{"$f":"VLOOKUP(B1521,'[1]002'!B:M,8,0)","v":"湛江经济技术开发区觉民中学"},{"$f":"VLOOKUP(B1521,'[1]002'!B:M,11,0)","v":"-"},{"$f":"VLOOKUP(B1521,'[1]002'!B:M,12,0)","v":"-"},{"$f":"VLOOKUP(B1521,[2]sheet2!B:L,10,0)","v":"-"},{"$f":"VLOOKUP(B1521,[2]sheet2!B:L,11,0)","v":"-"},"http://183.62.54.51:8841/data/files/certificate/000000000439/7fe3179a626c419b8127b9abc5765069/signed/1519_金华晶_三等奖_7406.pdf"]
[1520,"P303319093048","电路基本教学","高中组","课件","三等奖","湛江市",{"$f":"VLOOKUP(B1522,'[1]002'!B:M,7,0)","v":"曹红丽"},{"$f":"VLOOKUP(B1522,'[1]002'!B:M,8,0)","v":"湛江市爱周高级中学"},{"$f":"VLOOKUP(B1522,'[1]002'!B:M,11,0)","v":"-"},{"$f":"VLOOKUP(B1522,'[1]002'!B:M,12,0)","v":"-"},{"$f":"VLOOKUP(B1522,[2]sheet2!B:L,10,0)","v":"-"},{"$f":"VLOOKUP(B1522,[2]sheet2!B:L,11,0)","v":"-"},"http://183.62.54.51:8841/data/files/certificate/000000000439/3be3019d29b349c4bc504f0c1fffaf16/signed/1520_曹红丽_三等奖_7407.pdf"]
[1521,"P303319093033","日常文本信息的加工与表达","高中组","课件","三等奖","湛江市",{"$f":"VLOOKUP(B1523,'[1]002'!B:M,7,0)","v":"李琳"},{"$f":"VLOOKUP(B1523,'[1]002'!B:M,8,0)","v":"湛江二中港城中学"},{"$f":"VLOOKUP(B1523,'[1]002'!B:M,11,0)","v":"-"},{"$f":"VLOOKUP(B1523,'[1]002'!B:M,12,0)","v":"-"},{"$f":"VLOOKUP(B1523,[2]sheet2!B:L,10,0)","v":"-"},{"$f":"VLOOKUP(B1523,[2]sheet2!B:L,11,0)","v":"-"},"http://183.62.54.51:8841/data/files/certificate/000000000439/0f4fa9651814475a88201c2e0d6ab9ba/signed/1521_李琳_三等奖_7408.pdf"]
[1522,"P303319093041","家用电器的基本元件","高中组","课件","三等奖","湛江市",{"$f":"VLOOKUP(B1524,'[1]002'!B:M,7,0)","v":"陈墨源"},{"$f":"VLOOKUP(B1524,'[1]002'!B:M,8,0)","v":"湛江市爱周高级中学"},{"$f":"VLOOKUP(B1524,'[1]002'!B:M,11,0)","v":"-"},{"$f":"VLOOKUP(B1524,'[1]002'!B:M,12,0)","v":"-"},{"$f":"VLOOKUP(B1524,[2]sheet2!B:L,10,0)","v":"-"},{"$f":"VLOOKUP(B1524,[2]sheet2!B:L,11,0)","v":"-"},"http://183.62.54.51:8841/data/files/certificate/000000000439/53a937425df34f8098106a3f78627b71/signed/1522_陈墨源_三等奖_7409.pdf"]
[1523,"P303319093043","函数y=Asin(ωx+φ)的图象（第一课时）","高中组","课件","三等奖","湛江市",{"$f":"VLOOKUP(B1525,'[1]002'!B:M,7,0)","v":"孙媛媛"},{"$f":"VLOOKUP(B1525,'[1]002'!B:M,8,0)","v":"岭南师范学院附属中学"},{"$f":"VLOOKUP(B1525,'[1]002'!B:M,11,0)","v":"-"},{"$f":"VLOOKUP(B1525,'[1]002'!B:M,12,0)","v":"-"},{"$f":"VLOOKUP(B1525,[2]sheet2!B:L,10,0)","v":"-"},{"$f":"VLOOKUP(B1525,[2]sheet2!B:L,11,0)","v":"-"},"http://183.62.54.51:8841/data/files/certificate/000000000439/834ce0dd9f40476e927bd9408c58fe57/signed/1523_孙媛媛_三等奖_7410.pdf"]
[1524,"P303319093021","恻隐之心仁之端也","高中组","课件","三等奖","湛江市",{"$f":"VLOOKUP(B1526,'[1]002'!B:M,7,0)","v":"项佳佳"},{"$f":"VLOOKUP(B1526,'[1]002'!B:M,8,0)","v":"岭南师范学院附属中学"},{"$f":"VLOOKUP(B1526,'[1]002'!B:M,11,0)","v":"-"},{"$f":"VLOOKUP(B1526,'[1]002'!B:M,12,0)","v":"-"},{"$f":"VLOOKUP(B1526,[2]sheet2!B:L,10,0)","v":"-"},{"$f":"VLOOKUP(B1526,[2]sheet2!B:L,11,0)","v":"-"},"http://183.62.54.51:8841/data/files/certificate/000000000439/400780faeb414eae938f141b30e3fbe0/signed/1524_项佳佳_三等奖_7411.pdf"]
[1525,"P303319093032","正弦函数、余弦函数的图像","高中组","课件","三等奖","湛江市",{"$f":"VLOOKUP(B1527,'[1]002'!B:M,7,0)","v":"蔡蕖"},{"$f":"VLOOKUP(B1527,'[1]002'!B:M,8,0)","v":"湛江经济技术开发区第一中学"},{"$f":"VLOOKUP(B1527,'[1]002'!B:M,11,0)","v":"-"},{"$f":"VLOOKUP(B1527,'[1]002'!B:M,12,0)","v":"-"},{"$f":"VLOOKUP(B1527,[2]sheet2!B:L,10,0)","v":"-"},{"$f":"VLOOKUP(B1527,[2]sheet2!B:L,11,0)","v":"-"},"http://183.62.54.51:8841/data/files/certificate/000000000439/7fc3e2f7977b41318030fda4dbc08c3e/signed/1525_蔡蕖_三等奖_7412.pdf"]
[1526,"P303319093023","网络信息安全与网络隐私保护","高中组","课件","三等奖","湛江市",{"$f":"VLOOKUP(B1528,'[1]002'!B:M,7,0)","v":"贺李彬"},{"$f":"VLOOKUP(B1528,'[1]002'!B:M,8,0)","v":"湛江市第二中学"},{"$f":"VLOOKUP(B1528,'[1]002'!B:M,11,0)","v":"-"},{"$f":"VLOOKUP(B1528,'[1]002'!B:M,12,0)","v":"-"},{"$f":"VLOOKUP(B1528,[2]sheet2!B:L,10,0)","v":"-"},{"$f":"VLOOKUP(B1528,[2]sheet2!B:L,11,0)","v":"-"},"http://183.62.54.51:8841/data/files/certificate/000000000439/45ded752f59b4bb1b3c0d5ee124c3202/signed/1526_贺李彬_三等奖_7413.pdf"]
[1527,"P303319093024","唯物主义和唯心主义","高中组","课件","三等奖","湛江市",{"$f":"VLOOKUP(B1529,'[1]002'!B:M,7,0)","v":"刘姗姗"},{"$f":"VLOOKUP(B1529,'[1]002'!B:M,8,0)","v":"遂溪县第一中学"},{"$f":"VLOOKUP(B1529,'[1]002'!B:M,11,0)","v":"-"},{"$f":"VLOOKUP(B1529,'[1]002'!B:M,12,0)","v":"-"},{"$f":"VLOOKUP(B1529,[2]sheet2!B:L,10,0)","v":"-"},{"$f":"VLOOKUP(B1529,[2]sheet2!B:L,11,0)","v":"-"},"http://183.62.54.51:8841/data/files/certificate/000000000439/c425a04ba24041e99f7b846c1631b6f6/signed/1527_刘姗姗_三等奖_7414.pdf"]
[1528,"P303319093027","捕获光能的色素和结构","高中组","课件","三等奖","湛江市",{"$f":"VLOOKUP(B1530,'[1]002'!B:M,7,0)","v":"徐爽"},{"$f":"VLOOKUP(B1530,'[1]002'!B:M,8,0)","v":"湛江二中港城中学"},{"$f":"VLOOKUP(B1530,'[1]002'!B:M,11,0)","v":"-"},{"$f":"VLOOKUP(B1530,'[1]002'!B:M,12,0)","v":"-"},{"$f":"VLOOKUP(B1530,[2]sheet2!B:L,10,0)","v":"-"},{"$f":"VLOOKUP(B1530,[2]sheet2!B:L,11,0)","v":"-"},"http://183.62.54.51:8841/data/files/certificate/000000000439/20680f04335f4d7785ae095ecd83ca11/signed/1528_徐爽_三等奖_7415.pdf"]
[1529,"P303319093037","原电池的构成","高中组","课件","三等奖","湛江市",{"$f":"VLOOKUP(B1531,'[1]002'!B:M,7,0)","v":"蔡行雯"},{"$f":"VLOOKUP(B1531,'[1]002'!B:M,8,0)","v":"湛江市坡头区第一中学"},{"$f":"VLOOKUP(B1531,'[1]002'!B:M,11,0)","v":"-"},{"$f":"VLOOKUP(B1531,'[1]002'!B:M,12,0)","v":"-"},{"$f":"VLOOKUP(B1531,[2]sheet2!B:L,10,0)","v":"-"},{"$f":"VLOOKUP(B1531,[2]sheet2!B:L,11,0)","v":"-"},"http://183.62.54.51:8841/data/files/certificate/000000000439/d400e36094a343be94104eb22a6392e4/signed/1529_蔡行雯_三等奖_7416.pdf"]
[1530,"P303319093029","二项式定理","高中组","课件","三等奖","湛江市",{"$f":"VLOOKUP(B1532,'[1]002'!B:M,7,0)","v":"卢丽冰"},{"$f":"VLOOKUP(B1532,'[1]002'!B:M,8,0)","v":"湛江市第二中学"},{"$f":"VLOOKUP(B1532,'[1]002'!B:M,11,0)","v":"-"},{"$f":"VLOOKUP(B1532,'[1]002'!B:M,12,0)","v":"-"},{"$f":"VLOOKUP(B1532,[2]sheet2!B:L,10,0)","v":"-"},{"$f":"VLOOKUP(B1532,[2]sheet2!B:L,11,0)","v":"-"},"http://183.62.54.51:8841/data/files/certificate/000000000439/5709645641ab42408eb2afb7382ab7bb/signed/1530_卢丽冰_三等奖_7417.pdf"]
[1531,"P303319090241","PS剪贴蒙版的使用","高中组","课件","三等奖","肇庆市",{"$f":"VLOOKUP(B1533,'[1]002'!B:M,7,0)","v":"唐金萍"},{"$f":"VLOOKUP(B1533,'[1]002'!B:M,8,0)","v":"肇庆市实验中学"},{"$f":"VLOOKUP(B1533,'[1]002'!B:M,11,0)","v":"-"},{"$f":"VLOOKUP(B1533,'[1]002'!B:M,12,0)","v":"-"},{"$f":"VLOOKUP(B1533,[2]sheet2!B:L,10,0)","v":"-"},{"$f":"VLOOKUP(B1533,[2]sheet2!B:L,11,0)","v":"-"},"http://183.62.54.51:8841/data/files/certificate/000000000439/b1addd0020d74977ac8f950407014c71/signed/1531_唐金萍_三等奖_7418.pdf"]
[1532,"P303319092225","篮球原地交叉步持球突破","高中组","课件","三等奖","肇庆市",{"$f":"VLOOKUP(B1534,'[1]002'!B:M,7,0)","v":"李燕"},{"$f":"VLOOKUP(B1534,'[1]002'!B:M,8,0)","v":"封开县江口中学"},{"$f":"VLOOKUP(B1534,'[1]002'!B:M,11,0)","v":"-"},{"$f":"VLOOKUP(B1534,'[1]002'!B:M,12,0)","v":"-"},{"$f":"VLOOKUP(B1534,[2]sheet2!B:L,10,0)","v":"-"},{"$f":"VLOOKUP(B1534,[2]sheet2!B:L,11,0)","v":"-"},"http://183.62.54.51:8841/data/files/certificate/000000000439/55b1e40a236649a3ba93bdb02af67a01/signed/1532_李燕_三等奖_7419.pdf"]
[1533,"P303319091218","苯酚","高中组","课件","三等奖","肇庆市",{"$f":"VLOOKUP(B1535,'[1]002'!B:M,7,0)","v":"闻莹莹"},{"$f":"VLOOKUP(B1535,'[1]002'!B:M,8,0)","v":"四会市华侨中学"},{"$f":"VLOOKUP(B1535,'[1]002'!B:M,11,0)","v":"-"},{"$f":"VLOOKUP(B1535,'[1]002'!B:M,12,0)","v":"-"},{"$f":"VLOOKUP(B1535,[2]sheet2!B:L,10,0)","v":"-"},{"$f":"VLOOKUP(B1535,[2]sheet2!B:L,11,0)","v":"-"},"http://183.62.54.51:8841/data/files/certificate/000000000439/1cc9b1c5a59a4c0c9eca7ff2a234b694/signed/1533_闻莹莹_三等奖_7420.pdf"]
[1534,"P303319090234","两角差的余弦公式","高中组","课件","三等奖","肇庆市",{"$f":"VLOOKUP(B1536,'[1]002'!B:M,7,0)","v":"何正文"},{"$f":"VLOOKUP(B1536,'[1]002'!B:M,8,0)","v":"肇庆市百花中学"},{"$f":"VLOOKUP(B1536,'[1]002'!B:M,11,0)","v":"-"},{"$f":"VLOOKUP(B1536,'[1]002'!B:M,12,0)","v":"-"},{"$f":"VLOOKUP(B1536,[2]sheet2!B:L,10,0)","v":"-"},{"$f":"VLOOKUP(B1536,[2]sheet2!B:L,11,0)","v":"-"},"http://183.62.54.51:8841/data/files/certificate/000000000439/82fe224591c843e686697fcba2e6edd8/signed/1534_何正文_三等奖_7421.pdf"]
[1535,"P303319091219","铁的重要化合物","高中组","课件","三等奖","肇庆市",{"$f":"VLOOKUP(B1537,'[1]002'!B:M,7,0)","v":"毛超旭"},{"$f":"VLOOKUP(B1537,'[1]002'!B:M,8,0)","v":"四会市华侨中学"},{"$f":"VLOOKUP(B1537,'[1]002'!B:M,11,0)","v":"-"},{"$f":"VLOOKUP(B1537,'[1]002'!B:M,12,0)","v":"-"},{"$f":"VLOOKUP(B1537,[2]sheet2!B:L,10,0)","v":"-"},{"$f":"VLOOKUP(B1537,[2]sheet2!B:L,11,0)","v":"-"},"http://183.62.54.51:8841/data/files/certificate/000000000439/2632995d7f45427d9a8a7334852cf315/signed/1535_毛超旭_三等奖_7422.pdf"]
[1536,"P303319091607","宾语从句之连接词的用法","高中组","课件","三等奖","清远市",{"$f":"VLOOKUP(B1538,'[1]002'!B:M,7,0)","v":"张丽萍"},{"$f":"VLOOKUP(B1538,'[1]002'!B:M,8,0)","v":"清远市源潭中学"},{"$f":"VLOOKUP(B1538,'[1]002'!B:M,11,0)","v":"-"},{"$f":"VLOOKUP(B1538,'[1]002'!B:M,12,0)","v":"-"},{"$f":"VLOOKUP(B1538,[2]sheet2!B:L,10,0)","v":"-"},{"$f":"VLOOKUP(B1538,[2]sheet2!B:L,11,0)","v":"-"},"http://183.62.54.51:8841/data/files/certificate/000000000439/e8e0f7a16d4d45c2a405a9d87631e20b/signed/1536_张丽萍_三等奖_7423.pdf"]
[1537,"P303319091608","化学能与热能","高中组","课件","三等奖","清远市",{"$f":"VLOOKUP(B1539,'[1]002'!B:M,7,0)","v":"刘清环"},{"$f":"VLOOKUP(B1539,'[1]002'!B:M,8,0)","v":"清远市源潭中学"},{"$f":"VLOOKUP(B1539,'[1]002'!B:M,11,0)","v":"-"},{"$f":"VLOOKUP(B1539,'[1]002'!B:M,12,0)","v":"-"},{"$f":"VLOOKUP(B1539,[2]sheet2!B:L,10,0)","v":"-"},{"$f":"VLOOKUP(B1539,[2]sheet2!B:L,11,0)","v":"-"},"http://183.62.54.51:8841/data/files/certificate/000000000439/1e2b7dec454446d0a551d9f1c0f6a453/signed/1537_刘清环_三等奖_7424.pdf"]
[1538,"P303319091610","随机事件的概率第一课时","高中组","课件","三等奖","清远市",{"$f":"VLOOKUP(B1540,'[1]002'!B:M,7,0)","v":"叶新群"},{"$f":"VLOOKUP(B1540,'[1]002'!B:M,8,0)","v":"清远市源潭中学"},{"$f":"VLOOKUP(B1540,'[1]002'!B:M,11,0)","v":"-"},{"$f":"VLOOKUP(B1540,'[1]002'!B:M,12,0)","v":"-"},{"$f":"VLOOKUP(B1540,[2]sheet2!B:L,10,0)","v":"-"},{"$f":"VLOOKUP(B1540,[2]sheet2!B:L,11,0)","v":"-"},"http://183.62.54.51:8841/data/files/certificate/000000000439/305c48e2836a4995b18b244e3b7f3ed0/signed/1538_叶新群_三等奖_7425.pdf"]
[1539,"P303319091611","对数函数及其性质","高中组","课件","三等奖","清远市",{"$f":"VLOOKUP(B1541,'[1]002'!B:M,7,0)","v":"黄凤玲"},{"$f":"VLOOKUP(B1541,'[1]002'!B:M,8,0)","v":"清远市源潭中学"},{"$f":"VLOOKUP(B1541,'[1]002'!B:M,11,0)","v":"-"},{"$f":"VLOOKUP(B1541,'[1]002'!B:M,12,0)","v":"-"},{"$f":"VLOOKUP(B1541,[2]sheet2!B:L,10,0)","v":"-"},{"$f":"VLOOKUP(B1541,[2]sheet2!B:L,11,0)","v":"-"},"http://183.62.54.51:8841/data/files/certificate/000000000439/5dfc1dd97e884785aba8cbb1001be9c5/signed/1539_黄凤玲_三等奖_7426.pdf"]
[1540,"P303319079744","分子的热运动","高中组","课件","三等奖","潮州市",{"$f":"VLOOKUP(B1542,'[1]002'!B:M,7,0)","v":"陈伟贤"},{"$f":"VLOOKUP(B1542,'[1]002'!B:M,8,0)","v":"潮州市绵德中学"},{"$f":"VLOOKUP(B1542,'[1]002'!B:M,11,0)","v":"-"},{"$f":"VLOOKUP(B1542,'[1]002'!B:M,12,0)","v":"-"},{"$f":"VLOOKUP(B1542,[2]sheet2!B:L,10,0)","v":"-"},{"$f":"VLOOKUP(B1542,[2]sheet2!B:L,11,0)","v":"-"},"http://183.62.54.51:8841/data/files/certificate/000000000439/1f44715c68224ff8b7712ab02063da56/signed/1540_陈伟贤_三等奖_7427.pdf"]
[1541,"P303319078962","新人教版高中历史必修一第13课辛亥革命课件","高中组","课件","三等奖","潮州市",{"$f":"VLOOKUP(B1543,'[1]002'!B:M,7,0)","v":"陈绚"},{"$f":"VLOOKUP(B1543,'[1]002'!B:M,8,0)","v":"潮州市金山中学"},{"$f":"VLOOKUP(B1543,'[1]002'!B:M,11,0)","v":"-"},{"$f":"VLOOKUP(B1543,'[1]002'!B:M,12,0)","v":"-"},{"$f":"VLOOKUP(B1543,[2]sheet2!B:L,10,0)","v":"-"},{"$f":"VLOOKUP(B1543,[2]sheet2!B:L,11,0)","v":"-"},"http://183.62.54.51:8841/data/files/certificate/000000000439/ff152d0ca1364c3f8f5ece0f6e11856a/signed/1541_陈绚_三等奖_7428.pdf"]
[1542,"P303319090490","制作逐帧动画之表情包","高中组","课件","三等奖","云浮市",{"$f":"VLOOKUP(B1544,'[1]002'!B:M,7,0)","v":"徐梅丽"},{"$f":"VLOOKUP(B1544,'[1]002'!B:M,8,0)","v":"罗定中学城东学校"},{"$f":"VLOOKUP(B1544,'[1]002'!B:M,11,0)","v":"-"},{"$f":"VLOOKUP(B1544,'[1]002'!B:M,12,0)","v":"-"},{"$f":"VLOOKUP(B1544,[2]sheet2!B:L,10,0)","v":"-"},{"$f":"VLOOKUP(B1544,[2]sheet2!B:L,11,0)","v":"-"},"http://183.62.54.51:8841/data/files/certificate/000000000439/b345193d74a64c35aceefc9f8b653c3b/signed/1542_徐梅丽_三等奖_7429.pdf"]
[1543,"P303319090491","功","高中组","课件","三等奖","云浮市",{"$f":"VLOOKUP(B1545,'[1]002'!B:M,7,0)","v":"蓝庆全"},{"$f":"VLOOKUP(B1545,'[1]002'!B:M,8,0)","v":"罗定中学城东学校"},{"$f":"VLOOKUP(B1545,'[1]002'!B:M,11,0)","v":"-"},{"$f":"VLOOKUP(B1545,'[1]002'!B:M,12,0)","v":"-"},{"$f":"VLOOKUP(B1545,[2]sheet2!B:L,10,0)","v":"-"},{"$f":"VLOOKUP(B1545,[2]sheet2!B:L,11,0)","v":"-"},"http://183.62.54.51:8841/data/files/certificate/000000000439/1d05824a724149eebd92e6c5012bd382/signed/1543_蓝庆全_三等奖_7430.pdf"]
[1544,"P303319090486","二项式定理","高中组","课件","三等奖","云浮市",{"$f":"VLOOKUP(B1546,'[1]002'!B:M,7,0)","v":"李姣琴"},{"$f":"VLOOKUP(B1546,'[1]002'!B:M,8,0)","v":"郁南县西江中学"},{"$f":"VLOOKUP(B1546,'[1]002'!B:M,11,0)","v":"-"},{"$f":"VLOOKUP(B1546,'[1]002'!B:M,12,0)","v":"-"},{"$f":"VLOOKUP(B1546,[2]sheet2!B:L,10,0)","v":"-"},{"$f":"VLOOKUP(B1546,[2]sheet2!B:L,11,0)","v":"-"},"http://183.62.54.51:8841/data/files/certificate/000000000439/d73b219c5eb54e0dab449f56cb865ea3/signed/1544_李姣琴_三等奖_7431.pdf"]
[1545,"P303319090495","报刊类文本信息的加工与表达","高中组","课件","三等奖","云浮市",{"$f":"VLOOKUP(B1547,'[1]002'!B:M,7,0)","v":"王建梅"},{"$f":"VLOOKUP(B1547,'[1]002'!B:M,8,0)","v":"罗定中学城东学校"},{"$f":"VLOOKUP(B1547,'[1]002'!B:M,11,0)","v":"-"},{"$f":"VLOOKUP(B1547,'[1]002'!B:M,12,0)","v":"-"},{"$f":"VLOOKUP(B1547,[2]sheet2!B:L,10,0)","v":"-"},{"$f":"VLOOKUP(B1547,[2]sheet2!B:L,11,0)","v":"-"},"http://183.62.54.51:8841/data/files/certificate/000000000439/9388e6044a4d4ea2a8856c0089a7ecda/signed/1545_王建梅_三等奖_7432.pdf"]
[1546,"P303319089977","工业的区位选择","高中组","课件","三等奖","云浮市",{"$f":"VLOOKUP(B1548,'[1]002'!B:M,7,0)","v":"李秋莲"},{"$f":"VLOOKUP(B1548,'[1]002'!B:M,8,0)","v":"郁南县连滩中学"},{"$f":"VLOOKUP(B1548,'[1]002'!B:M,11,0)","v":"-"},{"$f":"VLOOKUP(B1548,'[1]002'!B:M,12,0)","v":"-"},{"$f":"VLOOKUP(B1548,[2]sheet2!B:L,10,0)","v":"-"},{"$f":"VLOOKUP(B1548,[2]sheet2!B:L,11,0)","v":"-"},"http://183.62.54.51:8841/data/files/certificate/000000000439/40474a315dcc41c7b32d511b37ae9ad6/signed/1546_李秋莲_三等奖_7433.pdf"]
[1547,"P305319093243","传感器的信息加工与处理","高中组","微课","三等奖","广州市",{"$f":"VLOOKUP(B1549,'[1]002'!B:M,7,0)","v":"关梦勋"},{"$f":"VLOOKUP(B1549,'[1]002'!B:M,8,0)","v":"广州市天河外国语学校"},{"$f":"VLOOKUP(B1549,'[1]002'!B:M,11,0)","v":"-"},{"$f":"VLOOKUP(B1549,'[1]002'!B:M,12,0)","v":"-"},{"$f":"VLOOKUP(B1549,[2]sheet2!B:L,10,0)","v":"-"},{"$f":"VLOOKUP(B1549,[2]sheet2!B:L,11,0)","v":"-"},"http://183.62.54.51:8841/data/files/certificate/000000000439/e80a8f8ab104486dbf72f0c7e56c0438/signed/1547_关梦勋_三等奖_7434.pdf"]
[1548,"P305319093244","正弦定理的证明","高中组","微课","三等奖","广州市",{"$f":"VLOOKUP(B1550,'[1]002'!B:M,7,0)","v":"章志光"},{"$f":"VLOOKUP(B1550,'[1]002'!B:M,8,0)","v":"广州市花都区圆玄中学"},{"$f":"VLOOKUP(B1550,'[1]002'!B:M,11,0)","v":"-"},{"$f":"VLOOKUP(B1550,'[1]002'!B:M,12,0)","v":"-"},{"$f":"VLOOKUP(B1550,[2]sheet2!B:L,10,0)","v":"-"},{"$f":"VLOOKUP(B1550,[2]sheet2!B:L,11,0)","v":"-"},"http://183.62.54.51:8841/data/files/certificate/000000000439/3bc56d575a89419bafe1be532acd90bc/signed/1548_章志光_三等奖_7435.pdf"]
[1549,"P305319093239","利用导数求曲线的切线方程","高中组","微课","三等奖","广州市",{"$f":"VLOOKUP(B1551,'[1]002'!B:M,7,0)","v":"曾子斌"},{"$f":"VLOOKUP(B1551,'[1]002'!B:M,8,0)","v":"广州市花都区圆玄中学"},{"$f":"VLOOKUP(B1551,'[1]002'!B:M,11,0)","v":"-"},{"$f":"VLOOKUP(B1551,'[1]002'!B:M,12,0)","v":"-"},{"$f":"VLOOKUP(B1551,[2]sheet2!B:L,10,0)","v":"-"},{"$f":"VLOOKUP(B1551,[2]sheet2!B:L,11,0)","v":"-"},"http://183.62.54.51:8841/data/files/certificate/000000000439/b73d2ccf216a4933af33fe87d7fef6f9/signed/1549_曾子斌_三等奖_7436.pdf"]
[1550,"P305319092701","爵士乐器与布鲁斯音阶","高中组","微课","三等奖","深圳市",{"$f":"VLOOKUP(B1552,'[1]002'!B:M,7,0)","v":"张滋"},{"$f":"VLOOKUP(B1552,'[1]002'!B:M,8,0)","v":"坪山区坪山高级中学"},{"$f":"VLOOKUP(B1552,'[1]002'!B:M,11,0)","v":"-"},{"$f":"VLOOKUP(B1552,'[1]002'!B:M,12,0)","v":"-"},{"$f":"VLOOKUP(B1552,[2]sheet2!B:L,10,0)","v":"-"},{"$f":"VLOOKUP(B1552,[2]sheet2!B:L,11,0)","v":"-"},"http://183.62.54.51:8841/data/files/certificate/000000000439/2ebb9f8c02fc4d4787ac8df4f4099061/signed/1550_张滋_三等奖_7437.pdf"]
[1551,"P305319092702","技术试验与科学实验的区别与联系","高中组","微课","三等奖","深圳市",{"$f":"VLOOKUP(B1553,'[1]002'!B:M,7,0)","v":"王支勇"},{"$f":"VLOOKUP(B1553,'[1]002'!B:M,8,0)","v":"坪山区坪山高级中学"},{"$f":"VLOOKUP(B1553,'[1]002'!B:M,11,0)","v":"张婷婷"},{"$f":"VLOOKUP(B1553,'[1]002'!B:M,12,0)","v":"坪山区坪山高级中学"},{"$f":"VLOOKUP(B1553,[2]sheet2!B:L,10,0)","v":"-"},{"$f":"VLOOKUP(B1553,[2]sheet2!B:L,11,0)","v":"-"},"http://183.62.54.51:8841/data/files/certificate/000000000439/bed25dbda4c6465083deaeeba5ab776e/signed/1551_王支勇、张婷婷_三等奖_7438.pdf"]
[1552,"P305319092695","新航路开辟的影响","高中组","微课","三等奖","深圳市",{"$f":"VLOOKUP(B1554,'[1]002'!B:M,7,0)","v":"甘兰"},{"$f":"VLOOKUP(B1554,'[1]002'!B:M,8,0)","v":"深圳大学师范学院附属中学"},{"$f":"VLOOKUP(B1554,'[1]002'!B:M,11,0)","v":"-"},{"$f":"VLOOKUP(B1554,'[1]002'!B:M,12,0)","v":"-"},{"$f":"VLOOKUP(B1554,[2]sheet2!B:L,10,0)","v":"-"},{"$f":"VLOOKUP(B1554,[2]sheet2!B:L,11,0)","v":"-"},"http://183.62.54.51:8841/data/files/certificate/000000000439/ec8b048417ed4a90ba876c4853677739/signed/1552_甘兰_三等奖_7439.pdf"]
[1553,"P305319092699","双曲线及其标准方程","高中组","微课","三等奖","深圳市",{"$f":"VLOOKUP(B1555,'[1]002'!B:M,7,0)","v":"张晓华"},{"$f":"VLOOKUP(B1555,'[1]002'!B:M,8,0)","v":"人大附中深圳学校"},{"$f":"VLOOKUP(B1555,'[1]002'!B:M,11,0)","v":"-"},{"$f":"VLOOKUP(B1555,'[1]002'!B:M,12,0)","v":"-"},{"$f":"VLOOKUP(B1555,[2]sheet2!B:L,10,0)","v":"-"},{"$f":"VLOOKUP(B1555,[2]sheet2!B:L,11,0)","v":"-"},"http://183.62.54.51:8841/data/files/certificate/000000000439/077739a9b3f346fba22d7137647d3df1/signed/1553_张晓华_三等奖_7440.pdf"]
[1554,"P305319089675","直接法求曲线的轨迹方程几何画板演示","高中组","微课","三等奖","珠海市",{"$f":"VLOOKUP(B1556,'[1]002'!B:M,7,0)","v":"李凯"},{"$f":"VLOOKUP(B1556,'[1]002'!B:M,8,0)","v":"珠海市斗门第一中学"},{"$f":"VLOOKUP(B1556,'[1]002'!B:M,11,0)","v":"-"},{"$f":"VLOOKUP(B1556,'[1]002'!B:M,12,0)","v":"-"},{"$f":"VLOOKUP(B1556,[2]sheet2!B:L,10,0)","v":"-"},{"$f":"VLOOKUP(B1556,[2]sheet2!B:L,11,0)","v":"-"},"http://183.62.54.51:8841/data/files/certificate/000000000439/f132174b79054839a6d859d086f3a6bb/signed/1554_李凯_三等奖_7441.pdf"]
[1555,"P305319092314","边城里的爱情","高中组","微课","三等奖","汕头市",{"$f":"VLOOKUP(B1557,'[1]002'!B:M,7,0)","v":"苏映珊"},{"$f":"VLOOKUP(B1557,'[1]002'!B:M,8,0)","v":"汕头市河浦中学"},{"$f":"VLOOKUP(B1557,'[1]002'!B:M,11,0)","v":"吕海娜"},{"$f":"VLOOKUP(B1557,'[1]002'!B:M,12,0)","v":"汕头市河浦中学"},{"$f":"VLOOKUP(B1557,[2]sheet2!B:L,10,0)","v":"邓露"},{"$f":"VLOOKUP(B1557,[2]sheet2!B:L,11,0)","v":"汕头市河浦中学"},"http://183.62.54.51:8841/data/files/certificate/000000000439/be5d82b5f3474a6fb78b7b1988630959/signed/1555_苏映珊、吕海娜、邓露_三等奖_7442.pdf"]
[1556,"P305319092312","名词性从句之主语从句","高中组","微课","三等奖","汕头市",{"$f":"VLOOKUP(B1558,'[1]002'!B:M,7,0)","v":"陈衡"},{"$f":"VLOOKUP(B1558,'[1]002'!B:M,8,0)","v":"汕头市河浦中学"},{"$f":"VLOOKUP(B1558,'[1]002'!B:M,11,0)","v":"林哲群"},{"$f":"VLOOKUP(B1558,'[1]002'!B:M,12,0)","v":"汕头市河浦中学"},{"$f":"VLOOKUP(B1558,[2]sheet2!B:L,10,0)","v":"-"},{"$f":"VLOOKUP(B1558,[2]sheet2!B:L,11,0)","v":"-"},"http://183.62.54.51:8841/data/files/certificate/000000000439/f45b61cc870646e7a00499a2b24bd9de/signed/1556_陈衡、林哲群_三等奖_7443.pdf"]
[1557,"P305319092300","It作形式主语（复习课）","高中组","微课","三等奖","汕头市",{"$f":"VLOOKUP(B1559,'[1]002'!B:M,7,0)","v":"吴晓纯"},{"$f":"VLOOKUP(B1559,'[1]002'!B:M,8,0)","v":"汕头市第一中学"},{"$f":"VLOOKUP(B1559,'[1]002'!B:M,11,0)","v":"-"},{"$f":"VLOOKUP(B1559,'[1]002'!B:M,12,0)","v":"-"},{"$f":"VLOOKUP(B1559,[2]sheet2!B:L,10,0)","v":"-"},{"$f":"VLOOKUP(B1559,[2]sheet2!B:L,11,0)","v":"-"},"http://183.62.54.51:8841/data/files/certificate/000000000439/eeb8a123fb0c4ea38f7cae38c5ce42c7/signed/1557_吴晓纯_三等奖_7444.pdf"]
[1558,"P305319092316","分散系及其分类","高中组","微课","三等奖","汕头市",{"$f":"VLOOKUP(B1560,'[1]002'!B:M,7,0)","v":"魏佳丽"},{"$f":"VLOOKUP(B1560,'[1]002'!B:M,8,0)","v":"汕头市潮南区司马浦中学"},{"$f":"VLOOKUP(B1560,'[1]002'!B:M,11,0)","v":"-"},{"$f":"VLOOKUP(B1560,'[1]002'!B:M,12,0)","v":"-"},{"$f":"VLOOKUP(B1560,[2]sheet2!B:L,10,0)","v":"-"},{"$f":"VLOOKUP(B1560,[2]sheet2!B:L,11,0)","v":"-"},"http://183.62.54.51:8841/data/files/certificate/000000000439/84378c3e31bc440481f0c88a37ea0276/signed/1558_魏佳丽_三等奖_7445.pdf"]
[1559,"P305319092289","Meetingyourancesotrs","高中组","微课","三等奖","汕头市",{"$f":"VLOOKUP(B1561,'[1]002'!B:M,7,0)","v":"李晓洁"},{"$f":"VLOOKUP(B1561,'[1]002'!B:M,8,0)","v":"汕头市金山中学"},{"$f":"VLOOKUP(B1561,'[1]002'!B:M,11,0)","v":"谢思苹"},{"$f":"VLOOKUP(B1561,'[1]002'!B:M,12,0)","v":"汕头市第一中学"},{"$f":"VLOOKUP(B1561,[2]sheet2!B:L,10,0)","v":"-"},{"$f":"VLOOKUP(B1561,[2]sheet2!B:L,11,0)","v":"-"},"http://183.62.54.51:8841/data/files/certificate/000000000439/8bcd27d21f6f4a1b8c51b7289eb3b0cf/signed/1559_李晓洁、谢思苹_三等奖_7446.pdf"]
[1560,"P305319092305","分泌蛋白的合成和运输","高中组","微课","三等奖","汕头市",{"$f":"VLOOKUP(B1562,'[1]002'!B:M,7,0)","v":"许佳萦"},{"$f":"VLOOKUP(B1562,'[1]002'!B:M,8,0)","v":"汕头市第二中学"},{"$f":"VLOOKUP(B1562,'[1]002'!B:M,11,0)","v":"-"},{"$f":"VLOOKUP(B1562,'[1]002'!B:M,12,0)","v":"-"},{"$f":"VLOOKUP(B1562,[2]sheet2!B:L,10,0)","v":"-"},{"$f":"VLOOKUP(B1562,[2]sheet2!B:L,11,0)","v":"-"},"http://183.62.54.51:8841/data/files/certificate/000000000439/e1ebe8b4d5e1470694153fb7e534c4d5/signed/1560_许佳萦_三等奖_7447.pdf"]
[1561,"P305319092296","现在分词作状语","高中组","微课","三等奖","汕头市",{"$f":"VLOOKUP(B1563,'[1]002'!B:M,7,0)","v":"许嘉虹"},{"$f":"VLOOKUP(B1563,'[1]002'!B:M,8,0)","v":"汕头市聿怀中学"},{"$f":"VLOOKUP(B1563,'[1]002'!B:M,11,0)","v":"-"},{"$f":"VLOOKUP(B1563,'[1]002'!B:M,12,0)","v":"-"},{"$f":"VLOOKUP(B1563,[2]sheet2!B:L,10,0)","v":"-"},{"$f":"VLOOKUP(B1563,[2]sheet2!B:L,11,0)","v":"-"},"http://183.62.54.51:8841/data/files/certificate/000000000439/23041158204744be9cdd837e8a1fc1bd/signed/1561_许嘉虹_三等奖_7448.pdf"]
[1562,"P305319092308","名词性从句之表语从句","高中组","微课","三等奖","汕头市",{"$f":"VLOOKUP(B1564,'[1]002'!B:M,7,0)","v":"林燕娥"},{"$f":"VLOOKUP(B1564,'[1]002'!B:M,8,0)","v":"汕头市河浦中学"},{"$f":"VLOOKUP(B1564,'[1]002'!B:M,11,0)","v":"-"},{"$f":"VLOOKUP(B1564,'[1]002'!B:M,12,0)","v":"-"},{"$f":"VLOOKUP(B1564,[2]sheet2!B:L,10,0)","v":"-"},{"$f":"VLOOKUP(B1564,[2]sheet2!B:L,11,0)","v":"-"},"http://183.62.54.51:8841/data/files/certificate/000000000439/1b1a443451fe40538c3672c1d3a9c84d/signed/1562_林燕娥_三等奖_7449.pdf"]
[1563,"P305319092313","主语从句之连接词的使用","高中组","微课","三等奖","汕头市",{"$f":"VLOOKUP(B1565,'[1]002'!B:M,7,0)","v":"陈衡"},{"$f":"VLOOKUP(B1565,'[1]002'!B:M,8,0)","v":"汕头市河浦中学"},{"$f":"VLOOKUP(B1565,'[1]002'!B:M,11,0)","v":"林哲群"},{"$f":"VLOOKUP(B1565,'[1]002'!B:M,12,0)","v":"汕头市河浦中学"},{"$f":"VLOOKUP(B1565,[2]sheet2!B:L,10,0)","v":"-"},{"$f":"VLOOKUP(B1565,[2]sheet2!B:L,11,0)","v":"-"},"http://183.62.54.51:8841/data/files/certificate/000000000439/516e258a72e04407aaf4f9d2e8544727/signed/1563_陈衡、林哲群_三等奖_7450.pdf"]
[1564,"P305319092307","if虚拟条件句的应用教学案例","高中组","微课","三等奖","汕头市",{"$f":"VLOOKUP(B1566,'[1]002'!B:M,7,0)","v":"苏庆虹"},{"$f":"VLOOKUP(B1566,'[1]002'!B:M,8,0)","v":"汕头市第一中学"},{"$f":"VLOOKUP(B1566,'[1]002'!B:M,11,0)","v":"-"},{"$f":"VLOOKUP(B1566,'[1]002'!B:M,12,0)","v":"-"},{"$f":"VLOOKUP(B1566,[2]sheet2!B:L,10,0)","v":"-"},{"$f":"VLOOKUP(B1566,[2]sheet2!B:L,11,0)","v":"-"},"http://183.62.54.51:8841/data/files/certificate/000000000439/408e5b3b7606464d9b59ba1f5f9efd9c/signed/1564_苏庆虹_三等奖_7451.pdf"]
[1565,"P305319092297","宾语从句it作形式宾语的结构","高中组","微课","三等奖","汕头市",{"$f":"VLOOKUP(B1567,'[1]002'!B:M,7,0)","v":"章楚真"},{"$f":"VLOOKUP(B1567,'[1]002'!B:M,8,0)","v":"南澳县南澳中学"},{"$f":"VLOOKUP(B1567,'[1]002'!B:M,11,0)","v":"-"},{"$f":"VLOOKUP(B1567,'[1]002'!B:M,12,0)","v":"-"},{"$f":"VLOOKUP(B1567,[2]sheet2!B:L,10,0)","v":"-"},{"$f":"VLOOKUP(B1567,[2]sheet2!B:L,11,0)","v":"-"},"http://183.62.54.51:8841/data/files/certificate/000000000439/465ce2cb19f04780b09eb6e06acfa644/signed/1565_章楚真_三等奖_7452.pdf"]
[1566,"P305319090642","椭圆的简单几何性质","高中组","微课","三等奖","佛山市",{"$f":"VLOOKUP(B1568,'[1]002'!B:M,7,0)","v":"伍艳芳"},{"$f":"VLOOKUP(B1568,'[1]002'!B:M,8,0)","v":"佛山巿南海区西樵高级中学"},{"$f":"VLOOKUP(B1568,'[1]002'!B:M,11,0)","v":"-"},{"$f":"VLOOKUP(B1568,'[1]002'!B:M,12,0)","v":"-"},{"$f":"VLOOKUP(B1568,[2]sheet2!B:L,10,0)","v":"-"},{"$f":"VLOOKUP(B1568,[2]sheet2!B:L,11,0)","v":"-"},"http://183.62.54.51:8841/data/files/certificate/000000000439/8e9ed5f5b7dc427284dff6aeafe445b1/signed/1566_伍艳芳_三等奖_7453.pdf"]
[1567,"P305319090650","探究碳酸钠与碳酸氢钠的性质","高中组","微课","三等奖","佛山市",{"$f":"VLOOKUP(B1569,'[1]002'!B:M,7,0)","v":"吴倩"},{"$f":"VLOOKUP(B1569,'[1]002'!B:M,8,0)","v":"佛山巿南海区西樵高级中学"},{"$f":"VLOOKUP(B1569,'[1]002'!B:M,11,0)","v":"-"},{"$f":"VLOOKUP(B1569,'[1]002'!B:M,12,0)","v":"-"},{"$f":"VLOOKUP(B1569,[2]sheet2!B:L,10,0)","v":"-"},{"$f":"VLOOKUP(B1569,[2]sheet2!B:L,11,0)","v":"-"},"http://183.62.54.51:8841/data/files/certificate/000000000439/2f049caa95c54bebbe41155b701fd42e/signed/1567_吴倩_三等奖_7454.pdf"]
[1568,"P305319090659","苏轼的定风波赏析","高中组","微课","三等奖","佛山市",{"$f":"VLOOKUP(B1570,'[1]002'!B:M,7,0)","v":"陶霞"},{"$f":"VLOOKUP(B1570,'[1]002'!B:M,8,0)","v":"佛山市顺德区青云中学"},{"$f":"VLOOKUP(B1570,'[1]002'!B:M,11,0)","v":"曾俏华"},{"$f":"VLOOKUP(B1570,'[1]002'!B:M,12,0)","v":"佛山市顺德区青云中学"},{"$f":"VLOOKUP(B1570,[2]sheet2!B:L,10,0)","v":"-"},{"$f":"VLOOKUP(B1570,[2]sheet2!B:L,11,0)","v":"-"},"http://183.62.54.51:8841/data/files/certificate/000000000439/3a7dccacc52b4c6091a0f9ab3e244518/signed/1568_陶霞、曾俏华_三等奖_7455.pdf"]
[1569,"P305319090664","乙醇的催化氧化","高中组","微课","三等奖","佛山市",{"$f":"VLOOKUP(B1571,'[1]002'!B:M,7,0)","v":"洪生锋"},{"$f":"VLOOKUP(B1571,'[1]002'!B:M,8,0)","v":"佛山市顺德区罗定邦中学"},{"$f":"VLOOKUP(B1571,'[1]002'!B:M,11,0)","v":"-"},{"$f":"VLOOKUP(B1571,'[1]002'!B:M,12,0)","v":"-"},{"$f":"VLOOKUP(B1571,[2]sheet2!B:L,10,0)","v":"-"},{"$f":"VLOOKUP(B1571,[2]sheet2!B:L,11,0)","v":"-"},"http://183.62.54.51:8841/data/files/certificate/000000000439/2e88820cef8b443ea0f6681f8569a1a4/signed/1569_洪生锋_三等奖_7456.pdf"]
[1570,"P305319090652","摄像机的构造","高中组","微课","三等奖","佛山市",{"$f":"VLOOKUP(B1572,'[1]002'!B:M,7,0)","v":"顾丽贤"},{"$f":"VLOOKUP(B1572,'[1]002'!B:M,8,0)","v":"佛山市南海区第一中学"},{"$f":"VLOOKUP(B1572,'[1]002'!B:M,11,0)","v":"-"},{"$f":"VLOOKUP(B1572,'[1]002'!B:M,12,0)","v":"-"},{"$f":"VLOOKUP(B1572,[2]sheet2!B:L,10,0)","v":"-"},{"$f":"VLOOKUP(B1572,[2]sheet2!B:L,11,0)","v":"-"},"http://183.62.54.51:8841/data/files/certificate/000000000439/0c434c950cd946deb791c4e43c6bec88/signed/1570_顾丽贤_三等奖_7457.pdf"]
[1571,"P305319090645","晶体和非晶体","高中组","微课","三等奖","佛山市",{"$f":"VLOOKUP(B1573,'[1]002'!B:M,7,0)","v":"方红德"},{"$f":"VLOOKUP(B1573,'[1]002'!B:M,8,0)","v":"佛山巿南海区西樵高级中学"},{"$f":"VLOOKUP(B1573,'[1]002'!B:M,11,0)","v":"-"},{"$f":"VLOOKUP(B1573,'[1]002'!B:M,12,0)","v":"-"},{"$f":"VLOOKUP(B1573,[2]sheet2!B:L,10,0)","v":"-"},{"$f":"VLOOKUP(B1573,[2]sheet2!B:L,11,0)","v":"-"},"http://183.62.54.51:8841/data/files/certificate/000000000439/3fee487ebf9b4f30af2c4a8484ebf172/signed/1571_方红德_三等奖_7458.pdf"]
[1572,"P305319090644","岩石圈的物质循环","高中组","微课","三等奖","佛山市",{"$f":"VLOOKUP(B1574,'[1]002'!B:M,7,0)","v":"梁绮云"},{"$f":"VLOOKUP(B1574,'[1]002'!B:M,8,0)","v":"佛山巿南海区西樵高级中学"},{"$f":"VLOOKUP(B1574,'[1]002'!B:M,11,0)","v":"-"},{"$f":"VLOOKUP(B1574,'[1]002'!B:M,12,0)","v":"-"},{"$f":"VLOOKUP(B1574,[2]sheet2!B:L,10,0)","v":"-"},{"$f":"VLOOKUP(B1574,[2]sheet2!B:L,11,0)","v":"-"},"http://183.62.54.51:8841/data/files/certificate/000000000439/1564c29255754773a68a9e3fe6479e18/signed/1572_梁绮云_三等奖_7459.pdf"]
[1573,"P305319090656","民主监督的难点","高中组","微课","三等奖","佛山市",{"$f":"VLOOKUP(B1575,'[1]002'!B:M,7,0)","v":"谭晓冬"},{"$f":"VLOOKUP(B1575,'[1]002'!B:M,8,0)","v":"佛山市第三中学"},{"$f":"VLOOKUP(B1575,'[1]002'!B:M,11,0)","v":"-"},{"$f":"VLOOKUP(B1575,'[1]002'!B:M,12,0)","v":"-"},{"$f":"VLOOKUP(B1575,[2]sheet2!B:L,10,0)","v":"-"},{"$f":"VLOOKUP(B1575,[2]sheet2!B:L,11,0)","v":"-"},"http://183.62.54.51:8841/data/files/certificate/000000000439/9be921467d5749aeb76a9c7d7a861f89/signed/1573_谭晓冬_三等奖_7460.pdf"]
[1574,"P305319090638","偷税","高中组","微课","三等奖","佛山市",{"$f":"VLOOKUP(B1576,'[1]002'!B:M,7,0)","v":"谢同心"},"佛山市高明区教师发展中心",{"$f":"VLOOKUP(B1576,'[1]002'!B:M,11,0)","v":"-"},{"$f":"VLOOKUP(B1576,'[1]002'!B:M,12,0)","v":"-"},{"$f":"VLOOKUP(B1576,[2]sheet2!B:L,10,0)","v":"-"},{"$f":"VLOOKUP(B1576,[2]sheet2!B:L,11,0)","v":"-"},"http://183.62.54.51:8841/data/files/certificate/000000000439/1c783c4285a849998895798b5768dbe1/signed/1574_谢同心_三等奖_7461.pdf"]
[1575,"P305319093396","认识土壤","高中组","微课","三等奖","河源市",{"$f":"VLOOKUP(B1577,'[1]002'!B:M,7,0)","v":"谢巧珍"},{"$f":"VLOOKUP(B1577,'[1]002'!B:M,8,0)","v":"河源市田家炳实验中学"},{"$f":"VLOOKUP(B1577,'[1]002'!B:M,11,0)","v":"-"},{"$f":"VLOOKUP(B1577,'[1]002'!B:M,12,0)","v":"-"},{"$f":"VLOOKUP(B1577,[2]sheet2!B:L,10,0)","v":"-"},{"$f":"VLOOKUP(B1577,[2]sheet2!B:L,11,0)","v":"-"},"http://183.62.54.51:8841/data/files/certificate/000000000439/3b9b691e0f3f47c6969a6fbb07b83107/signed/1575_谢巧珍_三等奖_7462.pdf"]
[1576,"P305319093394","阿克苏糖心苹果的蜜密","高中组","微课","三等奖","河源市",{"$f":"VLOOKUP(B1578,'[1]002'!B:M,7,0)","v":"何丽莎"},{"$f":"VLOOKUP(B1578,'[1]002'!B:M,8,0)","v":"河源市田家炳实验中学"},{"$f":"VLOOKUP(B1578,'[1]002'!B:M,11,0)","v":"-"},{"$f":"VLOOKUP(B1578,'[1]002'!B:M,12,0)","v":"-"},{"$f":"VLOOKUP(B1578,[2]sheet2!B:L,10,0)","v":"-"},{"$f":"VLOOKUP(B1578,[2]sheet2!B:L,11,0)","v":"-"},"http://183.62.54.51:8841/data/files/certificate/000000000439/707707532ebc49668e81b2001c11e3aa/signed/1576_何丽莎_三等奖_7463.pdf"]
[1577,"P305319092128","微课《气候类型的判读》","高中组","微课","三等奖","惠州市",{"$f":"VLOOKUP(B1579,'[1]002'!B:M,7,0)","v":"温凤婷"},{"$f":"VLOOKUP(B1579,'[1]002'!B:M,8,0)","v":"博罗县三乡中学"},{"$f":"VLOOKUP(B1579,'[1]002'!B:M,11,0)","v":"-"},{"$f":"VLOOKUP(B1579,'[1]002'!B:M,12,0)","v":"-"},{"$f":"VLOOKUP(B1579,[2]sheet2!B:L,10,0)","v":"-"},{"$f":"VLOOKUP(B1579,[2]sheet2!B:L,11,0)","v":"-"},"http://183.62.54.51:8841/data/files/certificate/000000000439/430fbf186d9e4c1eb52c8b673c9df6e0/signed/1577_温凤婷_三等奖_7464.pdf"]
[1578,"P305319092401","电解质溶液图像专题探究","高中组","微课","三等奖","汕尾市",{"$f":"VLOOKUP(B1580,'[1]002'!B:M,7,0)","v":"彭津"},{"$f":"VLOOKUP(B1580,'[1]002'!B:M,8,0)","v":"陆河县陆河中学"},{"$f":"VLOOKUP(B1580,'[1]002'!B:M,11,0)","v":"-"},{"$f":"VLOOKUP(B1580,'[1]002'!B:M,12,0)","v":"-"},{"$f":"VLOOKUP(B1580,[2]sheet2!B:L,10,0)","v":"-"},{"$f":"VLOOKUP(B1580,[2]sheet2!B:L,11,0)","v":"-"},"http://183.62.54.51:8841/data/files/certificate/000000000439/eacccdd4a99f4d48b54e51860c4a4e44/signed/1578_彭津_三等奖_7465.pdf"]
[1579,"P305319092402","必修二Unit5Reading文本框架梳理","高中组","微课","三等奖","汕尾市",{"$f":"VLOOKUP(B1581,'[1]002'!B:M,7,0)","v":"徐凤菊"},{"$f":"VLOOKUP(B1581,'[1]002'!B:M,8,0)","v":"汕尾市城区汕尾中学"},{"$f":"VLOOKUP(B1581,'[1]002'!B:M,11,0)","v":"-"},{"$f":"VLOOKUP(B1581,'[1]002'!B:M,12,0)","v":"-"},{"$f":"VLOOKUP(B1581,[2]sheet2!B:L,10,0)","v":"-"},{"$f":"VLOOKUP(B1581,[2]sheet2!B:L,11,0)","v":"-"},"http://183.62.54.51:8841/data/files/certificate/000000000439/ad9d8bd6ffe4498aa4fec17e6394c1df/signed/1579_徐凤菊_三等奖_7466.pdf"]
[1580,"P305319092399","门基乐队背景知识介绍","高中组","微课","三等奖","汕尾市",{"$f":"VLOOKUP(B1582,'[1]002'!B:M,7,0)","v":"陈春色"},{"$f":"VLOOKUP(B1582,'[1]002'!B:M,8,0)","v":"汕尾市城区汕尾中学"},{"$f":"VLOOKUP(B1582,'[1]002'!B:M,11,0)","v":"-"},{"$f":"VLOOKUP(B1582,'[1]002'!B:M,12,0)","v":"-"},{"$f":"VLOOKUP(B1582,[2]sheet2!B:L,10,0)","v":"-"},{"$f":"VLOOKUP(B1582,[2]sheet2!B:L,11,0)","v":"-"},"http://183.62.54.51:8841/data/files/certificate/000000000439/adc45838022248f1a9f31102eb8ef4fa/signed/1580_陈春色_三等奖_7467.pdf"]
[1581,"P305319092585","常见的天气系统","高中组","微课","三等奖","东莞市",{"$f":"VLOOKUP(B1583,'[1]002'!B:M,7,0)","v":"张峰铭"},{"$f":"VLOOKUP(B1583,'[1]002'!B:M,8,0)","v":"东莞实验中学"},{"$f":"VLOOKUP(B1583,'[1]002'!B:M,11,0)","v":"-"},{"$f":"VLOOKUP(B1583,'[1]002'!B:M,12,0)","v":"-"},{"$f":"VLOOKUP(B1583,[2]sheet2!B:L,10,0)","v":"-"},{"$f":"VLOOKUP(B1583,[2]sheet2!B:L,11,0)","v":"-"},"http://183.62.54.51:8841/data/files/certificate/000000000439/37ca000d06ab4fa796782a0cd7f18dc5/signed/1581_张峰铭_三等奖_7468.pdf"]
[1582,"P305319092591","现代旅游业对区域发展的意义","高中组","微课","三等奖","东莞市",{"$f":"VLOOKUP(B1584,'[1]002'!B:M,7,0)","v":"邓威"},{"$f":"VLOOKUP(B1584,'[1]002'!B:M,8,0)","v":"东莞市光正实验学校"},{"$f":"VLOOKUP(B1584,'[1]002'!B:M,11,0)","v":"-"},{"$f":"VLOOKUP(B1584,'[1]002'!B:M,12,0)","v":"-"},{"$f":"VLOOKUP(B1584,[2]sheet2!B:L,10,0)","v":"-"},{"$f":"VLOOKUP(B1584,[2]sheet2!B:L,11,0)","v":"-"},"http://183.62.54.51:8841/data/files/certificate/000000000439/584c1228aa8a48338b152c9c316b92e6/signed/1582_邓威_三等奖_7469.pdf"]
[1583,"P305319088218","3D创意与设计","高中组","微课","三等奖","中山市",{"$f":"VLOOKUP(B1585,'[1]002'!B:M,7,0)","v":"任懿娜"},{"$f":"VLOOKUP(B1585,'[1]002'!B:M,8,0)","v":"中山市华侨中学"},{"$f":"VLOOKUP(B1585,'[1]002'!B:M,11,0)","v":"-"},{"$f":"VLOOKUP(B1585,'[1]002'!B:M,12,0)","v":"-"},{"$f":"VLOOKUP(B1585,[2]sheet2!B:L,10,0)","v":"-"},{"$f":"VLOOKUP(B1585,[2]sheet2!B:L,11,0)","v":"-"},"http://183.62.54.51:8841/data/files/certificate/000000000439/a9f44422b02c42c1bb60bc94874dbb68/signed/1583_任懿娜_三等奖_7470.pdf"]
[1584,"P305319091966","思维导图技巧：不要短句，要关键词！","高中组","微课","三等奖","江门市",{"$f":"VLOOKUP(B1586,'[1]002'!B:M,7,0)","v":"张晓玲"},{"$f":"VLOOKUP(B1586,'[1]002'!B:M,8,0)","v":"开平市开侨中学"},{"$f":"VLOOKUP(B1586,'[1]002'!B:M,11,0)","v":"-"},{"$f":"VLOOKUP(B1586,'[1]002'!B:M,12,0)","v":"-"},{"$f":"VLOOKUP(B1586,[2]sheet2!B:L,10,0)","v":"-"},{"$f":"VLOOKUP(B1586,[2]sheet2!B:L,11,0)","v":"-"},"http://183.62.54.51:8841/data/files/certificate/000000000439/e2a596cc60f7473d85f2b94a42618ee0/signed/1584_张晓玲_三等奖_7471.pdf"]
[1585,"P305319091964","我的机器人会踢球","高中组","微课","三等奖","江门市",{"$f":"VLOOKUP(B1587,'[1]002'!B:M,7,0)","v":"胡博旋"},{"$f":"VLOOKUP(B1587,'[1]002'!B:M,8,0)","v":"开平市第一中学"},{"$f":"VLOOKUP(B1587,'[1]002'!B:M,11,0)","v":"-"},{"$f":"VLOOKUP(B1587,'[1]002'!B:M,12,0)","v":"-"},{"$f":"VLOOKUP(B1587,[2]sheet2!B:L,10,0)","v":"-"},{"$f":"VLOOKUP(B1587,[2]sheet2!B:L,11,0)","v":"-"},"http://183.62.54.51:8841/data/files/certificate/000000000439/0d506566b4fc430bbde4d5e98888a4a0/signed/1585_胡博旋_三等奖_7472.pdf"]
[1586,"P305319092030","农业的区位选择","高中组","微课","三等奖","江门市",{"$f":"VLOOKUP(B1588,'[1]002'!B:M,7,0)","v":"黄健仪"},{"$f":"VLOOKUP(B1588,'[1]002'!B:M,8,0)","v":"台山市华侨中学"},{"$f":"VLOOKUP(B1588,'[1]002'!B:M,11,0)","v":"-"},{"$f":"VLOOKUP(B1588,'[1]002'!B:M,12,0)","v":"-"},{"$f":"VLOOKUP(B1588,[2]sheet2!B:L,10,0)","v":"-"},{"$f":"VLOOKUP(B1588,[2]sheet2!B:L,11,0)","v":"-"},"http://183.62.54.51:8841/data/files/certificate/000000000439/595243345ba54d6990d24bacf3776a07/signed/1586_黄健仪_三等奖_7473.pdf"]
[1587,"P305319092094","宋朝的地方制度","高中组","微课","三等奖","江门市",{"$f":"VLOOKUP(B1589,'[1]002'!B:M,7,0)","v":"林玉合"},{"$f":"VLOOKUP(B1589,'[1]002'!B:M,8,0)","v":"江门市新会第一中学"},{"$f":"VLOOKUP(B1589,'[1]002'!B:M,11,0)","v":"-"},{"$f":"VLOOKUP(B1589,'[1]002'!B:M,12,0)","v":"-"},{"$f":"VLOOKUP(B1589,[2]sheet2!B:L,10,0)","v":"-"},{"$f":"VLOOKUP(B1589,[2]sheet2!B:L,11,0)","v":"-"},"http://183.62.54.51:8841/data/files/certificate/000000000439/c3414d001a15431fbba864b52e58a260/signed/1587_林玉合_三等奖_7474.pdf"]
[1588,"P305319092990","液体表面张力","高中组","微课","三等奖","湛江市",{"$f":"VLOOKUP(B1590,'[1]002'!B:M,7,0)","v":"陈墨源"},{"$f":"VLOOKUP(B1590,'[1]002'!B:M,8,0)","v":"湛江市爱周高级中学"},{"$f":"VLOOKUP(B1590,'[1]002'!B:M,11,0)","v":"-"},{"$f":"VLOOKUP(B1590,'[1]002'!B:M,12,0)","v":"-"},{"$f":"VLOOKUP(B1590,[2]sheet2!B:L,10,0)","v":"-"},{"$f":"VLOOKUP(B1590,[2]sheet2!B:L,11,0)","v":"-"},"http://183.62.54.51:8841/data/files/certificate/000000000439/e2c4f56b0591460b91f892f493b2a8c3/signed/1588_陈墨源_三等奖_7475.pdf"]
[1589,"P305319092975","细胞大小与物质扩散的关系","高中组","微课","三等奖","湛江市",{"$f":"VLOOKUP(B1591,'[1]002'!B:M,7,0)","v":"刘春燕"},{"$f":"VLOOKUP(B1591,'[1]002'!B:M,8,0)","v":"岭南师范学院附属中学"},{"$f":"VLOOKUP(B1591,'[1]002'!B:M,11,0)","v":"-"},{"$f":"VLOOKUP(B1591,'[1]002'!B:M,12,0)","v":"-"},{"$f":"VLOOKUP(B1591,[2]sheet2!B:L,10,0)","v":"-"},{"$f":"VLOOKUP(B1591,[2]sheet2!B:L,11,0)","v":"-"},"http://183.62.54.51:8841/data/files/certificate/000000000439/1823ec2dc96c40d9bc94b028d5b1be7e/signed/1589_刘春燕_三等奖_7476.pdf"]
[1590,"P305319092999","跑的专项训练","高中组","微课","三等奖","湛江市",{"$f":"VLOOKUP(B1592,'[1]002'!B:M,7,0)","v":"钟楼"},{"$f":"VLOOKUP(B1592,'[1]002'!B:M,8,0)","v":"湛江市坡头区第一中学"},{"$f":"VLOOKUP(B1592,'[1]002'!B:M,11,0)","v":"-"},{"$f":"VLOOKUP(B1592,'[1]002'!B:M,12,0)","v":"-"},{"$f":"VLOOKUP(B1592,[2]sheet2!B:L,10,0)","v":"-"},{"$f":"VLOOKUP(B1592,[2]sheet2!B:L,11,0)","v":"-"},"http://183.62.54.51:8841/data/files/certificate/000000000439/398d717b03904f1dbb83332e6e163efb/signed/1590_钟楼_三等奖_7477.pdf"]
[1591,"P305319092988","感谢信","高中组","微课","三等奖","湛江市",{"$f":"VLOOKUP(B1593,'[1]002'!B:M,7,0)","v":"施小平"},{"$f":"VLOOKUP(B1593,'[1]002'!B:M,8,0)","v":"湛江市坡头区第一中学"},{"$f":"VLOOKUP(B1593,'[1]002'!B:M,11,0)","v":"-"},{"$f":"VLOOKUP(B1593,'[1]002'!B:M,12,0)","v":"-"},{"$f":"VLOOKUP(B1593,[2]sheet2!B:L,10,0)","v":"-"},{"$f":"VLOOKUP(B1593,[2]sheet2!B:L,11,0)","v":"-"},"http://183.62.54.51:8841/data/files/certificate/000000000439/a914b2e9307c4daeaf17b57fb093fc73/signed/1591_施小平_三等奖_7478.pdf"]
[1592,"P305319092986","数据的传输过程","高中组","微课","三等奖","湛江市",{"$f":"VLOOKUP(B1594,'[1]002'!B:M,7,0)","v":"黎招准"},{"$f":"VLOOKUP(B1594,'[1]002'!B:M,8,0)","v":"岭南师范学院附属中学"},{"$f":"VLOOKUP(B1594,'[1]002'!B:M,11,0)","v":"-"},{"$f":"VLOOKUP(B1594,'[1]002'!B:M,12,0)","v":"-"},{"$f":"VLOOKUP(B1594,[2]sheet2!B:L,10,0)","v":"-"},{"$f":"VLOOKUP(B1594,[2]sheet2!B:L,11,0)","v":"-"},"http://183.62.54.51:8841/data/files/certificate/000000000439/c253efb46ddf46599c0e2c1f1e2c24c2/signed/1592_黎招准_三等奖_7479.pdf"]
[1593,"P305319092997","原电池的工作原理","高中组","微课","三等奖","湛江市",{"$f":"VLOOKUP(B1595,'[1]002'!B:M,7,0)","v":"杨观月"},{"$f":"VLOOKUP(B1595,'[1]002'!B:M,8,0)","v":"湛江市爱周高级中学"},{"$f":"VLOOKUP(B1595,'[1]002'!B:M,11,0)","v":"-"},{"$f":"VLOOKUP(B1595,'[1]002'!B:M,12,0)","v":"-"},{"$f":"VLOOKUP(B1595,[2]sheet2!B:L,10,0)","v":"-"},{"$f":"VLOOKUP(B1595,[2]sheet2!B:L,11,0)","v":"-"},"http://183.62.54.51:8841/data/files/certificate/000000000439/a9735aa45dd942cfa50692b3f52fce6f/signed/1593_杨观月_三等奖_7480.pdf"]
[1594,"P305319092989","艰难的法兰西共和之路","高中组","微课","三等奖","湛江市",{"$f":"VLOOKUP(B1596,'[1]002'!B:M,7,0)","v":"罗琳"},{"$f":"VLOOKUP(B1596,'[1]002'!B:M,8,0)","v":"湛江经济技术开发区第一中学"},{"$f":"VLOOKUP(B1596,'[1]002'!B:M,11,0)","v":"-"},{"$f":"VLOOKUP(B1596,'[1]002'!B:M,12,0)","v":"-"},{"$f":"VLOOKUP(B1596,[2]sheet2!B:L,10,0)","v":"-"},{"$f":"VLOOKUP(B1596,[2]sheet2!B:L,11,0)","v":"-"},"http://183.62.54.51:8841/data/files/certificate/000000000439/f0cb540623ee41a092518890f12265e7/signed/1594_罗琳_三等奖_7481.pdf"]
[1595,"P305319093000","“蔗”里看崇左","高中组","微课","三等奖","湛江市",{"$f":"VLOOKUP(B1597,'[1]002'!B:M,7,0)","v":"刘意"},{"$f":"VLOOKUP(B1597,'[1]002'!B:M,8,0)","v":"湛江经济技术开发区第一中学"},{"$f":"VLOOKUP(B1597,'[1]002'!B:M,11,0)","v":"-"},{"$f":"VLOOKUP(B1597,'[1]002'!B:M,12,0)","v":"-"},{"$f":"VLOOKUP(B1597,[2]sheet2!B:L,10,0)","v":"-"},{"$f":"VLOOKUP(B1597,[2]sheet2!B:L,11,0)","v":"-"},"http://183.62.54.51:8841/data/files/certificate/000000000439/c156c66c871f44a39218c86ae26454c6/signed/1595_刘意_三等奖_7482.pdf"]
[1596,"P305319092970","报纸人物摆件制作","高中组","微课","三等奖","湛江市",{"$f":"VLOOKUP(B1598,'[1]002'!B:M,7,0)","v":"孟磊"},{"$f":"VLOOKUP(B1598,'[1]002'!B:M,8,0)","v":"湛江市二中海东中学"},{"$f":"VLOOKUP(B1598,'[1]002'!B:M,11,0)","v":"-"},{"$f":"VLOOKUP(B1598,'[1]002'!B:M,12,0)","v":"-"},{"$f":"VLOOKUP(B1598,[2]sheet2!B:L,10,0)","v":"-"},{"$f":"VLOOKUP(B1598,[2]sheet2!B:L,11,0)","v":"-"},"http://183.62.54.51:8841/data/files/certificate/000000000439/d1d6966b175e499b86bfe9baafa2ec29/signed/1596_孟磊_三等奖_7483.pdf"]
[1597,"P305319092995","需求曲线","高中组","微课","三等奖","湛江市",{"$f":"VLOOKUP(B1599,'[1]002'!B:M,7,0)","v":"黄知远"},{"$f":"VLOOKUP(B1599,'[1]002'!B:M,8,0)","v":"湛江经济技术开发区第一中学"},{"$f":"VLOOKUP(B1599,'[1]002'!B:M,11,0)","v":"-"},{"$f":"VLOOKUP(B1599,'[1]002'!B:M,12,0)","v":"-"},{"$f":"VLOOKUP(B1599,[2]sheet2!B:L,10,0)","v":"-"},{"$f":"VLOOKUP(B1599,[2]sheet2!B:L,11,0)","v":"-"},"http://183.62.54.51:8841/data/files/certificate/000000000439/9ddb7dcb290846ff9df9ee198ac4f931/signed/1597_黄知远_三等奖_7484.pdf"]
[1598,"P305319090243","图形图像的加工之抠图","高中组","微课","三等奖","肇庆市",{"$f":"VLOOKUP(B1600,'[1]002'!B:M,7,0)","v":"陈维欣"},{"$f":"VLOOKUP(B1600,'[1]002'!B:M,8,0)","v":"肇庆市实验中学"},{"$f":"VLOOKUP(B1600,'[1]002'!B:M,11,0)","v":"-"},{"$f":"VLOOKUP(B1600,'[1]002'!B:M,12,0)","v":"-"},{"$f":"VLOOKUP(B1600,[2]sheet2!B:L,10,0)","v":"-"},{"$f":"VLOOKUP(B1600,[2]sheet2!B:L,11,0)","v":"-"},"http://183.62.54.51:8841/data/files/certificate/000000000439/9aa2ccb638bb454aa755e1d4c59d42d9/signed/1598_陈维欣_三等奖_7485.pdf"]
[1599,"P305319091657","主谓一致之意义一致原则","高中组","微课","三等奖","清远市",{"$f":"VLOOKUP(B1601,'[1]002'!B:M,7,0)","v":"雷艳芳"},{"$f":"VLOOKUP(B1601,'[1]002'!B:M,8,0)","v":"清远市源潭中学"},{"$f":"VLOOKUP(B1601,'[1]002'!B:M,11,0)","v":"-"},{"$f":"VLOOKUP(B1601,'[1]002'!B:M,12,0)","v":"-"},{"$f":"VLOOKUP(B1601,[2]sheet2!B:L,10,0)","v":"-"},{"$f":"VLOOKUP(B1601,[2]sheet2!B:L,11,0)","v":"-"},"http://183.62.54.51:8841/data/files/certificate/000000000439/a1d141bb738b492ca8043dbfc0fbaa36/signed/1599_雷艳芳_三等奖_7486.pdf"]
[1600,"P305319091654","语法填空之谓语动词的解题技巧","高中组","微课","三等奖","清远市",{"$f":"VLOOKUP(B1602,'[1]002'!B:M,7,0)","v":"郑晓芬"},{"$f":"VLOOKUP(B1602,'[1]002'!B:M,8,0)","v":"清远市源潭中学"},{"$f":"VLOOKUP(B1602,'[1]002'!B:M,11,0)","v":"-"},{"$f":"VLOOKUP(B1602,'[1]002'!B:M,12,0)","v":"-"},{"$f":"VLOOKUP(B1602,[2]sheet2!B:L,10,0)","v":"-"},{"$f":"VLOOKUP(B1602,[2]sheet2!B:L,11,0)","v":"-"},"http://183.62.54.51:8841/data/files/certificate/000000000439/f23c70c7b70641a493d1f006f8404bf6/signed/1600_郑晓芬_三等奖_7487.pdf"]
[1601,"P305319091659","生态系统的信息传递","高中组","微课","三等奖","清远市",{"$f":"VLOOKUP(B1603,'[1]002'!B:M,7,0)","v":"李官星"},{"$f":"VLOOKUP(B1603,'[1]002'!B:M,8,0)","v":"英德市英德中学"},{"$f":"VLOOKUP(B1603,'[1]002'!B:M,11,0)","v":"-"},{"$f":"VLOOKUP(B1603,'[1]002'!B:M,12,0)","v":"-"},{"$f":"VLOOKUP(B1603,[2]sheet2!B:L,10,0)","v":"-"},{"$f":"VLOOKUP(B1603,[2]sheet2!B:L,11,0)","v":"-"},"http://183.62.54.51:8841/data/files/certificate/000000000439/f3d08fd340b143ba9c505396bfb35b6a/signed/1601_李官星_三等奖_7488.pdf"]
[1602,"P305319091662","不规则动词的过去式及其变化规则","高中组","微课","三等奖","清远市",{"$f":"VLOOKUP(B1604,'[1]002'!B:M,7,0)","v":"李淑新"},{"$f":"VLOOKUP(B1604,'[1]002'!B:M,8,0)","v":"清远市源潭中学"},{"$f":"VLOOKUP(B1604,'[1]002'!B:M,11,0)","v":"-"},{"$f":"VLOOKUP(B1604,'[1]002'!B:M,12,0)","v":"-"},{"$f":"VLOOKUP(B1604,[2]sheet2!B:L,10,0)","v":"-"},{"$f":"VLOOKUP(B1604,[2]sheet2!B:L,11,0)","v":"-"},"http://183.62.54.51:8841/data/files/certificate/000000000439/26be0dc1e303450280d008d64384c427/signed/1602_李淑新_三等奖_7489.pdf"]
[1603,"P305319079771","车轮的谜","高中组","微课","三等奖","潮州市",{"$f":"VLOOKUP(B1605,'[1]002'!B:M,7,0)","v":"杨玮佳"},{"$f":"VLOOKUP(B1605,'[1]002'!B:M,8,0)","v":"潮州市金山中学"},{"$f":"VLOOKUP(B1605,'[1]002'!B:M,11,0)","v":"-"},{"$f":"VLOOKUP(B1605,'[1]002'!B:M,12,0)","v":"-"},{"$f":"VLOOKUP(B1605,[2]sheet2!B:L,10,0)","v":"-"},{"$f":"VLOOKUP(B1605,[2]sheet2!B:L,11,0)","v":"-"},"http://183.62.54.51:8841/data/files/certificate/000000000439/ee3eb12a196647c0857045367cfa6f69/signed/1603_杨玮佳_三等奖_7490.pdf"]
[1604,"P305319079285","ei你会ai了吗","高中组","微课","三等奖","潮州市",{"$f":"VLOOKUP(B1606,'[1]002'!B:M,7,0)","v":"陈坍梓"},{"$f":"VLOOKUP(B1606,'[1]002'!B:M,8,0)","v":"潮州市华侨中学"},{"$f":"VLOOKUP(B1606,'[1]002'!B:M,11,0)","v":"-"},{"$f":"VLOOKUP(B1606,'[1]002'!B:M,12,0)","v":"-"},{"$f":"VLOOKUP(B1606,[2]sheet2!B:L,10,0)","v":"-"},{"$f":"VLOOKUP(B1606,[2]sheet2!B:L,11,0)","v":"-"},"http://183.62.54.51:8841/data/files/certificate/000000000439/343ae95034df4f24b0e58012323aa113/signed/1604_陈坍梓_三等奖_7491.pdf"]
[1605,"P305319079435","民族资本主义的曲折发展与最终归宿","高中组","微课","三等奖","云浮市",{"$f":"VLOOKUP(B1607,'[1]002'!B:M,7,0)","v":"李涛"},{"$f":"VLOOKUP(B1607,'[1]002'!B:M,8,0)","v":"云浮市云安区云安中学"},{"$f":"VLOOKUP(B1607,'[1]002'!B:M,11,0)","v":"-"},{"$f":"VLOOKUP(B1607,'[1]002'!B:M,12,0)","v":"-"},{"$f":"VLOOKUP(B1607,[2]sheet2!B:L,10,0)","v":"-"},{"$f":"VLOOKUP(B1607,[2]sheet2!B:L,11,0)","v":"-"},"http://183.62.54.51:8841/data/files/certificate/000000000439/ec878bbbdc0348fa89e38dbcb92e7db4/signed/1605_李涛_三等奖_7492.pdf"]
[1606,"P305319079503","主语从句语法讲解之形式主语","高中组","微课","三等奖","云浮市",{"$f":"VLOOKUP(B1608,'[1]002'!B:M,7,0)","v":"李勤敏"},{"$f":"VLOOKUP(B1608,'[1]002'!B:M,8,0)","v":"云浮市第一中学"},{"$f":"VLOOKUP(B1608,'[1]002'!B:M,11,0)","v":"-"},{"$f":"VLOOKUP(B1608,'[1]002'!B:M,12,0)","v":"-"},{"$f":"VLOOKUP(B1608,[2]sheet2!B:L,10,0)","v":"-"},{"$f":"VLOOKUP(B1608,[2]sheet2!B:L,11,0)","v":"-"},"http://183.62.54.51:8841/data/files/certificate/000000000439/de07687e18b44706a4c43a65bf4b6e72/signed/1606_李勤敏_三等奖_7493.pdf"]
[1607,"P305319090372","图表型主观题的解答方法","高中组","微课","三等奖","云浮市",{"$f":"VLOOKUP(B1609,'[1]002'!B:M,7,0)","v":"杨国甫"},{"$f":"VLOOKUP(B1609,'[1]002'!B:M,8,0)","v":"罗定中学"},{"$f":"VLOOKUP(B1609,'[1]002'!B:M,11,0)","v":"-"},{"$f":"VLOOKUP(B1609,'[1]002'!B:M,12,0)","v":"-"},{"$f":"VLOOKUP(B1609,[2]sheet2!B:L,10,0)","v":"-"},{"$f":"VLOOKUP(B1609,[2]sheet2!B:L,11,0)","v":"-"},"http://183.62.54.51:8841/data/files/certificate/000000000439/8cfa6310426840faa72a20ed3f2ff8b5/signed/1607_杨国甫_三等奖_7494.pdf"]
[1608,"P307319092676","平板电脑走进高一英语课堂辅助英语词汇学习","高中组","信息技术创新教学案例","三等奖","深圳市",{"$f":"VLOOKUP(B1610,'[1]002'!B:M,7,0)","v":"范晶"},{"$f":"VLOOKUP(B1610,'[1]002'!B:M,8,0)","v":"深圳市罗湖外语学校"},{"$f":"VLOOKUP(B1610,'[1]002'!B:M,11,0)","v":"-"},{"$f":"VLOOKUP(B1610,'[1]002'!B:M,12,0)","v":"-"},{"$f":"VLOOKUP(B1610,[2]sheet2!B:L,10,0)","v":"-"},{"$f":"VLOOKUP(B1610,[2]sheet2!B:L,11,0)","v":"-"},"http://183.62.54.51:8841/data/files/certificate/000000000439/ea8cd2c2cdb64b16938cf015daae0477/signed/1608_范晶_三等奖_7495.pdf"]
[1609,"P307319090607","热带云雾林","高中组","信息技术创新教学案例","三等奖","佛山市",{"$f":"VLOOKUP(B1611,'[1]002'!B:M,7,0)","v":"王畅"},{"$f":"VLOOKUP(B1611,'[1]002'!B:M,8,0)","v":"佛山市顺德区第一中学"},{"$f":"VLOOKUP(B1611,'[1]002'!B:M,11,0)","v":"-"},{"$f":"VLOOKUP(B1611,'[1]002'!B:M,12,0)","v":"-"},{"$f":"VLOOKUP(B1611,[2]sheet2!B:L,10,0)","v":"-"},{"$f":"VLOOKUP(B1611,[2]sheet2!B:L,11,0)","v":"-"},"http://183.62.54.51:8841/data/files/certificate/000000000439/fbf711d9b7404673b8d67cf8bbeb853d/signed/1609_王畅_三等奖_7496.pdf"]
[1610,"P307319093402","人教版高一化学必修二第三章第二节乙醇创新教学案例","高中组","信息技术创新教学案例","三等奖","河源市",{"$f":"VLOOKUP(B1612,'[1]002'!B:M,7,0)","v":"王美丽"},{"$f":"VLOOKUP(B1612,'[1]002'!B:M,8,0)","v":"和平县和平中学"},{"$f":"VLOOKUP(B1612,'[1]002'!B:M,11,0)","v":"-"},{"$f":"VLOOKUP(B1612,'[1]002'!B:M,12,0)","v":"-"},{"$f":"VLOOKUP(B1612,[2]sheet2!B:L,10,0)","v":"-"},{"$f":"VLOOKUP(B1612,[2]sheet2!B:L,11,0)","v":"-"},"http://183.62.54.51:8841/data/files/certificate/000000000439/cb2ab8450bd94b5caa420487d2b45818/signed/1610_王美丽_三等奖_7497.pdf"]
[1611,"P307319078996","人教模块三Unit5CanadaTheTrueNorth词汇短语新授及应用","高中组","信息技术创新教学案例","三等奖","梅州市",{"$f":"VLOOKUP(B1613,'[1]002'!B:M,7,0)","v":"陈永福"},{"$f":"VLOOKUP(B1613,'[1]002'!B:M,8,0)","v":"蕉岭县蕉岭中学"},{"$f":"VLOOKUP(B1613,'[1]002'!B:M,11,0)","v":"-"},{"$f":"VLOOKUP(B1613,'[1]002'!B:M,12,0)","v":"-"},{"$f":"VLOOKUP(B1613,[2]sheet2!B:L,10,0)","v":"-"},{"$f":"VLOOKUP(B1613,[2]sheet2!B:L,11,0)","v":"-"},"http://183.62.54.51:8841/data/files/certificate/000000000439/52a21885f2e94f3eba994219c2cf688f/signed/1611_陈永福_三等奖_7498.pdf"]
[1612,"P307319088214","基于项目学习的Arduino初探","高中组","信息技术创新教学案例","三等奖","中山市",{"$f":"VLOOKUP(B1614,'[1]002'!B:M,7,0)","v":"张封"},{"$f":"VLOOKUP(B1614,'[1]002'!B:M,8,0)","v":"中山市华侨中学"},{"$f":"VLOOKUP(B1614,'[1]002'!B:M,11,0)","v":"任懿娜"},{"$f":"VLOOKUP(B1614,'[1]002'!B:M,12,0)","v":"中山市华侨中学"},{"$f":"VLOOKUP(B1614,[2]sheet2!B:L,10,0)","v":"郭群"},{"$f":"VLOOKUP(B1614,[2]sheet2!B:L,11,0)","v":"中山市华侨中学"},"http://183.62.54.51:8841/data/files/certificate/000000000439/bcda85e18c21480c89c561b5744e6d7b/signed/1612_张封、任懿娜、郭群_三等奖_7499.pdf"]
[1613,"P307319092968","攻克易错不规则动词","高中组","信息技术创新教学案例","三等奖","湛江市",{"$f":"VLOOKUP(B1615,'[1]002'!B:M,7,0)","v":"谈国栋"},{"$f":"VLOOKUP(B1615,'[1]002'!B:M,8,0)","v":"湛江市第二中学"},{"$f":"VLOOKUP(B1615,'[1]002'!B:M,11,0)","v":"-"},{"$f":"VLOOKUP(B1615,'[1]002'!B:M,12,0)","v":"-"},{"$f":"VLOOKUP(B1615,[2]sheet2!B:L,10,0)","v":"-"},{"$f":"VLOOKUP(B1615,[2]sheet2!B:L,11,0)","v":"-"},"http://183.62.54.51:8841/data/files/certificate/000000000439/b18d2be0c7084bd1a1b872248a813416/signed/1613_谈国栋_三等奖_7500.pdf"]
[1614,"P307319091737","系统分析的基本方法","高中组","信息技术创新教学案例","三等奖","清远市",{"$f":"VLOOKUP(B1616,'[1]002'!B:M,7,0)","v":"余宇宙"},{"$f":"VLOOKUP(B1616,'[1]002'!B:M,8,0)","v":"清远市华侨中学"},{"$f":"VLOOKUP(B1616,'[1]002'!B:M,11,0)","v":"-"},{"$f":"VLOOKUP(B1616,'[1]002'!B:M,12,0)","v":"-"},{"$f":"VLOOKUP(B1616,[2]sheet2!B:L,10,0)","v":"-"},{"$f":"VLOOKUP(B1616,[2]sheet2!B:L,11,0)","v":"-"},"http://183.62.54.51:8841/data/files/certificate/000000000439/083068acfb8c446d8170f4dbddb7c738/signed/1614_余宇宙_三等奖_7501.pdf"]
[1615,"P301319093392","计算机编程解决问题网络空间教学应用","高中组","教师网络空间应用案例","三等奖","河源市",{"$f":"VLOOKUP(B1617,'[1]002'!B:M,7,0)","v":"黄帅"},{"$f":"VLOOKUP(B1617,'[1]002'!B:M,8,0)","v":"和平县和平中学"},{"$f":"VLOOKUP(B1617,'[1]002'!B:M,11,0)","v":"-"},{"$f":"VLOOKUP(B1617,'[1]002'!B:M,12,0)","v":"-"},{"$f":"VLOOKUP(B1617,[2]sheet2!B:L,10,0)","v":"-"},{"$f":"VLOOKUP(B1617,[2]sheet2!B:L,11,0)","v":"-"},"http://183.62.54.51:8841/data/files/certificate/000000000439/7beb5e1529e74770b86e0c682a96a37c/signed/1615_黄帅_三等奖_7502.pdf"]
[1616,"P301319093393","表格信息的加工与表达","高中组","教师网络空间应用案例","三等奖","河源市",{"$f":"VLOOKUP(B1618,'[1]002'!B:M,7,0)","v":"陈伟聪"},{"$f":"VLOOKUP(B1618,'[1]002'!B:M,8,0)","v":"和平县和平中学"},{"$f":"VLOOKUP(B1618,'[1]002'!B:M,11,0)","v":"-"},{"$f":"VLOOKUP(B1618,'[1]002'!B:M,12,0)","v":"-"},{"$f":"VLOOKUP(B1618,[2]sheet2!B:L,10,0)","v":"-"},{"$f":"VLOOKUP(B1618,[2]sheet2!B:L,11,0)","v":"-"},"http://183.62.54.51:8841/data/files/certificate/000000000439/1aedca595e214c05990d59f839155c8e/signed/1616_陈伟聪_三等奖_7503.pdf"]
[1617,"P304319079915","滑翔机的制作","高中组","跨学科项目式学习教学案例","三等奖","珠海市",{"$f":"VLOOKUP(B1619,'[1]002'!B:M,7,0)","v":"樊秋平"},{"$f":"VLOOKUP(B1619,'[1]002'!B:M,8,0)","v":"珠海市斗门区和风中学"},{"$f":"VLOOKUP(B1619,'[1]002'!B:M,11,0)","v":"胡红云"},{"$f":"VLOOKUP(B1619,'[1]002'!B:M,12,0)","v":"珠海市斗门区和风中学"},{"$f":"VLOOKUP(B1619,[2]sheet2!B:L,10,0)","v":"-"},{"$f":"VLOOKUP(B1619,[2]sheet2!B:L,11,0)","v":"-"},"http://183.62.54.51:8841/data/files/certificate/000000000439/4c5f1af9fbf94aa59c0d02562929903c/signed/1617_樊秋平、胡红云_三等奖_7504.pdf"]
[1618,"P304319093405","多媒体信息的加工与表达之利用PPT进行素材加工","高中组","跨学科项目式学习教学案例","三等奖","河源市",{"$f":"VLOOKUP(B1620,'[1]002'!B:M,7,0)","v":"黄小姣"},{"$f":"VLOOKUP(B1620,'[1]002'!B:M,8,0)","v":"和平县和平中学"},{"$f":"VLOOKUP(B1620,'[1]002'!B:M,11,0)","v":"-"},{"$f":"VLOOKUP(B1620,'[1]002'!B:M,12,0)","v":"-"},{"$f":"VLOOKUP(B1620,[2]sheet2!B:L,10,0)","v":"-"},{"$f":"VLOOKUP(B1620,[2]sheet2!B:L,11,0)","v":"-"},"http://183.62.54.51:8841/data/files/certificate/000000000439/43c33f0ffa654e37ab1266a3db655ec4/signed/1618_黄小姣_三等奖_7505.pdf"]
[1619,"P306319093226","西方绘画艺术简史","高中组","新媒体新技术教学应用课例","三等奖",{"$f":"RIGHT(LEFT(VLOOKUP(B1621,'[1]002'!B:M,3,0),7),3)","v":"广州市"},{"$f":"VLOOKUP(B1621,'[1]002'!B:M,7,0)","v":"叶丽莎"},{"$f":"VLOOKUP(B1621,'[1]002'!B:M,8,0)","v":"广东实验中学越秀学校"},{"$f":"VLOOKUP(B1621,'[1]002'!B:M,11,0)","v":"-"},{"$f":"VLOOKUP(B1621,'[1]002'!B:M,12,0)","v":"-"},{"$f":"VLOOKUP(B1621,[2]sheet2!B:L,10,0)","v":"-"},{"$f":"VLOOKUP(B1621,[2]sheet2!B:L,11,0)","v":"-"},"http://183.62.54.51:8841/data/files/certificate/000000000439/606cbfe517304329ab7fdc1451dcfa40/signed/1619_叶丽莎_三等奖_7506.pdf"]
[1620,"P306319093222","揭开人工智能的神秘面纱","高中组","新媒体新技术教学应用课例","三等奖",{"$f":"RIGHT(LEFT(VLOOKUP(B1622,'[1]002'!B:M,3,0),7),3)","v":"广州市"},{"$f":"VLOOKUP(B1622,'[1]002'!B:M,7,0)","v":"冯洁卿"},{"$f":"VLOOKUP(B1622,'[1]002'!B:M,8,0)","v":"广州市南沙第一中学"},{"$f":"VLOOKUP(B1622,'[1]002'!B:M,11,0)","v":"罗启龙"},{"$f":"VLOOKUP(B1622,'[1]002'!B:M,12,0)","v":"广州市南沙第一中学"},{"$f":"VLOOKUP(B1622,[2]sheet2!B:L,10,0)","v":"-"},{"$f":"VLOOKUP(B1622,[2]sheet2!B:L,11,0)","v":"-"},"http://183.62.54.51:8841/data/files/certificate/000000000439/a22795130b544ff392b872c8b3f9ced5/signed/1620_冯洁卿、罗启龙_三等奖_7507.pdf"]
[1621,"P306319093223","血糖平衡调节","高中组","新媒体新技术教学应用课例","三等奖",{"$f":"RIGHT(LEFT(VLOOKUP(B1623,'[1]002'!B:M,3,0),7),3)","v":"广州市"},{"$f":"VLOOKUP(B1623,'[1]002'!B:M,7,0)","v":"余岳萍"},{"$f":"VLOOKUP(B1623,'[1]002'!B:M,8,0)","v":"广州市岭南画派纪念中学"},{"$f":"VLOOKUP(B1623,'[1]002'!B:M,11,0)","v":"-"},{"$f":"VLOOKUP(B1623,'[1]002'!B:M,12,0)","v":"-"},{"$f":"VLOOKUP(B1623,[2]sheet2!B:L,10,0)","v":"-"},{"$f":"VLOOKUP(B1623,[2]sheet2!B:L,11,0)","v":"-"},"http://183.62.54.51:8841/data/files/certificate/000000000439/5184f74176b84988ae6dd192b62b0855/signed/1621_余岳萍_三等奖_7508.pdf"]
[1622,"P306319092266","实验：探究功与速度变化的关系","高中组","新媒体新技术教学应用课例","三等奖",{"$f":"RIGHT(LEFT(VLOOKUP(B1624,'[1]002'!B:M,3,0),7),3)","v":"汕头市"},{"$f":"VLOOKUP(B1624,'[1]002'!B:M,7,0)","v":"周沐奎"},{"$f":"VLOOKUP(B1624,'[1]002'!B:M,8,0)","v":"汕头市实验学校"},{"$f":"VLOOKUP(B1624,'[1]002'!B:M,11,0)","v":"-"},{"$f":"VLOOKUP(B1624,'[1]002'!B:M,12,0)","v":"-"},{"$f":"VLOOKUP(B1624,[2]sheet2!B:L,10,0)","v":"-"},{"$f":"VLOOKUP(B1624,[2]sheet2!B:L,11,0)","v":"-"},"http://183.62.54.51:8841/data/files/certificate/000000000439/d5fe0e0ff6ed4d84a772d58c64d3a8a6/signed/1622_周沐奎_三等奖_7509.pdf"]
[1623,"P306319090618","免疫调节第一课时","高中组","新媒体新技术教学应用课例","三等奖",{"$f":"RIGHT(LEFT(VLOOKUP(B1625,'[1]002'!B:M,3,0),7),3)","v":"佛山市"},{"$f":"VLOOKUP(B1625,'[1]002'!B:M,7,0)","v":"孙小川"},{"$f":"VLOOKUP(B1625,'[1]002'!B:M,8,0)","v":"佛山市顺德区罗定邦中学"},{"$f":"VLOOKUP(B1625,'[1]002'!B:M,11,0)","v":"-"},{"$f":"VLOOKUP(B1625,'[1]002'!B:M,12,0)","v":"-"},{"$f":"VLOOKUP(B1625,[2]sheet2!B:L,10,0)","v":"-"},{"$f":"VLOOKUP(B1625,[2]sheet2!B:L,11,0)","v":"-"},"http://183.62.54.51:8841/data/files/certificate/000000000439/777cb287dbd5440f858ef6bb0aaaa4d5/signed/1623_孙小川_三等奖_7510.pdf"]
[1624,"P306319090613","向量的加法及其几何意义","高中组","新媒体新技术教学应用课例","三等奖",{"$f":"RIGHT(LEFT(VLOOKUP(B1626,'[1]002'!B:M,3,0),7),3)","v":"佛山市"},{"$f":"VLOOKUP(B1626,'[1]002'!B:M,7,0)","v":"梁灵慧"},{"$f":"VLOOKUP(B1626,'[1]002'!B:M,8,0)","v":"佛山市南海区桂华中学"},{"$f":"VLOOKUP(B1626,'[1]002'!B:M,11,0)","v":"-"},{"$f":"VLOOKUP(B1626,'[1]002'!B:M,12,0)","v":"-"},{"$f":"VLOOKUP(B1626,[2]sheet2!B:L,10,0)","v":"-"},{"$f":"VLOOKUP(B1626,[2]sheet2!B:L,11,0)","v":"-"},"http://183.62.54.51:8841/data/files/certificate/000000000439/972c43d961384841930d36873e008c56/signed/1624_梁灵慧_三等奖_7511.pdf"]
[1625,"P306319090619","氧化还原反应第2课时","高中组","新媒体新技术教学应用课例","三等奖",{"$f":"RIGHT(LEFT(VLOOKUP(B1627,'[1]002'!B:M,3,0),7),3)","v":"佛山市"},{"$f":"VLOOKUP(B1627,'[1]002'!B:M,7,0)","v":"廖伟梁"},{"$f":"VLOOKUP(B1627,'[1]002'!B:M,8,0)","v":"佛山市顺德区第一中学"},{"$f":"VLOOKUP(B1627,'[1]002'!B:M,11,0)","v":"-"},{"$f":"VLOOKUP(B1627,'[1]002'!B:M,12,0)","v":"-"},{"$f":"VLOOKUP(B1627,[2]sheet2!B:L,10,0)","v":"-"},{"$f":"VLOOKUP(B1627,[2]sheet2!B:L,11,0)","v":"-"},"http://183.62.54.51:8841/data/files/certificate/000000000439/6f594512ae7e450094409efadc2131c8/signed/1625_廖伟梁_三等奖_7512.pdf"]
[1626,"P306319090615","跨学科视域下英国工业革命兴衰启示录","高中组","新媒体新技术教学应用课例","三等奖",{"$f":"RIGHT(LEFT(VLOOKUP(B1628,'[1]002'!B:M,3,0),7),3)","v":"佛山市"},{"$f":"VLOOKUP(B1628,'[1]002'!B:M,7,0)","v":"吴凯琪"},{"$f":"VLOOKUP(B1628,'[1]002'!B:M,8,0)","v":"佛山巿南海区西樵高级中学"},{"$f":"VLOOKUP(B1628,'[1]002'!B:M,11,0)","v":"-"},{"$f":"VLOOKUP(B1628,'[1]002'!B:M,12,0)","v":"-"},{"$f":"VLOOKUP(B1628,[2]sheet2!B:L,10,0)","v":"-"},{"$f":"VLOOKUP(B1628,[2]sheet2!B:L,11,0)","v":"-"},"http://183.62.54.51:8841/data/files/certificate/000000000439/1eca2fa40cb74aa08667ef2d650cb3d0/signed/1626_吴凯琪_三等奖_7513.pdf"]
[1627,"P306319090609","复习运用定语从句丰富口头表达方式","高中组","新媒体新技术教学应用课例","三等奖",{"$f":"RIGHT(LEFT(VLOOKUP(B1629,'[1]002'!B:M,3,0),7),3)","v":"佛山市"},{"$f":"VLOOKUP(B1629,'[1]002'!B:M,7,0)","v":"陆珊珊"},"佛山市高明区教师发展中心",{"$f":"VLOOKUP(B1629,'[1]002'!B:M,11,0)","v":"-"},{"$f":"VLOOKUP(B1629,'[1]002'!B:M,12,0)","v":"-"},{"$f":"VLOOKUP(B1629,[2]sheet2!B:L,10,0)","v":"-"},{"$f":"VLOOKUP(B1629,[2]sheet2!B:L,11,0)","v":"-"},"http://183.62.54.51:8841/data/files/certificate/000000000439/a6a727df2d1347d7abc807d8778359c4/signed/1627_陆珊珊_三等奖_7514.pdf"]
[1628,"P306319090614","跨学科视域下英国工业革命启示录","高中组","新媒体新技术教学应用课例","三等奖",{"$f":"RIGHT(LEFT(VLOOKUP(B1630,'[1]002'!B:M,3,0),7),3)","v":"佛山市"},{"$f":"VLOOKUP(B1630,'[1]002'!B:M,7,0)","v":"冼泳聪"},{"$f":"VLOOKUP(B1630,'[1]002'!B:M,8,0)","v":"佛山市南海区罗村高级中学"},{"$f":"VLOOKUP(B1630,'[1]002'!B:M,11,0)","v":"-"},{"$f":"VLOOKUP(B1630,'[1]002'!B:M,12,0)","v":"-"},{"$f":"VLOOKUP(B1630,[2]sheet2!B:L,10,0)","v":"-"},{"$f":"VLOOKUP(B1630,[2]sheet2!B:L,11,0)","v":"-"},"http://183.62.54.51:8841/data/files/certificate/000000000439/0786c373d9084aa49a1aefeb099700f6/signed/1628_冼泳聪_三等奖_7515.pdf"]
[1629,"P306319087897","程序算法初体验","高中组","新媒体新技术教学应用课例","三等奖",{"$f":"RIGHT(LEFT(VLOOKUP(B1631,'[1]002'!B:M,3,0),7),3)","v":"韶关市"},{"$f":"VLOOKUP(B1631,'[1]002'!B:M,7,0)","v":"邱霞"},{"$f":"VLOOKUP(B1631,'[1]002'!B:M,8,0)","v":"韶关市九龄高级中学"},{"$f":"VLOOKUP(B1631,'[1]002'!B:M,11,0)","v":"潘跃云"},{"$f":"VLOOKUP(B1631,'[1]002'!B:M,12,0)","v":"韶关市九龄高级中学"},{"$f":"VLOOKUP(B1631,[2]sheet2!B:L,10,0)","v":"-"},{"$f":"VLOOKUP(B1631,[2]sheet2!B:L,11,0)","v":"-"},"http://183.62.54.51:8841/data/files/certificate/000000000439/0e9d339c3bee48d98566c6edd0a1359e/signed/1629_邱霞、潘跃云_三等奖_7516.pdf"]
[1630,"P306319093400","价格变动的影响","高中组","新媒体新技术教学应用课例","三等奖",{"$f":"RIGHT(LEFT(VLOOKUP(B1632,'[1]002'!B:M,3,0),7),3)","v":"河源市"},{"$f":"VLOOKUP(B1632,'[1]002'!B:M,7,0)","v":"孙燕香"},{"$f":"VLOOKUP(B1632,'[1]002'!B:M,8,0)","v":"河源市田家炳实验中学"},{"$f":"VLOOKUP(B1632,'[1]002'!B:M,11,0)","v":"-"},{"$f":"VLOOKUP(B1632,'[1]002'!B:M,12,0)","v":"-"},{"$f":"VLOOKUP(B1632,[2]sheet2!B:L,10,0)","v":"-"},{"$f":"VLOOKUP(B1632,[2]sheet2!B:L,11,0)","v":"-"},"http://183.62.54.51:8841/data/files/certificate/000000000439/ae84c514b21a4225afd0cac09dbf76da/signed/1630_孙燕香_三等奖_7517.pdf"]
[1631,"P306319092443","Python中for循环结构的应用","高中组","新媒体新技术教学应用课例","三等奖",{"$f":"RIGHT(LEFT(VLOOKUP(B1633,'[1]002'!B:M,3,0),7),3)","v":"东莞市"},{"$f":"VLOOKUP(B1633,'[1]002'!B:M,7,0)","v":"黎清万"},{"$f":"VLOOKUP(B1633,'[1]002'!B:M,8,0)","v":"东莞市第六高级中学"},{"$f":"VLOOKUP(B1633,'[1]002'!B:M,11,0)","v":"-"},{"$f":"VLOOKUP(B1633,'[1]002'!B:M,12,0)","v":"-"},{"$f":"VLOOKUP(B1633,[2]sheet2!B:L,10,0)","v":"-"},{"$f":"VLOOKUP(B1633,[2]sheet2!B:L,11,0)","v":"-"},"http://183.62.54.51:8841/data/files/certificate/000000000439/05791477b8f145508837baafa6237daa/signed/1631_黎清万_三等奖_7518.pdf"]
[1632,"P306319092446","世界那么大我要学python之有趣的程序设计","高中组","新媒体新技术教学应用课例","三等奖",{"$f":"RIGHT(LEFT(VLOOKUP(B1634,'[1]002'!B:M,3,0),7),3)","v":"东莞市"},{"$f":"VLOOKUP(B1634,'[1]002'!B:M,7,0)","v":"颜兰"},{"$f":"VLOOKUP(B1634,'[1]002'!B:M,8,0)","v":"东莞市第六高级中学"},{"$f":"VLOOKUP(B1634,'[1]002'!B:M,11,0)","v":"黎清万"},{"$f":"VLOOKUP(B1634,'[1]002'!B:M,12,0)","v":"东莞市第六高级中学"},{"$f":"VLOOKUP(B1634,[2]sheet2!B:L,10,0)","v":"郑旭淳"},{"$f":"VLOOKUP(B1634,[2]sheet2!B:L,11,0)","v":"东莞市第六高级中学"},"http://183.62.54.51:8841/data/files/certificate/000000000439/dcfb3b4773d748e09115af208e25b927/signed/1632_颜兰、黎清万、郑旭淳_三等奖_7519.pdf"]
[1633,"P306319092445","探秘有趣的程序世界之初识Python语言","高中组","新媒体新技术教学应用课例","三等奖",{"$f":"RIGHT(LEFT(VLOOKUP(B1635,'[1]002'!B:M,3,0),7),3)","v":"东莞市"},{"$f":"VLOOKUP(B1635,'[1]002'!B:M,7,0)","v":"郑旭淳"},{"$f":"VLOOKUP(B1635,'[1]002'!B:M,8,0)","v":"东莞市第六高级中学"},{"$f":"VLOOKUP(B1635,'[1]002'!B:M,11,0)","v":"颜兰"},{"$f":"VLOOKUP(B1635,'[1]002'!B:M,12,0)","v":"东莞市第六高级中学"},{"$f":"VLOOKUP(B1635,[2]sheet2!B:L,10,0)","v":"黎清万"},{"$f":"VLOOKUP(B1635,[2]sheet2!B:L,11,0)","v":"东莞市第六高级中学"},"http://183.62.54.51:8841/data/files/certificate/000000000439/139bfa5580174464b61df73b9ab9e82d/signed/1633_郑旭淳、颜兰、黎清万_三等奖_7520.pdf"]
[1634,"P306319092447","语言表达连贯之语句复位解题技巧","高中组","新媒体新技术教学应用课例","三等奖",{"$f":"RIGHT(LEFT(VLOOKUP(B1636,'[1]002'!B:M,3,0),7),3)","v":"东莞市"},{"$f":"VLOOKUP(B1636,'[1]002'!B:M,7,0)","v":"单文娜"},{"$f":"VLOOKUP(B1636,'[1]002'!B:M,8,0)","v":"东莞市第六高级中学"},{"$f":"VLOOKUP(B1636,'[1]002'!B:M,11,0)","v":"黎清万"},{"$f":"VLOOKUP(B1636,'[1]002'!B:M,12,0)","v":"东莞市第六高级中学"},{"$f":"VLOOKUP(B1636,[2]sheet2!B:L,10,0)","v":"-"},{"$f":"VLOOKUP(B1636,[2]sheet2!B:L,11,0)","v":"-"},"http://183.62.54.51:8841/data/files/certificate/000000000439/8464daadec4f47b491da04547094e345/signed/1634_单文娜、黎清万_三等奖_7521.pdf"]
[1635,"P306319089552","颜体楷书—横与竖的书写运用","高中组","新媒体新技术教学应用课例","三等奖",{"$f":"RIGHT(LEFT(VLOOKUP(B1637,'[1]002'!B:M,3,0),7),3)","v":"中山市"},{"$f":"VLOOKUP(B1637,'[1]002'!B:M,7,0)","v":"刘更聪"},{"$f":"VLOOKUP(B1637,'[1]002'!B:M,8,0)","v":"中山市杨仙逸中学"},{"$f":"VLOOKUP(B1637,'[1]002'!B:M,11,0)","v":"-"},{"$f":"VLOOKUP(B1637,'[1]002'!B:M,12,0)","v":"-"},{"$f":"VLOOKUP(B1637,[2]sheet2!B:L,10,0)","v":"-"},{"$f":"VLOOKUP(B1637,[2]sheet2!B:L,11,0)","v":"-"},"http://183.62.54.51:8841/data/files/certificate/000000000439/349612bb6024469bb7b45cb61042b2be/signed/1635_刘更聪_三等奖_7522.pdf"]
[1636,"P306319088913","「～ている」と「～てある」——补助动词专项讲练","高中组","新媒体新技术教学应用课例","三等奖",{"$f":"RIGHT(LEFT(VLOOKUP(B1638,'[1]002'!B:M,3,0),7),3)","v":"中山市"},{"$f":"VLOOKUP(B1638,'[1]002'!B:M,7,0)","v":"梁可盈"},{"$f":"VLOOKUP(B1638,'[1]002'!B:M,8,0)","v":"中山市东区中学"},{"$f":"VLOOKUP(B1638,'[1]002'!B:M,11,0)","v":"-"},{"$f":"VLOOKUP(B1638,'[1]002'!B:M,12,0)","v":"-"},{"$f":"VLOOKUP(B1638,[2]sheet2!B:L,10,0)","v":"-"},{"$f":"VLOOKUP(B1638,[2]sheet2!B:L,11,0)","v":"-"},"http://183.62.54.51:8841/data/files/certificate/000000000439/9df56bd2a0404c9e96f69eae62d18ce4/signed/1636_梁可盈_三等奖_7523.pdf"]
[1637,"P306319089731","标准日本语第七课翻转课堂之语法运用","高中组","新媒体新技术教学应用课例","三等奖",{"$f":"RIGHT(LEFT(VLOOKUP(B1639,'[1]002'!B:M,3,0),7),3)","v":"中山市"},{"$f":"VLOOKUP(B1639,'[1]002'!B:M,7,0)","v":"孟希桐"},{"$f":"VLOOKUP(B1639,'[1]002'!B:M,8,0)","v":"中山市东区中学"},{"$f":"VLOOKUP(B1639,'[1]002'!B:M,11,0)","v":"-"},{"$f":"VLOOKUP(B1639,'[1]002'!B:M,12,0)","v":"-"},{"$f":"VLOOKUP(B1639,[2]sheet2!B:L,10,0)","v":"-"},{"$f":"VLOOKUP(B1639,[2]sheet2!B:L,11,0)","v":"-"},"http://183.62.54.51:8841/data/files/certificate/000000000439/1c45dc67401144f492749010d5986b93/signed/1637_孟希桐_三等奖_7524.pdf"]
[1638,"P306319088266","合成高分子化合物的基本方法","高中组","新媒体新技术教学应用课例","三等奖",{"$f":"RIGHT(LEFT(VLOOKUP(B1640,'[1]002'!B:M,3,0),7),3)","v":"中山市"},{"$f":"VLOOKUP(B1640,'[1]002'!B:M,7,0)","v":"王晓霞"},{"$f":"VLOOKUP(B1640,'[1]002'!B:M,8,0)","v":"中山市龙山中学"},{"$f":"VLOOKUP(B1640,'[1]002'!B:M,11,0)","v":"-"},{"$f":"VLOOKUP(B1640,'[1]002'!B:M,12,0)","v":"-"},{"$f":"VLOOKUP(B1640,[2]sheet2!B:L,10,0)","v":"-"},{"$f":"VLOOKUP(B1640,[2]sheet2!B:L,11,0)","v":"-"},"http://183.62.54.51:8841/data/files/certificate/000000000439/ec1230b823ac4d429f519f846f24d523/signed/1638_王晓霞_三等奖_7525.pdf"]
[1639,"P306319092092","乙酸","高中组","新媒体新技术教学应用课例","三等奖",{"$f":"RIGHT(LEFT(VLOOKUP(B1641,'[1]002'!B:M,3,0),7),3)","v":"江门市"},{"$f":"VLOOKUP(B1641,'[1]002'!B:M,7,0)","v":"詹素妹"},{"$f":"VLOOKUP(B1641,'[1]002'!B:M,8,0)","v":"江门市新会梁启超纪念中学"},{"$f":"VLOOKUP(B1641,'[1]002'!B:M,11,0)","v":"-"},{"$f":"VLOOKUP(B1641,'[1]002'!B:M,12,0)","v":"-"},{"$f":"VLOOKUP(B1641,[2]sheet2!B:L,10,0)","v":"-"},{"$f":"VLOOKUP(B1641,[2]sheet2!B:L,11,0)","v":"-"},"http://183.62.54.51:8841/data/files/certificate/000000000439/67f4a090e77d496db29ec7a35a335f5a/signed/1639_詹素妹_三等奖_7526.pdf"]
[1640,"P306319093003","基因在染色体上","高中组","新媒体新技术教学应用课例","三等奖",{"$f":"RIGHT(LEFT(VLOOKUP(B1642,'[1]002'!B:M,3,0),7),3)","v":"湛江市"},{"$f":"VLOOKUP(B1642,'[1]002'!B:M,7,0)","v":"王琳"},{"$f":"VLOOKUP(B1642,'[1]002'!B:M,8,0)","v":"湛江市坡头区第一中学"},{"$f":"VLOOKUP(B1642,'[1]002'!B:M,11,0)","v":"-"},{"$f":"VLOOKUP(B1642,'[1]002'!B:M,12,0)","v":"-"},{"$f":"VLOOKUP(B1642,[2]sheet2!B:L,10,0)","v":"-"},{"$f":"VLOOKUP(B1642,[2]sheet2!B:L,11,0)","v":"-"},"http://183.62.54.51:8841/data/files/certificate/000000000439/899246ef542545c48c301014e1673d97/signed/1640_王琳_三等奖_7527.pdf"]
[1641,"P306319093002","恻隐之心仁之端也","高中组","新媒体新技术教学应用课例","三等奖",{"$f":"RIGHT(LEFT(VLOOKUP(B1643,'[1]002'!B:M,3,0),7),3)","v":"湛江市"},{"$f":"VLOOKUP(B1643,'[1]002'!B:M,7,0)","v":"项佳佳"},{"$f":"VLOOKUP(B1643,'[1]002'!B:M,8,0)","v":"岭南师范学院附属中学"},{"$f":"VLOOKUP(B1643,'[1]002'!B:M,11,0)","v":"-"},{"$f":"VLOOKUP(B1643,'[1]002'!B:M,12,0)","v":"-"},{"$f":"VLOOKUP(B1643,[2]sheet2!B:L,10,0)","v":"-"},{"$f":"VLOOKUP(B1643,[2]sheet2!B:L,11,0)","v":"-"},"http://183.62.54.51:8841/data/files/certificate/000000000439/2b5890f88dfc463bb285b0086c06ce42/signed/1641_项佳佳_三等奖_7528.pdf"]
[1642,"P306319091710","学考复习用3DOne找点线面关系以17年学考立几题为例","高中组","新媒体新技术教学应用课例","三等奖",{"$f":"RIGHT(LEFT(VLOOKUP(B1644,'[1]002'!B:M,3,0),7),3)","v":"清远市"},{"$f":"VLOOKUP(B1644,'[1]002'!B:M,7,0)","v":"叶新群"},{"$f":"VLOOKUP(B1644,'[1]002'!B:M,8,0)","v":"清远市源潭中学"},{"$f":"VLOOKUP(B1644,'[1]002'!B:M,11,0)","v":"-"},{"$f":"VLOOKUP(B1644,'[1]002'!B:M,12,0)","v":"-"},{"$f":"VLOOKUP(B1644,[2]sheet2!B:L,10,0)","v":"-"},{"$f":"VLOOKUP(B1644,[2]sheet2!B:L,11,0)","v":"-"},"http://183.62.54.51:8841/data/files/certificate/000000000439/d3f12764c56f423cb781cd5b601aa7b0/signed/1642_叶新群_三等奖_7529.pdf"]
[1643,"P302319092966","希沃5在高中化学化学能与热能课堂中的应用","高中组","教育资源应用案例_项目单位","三等奖","湛江市",{"$f":"VLOOKUP(B1645,'[1]002'!B:M,7,0)","v":"杜晓华"},{"$f":"VLOOKUP(B1645,'[1]002'!B:M,8,0)","v":"岭南师范学院附属中学"},{"$f":"VLOOKUP(B1645,'[1]002'!B:M,11,0)","v":"-"},{"$f":"VLOOKUP(B1645,'[1]002'!B:M,12,0)","v":"-"},{"$f":"VLOOKUP(B1645,[2]sheet2!B:L,10,0)","v":"-"},{"$f":"VLOOKUP(B1645,[2]sheet2!B:L,11,0)","v":"-"},"http://183.62.54.51:8841/data/files/certificate/000000000439/88bd8699f99248d3bbe85763e57201ac/signed/1643_杜晓华_三等奖_7530.pdf"]
[1644,"P302319091706","现在完成时","高中组","教育资源应用案例_项目单位","三等奖","清远市",{"$f":"VLOOKUP(B1646,'[1]002'!B:M,7,0)","v":"吴媚莎"},{"$f":"VLOOKUP(B1646,'[1]002'!B:M,8,0)","v":"清远市源潭中学"},{"$f":"VLOOKUP(B1646,'[1]002'!B:M,11,0)","v":"-"},{"$f":"VLOOKUP(B1646,'[1]002'!B:M,12,0)","v":"-"},{"$f":"VLOOKUP(B1646,[2]sheet2!B:L,10,0)","v":"-"},{"$f":"VLOOKUP(B1646,[2]sheet2!B:L,11,0)","v":"-"},"http://183.62.54.51:8841/data/files/certificate/000000000439/603cfbf459f8459a882a78e6c906c17e/signed/1644_吴媚莎_三等奖_7531.pdf"]
[1645,"P302319089621","新媒体新技术教学应用课例","高中组","教育资源应用案例_项目单位","三等奖","云浮市",{"$f":"VLOOKUP(B1647,'[1]002'!B:M,7,0)","v":"何媚丽"},"广东省罗定中学",{"$f":"VLOOKUP(B1647,'[1]002'!B:M,11,0)","v":"-"},{"$f":"VLOOKUP(B1647,'[1]002'!B:M,12,0)","v":"-"},{"$f":"VLOOKUP(B1647,[2]sheet2!B:L,10,0)","v":"-"},{"$f":"VLOOKUP(B1647,[2]sheet2!B:L,11,0)","v":"-"},"http://183.62.54.51:8841/data/files/certificate/000000000439/75165cbd5d5c44a2aa862ec0331c7459/signed/1645_何媚丽_三等奖_7532.pdf"]
[1646,"P302019093064","大班阅读活动《春茶》","幼教组","课件","一等奖","广州市",{"$f":"VLOOKUP(B1648,'[1]002'!B:M,7,0)","v":"陈燕燕"},{"$f":"VLOOKUP(B1648,'[1]002'!B:M,8,0)","v":"广州市越秀区中六幼儿园"},{"$f":"VLOOKUP(B1648,'[1]002'!B:M,11,0)","v":"-"},{"$f":"VLOOKUP(B1648,'[1]002'!B:M,12,0)","v":"-"},{"$f":"VLOOKUP(B1648,[2]sheet2!B:L,10,0)","v":"-"},{"$f":"VLOOKUP(B1648,[2]sheet2!B:L,11,0)","v":"-"},"http://183.62.54.51:8841/data/files/certificate/000000000439/cad81cf1e6054d1c84af3911154e1093/signed/1646_陈燕燕_一等奖_7533.pdf"]
[1647,"P302019093059","小壁虎借尾巴","幼教组","课件","一等奖","广州市",{"$f":"VLOOKUP(B1649,'[1]002'!B:M,7,0)","v":"许铭峰"},{"$f":"VLOOKUP(B1649,'[1]002'!B:M,8,0)","v":"广州市番禺区北城幼儿园"},{"$f":"VLOOKUP(B1649,'[1]002'!B:M,11,0)","v":"袁宇"},{"$f":"VLOOKUP(B1649,'[1]002'!B:M,12,0)","v":"广州市番禺区北城幼儿园"},{"$f":"VLOOKUP(B1649,[2]sheet2!B:L,10,0)","v":"王莅"},{"$f":"VLOOKUP(B1649,[2]sheet2!B:L,11,0)","v":"广州市番禺区北城幼儿园"},"http://183.62.54.51:8841/data/files/certificate/000000000439/720908516cd94c10bfb12b1086720070/signed/1647_许铭峰、袁宇、王莅_一等奖_7534.pdf"]
[1648,"P302019093061","中班科学活动《奇妙的昆虫世界》","幼教组","课件","一等奖","广州市",{"$f":"VLOOKUP(B1650,'[1]002'!B:M,7,0)","v":"刘曼华"},{"$f":"VLOOKUP(B1650,'[1]002'!B:M,8,0)","v":"广州市越秀区中六幼儿园"},{"$f":"VLOOKUP(B1650,'[1]002'!B:M,11,0)","v":"-"},{"$f":"VLOOKUP(B1650,'[1]002'!B:M,12,0)","v":"-"},{"$f":"VLOOKUP(B1650,[2]sheet2!B:L,10,0)","v":"-"},{"$f":"VLOOKUP(B1650,[2]sheet2!B:L,11,0)","v":"-"},"http://183.62.54.51:8841/data/files/certificate/000000000439/de2201cc6fbd43709f312d70e7ec78c2/signed/1648_刘曼华_一等奖_7535.pdf"]
[1649,"P302019093066","小小消防员","幼教组","课件","一等奖","广州市",{"$f":"VLOOKUP(B1651,'[1]002'!B:M,7,0)","v":"黄成"},{"$f":"VLOOKUP(B1651,'[1]002'!B:M,8,0)","v":"广州市番禺区直属机关幼儿园"},{"$f":"VLOOKUP(B1651,'[1]002'!B:M,11,0)","v":"李子密"},{"$f":"VLOOKUP(B1651,'[1]002'!B:M,12,0)","v":"广州市番禺区直属机关幼儿园"},{"$f":"VLOOKUP(B1651,[2]sheet2!B:L,10,0)","v":"黄舒虹"},{"$f":"VLOOKUP(B1651,[2]sheet2!B:L,11,0)","v":"广州市番禺区直属机关幼儿园"},"http://183.62.54.51:8841/data/files/certificate/000000000439/1da313e36cbf4b07acee170f421a3100/signed/1649_黄成、李子密、黄舒虹_一等奖_7536.pdf"]
[1650,"P302019093060","中班社会活动《我会保护自己》","幼教组","课件","一等奖","广州市",{"$f":"VLOOKUP(B1652,'[1]002'!B:M,7,0)","v":"邱美凤"},{"$f":"VLOOKUP(B1652,'[1]002'!B:M,8,0)","v":"广州市越秀区中六幼儿园"},{"$f":"VLOOKUP(B1652,'[1]002'!B:M,11,0)","v":"-"},{"$f":"VLOOKUP(B1652,'[1]002'!B:M,12,0)","v":"-"},{"$f":"VLOOKUP(B1652,[2]sheet2!B:L,10,0)","v":"-"},{"$f":"VLOOKUP(B1652,[2]sheet2!B:L,11,0)","v":"-"},"http://183.62.54.51:8841/data/files/certificate/000000000439/50de3328648d480992b9b336b723a5d7/signed/1650_邱美凤_一等奖_7537.pdf"]
[1651,"P302019093068","爱音乐的马可","幼教组","课件","一等奖","广州市",{"$f":"VLOOKUP(B1653,'[1]002'!B:M,7,0)","v":"梁瀚彦"},{"$f":"VLOOKUP(B1653,'[1]002'!B:M,8,0)","v":"广州市番禺区直属机关幼儿园"},{"$f":"VLOOKUP(B1653,'[1]002'!B:M,11,0)","v":"韩晓志"},{"$f":"VLOOKUP(B1653,'[1]002'!B:M,12,0)","v":"广州市番禺区直属机关幼儿园"},{"$f":"VLOOKUP(B1653,[2]sheet2!B:L,10,0)","v":"-"},{"$f":"VLOOKUP(B1653,[2]sheet2!B:L,11,0)","v":"-"},"http://183.62.54.51:8841/data/files/certificate/000000000439/2bb130e15e1d42fa89121dcc0e06f852/signed/1651_梁瀚彦、韩晓志_一等奖_7538.pdf"]
[1652,"P302019093063","耵聍的旅行","幼教组","课件","一等奖","广州市",{"$f":"VLOOKUP(B1654,'[1]002'!B:M,7,0)","v":"刘小圆"},{"$f":"VLOOKUP(B1654,'[1]002'!B:M,8,0)","v":"广州市荔湾区协和幼儿园"},{"$f":"VLOOKUP(B1654,'[1]002'!B:M,11,0)","v":"卢燕坤"},{"$f":"VLOOKUP(B1654,'[1]002'!B:M,12,0)","v":"广州市荔湾区协和幼儿园"},{"$f":"VLOOKUP(B1654,[2]sheet2!B:L,10,0)","v":"-"},{"$f":"VLOOKUP(B1654,[2]sheet2!B:L,11,0)","v":"-"},"http://183.62.54.51:8841/data/files/certificate/000000000439/04f705860d524bf891cbf55e05ce4bbf/signed/1652_刘小圆、卢燕坤_一等奖_7539.pdf"]
[1653,"P302019093067","小猪变形记","幼教组","课件","一等奖","广州市",{"$f":"VLOOKUP(B1655,'[1]002'!B:M,7,0)","v":"彭贵冰"},{"$f":"VLOOKUP(B1655,'[1]002'!B:M,8,0)","v":"广州市番禺区直属机关幼儿园"},{"$f":"VLOOKUP(B1655,'[1]002'!B:M,11,0)","v":"-"},{"$f":"VLOOKUP(B1655,'[1]002'!B:M,12,0)","v":"-"},{"$f":"VLOOKUP(B1655,[2]sheet2!B:L,10,0)","v":"-"},{"$f":"VLOOKUP(B1655,[2]sheet2!B:L,11,0)","v":"-"},"http://183.62.54.51:8841/data/files/certificate/000000000439/0dd9afcaeee04437bae02c628eb0678f/signed/1653_彭贵冰_一等奖_7540.pdf"]
[1654,"P302019093058","我喜爱的海洋动物","幼教组","课件","一等奖","广州市",{"$f":"VLOOKUP(B1656,'[1]002'!B:M,7,0)","v":"钟漫华"},{"$f":"VLOOKUP(B1656,'[1]002'!B:M,8,0)","v":"广州市番禺区东城幼儿园"},{"$f":"VLOOKUP(B1656,'[1]002'!B:M,11,0)","v":"曾文佳"},{"$f":"VLOOKUP(B1656,'[1]002'!B:M,12,0)","v":"广州市番禺区东城幼儿园"},{"$f":"VLOOKUP(B1656,[2]sheet2!B:L,10,0)","v":"祝婷婷"},{"$f":"VLOOKUP(B1656,[2]sheet2!B:L,11,0)","v":"广州市番禺区东城幼儿园"},"http://183.62.54.51:8841/data/files/certificate/000000000439/fe4c484e80ab4fb9ade0fe217c2eb181/signed/1654_钟漫华、曾文佳、祝婷婷_一等奖_7541.pdf"]
[1655,"P302019091469","老虎的汽车公司","幼教组","课件","一等奖","佛山市",{"$f":"VLOOKUP(B1657,'[1]002'!B:M,7,0)","v":"翁敏仪"},{"$f":"VLOOKUP(B1657,'[1]002'!B:M,8,0)","v":"佛山市南海区狮山松岗中心幼儿园"},{"$f":"VLOOKUP(B1657,'[1]002'!B:M,11,0)","v":"李诗媛"},{"$f":"VLOOKUP(B1657,'[1]002'!B:M,12,0)","v":"佛山市南海区狮山松岗中心幼儿园"},{"$f":"VLOOKUP(B1657,[2]sheet2!B:L,10,0)","v":"罗璇"},{"$f":"VLOOKUP(B1657,[2]sheet2!B:L,11,0)","v":"佛山市南海区狮山松岗中心幼儿园"},"http://183.62.54.51:8841/data/files/certificate/000000000439/20a6da6a7d084ddca7144c8047c03910/signed/1655_翁敏仪、李诗媛、罗璇_一等奖_7542.pdf"]
[1656,"P302019091496","垃圾分类soeasy","幼教组","课件","一等奖","佛山市",{"$f":"VLOOKUP(B1658,'[1]002'!B:M,7,0)","v":"邓妍芳"},{"$f":"VLOOKUP(B1658,'[1]002'!B:M,8,0)","v":"佛山市三水区中心幼儿园"},{"$f":"VLOOKUP(B1658,'[1]002'!B:M,11,0)","v":"蔡晓吟"},{"$f":"VLOOKUP(B1658,'[1]002'!B:M,12,0)","v":"佛山市三水区中心幼儿园"},{"$f":"VLOOKUP(B1658,[2]sheet2!B:L,10,0)","v":"-"},{"$f":"VLOOKUP(B1658,[2]sheet2!B:L,11,0)","v":"-"},"http://183.62.54.51:8841/data/files/certificate/000000000439/998cd2f58ee24521ad19755d891846e5/signed/1656_邓妍芳、蔡晓吟_一等奖_7543.pdf"]
[1657,"P303019093079","神奇的画笔","幼教组","微课","一等奖","广州市",{"$f":"VLOOKUP(B1659,'[1]002'!B:M,7,0)","v":"罗嘉仪"},{"$f":"VLOOKUP(B1659,'[1]002'!B:M,8,0)","v":"广州市天河区新陶幼儿园"},{"$f":"VLOOKUP(B1659,'[1]002'!B:M,11,0)","v":"陈佩叶"},{"$f":"VLOOKUP(B1659,'[1]002'!B:M,12,0)","v":"广州市天河区新陶幼儿园"},{"$f":"VLOOKUP(B1659,[2]sheet2!B:L,10,0)","v":"-"},{"$f":"VLOOKUP(B1659,[2]sheet2!B:L,11,0)","v":"-"},"http://183.62.54.51:8841/data/files/certificate/000000000439/97042a70830048b68481c8bf0ad7eded/signed/1657_罗嘉仪、陈佩叶_一等奖_7544.pdf"]
[1658,"P303019093070","小松鼠的大尾巴","幼教组","微课","一等奖","广州市",{"$f":"VLOOKUP(B1660,'[1]002'!B:M,7,0)","v":"赵丽萍"},{"$f":"VLOOKUP(B1660,'[1]002'!B:M,8,0)","v":"广州市番禺区东城幼儿园"},{"$f":"VLOOKUP(B1660,'[1]002'!B:M,11,0)","v":"郑晓丹"},{"$f":"VLOOKUP(B1660,'[1]002'!B:M,12,0)","v":"广州市番禺区东城幼儿园"},{"$f":"VLOOKUP(B1660,[2]sheet2!B:L,10,0)","v":"褚晓琳"},{"$f":"VLOOKUP(B1660,[2]sheet2!B:L,11,0)","v":"广州市番禺区东城幼儿园"},"http://183.62.54.51:8841/data/files/certificate/000000000439/dafd6820ba974591a4ce83d3a1cdd1b4/signed/1658_赵丽萍、郑晓丹、褚晓琳_一等奖_7545.pdf"]
[1659,"P303019093071","大班科学活动彩色的影子","幼教组","微课","一等奖","广州市",{"$f":"VLOOKUP(B1661,'[1]002'!B:M,7,0)","v":"马学琴"},{"$f":"VLOOKUP(B1661,'[1]002'!B:M,8,0)","v":"广州市越秀区东山教工幼儿园"},{"$f":"VLOOKUP(B1661,'[1]002'!B:M,11,0)","v":"-"},{"$f":"VLOOKUP(B1661,'[1]002'!B:M,12,0)","v":"-"},{"$f":"VLOOKUP(B1661,[2]sheet2!B:L,10,0)","v":"-"},{"$f":"VLOOKUP(B1661,[2]sheet2!B:L,11,0)","v":"-"},"http://183.62.54.51:8841/data/files/certificate/000000000439/978c1d4d53c242999379fdcb3aaa8875/signed/1659_马学琴_一等奖_7546.pdf"]
[1660,"P303019093074","撕纸添画","幼教组","微课","一等奖","广州市",{"$f":"VLOOKUP(B1662,'[1]002'!B:M,7,0)","v":"吴依"},{"$f":"VLOOKUP(B1662,'[1]002'!B:M,8,0)","v":"广州市天河区清荷幼儿园"},{"$f":"VLOOKUP(B1662,'[1]002'!B:M,11,0)","v":"蔡晓君"},{"$f":"VLOOKUP(B1662,'[1]002'!B:M,12,0)","v":"广州市天河区清荷幼儿园"},{"$f":"VLOOKUP(B1662,[2]sheet2!B:L,10,0)","v":"-"},{"$f":"VLOOKUP(B1662,[2]sheet2!B:L,11,0)","v":"-"},"http://183.62.54.51:8841/data/files/certificate/000000000439/7a362c88118d4900abf646c3911a03de/signed/1660_吴依、蔡晓君_一等奖_7547.pdf"]
[1661,"P303019091870","王大爷的蔬果店","幼教组","微课","一等奖","汕头市",{"$f":"VLOOKUP(B1663,'[1]002'!B:M,7,0)","v":"柯璇珠"},{"$f":"VLOOKUP(B1663,'[1]002'!B:M,8,0)","v":"汕头市中山幼儿园"},{"$f":"VLOOKUP(B1663,'[1]002'!B:M,11,0)","v":"-"},{"$f":"VLOOKUP(B1663,'[1]002'!B:M,12,0)","v":"-"},{"$f":"VLOOKUP(B1663,[2]sheet2!B:L,10,0)","v":"-"},{"$f":"VLOOKUP(B1663,[2]sheet2!B:L,11,0)","v":"-"},"http://183.62.54.51:8841/data/files/certificate/000000000439/961490d65f554dc39ef6fe41704deffe/signed/1661_柯璇珠_一等奖_7548.pdf"]
[1662,"P303019091860","能干的手","幼教组","微课","一等奖","汕头市",{"$f":"VLOOKUP(B1664,'[1]002'!B:M,7,0)","v":"翁素兰"},{"$f":"VLOOKUP(B1664,'[1]002'!B:M,8,0)","v":"汕头市中山第二幼儿园"},{"$f":"VLOOKUP(B1664,'[1]002'!B:M,11,0)","v":"-"},{"$f":"VLOOKUP(B1664,'[1]002'!B:M,12,0)","v":"-"},{"$f":"VLOOKUP(B1664,[2]sheet2!B:L,10,0)","v":"-"},{"$f":"VLOOKUP(B1664,[2]sheet2!B:L,11,0)","v":"-"},"http://183.62.54.51:8841/data/files/certificate/000000000439/a2f492fc1f314ef19eaeeb9693a63d8a/signed/1662_翁素兰_一等奖_7549.pdf"]
[1663,"P303019091096","好玩的磁泥","幼教组","微课","一等奖","佛山市",{"$f":"VLOOKUP(B1665,'[1]002'!B:M,7,0)","v":"邵掌霞"},{"$f":"VLOOKUP(B1665,'[1]002'!B:M,8,0)","v":"佛山市南海区丹灶中心幼儿园"},{"$f":"VLOOKUP(B1665,'[1]002'!B:M,11,0)","v":"邓绮霞"},{"$f":"VLOOKUP(B1665,'[1]002'!B:M,12,0)","v":"佛山市南海区丹灶中心幼儿园"},{"$f":"VLOOKUP(B1665,[2]sheet2!B:L,10,0)","v":"罗敏玲"},{"$f":"VLOOKUP(B1665,[2]sheet2!B:L,11,0)","v":"佛山市南海区丹灶中心幼儿园"},"http://183.62.54.51:8841/data/files/certificate/000000000439/1fba68f6108448889c2aca8c4a2f69bc/signed/1663_邵掌霞、邓绮霞、罗敏玲_一等奖_7550.pdf"]
[1664,"P303019091085","小班科学小海绵本领大","幼教组","微课","一等奖","佛山市",{"$f":"VLOOKUP(B1666,'[1]002'!B:M,7,0)","v":"何敏芬"},{"$f":"VLOOKUP(B1666,'[1]002'!B:M,8,0)","v":"佛山市高明区机关幼儿园"},{"$f":"VLOOKUP(B1666,'[1]002'!B:M,11,0)","v":"黄剑雯"},{"$f":"VLOOKUP(B1666,'[1]002'!B:M,12,0)","v":"佛山市高明区机关幼儿园"},{"$f":"VLOOKUP(B1666,[2]sheet2!B:L,10,0)","v":"-"},{"$f":"VLOOKUP(B1666,[2]sheet2!B:L,11,0)","v":"-"},"http://183.62.54.51:8841/data/files/certificate/000000000439/230cf1b920b74fd095cd8003f213d86f/signed/1664_何敏芬、黄剑雯_一等奖_7551.pdf"]
[1665,"P303019091099","WOW磁悬浮","幼教组","微课","一等奖","佛山市",{"$f":"VLOOKUP(B1667,'[1]002'!B:M,7,0)","v":"何玉琴"},{"$f":"VLOOKUP(B1667,'[1]002'!B:M,8,0)","v":"佛山市南海区西樵镇中心幼儿园"},{"$f":"VLOOKUP(B1667,'[1]002'!B:M,11,0)","v":"陈月枝"},{"$f":"VLOOKUP(B1667,'[1]002'!B:M,12,0)","v":"佛山市南海区西樵镇中心幼儿园"},{"$f":"VLOOKUP(B1667,[2]sheet2!B:L,10,0)","v":"黄静"},{"$f":"VLOOKUP(B1667,[2]sheet2!B:L,11,0)","v":"佛山市南海区西樵镇中心幼儿园"},"http://183.62.54.51:8841/data/files/certificate/000000000439/16b8f37ceb1d486080d1e9131ca749df/signed/1665_何玉琴、陈月枝、黄静_一等奖_7552.pdf"]
[1666,"P303019091098","比一比谁快","幼教组","微课","一等奖","佛山市",{"$f":"VLOOKUP(B1668,'[1]002'!B:M,7,0)","v":"黄丽霞"},{"$f":"VLOOKUP(B1668,'[1]002'!B:M,8,0)","v":"佛山市南海区狮山松岗中心幼儿园"},{"$f":"VLOOKUP(B1668,'[1]002'!B:M,11,0)","v":"朱颖芬"},{"$f":"VLOOKUP(B1668,'[1]002'!B:M,12,0)","v":"佛山市南海区狮山松岗中心幼儿园"},{"$f":"VLOOKUP(B1668,[2]sheet2!B:L,10,0)","v":"吴晓霞"},{"$f":"VLOOKUP(B1668,[2]sheet2!B:L,11,0)","v":"佛山市南海区狮山松岗中心幼儿园"},"http://183.62.54.51:8841/data/files/certificate/000000000439/8da39f4f6aea494091ef947fb4a13b08/signed/1666_黄丽霞、朱颖芬、吴晓霞_一等奖_7553.pdf"]
[1667,"P303019091100","神奇的指纹","幼教组","微课","一等奖","佛山市",{"$f":"VLOOKUP(B1669,'[1]002'!B:M,7,0)","v":"何淑萍"},{"$f":"VLOOKUP(B1669,'[1]002'!B:M,8,0)","v":"佛山市南海区丹灶中心幼儿园"},{"$f":"VLOOKUP(B1669,'[1]002'!B:M,11,0)","v":"罗敏玲"},{"$f":"VLOOKUP(B1669,'[1]002'!B:M,12,0)","v":"佛山市南海区丹灶中心幼儿园"},{"$f":"VLOOKUP(B1669,[2]sheet2!B:L,10,0)","v":"刘杰豪"},{"$f":"VLOOKUP(B1669,[2]sheet2!B:L,11,0)","v":"佛山市南海区丹灶中心幼儿园"},"http://183.62.54.51:8841/data/files/certificate/000000000439/a2cd3b57175f4dd3b39d4a8d59e7acc1/signed/1667_何淑萍、罗敏玲、刘杰豪_一等奖_7554.pdf"]
[1668,"P303019091097","声音从哪儿来","幼教组","微课","一等奖","佛山市",{"$f":"VLOOKUP(B1670,'[1]002'!B:M,7,0)","v":"麦雪仪"},{"$f":"VLOOKUP(B1670,'[1]002'!B:M,8,0)","v":"佛山市南海区桂城平洲中心幼儿园"},{"$f":"VLOOKUP(B1670,'[1]002'!B:M,11,0)","v":"邓嘉敏"},{"$f":"VLOOKUP(B1670,'[1]002'!B:M,12,0)","v":"佛山市南海区桂城平洲中心幼儿园"},{"$f":"VLOOKUP(B1670,[2]sheet2!B:L,10,0)","v":"冯小玲"},{"$f":"VLOOKUP(B1670,[2]sheet2!B:L,11,0)","v":"佛山市南海区桂城平洲中心幼儿园"},"http://183.62.54.51:8841/data/files/certificate/000000000439/fdfd26be72da4194a27c1333121f0393/signed/1668_麦雪仪、邓嘉敏、冯小玲_一等奖_7555.pdf"]
[1669,"P303019091110","小鳄鱼","幼教组","微课","一等奖","佛山市",{"$f":"VLOOKUP(B1671,'[1]002'!B:M,7,0)","v":"梁绮丽"},{"$f":"VLOOKUP(B1671,'[1]002'!B:M,8,0)","v":"禅城区明珠幼儿园"},{"$f":"VLOOKUP(B1671,'[1]002'!B:M,11,0)","v":"张巧明"},{"$f":"VLOOKUP(B1671,'[1]002'!B:M,12,0)","v":"禅城区明珠幼儿园"},{"$f":"VLOOKUP(B1671,[2]sheet2!B:L,10,0)","v":"梁淑贞"},{"$f":"VLOOKUP(B1671,[2]sheet2!B:L,11,0)","v":"禅城区明珠幼儿园"},"http://183.62.54.51:8841/data/files/certificate/000000000439/659d6d7286cf4f039808466e6523f2f1/signed/1669_梁绮丽、张巧明、梁淑贞_一等奖_7556.pdf"]
[1670,"P303019092553","蒙德里安的色彩","幼教组","微课","一等奖","东莞市",{"$f":"VLOOKUP(B1672,'[1]002'!B:M,7,0)","v":"肖子娥"},{"$f":"VLOOKUP(B1672,'[1]002'!B:M,8,0)","v":"东莞市虎门镇中心幼儿园"},{"$f":"VLOOKUP(B1672,'[1]002'!B:M,11,0)","v":"-"},{"$f":"VLOOKUP(B1672,'[1]002'!B:M,12,0)","v":"-"},{"$f":"VLOOKUP(B1672,[2]sheet2!B:L,10,0)","v":"-"},{"$f":"VLOOKUP(B1672,[2]sheet2!B:L,11,0)","v":"-"},"http://183.62.54.51:8841/data/files/certificate/000000000439/b3bce71717a84282bcadc90454ef3f8d/signed/1670_肖子娥_一等奖_7557.pdf"]
[1671,"P303019091156","幼儿园大班美术活动 橙子变变变","幼教组","微课","一等奖","肇庆市",{"$f":"VLOOKUP(B1673,'[1]002'!B:M,7,0)","v":"陈肇芳"},{"$f":"VLOOKUP(B1673,'[1]002'!B:M,8,0)","v":"肇庆市直属机关第二幼儿园"},{"$f":"VLOOKUP(B1673,'[1]002'!B:M,11,0)","v":"盘伟洁"},{"$f":"VLOOKUP(B1673,'[1]002'!B:M,12,0)","v":"肇庆市直属机关第二幼儿园"},{"$f":"VLOOKUP(B1673,[2]sheet2!B:L,10,0)","v":"-"},{"$f":"VLOOKUP(B1673,[2]sheet2!B:L,11,0)","v":"-"},"http://183.62.54.51:8841/data/files/certificate/000000000439/d2fa8b37159b41fe85d461527a8c1d20/signed/1671_陈肇芳、盘伟洁_一等奖_7558.pdf"]
[1672,"P304019091504","特别的我","幼教组","新媒体新技术教学应用课例","一等奖",{"$f":"RIGHT(LEFT(VLOOKUP(B1674,'[1]002'!B:M,3,0),7),3)","v":"佛山市"},{"$f":"VLOOKUP(B1674,'[1]002'!B:M,7,0)","v":"陆丽媚"},{"$f":"VLOOKUP(B1674,'[1]002'!B:M,8,0)","v":"佛山市南海区丹灶中心幼儿园"},{"$f":"VLOOKUP(B1674,'[1]002'!B:M,11,0)","v":"罗敏玲"},{"$f":"VLOOKUP(B1674,'[1]002'!B:M,12,0)","v":"佛山市南海区丹灶中心幼儿园"},{"$f":"VLOOKUP(B1674,[2]sheet2!B:L,10,0)","v":"黄雅晴"},{"$f":"VLOOKUP(B1674,[2]sheet2!B:L,11,0)","v":"佛山市南海区丹灶中心幼儿园"},"http://183.62.54.51:8841/data/files/certificate/000000000439/509036d38a7f43e8a3971d7dd95324bc/signed/1672_陆丽媚、罗敏玲、黄雅晴_一等奖_7559.pdf"]
[1673,"P304019091519","垃圾分类我能行","幼教组","新媒体新技术教学应用课例","一等奖",{"$f":"RIGHT(LEFT(VLOOKUP(B1675,'[1]002'!B:M,3,0),7),3)","v":"佛山市"},{"$f":"VLOOKUP(B1675,'[1]002'!B:M,7,0)","v":"蔡晓吟"},{"$f":"VLOOKUP(B1675,'[1]002'!B:M,8,0)","v":"佛山市三水区中心幼儿园"},{"$f":"VLOOKUP(B1675,'[1]002'!B:M,11,0)","v":"邓妍芳"},{"$f":"VLOOKUP(B1675,'[1]002'!B:M,12,0)","v":"佛山市三水区中心幼儿园"},{"$f":"VLOOKUP(B1675,[2]sheet2!B:L,10,0)","v":"-"},{"$f":"VLOOKUP(B1675,[2]sheet2!B:L,11,0)","v":"-"},"http://183.62.54.51:8841/data/files/certificate/000000000439/660c705d225546789e098d9718f2cab7/signed/1673_蔡晓吟、邓妍芳_一等奖_7560.pdf"]
[1674,"P302019091477","有趣的尾巴","幼教组","课件","二等奖","佛山市",{"$f":"VLOOKUP(B1676,'[1]002'!B:M,7,0)","v":"王桂群"},{"$f":"VLOOKUP(B1676,'[1]002'!B:M,8,0)","v":"佛山市南海区桂城平洲中心幼儿园"},{"$f":"VLOOKUP(B1676,'[1]002'!B:M,11,0)","v":"黎绮华"},{"$f":"VLOOKUP(B1676,'[1]002'!B:M,12,0)","v":"佛山市南海区桂城平洲中心幼儿园"},{"$f":"VLOOKUP(B1676,[2]sheet2!B:L,10,0)","v":"罗秋芳"},{"$f":"VLOOKUP(B1676,[2]sheet2!B:L,11,0)","v":"佛山市南海区桂城平洲中心幼儿园"},"http://183.62.54.51:8841/data/files/certificate/000000000439/f9f3bbe034974e09bcb6fe168d4394a3/signed/1674_王桂群、黎绮华、罗秋芳_二等奖_7561.pdf"]
[1675,"P302019091465","小班语言最大的动物","幼教组","课件","二等奖","佛山市",{"$f":"VLOOKUP(B1677,'[1]002'!B:M,7,0)","v":"何敏芬"},{"$f":"VLOOKUP(B1677,'[1]002'!B:M,8,0)","v":"佛山市高明区机关幼儿园"},{"$f":"VLOOKUP(B1677,'[1]002'!B:M,11,0)","v":"-"},{"$f":"VLOOKUP(B1677,'[1]002'!B:M,12,0)","v":"-"},{"$f":"VLOOKUP(B1677,[2]sheet2!B:L,10,0)","v":"-"},{"$f":"VLOOKUP(B1677,[2]sheet2!B:L,11,0)","v":"-"},"http://183.62.54.51:8841/data/files/certificate/000000000439/adc2082f0d6b48dc93562dd306c065dc/signed/1675_何敏芬_二等奖_7562.pdf"]
[1676,"P302019091478","认识日历","幼教组","课件","二等奖","佛山市",{"$f":"VLOOKUP(B1678,'[1]002'!B:M,7,0)","v":"谭国妹"},{"$f":"VLOOKUP(B1678,'[1]002'!B:M,8,0)","v":"佛山市南海区丹灶中心幼儿园"},{"$f":"VLOOKUP(B1678,'[1]002'!B:M,11,0)","v":"-"},{"$f":"VLOOKUP(B1678,'[1]002'!B:M,12,0)","v":"-"},{"$f":"VLOOKUP(B1678,[2]sheet2!B:L,10,0)","v":"-"},{"$f":"VLOOKUP(B1678,[2]sheet2!B:L,11,0)","v":"-"},"http://183.62.54.51:8841/data/files/certificate/000000000439/0b0e30bdf08842e2a8a6d99e870f5a7a/signed/1676_谭国妹_二等奖_7563.pdf"]
[1677,"P302019091479","水果切切切","幼教组","课件","二等奖","佛山市",{"$f":"VLOOKUP(B1679,'[1]002'!B:M,7,0)","v":"张琴"},{"$f":"VLOOKUP(B1679,'[1]002'!B:M,8,0)","v":"佛山市南海区丹灶中心幼儿园"},{"$f":"VLOOKUP(B1679,'[1]002'!B:M,11,0)","v":"潘俊玲"},{"$f":"VLOOKUP(B1679,'[1]002'!B:M,12,0)","v":"佛山市南海区丹灶中心幼儿园"},{"$f":"VLOOKUP(B1679,[2]sheet2!B:L,10,0)","v":"-"},{"$f":"VLOOKUP(B1679,[2]sheet2!B:L,11,0)","v":"-"},"http://183.62.54.51:8841/data/files/certificate/000000000439/35f4add3cd0a4bb3b9a200fc42196a03/signed/1677_张琴、潘俊玲_二等奖_7564.pdf"]
[1678,"P302019091495","防拐安全教育","幼教组","课件","二等奖","佛山市",{"$f":"VLOOKUP(B1680,'[1]002'!B:M,7,0)","v":"刘聪兰"},{"$f":"VLOOKUP(B1680,'[1]002'!B:M,8,0)","v":"佛山市三水区中心幼儿园"},{"$f":"VLOOKUP(B1680,'[1]002'!B:M,11,0)","v":"华建茜"},{"$f":"VLOOKUP(B1680,'[1]002'!B:M,12,0)","v":"佛山市三水区中心幼儿园"},{"$f":"VLOOKUP(B1680,[2]sheet2!B:L,10,0)","v":"-"},{"$f":"VLOOKUP(B1680,[2]sheet2!B:L,11,0)","v":"-"},"http://183.62.54.51:8841/data/files/certificate/000000000439/29e47b40932445a59c854fef1743e663/signed/1678_刘聪兰、华建茜_二等奖_7565.pdf"]
[1679,"P302019091474","爱","幼教组","课件","二等奖","佛山市",{"$f":"VLOOKUP(B1681,'[1]002'!B:M,7,0)","v":"李佩仪"},{"$f":"VLOOKUP(B1681,'[1]002'!B:M,8,0)","v":"佛山市南海区狮山松岗中心幼儿园"},{"$f":"VLOOKUP(B1681,'[1]002'!B:M,11,0)","v":"郑静"},{"$f":"VLOOKUP(B1681,'[1]002'!B:M,12,0)","v":"佛山市南海区狮山松岗中心幼儿园"},{"$f":"VLOOKUP(B1681,[2]sheet2!B:L,10,0)","v":"陈咏仪"},{"$f":"VLOOKUP(B1681,[2]sheet2!B:L,11,0)","v":"佛山市南海区狮山松岗中心幼儿园"},"http://183.62.54.51:8841/data/files/certificate/000000000439/4683a055d7b444f8992ebf2ddb519671/signed/1679_李佩仪、郑静、陈咏仪_二等奖_7566.pdf"]
[1680,"P302019088193","营养","幼教组","课件","二等奖","韶关市",{"$f":"VLOOKUP(B1682,'[1]002'!B:M,7,0)","v":"陈亮"},{"$f":"VLOOKUP(B1682,'[1]002'!B:M,8,0)","v":"韶关市浈江区花坪镇中心幼儿园"},{"$f":"VLOOKUP(B1682,'[1]002'!B:M,11,0)","v":"-"},{"$f":"VLOOKUP(B1682,'[1]002'!B:M,12,0)","v":"-"},{"$f":"VLOOKUP(B1682,[2]sheet2!B:L,10,0)","v":"-"},{"$f":"VLOOKUP(B1682,[2]sheet2!B:L,11,0)","v":"-"},"http://183.62.54.51:8841/data/files/certificate/000000000439/228108d2f208461496bc743e35ab6f35/signed/1680_陈亮_二等奖_7567.pdf"]
[1681,"P302019088163","求救电话","幼教组","课件","二等奖","韶关市",{"$f":"VLOOKUP(B1683,'[1]002'!B:M,7,0)","v":"陈亮"},{"$f":"VLOOKUP(B1683,'[1]002'!B:M,8,0)","v":"韶关市浈江区花坪镇中心幼儿园"},{"$f":"VLOOKUP(B1683,'[1]002'!B:M,11,0)","v":"-"},{"$f":"VLOOKUP(B1683,'[1]002'!B:M,12,0)","v":"-"},{"$f":"VLOOKUP(B1683,[2]sheet2!B:L,10,0)","v":"-"},{"$f":"VLOOKUP(B1683,[2]sheet2!B:L,11,0)","v":"-"},"http://183.62.54.51:8841/data/files/certificate/000000000439/7eb7c6c54b7a417b8587e2b6515d4259/signed/1681_陈亮_二等奖_7568.pdf"]
[1682,"P302019088969","夏天里的小动物","幼教组","课件","二等奖","韶关市",{"$f":"VLOOKUP(B1684,'[1]002'!B:M,7,0)","v":"张廷东"},{"$f":"VLOOKUP(B1684,'[1]002'!B:M,8,0)","v":"新丰县第四幼儿园"},{"$f":"VLOOKUP(B1684,'[1]002'!B:M,11,0)","v":"-"},{"$f":"VLOOKUP(B1684,'[1]002'!B:M,12,0)","v":"-"},{"$f":"VLOOKUP(B1684,[2]sheet2!B:L,10,0)","v":"-"},{"$f":"VLOOKUP(B1684,[2]sheet2!B:L,11,0)","v":"-"},"http://183.62.54.51:8841/data/files/certificate/000000000439/13a6c1ed22bc4deb8abc2b9606828427/signed/1682_张廷东_二等奖_7569.pdf"]
[1683,"P302019088952","树","幼教组","课件","二等奖","韶关市",{"$f":"VLOOKUP(B1685,'[1]002'!B:M,7,0)","v":"龙双凤"},{"$f":"VLOOKUP(B1685,'[1]002'!B:M,8,0)","v":"新丰县第四幼儿园"},{"$f":"VLOOKUP(B1685,'[1]002'!B:M,11,0)","v":"潘新洁"},{"$f":"VLOOKUP(B1685,'[1]002'!B:M,12,0)","v":"新丰县第四幼儿园"},{"$f":"VLOOKUP(B1685,[2]sheet2!B:L,10,0)","v":"陈晓倩"},{"$f":"VLOOKUP(B1685,[2]sheet2!B:L,11,0)","v":"新丰县第四幼儿园"},"http://183.62.54.51:8841/data/files/certificate/000000000439/e388a78684dd4d61be96bf39552b5d7f/signed/1683_龙双凤、潘新洁、陈晓倩_二等奖_7570.pdf"]
[1684,"P302019092457","天气安全知识我知道","幼教组","课件","二等奖","东莞市",{"$f":"VLOOKUP(B1686,'[1]002'!B:M,7,0)","v":"黄玩玲"},{"$f":"VLOOKUP(B1686,'[1]002'!B:M,8,0)","v":"东莞市大岭山镇实验幼儿园"},{"$f":"VLOOKUP(B1686,'[1]002'!B:M,11,0)","v":"-"},{"$f":"VLOOKUP(B1686,'[1]002'!B:M,12,0)","v":"-"},{"$f":"VLOOKUP(B1686,[2]sheet2!B:L,10,0)","v":"-"},{"$f":"VLOOKUP(B1686,[2]sheet2!B:L,11,0)","v":"-"},"http://183.62.54.51:8841/data/files/certificate/000000000439/51b41a5321ec4869a9efbf424c237b98/signed/1684_黄玩玲_二等奖_7571.pdf"]
[1685,"P302019092451","地震来了","幼教组","课件","二等奖","东莞市",{"$f":"VLOOKUP(B1687,'[1]002'!B:M,7,0)","v":"陈银慧"},{"$f":"VLOOKUP(B1687,'[1]002'!B:M,8,0)","v":"东莞市南城中心幼儿园"},{"$f":"VLOOKUP(B1687,'[1]002'!B:M,11,0)","v":"张楚玉"},{"$f":"VLOOKUP(B1687,'[1]002'!B:M,12,0)","v":"东莞市南城中心幼儿园"},{"$f":"VLOOKUP(B1687,[2]sheet2!B:L,10,0)","v":"-"},{"$f":"VLOOKUP(B1687,[2]sheet2!B:L,11,0)","v":"-"},"http://183.62.54.51:8841/data/files/certificate/000000000439/949b631008244fa8a50c9d2f2628f236/signed/1685_陈银慧、张楚玉_二等奖_7572.pdf"]
[1686,"P302019092449","中班数学神奇的数守恒","幼教组","课件","二等奖","东莞市",{"$f":"VLOOKUP(B1688,'[1]002'!B:M,7,0)","v":"陈雪贞"},{"$f":"VLOOKUP(B1688,'[1]002'!B:M,8,0)","v":"东莞市南城中心幼儿园"},{"$f":"VLOOKUP(B1688,'[1]002'!B:M,11,0)","v":"钱栩洁"},{"$f":"VLOOKUP(B1688,'[1]002'!B:M,12,0)","v":"东莞市南城中心幼儿园"},{"$f":"VLOOKUP(B1688,[2]sheet2!B:L,10,0)","v":"-"},{"$f":"VLOOKUP(B1688,[2]sheet2!B:L,11,0)","v":"-"},"http://183.62.54.51:8841/data/files/certificate/000000000439/73aad86531f04d07b91cc39a1a01074f/signed/1686_陈雪贞、钱栩洁_二等奖_7573.pdf"]
[1687,"P302019092332","有趣的排序","幼教组","课件","二等奖","江门市",{"$f":"VLOOKUP(B1689,'[1]002'!B:M,7,0)","v":"邓秀华"},{"$f":"VLOOKUP(B1689,'[1]002'!B:M,8,0)","v":"江门市蓓蕾幼儿园"},{"$f":"VLOOKUP(B1689,'[1]002'!B:M,11,0)","v":"-"},{"$f":"VLOOKUP(B1689,'[1]002'!B:M,12,0)","v":"-"},{"$f":"VLOOKUP(B1689,[2]sheet2!B:L,10,0)","v":"-"},{"$f":"VLOOKUP(B1689,[2]sheet2!B:L,11,0)","v":"-"},"http://183.62.54.51:8841/data/files/certificate/000000000439/144a5559c1ac475c83ea59d07e9cc256/signed/1687_邓秀华_二等奖_7574.pdf"]
[1688,"P302019092017","配对","幼教组","课件","二等奖","江门市",{"$f":"VLOOKUP(B1690,'[1]002'!B:M,7,0)","v":"梁凯欣"},{"$f":"VLOOKUP(B1690,'[1]002'!B:M,8,0)","v":"开平市三埠长沙幼儿园"},{"$f":"VLOOKUP(B1690,'[1]002'!B:M,11,0)","v":"-"},{"$f":"VLOOKUP(B1690,'[1]002'!B:M,12,0)","v":"-"},{"$f":"VLOOKUP(B1690,[2]sheet2!B:L,10,0)","v":"-"},{"$f":"VLOOKUP(B1690,[2]sheet2!B:L,11,0)","v":"-"},"http://183.62.54.51:8841/data/files/certificate/000000000439/b37d0b72fb0c46e79bc2f4f9c27cd9ac/signed/1688_梁凯欣_二等奖_7575.pdf"]
[1689,"P302019091622","安全用药","幼教组","课件","二等奖","清远市",{"$f":"VLOOKUP(B1691,'[1]002'!B:M,7,0)","v":"黄凤宜"},{"$f":"VLOOKUP(B1691,'[1]002'!B:M,8,0)","v":"佛冈县青云路幼儿园"},{"$f":"VLOOKUP(B1691,'[1]002'!B:M,11,0)","v":"-"},{"$f":"VLOOKUP(B1691,'[1]002'!B:M,12,0)","v":"-"},{"$f":"VLOOKUP(B1691,[2]sheet2!B:L,10,0)","v":"-"},{"$f":"VLOOKUP(B1691,[2]sheet2!B:L,11,0)","v":"-"},"http://183.62.54.51:8841/data/files/certificate/000000000439/ea9df37760f342328dab0c196b2ab608/signed/1689_黄凤宜_二等奖_7576.pdf"]
[1690,"P302019089156","变脸游戏","幼教组","课件","二等奖","潮州市",{"$f":"VLOOKUP(B1692,'[1]002'!B:M,7,0)","v":"蔡佳年"},{"$f":"VLOOKUP(B1692,'[1]002'!B:M,8,0)","v":"潮州市中心幼儿园"},{"$f":"VLOOKUP(B1692,'[1]002'!B:M,11,0)","v":"林伟君"},{"$f":"VLOOKUP(B1692,'[1]002'!B:M,12,0)","v":"潮州市中心幼儿园"},{"$f":"VLOOKUP(B1692,[2]sheet2!B:L,10,0)","v":"-"},{"$f":"VLOOKUP(B1692,[2]sheet2!B:L,11,0)","v":"-"},"http://183.62.54.51:8841/data/files/certificate/000000000439/bc02ba56a5c245d2b5672725c8298cf4/signed/1690_蔡佳年、林伟君_二等奖_7577.pdf"]
[1691,"P303019093078","好玩的气球动力车","幼教组","微课","二等奖","广州市",{"$f":"VLOOKUP(B1693,'[1]002'!B:M,7,0)","v":"黄圆文"},{"$f":"VLOOKUP(B1693,'[1]002'!B:M,8,0)","v":"广州市花都区第一幼儿园"},{"$f":"VLOOKUP(B1693,'[1]002'!B:M,11,0)","v":"柯春燕"},{"$f":"VLOOKUP(B1693,'[1]002'!B:M,12,0)","v":"广州市花都区第一幼儿园"},{"$f":"VLOOKUP(B1693,[2]sheet2!B:L,10,0)","v":"任碧仪"},{"$f":"VLOOKUP(B1693,[2]sheet2!B:L,11,0)","v":"广州市花都区第一幼儿园"},"http://183.62.54.51:8841/data/files/certificate/000000000439/9ad995d9aa3e4c1bbc6ec52bba391465/signed/1691_黄圆文、柯春燕、任碧仪_二等奖_7578.pdf"]
[1692,"P303019093075","美丽的石头鱼","幼教组","微课","二等奖","广州市",{"$f":"VLOOKUP(B1694,'[1]002'!B:M,7,0)","v":"陈剑鸣"},{"$f":"VLOOKUP(B1694,'[1]002'!B:M,8,0)","v":"广州市荔湾区芳村幼儿园"},{"$f":"VLOOKUP(B1694,'[1]002'!B:M,11,0)","v":"谢佩珊"},{"$f":"VLOOKUP(B1694,'[1]002'!B:M,12,0)","v":"广州市荔湾区芳村幼儿园"},{"$f":"VLOOKUP(B1694,[2]sheet2!B:L,10,0)","v":"-"},{"$f":"VLOOKUP(B1694,[2]sheet2!B:L,11,0)","v":"-"},"http://183.62.54.51:8841/data/files/certificate/000000000439/30430b4f5f6842e6a9d620da1cb3e36a/signed/1692_陈剑鸣、谢佩珊_二等奖_7579.pdf"]
[1693,"P303019093072","图形拼拼乐","幼教组","微课","二等奖","广州市",{"$f":"VLOOKUP(B1695,'[1]002'!B:M,7,0)","v":"刘秋然"},{"$f":"VLOOKUP(B1695,'[1]002'!B:M,8,0)","v":"广州市荔湾区协和幼儿园"},{"$f":"VLOOKUP(B1695,'[1]002'!B:M,11,0)","v":"关敏娟"},{"$f":"VLOOKUP(B1695,'[1]002'!B:M,12,0)","v":"广州市荔湾区协和幼儿园"},{"$f":"VLOOKUP(B1695,[2]sheet2!B:L,10,0)","v":"卢燕坤"},{"$f":"VLOOKUP(B1695,[2]sheet2!B:L,11,0)","v":"广州市荔湾区协和幼儿园"},"http://183.62.54.51:8841/data/files/certificate/000000000439/a39a464d8a8542caa3315b91ca618c52/signed/1693_刘秋然、关敏娟、卢燕坤_二等奖_7580.pdf"]
[1694,"P303019093076","神奇的表面张力","幼教组","微课","二等奖","广州市",{"$f":"VLOOKUP(B1696,'[1]002'!B:M,7,0)","v":"郑永梅"},{"$f":"VLOOKUP(B1696,'[1]002'!B:M,8,0)","v":"广州市番禺区直属机关幼儿园"},{"$f":"VLOOKUP(B1696,'[1]002'!B:M,11,0)","v":"梁志海"},{"$f":"VLOOKUP(B1696,'[1]002'!B:M,12,0)","v":"广州市番禺区直属机关幼儿园"},{"$f":"VLOOKUP(B1696,[2]sheet2!B:L,10,0)","v":"-"},{"$f":"VLOOKUP(B1696,[2]sheet2!B:L,11,0)","v":"-"},"http://183.62.54.51:8841/data/files/certificate/000000000439/cf66644ddd004e7a9fba464317908246/signed/1694_郑永梅、梁志海_二等奖_7581.pdf"]
[1695,"P303019093077","垃圾分类","幼教组","微课","二等奖","广州市",{"$f":"VLOOKUP(B1697,'[1]002'!B:M,7,0)","v":"刘冬雪"},{"$f":"VLOOKUP(B1697,'[1]002'!B:M,8,0)","v":"广州市越秀区真光幼儿园"},{"$f":"VLOOKUP(B1697,'[1]002'!B:M,11,0)","v":"陈晓颖"},{"$f":"VLOOKUP(B1697,'[1]002'!B:M,12,0)","v":"广州市越秀区真光幼儿园"},{"$f":"VLOOKUP(B1697,[2]sheet2!B:L,10,0)","v":"-"},{"$f":"VLOOKUP(B1697,[2]sheet2!B:L,11,0)","v":"-"},"http://183.62.54.51:8841/data/files/certificate/000000000439/31dc240afbb249aeb75304b33f5affdc/signed/1695_刘冬雪、陈晓颖_二等奖_7582.pdf"]
[1696,"P303019091862","小蜘蛛","幼教组","微课","二等奖","汕头市",{"$f":"VLOOKUP(B1698,'[1]002'!B:M,7,0)","v":"陈静"},{"$f":"VLOOKUP(B1698,'[1]002'!B:M,8,0)","v":"汕头市中山幼儿园（新）"},{"$f":"VLOOKUP(B1698,'[1]002'!B:M,11,0)","v":"-"},{"$f":"VLOOKUP(B1698,'[1]002'!B:M,12,0)","v":"-"},{"$f":"VLOOKUP(B1698,[2]sheet2!B:L,10,0)","v":"-"},{"$f":"VLOOKUP(B1698,[2]sheet2!B:L,11,0)","v":"-"},"http://183.62.54.51:8841/data/files/certificate/000000000439/7fdec41653a34ec98ff6e7affa541fa4/signed/1696_陈静_二等奖_7583.pdf"]
[1697,"P303019091864","彩虹挂饰","幼教组","微课","二等奖","汕头市",{"$f":"VLOOKUP(B1699,'[1]002'!B:M,7,0)","v":"陈斯纳"},{"$f":"VLOOKUP(B1699,'[1]002'!B:M,8,0)","v":"汕头市中山第二幼儿园"},{"$f":"VLOOKUP(B1699,'[1]002'!B:M,11,0)","v":"-"},{"$f":"VLOOKUP(B1699,'[1]002'!B:M,12,0)","v":"-"},{"$f":"VLOOKUP(B1699,[2]sheet2!B:L,10,0)","v":"-"},{"$f":"VLOOKUP(B1699,[2]sheet2!B:L,11,0)","v":"-"},"http://183.62.54.51:8841/data/files/certificate/000000000439/76b59a757ca04b1cbda622f306d25e9e/signed/1697_陈斯纳_二等奖_7584.pdf"]
[1698,"P303019091867","小蚂蚁的昆虫朋友","幼教组","微课","二等奖","汕头市",{"$f":"VLOOKUP(B1700,'[1]002'!B:M,7,0)","v":"陈珊莉"},{"$f":"VLOOKUP(B1700,'[1]002'!B:M,8,0)","v":"汕头市中山第二幼儿园"},{"$f":"VLOOKUP(B1700,'[1]002'!B:M,11,0)","v":"-"},{"$f":"VLOOKUP(B1700,'[1]002'!B:M,12,0)","v":"-"},{"$f":"VLOOKUP(B1700,[2]sheet2!B:L,10,0)","v":"-"},{"$f":"VLOOKUP(B1700,[2]sheet2!B:L,11,0)","v":"-"},"http://183.62.54.51:8841/data/files/certificate/000000000439/fffdd0c939b14fc98e0921cdff78c1ae/signed/1698_陈珊莉_二等奖_7585.pdf"]
[1699,"P303019091090","有趣的胶带画","幼教组","微课","二等奖","佛山市",{"$f":"VLOOKUP(B1701,'[1]002'!B:M,7,0)","v":"王桂群"},{"$f":"VLOOKUP(B1701,'[1]002'!B:M,8,0)","v":"佛山市南海区桂城平洲中心幼儿园"},{"$f":"VLOOKUP(B1701,'[1]002'!B:M,11,0)","v":"郭梓扬"},{"$f":"VLOOKUP(B1701,'[1]002'!B:M,12,0)","v":"佛山市南海区桂城平洲中心幼儿园"},{"$f":"VLOOKUP(B1701,[2]sheet2!B:L,10,0)","v":"罗秋芳"},{"$f":"VLOOKUP(B1701,[2]sheet2!B:L,11,0)","v":"佛山市南海区桂城平洲中心幼儿园"},"http://183.62.54.51:8841/data/files/certificate/000000000439/bd89bea2afb14eef8953d6838b092d26/signed/1699_王桂群、郭梓扬、罗秋芳_二等奖_7586.pdf"]
[1700,"P303019091115","火山爆发","幼教组","微课","二等奖","佛山市",{"$f":"VLOOKUP(B1702,'[1]002'!B:M,7,0)","v":"余少尔"},{"$f":"VLOOKUP(B1702,'[1]002'!B:M,8,0)","v":"北滘镇第二幼儿园"},{"$f":"VLOOKUP(B1702,'[1]002'!B:M,11,0)","v":"-"},{"$f":"VLOOKUP(B1702,'[1]002'!B:M,12,0)","v":"-"},{"$f":"VLOOKUP(B1702,[2]sheet2!B:L,10,0)","v":"-"},{"$f":"VLOOKUP(B1702,[2]sheet2!B:L,11,0)","v":"-"},"http://183.62.54.51:8841/data/files/certificate/000000000439/1023991ecca54604b8d6b0776a9daf4f/signed/1700_余少尔_二等奖_7587.pdf"]
[1701,"P303019091548","会动的小泥车","幼教组","微课","二等奖","佛山市",{"$f":"VLOOKUP(B1703,'[1]002'!B:M,7,0)","v":"李丽嫦"},{"$f":"VLOOKUP(B1703,'[1]002'!B:M,8,0)","v":"佛山市南海区丹灶金沙幼儿园"},{"$f":"VLOOKUP(B1703,'[1]002'!B:M,11,0)","v":"张子晴"},{"$f":"VLOOKUP(B1703,'[1]002'!B:M,12,0)","v":"佛山市南海区丹灶金沙幼儿园"},{"$f":"VLOOKUP(B1703,[2]sheet2!B:L,10,0)","v":"张润梅"},{"$f":"VLOOKUP(B1703,[2]sheet2!B:L,11,0)","v":"佛山市南海区丹灶金沙幼儿园"},"http://183.62.54.51:8841/data/files/certificate/000000000439/0b9d40be62004b7fa50c81d19cdca978/signed/1701_李丽嫦、张子晴、张润梅_二等奖_7588.pdf"]
[1702,"P303019091082","水果发电","幼教组","微课","二等奖","佛山市",{"$f":"VLOOKUP(B1704,'[1]002'!B:M,7,0)","v":"张燕芬"},{"$f":"VLOOKUP(B1704,'[1]002'!B:M,8,0)","v":"佛山市高明区财贸幼儿园"},"苏琼欢","佛山市高明区财贸幼儿园",{"$f":"VLOOKUP(B1704,[2]sheet2!B:L,10,0)","v":"-"},{"$f":"VLOOKUP(B1704,[2]sheet2!B:L,11,0)","v":"-"},"http://183.62.54.51:8841/data/files/certificate/000000000439/d76ef2375e4c421d9b8c9fe16e0c067c/signed/1702_张燕芬、苏琼欢_二等奖_7589.pdf"]
[1703,"P303019091116","大班科学区域小实验","幼教组","微课","二等奖","佛山市",{"$f":"VLOOKUP(B1705,'[1]002'!B:M,7,0)","v":"张志红"},{"$f":"VLOOKUP(B1705,'[1]002'!B:M,8,0)","v":"顺德区机关幼儿园"},{"$f":"VLOOKUP(B1705,'[1]002'!B:M,11,0)","v":"-"},{"$f":"VLOOKUP(B1705,'[1]002'!B:M,12,0)","v":"-"},{"$f":"VLOOKUP(B1705,[2]sheet2!B:L,10,0)","v":"-"},{"$f":"VLOOKUP(B1705,[2]sheet2!B:L,11,0)","v":"-"},"http://183.62.54.51:8841/data/files/certificate/000000000439/71bfe51e21cc4a62988d35f47a618bbc/signed/1703_张志红_二等奖_7590.pdf"]
[1704,"P303019091086","纸的秘密","幼教组","微课","二等奖","佛山市",{"$f":"VLOOKUP(B1706,'[1]002'!B:M,7,0)","v":"梁俨丽"},{"$f":"VLOOKUP(B1706,'[1]002'!B:M,8,0)","v":"佛山市禅城区中心幼儿园"},{"$f":"VLOOKUP(B1706,'[1]002'!B:M,11,0)","v":"-"},{"$f":"VLOOKUP(B1706,'[1]002'!B:M,12,0)","v":"-"},{"$f":"VLOOKUP(B1706,[2]sheet2!B:L,10,0)","v":"-"},{"$f":"VLOOKUP(B1706,[2]sheet2!B:L,11,0)","v":"-"},"http://183.62.54.51:8841/data/files/certificate/000000000439/be9ed1186b9d456e8eb4eb9c74bc35d0/signed/1704_梁俨丽_二等奖_7591.pdf"]
[1705,"P303019091118","不插嘴有礼貌","幼教组","微课","二等奖","佛山市",{"$f":"VLOOKUP(B1707,'[1]002'!B:M,7,0)","v":"李思华"},{"$f":"VLOOKUP(B1707,'[1]002'!B:M,8,0)","v":"佛山市三水区中心幼儿园"},{"$f":"VLOOKUP(B1707,'[1]002'!B:M,11,0)","v":"-"},{"$f":"VLOOKUP(B1707,'[1]002'!B:M,12,0)","v":"-"},{"$f":"VLOOKUP(B1707,[2]sheet2!B:L,10,0)","v":"-"},{"$f":"VLOOKUP(B1707,[2]sheet2!B:L,11,0)","v":"-"},"http://183.62.54.51:8841/data/files/certificate/000000000439/6f24bf13bdfb4c0b95ab6ee78b23e9b3/signed/1705_李思华_二等奖_7592.pdf"]
[1706,"P303019091104","预防溺水从我做起","幼教组","微课","二等奖","佛山市",{"$f":"VLOOKUP(B1708,'[1]002'!B:M,7,0)","v":"罗敏玲"},{"$f":"VLOOKUP(B1708,'[1]002'!B:M,8,0)","v":"佛山市南海区丹灶中心幼儿园"},{"$f":"VLOOKUP(B1708,'[1]002'!B:M,11,0)","v":"罗佩玲"},{"$f":"VLOOKUP(B1708,'[1]002'!B:M,12,0)","v":"佛山市南海区丹灶中心幼儿园"},{"$f":"VLOOKUP(B1708,[2]sheet2!B:L,10,0)","v":"徐敏玲"},{"$f":"VLOOKUP(B1708,[2]sheet2!B:L,11,0)","v":"佛山市南海区丹灶中心幼儿园"},"http://183.62.54.51:8841/data/files/certificate/000000000439/56e8f1a6efa44516816d2f8addc9b789/signed/1706_罗敏玲、罗佩玲、徐敏玲_二等奖_7593.pdf"]
[1707,"P303019091091","梦幻彩影","幼教组","微课","二等奖","佛山市",{"$f":"VLOOKUP(B1709,'[1]002'!B:M,7,0)","v":"何雄丽"},{"$f":"VLOOKUP(B1709,'[1]002'!B:M,8,0)","v":"佛山市南海区桂城平洲中心幼儿园"},{"$f":"VLOOKUP(B1709,'[1]002'!B:M,11,0)","v":"黎淑芬"},{"$f":"VLOOKUP(B1709,'[1]002'!B:M,12,0)","v":"佛山市南海区桂城平洲中心幼儿园"},{"$f":"VLOOKUP(B1709,[2]sheet2!B:L,10,0)","v":"-"},{"$f":"VLOOKUP(B1709,[2]sheet2!B:L,11,0)","v":"-"},"http://183.62.54.51:8841/data/files/certificate/000000000439/5a13e4d1ab924416baf3494aa38a9a53/signed/1707_何雄丽、黎淑芬_二等奖_7594.pdf"]
[1708,"P303019089136","小鼹鼠的故事","幼教组","微课","二等奖","韶关市",{"$f":"VLOOKUP(B1710,'[1]002'!B:M,7,0)","v":"丘敬松"},{"$f":"VLOOKUP(B1710,'[1]002'!B:M,8,0)","v":"新丰县第一幼儿园"},{"$f":"VLOOKUP(B1710,'[1]002'!B:M,11,0)","v":"-"},{"$f":"VLOOKUP(B1710,'[1]002'!B:M,12,0)","v":"-"},{"$f":"VLOOKUP(B1710,[2]sheet2!B:L,10,0)","v":"-"},{"$f":"VLOOKUP(B1710,[2]sheet2!B:L,11,0)","v":"-"},"http://183.62.54.51:8841/data/files/certificate/000000000439/65ec62d99c6842d2aac48a470a82a539/signed/1708_丘敬松_二等奖_7595.pdf"]
[1709,"P303019089967","蝌蚪水中游","幼教组","微课","二等奖","韶关市",{"$f":"VLOOKUP(B1711,'[1]002'!B:M,7,0)","v":"沈华芬"},{"$f":"VLOOKUP(B1711,'[1]002'!B:M,8,0)","v":"韶关市曲江区第一幼儿园"},{"$f":"VLOOKUP(B1711,'[1]002'!B:M,11,0)","v":"-"},{"$f":"VLOOKUP(B1711,'[1]002'!B:M,12,0)","v":"-"},{"$f":"VLOOKUP(B1711,[2]sheet2!B:L,10,0)","v":"-"},{"$f":"VLOOKUP(B1711,[2]sheet2!B:L,11,0)","v":"-"},"http://183.62.54.51:8841/data/files/certificate/000000000439/3c78ffdca6494b56bc538cf29a3374ad/signed/1709_沈华芬_二等奖_7596.pdf"]
[1710,"P303019093320","我能整理小书包","幼教组","微课","二等奖","河源市",{"$f":"VLOOKUP(B1712,'[1]002'!B:M,7,0)","v":"巫金秋"},{"$f":"VLOOKUP(B1712,'[1]002'!B:M,8,0)","v":"河源市源城区机关第二幼儿园"},{"$f":"VLOOKUP(B1712,'[1]002'!B:M,11,0)","v":"-"},{"$f":"VLOOKUP(B1712,'[1]002'!B:M,12,0)","v":"-"},{"$f":"VLOOKUP(B1712,[2]sheet2!B:L,10,0)","v":"-"},{"$f":"VLOOKUP(B1712,[2]sheet2!B:L,11,0)","v":"-"},"http://183.62.54.51:8841/data/files/certificate/000000000439/b586e95719444a4f8f923138c759ce27/signed/1710_巫金秋_二等奖_7597.pdf"]
[1711,"P303019093321","认识奥尔夫乐器","幼教组","微课","二等奖","河源市",{"$f":"VLOOKUP(B1713,'[1]002'!B:M,7,0)","v":"黄婷"},{"$f":"VLOOKUP(B1713,'[1]002'!B:M,8,0)","v":"河源市直属机关幼儿园"},{"$f":"VLOOKUP(B1713,'[1]002'!B:M,11,0)","v":"吴胜红"},{"$f":"VLOOKUP(B1713,'[1]002'!B:M,12,0)","v":"河源市直属机关幼儿园"},{"$f":"VLOOKUP(B1713,[2]sheet2!B:L,10,0)","v":"邹少芬"},{"$f":"VLOOKUP(B1713,[2]sheet2!B:L,11,0)","v":"河源市直属机关幼儿园"},"http://183.62.54.51:8841/data/files/certificate/000000000439/2e019022ee0c4ab9824dfa91ef1acfbf/signed/1711_黄婷、吴胜红、邹少芬_二等奖_7598.pdf"]
[1712,"P303019088912","漂亮的纸拖鞋","幼教组","微课","二等奖","梅州市",{"$f":"VLOOKUP(B1714,'[1]002'!B:M,7,0)","v":"杨艳华"},{"$f":"VLOOKUP(B1714,'[1]002'!B:M,8,0)","v":"平远县第二幼儿园"},{"$f":"VLOOKUP(B1714,'[1]002'!B:M,11,0)","v":"-"},{"$f":"VLOOKUP(B1714,'[1]002'!B:M,12,0)","v":"-"},{"$f":"VLOOKUP(B1714,[2]sheet2!B:L,10,0)","v":"-"},{"$f":"VLOOKUP(B1714,[2]sheet2!B:L,11,0)","v":"-"},"http://183.62.54.51:8841/data/files/certificate/000000000439/c11030ff92ae455b96d9856dc6c90818/signed/1712_杨艳华_二等奖_7599.pdf"]
[1713,"P303019092543","跳舞的女孩","幼教组","微课","二等奖","东莞市",{"$f":"VLOOKUP(B1715,'[1]002'!B:M,7,0)","v":"钟莉君"},{"$f":"VLOOKUP(B1715,'[1]002'!B:M,8,0)","v":"东莞市大岭山镇实验幼儿园"},{"$f":"VLOOKUP(B1715,'[1]002'!B:M,11,0)","v":"-"},{"$f":"VLOOKUP(B1715,'[1]002'!B:M,12,0)","v":"-"},{"$f":"VLOOKUP(B1715,[2]sheet2!B:L,10,0)","v":"-"},{"$f":"VLOOKUP(B1715,[2]sheet2!B:L,11,0)","v":"-"},"http://183.62.54.51:8841/data/files/certificate/000000000439/b2e39a6d169242969ef0358144a5a775/signed/1713_钟莉君_二等奖_7600.pdf"]
[1714,"P303019092548","趣味手工皂","幼教组","微课","二等奖","东莞市",{"$f":"VLOOKUP(B1716,'[1]002'!B:M,7,0)","v":"林丹媛"},{"$f":"VLOOKUP(B1716,'[1]002'!B:M,8,0)","v":"东莞市大岭山镇实验幼儿园"},{"$f":"VLOOKUP(B1716,'[1]002'!B:M,11,0)","v":"-"},{"$f":"VLOOKUP(B1716,'[1]002'!B:M,12,0)","v":"-"},{"$f":"VLOOKUP(B1716,[2]sheet2!B:L,10,0)","v":"-"},{"$f":"VLOOKUP(B1716,[2]sheet2!B:L,11,0)","v":"-"},"http://183.62.54.51:8841/data/files/certificate/000000000439/290a1f63ca0c4afbbbd949104b385e59/signed/1714_林丹媛_二等奖_7601.pdf"]
[1715,"P303019092547","中班数学5以内数的守恒","幼教组","微课","二等奖","东莞市",{"$f":"VLOOKUP(B1717,'[1]002'!B:M,7,0)","v":"陈雪贞"},{"$f":"VLOOKUP(B1717,'[1]002'!B:M,8,0)","v":"东莞市南城中心幼儿园"},{"$f":"VLOOKUP(B1717,'[1]002'!B:M,11,0)","v":"钱栩洁"},{"$f":"VLOOKUP(B1717,'[1]002'!B:M,12,0)","v":"东莞市南城中心幼儿园"},{"$f":"VLOOKUP(B1717,[2]sheet2!B:L,10,0)","v":"-"},{"$f":"VLOOKUP(B1717,[2]sheet2!B:L,11,0)","v":"-"},"http://183.62.54.51:8841/data/files/certificate/000000000439/0d37ba813c204ec78856304f725baf8e/signed/1715_陈雪贞、钱栩洁_二等奖_7602.pdf"]
[1716,"P303019091140","小蓝和小黄","幼教组","微课","二等奖","肇庆市",{"$f":"VLOOKUP(B1718,'[1]002'!B:M,7,0)","v":"蔡銮青"},{"$f":"VLOOKUP(B1718,'[1]002'!B:M,8,0)","v":"肇庆市直属机关第二幼儿园"},{"$f":"VLOOKUP(B1718,'[1]002'!B:M,11,0)","v":"王红红"},{"$f":"VLOOKUP(B1718,'[1]002'!B:M,12,0)","v":"肇庆市直属机关第二幼儿园"},{"$f":"VLOOKUP(B1718,[2]sheet2!B:L,10,0)","v":"-"},{"$f":"VLOOKUP(B1718,[2]sheet2!B:L,11,0)","v":"-"},"http://183.62.54.51:8841/data/files/certificate/000000000439/4cbd5edd4b5e40759651ddfdd3d1f240/signed/1716_蔡銮青、王红红_二等奖_7603.pdf"]
[1717,"P303019091665","毛线编织","幼教组","微课","二等奖","清远市",{"$f":"VLOOKUP(B1719,'[1]002'!B:M,7,0)","v":"黄玉瑜"},{"$f":"VLOOKUP(B1719,'[1]002'!B:M,8,0)","v":"阳山县碧桂园幼儿园"},{"$f":"VLOOKUP(B1719,'[1]002'!B:M,11,0)","v":"肖燕霞"},{"$f":"VLOOKUP(B1719,'[1]002'!B:M,12,0)","v":"阳山县碧桂园幼儿园"},{"$f":"VLOOKUP(B1719,[2]sheet2!B:L,10,0)","v":"邓彩燕"},{"$f":"VLOOKUP(B1719,[2]sheet2!B:L,11,0)","v":"阳山县碧桂园幼儿园"},"http://183.62.54.51:8841/data/files/certificate/000000000439/60a62150acc840b7b1ade3faba667836/signed/1717_黄玉瑜、肖燕霞、邓彩燕_二等奖_7604.pdf"]
[1718,"P303019091666","虾趣","幼教组","微课","二等奖","清远市",{"$f":"VLOOKUP(B1720,'[1]002'!B:M,7,0)","v":"黄海芳"},{"$f":"VLOOKUP(B1720,'[1]002'!B:M,8,0)","v":"阳山县第三幼儿园"},{"$f":"VLOOKUP(B1720,'[1]002'!B:M,11,0)","v":"-"},{"$f":"VLOOKUP(B1720,'[1]002'!B:M,12,0)","v":"-"},{"$f":"VLOOKUP(B1720,[2]sheet2!B:L,10,0)","v":"-"},{"$f":"VLOOKUP(B1720,[2]sheet2!B:L,11,0)","v":"-"},"http://183.62.54.51:8841/data/files/certificate/000000000439/259366286a8d4cdba011be825c2a6e5b/signed/1718_黄海芳_二等奖_7605.pdf"]
[1719,"P303019091667","可爱的小羊","幼教组","微课","二等奖","清远市",{"$f":"VLOOKUP(B1721,'[1]002'!B:M,7,0)","v":"梁洁芳"},{"$f":"VLOOKUP(B1721,'[1]002'!B:M,8,0)","v":"阳山县第三幼儿园"},{"$f":"VLOOKUP(B1721,'[1]002'!B:M,11,0)","v":"-"},{"$f":"VLOOKUP(B1721,'[1]002'!B:M,12,0)","v":"-"},{"$f":"VLOOKUP(B1721,[2]sheet2!B:L,10,0)","v":"-"},{"$f":"VLOOKUP(B1721,[2]sheet2!B:L,11,0)","v":"-"},"http://183.62.54.51:8841/data/files/certificate/000000000439/df8ca6d09b354ef488ac3486a9c0f8a1/signed/1719_梁洁芳_二等奖_7606.pdf"]
[1720,"P303019091270","制作小灯笼","幼教组","微课","二等奖","潮州市",{"$f":"VLOOKUP(B1722,'[1]002'!B:M,7,0)","v":"郑泽芬"},{"$f":"VLOOKUP(B1722,'[1]002'!B:M,8,0)","v":"饶平县中心幼儿园"},{"$f":"VLOOKUP(B1722,'[1]002'!B:M,11,0)","v":"-"},{"$f":"VLOOKUP(B1722,'[1]002'!B:M,12,0)","v":"-"},{"$f":"VLOOKUP(B1722,[2]sheet2!B:L,10,0)","v":"-"},{"$f":"VLOOKUP(B1722,[2]sheet2!B:L,11,0)","v":"-"},"http://183.62.54.51:8841/data/files/certificate/000000000439/2710b46f0eb24c16be41457d6d51cadd/signed/1720_郑泽芬_二等奖_7607.pdf"]
[1721,"P305019093080","幼儿园体验式微型图书馆游戏案例","幼教组","信息技术创新教学案例","二等奖","广州市",{"$f":"VLOOKUP(B1723,'[1]002'!B:M,7,0)","v":"叶慧蔚"},{"$f":"VLOOKUP(B1723,'[1]002'!B:M,8,0)","v":"广州市幼儿师范学校附属海珠幼儿园"},{"$f":"VLOOKUP(B1723,'[1]002'!B:M,11,0)","v":"周燕"},{"$f":"VLOOKUP(B1723,'[1]002'!B:M,12,0)","v":"广州市幼儿师范学校附属海珠幼儿园"},{"$f":"VLOOKUP(B1723,[2]sheet2!B:L,10,0)","v":"杨晓芸"},{"$f":"VLOOKUP(B1723,[2]sheet2!B:L,11,0)","v":"广州市幼儿师范学校附属海珠幼儿园"},"http://183.62.54.51:8841/data/files/certificate/000000000439/9d853e7caed9484e8aa6b4afcbd672c5/signed/1721_叶慧蔚、周燕、杨晓芸_二等奖_7608.pdf"]
[1722,"P305019091521","赶跑牙虫保护牙齿","幼教组","信息技术创新教学案例","二等奖","佛山市",{"$f":"VLOOKUP(B1724,'[1]002'!B:M,7,0)","v":"孔渐醒"},{"$f":"VLOOKUP(B1724,'[1]002'!B:M,8,0)","v":"佛山市南海区狮山松岗中心幼儿园"},{"$f":"VLOOKUP(B1724,'[1]002'!B:M,11,0)","v":"黄丽霞"},{"$f":"VLOOKUP(B1724,'[1]002'!B:M,12,0)","v":"佛山市南海区狮山松岗中心幼儿园"},{"$f":"VLOOKUP(B1724,[2]sheet2!B:L,10,0)","v":"吴晓霞"},{"$f":"VLOOKUP(B1724,[2]sheet2!B:L,11,0)","v":"佛山市南海区狮山松岗中心幼儿园"},"http://183.62.54.51:8841/data/files/certificate/000000000439/c31f039561de4a388ebe56f1d2d5dcd0/signed/1722_孔渐醒、黄丽霞、吴晓霞_二等奖_7609.pdf"]
[1723,"P304019093052","说唱脸谱","幼教组","新媒体新技术教学应用课例","二等奖",{"$f":"RIGHT(LEFT(VLOOKUP(B1725,'[1]002'!B:M,3,0),7),3)","v":"广州市"},{"$f":"VLOOKUP(B1725,'[1]002'!B:M,7,0)","v":"贺柳平"},{"$f":"VLOOKUP(B1725,'[1]002'!B:M,8,0)","v":"广州市增城区凤凰城中英文幼儿园"},{"$f":"VLOOKUP(B1725,'[1]002'!B:M,11,0)","v":"-"},{"$f":"VLOOKUP(B1725,'[1]002'!B:M,12,0)","v":"-"},{"$f":"VLOOKUP(B1725,[2]sheet2!B:L,10,0)","v":"-"},{"$f":"VLOOKUP(B1725,[2]sheet2!B:L,11,0)","v":"-"},"http://183.62.54.51:8841/data/files/certificate/000000000439/ba7704c64b2849188ead7d797f2c25ef/signed/1723_贺柳平_二等奖_7610.pdf"]
[1724,"P304019091520","小小考古家","幼教组","新媒体新技术教学应用课例","二等奖",{"$f":"RIGHT(LEFT(VLOOKUP(B1726,'[1]002'!B:M,3,0),7),3)","v":"佛山市"},{"$f":"VLOOKUP(B1726,'[1]002'!B:M,7,0)","v":"邓妍芳"},{"$f":"VLOOKUP(B1726,'[1]002'!B:M,8,0)","v":"佛山市三水区中心幼儿园"},{"$f":"VLOOKUP(B1726,'[1]002'!B:M,11,0)","v":"钟晓芬"},{"$f":"VLOOKUP(B1726,'[1]002'!B:M,12,0)","v":"佛山市三水区中心幼儿园"},{"$f":"VLOOKUP(B1726,[2]sheet2!B:L,10,0)","v":"-"},{"$f":"VLOOKUP(B1726,[2]sheet2!B:L,11,0)","v":"-"},"http://183.62.54.51:8841/data/files/certificate/000000000439/219be8ee5ff9421297663fbb1a9ace2c/signed/1724_邓妍芳、钟晓芬_二等奖_7611.pdf"]
[1725,"P304019091509","是与不是认识与计数","幼教组","新媒体新技术教学应用课例","二等奖",{"$f":"RIGHT(LEFT(VLOOKUP(B1727,'[1]002'!B:M,3,0),7),3)","v":"佛山市"},{"$f":"VLOOKUP(B1727,'[1]002'!B:M,7,0)","v":"谭妲娜"},{"$f":"VLOOKUP(B1727,'[1]002'!B:M,8,0)","v":"禅城区明珠幼儿园"},{"$f":"VLOOKUP(B1727,'[1]002'!B:M,11,0)","v":"-"},{"$f":"VLOOKUP(B1727,'[1]002'!B:M,12,0)","v":"-"},{"$f":"VLOOKUP(B1727,[2]sheet2!B:L,10,0)","v":"-"},{"$f":"VLOOKUP(B1727,[2]sheet2!B:L,11,0)","v":"-"},"http://183.62.54.51:8841/data/files/certificate/000000000439/4a2f3c1ce41446339ce0942c760e07e8/signed/1725_谭妲娜_二等奖_7612.pdf"]
[1726,"P304019091516","元宵节","幼教组","新媒体新技术教学应用课例","二等奖",{"$f":"RIGHT(LEFT(VLOOKUP(B1728,'[1]002'!B:M,3,0),7),3)","v":"佛山市"},{"$f":"VLOOKUP(B1728,'[1]002'!B:M,7,0)","v":"钟岸英"},{"$f":"VLOOKUP(B1728,'[1]002'!B:M,8,0)","v":"北滘镇第二幼儿园"},{"$f":"VLOOKUP(B1728,'[1]002'!B:M,11,0)","v":"-"},{"$f":"VLOOKUP(B1728,'[1]002'!B:M,12,0)","v":"-"},{"$f":"VLOOKUP(B1728,[2]sheet2!B:L,10,0)","v":"-"},{"$f":"VLOOKUP(B1728,[2]sheet2!B:L,11,0)","v":"-"},"http://183.62.54.51:8841/data/files/certificate/000000000439/1c878422d3b24154863f1e0175bed72c/signed/1726_钟岸英_二等奖_7613.pdf"]
[1727,"P304019091497","图形王国大冒险","幼教组","新媒体新技术教学应用课例","二等奖",{"$f":"RIGHT(LEFT(VLOOKUP(B1729,'[1]002'!B:M,3,0),7),3)","v":"佛山市"},{"$f":"VLOOKUP(B1729,'[1]002'!B:M,7,0)","v":"龙春燕"},{"$f":"VLOOKUP(B1729,'[1]002'!B:M,8,0)","v":"佛山市禅城区中心幼儿园"},{"$f":"VLOOKUP(B1729,'[1]002'!B:M,11,0)","v":"-"},{"$f":"VLOOKUP(B1729,'[1]002'!B:M,12,0)","v":"-"},{"$f":"VLOOKUP(B1729,[2]sheet2!B:L,10,0)","v":"-"},{"$f":"VLOOKUP(B1729,[2]sheet2!B:L,11,0)","v":"-"},"http://183.62.54.51:8841/data/files/certificate/000000000439/f03cca8222154ec7bbe3dc1cece272ef/signed/1727_龙春燕_二等奖_7614.pdf"]
[1728,"P304019091505","新版小红帽","幼教组","新媒体新技术教学应用课例","二等奖",{"$f":"RIGHT(LEFT(VLOOKUP(B1730,'[1]002'!B:M,3,0),7),3)","v":"佛山市"},{"$f":"VLOOKUP(B1730,'[1]002'!B:M,7,0)","v":"张肖梅"},{"$f":"VLOOKUP(B1730,'[1]002'!B:M,8,0)","v":"佛山市南海区丹灶中心幼儿园"},{"$f":"VLOOKUP(B1730,'[1]002'!B:M,11,0)","v":"罗敏玲"},{"$f":"VLOOKUP(B1730,'[1]002'!B:M,12,0)","v":"佛山市南海区丹灶中心幼儿园"},{"$f":"VLOOKUP(B1730,[2]sheet2!B:L,10,0)","v":"黄雅晴"},{"$f":"VLOOKUP(B1730,[2]sheet2!B:L,11,0)","v":"佛山市南海区丹灶中心幼儿园"},"http://183.62.54.51:8841/data/files/certificate/000000000439/611bf04e22d14b94b4b967048a9771a6/signed/1728_张肖梅、罗敏玲、黄雅晴_二等奖_7615.pdf"]
[1729,"P304019091503","制作玩具汽车","幼教组","新媒体新技术教学应用课例","二等奖",{"$f":"RIGHT(LEFT(VLOOKUP(B1731,'[1]002'!B:M,3,0),7),3)","v":"佛山市"},{"$f":"VLOOKUP(B1731,'[1]002'!B:M,7,0)","v":"吴泳佳"},{"$f":"VLOOKUP(B1731,'[1]002'!B:M,8,0)","v":"佛山市南海区丹灶金沙幼儿园"},{"$f":"VLOOKUP(B1731,'[1]002'!B:M,11,0)","v":"杨就心"},{"$f":"VLOOKUP(B1731,'[1]002'!B:M,12,0)","v":"佛山市南海区丹灶金沙幼儿园"},{"$f":"VLOOKUP(B1731,[2]sheet2!B:L,10,0)","v":"刘洪敏"},{"$f":"VLOOKUP(B1731,[2]sheet2!B:L,11,0)","v":"佛山市南海区丹灶金沙幼儿园"},"http://183.62.54.51:8841/data/files/certificate/000000000439/e235b7089b2b4856b0fcfa35c98debf5/signed/1729_吴泳佳、杨就心、刘洪敏_二等奖_7616.pdf"]
[1730,"P304019091501","热闹的广场","幼教组","新媒体新技术教学应用课例","二等奖",{"$f":"RIGHT(LEFT(VLOOKUP(B1732,'[1]002'!B:M,3,0),7),3)","v":"佛山市"},{"$f":"VLOOKUP(B1732,'[1]002'!B:M,7,0)","v":"陆荣欣"},{"$f":"VLOOKUP(B1732,'[1]002'!B:M,8,0)","v":"佛山市南海区机关幼儿园"},{"$f":"VLOOKUP(B1732,'[1]002'!B:M,11,0)","v":"杜翠菊"},{"$f":"VLOOKUP(B1732,'[1]002'!B:M,12,0)","v":"佛山市南海区机关幼儿园"},{"$f":"VLOOKUP(B1732,[2]sheet2!B:L,10,0)","v":"麦福意"},{"$f":"VLOOKUP(B1732,[2]sheet2!B:L,11,0)","v":"佛山市南海区机关幼儿园"},"http://183.62.54.51:8841/data/files/certificate/000000000439/b18d910bbb02476bbb0bba6fab2a6a7f/signed/1730_陆荣欣、杜翠菊、麦福意_二等奖_7617.pdf"]
[1731,"P304019091515","IGOBY","幼教组","新媒体新技术教学应用课例","二等奖",{"$f":"RIGHT(LEFT(VLOOKUP(B1733,'[1]002'!B:M,3,0),7),3)","v":"佛山市"},{"$f":"VLOOKUP(B1733,'[1]002'!B:M,7,0)","v":"张秀平"},{"$f":"VLOOKUP(B1733,'[1]002'!B:M,8,0)","v":"北滘镇第二幼儿园"},{"$f":"VLOOKUP(B1733,'[1]002'!B:M,11,0)","v":"-"},{"$f":"VLOOKUP(B1733,'[1]002'!B:M,12,0)","v":"-"},{"$f":"VLOOKUP(B1733,[2]sheet2!B:L,10,0)","v":"-"},{"$f":"VLOOKUP(B1733,[2]sheet2!B:L,11,0)","v":"-"},"http://183.62.54.51:8841/data/files/certificate/000000000439/172a646b9d494ca0981436ac81db9935/signed/1731_张秀平_二等奖_7618.pdf"]
[1732,"P302019093065","爱跳舞的小草","幼教组","课件","三等奖","广州市",{"$f":"VLOOKUP(B1734,'[1]002'!B:M,7,0)","v":"陈赛琼"},{"$f":"VLOOKUP(B1734,'[1]002'!B:M,8,0)","v":"广州市萝岗区天鹿幼儿园"},{"$f":"VLOOKUP(B1734,'[1]002'!B:M,11,0)","v":"冯春梅"},{"$f":"VLOOKUP(B1734,'[1]002'!B:M,12,0)","v":"广州市萝岗区天鹿幼儿园"},{"$f":"VLOOKUP(B1734,[2]sheet2!B:L,10,0)","v":"-"},{"$f":"VLOOKUP(B1734,[2]sheet2!B:L,11,0)","v":"-"},"http://183.62.54.51:8841/data/files/certificate/000000000439/7b8ccc624fed4db6a2cea2f32c60cf71/signed/1732_陈赛琼、冯春梅_三等奖_7619.pdf"]
[1733,"P302019093057","大树的医生","幼教组","课件","三等奖","广州市",{"$f":"VLOOKUP(B1735,'[1]002'!B:M,7,0)","v":"梁宝欣"},{"$f":"VLOOKUP(B1735,'[1]002'!B:M,8,0)","v":"广州市白云区江高镇幼儿园"},{"$f":"VLOOKUP(B1735,'[1]002'!B:M,11,0)","v":"-"},{"$f":"VLOOKUP(B1735,'[1]002'!B:M,12,0)","v":"-"},{"$f":"VLOOKUP(B1735,[2]sheet2!B:L,10,0)","v":"-"},{"$f":"VLOOKUP(B1735,[2]sheet2!B:L,11,0)","v":"-"},"http://183.62.54.51:8841/data/files/certificate/000000000439/31ab369bf2af4899ad76af28cb26666a/signed/1733_梁宝欣_三等奖_7620.pdf"]
[1734,"P302019093062","美丽的清洁工","幼教组","课件","三等奖","广州市",{"$f":"VLOOKUP(B1736,'[1]002'!B:M,7,0)","v":"马昕"},{"$f":"VLOOKUP(B1736,'[1]002'!B:M,8,0)","v":"广州市越秀区云台里幼儿园"},{"$f":"VLOOKUP(B1736,'[1]002'!B:M,11,0)","v":"吴智妮"},{"$f":"VLOOKUP(B1736,'[1]002'!B:M,12,0)","v":"广州市越秀区云台里幼儿园"},{"$f":"VLOOKUP(B1736,[2]sheet2!B:L,10,0)","v":"邹惠玲"},{"$f":"VLOOKUP(B1736,[2]sheet2!B:L,11,0)","v":"广州市越秀区云台里幼儿园"},"http://183.62.54.51:8841/data/files/certificate/000000000439/3cee2178ef624135911e1764797703a7/signed/1734_马昕、吴智妮、邹惠玲_三等奖_7621.pdf"]
[1735,"P302019093069","小班语言活动：鳄鱼怕怕牙医怕怕","幼教组","课件","三等奖","广州市",{"$f":"VLOOKUP(B1737,'[1]002'!B:M,7,0)","v":"宋苑彤"},{"$f":"VLOOKUP(B1737,'[1]002'!B:M,8,0)","v":"广州市花都区幼林培英幼儿园"},{"$f":"VLOOKUP(B1737,'[1]002'!B:M,11,0)","v":"刘娟娟"},{"$f":"VLOOKUP(B1737,'[1]002'!B:M,12,0)","v":"广州市花都区幼林培英幼儿园"},{"$f":"VLOOKUP(B1737,[2]sheet2!B:L,10,0)","v":"江芷茵"},{"$f":"VLOOKUP(B1737,[2]sheet2!B:L,11,0)","v":"广州市花都区幼林培英幼儿园"},"http://183.62.54.51:8841/data/files/certificate/000000000439/faae6c715c6a4c0e8a8a63c23a2b0f41/signed/1735_宋苑彤、刘娟娟、江芷茵_三等奖_7622.pdf"]
[1736,"P302019091470","多角度分类","幼教组","课件","三等奖","佛山市",{"$f":"VLOOKUP(B1738,'[1]002'!B:M,7,0)","v":"徐曼芳"},{"$f":"VLOOKUP(B1738,'[1]002'!B:M,8,0)","v":"佛山市南海区丹灶金沙幼儿园"},{"$f":"VLOOKUP(B1738,'[1]002'!B:M,11,0)","v":"-"},{"$f":"VLOOKUP(B1738,'[1]002'!B:M,12,0)","v":"-"},{"$f":"VLOOKUP(B1738,[2]sheet2!B:L,10,0)","v":"-"},{"$f":"VLOOKUP(B1738,[2]sheet2!B:L,11,0)","v":"-"},"http://183.62.54.51:8841/data/files/certificate/000000000439/5527840e782e4cc2b83a5d2aa0751001/signed/1736_徐曼芳_三等奖_7623.pdf"]
[1737,"P302019091476","咬一口","幼教组","课件","三等奖","佛山市",{"$f":"VLOOKUP(B1739,'[1]002'!B:M,7,0)","v":"黄少琼"},{"$f":"VLOOKUP(B1739,'[1]002'!B:M,8,0)","v":"佛山市南海区丹灶金沙幼儿园"},{"$f":"VLOOKUP(B1739,'[1]002'!B:M,11,0)","v":"陈洁惠"},{"$f":"VLOOKUP(B1739,'[1]002'!B:M,12,0)","v":"佛山市南海区丹灶金沙幼儿园"},{"$f":"VLOOKUP(B1739,[2]sheet2!B:L,10,0)","v":"-"},{"$f":"VLOOKUP(B1739,[2]sheet2!B:L,11,0)","v":"-"},"http://183.62.54.51:8841/data/files/certificate/000000000439/62ad33be73c44043bddcbcddb37f1473/signed/1737_黄少琼、陈洁惠_三等奖_7624.pdf"]
[1738,"P302019091475","我和龙龙捉迷藏","幼教组","课件","三等奖","佛山市",{"$f":"VLOOKUP(B1740,'[1]002'!B:M,7,0)","v":"石嘉恩"},{"$f":"VLOOKUP(B1740,'[1]002'!B:M,8,0)","v":"佛山市南海区狮山松岗中心幼儿园"},{"$f":"VLOOKUP(B1740,'[1]002'!B:M,11,0)","v":"杨淑英"},{"$f":"VLOOKUP(B1740,'[1]002'!B:M,12,0)","v":"佛山市南海区狮山松岗中心幼儿园"},{"$f":"VLOOKUP(B1740,[2]sheet2!B:L,10,0)","v":"-"},{"$f":"VLOOKUP(B1740,[2]sheet2!B:L,11,0)","v":"-"},"http://183.62.54.51:8841/data/files/certificate/000000000439/e33963d765b449d680d8cb8ecedb7b0f/signed/1738_石嘉恩、杨淑英_三等奖_7625.pdf"]
[1739,"P302019091491","数字游戏","幼教组","课件","三等奖","佛山市",{"$f":"VLOOKUP(B1741,'[1]002'!B:M,7,0)","v":"欧阳素芬"},{"$f":"VLOOKUP(B1741,'[1]002'!B:M,8,0)","v":"佛山市顺德区均安镇中心幼儿园"},{"$f":"VLOOKUP(B1741,'[1]002'!B:M,11,0)","v":"-"},{"$f":"VLOOKUP(B1741,'[1]002'!B:M,12,0)","v":"-"},{"$f":"VLOOKUP(B1741,[2]sheet2!B:L,10,0)","v":"-"},{"$f":"VLOOKUP(B1741,[2]sheet2!B:L,11,0)","v":"-"},"http://183.62.54.51:8841/data/files/certificate/000000000439/de48eb4400074d4298dcabcb162fc40e/signed/1739_欧阳素芬_三等奖_7626.pdf"]
[1740,"P302019091484","各具特色的民族服饰","幼教组","课件","三等奖","佛山市",{"$f":"VLOOKUP(B1742,'[1]002'!B:M,7,0)","v":"李阳"},{"$f":"VLOOKUP(B1742,'[1]002'!B:M,8,0)","v":"禅城区机关第一幼儿园"},{"$f":"VLOOKUP(B1742,'[1]002'!B:M,11,0)","v":"-"},{"$f":"VLOOKUP(B1742,'[1]002'!B:M,12,0)","v":"-"},{"$f":"VLOOKUP(B1742,[2]sheet2!B:L,10,0)","v":"-"},{"$f":"VLOOKUP(B1742,[2]sheet2!B:L,11,0)","v":"-"},"http://183.62.54.51:8841/data/files/certificate/000000000439/efcafb77ceec4447bcb75e9442fad353/signed/1740_李阳_三等奖_7627.pdf"]
[1741,"P302019091490","彩虹世界","幼教组","课件","三等奖","佛山市",{"$f":"VLOOKUP(B1743,'[1]002'!B:M,7,0)","v":"刘思娜"},{"$f":"VLOOKUP(B1743,'[1]002'!B:M,8,0)","v":"佛山市机关幼儿园"},{"$f":"VLOOKUP(B1743,'[1]002'!B:M,11,0)","v":"-"},{"$f":"VLOOKUP(B1743,'[1]002'!B:M,12,0)","v":"-"},{"$f":"VLOOKUP(B1743,[2]sheet2!B:L,10,0)","v":"-"},{"$f":"VLOOKUP(B1743,[2]sheet2!B:L,11,0)","v":"-"},"http://183.62.54.51:8841/data/files/certificate/000000000439/a735c1d8f31c4c898149b6769455b9be/signed/1741_刘思娜_三等奖_7628.pdf"]
[1742,"P302019089698","9的组成","幼教组","课件","三等奖","韶关市",{"$f":"VLOOKUP(B1744,'[1]002'!B:M,7,0)","v":"蒋伟玲"},{"$f":"VLOOKUP(B1744,'[1]002'!B:M,8,0)","v":"仁化县董塘镇中心幼儿园"},{"$f":"VLOOKUP(B1744,'[1]002'!B:M,11,0)","v":"-"},{"$f":"VLOOKUP(B1744,'[1]002'!B:M,12,0)","v":"-"},{"$f":"VLOOKUP(B1744,[2]sheet2!B:L,10,0)","v":"-"},{"$f":"VLOOKUP(B1744,[2]sheet2!B:L,11,0)","v":"-"},"http://183.62.54.51:8841/data/files/certificate/000000000439/d9f5462a6f4845689f939446c82ef87d/signed/1742_蒋伟玲_三等奖_7629.pdf"]
[1743,"P302019089013","小狐狸画春天","幼教组","课件","三等奖","韶关市",{"$f":"VLOOKUP(B1745,'[1]002'!B:M,7,0)","v":"黄惠玲"},{"$f":"VLOOKUP(B1745,'[1]002'!B:M,8,0)","v":"新丰县第四幼儿园"},{"$f":"VLOOKUP(B1745,'[1]002'!B:M,11,0)","v":"丘慧敏"},{"$f":"VLOOKUP(B1745,'[1]002'!B:M,12,0)","v":"新丰县第四幼儿园"},{"$f":"VLOOKUP(B1745,[2]sheet2!B:L,10,0)","v":"-"},{"$f":"VLOOKUP(B1745,[2]sheet2!B:L,11,0)","v":"-"},"http://183.62.54.51:8841/data/files/certificate/000000000439/eda21139a8174c7d83d8a8c861eb8179/signed/1743_黄惠玲、丘慧敏_三等奖_7630.pdf"]
[1744,"P302019089055","蝌蚪变青蛙","幼教组","课件","三等奖","韶关市",{"$f":"VLOOKUP(B1746,'[1]002'!B:M,7,0)","v":"李丹丹"},{"$f":"VLOOKUP(B1746,'[1]002'!B:M,8,0)","v":"新丰县第四幼儿园"},{"$f":"VLOOKUP(B1746,'[1]002'!B:M,11,0)","v":"冯锦英"},{"$f":"VLOOKUP(B1746,'[1]002'!B:M,12,0)","v":"新丰县第四幼儿园"},{"$f":"VLOOKUP(B1746,[2]sheet2!B:L,10,0)","v":"-"},{"$f":"VLOOKUP(B1746,[2]sheet2!B:L,11,0)","v":"-"},"http://183.62.54.51:8841/data/files/certificate/000000000439/f3616b2ddf374efcb5c1d2c28c98bf3d/signed/1744_李丹丹、冯锦英_三等奖_7631.pdf"]
[1745,"P302019089628","买年货过新年","幼教组","课件","三等奖","韶关市",{"$f":"VLOOKUP(B1747,'[1]002'!B:M,7,0)","v":"陈文燕"},{"$f":"VLOOKUP(B1747,'[1]002'!B:M,8,0)","v":"新丰县第一幼儿园"},{"$f":"VLOOKUP(B1747,'[1]002'!B:M,11,0)","v":"-"},{"$f":"VLOOKUP(B1747,'[1]002'!B:M,12,0)","v":"-"},{"$f":"VLOOKUP(B1747,[2]sheet2!B:L,10,0)","v":"-"},{"$f":"VLOOKUP(B1747,[2]sheet2!B:L,11,0)","v":"-"},"http://183.62.54.51:8841/data/files/certificate/000000000439/45530035201948d59ac765e40ebd19c7/signed/1745_陈文燕_三等奖_7632.pdf"]
[1746,"P302019088972","小壁虎借尾巴","幼教组","课件","三等奖","韶关市",{"$f":"VLOOKUP(B1748,'[1]002'!B:M,7,0)","v":"丘敏娜"},{"$f":"VLOOKUP(B1748,'[1]002'!B:M,8,0)","v":"新丰县第四幼儿园"},{"$f":"VLOOKUP(B1748,'[1]002'!B:M,11,0)","v":"李秀娟"},{"$f":"VLOOKUP(B1748,'[1]002'!B:M,12,0)","v":"新丰县第四幼儿园"},{"$f":"VLOOKUP(B1748,[2]sheet2!B:L,10,0)","v":"周碧洁"},{"$f":"VLOOKUP(B1748,[2]sheet2!B:L,11,0)","v":"新丰县第四幼儿园"},"http://183.62.54.51:8841/data/files/certificate/000000000439/b79e92401b97410e9e73ad9c24c27f01/signed/1746_丘敏娜、李秀娟、周碧洁_三等奖_7633.pdf"]
[1747,"P302019093301","益虫和害虫","幼教组","课件","三等奖","河源市",{"$f":"VLOOKUP(B1749,'[1]002'!B:M,7,0)","v":"梁雪萍"},{"$f":"VLOOKUP(B1749,'[1]002'!B:M,8,0)","v":"河源市直属机关幼儿园"},{"$f":"VLOOKUP(B1749,'[1]002'!B:M,11,0)","v":"李频"},{"$f":"VLOOKUP(B1749,'[1]002'!B:M,12,0)","v":"河源市直属机关幼儿园"},{"$f":"VLOOKUP(B1749,[2]sheet2!B:L,10,0)","v":"巫丽娟"},{"$f":"VLOOKUP(B1749,[2]sheet2!B:L,11,0)","v":"河源市直属机关幼儿园"},"http://183.62.54.51:8841/data/files/certificate/000000000439/e82c1661d6094acda2c8a99425833579/signed/1747_梁雪萍、李频、巫丽娟_三等奖_7634.pdf"]
[1748,"P302019093305","保护牙齿","幼教组","课件","三等奖","河源市",{"$f":"VLOOKUP(B1750,'[1]002'!B:M,7,0)","v":"唐丽添"},{"$f":"VLOOKUP(B1750,'[1]002'!B:M,8,0)","v":"县直属机关幼儿园"},{"$f":"VLOOKUP(B1750,'[1]002'!B:M,11,0)","v":"赖欢欢"},{"$f":"VLOOKUP(B1750,'[1]002'!B:M,12,0)","v":"县直属机关幼儿园"},{"$f":"VLOOKUP(B1750,[2]sheet2!B:L,10,0)","v":"-"},{"$f":"VLOOKUP(B1750,[2]sheet2!B:L,11,0)","v":"-"},"http://183.62.54.51:8841/data/files/certificate/000000000439/0a38f1c045b44cc7984840dc17ddf69d/signed/1748_唐丽添、赖欢欢_三等奖_7635.pdf"]
[1749,"P302019092455","保护牙齿","幼教组","课件","三等奖","东莞市",{"$f":"VLOOKUP(B1751,'[1]002'!B:M,7,0)","v":"甘斌"},{"$f":"VLOOKUP(B1751,'[1]002'!B:M,8,0)","v":"东莞市塘厦镇中心幼儿园"},{"$f":"VLOOKUP(B1751,'[1]002'!B:M,11,0)","v":"李丽云"},{"$f":"VLOOKUP(B1751,'[1]002'!B:M,12,0)","v":"东莞市塘厦镇中心幼儿园"},{"$f":"VLOOKUP(B1751,[2]sheet2!B:L,10,0)","v":"黄宇昆"},{"$f":"VLOOKUP(B1751,[2]sheet2!B:L,11,0)","v":"东莞市塘厦镇中心幼儿园"},"http://183.62.54.51:8841/data/files/certificate/000000000439/83626dcb50994808839fc7725d8545e5/signed/1749_甘斌、李丽云、黄宇昆_三等奖_7636.pdf"]
[1750,"P302019092458","如何养成良好卫生饮食习惯","幼教组","课件","三等奖","东莞市",{"$f":"VLOOKUP(B1752,'[1]002'!B:M,7,0)","v":"何焕贞"},{"$f":"VLOOKUP(B1752,'[1]002'!B:M,8,0)","v":"东莞市石碣镇中心幼儿园"},{"$f":"VLOOKUP(B1752,'[1]002'!B:M,11,0)","v":"-"},{"$f":"VLOOKUP(B1752,'[1]002'!B:M,12,0)","v":"-"},{"$f":"VLOOKUP(B1752,[2]sheet2!B:L,10,0)","v":"-"},{"$f":"VLOOKUP(B1752,[2]sheet2!B:L,11,0)","v":"-"},"http://183.62.54.51:8841/data/files/certificate/000000000439/b92e00915f17434fb2047cfe7d2963a3/signed/1750_何焕贞_三等奖_7637.pdf"]
[1751,"P302019092459","金鱼","幼教组","课件","三等奖","东莞市",{"$f":"VLOOKUP(B1753,'[1]002'!B:M,7,0)","v":"钟凰玮"},{"$f":"VLOOKUP(B1753,'[1]002'!B:M,8,0)","v":"东莞市樟木头南天理想幼儿园"},{"$f":"VLOOKUP(B1753,'[1]002'!B:M,11,0)","v":"温春风"},{"$f":"VLOOKUP(B1753,'[1]002'!B:M,12,0)","v":"东莞市樟木头南天理想幼儿园"},{"$f":"VLOOKUP(B1753,[2]sheet2!B:L,10,0)","v":"-"},{"$f":"VLOOKUP(B1753,[2]sheet2!B:L,11,0)","v":"-"},"http://183.62.54.51:8841/data/files/certificate/000000000439/14e5376422604f879477ed92ef7d7475/signed/1751_钟凰玮、温春风_三等奖_7638.pdf"]
[1752,"P302019092452","森林英雄","幼教组","课件","三等奖","东莞市",{"$f":"VLOOKUP(B1754,'[1]002'!B:M,7,0)","v":"曾晓淋"},{"$f":"VLOOKUP(B1754,'[1]002'!B:M,8,0)","v":"东莞市樟木头华仁幼儿园"},{"$f":"VLOOKUP(B1754,'[1]002'!B:M,11,0)","v":"-"},{"$f":"VLOOKUP(B1754,'[1]002'!B:M,12,0)","v":"-"},{"$f":"VLOOKUP(B1754,[2]sheet2!B:L,10,0)","v":"-"},{"$f":"VLOOKUP(B1754,[2]sheet2!B:L,11,0)","v":"-"},"http://183.62.54.51:8841/data/files/certificate/000000000439/c972af77e5654166b10e6fc6f72a0c75/signed/1752_曾晓淋_三等奖_7639.pdf"]
[1753,"P302019092351","我会保护自己","幼教组","课件","三等奖","江门市",{"$f":"VLOOKUP(B1755,'[1]002'!B:M,7,0)","v":"梁清梅"},{"$f":"VLOOKUP(B1755,'[1]002'!B:M,8,0)","v":"江门市蓓蕾幼儿园"},{"$f":"VLOOKUP(B1755,'[1]002'!B:M,11,0)","v":"黄洁敏"},{"$f":"VLOOKUP(B1755,'[1]002'!B:M,12,0)","v":"蓓蕾幼儿园"},{"$f":"VLOOKUP(B1755,[2]sheet2!B:L,10,0)","v":"-"},{"$f":"VLOOKUP(B1755,[2]sheet2!B:L,11,0)","v":"-"},"http://183.62.54.51:8841/data/files/certificate/000000000439/ea716c1e4b72411798ce0a5c1db92593/signed/1753_梁清梅、黄洁敏_三等奖_7640.pdf"]
[1754,"P302019092065","认识时钟","幼教组","课件","三等奖","江门市",{"$f":"VLOOKUP(B1756,'[1]002'!B:M,7,0)","v":"冯小红"},{"$f":"VLOOKUP(B1756,'[1]002'!B:M,8,0)","v":"鹤山市建委幼儿园"},{"$f":"VLOOKUP(B1756,'[1]002'!B:M,11,0)","v":"-"},{"$f":"VLOOKUP(B1756,'[1]002'!B:M,12,0)","v":"-"},{"$f":"VLOOKUP(B1756,[2]sheet2!B:L,10,0)","v":"-"},{"$f":"VLOOKUP(B1756,[2]sheet2!B:L,11,0)","v":"-"},"http://183.62.54.51:8841/data/files/certificate/000000000439/d0c0b4337ba54e91849a6f9b1d3a5c8e/signed/1754_冯小红_三等奖_7641.pdf"]
[1755,"P302019092018","安全教育","幼教组","课件","三等奖","江门市",{"$f":"VLOOKUP(B1757,'[1]002'!B:M,7,0)","v":"洪慧星"},{"$f":"VLOOKUP(B1757,'[1]002'!B:M,8,0)","v":"开平市三埠新昌幼儿园"},{"$f":"VLOOKUP(B1757,'[1]002'!B:M,11,0)","v":"-"},{"$f":"VLOOKUP(B1757,'[1]002'!B:M,12,0)","v":"-"},{"$f":"VLOOKUP(B1757,[2]sheet2!B:L,10,0)","v":"-"},{"$f":"VLOOKUP(B1757,[2]sheet2!B:L,11,0)","v":"-"},"http://183.62.54.51:8841/data/files/certificate/000000000439/8f5a154ded04498db6a6335fd902cb18/signed/1755_洪慧星_三等奖_7642.pdf"]
[1756,"P302019092068","中班安全教育消防安全在心中","幼教组","课件","三等奖","江门市",{"$f":"VLOOKUP(B1758,'[1]002'!B:M,7,0)","v":"余碧莹"},{"$f":"VLOOKUP(B1758,'[1]002'!B:M,8,0)","v":"鹤山市财贸幼儿园"},{"$f":"VLOOKUP(B1758,'[1]002'!B:M,11,0)","v":"-"},{"$f":"VLOOKUP(B1758,'[1]002'!B:M,12,0)","v":"-"},{"$f":"VLOOKUP(B1758,[2]sheet2!B:L,10,0)","v":"-"},{"$f":"VLOOKUP(B1758,[2]sheet2!B:L,11,0)","v":"-"},"http://183.62.54.51:8841/data/files/certificate/000000000439/a02ac7056d454b0aa828a235d618e039/signed/1756_余碧莹_三等奖_7643.pdf"]
[1757,"P302019092070","衣服的小秘密","幼教组","课件","三等奖","江门市",{"$f":"VLOOKUP(B1759,'[1]002'!B:M,7,0)","v":"廖瑞明"},{"$f":"VLOOKUP(B1759,'[1]002'!B:M,8,0)","v":"鹤山市建委幼儿园"},{"$f":"VLOOKUP(B1759,'[1]002'!B:M,11,0)","v":"-"},{"$f":"VLOOKUP(B1759,'[1]002'!B:M,12,0)","v":"-"},{"$f":"VLOOKUP(B1759,[2]sheet2!B:L,10,0)","v":"-"},{"$f":"VLOOKUP(B1759,[2]sheet2!B:L,11,0)","v":"-"},"http://183.62.54.51:8841/data/files/certificate/000000000439/6fb367b3865f4b40a86b645d05b3e8ab/signed/1757_廖瑞明_三等奖_7644.pdf"]
[1758,"P302019092869","小红帽","幼教组","课件","三等奖","湛江市",{"$f":"VLOOKUP(B1760,'[1]002'!B:M,7,0)","v":"邓秋华"},{"$f":"VLOOKUP(B1760,'[1]002'!B:M,8,0)","v":"徐闻县第一幼儿园"},{"$f":"VLOOKUP(B1760,'[1]002'!B:M,11,0)","v":"-"},{"$f":"VLOOKUP(B1760,'[1]002'!B:M,12,0)","v":"-"},{"$f":"VLOOKUP(B1760,[2]sheet2!B:L,10,0)","v":"-"},{"$f":"VLOOKUP(B1760,[2]sheet2!B:L,11,0)","v":"-"},"http://183.62.54.51:8841/data/files/certificate/000000000439/1d1052f80e164844837e1436a8754d4f/signed/1758_邓秋华_三等奖_7645.pdf"]
[1759,"P302019091170","认识时间","幼教组","课件","三等奖","肇庆市",{"$f":"VLOOKUP(B1761,'[1]002'!B:M,7,0)","v":"金世英"},{"$f":"VLOOKUP(B1761,'[1]002'!B:M,8,0)","v":"肇庆市直属机关第一幼儿园"},{"$f":"VLOOKUP(B1761,'[1]002'!B:M,11,0)","v":"-"},{"$f":"VLOOKUP(B1761,'[1]002'!B:M,12,0)","v":"-"},{"$f":"VLOOKUP(B1761,[2]sheet2!B:L,10,0)","v":"-"},{"$f":"VLOOKUP(B1761,[2]sheet2!B:L,11,0)","v":"-"},"http://183.62.54.51:8841/data/files/certificate/000000000439/0a0129b432834fb7b6d59d79ba32f7cd/signed/1759_金世英_三等奖_7646.pdf"]
[1760,"P303019093073","会游的小鱼","幼教组","微课","三等奖","广州市",{"$f":"VLOOKUP(B1762,'[1]002'!B:M,7,0)","v":"戴灵"},{"$f":"VLOOKUP(B1762,'[1]002'!B:M,8,0)","v":"广州市荔湾区协和幼儿园"},{"$f":"VLOOKUP(B1762,'[1]002'!B:M,11,0)","v":"关敏娟"},{"$f":"VLOOKUP(B1762,'[1]002'!B:M,12,0)","v":"广州市荔湾区协和幼儿园"},{"$f":"VLOOKUP(B1762,[2]sheet2!B:L,10,0)","v":"刘莉莉"},{"$f":"VLOOKUP(B1762,[2]sheet2!B:L,11,0)","v":"广州市荔湾区协和幼儿园"},"http://183.62.54.51:8841/data/files/certificate/000000000439/f42b1c3c595843058751a7d77ded4ed3/signed/1760_戴灵、关敏娟、刘莉莉_三等奖_7647.pdf"]
[1761,"P303019091865","樱花","幼教组","微课","三等奖","汕头市",{"$f":"VLOOKUP(B1763,'[1]002'!B:M,7,0)","v":"蔡晓欢"},{"$f":"VLOOKUP(B1763,'[1]002'!B:M,8,0)","v":"汕头市中山第二幼儿园"},{"$f":"VLOOKUP(B1763,'[1]002'!B:M,11,0)","v":"-"},{"$f":"VLOOKUP(B1763,'[1]002'!B:M,12,0)","v":"-"},{"$f":"VLOOKUP(B1763,[2]sheet2!B:L,10,0)","v":"-"},{"$f":"VLOOKUP(B1763,[2]sheet2!B:L,11,0)","v":"-"},"http://183.62.54.51:8841/data/files/certificate/000000000439/9450853b3bbd42fe9e57247f9acb8244/signed/1761_蔡晓欢_三等奖_7648.pdf"]
[1762,"P303019091869","我会叠衣服","幼教组","微课","三等奖","汕头市",{"$f":"VLOOKUP(B1764,'[1]002'!B:M,7,0)","v":"张洁琳"},{"$f":"VLOOKUP(B1764,'[1]002'!B:M,8,0)","v":"汕头市中山幼儿园"},{"$f":"VLOOKUP(B1764,'[1]002'!B:M,11,0)","v":"-"},{"$f":"VLOOKUP(B1764,'[1]002'!B:M,12,0)","v":"-"},{"$f":"VLOOKUP(B1764,[2]sheet2!B:L,10,0)","v":"-"},{"$f":"VLOOKUP(B1764,[2]sheet2!B:L,11,0)","v":"-"},"http://183.62.54.51:8841/data/files/certificate/000000000439/16454ce6bbd44441acf31bf0c3c4b32a/signed/1762_张洁琳_三等奖_7649.pdf"]
[1763,"P303019091107","剪纸微课小兔","幼教组","微课","三等奖","佛山市",{"$f":"VLOOKUP(B1765,'[1]002'!B:M,7,0)","v":"曹佳萍"},{"$f":"VLOOKUP(B1765,'[1]002'!B:M,8,0)","v":"禅城区张槎中心幼儿园"},{"$f":"VLOOKUP(B1765,'[1]002'!B:M,11,0)","v":"-"},{"$f":"VLOOKUP(B1765,'[1]002'!B:M,12,0)","v":"-"},{"$f":"VLOOKUP(B1765,[2]sheet2!B:L,10,0)","v":"-"},{"$f":"VLOOKUP(B1765,[2]sheet2!B:L,11,0)","v":"-"},"http://183.62.54.51:8841/data/files/certificate/000000000439/69dc0bff240e46419bfeeddc321a70ba/signed/1763_曹佳萍_三等奖_7650.pdf"]
[1764,"P303019091092","你能看到声音吗","幼教组","微课","三等奖","佛山市",{"$f":"VLOOKUP(B1766,'[1]002'!B:M,7,0)","v":"张婉华"},{"$f":"VLOOKUP(B1766,'[1]002'!B:M,8,0)","v":"佛山市南海区狮山官窑中心幼儿园"},{"$f":"VLOOKUP(B1766,'[1]002'!B:M,11,0)","v":"陈子淇"},{"$f":"VLOOKUP(B1766,'[1]002'!B:M,12,0)","v":"佛山市南海区狮山官窑中心幼儿园"},{"$f":"VLOOKUP(B1766,[2]sheet2!B:L,10,0)","v":"梁雪贤"},{"$f":"VLOOKUP(B1766,[2]sheet2!B:L,11,0)","v":"佛山市南海区狮山官窑中心幼儿园"},"http://183.62.54.51:8841/data/files/certificate/000000000439/fd346b567f894fd5b75f2669972807b7/signed/1764_张婉华、陈子淇、梁雪贤_三等奖_7651.pdf"]
[1765,"P303019091120","影子的秘密","幼教组","微课","三等奖","佛山市",{"$f":"VLOOKUP(B1767,'[1]002'!B:M,7,0)","v":"黎芷珊"},{"$f":"VLOOKUP(B1767,'[1]002'!B:M,8,0)","v":"佛山市三水区中心幼儿园"},{"$f":"VLOOKUP(B1767,'[1]002'!B:M,11,0)","v":"甘婉红"},{"$f":"VLOOKUP(B1767,'[1]002'!B:M,12,0)","v":"佛山市三水区中心幼儿园"},{"$f":"VLOOKUP(B1767,[2]sheet2!B:L,10,0)","v":"-"},{"$f":"VLOOKUP(B1767,[2]sheet2!B:L,11,0)","v":"-"},"http://183.62.54.51:8841/data/files/certificate/000000000439/ce2aa26d87e548a099b597852503af26/signed/1765_黎芷珊、甘婉红_三等奖_7652.pdf"]
[1766,"P303019091088","垃圾分类小达人","幼教组","微课","三等奖","佛山市",{"$f":"VLOOKUP(B1768,'[1]002'!B:M,7,0)","v":"梁燕洲"},{"$f":"VLOOKUP(B1768,'[1]002'!B:M,8,0)","v":"禅城区卡尔加里幼儿园"},{"$f":"VLOOKUP(B1768,'[1]002'!B:M,11,0)","v":"-"},{"$f":"VLOOKUP(B1768,'[1]002'!B:M,12,0)","v":"-"},{"$f":"VLOOKUP(B1768,[2]sheet2!B:L,10,0)","v":"-"},{"$f":"VLOOKUP(B1768,[2]sheet2!B:L,11,0)","v":"-"},"http://183.62.54.51:8841/data/files/certificate/000000000439/8d2e15d983af4e21bf4054cc500bd25b/signed/1766_梁燕洲_三等奖_7653.pdf"]
[1767,"P303019091103","3D打印面具","幼教组","微课","三等奖","佛山市",{"$f":"VLOOKUP(B1769,'[1]002'!B:M,7,0)","v":"劳碧华"},{"$f":"VLOOKUP(B1769,'[1]002'!B:M,8,0)","v":"佛山市南海区丹灶金沙幼儿园"},{"$f":"VLOOKUP(B1769,'[1]002'!B:M,11,0)","v":"余少琦"},{"$f":"VLOOKUP(B1769,'[1]002'!B:M,12,0)","v":"佛山市南海区丹灶金沙幼儿园"},{"$f":"VLOOKUP(B1769,[2]sheet2!B:L,10,0)","v":"黎玉枝"},{"$f":"VLOOKUP(B1769,[2]sheet2!B:L,11,0)","v":"佛山市南海区丹灶金沙幼儿园"},"http://183.62.54.51:8841/data/files/certificate/000000000439/060fa648da4a4b04bed142b1e8830a92/signed/1767_劳碧华、余少琦、黎玉枝_三等奖_7654.pdf"]
[1768,"P303019091108","桃心发夹","幼教组","微课","三等奖","佛山市",{"$f":"VLOOKUP(B1770,'[1]002'!B:M,7,0)","v":"梁敏娜"},{"$f":"VLOOKUP(B1770,'[1]002'!B:M,8,0)","v":"禅城区机关第一幼儿园"},{"$f":"VLOOKUP(B1770,'[1]002'!B:M,11,0)","v":"-"},{"$f":"VLOOKUP(B1770,'[1]002'!B:M,12,0)","v":"-"},{"$f":"VLOOKUP(B1770,[2]sheet2!B:L,10,0)","v":"-"},{"$f":"VLOOKUP(B1770,[2]sheet2!B:L,11,0)","v":"-"},"http://183.62.54.51:8841/data/files/certificate/000000000439/1574c51067364c90b673cec36f224c28/signed/1768_梁敏娜_三等奖_7655.pdf"]
[1769,"P303019091083","有趣的表情","幼教组","微课","三等奖","佛山市",{"$f":"VLOOKUP(B1771,'[1]002'!B:M,7,0)","v":"林里梨"},{"$f":"VLOOKUP(B1771,'[1]002'!B:M,8,0)","v":"佛山市高明区机关幼儿园"},{"$f":"VLOOKUP(B1771,'[1]002'!B:M,11,0)","v":"-"},{"$f":"VLOOKUP(B1771,'[1]002'!B:M,12,0)","v":"-"},{"$f":"VLOOKUP(B1771,[2]sheet2!B:L,10,0)","v":"-"},{"$f":"VLOOKUP(B1771,[2]sheet2!B:L,11,0)","v":"-"},"http://183.62.54.51:8841/data/files/certificate/000000000439/157f7875153d41499585eb5bf9e347b9/signed/1769_林里梨_三等奖_7656.pdf"]
[1770,"P303019091114","职业大不同","幼教组","微课","三等奖","佛山市",{"$f":"VLOOKUP(B1772,'[1]002'!B:M,7,0)","v":"吴嘉琪"},{"$f":"VLOOKUP(B1772,'[1]002'!B:M,8,0)","v":"佛山市顺德区北滘镇雅正幼儿园"},{"$f":"VLOOKUP(B1772,'[1]002'!B:M,11,0)","v":"-"},{"$f":"VLOOKUP(B1772,'[1]002'!B:M,12,0)","v":"-"},{"$f":"VLOOKUP(B1772,[2]sheet2!B:L,10,0)","v":"-"},{"$f":"VLOOKUP(B1772,[2]sheet2!B:L,11,0)","v":"-"},"http://183.62.54.51:8841/data/files/certificate/000000000439/df8df1b3d45446b188e3142bf5817822/signed/1770_吴嘉琪_三等奖_7657.pdf"]
[1771,"P303019091093","讲卫生的好宝宝","幼教组","微课","三等奖","佛山市",{"$f":"VLOOKUP(B1773,'[1]002'!B:M,7,0)","v":"杨就心"},{"$f":"VLOOKUP(B1773,'[1]002'!B:M,8,0)","v":"佛山市南海区丹灶金沙幼儿园"},{"$f":"VLOOKUP(B1773,'[1]002'!B:M,11,0)","v":"梁彩云"},{"$f":"VLOOKUP(B1773,'[1]002'!B:M,12,0)","v":"佛山市南海区丹灶金沙幼儿园"},{"$f":"VLOOKUP(B1773,[2]sheet2!B:L,10,0)","v":"张宝恩"},{"$f":"VLOOKUP(B1773,[2]sheet2!B:L,11,0)","v":"佛山市南海区丹灶金沙幼儿园"},"http://183.62.54.51:8841/data/files/certificate/000000000439/99bfa04291d243a28fad69c5146c7f3d/signed/1771_杨就心、梁彩云、张宝恩_三等奖_7658.pdf"]
[1772,"P303019091113","和手机交朋友","幼教组","微课","三等奖","佛山市",{"$f":"VLOOKUP(B1774,'[1]002'!B:M,7,0)","v":"肖平平"},{"$f":"VLOOKUP(B1774,'[1]002'!B:M,8,0)","v":"佛山市顺德区北滘镇雅正幼儿园"},{"$f":"VLOOKUP(B1774,'[1]002'!B:M,11,0)","v":"麦梓朋"},{"$f":"VLOOKUP(B1774,'[1]002'!B:M,12,0)","v":"佛山市顺德区北滘碧江小学"},{"$f":"VLOOKUP(B1774,[2]sheet2!B:L,10,0)","v":"-"},{"$f":"VLOOKUP(B1774,[2]sheet2!B:L,11,0)","v":"-"},"http://183.62.54.51:8841/data/files/certificate/000000000439/78653816043a435993546b52d2a08364/signed/1772_肖平平、麦梓朋_三等奖_7659.pdf"]
[1773,"P303019091122","防拐安全教育","幼教组","微课","三等奖","佛山市",{"$f":"VLOOKUP(B1775,'[1]002'!B:M,7,0)","v":"刘聪兰"},{"$f":"VLOOKUP(B1775,'[1]002'!B:M,8,0)","v":"佛山市三水区中心幼儿园"},{"$f":"VLOOKUP(B1775,'[1]002'!B:M,11,0)","v":"华建茜"},{"$f":"VLOOKUP(B1775,'[1]002'!B:M,12,0)","v":"佛山市三水区中心幼儿园"},{"$f":"VLOOKUP(B1775,[2]sheet2!B:L,10,0)","v":"-"},{"$f":"VLOOKUP(B1775,[2]sheet2!B:L,11,0)","v":"-"},"http://183.62.54.51:8841/data/files/certificate/000000000439/a26d85bf02f94b1dbeb980c7edcea7b7/signed/1773_刘聪兰、华建茜_三等奖_7660.pdf"]
[1774,"P303019091123","图形宝宝逛超市","幼教组","微课","三等奖","佛山市",{"$f":"VLOOKUP(B1776,'[1]002'!B:M,7,0)","v":"王洁莹"},{"$f":"VLOOKUP(B1776,'[1]002'!B:M,8,0)","v":"佛山市三水区中心幼儿园"},{"$f":"VLOOKUP(B1776,'[1]002'!B:M,11,0)","v":"钟晓芬"},{"$f":"VLOOKUP(B1776,'[1]002'!B:M,12,0)","v":"佛山市三水区中心幼儿园"},{"$f":"VLOOKUP(B1776,[2]sheet2!B:L,10,0)","v":"-"},{"$f":"VLOOKUP(B1776,[2]sheet2!B:L,11,0)","v":"-"},"http://183.62.54.51:8841/data/files/certificate/000000000439/a3bb81fd785c490782076ecec2162d2b/signed/1774_王洁莹、钟晓芬_三等奖_7661.pdf"]
[1775,"P303019089692","薰衣草","幼教组","微课","三等奖","韶关市",{"$f":"VLOOKUP(B1777,'[1]002'!B:M,7,0)","v":"蒋伟玲"},{"$f":"VLOOKUP(B1777,'[1]002'!B:M,8,0)","v":"仁化县董塘镇中心幼儿园"},{"$f":"VLOOKUP(B1777,'[1]002'!B:M,11,0)","v":"-"},{"$f":"VLOOKUP(B1777,'[1]002'!B:M,12,0)","v":"-"},{"$f":"VLOOKUP(B1777,[2]sheet2!B:L,10,0)","v":"-"},{"$f":"VLOOKUP(B1777,[2]sheet2!B:L,11,0)","v":"-"},"http://183.62.54.51:8841/data/files/certificate/000000000439/adcf388496974b6bafef23b4b7357a9b/signed/1775_蒋伟玲_三等奖_7662.pdf"]
[1776,"P303019089575","祖国我爱你","幼教组","微课","三等奖","韶关市",{"$f":"VLOOKUP(B1778,'[1]002'!B:M,7,0)","v":"吴茵"},{"$f":"VLOOKUP(B1778,'[1]002'!B:M,8,0)","v":"韶关市浈江区建国幼儿园"},{"$f":"VLOOKUP(B1778,'[1]002'!B:M,11,0)","v":"-"},{"$f":"VLOOKUP(B1778,'[1]002'!B:M,12,0)","v":"-"},{"$f":"VLOOKUP(B1778,[2]sheet2!B:L,10,0)","v":"-"},{"$f":"VLOOKUP(B1778,[2]sheet2!B:L,11,0)","v":"-"},"http://183.62.54.51:8841/data/files/certificate/000000000439/cf72a7bb7abf49acba734e515b020420/signed/1776_吴茵_三等奖_7663.pdf"]
[1777,"P303019088188","疯狂的头发","幼教组","微课","三等奖","韶关市",{"$f":"VLOOKUP(B1779,'[1]002'!B:M,7,0)","v":"陈亮"},{"$f":"VLOOKUP(B1779,'[1]002'!B:M,8,0)","v":"韶关市浈江区花坪镇中心幼儿园"},{"$f":"VLOOKUP(B1779,'[1]002'!B:M,11,0)","v":"-"},{"$f":"VLOOKUP(B1779,'[1]002'!B:M,12,0)","v":"-"},{"$f":"VLOOKUP(B1779,[2]sheet2!B:L,10,0)","v":"-"},{"$f":"VLOOKUP(B1779,[2]sheet2!B:L,11,0)","v":"-"},"http://183.62.54.51:8841/data/files/certificate/000000000439/0f2214c9c21d450abf53f386f4d092d5/signed/1777_陈亮_三等奖_7664.pdf"]
[1778,"P303419089961","蚕的一生","幼教组","微课","三等奖","韶关市",{"$f":"VLOOKUP(B1780,'[1]002'!B:M,7,0)","v":"沈华芬"},{"$f":"VLOOKUP(B1780,'[1]002'!B:M,8,0)","v":"韶关市曲江区第一幼儿园"},{"$f":"VLOOKUP(B1780,'[1]002'!B:M,11,0)","v":"李净"},{"$f":"VLOOKUP(B1780,'[1]002'!B:M,12,0)","v":"韶关市曲江区第一幼儿园"},{"$f":"VLOOKUP(B1780,[2]sheet2!B:L,10,0)","v":"-"},{"$f":"VLOOKUP(B1780,[2]sheet2!B:L,11,0)","v":"-"},"http://183.62.54.51:8841/data/files/certificate/000000000439/e43296432d124fde8c7ba802f352cab4/signed/1778_沈华芬、李净_三等奖_7665.pdf"]
[1779,"P303019093324","吹画梅花","幼教组","微课","三等奖","河源市",{"$f":"VLOOKUP(B1781,'[1]002'!B:M,7,0)","v":"李立欢"},{"$f":"VLOOKUP(B1781,'[1]002'!B:M,8,0)","v":"东源县第一幼儿园"},{"$f":"VLOOKUP(B1781,'[1]002'!B:M,11,0)","v":"-"},{"$f":"VLOOKUP(B1781,'[1]002'!B:M,12,0)","v":"-"},{"$f":"VLOOKUP(B1781,[2]sheet2!B:L,10,0)","v":"-"},{"$f":"VLOOKUP(B1781,[2]sheet2!B:L,11,0)","v":"-"},"http://183.62.54.51:8841/data/files/certificate/000000000439/6ba3a6faa3474d9c838c671de66524c0/signed/1779_李立欢_三等奖_7666.pdf"]
[1780,"P303019093322","交通标志","幼教组","微课","三等奖","河源市",{"$f":"VLOOKUP(B1782,'[1]002'!B:M,7,0)","v":"罗婷"},{"$f":"VLOOKUP(B1782,'[1]002'!B:M,8,0)","v":"河源市直属机关幼儿园"},{"$f":"VLOOKUP(B1782,'[1]002'!B:M,11,0)","v":"陈都"},{"$f":"VLOOKUP(B1782,'[1]002'!B:M,12,0)","v":"河源市直属机关幼儿园"},{"$f":"VLOOKUP(B1782,[2]sheet2!B:L,10,0)","v":"廖琳静"},{"$f":"VLOOKUP(B1782,[2]sheet2!B:L,11,0)","v":"河源市直属机关幼儿园"},"http://183.62.54.51:8841/data/files/certificate/000000000439/c6fa19798f7c4b64a479753fafd7ecfe/signed/1780_罗婷、陈都、廖琳静_三等奖_7667.pdf"]
[1781,"P303019093323","细胞流体画","幼教组","微课","三等奖","河源市",{"$f":"VLOOKUP(B1783,'[1]002'!B:M,7,0)","v":"林丽君"},{"$f":"VLOOKUP(B1783,'[1]002'!B:M,8,0)","v":"河源市直属机关幼儿园"},{"$f":"VLOOKUP(B1783,'[1]002'!B:M,11,0)","v":"邹少芬"},{"$f":"VLOOKUP(B1783,'[1]002'!B:M,12,0)","v":"河源市直属机关幼儿园"},{"$f":"VLOOKUP(B1783,[2]sheet2!B:L,10,0)","v":"余惠群"},{"$f":"VLOOKUP(B1783,[2]sheet2!B:L,11,0)","v":"河源市直属机关幼儿园"},"http://183.62.54.51:8841/data/files/certificate/000000000439/35f958dc88c844629f23a848a13f5e46/signed/1781_林丽君、邹少芬、余惠群_三等奖_7668.pdf"]
[1782,"P303019092254","找规律","幼教组","微课","三等奖","惠州市",{"$f":"VLOOKUP(B1784,'[1]002'!B:M,7,0)","v":"罗婷婷"},{"$f":"VLOOKUP(B1784,'[1]002'!B:M,8,0)","v":"惠州市光正实验学校"},{"$f":"VLOOKUP(B1784,'[1]002'!B:M,11,0)","v":"-"},{"$f":"VLOOKUP(B1784,'[1]002'!B:M,12,0)","v":"-"},{"$f":"VLOOKUP(B1784,[2]sheet2!B:L,10,0)","v":"-"},{"$f":"VLOOKUP(B1784,[2]sheet2!B:L,11,0)","v":"-"},"http://183.62.54.51:8841/data/files/certificate/000000000439/3d3665f3b9b34d338e478bb9a40e3a87/signed/1782_罗婷婷_三等奖_7669.pdf"]
[1783,"P303019092130","火山爆发小实验","幼教组","微课","三等奖","惠州市",{"$f":"VLOOKUP(B1785,'[1]002'!B:M,7,0)","v":"魏怡霞"},{"$f":"VLOOKUP(B1785,'[1]002'!B:M,8,0)","v":"惠州大亚湾经济技术开发区西区中心幼儿园"},{"$f":"VLOOKUP(B1785,'[1]002'!B:M,11,0)","v":"-"},{"$f":"VLOOKUP(B1785,'[1]002'!B:M,12,0)","v":"-"},{"$f":"VLOOKUP(B1785,[2]sheet2!B:L,10,0)","v":"-"},{"$f":"VLOOKUP(B1785,[2]sheet2!B:L,11,0)","v":"-"},"http://183.62.54.51:8841/data/files/certificate/000000000439/4efbfcc20cff48559a5c6edaec9d7e7f/signed/1783_魏怡霞_三等奖_7670.pdf"]
[1784,"P303019092253","认识符号","幼教组","微课","三等奖","惠州市",{"$f":"VLOOKUP(B1786,'[1]002'!B:M,7,0)","v":"袁木英"},{"$f":"VLOOKUP(B1786,'[1]002'!B:M,8,0)","v":"惠州市光正实验学校"},{"$f":"VLOOKUP(B1786,'[1]002'!B:M,11,0)","v":"-"},{"$f":"VLOOKUP(B1786,'[1]002'!B:M,12,0)","v":"-"},{"$f":"VLOOKUP(B1786,[2]sheet2!B:L,10,0)","v":"-"},{"$f":"VLOOKUP(B1786,[2]sheet2!B:L,11,0)","v":"-"},"http://183.62.54.51:8841/data/files/certificate/000000000439/040ec7374b094beb9b4b7383555a3cc6/signed/1784_袁木英_三等奖_7671.pdf"]
[1785,"P303019092554","会跳舞的泡泡","幼教组","微课","三等奖","东莞市",{"$f":"VLOOKUP(B1787,'[1]002'!B:M,7,0)","v":"赖余良"},{"$f":"VLOOKUP(B1787,'[1]002'!B:M,8,0)","v":"东莞市樟木头凯斯幼儿园"},{"$f":"VLOOKUP(B1787,'[1]002'!B:M,11,0)","v":"-"},{"$f":"VLOOKUP(B1787,'[1]002'!B:M,12,0)","v":"-"},{"$f":"VLOOKUP(B1787,[2]sheet2!B:L,10,0)","v":"-"},{"$f":"VLOOKUP(B1787,[2]sheet2!B:L,11,0)","v":"-"},"http://183.62.54.51:8841/data/files/certificate/000000000439/107f237d908c4de4984737ba8d34be79/signed/1785_赖余良_三等奖_7672.pdf"]
[1786,"P303019092545","神奇的手电筒","幼教组","微课","三等奖","东莞市",{"$f":"VLOOKUP(B1788,'[1]002'!B:M,7,0)","v":"谢路缘"},{"$f":"VLOOKUP(B1788,'[1]002'!B:M,8,0)","v":"东莞市大岭山镇实验幼儿园"},{"$f":"VLOOKUP(B1788,'[1]002'!B:M,11,0)","v":"-"},{"$f":"VLOOKUP(B1788,'[1]002'!B:M,12,0)","v":"-"},{"$f":"VLOOKUP(B1788,[2]sheet2!B:L,10,0)","v":"-"},{"$f":"VLOOKUP(B1788,[2]sheet2!B:L,11,0)","v":"-"},"http://183.62.54.51:8841/data/files/certificate/000000000439/eb0ce8f67b2144288eeb6ba8bcd8b8b1/signed/1786_谢路缘_三等奖_7673.pdf"]
[1787,"P303019092541","樟城麒麟说","幼教组","微课","三等奖","东莞市",{"$f":"VLOOKUP(B1789,'[1]002'!B:M,7,0)","v":"帅梦"},{"$f":"VLOOKUP(B1789,'[1]002'!B:M,8,0)","v":"东莞市樟木头镇实验幼儿园"},{"$f":"VLOOKUP(B1789,'[1]002'!B:M,11,0)","v":"龚莉"},{"$f":"VLOOKUP(B1789,'[1]002'!B:M,12,0)","v":"东莞市樟木头镇实验幼儿园"},{"$f":"VLOOKUP(B1789,[2]sheet2!B:L,10,0)","v":"-"},{"$f":"VLOOKUP(B1789,[2]sheet2!B:L,11,0)","v":"-"},"http://183.62.54.51:8841/data/files/certificate/000000000439/fb0357bf02fa4cd282ea2e61ff4fc90a/signed/1787_帅梦、龚莉_三等奖_7674.pdf"]
[1788,"P303019092551","我不挑食","幼教组","微课","三等奖","东莞市",{"$f":"VLOOKUP(B1790,'[1]002'!B:M,7,0)","v":"林运媚"},{"$f":"VLOOKUP(B1790,'[1]002'!B:M,8,0)","v":"东莞市大朗翔凤幼儿园"},{"$f":"VLOOKUP(B1790,'[1]002'!B:M,11,0)","v":"-"},{"$f":"VLOOKUP(B1790,'[1]002'!B:M,12,0)","v":"-"},{"$f":"VLOOKUP(B1790,[2]sheet2!B:L,10,0)","v":"-"},{"$f":"VLOOKUP(B1790,[2]sheet2!B:L,11,0)","v":"-"},"http://183.62.54.51:8841/data/files/certificate/000000000439/51deb29db8144aeab1510a1bf0bfb8fa/signed/1788_林运媚_三等奖_7675.pdf"]
[1789,"P303019092546","漂亮的窗花","幼教组","微课","三等奖","东莞市",{"$f":"VLOOKUP(B1791,'[1]002'!B:M,7,0)","v":"陈罗亚"},{"$f":"VLOOKUP(B1791,'[1]002'!B:M,8,0)","v":"东莞市大岭山镇中心幼儿园"},{"$f":"VLOOKUP(B1791,'[1]002'!B:M,11,0)","v":"-"},{"$f":"VLOOKUP(B1791,'[1]002'!B:M,12,0)","v":"-"},{"$f":"VLOOKUP(B1791,[2]sheet2!B:L,10,0)","v":"-"},{"$f":"VLOOKUP(B1791,[2]sheet2!B:L,11,0)","v":"-"},"http://183.62.54.51:8841/data/files/certificate/000000000439/05144166824d499f8e8c7ff02a95968f/signed/1789_陈罗亚_三等奖_7676.pdf"]
[1790,"P303019092331","认识5以内的序数","幼教组","微课","三等奖","江门市",{"$f":"VLOOKUP(B1792,'[1]002'!B:M,7,0)","v":"谭艳雅"},{"$f":"VLOOKUP(B1792,'[1]002'!B:M,8,0)","v":"蓓蕾幼儿园"},{"$f":"VLOOKUP(B1792,'[1]002'!B:M,11,0)","v":"-"},{"$f":"VLOOKUP(B1792,'[1]002'!B:M,12,0)","v":"-"},{"$f":"VLOOKUP(B1792,[2]sheet2!B:L,10,0)","v":"-"},{"$f":"VLOOKUP(B1792,[2]sheet2!B:L,11,0)","v":"-"},"http://183.62.54.51:8841/data/files/certificate/000000000439/7726ac0889af4d49a4d9e088a550532a/signed/1790_谭艳雅_三等奖_7677.pdf"]
[1791,"P303019091338","垃圾分类，我知道","幼教组","微课","三等奖","茂名市",{"$f":"VLOOKUP(B1793,'[1]002'!B:M,7,0)","v":"李欣玲"},{"$f":"VLOOKUP(B1793,'[1]002'!B:M,8,0)","v":"茂名市第二幼儿园"},{"$f":"VLOOKUP(B1793,'[1]002'!B:M,11,0)","v":"-"},{"$f":"VLOOKUP(B1793,'[1]002'!B:M,12,0)","v":"-"},{"$f":"VLOOKUP(B1793,[2]sheet2!B:L,10,0)","v":"-"},{"$f":"VLOOKUP(B1793,[2]sheet2!B:L,11,0)","v":"-"},"http://183.62.54.51:8841/data/files/certificate/000000000439/c0fc1b803a9f47a99cd1657158d4cf1f/signed/1791_李欣玲_三等奖_7678.pdf"]
[1792,"P303019091138","小水滴旅行记","幼教组","微课","三等奖","肇庆市",{"$f":"VLOOKUP(B1794,'[1]002'!B:M,7,0)","v":"林玛丽"},{"$f":"VLOOKUP(B1794,'[1]002'!B:M,8,0)","v":"肇庆市直属机关第一幼儿园"},{"$f":"VLOOKUP(B1794,'[1]002'!B:M,11,0)","v":"-"},{"$f":"VLOOKUP(B1794,'[1]002'!B:M,12,0)","v":"-"},{"$f":"VLOOKUP(B1794,[2]sheet2!B:L,10,0)","v":"-"},{"$f":"VLOOKUP(B1794,[2]sheet2!B:L,11,0)","v":"-"},"http://183.62.54.51:8841/data/files/certificate/000000000439/ea986fd7f55c4b4abf208751abcc2edd/signed/1792_林玛丽_三等奖_7679.pdf"]
[1793,"P303019090283","找尾巴","幼教组","微课","三等奖","肇庆市",{"$f":"VLOOKUP(B1795,'[1]002'!B:M,7,0)","v":"黄玉艳"},{"$f":"VLOOKUP(B1795,'[1]002'!B:M,8,0)","v":"肇庆市高要区明珠华之光幼儿园"},{"$f":"VLOOKUP(B1795,'[1]002'!B:M,11,0)","v":"-"},{"$f":"VLOOKUP(B1795,'[1]002'!B:M,12,0)","v":"-"},{"$f":"VLOOKUP(B1795,[2]sheet2!B:L,10,0)","v":"-"},{"$f":"VLOOKUP(B1795,[2]sheet2!B:L,11,0)","v":"-"},"http://183.62.54.51:8841/data/files/certificate/000000000439/9bcbfbfd7b76411baf832b15161443f4/signed/1793_黄玉艳_三等奖_7680.pdf"]
[1794,"P303019091141","幼儿园大班数学活动自然测量","幼教组","微课","三等奖","肇庆市",{"$f":"VLOOKUP(B1796,'[1]002'!B:M,7,0)","v":"李燕好"},{"$f":"VLOOKUP(B1796,'[1]002'!B:M,8,0)","v":"肇庆市直属机关第二幼儿园"},{"$f":"VLOOKUP(B1796,'[1]002'!B:M,11,0)","v":"刘润枝"},{"$f":"VLOOKUP(B1796,'[1]002'!B:M,12,0)","v":"肇庆市直属机关第二幼儿园"},{"$f":"VLOOKUP(B1796,[2]sheet2!B:L,10,0)","v":"-"},{"$f":"VLOOKUP(B1796,[2]sheet2!B:L,11,0)","v":"-"},"http://183.62.54.51:8841/data/files/certificate/000000000439/f4da91c0ccfe46678d9cd9e0cc690ac4/signed/1794_李燕好、刘润枝_三等奖_7681.pdf"]
[1795,"P303019091155","幼儿园中班语言活动纸箱妙妙妙","幼教组","微课","三等奖","肇庆市",{"$f":"VLOOKUP(B1797,'[1]002'!B:M,7,0)","v":"陈书耘"},{"$f":"VLOOKUP(B1797,'[1]002'!B:M,8,0)","v":"肇庆市直属机关第二幼儿园"},{"$f":"VLOOKUP(B1797,'[1]002'!B:M,11,0)","v":"王威"},{"$f":"VLOOKUP(B1797,'[1]002'!B:M,12,0)","v":"肇庆市直属机关第二幼儿园"},{"$f":"VLOOKUP(B1797,[2]sheet2!B:L,10,0)","v":"-"},{"$f":"VLOOKUP(B1797,[2]sheet2!B:L,11,0)","v":"-"},"http://183.62.54.51:8841/data/files/certificate/000000000439/7b089ec3a474474b873473f623540ed5/signed/1795_陈书耘、王威_三等奖_7682.pdf"]
[1796,"P303019091164","弟子规《凡是人  皆需爱》","幼教组","微课","三等奖","肇庆市",{"$f":"VLOOKUP(B1798,'[1]002'!B:M,7,0)","v":"韩克静"},{"$f":"VLOOKUP(B1798,'[1]002'!B:M,8,0)","v":"肇庆市直属机关第二幼儿园"},{"$f":"VLOOKUP(B1798,'[1]002'!B:M,11,0)","v":"吴迪"},{"$f":"VLOOKUP(B1798,'[1]002'!B:M,12,0)","v":"肇庆市直属机关第二幼儿园"},{"$f":"VLOOKUP(B1798,[2]sheet2!B:L,10,0)","v":"-"},{"$f":"VLOOKUP(B1798,[2]sheet2!B:L,11,0)","v":"-"},"http://183.62.54.51:8841/data/files/certificate/000000000439/a68c08df97cb41fdb5a02d72fd5d033e/signed/1796_韩克静、吴迪_三等奖_7683.pdf"]
[1797,"P303019091160","幼儿园大班健康教育活动吃安全健康的食品","幼教组","微课","三等奖","肇庆市",{"$f":"VLOOKUP(B1799,'[1]002'!B:M,7,0)","v":"林妮"},{"$f":"VLOOKUP(B1799,'[1]002'!B:M,8,0)","v":"肇庆市直属机关第二幼儿园"},{"$f":"VLOOKUP(B1799,'[1]002'!B:M,11,0)","v":"邓颖"},{"$f":"VLOOKUP(B1799,'[1]002'!B:M,12,0)","v":"肇庆市直属机关第二幼儿园"},{"$f":"VLOOKUP(B1799,[2]sheet2!B:L,10,0)","v":"-"},{"$f":"VLOOKUP(B1799,[2]sheet2!B:L,11,0)","v":"-"},"http://183.62.54.51:8841/data/files/certificate/000000000439/8ee6fd424a3c445ab01b95a1217f8618/signed/1797_林妮、邓颖_三等奖_7684.pdf"]
[1798,"P303019091147","幼儿园中班数学活动形状王国","幼教组","微课","三等奖","肇庆市",{"$f":"VLOOKUP(B1800,'[1]002'!B:M,7,0)","v":"陈玉琴"},{"$f":"VLOOKUP(B1800,'[1]002'!B:M,8,0)","v":"肇庆市外贸幼儿园"},{"$f":"VLOOKUP(B1800,'[1]002'!B:M,11,0)","v":"-"},{"$f":"VLOOKUP(B1800,'[1]002'!B:M,12,0)","v":"-"},{"$f":"VLOOKUP(B1800,[2]sheet2!B:L,10,0)","v":"-"},{"$f":"VLOOKUP(B1800,[2]sheet2!B:L,11,0)","v":"-"},"http://183.62.54.51:8841/data/files/certificate/000000000439/b4b71f609dd346b9b5a89665661c5ea5/signed/1798_陈玉琴_三等奖_7685.pdf"]
[1799,"P303019091154","漂亮的五彩鱼","幼教组","微课","三等奖","肇庆市",{"$f":"VLOOKUP(B1801,'[1]002'!B:M,7,0)","v":"区靖妍"},{"$f":"VLOOKUP(B1801,'[1]002'!B:M,8,0)","v":"肇庆市外贸幼儿园"},{"$f":"VLOOKUP(B1801,'[1]002'!B:M,11,0)","v":"-"},{"$f":"VLOOKUP(B1801,'[1]002'!B:M,12,0)","v":"-"},{"$f":"VLOOKUP(B1801,[2]sheet2!B:L,10,0)","v":"-"},{"$f":"VLOOKUP(B1801,[2]sheet2!B:L,11,0)","v":"-"},"http://183.62.54.51:8841/data/files/certificate/000000000439/65a7d951432d4ca88e062f92692372e7/signed/1799_区靖妍_三等奖_7686.pdf"]
[1800,"P303019091162","科学活动美丽的蝴蝶","幼教组","微课","三等奖","肇庆市",{"$f":"VLOOKUP(B1802,'[1]002'!B:M,7,0)","v":"何靖"},{"$f":"VLOOKUP(B1802,'[1]002'!B:M,8,0)","v":"肇庆市直属机关第一幼儿园"},{"$f":"VLOOKUP(B1802,'[1]002'!B:M,11,0)","v":"-"},{"$f":"VLOOKUP(B1802,'[1]002'!B:M,12,0)","v":"-"},{"$f":"VLOOKUP(B1802,[2]sheet2!B:L,10,0)","v":"-"},{"$f":"VLOOKUP(B1802,[2]sheet2!B:L,11,0)","v":"-"},"http://183.62.54.51:8841/data/files/certificate/000000000439/a6917703647a4b9aa0ff6b8b496e06f7/signed/1800_何靖_三等奖_7687.pdf"]
[1801,"P303019091143","大班科学活动四色桶","幼教组","微课","三等奖","肇庆市",{"$f":"VLOOKUP(B1803,'[1]002'!B:M,7,0)","v":"林永红"},{"$f":"VLOOKUP(B1803,'[1]002'!B:M,8,0)","v":"肇庆市直属机关第二幼儿园"},{"$f":"VLOOKUP(B1803,'[1]002'!B:M,11,0)","v":"杨桂"},{"$f":"VLOOKUP(B1803,'[1]002'!B:M,12,0)","v":"肇庆市直属机关第二幼儿园"},{"$f":"VLOOKUP(B1803,[2]sheet2!B:L,10,0)","v":"-"},{"$f":"VLOOKUP(B1803,[2]sheet2!B:L,11,0)","v":"-"},"http://183.62.54.51:8841/data/files/certificate/000000000439/794cf0116a704f1f854b6dc291965e9b/signed/1801_林永红、杨桂_三等奖_7688.pdf"]
[1802,"P303019091158","小班科学活动美丽的动物","幼教组","微课","三等奖","肇庆市",{"$f":"VLOOKUP(B1804,'[1]002'!B:M,7,0)","v":"张玲玲"},{"$f":"VLOOKUP(B1804,'[1]002'!B:M,8,0)","v":"肇庆市直属机关第二幼儿园"},{"$f":"VLOOKUP(B1804,'[1]002'!B:M,11,0)","v":"王杏玲"},{"$f":"VLOOKUP(B1804,'[1]002'!B:M,12,0)","v":"肇庆市直属机关第二幼儿园"},{"$f":"VLOOKUP(B1804,[2]sheet2!B:L,10,0)","v":"-"},{"$f":"VLOOKUP(B1804,[2]sheet2!B:L,11,0)","v":"-"},"http://183.62.54.51:8841/data/files/certificate/000000000439/70767da5f069443a801f9ab30def82cc/signed/1802_张玲玲、王杏玲_三等奖_7689.pdf"]
[1803,"P303019090318","小树叶找妈妈","幼教组","微课","三等奖","潮州市",{"$f":"VLOOKUP(B1805,'[1]002'!B:M,7,0)","v":"余晓静"},{"$f":"VLOOKUP(B1805,'[1]002'!B:M,8,0)","v":"饶平县中心幼儿园"},{"$f":"VLOOKUP(B1805,'[1]002'!B:M,11,0)","v":"-"},{"$f":"VLOOKUP(B1805,'[1]002'!B:M,12,0)","v":"-"},{"$f":"VLOOKUP(B1805,[2]sheet2!B:L,10,0)","v":"-"},{"$f":"VLOOKUP(B1805,[2]sheet2!B:L,11,0)","v":"-"},"http://183.62.54.51:8841/data/files/certificate/000000000439/b9316c419f9545c69153cf58ce56a4dd/signed/1803_余晓静_三等奖_7690.pdf"]
[1804,"P305019086079","爱护母亲河净塑护梅江","幼教组","信息技术创新教学案例","三等奖","梅州市",{"$f":"VLOOKUP(B1806,'[1]002'!B:M,7,0)","v":"王玉燕"},{"$f":"VLOOKUP(B1806,'[1]002'!B:M,8,0)","v":"梅江区实验幼儿园"},{"$f":"VLOOKUP(B1806,'[1]002'!B:M,11,0)","v":"-"},{"$f":"VLOOKUP(B1806,'[1]002'!B:M,12,0)","v":"-"},{"$f":"VLOOKUP(B1806,[2]sheet2!B:L,10,0)","v":"-"},{"$f":"VLOOKUP(B1806,[2]sheet2!B:L,11,0)","v":"-"},"http://183.62.54.51:8841/data/files/certificate/000000000439/9b2c16489d4a4def8c7b304ef00c97b9/signed/1804_王玉燕_三等奖_7691.pdf"]
[1805,"P304019093055","乐在抱团中","幼教组","新媒体新技术教学应用课例","三等奖",{"$f":"RIGHT(LEFT(VLOOKUP(B1807,'[1]002'!B:M,3,0),7),3)","v":"广州市"},{"$f":"VLOOKUP(B1807,'[1]002'!B:M,7,0)","v":"郑旖旎"},{"$f":"VLOOKUP(B1807,'[1]002'!B:M,8,0)","v":"广州市荔湾区协和幼儿园"},{"$f":"VLOOKUP(B1807,'[1]002'!B:M,11,0)","v":"卢燕坤"},{"$f":"VLOOKUP(B1807,'[1]002'!B:M,12,0)","v":"广州市荔湾区协和幼儿园"},{"$f":"VLOOKUP(B1807,[2]sheet2!B:L,10,0)","v":"徐韵"},{"$f":"VLOOKUP(B1807,[2]sheet2!B:L,11,0)","v":"广州市荔湾区协和幼儿园"},"http://183.62.54.51:8841/data/files/certificate/000000000439/8e9be7a6158a4432960db16fcc6b52ae/signed/1805_郑旖旎、卢燕坤、徐韵_三等奖_7692.pdf"]
[1806,"P304019093056","玩转水的表面张力","幼教组","新媒体新技术教学应用课例","三等奖",{"$f":"RIGHT(LEFT(VLOOKUP(B1808,'[1]002'!B:M,3,0),7),3)","v":"广州市"},{"$f":"VLOOKUP(B1808,'[1]002'!B:M,7,0)","v":"郑永梅"},{"$f":"VLOOKUP(B1808,'[1]002'!B:M,8,0)","v":"广州市番禺区直属机关幼儿园"},{"$f":"VLOOKUP(B1808,'[1]002'!B:M,11,0)","v":"-"},{"$f":"VLOOKUP(B1808,'[1]002'!B:M,12,0)","v":"-"},{"$f":"VLOOKUP(B1808,[2]sheet2!B:L,10,0)","v":"-"},{"$f":"VLOOKUP(B1808,[2]sheet2!B:L,11,0)","v":"-"},"http://183.62.54.51:8841/data/files/certificate/000000000439/ded217e263374a15af147c66eeba690d/signed/1806_郑永梅_三等奖_7693.pdf"]
[1807,"P304019092766","蜘蛛和糖果店","幼教组","新媒体新技术教学应用课例","三等奖",{"$f":"RIGHT(LEFT(VLOOKUP(B1809,'[1]002'!B:M,3,0),7),3)","v":"深圳市"},{"$f":"VLOOKUP(B1809,'[1]002'!B:M,7,0)","v":"刘思佳"},{"$f":"VLOOKUP(B1809,'[1]002'!B:M,8,0)","v":"深圳市大鹏新区大鹏实验幼儿园"},{"$f":"VLOOKUP(B1809,'[1]002'!B:M,11,0)","v":"-"},{"$f":"VLOOKUP(B1809,'[1]002'!B:M,12,0)","v":"-"},{"$f":"VLOOKUP(B1809,[2]sheet2!B:L,10,0)","v":"-"},{"$f":"VLOOKUP(B1809,[2]sheet2!B:L,11,0)","v":"-"},"http://183.62.54.51:8841/data/files/certificate/000000000439/f1148e7fe5a6447c9ff2fe4991f2428e/signed/1807_刘思佳_三等奖_7694.pdf"]
[1808,"P304019091502","5以内的点数","幼教组","新媒体新技术教学应用课例","三等奖",{"$f":"RIGHT(LEFT(VLOOKUP(B1810,'[1]002'!B:M,3,0),7),3)","v":"佛山市"},{"$f":"VLOOKUP(B1810,'[1]002'!B:M,7,0)","v":"林敏仪"},{"$f":"VLOOKUP(B1810,'[1]002'!B:M,8,0)","v":"佛山市南海区丹灶金沙幼儿园"},{"$f":"VLOOKUP(B1810,'[1]002'!B:M,11,0)","v":"邹高薇"},{"$f":"VLOOKUP(B1810,'[1]002'!B:M,12,0)","v":"佛山市南海区丹灶金沙幼儿园"},{"$f":"VLOOKUP(B1810,[2]sheet2!B:L,10,0)","v":"徐曼芳"},{"$f":"VLOOKUP(B1810,[2]sheet2!B:L,11,0)","v":"佛山市南海区丹灶金沙幼儿园"},"http://183.62.54.51:8841/data/files/certificate/000000000439/fb39ebcc028e4b53abeee68a0e7f609a/signed/1808_林敏仪、邹高薇、徐曼芳_三等奖_7695.pdf"]
[1809,"P304019091500","垃圾分一分家园美十分","幼教组","新媒体新技术教学应用课例","三等奖",{"$f":"RIGHT(LEFT(VLOOKUP(B1811,'[1]002'!B:M,3,0),7),3)","v":"佛山市"},{"$f":"VLOOKUP(B1811,'[1]002'!B:M,7,0)","v":"马伟萍"},{"$f":"VLOOKUP(B1811,'[1]002'!B:M,8,0)","v":"佛山市南海区桂城平洲中心幼儿园"},{"$f":"VLOOKUP(B1811,'[1]002'!B:M,11,0)","v":"张颖嫦"},{"$f":"VLOOKUP(B1811,'[1]002'!B:M,12,0)","v":"佛山市南海区桂城平洲中心幼儿园"},{"$f":"VLOOKUP(B1811,[2]sheet2!B:L,10,0)","v":"黎淑女"},{"$f":"VLOOKUP(B1811,[2]sheet2!B:L,11,0)","v":"佛山市南海区桂城平洲中心幼儿园"},"http://183.62.54.51:8841/data/files/certificate/000000000439/e3af190fe02e4b69bd7e27a2a1bc45e1/signed/1809_马伟萍、张颖嫦、黎淑女_三等奖_7696.pdf"]
[1810,"P304019091514","狂欢的鳄鱼","幼教组","新媒体新技术教学应用课例","三等奖",{"$f":"RIGHT(LEFT(VLOOKUP(B1812,'[1]002'!B:M,3,0),7),3)","v":"佛山市"},{"$f":"VLOOKUP(B1812,'[1]002'!B:M,7,0)","v":"蔡兴梅"},{"$f":"VLOOKUP(B1812,'[1]002'!B:M,8,0)","v":"佛山市顺德区北滘君兰幼儿园"},{"$f":"VLOOKUP(B1812,'[1]002'!B:M,11,0)","v":"-"},{"$f":"VLOOKUP(B1812,'[1]002'!B:M,12,0)","v":"-"},{"$f":"VLOOKUP(B1812,[2]sheet2!B:L,10,0)","v":"-"},{"$f":"VLOOKUP(B1812,[2]sheet2!B:L,11,0)","v":"-"},"http://183.62.54.51:8841/data/files/certificate/000000000439/3e991f9ffc14449380c0a6bdc2bef8af/signed/1810_蔡兴梅_三等奖_7697.pdf"]
[1811,"P304019091518","食物的旅行","幼教组","新媒体新技术教学应用课例","三等奖",{"$f":"RIGHT(LEFT(VLOOKUP(B1813,'[1]002'!B:M,3,0),7),3)","v":"佛山市"},{"$f":"VLOOKUP(B1813,'[1]002'!B:M,7,0)","v":"姚梦婷"},{"$f":"VLOOKUP(B1813,'[1]002'!B:M,8,0)","v":"佛山市顺德区乐从中心幼儿园"},{"$f":"VLOOKUP(B1813,'[1]002'!B:M,11,0)","v":"劳楚琦"},{"$f":"VLOOKUP(B1813,'[1]002'!B:M,12,0)","v":"佛山市顺德区乐从中心幼儿园"},{"$f":"VLOOKUP(B1813,[2]sheet2!B:L,10,0)","v":"-"},{"$f":"VLOOKUP(B1813,[2]sheet2!B:L,11,0)","v":"-"},"http://183.62.54.51:8841/data/files/certificate/000000000439/1ab89f75a3604529a04db70c7c63c734/signed/1811_姚梦婷、劳楚琦_三等奖_7698.pdf"]
[1812,"P304019089955","排一排","幼教组","新媒体新技术教学应用课例","三等奖",{"$f":"RIGHT(LEFT(VLOOKUP(B1814,'[1]002'!B:M,3,0),7),3)","v":"韶关市"},{"$f":"VLOOKUP(B1814,'[1]002'!B:M,7,0)","v":"沈华芬"},{"$f":"VLOOKUP(B1814,'[1]002'!B:M,8,0)","v":"韶关市曲江区第一幼儿园"},{"$f":"VLOOKUP(B1814,'[1]002'!B:M,11,0)","v":"-"},{"$f":"VLOOKUP(B1814,'[1]002'!B:M,12,0)","v":"-"},{"$f":"VLOOKUP(B1814,[2]sheet2!B:L,10,0)","v":"-"},{"$f":"VLOOKUP(B1814,[2]sheet2!B:L,11,0)","v":"-"},"http://183.62.54.51:8841/data/files/certificate/000000000439/b4375e8a596d40119fec269cd249f8e3/signed/1812_沈华芬_三等奖_7699.pdf"]
[1813,"P304019088810","光影魔术师","幼教组","新媒体新技术教学应用课例","三等奖",{"$f":"RIGHT(LEFT(VLOOKUP(B1815,'[1]002'!B:M,3,0),7),3)","v":"韶关市"},{"$f":"VLOOKUP(B1815,'[1]002'!B:M,7,0)","v":"唐慧琳"},{"$f":"VLOOKUP(B1815,'[1]002'!B:M,8,0)","v":"韶关市浈江区执信幼儿园"},{"$f":"VLOOKUP(B1815,'[1]002'!B:M,11,0)","v":"-"},{"$f":"VLOOKUP(B1815,'[1]002'!B:M,12,0)","v":"-"},{"$f":"VLOOKUP(B1815,[2]sheet2!B:L,10,0)","v":"-"},{"$f":"VLOOKUP(B1815,[2]sheet2!B:L,11,0)","v":"-"},"http://183.62.54.51:8841/data/files/certificate/000000000439/e941c52555744403a7734e65bbeefce6/signed/1813_唐慧琳_三等奖_7700.pdf"]
[1814,"P304019093316","快乐的时钟","幼教组","新媒体新技术教学应用课例","三等奖",{"$f":"RIGHT(LEFT(VLOOKUP(B1816,'[1]002'!B:M,3,0),7),3)","v":"河源市"},{"$f":"VLOOKUP(B1816,'[1]002'!B:M,7,0)","v":"余惠群"},{"$f":"VLOOKUP(B1816,'[1]002'!B:M,8,0)","v":"河源市直属机关幼儿园"},{"$f":"VLOOKUP(B1816,'[1]002'!B:M,11,0)","v":"林丽君"},{"$f":"VLOOKUP(B1816,'[1]002'!B:M,12,0)","v":"河源市直属机关幼儿园"},{"$f":"VLOOKUP(B1816,[2]sheet2!B:L,10,0)","v":"邹少芬"},{"$f":"VLOOKUP(B1816,[2]sheet2!B:L,11,0)","v":"河源市直属机关幼儿园"},"http://183.62.54.51:8841/data/files/certificate/000000000439/fa6e117dabd14a64ab370d5419a9d400/signed/1814_余惠群、林丽君、邹少芬_三等奖_7701.pdf"]
[1815,"P304019093317","盐去哪里了","幼教组","新媒体新技术教学应用课例","三等奖",{"$f":"RIGHT(LEFT(VLOOKUP(B1817,'[1]002'!B:M,3,0),7),3)","v":"河源市"},{"$f":"VLOOKUP(B1817,'[1]002'!B:M,7,0)","v":"谢笑笑"},{"$f":"VLOOKUP(B1817,'[1]002'!B:M,8,0)","v":"和平县阳明中心幼儿园"},{"$f":"VLOOKUP(B1817,'[1]002'!B:M,11,0)","v":"徐卓群"},{"$f":"VLOOKUP(B1817,'[1]002'!B:M,12,0)","v":"和平县阳明中心幼儿园"},{"$f":"VLOOKUP(B1817,[2]sheet2!B:L,10,0)","v":"-"},{"$f":"VLOOKUP(B1817,[2]sheet2!B:L,11,0)","v":"-"},"http://183.62.54.51:8841/data/files/certificate/000000000439/261cb101abae4b13b569e51de7f858a3/signed/1815_谢笑笑、徐卓群_三等奖_7702.pdf"]
[1816,"P304019092333","有趣的排序","幼教组","新媒体新技术教学应用课例","三等奖",{"$f":"RIGHT(LEFT(VLOOKUP(B1818,'[1]002'!B:M,3,0),7),3)","v":"江门市"},{"$f":"VLOOKUP(B1818,'[1]002'!B:M,7,0)","v":"邓秀华"},{"$f":"VLOOKUP(B1818,'[1]002'!B:M,8,0)","v":"江门市蓓蕾幼儿园"},{"$f":"VLOOKUP(B1818,'[1]002'!B:M,11,0)","v":"-"},{"$f":"VLOOKUP(B1818,'[1]002'!B:M,12,0)","v":"-"},{"$f":"VLOOKUP(B1818,[2]sheet2!B:L,10,0)","v":"-"},{"$f":"VLOOKUP(B1818,[2]sheet2!B:L,11,0)","v":"-"},"http://183.62.54.51:8841/data/files/certificate/000000000439/285ec8f2d8934aa1a0e90567328a3688/signed/1816_邓秀华_三等奖_7703.pdf"]
[1817,"P304019091388","过生日","幼教组","新媒体新技术教学应用课例","三等奖",{"$f":"RIGHT(LEFT(VLOOKUP(B1819,'[1]002'!B:M,3,0),7),3)","v":"茂名市"},{"$f":"VLOOKUP(B1819,'[1]002'!B:M,7,0)","v":"张雪"},{"$f":"VLOOKUP(B1819,'[1]002'!B:M,8,0)","v":"信宜市幼儿园"},{"$f":"VLOOKUP(B1819,'[1]002'!B:M,11,0)","v":"-"},{"$f":"VLOOKUP(B1819,'[1]002'!B:M,12,0)","v":"-"},{"$f":"VLOOKUP(B1819,[2]sheet2!B:L,10,0)","v":"-"},{"$f":"VLOOKUP(B1819,[2]sheet2!B:L,11,0)","v":"-"},"http://183.62.54.51:8841/data/files/certificate/000000000439/aa018a79026343f8a4704bd6d360550e/signed/1817_张雪_三等奖_7704.pdf"]
[1818,"P307219090353","它们吸水吗","幼教组","新媒体新技术教学应用课例","三等奖","茂名市","江锡彪","茂名市第一幼儿园","-","-",{"$f":"VLOOKUP(B1820,[2]sheet2!B:L,10,0)","v":{"$error":"#N/A"}},{"$f":"VLOOKUP(B1820,[2]sheet2!B:L,11,0)","v":{"$error":"#N/A"}},"http://183.62.54.51:8841/data/files/certificate/000000000439/f102ab7892b84d5ebf3e0ab0262b4803/signed/1818_江锡彪_三等奖_7705.pdf"]
[1819,"P304019091712","桃花朵朵开","幼教组","新媒体新技术教学应用课例","三等奖",{"$f":"RIGHT(LEFT(VLOOKUP(B1821,'[1]002'!B:M,3,0),7),3)","v":"清远市"},{"$f":"VLOOKUP(B1821,'[1]002'!B:M,7,0)","v":"罗先限"},{"$f":"VLOOKUP(B1821,'[1]002'!B:M,8,0)","v":"佛冈县建设路幼儿园"},{"$f":"VLOOKUP(B1821,'[1]002'!B:M,11,0)","v":"-"},{"$f":"VLOOKUP(B1821,'[1]002'!B:M,12,0)","v":"-"},{"$f":"VLOOKUP(B1821,[2]sheet2!B:L,10,0)","v":"-"},{"$f":"VLOOKUP(B1821,[2]sheet2!B:L,11,0)","v":"-"},"http://183.62.54.51:8841/data/files/certificate/000000000439/2bb5825d95c9476cb2cdc8893f7ccf09/signed/1819_罗先限_三等奖_7706.pdf"]
[1820,"P304019091720","三个强盗","幼教组","新媒体新技术教学应用课例","三等奖",{"$f":"RIGHT(LEFT(VLOOKUP(B1822,'[1]002'!B:M,3,0),7),3)","v":"清远市"},{"$f":"VLOOKUP(B1822,'[1]002'!B:M,7,0)","v":"陈妹桂"},{"$f":"VLOOKUP(B1822,'[1]002'!B:M,8,0)","v":"阳山县碧桂园幼儿园"},{"$f":"VLOOKUP(B1822,'[1]002'!B:M,11,0)","v":"毛伟丽"},{"$f":"VLOOKUP(B1822,'[1]002'!B:M,12,0)","v":"阳山县碧桂园幼儿园"},{"$f":"VLOOKUP(B1822,[2]sheet2!B:L,10,0)","v":"冯妮娜"},{"$f":"VLOOKUP(B1822,[2]sheet2!B:L,11,0)","v":"阳山县碧桂园幼儿园"},"http://183.62.54.51:8841/data/files/certificate/000000000439/3c7acf866e114cf38c36438403a5856c/signed/1820_陈妹桂、毛伟丽、冯妮娜_三等奖_7707.pdf"]
[1821,"P304019091721","甜甜的棒棒糖","幼教组","新媒体新技术教学应用课例","三等奖",{"$f":"RIGHT(LEFT(VLOOKUP(B1823,'[1]002'!B:M,3,0),7),3)","v":"清远市"},{"$f":"VLOOKUP(B1823,'[1]002'!B:M,7,0)","v":"陈妹桂"},{"$f":"VLOOKUP(B1823,'[1]002'!B:M,8,0)","v":"阳山县碧桂园幼儿园"},{"$f":"VLOOKUP(B1823,'[1]002'!B:M,11,0)","v":"-"},{"$f":"VLOOKUP(B1823,'[1]002'!B:M,12,0)","v":"-"},{"$f":"VLOOKUP(B1823,[2]sheet2!B:L,10,0)","v":"-"},{"$f":"VLOOKUP(B1823,[2]sheet2!B:L,11,0)","v":"-"},"http://183.62.54.51:8841/data/files/certificate/000000000439/d361379af60749d0908c288e0ceab337/signed/1821_陈妹桂_三等奖_7708.pdf"]
[1822,"P302419092781","大小多少","特教组","课件","一等奖","深圳市",{"$f":"VLOOKUP(B1824,'[1]002'!B:M,7,0)","v":"陈方圆"},{"$f":"VLOOKUP(B1824,'[1]002'!B:M,8,0)","v":"深圳元平特殊教育学校"},{"$f":"VLOOKUP(B1824,'[1]002'!B:M,11,0)","v":"-"},{"$f":"VLOOKUP(B1824,'[1]002'!B:M,12,0)","v":"-"},{"$f":"VLOOKUP(B1824,[2]sheet2!B:L,10,0)","v":"-"},{"$f":"VLOOKUP(B1824,[2]sheet2!B:L,11,0)","v":"-"},"http://183.62.54.51:8841/data/files/certificate/000000000439/cfc4098d3b8b45b8bb857052dacf7ebb/signed/1822_陈方圆_一等奖_7709.pdf"]
[1823,"P302419092779","一寸虫测量   认识测量规则","特教组","课件","一等奖","深圳市",{"$f":"VLOOKUP(B1825,'[1]002'!B:M,7,0)","v":"吴姝静"},{"$f":"VLOOKUP(B1825,'[1]002'!B:M,8,0)","v":"深圳元平特殊教育学校"},{"$f":"VLOOKUP(B1825,'[1]002'!B:M,11,0)","v":"-"},{"$f":"VLOOKUP(B1825,'[1]002'!B:M,12,0)","v":"-"},{"$f":"VLOOKUP(B1825,[2]sheet2!B:L,10,0)","v":"-"},{"$f":"VLOOKUP(B1825,[2]sheet2!B:L,11,0)","v":"-"},"http://183.62.54.51:8841/data/files/certificate/000000000439/df2f198c43cc4f578624d9f2f631bd7a/signed/1823_吴姝静_一等奖_7710.pdf"]
[1824,"P302419084267","邮件合并","特教组","课件","一等奖","珠海市",{"$f":"VLOOKUP(B1826,'[1]002'!B:M,7,0)","v":"陈文"},{"$f":"VLOOKUP(B1826,'[1]002'!B:M,8,0)","v":"珠海市特殊教育学校"},{"$f":"VLOOKUP(B1826,'[1]002'!B:M,11,0)","v":"-"},{"$f":"VLOOKUP(B1826,'[1]002'!B:M,12,0)","v":"-"},{"$f":"VLOOKUP(B1826,[2]sheet2!B:L,10,0)","v":"-"},{"$f":"VLOOKUP(B1826,[2]sheet2!B:L,11,0)","v":"-"},"http://183.62.54.51:8841/data/files/certificate/000000000439/ec87bded68a448e8bb6e305dfe1a06f5/signed/1824_陈文_一等奖_7711.pdf"]
[1825,"P302419079048","我会看医生","特教组","课件","一等奖","珠海市",{"$f":"VLOOKUP(B1827,'[1]002'!B:M,7,0)","v":"梁雯英"},{"$f":"VLOOKUP(B1827,'[1]002'!B:M,8,0)","v":"珠海市特殊教育学校"},{"$f":"VLOOKUP(B1827,'[1]002'!B:M,11,0)","v":"-"},{"$f":"VLOOKUP(B1827,'[1]002'!B:M,12,0)","v":"-"},{"$f":"VLOOKUP(B1827,[2]sheet2!B:L,10,0)","v":"-"},{"$f":"VLOOKUP(B1827,[2]sheet2!B:L,11,0)","v":"-"},"http://183.62.54.51:8841/data/files/certificate/000000000439/87cc78cf8026440ba02de664888d4139/signed/1825_梁雯英_一等奖_7712.pdf"]
[1826,"P302419091551","色彩世界","特教组","课件","一等奖","佛山市",{"$f":"VLOOKUP(B1828,'[1]002'!B:M,7,0)","v":"李建辉"},{"$f":"VLOOKUP(B1828,'[1]002'!B:M,8,0)","v":"佛山市南海区星辉学校"},{"$f":"VLOOKUP(B1828,'[1]002'!B:M,11,0)","v":"-"},{"$f":"VLOOKUP(B1828,'[1]002'!B:M,12,0)","v":"-"},{"$f":"VLOOKUP(B1828,[2]sheet2!B:L,10,0)","v":"-"},{"$f":"VLOOKUP(B1828,[2]sheet2!B:L,11,0)","v":"-"},"http://183.62.54.51:8841/data/files/certificate/000000000439/481754cdc90c4ead9dad94fa63ee633d/signed/1826_李建辉_一等奖_7713.pdf"]
[1827,"P302419092235","元素周期表","特教组","课件","一等奖","惠州市",{"$f":"VLOOKUP(B1829,'[1]002'!B:M,7,0)","v":"吴翠翠"},{"$f":"VLOOKUP(B1829,'[1]002'!B:M,8,0)","v":"市特殊学校"},{"$f":"VLOOKUP(B1829,'[1]002'!B:M,11,0)","v":"黄润梅"},{"$f":"VLOOKUP(B1829,'[1]002'!B:M,12,0)","v":"惠州中学"},{"$f":"VLOOKUP(B1829,[2]sheet2!B:L,10,0)","v":"林思莹"},{"$f":"VLOOKUP(B1829,[2]sheet2!B:L,11,0)","v":"惠州中学"},"http://183.62.54.51:8841/data/files/certificate/000000000439/02457da6f57340e1980ef69d52fb061a/signed/1827_吴翠翠、黄润梅、林思莹_一等奖_7714.pdf"]
[1828,"P302419092476","立定跳远","特教组","课件","一等奖","东莞市",{"$f":"VLOOKUP(B1830,'[1]002'!B:M,7,0)","v":"吴永锋"},{"$f":"VLOOKUP(B1830,'[1]002'!B:M,8,0)","v":"东莞启智学校"},{"$f":"VLOOKUP(B1830,'[1]002'!B:M,11,0)","v":"-"},{"$f":"VLOOKUP(B1830,'[1]002'!B:M,12,0)","v":"-"},{"$f":"VLOOKUP(B1830,[2]sheet2!B:L,10,0)","v":"-"},{"$f":"VLOOKUP(B1830,[2]sheet2!B:L,11,0)","v":"-"},"http://183.62.54.51:8841/data/files/certificate/000000000439/09043f3f884947e8ba454410f07a3d68/signed/1828_吴永锋_一等奖_7715.pdf"]
[1829,"P302419086100","认识职业","特教组","课件","一等奖","中山市",{"$f":"VLOOKUP(B1831,'[1]002'!B:M,7,0)","v":"熊文娟"},{"$f":"VLOOKUP(B1831,'[1]002'!B:M,8,0)","v":"中山市特殊教育学校"},{"$f":"VLOOKUP(B1831,'[1]002'!B:M,11,0)","v":"-"},{"$f":"VLOOKUP(B1831,'[1]002'!B:M,12,0)","v":"-"},{"$f":"VLOOKUP(B1831,[2]sheet2!B:L,10,0)","v":"-"},{"$f":"VLOOKUP(B1831,[2]sheet2!B:L,11,0)","v":"-"},"http://183.62.54.51:8841/data/files/certificate/000000000439/62a398aad8314dbf94dbed66e65fb4ec/signed/1829_熊文娟_一等奖_7716.pdf"]
[1830,"P303419092744","质点振动与波的传播方向的关系","特教组","微课","一等奖","深圳市",{"$f":"VLOOKUP(B1832,'[1]002'!B:M,7,0)","v":"王太华"},{"$f":"VLOOKUP(B1832,'[1]002'!B:M,8,0)","v":"深圳元平特殊教育学校"},{"$f":"VLOOKUP(B1832,'[1]002'!B:M,11,0)","v":"-"},{"$f":"VLOOKUP(B1832,'[1]002'!B:M,12,0)","v":"-"},{"$f":"VLOOKUP(B1832,[2]sheet2!B:L,10,0)","v":"-"},{"$f":"VLOOKUP(B1832,[2]sheet2!B:L,11,0)","v":"-"},"http://183.62.54.51:8841/data/files/certificate/000000000439/2cfde97968d149cf89be310544bd4f7e/signed/1830_王太华_一等奖_7717.pdf"]
[1831,"P303419092231","汉字的演变","特教组","微课","一等奖","惠州市",{"$f":"VLOOKUP(B1833,'[1]002'!B:M,7,0)","v":"邱麟"},"惠州市特殊学校",{"$f":"VLOOKUP(B1833,'[1]002'!B:M,11,0)","v":"熊瑶"},"惠州市特殊学校",{"$f":"VLOOKUP(B1833,[2]sheet2!B:L,10,0)","v":"陈燕"},{"$f":"VLOOKUP(B1833,[2]sheet2!B:L,11,0)","v":"市特殊学校"},"http://183.62.54.51:8841/data/files/certificate/000000000439/073cfabc84794ceeb79f626f140cc659/signed/1831_邱麟、熊瑶、陈燕_一等奖_7718.pdf"]
[1832,"P303419092528","康乃馨纸花制作","特教组","微课","一等奖","东莞市",{"$f":"VLOOKUP(B1834,'[1]002'!B:M,7,0)","v":"黄政颖"},{"$f":"VLOOKUP(B1834,'[1]002'!B:M,8,0)","v":"东莞启智学校"},{"$f":"VLOOKUP(B1834,'[1]002'!B:M,11,0)","v":"张红霞"},{"$f":"VLOOKUP(B1834,'[1]002'!B:M,12,0)","v":"东莞启智学校"},{"$f":"VLOOKUP(B1834,[2]sheet2!B:L,10,0)","v":"-"},{"$f":"VLOOKUP(B1834,[2]sheet2!B:L,11,0)","v":"-"},"http://183.62.54.51:8841/data/files/certificate/000000000439/415b54da7ed04673ad2ddc6610075aaa/signed/1832_黄政颖、张红霞_一等奖_7719.pdf"]
[1833,"P303419092531","青春期智障女学生如何使用卫生巾","特教组","微课","一等奖","东莞市",{"$f":"VLOOKUP(B1835,'[1]002'!B:M,7,0)","v":"林美伶"},{"$f":"VLOOKUP(B1835,'[1]002'!B:M,8,0)","v":"东莞市康复实验学校"},{"$f":"VLOOKUP(B1835,'[1]002'!B:M,11,0)","v":"-"},{"$f":"VLOOKUP(B1835,'[1]002'!B:M,12,0)","v":"-"},{"$f":"VLOOKUP(B1835,[2]sheet2!B:L,10,0)","v":"-"},{"$f":"VLOOKUP(B1835,[2]sheet2!B:L,11,0)","v":"-"},"http://183.62.54.51:8841/data/files/certificate/000000000439/08bafd7285304365b1824b45b37177e8/signed/1833_林美伶_一等奖_7720.pdf"]
[1834,"P303419088749","会变魔法的画","特教组","微课","一等奖","中山市",{"$f":"VLOOKUP(B1836,'[1]002'!B:M,7,0)","v":"石坚"},{"$f":"VLOOKUP(B1836,'[1]002'!B:M,8,0)","v":"中山市特殊教育学校"},{"$f":"VLOOKUP(B1836,'[1]002'!B:M,11,0)","v":"-"},{"$f":"VLOOKUP(B1836,'[1]002'!B:M,12,0)","v":"-"},{"$f":"VLOOKUP(B1836,[2]sheet2!B:L,10,0)","v":"-"},{"$f":"VLOOKUP(B1836,[2]sheet2!B:L,11,0)","v":"-"},"http://183.62.54.51:8841/data/files/certificate/000000000439/11fae69af4e647aea66a84fce578565c/signed/1834_石坚_一等奖_7721.pdf"]
[1835,"P303419086096","小雨沙沙","特教组","微课","一等奖","中山市",{"$f":"VLOOKUP(B1837,'[1]002'!B:M,7,0)","v":"朱晓键"},{"$f":"VLOOKUP(B1837,'[1]002'!B:M,8,0)","v":"中山市特殊教育学校"},{"$f":"VLOOKUP(B1837,'[1]002'!B:M,11,0)","v":"丛子伟"},{"$f":"VLOOKUP(B1837,'[1]002'!B:M,12,0)","v":"中山市特殊教育学校"},{"$f":"VLOOKUP(B1837,[2]sheet2!B:L,10,0)","v":"马雪扬"},{"$f":"VLOOKUP(B1837,[2]sheet2!B:L,11,0)","v":"中山市特殊教育学校"},"http://183.62.54.51:8841/data/files/certificate/000000000439/1608d71f0d3043e8bb2fe10d6ef012f8/signed/1835_朱晓键、丛子伟、马雪扬_一等奖_7722.pdf"]
[1836,"P303419087426","系鞋带","特教组","微课","一等奖","云浮市",{"$f":"VLOOKUP(B1838,'[1]002'!B:M,7,0)","v":"张艳萍"},{"$f":"VLOOKUP(B1838,'[1]002'!B:M,8,0)","v":"新兴县特殊教育学校"},{"$f":"VLOOKUP(B1838,'[1]002'!B:M,11,0)","v":"-"},{"$f":"VLOOKUP(B1838,'[1]002'!B:M,12,0)","v":"-"},{"$f":"VLOOKUP(B1838,[2]sheet2!B:L,10,0)","v":"-"},{"$f":"VLOOKUP(B1838,[2]sheet2!B:L,11,0)","v":"-"},"http://183.62.54.51:8841/data/files/certificate/000000000439/cd31f2bd817d495da4302d78d50c8a26/signed/1836_张艳萍_一等奖_7723.pdf"]
[1837,"P303419088990","反问句转换为陈述句","特教组","微课","一等奖","云浮市",{"$f":"VLOOKUP(B1839,'[1]002'!B:M,7,0)","v":"陆妙杨"},{"$f":"VLOOKUP(B1839,'[1]002'!B:M,8,0)","v":"云浮市特殊教育学校"},{"$f":"VLOOKUP(B1839,'[1]002'!B:M,11,0)","v":"-"},{"$f":"VLOOKUP(B1839,'[1]002'!B:M,12,0)","v":"-"},{"$f":"VLOOKUP(B1839,[2]sheet2!B:L,10,0)","v":"-"},{"$f":"VLOOKUP(B1839,[2]sheet2!B:L,11,0)","v":"-"},"http://183.62.54.51:8841/data/files/certificate/000000000439/bdb8756024204b8e9cc7fc17da70882d/signed/1837_陆妙杨_一等奖_7724.pdf"]
[1838,"P305419093263","我们一起来运动","特教组","信息技术创新教学案例","一等奖","广州市",{"$f":"VLOOKUP(B1840,'[1]002'!B:M,7,0)","v":"梁玉萍"},{"$f":"VLOOKUP(B1840,'[1]002'!B:M,8,0)","v":"广州市增城区荔城街致明学校"},{"$f":"VLOOKUP(B1840,'[1]002'!B:M,11,0)","v":"-"},{"$f":"VLOOKUP(B1840,'[1]002'!B:M,12,0)","v":"-"},{"$f":"VLOOKUP(B1840,[2]sheet2!B:L,10,0)","v":"-"},{"$f":"VLOOKUP(B1840,[2]sheet2!B:L,11,0)","v":"-"},"http://183.62.54.51:8841/data/files/certificate/000000000439/c87befc4dade48bd83b55382550e1544/signed/1838_梁玉萍_一等奖_7725.pdf"]
[1839,"P304419092751","秋天的图画","特教组","新媒体新技术教学应用课例","一等奖",{"$f":"RIGHT(LEFT(VLOOKUP(B1841,'[1]002'!B:M,3,0),7),3)","v":"深圳市"},{"$f":"VLOOKUP(B1841,'[1]002'!B:M,7,0)","v":"高超"},{"$f":"VLOOKUP(B1841,'[1]002'!B:M,8,0)","v":"深圳元平特殊教育学校"},{"$f":"VLOOKUP(B1841,'[1]002'!B:M,11,0)","v":"-"},{"$f":"VLOOKUP(B1841,'[1]002'!B:M,12,0)","v":"-"},{"$f":"VLOOKUP(B1841,[2]sheet2!B:L,10,0)","v":"-"},{"$f":"VLOOKUP(B1841,[2]sheet2!B:L,11,0)","v":"-"},"http://183.62.54.51:8841/data/files/certificate/000000000439/58997faeb7324d8aaa199af1723685c9/signed/1839_高超_一等奖_7726.pdf"]
[1840,"P304419092750","里程表一","特教组","新媒体新技术教学应用课例","一等奖",{"$f":"RIGHT(LEFT(VLOOKUP(B1842,'[1]002'!B:M,3,0),7),3)","v":"深圳市"},{"$f":"VLOOKUP(B1842,'[1]002'!B:M,7,0)","v":"刘艳清"},{"$f":"VLOOKUP(B1842,'[1]002'!B:M,8,0)","v":"深圳元平特殊教育学校"},{"$f":"VLOOKUP(B1842,'[1]002'!B:M,11,0)","v":"-"},{"$f":"VLOOKUP(B1842,'[1]002'!B:M,12,0)","v":"-"},{"$f":"VLOOKUP(B1842,[2]sheet2!B:L,10,0)","v":"-"},{"$f":"VLOOKUP(B1842,[2]sheet2!B:L,11,0)","v":"-"},"http://183.62.54.51:8841/data/files/certificate/000000000439/d5dbeef44875411a9c044968b4a9344f/signed/1840_刘艳清_一等奖_7727.pdf"]
[1841,"P302419092780","温度与温度计","特教组","课件","二等奖","深圳市",{"$f":"VLOOKUP(B1843,'[1]002'!B:M,7,0)","v":"沈晴琛"},{"$f":"VLOOKUP(B1843,'[1]002'!B:M,8,0)","v":"深圳元平特殊教育学校"},{"$f":"VLOOKUP(B1843,'[1]002'!B:M,11,0)","v":"-"},{"$f":"VLOOKUP(B1843,'[1]002'!B:M,12,0)","v":"-"},{"$f":"VLOOKUP(B1843,[2]sheet2!B:L,10,0)","v":"-"},{"$f":"VLOOKUP(B1843,[2]sheet2!B:L,11,0)","v":"-"},"http://183.62.54.51:8841/data/files/certificate/000000000439/ff4564ec12324f4c9e125a5b05416e32/signed/1841_沈晴琛_二等奖_7728.pdf"]
[1842,"P302419092778","春之探索--勒杜鹃花","特教组","课件","二等奖","深圳市",{"$f":"VLOOKUP(B1844,'[1]002'!B:M,7,0)","v":"陈嘉慧"},{"$f":"VLOOKUP(B1844,'[1]002'!B:M,8,0)","v":"深圳市罗湖区星园学校"},{"$f":"VLOOKUP(B1844,'[1]002'!B:M,11,0)","v":"-"},{"$f":"VLOOKUP(B1844,'[1]002'!B:M,12,0)","v":"-"},{"$f":"VLOOKUP(B1844,[2]sheet2!B:L,10,0)","v":"-"},{"$f":"VLOOKUP(B1844,[2]sheet2!B:L,11,0)","v":"-"},"http://183.62.54.51:8841/data/files/certificate/000000000439/c103bfbf95ad48a1ab09e11e3bbb549a/signed/1842_陈嘉慧_二等奖_7729.pdf"]
[1843,"P302419085668","新年到","特教组","课件","二等奖","珠海市",{"$f":"VLOOKUP(B1845,'[1]002'!B:M,7,0)","v":"谭宇云"},{"$f":"VLOOKUP(B1845,'[1]002'!B:M,8,0)","v":"珠海市特殊教育学校"},{"$f":"VLOOKUP(B1845,'[1]002'!B:M,11,0)","v":"-"},{"$f":"VLOOKUP(B1845,'[1]002'!B:M,12,0)","v":"-"},{"$f":"VLOOKUP(B1845,[2]sheet2!B:L,10,0)","v":"-"},{"$f":"VLOOKUP(B1845,[2]sheet2!B:L,11,0)","v":"-"},"http://183.62.54.51:8841/data/files/certificate/000000000439/61a8dd2d399944abb46a46f6d8b6fe08/signed/1843_谭宇云_二等奖_7730.pdf"]
[1844,"P302419093342","冬天来了","特教组","课件","二等奖","河源市",{"$f":"VLOOKUP(B1846,'[1]002'!B:M,7,0)","v":"贾慧婷"},{"$f":"VLOOKUP(B1846,'[1]002'!B:M,8,0)","v":"和平县特殊教育学校"},{"$f":"VLOOKUP(B1846,'[1]002'!B:M,11,0)","v":"-"},{"$f":"VLOOKUP(B1846,'[1]002'!B:M,12,0)","v":"-"},{"$f":"VLOOKUP(B1846,[2]sheet2!B:L,10,0)","v":"-"},{"$f":"VLOOKUP(B1846,[2]sheet2!B:L,11,0)","v":"-"},"http://183.62.54.51:8841/data/files/certificate/000000000439/67a6b7feafea4ec3b64ce6bbb0dddfa9/signed/1844_贾慧婷_二等奖_7731.pdf"]
[1845,"P302419092236","视障学生Adobe Audition音频处理软件基础","特教组","课件","二等奖","惠州市",{"$f":"VLOOKUP(B1847,'[1]002'!B:M,7,0)","v":"林秋明"},{"$f":"VLOOKUP(B1847,'[1]002'!B:M,8,0)","v":"市特殊学校"},{"$f":"VLOOKUP(B1847,'[1]002'!B:M,11,0)","v":"李艳庆"},{"$f":"VLOOKUP(B1847,'[1]002'!B:M,12,0)","v":"市特殊学校"},{"$f":"VLOOKUP(B1847,[2]sheet2!B:L,10,0)","v":"-"},{"$f":"VLOOKUP(B1847,[2]sheet2!B:L,11,0)","v":"-"},"http://183.62.54.51:8841/data/files/certificate/000000000439/b57c2734d80b461aa7ddf8a556ccf385/signed/1845_林秋明、李艳庆_二等奖_7732.pdf"]
[1846,"P302419092475","Food","特教组","课件","二等奖","东莞市",{"$f":"VLOOKUP(B1848,'[1]002'!B:M,7,0)","v":"吴慧青"},{"$f":"VLOOKUP(B1848,'[1]002'!B:M,8,0)","v":"东莞启智学校"},{"$f":"VLOOKUP(B1848,'[1]002'!B:M,11,0)","v":"-"},{"$f":"VLOOKUP(B1848,'[1]002'!B:M,12,0)","v":"-"},{"$f":"VLOOKUP(B1848,[2]sheet2!B:L,10,0)","v":"-"},{"$f":"VLOOKUP(B1848,[2]sheet2!B:L,11,0)","v":"-"},"http://183.62.54.51:8841/data/files/certificate/000000000439/6cd39c0c42f1486da57cb4a3fe9c5d6e/signed/1846_吴慧青_二等奖_7733.pdf"]
[1847,"P302419092478","乌鸦喝水","特教组","课件","二等奖","东莞市",{"$f":"VLOOKUP(B1849,'[1]002'!B:M,7,0)","v":"张琳"},{"$f":"VLOOKUP(B1849,'[1]002'!B:M,8,0)","v":"东莞启智学校"},{"$f":"VLOOKUP(B1849,'[1]002'!B:M,11,0)","v":"-"},{"$f":"VLOOKUP(B1849,'[1]002'!B:M,12,0)","v":"-"},{"$f":"VLOOKUP(B1849,[2]sheet2!B:L,10,0)","v":"-"},{"$f":"VLOOKUP(B1849,[2]sheet2!B:L,11,0)","v":"-"},"http://183.62.54.51:8841/data/files/certificate/000000000439/1f86f5d4b6da46f2af22e9a28b228be0/signed/1847_张琳_二等奖_7734.pdf"]
[1848,"P302419092474","看病","特教组","课件","二等奖","东莞市",{"$f":"VLOOKUP(B1850,'[1]002'!B:M,7,0)","v":"田林"},{"$f":"VLOOKUP(B1850,'[1]002'!B:M,8,0)","v":"东莞启智学校"},{"$f":"VLOOKUP(B1850,'[1]002'!B:M,11,0)","v":"-"},{"$f":"VLOOKUP(B1850,'[1]002'!B:M,12,0)","v":"-"},{"$f":"VLOOKUP(B1850,[2]sheet2!B:L,10,0)","v":"-"},{"$f":"VLOOKUP(B1850,[2]sheet2!B:L,11,0)","v":"-"},"http://183.62.54.51:8841/data/files/certificate/000000000439/82786370fdcc4aa082e951d35ada14ab/signed/1848_田林_二等奖_7735.pdf"]
[1849,"P302419092477","得数是5的加法","特教组","课件","二等奖","东莞市",{"$f":"VLOOKUP(B1851,'[1]002'!B:M,7,0)","v":"周志新"},{"$f":"VLOOKUP(B1851,'[1]002'!B:M,8,0)","v":"东莞启智学校"},{"$f":"VLOOKUP(B1851,'[1]002'!B:M,11,0)","v":"-"},{"$f":"VLOOKUP(B1851,'[1]002'!B:M,12,0)","v":"-"},{"$f":"VLOOKUP(B1851,[2]sheet2!B:L,10,0)","v":"-"},{"$f":"VLOOKUP(B1851,[2]sheet2!B:L,11,0)","v":"-"},"http://183.62.54.51:8841/data/files/certificate/000000000439/e4bc63d4b9714256ae857981abbbd43f/signed/1849_周志新_二等奖_7736.pdf"]
[1850,"P302419092480","蝌蚪找妈妈","特教组","课件","二等奖","东莞市",{"$f":"VLOOKUP(B1852,'[1]002'!B:M,7,0)","v":"梁领章"},{"$f":"VLOOKUP(B1852,'[1]002'!B:M,8,0)","v":"东莞启智学校"},{"$f":"VLOOKUP(B1852,'[1]002'!B:M,11,0)","v":"-"},{"$f":"VLOOKUP(B1852,'[1]002'!B:M,12,0)","v":"-"},{"$f":"VLOOKUP(B1852,[2]sheet2!B:L,10,0)","v":"-"},{"$f":"VLOOKUP(B1852,[2]sheet2!B:L,11,0)","v":"-"},"http://183.62.54.51:8841/data/files/certificate/000000000439/744dd9d050234028aff868483ff57613/signed/1850_梁领章_二等奖_7737.pdf"]
[1851,"P302419092473","清明","特教组","课件","二等奖","东莞市",{"$f":"VLOOKUP(B1853,'[1]002'!B:M,7,0)","v":"尹沛茹"},{"$f":"VLOOKUP(B1853,'[1]002'!B:M,8,0)","v":"东莞启智学校"},{"$f":"VLOOKUP(B1853,'[1]002'!B:M,11,0)","v":"-"},{"$f":"VLOOKUP(B1853,'[1]002'!B:M,12,0)","v":"-"},{"$f":"VLOOKUP(B1853,[2]sheet2!B:L,10,0)","v":"-"},{"$f":"VLOOKUP(B1853,[2]sheet2!B:L,11,0)","v":"-"},"http://183.62.54.51:8841/data/files/certificate/000000000439/9e3d0e35c2a94a4c80469a24646bba02/signed/1851_尹沛茹_二等奖_7738.pdf"]
[1852,"P302419088156","整时的认识","特教组","课件","二等奖","中山市",{"$f":"VLOOKUP(B1854,'[1]002'!B:M,7,0)","v":"张瑛"},{"$f":"VLOOKUP(B1854,'[1]002'!B:M,8,0)","v":"中山市特殊教育学校"},{"$f":"VLOOKUP(B1854,'[1]002'!B:M,11,0)","v":"-"},{"$f":"VLOOKUP(B1854,'[1]002'!B:M,12,0)","v":"-"},{"$f":"VLOOKUP(B1854,[2]sheet2!B:L,10,0)","v":"-"},{"$f":"VLOOKUP(B1854,[2]sheet2!B:L,11,0)","v":"-"},"http://183.62.54.51:8841/data/files/certificate/000000000439/45d7f68d09724b4186b48a71e544c285/signed/1852_张瑛_二等奖_7739.pdf"]
[1853,"P302419092867","认识五官","特教组","课件","二等奖","湛江市",{"$f":"VLOOKUP(B1855,'[1]002'!B:M,7,0)","v":"陈丽娟"},{"$f":"VLOOKUP(B1855,'[1]002'!B:M,8,0)","v":"湛江市霞山区培智学校"},{"$f":"VLOOKUP(B1855,'[1]002'!B:M,11,0)","v":"-"},{"$f":"VLOOKUP(B1855,'[1]002'!B:M,12,0)","v":"-"},{"$f":"VLOOKUP(B1855,[2]sheet2!B:L,10,0)","v":"-"},{"$f":"VLOOKUP(B1855,[2]sheet2!B:L,11,0)","v":"-"},"http://183.62.54.51:8841/data/files/certificate/000000000439/4e375cbffd8b4e8d988711ec308bafaa/signed/1853_陈丽娟_二等奖_7740.pdf"]
[1854,"P302419092866","认识黄色","特教组","课件","二等奖","湛江市",{"$f":"VLOOKUP(B1856,'[1]002'!B:M,7,0)","v":"陈德江"},{"$f":"VLOOKUP(B1856,'[1]002'!B:M,8,0)","v":"湛江市特殊教育学校"},{"$f":"VLOOKUP(B1856,'[1]002'!B:M,11,0)","v":"-"},{"$f":"VLOOKUP(B1856,'[1]002'!B:M,12,0)","v":"-"},{"$f":"VLOOKUP(B1856,[2]sheet2!B:L,10,0)","v":"-"},{"$f":"VLOOKUP(B1856,[2]sheet2!B:L,11,0)","v":"-"},"http://183.62.54.51:8841/data/files/certificate/000000000439/1785467b9a2149b5910f49d3c99266e7/signed/1854_陈德江_二等奖_7741.pdf"]
[1855,"P302419088758","圆的面积","特教组","课件","二等奖","云浮市",{"$f":"VLOOKUP(B1857,'[1]002'!B:M,7,0)","v":"李志勤"},{"$f":"VLOOKUP(B1857,'[1]002'!B:M,8,0)","v":"云浮市特殊教育学校"},{"$f":"VLOOKUP(B1857,'[1]002'!B:M,11,0)","v":"-"},{"$f":"VLOOKUP(B1857,'[1]002'!B:M,12,0)","v":"-"},{"$f":"VLOOKUP(B1857,[2]sheet2!B:L,10,0)","v":"-"},{"$f":"VLOOKUP(B1857,[2]sheet2!B:L,11,0)","v":"-"},"http://183.62.54.51:8841/data/files/certificate/000000000439/6db49657c6ce4f5c9fd8dd1195707bb4/signed/1855_李志勤_二等奖_7742.pdf"]
[1856,"P302419088335","假如","特教组","课件","二等奖","云浮市",{"$f":"VLOOKUP(B1858,'[1]002'!B:M,7,0)","v":"白爽"},{"$f":"VLOOKUP(B1858,'[1]002'!B:M,8,0)","v":"云浮市特殊教育学校"},{"$f":"VLOOKUP(B1858,'[1]002'!B:M,11,0)","v":"-"},{"$f":"VLOOKUP(B1858,'[1]002'!B:M,12,0)","v":"-"},{"$f":"VLOOKUP(B1858,[2]sheet2!B:L,10,0)","v":"-"},{"$f":"VLOOKUP(B1858,[2]sheet2!B:L,11,0)","v":"-"},"http://183.62.54.51:8841/data/files/certificate/000000000439/8807482577234091a080c8a7b705e294/signed/1856_白爽_二等奖_7743.pdf"]
[1857,"P303419093261","垃圾分类各归各位","特教组","微课","二等奖","广州市",{"$f":"VLOOKUP(B1859,'[1]002'!B:M,7,0)","v":"黄穗芬"},{"$f":"VLOOKUP(B1859,'[1]002'!B:M,8,0)","v":"广州市番禺区培智学校"},{"$f":"VLOOKUP(B1859,'[1]002'!B:M,11,0)","v":"-"},{"$f":"VLOOKUP(B1859,'[1]002'!B:M,12,0)","v":"-"},{"$f":"VLOOKUP(B1859,[2]sheet2!B:L,10,0)","v":"-"},{"$f":"VLOOKUP(B1859,[2]sheet2!B:L,11,0)","v":"-"},"http://183.62.54.51:8841/data/files/certificate/000000000439/bf78fd43f2d14db6b9efd7f61bc307b5/signed/1857_黄穗芬_二等奖_7744.pdf"]
[1858,"P303419093262","学习声母b、p、m、f","特教组","微课","二等奖","广州市",{"$f":"VLOOKUP(B1860,'[1]002'!B:M,7,0)","v":"苏慧明"},{"$f":"VLOOKUP(B1860,'[1]002'!B:M,8,0)","v":"广州市启明学校"},{"$f":"VLOOKUP(B1860,'[1]002'!B:M,11,0)","v":"-"},{"$f":"VLOOKUP(B1860,'[1]002'!B:M,12,0)","v":"-"},{"$f":"VLOOKUP(B1860,[2]sheet2!B:L,10,0)","v":"-"},{"$f":"VLOOKUP(B1860,[2]sheet2!B:L,11,0)","v":"-"},"http://183.62.54.51:8841/data/files/certificate/000000000439/c74c88f880aa486f95d4f1007f1a9bf8/signed/1858_苏慧明_二等奖_7745.pdf"]
[1859,"P303419092745","洗手","特教组","微课","二等奖","深圳市",{"$f":"VLOOKUP(B1861,'[1]002'!B:M,7,0)","v":"高燕玲"},{"$f":"VLOOKUP(B1861,'[1]002'!B:M,8,0)","v":"宝安区特殊教育学校"},{"$f":"VLOOKUP(B1861,'[1]002'!B:M,11,0)","v":"-"},{"$f":"VLOOKUP(B1861,'[1]002'!B:M,12,0)","v":"-"},{"$f":"VLOOKUP(B1861,[2]sheet2!B:L,10,0)","v":"-"},{"$f":"VLOOKUP(B1861,[2]sheet2!B:L,11,0)","v":"-"},"http://183.62.54.51:8841/data/files/certificate/000000000439/0d63d0b96a9744f2936d7498abf8e32a/signed/1859_高燕玲_二等奖_7746.pdf"]
[1860,"P303419092741","认识月","特教组","微课","二等奖","深圳市",{"$f":"VLOOKUP(B1862,'[1]002'!B:M,7,0)","v":"罗满丽"},{"$f":"VLOOKUP(B1862,'[1]002'!B:M,8,0)","v":"深圳市福田区竹香学校"},{"$f":"VLOOKUP(B1862,'[1]002'!B:M,11,0)","v":"-"},{"$f":"VLOOKUP(B1862,'[1]002'!B:M,12,0)","v":"-"},{"$f":"VLOOKUP(B1862,[2]sheet2!B:L,10,0)","v":"-"},{"$f":"VLOOKUP(B1862,[2]sheet2!B:L,11,0)","v":"-"},"http://183.62.54.51:8841/data/files/certificate/000000000439/cb8e0c65993548e6abd5dd57cc1702ca/signed/1860_罗满丽_二等奖_7747.pdf"]
[1861,"P303419089238","用削皮器削苹果","特教组","微课","二等奖","珠海市",{"$f":"VLOOKUP(B1863,'[1]002'!B:M,7,0)","v":"朱莉莎"},{"$f":"VLOOKUP(B1863,'[1]002'!B:M,8,0)","v":"珠海市特殊教育学校"},{"$f":"VLOOKUP(B1863,'[1]002'!B:M,11,0)","v":"蓝灿欣"},{"$f":"VLOOKUP(B1863,'[1]002'!B:M,12,0)","v":"珠海市特殊教育学校"},{"$f":"VLOOKUP(B1863,[2]sheet2!B:L,10,0)","v":"郎运琪"},{"$f":"VLOOKUP(B1863,[2]sheet2!B:L,11,0)","v":"珠海市特殊教育学校"},"http://183.62.54.51:8841/data/files/certificate/000000000439/c01fc21ad0124fbf9b1fd281786d1f2c/signed/1861_朱莉莎、蓝灿欣、郎运琪_二等奖_7748.pdf"]
[1862,"P303419091549","微信付钱","特教组","微课","二等奖","佛山市",{"$f":"VLOOKUP(B1864,'[1]002'!B:M,7,0)","v":"吴奕佳"},{"$f":"VLOOKUP(B1864,'[1]002'!B:M,8,0)","v":"佛山市南海区桂城街道桂江第三小学"},{"$f":"VLOOKUP(B1864,'[1]002'!B:M,11,0)","v":"-"},{"$f":"VLOOKUP(B1864,'[1]002'!B:M,12,0)","v":"-"},{"$f":"VLOOKUP(B1864,[2]sheet2!B:L,10,0)","v":"-"},{"$f":"VLOOKUP(B1864,[2]sheet2!B:L,11,0)","v":"-"},"http://183.62.54.51:8841/data/files/certificate/000000000439/c74cd1f542154ade80261894fd429853/signed/1862_吴奕佳_二等奖_7749.pdf"]
[1863,"P303419088896","部首三点水和两点水的区别","特教组","微课","二等奖","韶关市",{"$f":"VLOOKUP(B1865,'[1]002'!B:M,7,0)","v":"麦芷欣"},{"$f":"VLOOKUP(B1865,'[1]002'!B:M,8,0)","v":"韶关市特殊教育学校"},{"$f":"VLOOKUP(B1865,'[1]002'!B:M,11,0)","v":"-"},{"$f":"VLOOKUP(B1865,'[1]002'!B:M,12,0)","v":"-"},{"$f":"VLOOKUP(B1865,[2]sheet2!B:L,10,0)","v":"-"},{"$f":"VLOOKUP(B1865,[2]sheet2!B:L,11,0)","v":"-"},"http://183.62.54.51:8841/data/files/certificate/000000000439/8e7ef15bfc8747bfa90fb5f94277103f/signed/1863_麦芷欣_二等奖_7750.pdf"]
[1864,"P303419093329","贝壳画树","特教组","微课","二等奖","河源市",{"$f":"VLOOKUP(B1866,'[1]002'!B:M,7,0)","v":"余梦"},{"$f":"VLOOKUP(B1866,'[1]002'!B:M,8,0)","v":"连平县仁爱学校"},{"$f":"VLOOKUP(B1866,'[1]002'!B:M,11,0)","v":"-"},{"$f":"VLOOKUP(B1866,'[1]002'!B:M,12,0)","v":"-"},{"$f":"VLOOKUP(B1866,[2]sheet2!B:L,10,0)","v":"-"},{"$f":"VLOOKUP(B1866,[2]sheet2!B:L,11,0)","v":"-"},"http://183.62.54.51:8841/data/files/certificate/000000000439/d5e7df28eeb3469b805dfd66ba63e53d/signed/1864_余梦_二等奖_7751.pdf"]
[1865,"P303419092232","分数的基本性质","特教组","微课","二等奖","惠州市",{"$f":"VLOOKUP(B1867,'[1]002'!B:M,7,0)","v":"涂丹"},{"$f":"VLOOKUP(B1867,'[1]002'!B:M,8,0)","v":"市特殊学校"},{"$f":"VLOOKUP(B1867,'[1]002'!B:M,11,0)","v":"罗淑婷"},{"$f":"VLOOKUP(B1867,'[1]002'!B:M,12,0)","v":"市特殊学校"},{"$f":"VLOOKUP(B1867,[2]sheet2!B:L,10,0)","v":"何建霞"},{"$f":"VLOOKUP(B1867,[2]sheet2!B:L,11,0)","v":"市特殊学校"},"http://183.62.54.51:8841/data/files/certificate/000000000439/0553f2e3fc164ec5986da716dc89c842/signed/1865_涂丹、罗淑婷、何建霞_二等奖_7752.pdf"]
[1866,"P303419092529","我从哪里来","特教组","微课","二等奖","东莞市",{"$f":"VLOOKUP(B1868,'[1]002'!B:M,7,0)","v":"谢慧敏"},{"$f":"VLOOKUP(B1868,'[1]002'!B:M,8,0)","v":"东莞启智学校"},{"$f":"VLOOKUP(B1868,'[1]002'!B:M,11,0)","v":"-"},{"$f":"VLOOKUP(B1868,'[1]002'!B:M,12,0)","v":"-"},{"$f":"VLOOKUP(B1868,[2]sheet2!B:L,10,0)","v":"-"},{"$f":"VLOOKUP(B1868,[2]sheet2!B:L,11,0)","v":"-"},"http://183.62.54.51:8841/data/files/certificate/000000000439/c97b52cb3bcf4e3db3c94a843855f95b/signed/1866_谢慧敏_二等奖_7753.pdf"]
[1867,"P303419092522","我去坐地铁","特教组","微课","二等奖","东莞市",{"$f":"VLOOKUP(B1869,'[1]002'!B:M,7,0)","v":"刘静仪"},{"$f":"VLOOKUP(B1869,'[1]002'!B:M,8,0)","v":"东莞启智学校"},{"$f":"VLOOKUP(B1869,'[1]002'!B:M,11,0)","v":"-"},{"$f":"VLOOKUP(B1869,'[1]002'!B:M,12,0)","v":"-"},{"$f":"VLOOKUP(B1869,[2]sheet2!B:L,10,0)","v":"-"},{"$f":"VLOOKUP(B1869,[2]sheet2!B:L,11,0)","v":"-"},"http://183.62.54.51:8841/data/files/certificate/000000000439/9afbeefe21414d84ac4afe3903303ae7/signed/1867_刘静仪_二等奖_7754.pdf"]
[1868,"P303419088195","巧手衍纸画之眼形卷的制作","特教组","微课","二等奖","中山市",{"$f":"VLOOKUP(B1870,'[1]002'!B:M,7,0)","v":"朱建美"},{"$f":"VLOOKUP(B1870,'[1]002'!B:M,8,0)","v":"中山市特殊教育学校"},{"$f":"VLOOKUP(B1870,'[1]002'!B:M,11,0)","v":"-"},{"$f":"VLOOKUP(B1870,'[1]002'!B:M,12,0)","v":"-"},{"$f":"VLOOKUP(B1870,[2]sheet2!B:L,10,0)","v":"-"},{"$f":"VLOOKUP(B1870,[2]sheet2!B:L,11,0)","v":"-"},"http://183.62.54.51:8841/data/files/certificate/000000000439/304cc4731fed4ac4a134d3c13637a6f9/signed/1868_朱建美_二等奖_7755.pdf"]
[1869,"P303419088471","学吹葫芦丝——玛丽有只小羊羔","特教组","微课","二等奖","中山市",{"$f":"VLOOKUP(B1871,'[1]002'!B:M,7,0)","v":"赵飞云"},{"$f":"VLOOKUP(B1871,'[1]002'!B:M,8,0)","v":"中山市特殊教育学校"},{"$f":"VLOOKUP(B1871,'[1]002'!B:M,11,0)","v":"冯燕婷"},{"$f":"VLOOKUP(B1871,'[1]002'!B:M,12,0)","v":"中山市特殊教育学校"},{"$f":"VLOOKUP(B1871,[2]sheet2!B:L,10,0)","v":"邱意"},{"$f":"VLOOKUP(B1871,[2]sheet2!B:L,11,0)","v":"中山市特殊教育学校"},"http://183.62.54.51:8841/data/files/certificate/000000000439/8c75395a8e01423baa1a6c7709df5cdf/signed/1869_赵飞云、冯燕婷、邱意_二等奖_7756.pdf"]
[1870,"P303419092863","橡皮创意图章","特教组","微课","二等奖","湛江市",{"$f":"VLOOKUP(B1872,'[1]002'!B:M,7,0)","v":"赖柏霖"},{"$f":"VLOOKUP(B1872,'[1]002'!B:M,8,0)","v":"湛江市特殊教育学校"},{"$f":"VLOOKUP(B1872,'[1]002'!B:M,11,0)","v":"-"},{"$f":"VLOOKUP(B1872,'[1]002'!B:M,12,0)","v":"-"},{"$f":"VLOOKUP(B1872,[2]sheet2!B:L,10,0)","v":"-"},{"$f":"VLOOKUP(B1872,[2]sheet2!B:L,11,0)","v":"-"},"http://183.62.54.51:8841/data/files/certificate/000000000439/ceda9f00532346d3b170f4ad1b1febe2/signed/1870_赖柏霖_二等奖_7757.pdf"]
[1871,"P303419091672","蘑菇的制作方法","特教组","微课","二等奖","清远市",{"$f":"VLOOKUP(B1873,'[1]002'!B:M,7,0)","v":"张悦"},{"$f":"VLOOKUP(B1873,'[1]002'!B:M,8,0)","v":"清远市特殊教育学校"},{"$f":"VLOOKUP(B1873,'[1]002'!B:M,11,0)","v":"-"},{"$f":"VLOOKUP(B1873,'[1]002'!B:M,12,0)","v":"-"},{"$f":"VLOOKUP(B1873,[2]sheet2!B:L,10,0)","v":"-"},{"$f":"VLOOKUP(B1873,[2]sheet2!B:L,11,0)","v":"-"},"http://183.62.54.51:8841/data/files/certificate/000000000439/d5e01063129a4e8195d4b609b5003ff8/signed/1871_张悦_二等奖_7758.pdf"]
[1872,"P303419079619","十几减九","特教组","微课","二等奖","云浮市",{"$f":"VLOOKUP(B1874,'[1]002'!B:M,7,0)","v":"孙婷"},{"$f":"VLOOKUP(B1874,'[1]002'!B:M,8,0)","v":"云浮市特殊教育学校"},{"$f":"VLOOKUP(B1874,'[1]002'!B:M,11,0)","v":"-"},{"$f":"VLOOKUP(B1874,'[1]002'!B:M,12,0)","v":"-"},{"$f":"VLOOKUP(B1874,[2]sheet2!B:L,10,0)","v":"-"},{"$f":"VLOOKUP(B1874,[2]sheet2!B:L,11,0)","v":"-"},"http://183.62.54.51:8841/data/files/certificate/000000000439/45351bfa336d42b3aad12d4ac5f9ce1f/signed/1872_孙婷_二等奖_7759.pdf"]
[1873,"P305019092782","电影院","特教组","信息技术创新教学案例","二等奖","深圳市",{"$f":"VLOOKUP(B1875,'[1]002'!B:M,7,0)","v":"曹思思"},{"$f":"VLOOKUP(B1875,'[1]002'!B:M,8,0)","v":"深圳元平特殊教育学校"},{"$f":"VLOOKUP(B1875,'[1]002'!B:M,11,0)","v":"-"},{"$f":"VLOOKUP(B1875,'[1]002'!B:M,12,0)","v":"-"},{"$f":"VLOOKUP(B1875,[2]sheet2!B:L,10,0)","v":"-"},{"$f":"VLOOKUP(B1875,[2]sheet2!B:L,11,0)","v":"-"},"http://183.62.54.51:8841/data/files/certificate/000000000439/e14a0acd9e0c4b64a8e028c91cce7cb1/signed/1873_曹思思_二等奖_7760.pdf"]
[1874,"P305419092819","基于图形操作的特殊教育课堂教学实践案例","特教组","信息技术创新教学案例","二等奖","东莞市",{"$f":"VLOOKUP(B1876,'[1]002'!B:M,7,0)","v":"刘太祥"},{"$f":"VLOOKUP(B1876,'[1]002'!B:M,8,0)","v":"东莞启智学校"},{"$f":"VLOOKUP(B1876,'[1]002'!B:M,11,0)","v":"田林"},{"$f":"VLOOKUP(B1876,'[1]002'!B:M,12,0)","v":"东莞启智学校"},{"$f":"VLOOKUP(B1876,[2]sheet2!B:L,10,0)","v":"王钰津"},{"$f":"VLOOKUP(B1876,[2]sheet2!B:L,11,0)","v":"东莞启智学校"},"http://183.62.54.51:8841/data/files/certificate/000000000439/066df08263004ff6a2e72a29152812c2/signed/1874_刘太祥、田林、王钰津_二等奖_7761.pdf"]
[1875,"P304419093254","不要随便亲我","特教组","新媒体新技术教学应用课例","二等奖",{"$f":"RIGHT(LEFT(VLOOKUP(B1877,'[1]002'!B:M,3,0),7),3)","v":"广州市"},{"$f":"VLOOKUP(B1877,'[1]002'!B:M,7,0)","v":"陈晖"},{"$f":"VLOOKUP(B1877,'[1]002'!B:M,8,0)","v":"广州市天河区启慧学校"},{"$f":"VLOOKUP(B1877,'[1]002'!B:M,11,0)","v":"-"},{"$f":"VLOOKUP(B1877,'[1]002'!B:M,12,0)","v":"-"},{"$f":"VLOOKUP(B1877,[2]sheet2!B:L,10,0)","v":"-"},{"$f":"VLOOKUP(B1877,[2]sheet2!B:L,11,0)","v":"-"},"http://183.62.54.51:8841/data/files/certificate/000000000439/c85dd3031dd9429297138c0600e00efc/signed/1875_陈晖_二等奖_7762.pdf"]
[1876,"P304419092752","二十四节气","特教组","新媒体新技术教学应用课例","二等奖",{"$f":"RIGHT(LEFT(VLOOKUP(B1878,'[1]002'!B:M,3,0),7),3)","v":"深圳市"},{"$f":"VLOOKUP(B1878,'[1]002'!B:M,7,0)","v":"邓景秀"},{"$f":"VLOOKUP(B1878,'[1]002'!B:M,8,0)","v":"深圳元平特殊教育学校"},{"$f":"VLOOKUP(B1878,'[1]002'!B:M,11,0)","v":"-"},{"$f":"VLOOKUP(B1878,'[1]002'!B:M,12,0)","v":"-"},{"$f":"VLOOKUP(B1878,[2]sheet2!B:L,10,0)","v":"-"},{"$f":"VLOOKUP(B1878,[2]sheet2!B:L,11,0)","v":"-"},"http://183.62.54.51:8841/data/files/certificate/000000000439/2cbe02c91ef24807bd0e4844481e5fde/signed/1876_邓景秀_二等奖_7763.pdf"]
[1877,"P304419092753","魔力“点点点”","特教组","新媒体新技术教学应用课例","二等奖",{"$f":"RIGHT(LEFT(VLOOKUP(B1879,'[1]002'!B:M,3,0),7),3)","v":"深圳市"},{"$f":"VLOOKUP(B1879,'[1]002'!B:M,7,0)","v":"叶萍果"},{"$f":"VLOOKUP(B1879,'[1]002'!B:M,8,0)","v":"深圳元平特殊教育学校"},{"$f":"VLOOKUP(B1879,'[1]002'!B:M,11,0)","v":"-"},{"$f":"VLOOKUP(B1879,'[1]002'!B:M,12,0)","v":"-"},{"$f":"VLOOKUP(B1879,[2]sheet2!B:L,10,0)","v":"-"},{"$f":"VLOOKUP(B1879,[2]sheet2!B:L,11,0)","v":"-"},"http://183.62.54.51:8841/data/files/certificate/000000000439/862b539f14ec49f7aa2d231a3eb48b4b/signed/1877_叶萍果_二等奖_7764.pdf"]
[1878,"P304419092749","比较粗细","特教组","新媒体新技术教学应用课例","二等奖",{"$f":"RIGHT(LEFT(VLOOKUP(B1880,'[1]002'!B:M,3,0),7),3)","v":"深圳市"},{"$f":"VLOOKUP(B1880,'[1]002'!B:M,7,0)","v":"阮惠雅"},{"$f":"VLOOKUP(B1880,'[1]002'!B:M,8,0)","v":"深圳市罗湖区星园学校"},{"$f":"VLOOKUP(B1880,'[1]002'!B:M,11,0)","v":"-"},{"$f":"VLOOKUP(B1880,'[1]002'!B:M,12,0)","v":"-"},{"$f":"VLOOKUP(B1880,[2]sheet2!B:L,10,0)","v":"-"},{"$f":"VLOOKUP(B1880,[2]sheet2!B:L,11,0)","v":"-"},"http://183.62.54.51:8841/data/files/certificate/000000000439/e602cc9a3f3e48ca9136b7713e353c1a/signed/1878_阮惠雅_二等奖_7765.pdf"]
[1879,"P304419093334","苹果香蕉","特教组","新媒体新技术教学应用课例","二等奖",{"$f":"RIGHT(LEFT(VLOOKUP(B1881,'[1]002'!B:M,3,0),7),3)","v":"河源市"},{"$f":"VLOOKUP(B1881,'[1]002'!B:M,7,0)","v":"曹丽霞"},{"$f":"VLOOKUP(B1881,'[1]002'!B:M,8,0)","v":"和平县特殊教育学校"},{"$f":"VLOOKUP(B1881,'[1]002'!B:M,11,0)","v":"张洪源"},{"$f":"VLOOKUP(B1881,'[1]002'!B:M,12,0)","v":"和平县特殊教育学校"},{"$f":"VLOOKUP(B1881,[2]sheet2!B:L,10,0)","v":"-"},{"$f":"VLOOKUP(B1881,[2]sheet2!B:L,11,0)","v":"-"},"http://183.62.54.51:8841/data/files/certificate/000000000439/3be897cc1d5542ef9586d90416825162/signed/1879_曹丽霞、张洪源_二等奖_7766.pdf"]
[1880,"P304419092240","识字火","特教组","新媒体新技术教学应用课例","二等奖",{"$f":"RIGHT(LEFT(VLOOKUP(B1882,'[1]002'!B:M,3,0),7),3)","v":"惠州市"},{"$f":"VLOOKUP(B1882,'[1]002'!B:M,7,0)","v":"陈培娟"},{"$f":"VLOOKUP(B1882,'[1]002'!B:M,8,0)","v":"市特殊学校"},{"$f":"VLOOKUP(B1882,'[1]002'!B:M,11,0)","v":"范海源"},{"$f":"VLOOKUP(B1882,'[1]002'!B:M,12,0)","v":"市特殊学校"},{"$f":"VLOOKUP(B1882,[2]sheet2!B:L,10,0)","v":"-"},{"$f":"VLOOKUP(B1882,[2]sheet2!B:L,11,0)","v":"-"},"http://183.62.54.51:8841/data/files/certificate/000000000439/90cda56f8715418ead391f7cb507bce2/signed/1880_陈培娟、范海源_二等奖_7767.pdf"]
[1881,"P304419092406","认识水果","特教组","新媒体新技术教学应用课例","二等奖",{"$f":"RIGHT(LEFT(VLOOKUP(B1883,'[1]002'!B:M,3,0),7),3)","v":"东莞市"},{"$f":"VLOOKUP(B1883,'[1]002'!B:M,7,0)","v":"黄丽娟"},{"$f":"VLOOKUP(B1883,'[1]002'!B:M,8,0)","v":"东莞启智学校"},{"$f":"VLOOKUP(B1883,'[1]002'!B:M,11,0)","v":"-"},{"$f":"VLOOKUP(B1883,'[1]002'!B:M,12,0)","v":"-"},{"$f":"VLOOKUP(B1883,[2]sheet2!B:L,10,0)","v":"-"},{"$f":"VLOOKUP(B1883,[2]sheet2!B:L,11,0)","v":"-"},"http://183.62.54.51:8841/data/files/certificate/000000000439/8192eeebb8a74939b87fe7aea5e24716/signed/1881_黄丽娟_二等奖_7768.pdf"]
[1882,"P304419092410","美团外卖","特教组","新媒体新技术教学应用课例","二等奖",{"$f":"RIGHT(LEFT(VLOOKUP(B1884,'[1]002'!B:M,3,0),7),3)","v":"东莞市"},{"$f":"VLOOKUP(B1884,'[1]002'!B:M,7,0)","v":"罗润旺"},{"$f":"VLOOKUP(B1884,'[1]002'!B:M,8,0)","v":"东莞市康复实验学校"},{"$f":"VLOOKUP(B1884,'[1]002'!B:M,11,0)","v":"-"},{"$f":"VLOOKUP(B1884,'[1]002'!B:M,12,0)","v":"-"},{"$f":"VLOOKUP(B1884,[2]sheet2!B:L,10,0)","v":"-"},{"$f":"VLOOKUP(B1884,[2]sheet2!B:L,11,0)","v":"-"},"http://183.62.54.51:8841/data/files/certificate/000000000439/53c36df446774fa2a0aa4a713a99135a/signed/1882_罗润旺_二等奖_7769.pdf"]
[1883,"P304419091816","想吃苹果的鼠小弟","特教组","新媒体新技术教学应用课例","二等奖",{"$f":"RIGHT(LEFT(VLOOKUP(B1885,'[1]002'!B:M,3,0),7),3)","v":"江门市"},{"$f":"VLOOKUP(B1885,'[1]002'!B:M,7,0)","v":"梁晓清"},{"$f":"VLOOKUP(B1885,'[1]002'!B:M,8,0)","v":"江门市特殊教育学校"},{"$f":"VLOOKUP(B1885,'[1]002'!B:M,11,0)","v":"-"},{"$f":"VLOOKUP(B1885,'[1]002'!B:M,12,0)","v":"-"},{"$f":"VLOOKUP(B1885,[2]sheet2!B:L,10,0)","v":"-"},{"$f":"VLOOKUP(B1885,[2]sheet2!B:L,11,0)","v":"-"},"http://183.62.54.51:8841/data/files/certificate/000000000439/b5ac993738604a9f8f295faac1b7d5c4/signed/1883_梁晓清_二等奖_7770.pdf"]
[1884,"P302419093248","认识圆形","特教组","课件","三等奖","广州市",{"$f":"VLOOKUP(B1886,'[1]002'!B:M,7,0)","v":"何之韬"},{"$f":"VLOOKUP(B1886,'[1]002'!B:M,8,0)","v":"广州市康纳学校"},{"$f":"VLOOKUP(B1886,'[1]002'!B:M,11,0)","v":"-"},{"$f":"VLOOKUP(B1886,'[1]002'!B:M,12,0)","v":"-"},{"$f":"VLOOKUP(B1886,[2]sheet2!B:L,10,0)","v":"-"},{"$f":"VLOOKUP(B1886,[2]sheet2!B:L,11,0)","v":"-"},"http://183.62.54.51:8841/data/files/certificate/000000000439/c8605e5a0abb4411b57b94d55d6a9907/signed/1884_何之韬_三等奖_7771.pdf"]
[1885,"P302419093251","在菜市场买蔬菜","特教组","课件","三等奖","广州市",{"$f":"VLOOKUP(B1887,'[1]002'!B:M,7,0)","v":"伍珍珍"},{"$f":"VLOOKUP(B1887,'[1]002'!B:M,8,0)","v":"广州市番禺区培智学校"},{"$f":"VLOOKUP(B1887,'[1]002'!B:M,11,0)","v":"-"},{"$f":"VLOOKUP(B1887,'[1]002'!B:M,12,0)","v":"-"},{"$f":"VLOOKUP(B1887,[2]sheet2!B:L,10,0)","v":"-"},{"$f":"VLOOKUP(B1887,[2]sheet2!B:L,11,0)","v":"-"},"http://183.62.54.51:8841/data/files/certificate/000000000439/2ae647c5d73d45599cd9afa59b9ba511/signed/1885_伍珍珍_三等奖_7772.pdf"]
[1886,"P302419091854","牢记核心价值观，争当文明小学生","特教组","课件","三等奖","汕头市",{"$f":"VLOOKUP(B1888,'[1]002'!B:M,7,0)","v":"许怡平"},{"$f":"VLOOKUP(B1888,'[1]002'!B:M,8,0)","v":"汕头市聋哑学校"},{"$f":"VLOOKUP(B1888,'[1]002'!B:M,11,0)","v":"-"},{"$f":"VLOOKUP(B1888,'[1]002'!B:M,12,0)","v":"-"},{"$f":"VLOOKUP(B1888,[2]sheet2!B:L,10,0)","v":"-"},{"$f":"VLOOKUP(B1888,[2]sheet2!B:L,11,0)","v":"-"},"http://183.62.54.51:8841/data/files/certificate/000000000439/268747e742de4fa9898f9b324d794c0d/signed/1886_许怡平_三等奖_7773.pdf"]
[1887,"P302419091856","咏鹅","特教组","课件","三等奖","汕头市",{"$f":"VLOOKUP(B1889,'[1]002'!B:M,7,0)","v":"狄海洋"},{"$f":"VLOOKUP(B1889,'[1]002'!B:M,8,0)","v":"汕头市特殊教育学校"},{"$f":"VLOOKUP(B1889,'[1]002'!B:M,11,0)","v":"-"},{"$f":"VLOOKUP(B1889,'[1]002'!B:M,12,0)","v":"-"},{"$f":"VLOOKUP(B1889,[2]sheet2!B:L,10,0)","v":"-"},{"$f":"VLOOKUP(B1889,[2]sheet2!B:L,11,0)","v":"-"},"http://183.62.54.51:8841/data/files/certificate/000000000439/b7d4435f4c514a0c84f819e4b12e37b4/signed/1887_狄海洋_三等奖_7774.pdf"]
[1888,"P302019090675","单手拧","特教组","课件","三等奖","佛山市",{"$f":"VLOOKUP(B1890,'[1]002'!B:M,7,0)","v":"李娇芬"},{"$f":"VLOOKUP(B1890,'[1]002'!B:M,8,0)","v":"佛山市三水区启智学校"},{"$f":"VLOOKUP(B1890,'[1]002'!B:M,11,0)","v":"-"},{"$f":"VLOOKUP(B1890,'[1]002'!B:M,12,0)","v":"-"},{"$f":"VLOOKUP(B1890,[2]sheet2!B:L,10,0)","v":"-"},{"$f":"VLOOKUP(B1890,[2]sheet2!B:L,11,0)","v":"-"},"http://183.62.54.51:8841/data/files/certificate/000000000439/9eb1674e765746daa0753efd15626e1a/signed/1888_李娇芬_三等奖_7775.pdf"]
[1889,"P302019090676","认识整时","特教组","课件","三等奖","佛山市",{"$f":"VLOOKUP(B1891,'[1]002'!B:M,7,0)","v":"曾萍"},{"$f":"VLOOKUP(B1891,'[1]002'!B:M,8,0)","v":"佛山市三水区启智学校"},{"$f":"VLOOKUP(B1891,'[1]002'!B:M,11,0)","v":"-"},{"$f":"VLOOKUP(B1891,'[1]002'!B:M,12,0)","v":"-"},{"$f":"VLOOKUP(B1891,[2]sheet2!B:L,10,0)","v":"-"},{"$f":"VLOOKUP(B1891,[2]sheet2!B:L,11,0)","v":"-"},"http://183.62.54.51:8841/data/files/certificate/000000000439/fa31c2c99b3b4ddc9d7c5d90b711aa07/signed/1889_曾萍_三等奖_7776.pdf"]
[1890,"P302419091550","奇妙的昆虫世界","特教组","课件","三等奖","佛山市",{"$f":"VLOOKUP(B1892,'[1]002'!B:M,7,0)","v":"李丽生"},"佛山市南海区桂城街道桂江第三小学",{"$f":"VLOOKUP(B1892,'[1]002'!B:M,11,0)","v":"-"},{"$f":"VLOOKUP(B1892,'[1]002'!B:M,12,0)","v":"-"},{"$f":"VLOOKUP(B1892,[2]sheet2!B:L,10,0)","v":"-"},{"$f":"VLOOKUP(B1892,[2]sheet2!B:L,11,0)","v":"-"},"http://183.62.54.51:8841/data/files/certificate/000000000439/173009b65ed44fa48cd25857da7c7b90/signed/1890_李丽生_三等奖_7777.pdf"]
[1891,"P302419093341","桂林山水","特教组","课件","三等奖","河源市",{"$f":"VLOOKUP(B1893,'[1]002'!B:M,7,0)","v":"张红"},{"$f":"VLOOKUP(B1893,'[1]002'!B:M,8,0)","v":"河源市博爱学校"},{"$f":"VLOOKUP(B1893,'[1]002'!B:M,11,0)","v":"-"},{"$f":"VLOOKUP(B1893,'[1]002'!B:M,12,0)","v":"-"},{"$f":"VLOOKUP(B1893,[2]sheet2!B:L,10,0)","v":"-"},{"$f":"VLOOKUP(B1893,[2]sheet2!B:L,11,0)","v":"-"},"http://183.62.54.51:8841/data/files/certificate/000000000439/b997e1d46fea4b06adb86bb5891e9f09/signed/1891_张红_三等奖_7778.pdf"]
[1892,"P302419093337","禽类","特教组","课件","三等奖","河源市",{"$f":"VLOOKUP(B1894,'[1]002'!B:M,7,0)","v":"贺湘丽"},{"$f":"VLOOKUP(B1894,'[1]002'!B:M,8,0)","v":"和平县特殊教育学校"},{"$f":"VLOOKUP(B1894,'[1]002'!B:M,11,0)","v":"-"},{"$f":"VLOOKUP(B1894,'[1]002'!B:M,12,0)","v":"-"},{"$f":"VLOOKUP(B1894,[2]sheet2!B:L,10,0)","v":"-"},{"$f":"VLOOKUP(B1894,[2]sheet2!B:L,11,0)","v":"-"},"http://183.62.54.51:8841/data/files/certificate/000000000439/12b32ddb60c44414a11c6b75c17c7682/signed/1892_贺湘丽_三等奖_7779.pdf"]
[1893,"P302419093340","认识圆形","特教组","课件","三等奖","河源市",{"$f":"VLOOKUP(B1895,'[1]002'!B:M,7,0)","v":"李楚玲"},{"$f":"VLOOKUP(B1895,'[1]002'!B:M,8,0)","v":"河源市博爱学校"},{"$f":"VLOOKUP(B1895,'[1]002'!B:M,11,0)","v":"-"},{"$f":"VLOOKUP(B1895,'[1]002'!B:M,12,0)","v":"-"},{"$f":"VLOOKUP(B1895,[2]sheet2!B:L,10,0)","v":"-"},{"$f":"VLOOKUP(B1895,[2]sheet2!B:L,11,0)","v":"-"},"http://183.62.54.51:8841/data/files/certificate/000000000439/d874363c482343bc9f65b2dbba598bd2/signed/1893_李楚玲_三等奖_7780.pdf"]
[1894,"P302419092234","创意拼图","特教组","课件","三等奖","惠州市",{"$f":"VLOOKUP(B1896,'[1]002'!B:M,7,0)","v":"邱麟"},{"$f":"VLOOKUP(B1896,'[1]002'!B:M,8,0)","v":"市特殊学校"},{"$f":"VLOOKUP(B1896,'[1]002'!B:M,11,0)","v":"陈燕"},{"$f":"VLOOKUP(B1896,'[1]002'!B:M,12,0)","v":"市特殊学校"},{"$f":"VLOOKUP(B1896,[2]sheet2!B:L,10,0)","v":"熊瑶"},{"$f":"VLOOKUP(B1896,[2]sheet2!B:L,11,0)","v":"市特殊学校"},"http://183.62.54.51:8841/data/files/certificate/000000000439/2dc8a7625d17425bb0fdcbd2c08f2e1a/signed/1894_邱麟、陈燕、熊瑶_三等奖_7781.pdf"]
[1895,"P302419092479","认识红绿灯","特教组","课件","三等奖","东莞市",{"$f":"VLOOKUP(B1897,'[1]002'!B:M,7,0)","v":"张彩芬"},{"$f":"VLOOKUP(B1897,'[1]002'!B:M,8,0)","v":"东莞启智学校"},{"$f":"VLOOKUP(B1897,'[1]002'!B:M,11,0)","v":"-"},{"$f":"VLOOKUP(B1897,'[1]002'!B:M,12,0)","v":"-"},{"$f":"VLOOKUP(B1897,[2]sheet2!B:L,10,0)","v":"-"},{"$f":"VLOOKUP(B1897,[2]sheet2!B:L,11,0)","v":"-"},"http://183.62.54.51:8841/data/files/certificate/000000000439/d0fb3f67010f4276bf2956f3445fe134/signed/1895_张彩芬_三等奖_7782.pdf"]
[1896,"P302419092481","认识数字5","特教组","课件","三等奖","东莞市",{"$f":"VLOOKUP(B1898,'[1]002'!B:M,7,0)","v":"胡旺升"},{"$f":"VLOOKUP(B1898,'[1]002'!B:M,8,0)","v":"东莞启智学校"},{"$f":"VLOOKUP(B1898,'[1]002'!B:M,11,0)","v":"-"},{"$f":"VLOOKUP(B1898,'[1]002'!B:M,12,0)","v":"-"},{"$f":"VLOOKUP(B1898,[2]sheet2!B:L,10,0)","v":"-"},{"$f":"VLOOKUP(B1898,[2]sheet2!B:L,11,0)","v":"-"},"http://183.62.54.51:8841/data/files/certificate/000000000439/45252b84a38143bdbd8a83c3c1407f47/signed/1896_胡旺升_三等奖_7783.pdf"]
[1897,"P302419092482","一周的认识","特教组","课件","三等奖","东莞市",{"$f":"VLOOKUP(B1899,'[1]002'!B:M,7,0)","v":"尹肖梅"},{"$f":"VLOOKUP(B1899,'[1]002'!B:M,8,0)","v":"东莞启智学校"},{"$f":"VLOOKUP(B1899,'[1]002'!B:M,11,0)","v":"-"},{"$f":"VLOOKUP(B1899,'[1]002'!B:M,12,0)","v":"-"},{"$f":"VLOOKUP(B1899,[2]sheet2!B:L,10,0)","v":"-"},{"$f":"VLOOKUP(B1899,[2]sheet2!B:L,11,0)","v":"-"},"http://183.62.54.51:8841/data/files/certificate/000000000439/a5feaddf321d453888c2846318d54e72/signed/1897_尹肖梅_三等奖_7784.pdf"]
[1898,"P302419088263","比尾巴","特教组","课件","三等奖","中山市",{"$f":"VLOOKUP(B1900,'[1]002'!B:M,7,0)","v":"李盼盼"},{"$f":"VLOOKUP(B1900,'[1]002'!B:M,8,0)","v":"中山市特殊教育学校"},{"$f":"VLOOKUP(B1900,'[1]002'!B:M,11,0)","v":"史金俏"},{"$f":"VLOOKUP(B1900,'[1]002'!B:M,12,0)","v":"中山市特殊教育学校"},{"$f":"VLOOKUP(B1900,[2]sheet2!B:L,10,0)","v":"-"},{"$f":"VLOOKUP(B1900,[2]sheet2!B:L,11,0)","v":"-"},"http://183.62.54.51:8841/data/files/certificate/000000000439/2f5dae47473c469d8b7fc8d6083ef076/signed/1898_李盼盼、史金俏_三等奖_7785.pdf"]
[1899,"P302419088262","小书包","特教组","课件","三等奖","中山市",{"$f":"VLOOKUP(B1901,'[1]002'!B:M,7,0)","v":"黄海珊"},{"$f":"VLOOKUP(B1901,'[1]002'!B:M,8,0)","v":"中山市特殊教育学校"},{"$f":"VLOOKUP(B1901,'[1]002'!B:M,11,0)","v":"-"},{"$f":"VLOOKUP(B1901,'[1]002'!B:M,12,0)","v":"-"},{"$f":"VLOOKUP(B1901,[2]sheet2!B:L,10,0)","v":"-"},{"$f":"VLOOKUP(B1901,[2]sheet2!B:L,11,0)","v":"-"},"http://183.62.54.51:8841/data/files/certificate/000000000439/e13a64c25cf249d6a9f0fea69a8c0cde/signed/1899_黄海珊_三等奖_7786.pdf"]
[1900,"P302419089050","认识整时","特教组","课件","三等奖","中山市",{"$f":"VLOOKUP(B1902,'[1]002'!B:M,7,0)","v":"黄玉燕"},{"$f":"VLOOKUP(B1902,'[1]002'!B:M,8,0)","v":"中山市特殊教育学校"},{"$f":"VLOOKUP(B1902,'[1]002'!B:M,11,0)","v":"芮露"},{"$f":"VLOOKUP(B1902,'[1]002'!B:M,12,0)","v":"中山市特殊教育学校"},{"$f":"VLOOKUP(B1902,[2]sheet2!B:L,10,0)","v":"何幸杏"},{"$f":"VLOOKUP(B1902,[2]sheet2!B:L,11,0)","v":"中山市特殊教育学校"},"http://183.62.54.51:8841/data/files/certificate/000000000439/26ac46c98f5441b18ecffdab33d43907/signed/1900_黄玉燕、芮露、何幸杏_三等奖_7787.pdf"]
[1901,"P302419089289","快乐厨房之凉拌青瓜","特教组","课件","三等奖","中山市",{"$f":"VLOOKUP(B1903,'[1]002'!B:M,7,0)","v":"潘月英"},{"$f":"VLOOKUP(B1903,'[1]002'!B:M,8,0)","v":"中山市特殊教育学校"},{"$f":"VLOOKUP(B1903,'[1]002'!B:M,11,0)","v":"黄玉燕"},{"$f":"VLOOKUP(B1903,'[1]002'!B:M,12,0)","v":"中山市特殊教育学校"},{"$f":"VLOOKUP(B1903,[2]sheet2!B:L,10,0)","v":"欧贵朝"},{"$f":"VLOOKUP(B1903,[2]sheet2!B:L,11,0)","v":"中山市特殊教育学校"},"http://183.62.54.51:8841/data/files/certificate/000000000439/4fd363f3cfe245b8833932231f1e9ddc/signed/1901_潘月英、黄玉燕、欧贵朝_三等奖_7788.pdf"]
[1902,"P302419091813","森林探险之旅-2、3、4的相邻数","特教组","课件","三等奖","江门市",{"$f":"VLOOKUP(B1904,'[1]002'!B:M,7,0)","v":"刘爱婷"},{"$f":"VLOOKUP(B1904,'[1]002'!B:M,8,0)","v":"江门市特殊教育学校"},{"$f":"VLOOKUP(B1904,'[1]002'!B:M,11,0)","v":"-"},{"$f":"VLOOKUP(B1904,'[1]002'!B:M,12,0)","v":"-"},{"$f":"VLOOKUP(B1904,[2]sheet2!B:L,10,0)","v":"-"},{"$f":"VLOOKUP(B1904,[2]sheet2!B:L,11,0)","v":"-"},"http://183.62.54.51:8841/data/files/certificate/000000000439/46adf92a6a294f24be36cc6731908fc8/signed/1902_刘爱婷_三等奖_7789.pdf"]
[1903,"P302419091814","茉莉的压条繁殖","特教组","课件","三等奖","江门市",{"$f":"VLOOKUP(B1905,'[1]002'!B:M,7,0)","v":"周秀文"},{"$f":"VLOOKUP(B1905,'[1]002'!B:M,8,0)","v":"江门市特殊教育学校"},{"$f":"VLOOKUP(B1905,'[1]002'!B:M,11,0)","v":"-"},{"$f":"VLOOKUP(B1905,'[1]002'!B:M,12,0)","v":"-"},{"$f":"VLOOKUP(B1905,[2]sheet2!B:L,10,0)","v":"-"},{"$f":"VLOOKUP(B1905,[2]sheet2!B:L,11,0)","v":"-"},"http://183.62.54.51:8841/data/files/certificate/000000000439/188f1e32cf8c4794992c0dcb292318d1/signed/1903_周秀文_三等奖_7790.pdf"]
[1904,"P302419091216","夏天到了","特教组","课件","三等奖","肇庆市",{"$f":"VLOOKUP(B1906,'[1]002'!B:M,7,0)","v":"颜皓月"},{"$f":"VLOOKUP(B1906,'[1]002'!B:M,8,0)","v":"四会市特殊教育学校"},{"$f":"VLOOKUP(B1906,'[1]002'!B:M,11,0)","v":"-"},{"$f":"VLOOKUP(B1906,'[1]002'!B:M,12,0)","v":"-"},{"$f":"VLOOKUP(B1906,[2]sheet2!B:L,10,0)","v":"-"},{"$f":"VLOOKUP(B1906,[2]sheet2!B:L,11,0)","v":"-"},"http://183.62.54.51:8841/data/files/certificate/000000000439/1484143e4f1c4ea681dc3efb433ae7cc/signed/1904_颜皓月_三等奖_7791.pdf"]
[1905,"P302419091212","20以内的进位加法","特教组","课件","三等奖","肇庆市",{"$f":"VLOOKUP(B1907,'[1]002'!B:M,7,0)","v":"李玉凤"},{"$f":"VLOOKUP(B1907,'[1]002'!B:M,8,0)","v":"四会市特殊教育学校"},{"$f":"VLOOKUP(B1907,'[1]002'!B:M,11,0)","v":"-"},{"$f":"VLOOKUP(B1907,'[1]002'!B:M,12,0)","v":"-"},{"$f":"VLOOKUP(B1907,[2]sheet2!B:L,10,0)","v":"-"},{"$f":"VLOOKUP(B1907,[2]sheet2!B:L,11,0)","v":"-"},"http://183.62.54.51:8841/data/files/certificate/000000000439/9703888cfceb4b3dbbfcc7b2a7677dd1/signed/1905_李玉凤_三等奖_7792.pdf"]
[1906,"P302419090199","九月九日忆山东兄弟","特教组","课件","三等奖","云浮市",{"$f":"VLOOKUP(B1908,'[1]002'!B:M,7,0)","v":"陆妙杨"},{"$f":"VLOOKUP(B1908,'[1]002'!B:M,8,0)","v":"云浮市特殊教育学校"},{"$f":"VLOOKUP(B1908,'[1]002'!B:M,11,0)","v":"-"},{"$f":"VLOOKUP(B1908,'[1]002'!B:M,12,0)","v":"-"},{"$f":"VLOOKUP(B1908,[2]sheet2!B:L,10,0)","v":"-"},{"$f":"VLOOKUP(B1908,[2]sheet2!B:L,11,0)","v":"-"},"http://183.62.54.51:8841/data/files/certificate/000000000439/6bee0c9aa70b48ba919d9fd69423f30f/signed/1906_陆妙杨_三等奖_7793.pdf"]
[1907,"P303419093258","我会在取票机上取电影票","特教组","微课","三等奖","广州市",{"$f":"VLOOKUP(B1909,'[1]002'!B:M,7,0)","v":"王永慧"},{"$f":"VLOOKUP(B1909,'[1]002'!B:M,8,0)","v":"广州市番禺区培智学校"},{"$f":"VLOOKUP(B1909,'[1]002'!B:M,11,0)","v":"-"},{"$f":"VLOOKUP(B1909,'[1]002'!B:M,12,0)","v":"-"},{"$f":"VLOOKUP(B1909,[2]sheet2!B:L,10,0)","v":"-"},{"$f":"VLOOKUP(B1909,[2]sheet2!B:L,11,0)","v":"-"},"http://183.62.54.51:8841/data/files/certificate/000000000439/7fcb2526f7084d34b0640cb9fa604ba8/signed/1907_王永慧_三等奖_7794.pdf"]
[1908,"P303419091857","早发白帝城","特教组","微课","三等奖","汕头市",{"$f":"VLOOKUP(B1910,'[1]002'!B:M,7,0)","v":"林秀金"},{"$f":"VLOOKUP(B1910,'[1]002'!B:M,8,0)","v":"汕头市聋哑学校"},{"$f":"VLOOKUP(B1910,'[1]002'!B:M,11,0)","v":"-"},{"$f":"VLOOKUP(B1910,'[1]002'!B:M,12,0)","v":"-"},{"$f":"VLOOKUP(B1910,[2]sheet2!B:L,10,0)","v":"-"},{"$f":"VLOOKUP(B1910,[2]sheet2!B:L,11,0)","v":"-"},"http://183.62.54.51:8841/data/files/certificate/000000000439/01724f722957436899847c141dd9381b/signed/1908_林秀金_三等奖_7795.pdf"]
[1909,"P303419091858","六点盲文定位法的使用","特教组","微课","三等奖","汕头市",{"$f":"VLOOKUP(B1911,'[1]002'!B:M,7,0)","v":"纪璐"},{"$f":"VLOOKUP(B1911,'[1]002'!B:M,8,0)","v":"汕头市特殊教育学校"},{"$f":"VLOOKUP(B1911,'[1]002'!B:M,11,0)","v":"-"},{"$f":"VLOOKUP(B1911,'[1]002'!B:M,12,0)","v":"-"},{"$f":"VLOOKUP(B1911,[2]sheet2!B:L,10,0)","v":"-"},{"$f":"VLOOKUP(B1911,[2]sheet2!B:L,11,0)","v":"-"},"http://183.62.54.51:8841/data/files/certificate/000000000439/b65df5bc92b74ba3b9764de4037113c5/signed/1909_纪璐_三等奖_7796.pdf"]
[1910,"P303019090678","认识三角形","特教组","微课","三等奖","佛山市",{"$f":"VLOOKUP(B1912,'[1]002'!B:M,7,0)","v":"邓惠僮"},{"$f":"VLOOKUP(B1912,'[1]002'!B:M,8,0)","v":"佛山市高明区启慧学校"},{"$f":"VLOOKUP(B1912,'[1]002'!B:M,11,0)","v":"-"},{"$f":"VLOOKUP(B1912,'[1]002'!B:M,12,0)","v":"-"},{"$f":"VLOOKUP(B1912,[2]sheet2!B:L,10,0)","v":"-"},{"$f":"VLOOKUP(B1912,[2]sheet2!B:L,11,0)","v":"-"},"http://183.62.54.51:8841/data/files/certificate/000000000439/04689af9dfdd42bbbd47e1f87beda2d1/signed/1910_邓惠僮_三等奖_7797.pdf"]
[1911,"P303019090680","使用电饭煲煮饭","特教组","微课","三等奖","佛山市",{"$f":"VLOOKUP(B1913,'[1]002'!B:M,7,0)","v":"林春琴"},{"$f":"VLOOKUP(B1913,'[1]002'!B:M,8,0)","v":"佛山市高明区启慧学校"},{"$f":"VLOOKUP(B1913,'[1]002'!B:M,11,0)","v":"-"},{"$f":"VLOOKUP(B1913,'[1]002'!B:M,12,0)","v":"-"},{"$f":"VLOOKUP(B1913,[2]sheet2!B:L,10,0)","v":"-"},{"$f":"VLOOKUP(B1913,[2]sheet2!B:L,11,0)","v":"-"},"http://183.62.54.51:8841/data/files/certificate/000000000439/d9837b8b48de405992ea44db15bbdeaf/signed/1911_林春琴_三等奖_7798.pdf"]
[1912,"P303019090681","梅花","特教组","微课","三等奖","佛山市",{"$f":"VLOOKUP(B1914,'[1]002'!B:M,7,0)","v":"崔玉倩"},{"$f":"VLOOKUP(B1914,'[1]002'!B:M,8,0)","v":"佛山市三水区启智学校"},{"$f":"VLOOKUP(B1914,'[1]002'!B:M,11,0)","v":"-"},{"$f":"VLOOKUP(B1914,'[1]002'!B:M,12,0)","v":"-"},{"$f":"VLOOKUP(B1914,[2]sheet2!B:L,10,0)","v":"-"},{"$f":"VLOOKUP(B1914,[2]sheet2!B:L,11,0)","v":"-"},"http://183.62.54.51:8841/data/files/certificate/000000000439/653627e9f5dd47df9be8228aea254950/signed/1912_崔玉倩_三等奖_7799.pdf"]
[1913,"P303019090679","培智学校生活化课程蛋炒饭","特教组","微课","三等奖","佛山市",{"$f":"VLOOKUP(B1915,'[1]002'!B:M,7,0)","v":"王翔宇"},{"$f":"VLOOKUP(B1915,'[1]002'!B:M,8,0)","v":"佛山市高明区启慧学校"},{"$f":"VLOOKUP(B1915,'[1]002'!B:M,11,0)","v":"-"},{"$f":"VLOOKUP(B1915,'[1]002'!B:M,12,0)","v":"-"},{"$f":"VLOOKUP(B1915,[2]sheet2!B:L,10,0)","v":"-"},{"$f":"VLOOKUP(B1915,[2]sheet2!B:L,11,0)","v":"-"},"http://183.62.54.51:8841/data/files/certificate/000000000439/f292183ef1294dba9de31945f5aae2a2/signed/1913_王翔宇_三等奖_7800.pdf"]
[1914,"P303019090682","找规律","特教组","微课","三等奖","佛山市",{"$f":"VLOOKUP(B1916,'[1]002'!B:M,7,0)","v":"聂金程"},{"$f":"VLOOKUP(B1916,'[1]002'!B:M,8,0)","v":"佛山市三水区启智学校"},{"$f":"VLOOKUP(B1916,'[1]002'!B:M,11,0)","v":"-"},{"$f":"VLOOKUP(B1916,'[1]002'!B:M,12,0)","v":"-"},{"$f":"VLOOKUP(B1916,[2]sheet2!B:L,10,0)","v":"-"},{"$f":"VLOOKUP(B1916,[2]sheet2!B:L,11,0)","v":"-"},"http://183.62.54.51:8841/data/files/certificate/000000000439/8b9f8e45782e41b295547172934da512/signed/1914_聂金程_三等奖_7801.pdf"]
[1915,"P303419093332","夏天的衣物及用品","特教组","微课","三等奖","河源市",{"$f":"VLOOKUP(B1917,'[1]002'!B:M,7,0)","v":"颜凯红"},{"$f":"VLOOKUP(B1917,'[1]002'!B:M,8,0)","v":"和平县特殊教育学校"},{"$f":"VLOOKUP(B1917,'[1]002'!B:M,11,0)","v":"-"},{"$f":"VLOOKUP(B1917,'[1]002'!B:M,12,0)","v":"-"},{"$f":"VLOOKUP(B1917,[2]sheet2!B:L,10,0)","v":"-"},{"$f":"VLOOKUP(B1917,[2]sheet2!B:L,11,0)","v":"-"},"http://183.62.54.51:8841/data/files/certificate/000000000439/3d182568c4f84ca698d90c60daedb10e/signed/1915_颜凯红_三等奖_7802.pdf"]
[1916,"P303419092233","人物的外貌描写","特教组","微课","三等奖","惠州市",{"$f":"VLOOKUP(B1918,'[1]002'!B:M,7,0)","v":"黄少华"},{"$f":"VLOOKUP(B1918,'[1]002'!B:M,8,0)","v":"市特殊学校"},{"$f":"VLOOKUP(B1918,'[1]002'!B:M,11,0)","v":"林浩培"},{"$f":"VLOOKUP(B1918,'[1]002'!B:M,12,0)","v":"市特殊学校"},{"$f":"VLOOKUP(B1918,[2]sheet2!B:L,10,0)","v":"-"},{"$f":"VLOOKUP(B1918,[2]sheet2!B:L,11,0)","v":"-"},"http://183.62.54.51:8841/data/files/certificate/000000000439/e55d712d0e814172aaad139da80a771c/signed/1916_黄少华、林浩培_三等奖_7803.pdf"]
[1917,"P303419092533","百度地图","特教组","微课","三等奖","东莞市",{"$f":"VLOOKUP(B1919,'[1]002'!B:M,7,0)","v":"罗润旺"},{"$f":"VLOOKUP(B1919,'[1]002'!B:M,8,0)","v":"东莞市康复实验学校"},{"$f":"VLOOKUP(B1919,'[1]002'!B:M,11,0)","v":"安红妍"},{"$f":"VLOOKUP(B1919,'[1]002'!B:M,12,0)","v":"东莞市康复实验学校"},{"$f":"VLOOKUP(B1919,[2]sheet2!B:L,10,0)","v":"聂岭"},{"$f":"VLOOKUP(B1919,[2]sheet2!B:L,11,0)","v":"东莞市康复实验学校"},"http://183.62.54.51:8841/data/files/certificate/000000000439/67ed4403758c468d89d0f2363a78ca54/signed/1917_罗润旺、安红妍、聂岭_三等奖_7804.pdf"]
[1918,"P303419092523","我会洗碗","特教组","微课","三等奖","东莞市",{"$f":"VLOOKUP(B1920,'[1]002'!B:M,7,0)","v":"高梦洁"},{"$f":"VLOOKUP(B1920,'[1]002'!B:M,8,0)","v":"东莞启智学校"},{"$f":"VLOOKUP(B1920,'[1]002'!B:M,11,0)","v":"-"},{"$f":"VLOOKUP(B1920,'[1]002'!B:M,12,0)","v":"-"},{"$f":"VLOOKUP(B1920,[2]sheet2!B:L,10,0)","v":"-"},{"$f":"VLOOKUP(B1920,[2]sheet2!B:L,11,0)","v":"-"},"http://183.62.54.51:8841/data/files/certificate/000000000439/d81e52aafd60444db7fce684c27b2c5e/signed/1918_高梦洁_三等奖_7805.pdf"]
[1919,"P303419092524","立定跳远","特教组","微课","三等奖","东莞市",{"$f":"VLOOKUP(B1921,'[1]002'!B:M,7,0)","v":"吴永锋"},{"$f":"VLOOKUP(B1921,'[1]002'!B:M,8,0)","v":"东莞启智学校"},{"$f":"VLOOKUP(B1921,'[1]002'!B:M,11,0)","v":"-"},{"$f":"VLOOKUP(B1921,'[1]002'!B:M,12,0)","v":"-"},{"$f":"VLOOKUP(B1921,[2]sheet2!B:L,10,0)","v":"-"},{"$f":"VLOOKUP(B1921,[2]sheet2!B:L,11,0)","v":"-"},"http://183.62.54.51:8841/data/files/certificate/000000000439/7461e85caf794915986d088d57cf5e29/signed/1919_吴永锋_三等奖_7806.pdf"]
[1920,"P303419092535","雷雨天气安全教育","特教组","微课","三等奖","东莞市",{"$f":"VLOOKUP(B1922,'[1]002'!B:M,7,0)","v":"王燱芝"},{"$f":"VLOOKUP(B1922,'[1]002'!B:M,8,0)","v":"东莞启智学校"},{"$f":"VLOOKUP(B1922,'[1]002'!B:M,11,0)","v":"-"},{"$f":"VLOOKUP(B1922,'[1]002'!B:M,12,0)","v":"-"},{"$f":"VLOOKUP(B1922,[2]sheet2!B:L,10,0)","v":"-"},{"$f":"VLOOKUP(B1922,[2]sheet2!B:L,11,0)","v":"-"},"http://183.62.54.51:8841/data/files/certificate/000000000439/c0e83c8544bd4335afd49f07d71b1de4/signed/1920_王燱芝_三等奖_7807.pdf"]
[1921,"P303419092521","勤洗手讲卫生","特教组","微课","三等奖","东莞市",{"$f":"VLOOKUP(B1923,'[1]002'!B:M,7,0)","v":"唐晓燕"},{"$f":"VLOOKUP(B1923,'[1]002'!B:M,8,0)","v":"东莞启智学校"},{"$f":"VLOOKUP(B1923,'[1]002'!B:M,11,0)","v":"-"},{"$f":"VLOOKUP(B1923,'[1]002'!B:M,12,0)","v":"-"},{"$f":"VLOOKUP(B1923,[2]sheet2!B:L,10,0)","v":"-"},{"$f":"VLOOKUP(B1923,[2]sheet2!B:L,11,0)","v":"-"},"http://183.62.54.51:8841/data/files/certificate/000000000439/27c28c957651452481bd00593cb2938a/signed/1921_唐晓燕_三等奖_7808.pdf"]
[1922,"P303419088147","整时的认识","特教组","微课","三等奖","中山市",{"$f":"VLOOKUP(B1924,'[1]002'!B:M,7,0)","v":"赵娜"},{"$f":"VLOOKUP(B1924,'[1]002'!B:M,8,0)","v":"中山市特殊教育学校"},{"$f":"VLOOKUP(B1924,'[1]002'!B:M,11,0)","v":"-"},{"$f":"VLOOKUP(B1924,'[1]002'!B:M,12,0)","v":"-"},{"$f":"VLOOKUP(B1924,[2]sheet2!B:L,10,0)","v":"-"},{"$f":"VLOOKUP(B1924,[2]sheet2!B:L,11,0)","v":"-"},"http://183.62.54.51:8841/data/files/certificate/000000000439/e7812726937b44a596fc0b177bc0179c/signed/1922_赵娜_三等奖_7809.pdf"]
[1923,"P303419091808","交集和并集","特教组","微课","三等奖","江门市",{"$f":"VLOOKUP(B1925,'[1]002'!B:M,7,0)","v":"王蕾"},{"$f":"VLOOKUP(B1925,'[1]002'!B:M,8,0)","v":"江门市特殊教育学校"},{"$f":"VLOOKUP(B1925,'[1]002'!B:M,11,0)","v":"-"},{"$f":"VLOOKUP(B1925,'[1]002'!B:M,12,0)","v":"-"},{"$f":"VLOOKUP(B1925,[2]sheet2!B:L,10,0)","v":"-"},{"$f":"VLOOKUP(B1925,[2]sheet2!B:L,11,0)","v":"-"},"http://183.62.54.51:8841/data/files/certificate/000000000439/fec7c37a47124f3da0d0c18c491f01d5/signed/1923_王蕾_三等奖_7810.pdf"]
[1924,"P303419092859","湛江特色美食木叶夹","特教组","微课","三等奖","湛江市",{"$f":"VLOOKUP(B1926,'[1]002'!B:M,7,0)","v":"李燕"},{"$f":"VLOOKUP(B1926,'[1]002'!B:M,8,0)","v":"湛江市特殊教育学校"},{"$f":"VLOOKUP(B1926,'[1]002'!B:M,11,0)","v":"-"},{"$f":"VLOOKUP(B1926,'[1]002'!B:M,12,0)","v":"-"},{"$f":"VLOOKUP(B1926,[2]sheet2!B:L,10,0)","v":"-"},{"$f":"VLOOKUP(B1926,[2]sheet2!B:L,11,0)","v":"-"},"http://183.62.54.51:8841/data/files/certificate/000000000439/1fffecffa08941998e5999122c52d1d6/signed/1924_李燕_三等奖_7811.pdf"]
[1925,"P303419091673","康奈尔笔记法","特教组","微课","三等奖","清远市",{"$f":"VLOOKUP(B1927,'[1]002'!B:M,7,0)","v":"邬飞"},{"$f":"VLOOKUP(B1927,'[1]002'!B:M,8,0)","v":"清远市特殊教育学校"},{"$f":"VLOOKUP(B1927,'[1]002'!B:M,11,0)","v":"王春艳"},{"$f":"VLOOKUP(B1927,'[1]002'!B:M,12,0)","v":"清远市特殊教育学校"},{"$f":"VLOOKUP(B1927,[2]sheet2!B:L,10,0)","v":"-"},{"$f":"VLOOKUP(B1927,[2]sheet2!B:L,11,0)","v":"-"},"http://183.62.54.51:8841/data/files/certificate/000000000439/f863f385f7634fafa977def730118eee/signed/1925_邬飞、王春艳_三等奖_7812.pdf"]
[1926,"P303419091670","家常煎饼","特教组","微课","三等奖","清远市",{"$f":"VLOOKUP(B1928,'[1]002'!B:M,7,0)","v":"黄钰文"},{"$f":"VLOOKUP(B1928,'[1]002'!B:M,8,0)","v":"清远市特殊学校"},{"$f":"VLOOKUP(B1928,'[1]002'!B:M,11,0)","v":"-"},{"$f":"VLOOKUP(B1928,'[1]002'!B:M,12,0)","v":"-"},{"$f":"VLOOKUP(B1928,[2]sheet2!B:L,10,0)","v":"-"},{"$f":"VLOOKUP(B1928,[2]sheet2!B:L,11,0)","v":"-"},"http://183.62.54.51:8841/data/files/certificate/000000000439/9d1988418a3d441f9c1d703f11f5bed3/signed/1926_黄钰文_三等奖_7813.pdf"]
[1927,"P305119080336","摩擦产生静电","特教组","微课","三等奖","云浮市",{"$f":"VLOOKUP(B1929,'[1]002'!B:M,7,0)","v":"谢冰玲"},{"$f":"VLOOKUP(B1929,'[1]002'!B:M,8,0)","v":"云浮市特殊教育学校"},{"$f":"VLOOKUP(B1929,'[1]002'!B:M,11,0)","v":"-"},{"$f":"VLOOKUP(B1929,'[1]002'!B:M,12,0)","v":"-"},{"$f":"VLOOKUP(B1929,[2]sheet2!B:L,10,0)","v":"-"},{"$f":"VLOOKUP(B1929,[2]sheet2!B:L,11,0)","v":"-"},"http://183.62.54.51:8841/data/files/certificate/000000000439/45565e5b6b4647c8aa6bef1a3df55887/signed/1927_谢冰玲_三等奖_7814.pdf"]
[1928,"P303419086884","叠衣服","特教组","微课","三等奖","云浮市",{"$f":"VLOOKUP(B1930,'[1]002'!B:M,7,0)","v":"范茂森"},{"$f":"VLOOKUP(B1930,'[1]002'!B:M,8,0)","v":"新兴县特殊教育学校"},{"$f":"VLOOKUP(B1930,'[1]002'!B:M,11,0)","v":"-"},{"$f":"VLOOKUP(B1930,'[1]002'!B:M,12,0)","v":"-"},{"$f":"VLOOKUP(B1930,[2]sheet2!B:L,10,0)","v":"-"},{"$f":"VLOOKUP(B1930,[2]sheet2!B:L,11,0)","v":"-"},"http://183.62.54.51:8841/data/files/certificate/000000000439/766796527bc546318e647c22fc5e1de1/signed/1928_范茂森_三等奖_7815.pdf"]
[1929,"P303419087019","衍纸艺术基础造型","特教组","微课","三等奖","云浮市",{"$f":"VLOOKUP(B1931,'[1]002'!B:M,7,0)","v":"赵婧雅"},{"$f":"VLOOKUP(B1931,'[1]002'!B:M,8,0)","v":"新兴县特殊教育学校"},{"$f":"VLOOKUP(B1931,'[1]002'!B:M,11,0)","v":"-"},{"$f":"VLOOKUP(B1931,'[1]002'!B:M,12,0)","v":"-"},{"$f":"VLOOKUP(B1931,[2]sheet2!B:L,10,0)","v":"-"},{"$f":"VLOOKUP(B1931,[2]sheet2!B:L,11,0)","v":"-"},"http://183.62.54.51:8841/data/files/certificate/000000000439/1000f2e6677a463ea70e5d2305a2b133/signed/1929_赵婧雅_三等奖_7816.pdf"]
[1930,"P305419092820","红军三军会宁大会师","特教组","信息技术创新教学案例","三等奖","东莞市",{"$f":"VLOOKUP(B1932,'[1]002'!B:M,7,0)","v":"曹胜蓝"},{"$f":"VLOOKUP(B1932,'[1]002'!B:M,8,0)","v":"东莞启智学校"},{"$f":"VLOOKUP(B1932,'[1]002'!B:M,11,0)","v":"-"},{"$f":"VLOOKUP(B1932,'[1]002'!B:M,12,0)","v":"-"},{"$f":"VLOOKUP(B1932,[2]sheet2!B:L,10,0)","v":"-"},{"$f":"VLOOKUP(B1932,[2]sheet2!B:L,11,0)","v":"-"},"http://183.62.54.51:8841/data/files/certificate/000000000439/3cc878a8491e4ea49429835fc4274d01/signed/1930_曹胜蓝_三等奖_7817.pdf"]
[1931,"P304419093255","有趣的6","特教组","新媒体新技术教学应用课例","三等奖",{"$f":"RIGHT(LEFT(VLOOKUP(B1933,'[1]002'!B:M,3,0),7),3)","v":"广州市"},{"$f":"VLOOKUP(B1933,'[1]002'!B:M,7,0)","v":"陈嘉梁"},{"$f":"VLOOKUP(B1933,'[1]002'!B:M,8,0)","v":"广州市越秀区培智学校"},{"$f":"VLOOKUP(B1933,'[1]002'!B:M,11,0)","v":"曹慧洁"},{"$f":"VLOOKUP(B1933,'[1]002'!B:M,12,0)","v":"广州市越秀区培智学校"},{"$f":"VLOOKUP(B1933,[2]sheet2!B:L,10,0)","v":"陈欢"},{"$f":"VLOOKUP(B1933,[2]sheet2!B:L,11,0)","v":"广州市越秀区培智学校"},"http://183.62.54.51:8841/data/files/certificate/000000000439/23f7718e9c5a4c1a8776dd6ce4fbb13c/signed/1931_陈嘉梁、曹慧洁、陈欢_三等奖_7818.pdf"]
[1932,"P304419093256","早餐早餐在哪里","特教组","新媒体新技术教学应用课例","三等奖",{"$f":"RIGHT(LEFT(VLOOKUP(B1934,'[1]002'!B:M,3,0),7),3)","v":"广州市"},{"$f":"VLOOKUP(B1934,'[1]002'!B:M,7,0)","v":"张洋"},{"$f":"VLOOKUP(B1934,'[1]002'!B:M,8,0)","v":"广州市越秀区培智学校"},{"$f":"VLOOKUP(B1934,'[1]002'!B:M,11,0)","v":"闫冬媚"},{"$f":"VLOOKUP(B1934,'[1]002'!B:M,12,0)","v":"广州市越秀区培智学校"},{"$f":"VLOOKUP(B1934,[2]sheet2!B:L,10,0)","v":"余志梅"},{"$f":"VLOOKUP(B1934,[2]sheet2!B:L,11,0)","v":"广州市越秀区培智学校"},"http://183.62.54.51:8841/data/files/certificate/000000000439/f1e5d6f27b7f4233bf384aef0215b2a9/signed/1932_张洋、闫冬媚、余志梅_三等奖_7819.pdf"]
[1933,"P304419092754","葡萄是酸的","特教组","新媒体新技术教学应用课例","三等奖",{"$f":"RIGHT(LEFT(VLOOKUP(B1935,'[1]002'!B:M,3,0),7),3)","v":"深圳市"},{"$f":"VLOOKUP(B1935,'[1]002'!B:M,7,0)","v":"胡海平"},{"$f":"VLOOKUP(B1935,'[1]002'!B:M,8,0)","v":"深圳元平特殊教育学校"},{"$f":"VLOOKUP(B1935,'[1]002'!B:M,11,0)","v":"-"},{"$f":"VLOOKUP(B1935,'[1]002'!B:M,12,0)","v":"-"},{"$f":"VLOOKUP(B1935,[2]sheet2!B:L,10,0)","v":"-"},{"$f":"VLOOKUP(B1935,[2]sheet2!B:L,11,0)","v":"-"},"http://183.62.54.51:8841/data/files/certificate/000000000439/18a22cb988504e4dbea1a13e0ae01c96/signed/1933_胡海平_三等奖_7820.pdf"]
[1934,"P304419089216","端午粽","特教组","新媒体新技术教学应用课例","三等奖",{"$f":"RIGHT(LEFT(VLOOKUP(B1936,'[1]002'!B:M,3,0),7),3)","v":"珠海市"},{"$f":"VLOOKUP(B1936,'[1]002'!B:M,7,0)","v":"蒋艳"},{"$f":"VLOOKUP(B1936,'[1]002'!B:M,8,0)","v":"珠海市特殊教育学校"},{"$f":"VLOOKUP(B1936,'[1]002'!B:M,11,0)","v":"-"},{"$f":"VLOOKUP(B1936,'[1]002'!B:M,12,0)","v":"-"},{"$f":"VLOOKUP(B1936,[2]sheet2!B:L,10,0)","v":"-"},{"$f":"VLOOKUP(B1936,[2]sheet2!B:L,11,0)","v":"-"},"http://183.62.54.51:8841/data/files/certificate/000000000439/c8841bf0243b4f76ad6d61d5d5145de4/signed/1934_蒋艳_三等奖_7821.pdf"]
[1935,"P304419091553","居家用电安全预防触电事故","特教组","新媒体新技术教学应用课例","三等奖",{"$f":"RIGHT(LEFT(VLOOKUP(B1937,'[1]002'!B:M,3,0),7),3)","v":"佛山市"},{"$f":"VLOOKUP(B1937,'[1]002'!B:M,7,0)","v":"吴文钟"},{"$f":"VLOOKUP(B1937,'[1]002'!B:M,8,0)","v":"佛山市南海区大沥镇城区小学"},{"$f":"VLOOKUP(B1937,'[1]002'!B:M,11,0)","v":"-"},{"$f":"VLOOKUP(B1937,'[1]002'!B:M,12,0)","v":"-"},{"$f":"VLOOKUP(B1937,[2]sheet2!B:L,10,0)","v":"-"},{"$f":"VLOOKUP(B1937,[2]sheet2!B:L,11,0)","v":"-"},"http://183.62.54.51:8841/data/files/certificate/000000000439/0dfaed42a623472ea8069079bb8c40db/signed/1935_吴文钟_三等奖_7822.pdf"]
[1936,"P304419089305","打电话","特教组","新媒体新技术教学应用课例","三等奖",{"$f":"RIGHT(LEFT(VLOOKUP(B1938,'[1]002'!B:M,3,0),7),3)","v":"韶关市"},{"$f":"VLOOKUP(B1938,'[1]002'!B:M,7,0)","v":"崔嘉华"},{"$f":"VLOOKUP(B1938,'[1]002'!B:M,8,0)","v":"韶关市特殊教育学校"},{"$f":"VLOOKUP(B1938,'[1]002'!B:M,11,0)","v":"-"},{"$f":"VLOOKUP(B1938,'[1]002'!B:M,12,0)","v":"-"},{"$f":"VLOOKUP(B1938,[2]sheet2!B:L,10,0)","v":"-"},{"$f":"VLOOKUP(B1938,[2]sheet2!B:L,11,0)","v":"-"},"http://183.62.54.51:8841/data/files/certificate/000000000439/eefea793bb644df0983599fa2bb708d7/signed/1936_崔嘉华_三等奖_7823.pdf"]
[1937,"P304419093333","神奇的五官","特教组","新媒体新技术教学应用课例","三等奖",{"$f":"RIGHT(LEFT(VLOOKUP(B1939,'[1]002'!B:M,3,0),7),3)","v":"河源市"},{"$f":"VLOOKUP(B1939,'[1]002'!B:M,7,0)","v":"杨倩"},{"$f":"VLOOKUP(B1939,'[1]002'!B:M,8,0)","v":"河源市博爱学校"},{"$f":"VLOOKUP(B1939,'[1]002'!B:M,11,0)","v":"-"},{"$f":"VLOOKUP(B1939,'[1]002'!B:M,12,0)","v":"-"},{"$f":"VLOOKUP(B1939,[2]sheet2!B:L,10,0)","v":"-"},{"$f":"VLOOKUP(B1939,[2]sheet2!B:L,11,0)","v":"-"},"http://183.62.54.51:8841/data/files/certificate/000000000439/b3bdb04f19984a9384a382bc74b7114d/signed/1937_杨倩_三等奖_7824.pdf"]
[1938,"P304419093335","10以内的连加","特教组","新媒体新技术教学应用课例","三等奖",{"$f":"RIGHT(LEFT(VLOOKUP(B1940,'[1]002'!B:M,3,0),7),3)","v":"河源市"},{"$f":"VLOOKUP(B1940,'[1]002'!B:M,7,0)","v":"高瑞争"},{"$f":"VLOOKUP(B1940,'[1]002'!B:M,8,0)","v":"和平县特殊教育学校"},{"$f":"VLOOKUP(B1940,'[1]002'!B:M,11,0)","v":"梁平琪"},{"$f":"VLOOKUP(B1940,'[1]002'!B:M,12,0)","v":"和平县特殊教育学校"},{"$f":"VLOOKUP(B1940,[2]sheet2!B:L,10,0)","v":"-"},{"$f":"VLOOKUP(B1940,[2]sheet2!B:L,11,0)","v":"-"},"http://183.62.54.51:8841/data/files/certificate/000000000439/eea525fcda854b608493e506b94adf83/signed/1938_高瑞争、梁平琪_三等奖_7825.pdf"]
[1939,"P304419092409","茄子西红柿","特教组","新媒体新技术教学应用课例","三等奖",{"$f":"RIGHT(LEFT(VLOOKUP(B1941,'[1]002'!B:M,3,0),7),3)","v":"东莞市"},{"$f":"VLOOKUP(B1941,'[1]002'!B:M,7,0)","v":"谢慧敏"},{"$f":"VLOOKUP(B1941,'[1]002'!B:M,8,0)","v":"东莞启智学校"},{"$f":"VLOOKUP(B1941,'[1]002'!B:M,11,0)","v":"-"},{"$f":"VLOOKUP(B1941,'[1]002'!B:M,12,0)","v":"-"},{"$f":"VLOOKUP(B1941,[2]sheet2!B:L,10,0)","v":"-"},{"$f":"VLOOKUP(B1941,[2]sheet2!B:L,11,0)","v":"-"},"http://183.62.54.51:8841/data/files/certificate/000000000439/c1e5f7f262f04e5589bed0335fe3580b/signed/1939_谢慧敏_三等奖_7826.pdf"]
[1940,"P304419092407","生活数学使用计算器两位数的加法2","特教组","新媒体新技术教学应用课例","三等奖",{"$f":"RIGHT(LEFT(VLOOKUP(B1942,'[1]002'!B:M,3,0),7),3)","v":"东莞市"},{"$f":"VLOOKUP(B1942,'[1]002'!B:M,7,0)","v":"熊润仪"},{"$f":"VLOOKUP(B1942,'[1]002'!B:M,8,0)","v":"东莞市康复实验学校"},{"$f":"VLOOKUP(B1942,'[1]002'!B:M,11,0)","v":"-"},{"$f":"VLOOKUP(B1942,'[1]002'!B:M,12,0)","v":"-"},{"$f":"VLOOKUP(B1942,[2]sheet2!B:L,10,0)","v":"-"},{"$f":"VLOOKUP(B1942,[2]sheet2!B:L,11,0)","v":"-"},"http://183.62.54.51:8841/data/files/certificate/000000000439/5ff5bdaae7d544e0812520bdf55cb0bf/signed/1940_熊润仪_三等奖_7827.pdf"]
[1941,"P304419092414","万以内人民币的认识","特教组","新媒体新技术教学应用课例","三等奖",{"$f":"RIGHT(LEFT(VLOOKUP(B1943,'[1]002'!B:M,3,0),7),3)","v":"东莞市"},{"$f":"VLOOKUP(B1943,'[1]002'!B:M,7,0)","v":"侯立峰"},{"$f":"VLOOKUP(B1943,'[1]002'!B:M,8,0)","v":"东莞启智学校"},{"$f":"VLOOKUP(B1943,'[1]002'!B:M,11,0)","v":"-"},{"$f":"VLOOKUP(B1943,'[1]002'!B:M,12,0)","v":"-"},{"$f":"VLOOKUP(B1943,[2]sheet2!B:L,10,0)","v":"-"},{"$f":"VLOOKUP(B1943,[2]sheet2!B:L,11,0)","v":"-"},"http://183.62.54.51:8841/data/files/certificate/000000000439/4285782c48f347b59976ef574c721fc0/signed/1941_侯立峰_三等奖_7828.pdf"]
[1942,"P304419092413","讲文明排好队","特教组","新媒体新技术教学应用课例","三等奖",{"$f":"RIGHT(LEFT(VLOOKUP(B1944,'[1]002'!B:M,3,0),7),3)","v":"东莞市"},{"$f":"VLOOKUP(B1944,'[1]002'!B:M,7,0)","v":"张彩芬"},{"$f":"VLOOKUP(B1944,'[1]002'!B:M,8,0)","v":"东莞启智学校"},{"$f":"VLOOKUP(B1944,'[1]002'!B:M,11,0)","v":"-"},{"$f":"VLOOKUP(B1944,'[1]002'!B:M,12,0)","v":"-"},{"$f":"VLOOKUP(B1944,[2]sheet2!B:L,10,0)","v":"-"},{"$f":"VLOOKUP(B1944,[2]sheet2!B:L,11,0)","v":"-"},"http://183.62.54.51:8841/data/files/certificate/000000000439/1a9dfa8780b24ea2917b3287afe1a4a9/signed/1942_张彩芬_三等奖_7829.pdf"]
[1943,"P304419092404","小金鱼","特教组","新媒体新技术教学应用课例","三等奖",{"$f":"RIGHT(LEFT(VLOOKUP(B1945,'[1]002'!B:M,3,0),7),3)","v":"东莞市"},{"$f":"VLOOKUP(B1945,'[1]002'!B:M,7,0)","v":"李卉"},{"$f":"VLOOKUP(B1945,'[1]002'!B:M,8,0)","v":"东莞市康复实验学校"},{"$f":"VLOOKUP(B1945,'[1]002'!B:M,11,0)","v":"-"},{"$f":"VLOOKUP(B1945,'[1]002'!B:M,12,0)","v":"-"},{"$f":"VLOOKUP(B1945,[2]sheet2!B:L,10,0)","v":"-"},{"$f":"VLOOKUP(B1945,[2]sheet2!B:L,11,0)","v":"-"},"http://183.62.54.51:8841/data/files/certificate/000000000439/b6e9a1ad30754e1a95776fa73674fb06/signed/1943_李卉_三等奖_7830.pdf"]
[1944,"P304419092408","漂亮的彩蛋","特教组","新媒体新技术教学应用课例","三等奖",{"$f":"RIGHT(LEFT(VLOOKUP(B1946,'[1]002'!B:M,3,0),7),3)","v":"东莞市"},{"$f":"VLOOKUP(B1946,'[1]002'!B:M,7,0)","v":"肖晓慧"},{"$f":"VLOOKUP(B1946,'[1]002'!B:M,8,0)","v":"东莞启智学校"},{"$f":"VLOOKUP(B1946,'[1]002'!B:M,11,0)","v":"-"},{"$f":"VLOOKUP(B1946,'[1]002'!B:M,12,0)","v":"-"},{"$f":"VLOOKUP(B1946,[2]sheet2!B:L,10,0)","v":"-"},{"$f":"VLOOKUP(B1946,[2]sheet2!B:L,11,0)","v":"-"},"http://183.62.54.51:8841/data/files/certificate/000000000439/71b9835837f841d1a42f48fd748a0cbf/signed/1944_肖晓慧_三等奖_7831.pdf"]
[1945,"P304419092412","认识长方形","特教组","新媒体新技术教学应用课例","三等奖",{"$f":"RIGHT(LEFT(VLOOKUP(B1947,'[1]002'!B:M,3,0),7),3)","v":"东莞市"},{"$f":"VLOOKUP(B1947,'[1]002'!B:M,7,0)","v":"霍博龙"},{"$f":"VLOOKUP(B1947,'[1]002'!B:M,8,0)","v":"东莞启智学校"},{"$f":"VLOOKUP(B1947,'[1]002'!B:M,11,0)","v":"-"},{"$f":"VLOOKUP(B1947,'[1]002'!B:M,12,0)","v":"-"},{"$f":"VLOOKUP(B1947,[2]sheet2!B:L,10,0)","v":"-"},{"$f":"VLOOKUP(B1947,[2]sheet2!B:L,11,0)","v":"-"},"http://183.62.54.51:8841/data/files/certificate/000000000439/86922a3d0ef24590b55f28704e643ab9/signed/1945_霍博龙_三等奖_7832.pdf"]
[1946,"P304419092415","认识椭圆形","特教组","新媒体新技术教学应用课例","三等奖",{"$f":"RIGHT(LEFT(VLOOKUP(B1948,'[1]002'!B:M,3,0),7),3)","v":"东莞市"},{"$f":"VLOOKUP(B1948,'[1]002'!B:M,7,0)","v":"黄小丽"},{"$f":"VLOOKUP(B1948,'[1]002'!B:M,8,0)","v":"东莞启智学校"},{"$f":"VLOOKUP(B1948,'[1]002'!B:M,11,0)","v":"-"},{"$f":"VLOOKUP(B1948,'[1]002'!B:M,12,0)","v":"-"},{"$f":"VLOOKUP(B1948,[2]sheet2!B:L,10,0)","v":"-"},{"$f":"VLOOKUP(B1948,[2]sheet2!B:L,11,0)","v":"-"},"http://183.62.54.51:8841/data/files/certificate/000000000439/d66502f6d2b94afc8d30b29fa9cf9717/signed/1946_黄小丽_三等奖_7833.pdf"]
[1947,"P304419089553","端午节","特教组","新媒体新技术教学应用课例","三等奖",{"$f":"RIGHT(LEFT(VLOOKUP(B1949,'[1]002'!B:M,3,0),7),3)","v":"中山市"},{"$f":"VLOOKUP(B1949,'[1]002'!B:M,7,0)","v":"赵莎莎"},{"$f":"VLOOKUP(B1949,'[1]002'!B:M,8,0)","v":"中山市特殊教育学校"},{"$f":"VLOOKUP(B1949,'[1]002'!B:M,11,0)","v":"林晓琳"},{"$f":"VLOOKUP(B1949,'[1]002'!B:M,12,0)","v":"中山市特殊教育学校"},{"$f":"VLOOKUP(B1949,[2]sheet2!B:L,10,0)","v":"-"},{"$f":"VLOOKUP(B1949,[2]sheet2!B:L,11,0)","v":"-"},"http://183.62.54.51:8841/data/files/certificate/000000000439/69474d7b69804083be79053fd166cfff/signed/1947_赵莎莎、林晓琳_三等奖_7834.pdf"]
[1948,"P304419088510","认识职业","特教组","新媒体新技术教学应用课例","三等奖",{"$f":"RIGHT(LEFT(VLOOKUP(B1950,'[1]002'!B:M,3,0),7),3)","v":"中山市"},{"$f":"VLOOKUP(B1950,'[1]002'!B:M,7,0)","v":"熊文娟"},{"$f":"VLOOKUP(B1950,'[1]002'!B:M,8,0)","v":"中山市特殊教育学校"},{"$f":"VLOOKUP(B1950,'[1]002'!B:M,11,0)","v":"兰腾"},{"$f":"VLOOKUP(B1950,'[1]002'!B:M,12,0)","v":"中山市特殊教育学校"},{"$f":"VLOOKUP(B1950,[2]sheet2!B:L,10,0)","v":"谢燕群"},{"$f":"VLOOKUP(B1950,[2]sheet2!B:L,11,0)","v":"中山市特殊教育学校"},"http://183.62.54.51:8841/data/files/certificate/000000000439/bd95509505634bdb9ea93344512fe46f/signed/1948_熊文娟、兰腾、谢燕群_三等奖_7835.pdf"]
[1949,"P304419088299","比尾巴","特教组","新媒体新技术教学应用课例","三等奖",{"$f":"RIGHT(LEFT(VLOOKUP(B1951,'[1]002'!B:M,3,0),7),3)","v":"中山市"},{"$f":"VLOOKUP(B1951,'[1]002'!B:M,7,0)","v":"李盼盼"},{"$f":"VLOOKUP(B1951,'[1]002'!B:M,8,0)","v":"中山市特殊教育学校"},{"$f":"VLOOKUP(B1951,'[1]002'!B:M,11,0)","v":"史金俏"},{"$f":"VLOOKUP(B1951,'[1]002'!B:M,12,0)","v":"中山市特殊教育学校"},{"$f":"VLOOKUP(B1951,[2]sheet2!B:L,10,0)","v":"范朋吉"},{"$f":"VLOOKUP(B1951,[2]sheet2!B:L,11,0)","v":"中山市特殊教育学校"},"http://183.62.54.51:8841/data/files/certificate/000000000439/14d284d7416d4700bd337dbb345ed2f8/signed/1949_李盼盼、史金俏、范朋吉_三等奖_7836.pdf"]
[1950,"P304419092069","手套","特教组","新媒体新技术教学应用课例","三等奖",{"$f":"RIGHT(LEFT(VLOOKUP(B1952,'[1]002'!B:M,3,0),7),3)","v":"江门市"},{"$f":"VLOOKUP(B1952,'[1]002'!B:M,7,0)","v":"邱凤华"},{"$f":"VLOOKUP(B1952,'[1]002'!B:M,8,0)","v":"鹤山市特殊教育学校"},{"$f":"VLOOKUP(B1952,'[1]002'!B:M,11,0)","v":"-"},{"$f":"VLOOKUP(B1952,'[1]002'!B:M,12,0)","v":"-"},{"$f":"VLOOKUP(B1952,[2]sheet2!B:L,10,0)","v":"-"},{"$f":"VLOOKUP(B1952,[2]sheet2!B:L,11,0)","v":"-"},"http://183.62.54.51:8841/data/files/certificate/000000000439/3741c6d25556437fb2e937f095824f69/signed/1950_邱凤华_三等奖_7837.pdf"]
[1951,"P304419092855","卖炭翁","特教组","新媒体新技术教学应用课例","三等奖",{"$f":"RIGHT(LEFT(VLOOKUP(B1953,'[1]002'!B:M,3,0),7),3)","v":"湛江市"},{"$f":"VLOOKUP(B1953,'[1]002'!B:M,7,0)","v":"洪婷"},{"$f":"VLOOKUP(B1953,'[1]002'!B:M,8,0)","v":"湛江市特殊教育学校"},{"$f":"VLOOKUP(B1953,'[1]002'!B:M,11,0)","v":"-"},{"$f":"VLOOKUP(B1953,'[1]002'!B:M,12,0)","v":"-"},{"$f":"VLOOKUP(B1953,[2]sheet2!B:L,10,0)","v":"-"},{"$f":"VLOOKUP(B1953,[2]sheet2!B:L,11,0)","v":"-"},"http://183.62.54.51:8841/data/files/certificate/000000000439/cddafc93977c4229ac0880fd9627788d/signed/1951_洪婷_三等奖_7838.pdf"]
[1952,"P304419092853","釉上彩填色技巧","特教组","新媒体新技术教学应用课例","三等奖",{"$f":"RIGHT(LEFT(VLOOKUP(B1954,'[1]002'!B:M,3,0),7),3)","v":"湛江市"},{"$f":"VLOOKUP(B1954,'[1]002'!B:M,7,0)","v":"陶婧"},{"$f":"VLOOKUP(B1954,'[1]002'!B:M,8,0)","v":"湛江市特殊教育学校"},{"$f":"VLOOKUP(B1954,'[1]002'!B:M,11,0)","v":"-"},{"$f":"VLOOKUP(B1954,'[1]002'!B:M,12,0)","v":"-"},{"$f":"VLOOKUP(B1954,[2]sheet2!B:L,10,0)","v":"-"},{"$f":"VLOOKUP(B1954,[2]sheet2!B:L,11,0)","v":"-"},"http://183.62.54.51:8841/data/files/certificate/000000000439/f02a6e4d0da94fa29fc54e2fb28ef336/signed/1952_陶婧_三等奖_7839.pdf"]
[1953,"P304419091392","不一样的鞋子","特教组","新媒体新技术教学应用课例","三等奖",{"$f":"RIGHT(LEFT(VLOOKUP(B1955,'[1]002'!B:M,3,0),7),3)","v":"茂名市"},{"$f":"VLOOKUP(B1955,'[1]002'!B:M,7,0)","v":"冯戚妹"},{"$f":"VLOOKUP(B1955,'[1]002'!B:M,8,0)","v":"高州市特殊教育学校"},{"$f":"VLOOKUP(B1955,'[1]002'!B:M,11,0)","v":"-"},{"$f":"VLOOKUP(B1955,'[1]002'!B:M,12,0)","v":"-"},{"$f":"VLOOKUP(B1955,[2]sheet2!B:L,10,0)","v":"-"},{"$f":"VLOOKUP(B1955,[2]sheet2!B:L,11,0)","v":"-"},"http://183.62.54.51:8841/data/files/certificate/000000000439/9e85e8a4dd034ccd89dc57f9155797f9/signed/1953_冯戚妹_三等奖_7840.pdf"]
[1954,"P301419092868","最好吃蛋糕","特教组","教育资源应用案例_项目单位","三等奖","湛江市",{"$f":"VLOOKUP(B1956,'[1]002'!B:M,7,0)","v":"李宏美"},{"$f":"VLOOKUP(B1956,'[1]002'!B:M,8,0)","v":"湛江市特殊教育学校"},{"$f":"VLOOKUP(B1956,'[1]002'!B:M,11,0)","v":"-"},{"$f":"VLOOKUP(B1956,'[1]002'!B:M,12,0)","v":"-"},{"$f":"VLOOKUP(B1956,[2]sheet2!B:L,10,0)","v":"-"},{"$f":"VLOOKUP(B1956,[2]sheet2!B:L,11,0)","v":"-"},"http://183.62.54.51:8841/data/files/certificate/000000000439/0971d3f66560463e8828942f2a1b9306/signed/1954_李宏美_三等奖_7841.pdf"]
[1955,"P301519093172","信息技术基础智能练习系统","中职组","课件","一等奖","广州市",{"$f":"VLOOKUP(B1957,'[1]002'!B:M,7,0)","v":"郑宁健"},{"$f":"VLOOKUP(B1957,'[1]002'!B:M,8,0)","v":"广州市土地房产管理职业学校"},{"$f":"VLOOKUP(B1957,'[1]002'!B:M,11,0)","v":"谢靖"},{"$f":"VLOOKUP(B1957,'[1]002'!B:M,12,0)","v":"广州市土地房产管理职业学校"},{"$f":"VLOOKUP(B1957,[2]sheet2!B:L,10,0)","v":"-"},{"$f":"VLOOKUP(B1957,[2]sheet2!B:L,11,0)","v":"-"},"http://183.62.54.51:8841/data/files/certificate/000000000439/3a66bfee53764d96b4a348d3747b24ec/signed/1955_郑宁健、谢靖_一等奖_7842.pdf"]
[1956,"P301519093174","电梯导向系统维护保养","中职组","课件","一等奖","广州市",{"$f":"VLOOKUP(B1958,'[1]002'!B:M,7,0)","v":"龙光涛"},{"$f":"VLOOKUP(B1958,'[1]002'!B:M,8,0)","v":"广州市土地房产管理职业学校"},{"$f":"VLOOKUP(B1958,'[1]002'!B:M,11,0)","v":"祝荣何"},{"$f":"VLOOKUP(B1958,'[1]002'!B:M,12,0)","v":"广州市土地房产管理职业学校"},{"$f":"VLOOKUP(B1958,[2]sheet2!B:L,10,0)","v":"何伟杰"},{"$f":"VLOOKUP(B1958,[2]sheet2!B:L,11,0)","v":"广州市土地房产管理职业学校"},"http://183.62.54.51:8841/data/files/certificate/000000000439/10a550b21cac4158ba147b286663deaa/signed/1956_龙光涛、祝荣何、何伟杰_一等奖_7843.pdf"]
[1957,"P301519091918","抽号器设计","中职组","课件","一等奖","汕头市",{"$f":"VLOOKUP(B1959,'[1]002'!B:M,7,0)","v":"蔡焰炀"},{"$f":"VLOOKUP(B1959,'[1]002'!B:M,8,0)","v":"汕头市澄海职业技术学校"},{"$f":"VLOOKUP(B1959,'[1]002'!B:M,11,0)","v":"李淳"},{"$f":"VLOOKUP(B1959,'[1]002'!B:M,12,0)","v":"汕头市澄海职业技术学校"},{"$f":"VLOOKUP(B1959,[2]sheet2!B:L,10,0)","v":"-"},{"$f":"VLOOKUP(B1959,[2]sheet2!B:L,11,0)","v":"-"},"http://183.62.54.51:8841/data/files/certificate/000000000439/91627783cc8841f181ef65eefd0eb8c8/signed/1957_蔡焰炀、李淳_一等奖_7844.pdf"]
[1958,"P301519090588","手动变速器的构造与原理","中职组","课件","一等奖","佛山市",{"$f":"VLOOKUP(B1960,'[1]002'!B:M,7,0)","v":"彭海胜"},{"$f":"VLOOKUP(B1960,'[1]002'!B:M,8,0)","v":"佛山市顺德区北滘职业技术学校"},{"$f":"VLOOKUP(B1960,'[1]002'!B:M,11,0)","v":"肖宇宏"},{"$f":"VLOOKUP(B1960,'[1]002'!B:M,12,0)","v":"佛山市顺德区北滘职业技术学校"},{"$f":"VLOOKUP(B1960,[2]sheet2!B:L,10,0)","v":"-"},{"$f":"VLOOKUP(B1960,[2]sheet2!B:L,11,0)","v":"-"},"http://183.62.54.51:8841/data/files/certificate/000000000439/0c67991ed1104479ad8bf6f46a6db634/signed/1958_彭海胜、肖宇宏_一等奖_7845.pdf"]
[1959,"P301519090589","平面版式设计","中职组","课件","一等奖","佛山市",{"$f":"VLOOKUP(B1961,'[1]002'!B:M,7,0)","v":"彭海胜"},{"$f":"VLOOKUP(B1961,'[1]002'!B:M,8,0)","v":"佛山市顺德区北滘职业技术学校"},{"$f":"VLOOKUP(B1961,'[1]002'!B:M,11,0)","v":"韩玉玲"},{"$f":"VLOOKUP(B1961,'[1]002'!B:M,12,0)","v":"佛山市顺德区北滘职业技术学校"},{"$f":"VLOOKUP(B1961,[2]sheet2!B:L,10,0)","v":"周凉凉"},{"$f":"VLOOKUP(B1961,[2]sheet2!B:L,11,0)","v":"佛山市顺德区北滘职业技术学校"},"http://183.62.54.51:8841/data/files/certificate/000000000439/bf02f4bfccd24b7fb8e5001eb3060680/signed/1959_彭海胜、韩玉玲、周凉凉_一等奖_7846.pdf"]
[1960,"P301519090584","察眼观心读心阅人","中职组","课件","一等奖","佛山市",{"$f":"VLOOKUP(B1962,'[1]002'!B:M,7,0)","v":"刘一良"},{"$f":"VLOOKUP(B1962,'[1]002'!B:M,8,0)","v":"南海信息技术学校"},{"$f":"VLOOKUP(B1962,'[1]002'!B:M,11,0)","v":"陈晓峄"},{"$f":"VLOOKUP(B1962,'[1]002'!B:M,12,0)","v":"南海信息技术学校"},{"$f":"VLOOKUP(B1962,[2]sheet2!B:L,10,0)","v":"-"},{"$f":"VLOOKUP(B1962,[2]sheet2!B:L,11,0)","v":"-"},"http://183.62.54.51:8841/data/files/certificate/000000000439/343ffdefdea3421db6c4a394043755db/signed/1960_刘一良、陈晓峄_一等奖_7847.pdf"]
[1961,"P301519090591","营销策略之品牌营销","中职组","课件","一等奖","佛山市",{"$f":"VLOOKUP(B1963,'[1]002'!B:M,7,0)","v":"麦晓敏"},{"$f":"VLOOKUP(B1963,'[1]002'!B:M,8,0)","v":"佛山市顺德区北滘职业技术学校"},{"$f":"VLOOKUP(B1963,'[1]002'!B:M,11,0)","v":"彭海胜"},{"$f":"VLOOKUP(B1963,'[1]002'!B:M,12,0)","v":"佛山市顺德区北滘职业技术学校"},{"$f":"VLOOKUP(B1963,[2]sheet2!B:L,10,0)","v":"-"},{"$f":"VLOOKUP(B1963,[2]sheet2!B:L,11,0)","v":"-"},"http://183.62.54.51:8841/data/files/certificate/000000000439/18436ade8f1a4c19939c9ab0b43df9a4/signed/1961_麦晓敏、彭海胜_一等奖_7848.pdf"]
[1962,"P301519093295","正反向起动双重联锁控制线路","中职组","课件","一等奖","河源市",{"$f":"VLOOKUP(B1964,'[1]002'!B:M,7,0)","v":"蒋建方"},{"$f":"VLOOKUP(B1964,'[1]002'!B:M,8,0)","v":"紫金县职业技术学校"},{"$f":"VLOOKUP(B1964,'[1]002'!B:M,11,0)","v":"廖金花"},{"$f":"VLOOKUP(B1964,'[1]002'!B:M,12,0)","v":"紫金县职业技术学校"},{"$f":"VLOOKUP(B1964,[2]sheet2!B:L,10,0)","v":"黄世平"},{"$f":"VLOOKUP(B1964,[2]sheet2!B:L,11,0)","v":"紫金县职业技术学校"},"http://183.62.54.51:8841/data/files/certificate/000000000439/5f1bd22a1f7548f6892c454aada664de/signed/1962_蒋建方、廖金花、黄世平_一等奖_7849.pdf"]
[1963,"P301519092516","明辨是非洞察真相","中职组","课件","一等奖","东莞市",{"$f":"VLOOKUP(B1965,'[1]002'!B:M,7,0)","v":"徐翔翀"},{"$f":"VLOOKUP(B1965,'[1]002'!B:M,8,0)","v":"东莞市轻工业学校"},{"$f":"VLOOKUP(B1965,'[1]002'!B:M,11,0)","v":"罗新程"},{"$f":"VLOOKUP(B1965,'[1]002'!B:M,12,0)","v":"东莞市轻工业学校"},{"$f":"VLOOKUP(B1965,[2]sheet2!B:L,10,0)","v":"李锦萍"},{"$f":"VLOOKUP(B1965,[2]sheet2!B:L,11,0)","v":"东莞市轻工业学校"},"http://183.62.54.51:8841/data/files/certificate/000000000439/17670b1ebc6342d0b857441244cfc604/signed/1963_徐翔翀、罗新程、李锦萍_一等奖_7850.pdf"]
[1964,"P301519092508","商业数据地图","中职组","课件","一等奖","东莞市",{"$f":"VLOOKUP(B1966,'[1]002'!B:M,7,0)","v":"邹锰"},{"$f":"VLOOKUP(B1966,'[1]002'!B:M,8,0)","v":"东莞理工学校"},{"$f":"VLOOKUP(B1966,'[1]002'!B:M,11,0)","v":"阳莉"},{"$f":"VLOOKUP(B1966,'[1]002'!B:M,12,0)","v":"东莞理工学校"},{"$f":"VLOOKUP(B1966,[2]sheet2!B:L,10,0)","v":"-"},{"$f":"VLOOKUP(B1966,[2]sheet2!B:L,11,0)","v":"-"},"http://183.62.54.51:8841/data/files/certificate/000000000439/9965341035da4518bb8b37435dcae644/signed/1964_邹锰、阳莉_一等奖_7851.pdf"]
[1965,"P301519092513","家居饰品点睛之笔","中职组","课件","一等奖","东莞市",{"$f":"VLOOKUP(B1967,'[1]002'!B:M,7,0)","v":"彭嘉晨"},{"$f":"VLOOKUP(B1967,'[1]002'!B:M,8,0)","v":"东莞市轻工业学校"},{"$f":"VLOOKUP(B1967,'[1]002'!B:M,11,0)","v":"禹慧娟"},{"$f":"VLOOKUP(B1967,'[1]002'!B:M,12,0)","v":"东莞市轻工业学校"},{"$f":"VLOOKUP(B1967,[2]sheet2!B:L,10,0)","v":"-"},{"$f":"VLOOKUP(B1967,[2]sheet2!B:L,11,0)","v":"-"},"http://183.62.54.51:8841/data/files/certificate/000000000439/5b2fc1642d654080a62241a993c45ba5/signed/1965_彭嘉晨、禹慧娟_一等奖_7852.pdf"]
[1966,"P301519088950","图形图像后期处理网络课程","中职组","课件","一等奖","中山市",{"$f":"VLOOKUP(B1968,'[1]002'!B:M,7,0)","v":"张文彬"},{"$f":"VLOOKUP(B1968,'[1]002'!B:M,8,0)","v":"中山市沙溪理工学校"},{"$f":"VLOOKUP(B1968,'[1]002'!B:M,11,0)","v":"林敏"},{"$f":"VLOOKUP(B1968,'[1]002'!B:M,12,0)","v":"中山市沙溪理工学校"},{"$f":"VLOOKUP(B1968,[2]sheet2!B:L,10,0)","v":"周晓柠"},{"$f":"VLOOKUP(B1968,[2]sheet2!B:L,11,0)","v":"中山市沙溪理工学校"},"http://183.62.54.51:8841/data/files/certificate/000000000439/0302cc3cad804a6ea613830dad000352/signed/1966_张文彬、林敏、周晓柠_一等奖_7853.pdf"]
[1967,"P301519092932","计算机硬件组装教学","中职组","课件","一等奖","湛江市",{"$f":"VLOOKUP(B1969,'[1]002'!B:M,7,0)","v":"苏志周"},{"$f":"VLOOKUP(B1969,'[1]002'!B:M,8,0)","v":"湛江财贸中等专业学校"},{"$f":"VLOOKUP(B1969,'[1]002'!B:M,11,0)","v":"-"},{"$f":"VLOOKUP(B1969,'[1]002'!B:M,12,0)","v":"-"},{"$f":"VLOOKUP(B1969,[2]sheet2!B:L,10,0)","v":"-"},{"$f":"VLOOKUP(B1969,[2]sheet2!B:L,11,0)","v":"-"},"http://183.62.54.51:8841/data/files/certificate/000000000439/eee2950047f6439f9a195866bd7eba74/signed/1967_苏志周_一等奖_7854.pdf"]
[1968,"P302519091917","走进雨巷——赏读音律美","中职组","微课","一等奖","汕头市",{"$f":"VLOOKUP(B1970,'[1]002'!B:M,7,0)","v":"翁文媛"},{"$f":"VLOOKUP(B1970,'[1]002'!B:M,8,0)","v":"潮南区职业技术教育中心"},{"$f":"VLOOKUP(B1970,'[1]002'!B:M,11,0)","v":"-"},{"$f":"VLOOKUP(B1970,'[1]002'!B:M,12,0)","v":"-"},{"$f":"VLOOKUP(B1970,[2]sheet2!B:L,10,0)","v":"-"},{"$f":"VLOOKUP(B1970,[2]sheet2!B:L,11,0)","v":"-"},"http://183.62.54.51:8841/data/files/certificate/000000000439/33bea16152bb4e58985203bf7b9dd9a8/signed/1968_翁文媛_一等奖_7855.pdf"]
[1969,"P302519090544","香麻煎软饼","中职组","微课","一等奖","佛山市",{"$f":"VLOOKUP(B1971,'[1]002'!B:M,7,0)","v":"何春华"},{"$f":"VLOOKUP(B1971,'[1]002'!B:M,8,0)","v":"佛山市启聪学校"},{"$f":"VLOOKUP(B1971,'[1]002'!B:M,11,0)","v":"-"},{"$f":"VLOOKUP(B1971,'[1]002'!B:M,12,0)","v":"-"},{"$f":"VLOOKUP(B1971,[2]sheet2!B:L,10,0)","v":"-"},{"$f":"VLOOKUP(B1971,[2]sheet2!B:L,11,0)","v":"-"},"http://183.62.54.51:8841/data/files/certificate/000000000439/71d4c4ddb47a4c6e8a7a16fe576f6933/signed/1969_何春华_一等奖_7856.pdf"]
[1970,"P302519090569","有趣的POP彩底海报设计","中职组","微课","一等奖","佛山市",{"$f":"VLOOKUP(B1972,'[1]002'!B:M,7,0)","v":"李唐昭"},{"$f":"VLOOKUP(B1972,'[1]002'!B:M,8,0)","v":"佛山市三水区工业中等专业学校"},{"$f":"VLOOKUP(B1972,'[1]002'!B:M,11,0)","v":"白静"},{"$f":"VLOOKUP(B1972,'[1]002'!B:M,12,0)","v":"佛山市三水区工业中等专业学校"},{"$f":"VLOOKUP(B1972,[2]sheet2!B:L,10,0)","v":"侯婉文"},{"$f":"VLOOKUP(B1972,[2]sheet2!B:L,11,0)","v":"佛山市三水区工业中等专业学校"},"http://183.62.54.51:8841/data/files/certificate/000000000439/cecef1cf66f7483ca454602fe8d86d65/signed/1970_李唐昭、白静、侯婉文_一等奖_7857.pdf"]
[1971,"P302519089596","兴趣与职业","中职组","微课","一等奖","韶关市",{"$f":"VLOOKUP(B1973,'[1]002'!B:M,7,0)","v":"李剑虹"},{"$f":"VLOOKUP(B1973,'[1]002'!B:M,8,0)","v":"韶关市中等职业技术学校"},{"$f":"VLOOKUP(B1973,'[1]002'!B:M,11,0)","v":"罗丽娟"},{"$f":"VLOOKUP(B1973,'[1]002'!B:M,12,0)","v":"韶关市中等职业技术学校"},{"$f":"VLOOKUP(B1973,[2]sheet2!B:L,10,0)","v":"-"},{"$f":"VLOOKUP(B1973,[2]sheet2!B:L,11,0)","v":"-"},"http://183.62.54.51:8841/data/files/certificate/000000000439/30eeb4b3b0b64947a6a66c22a39a8317/signed/1971_李剑虹、罗丽娟_一等奖_7858.pdf"]
[1972,"P302519093285","革兰染色","中职组","微课","一等奖","河源市",{"$f":"VLOOKUP(B1974,'[1]002'!B:M,7,0)","v":"李花珍"},{"$f":"VLOOKUP(B1974,'[1]002'!B:M,8,0)","v":"河源市卫生学校"},{"$f":"VLOOKUP(B1974,'[1]002'!B:M,11,0)","v":"巫远辉"},{"$f":"VLOOKUP(B1974,'[1]002'!B:M,12,0)","v":"河源市卫生学校"},{"$f":"VLOOKUP(B1974,[2]sheet2!B:L,10,0)","v":"王莉萍"},{"$f":"VLOOKUP(B1974,[2]sheet2!B:L,11,0)","v":"河源市卫生学校"},"http://183.62.54.51:8841/data/files/certificate/000000000439/b1d97344ecb14263a0c43d4fcff8749c/signed/1972_李花珍、巫远辉、王莉萍_一等奖_7859.pdf"]
[1973,"P302519092605","叉车搬运上架作业","中职组","微课","一等奖","东莞市",{"$f":"VLOOKUP(B1975,'[1]002'!B:M,7,0)","v":"李素雯"},{"$f":"VLOOKUP(B1975,'[1]002'!B:M,8,0)","v":"东莞市经济贸易学校"},{"$f":"VLOOKUP(B1975,'[1]002'!B:M,11,0)","v":"刘志坚"},{"$f":"VLOOKUP(B1975,'[1]002'!B:M,12,0)","v":"东莞市经济贸易学校"},{"$f":"VLOOKUP(B1975,[2]sheet2!B:L,10,0)","v":"何懿婷"},{"$f":"VLOOKUP(B1975,[2]sheet2!B:L,11,0)","v":"东莞市经济贸易学校"},"http://183.62.54.51:8841/data/files/certificate/000000000439/1ecf0f70881d45578ef78e6c6df655f9/signed/1973_李素雯、刘志坚、何懿婷_一等奖_7860.pdf"]
[1974,"P302519092936","渗漉法","中职组","微课","一等奖","湛江市",{"$f":"VLOOKUP(B1976,'[1]002'!B:M,7,0)","v":"花闻钊"},{"$f":"VLOOKUP(B1976,'[1]002'!B:M,8,0)","v":"广东省湛江卫生学校"},{"$f":"VLOOKUP(B1976,'[1]002'!B:M,11,0)","v":"欧绍淑"},{"$f":"VLOOKUP(B1976,'[1]002'!B:M,12,0)","v":"广东省湛江卫生学校"},{"$f":"VLOOKUP(B1976,[2]sheet2!B:L,10,0)","v":"陈卓君"},{"$f":"VLOOKUP(B1976,[2]sheet2!B:L,11,0)","v":"广东省湛江卫生学校"},"http://183.62.54.51:8841/data/files/certificate/000000000439/893fecffa1f749a1a11f3348dbc44bb8/signed/1974_花闻钊、欧绍淑、陈卓君_一等奖_7861.pdf"]
[1975,"P302519091391","上菜服务","中职组","微课","一等奖","茂名市",{"$f":"VLOOKUP(B1977,'[1]002'!B:M,7,0)","v":"李玉桃"},{"$f":"VLOOKUP(B1977,'[1]002'!B:M,8,0)","v":"茂名市第二职业技术学校"},{"$f":"VLOOKUP(B1977,'[1]002'!B:M,11,0)","v":"梁云"},{"$f":"VLOOKUP(B1977,'[1]002'!B:M,12,0)","v":"茂名市第二职业技术学校"},{"$f":"VLOOKUP(B1977,[2]sheet2!B:L,10,0)","v":"潘玉英"},{"$f":"VLOOKUP(B1977,[2]sheet2!B:L,11,0)","v":"茂名市第二职业技术学校"},"http://183.62.54.51:8841/data/files/certificate/000000000439/4278f3cc88f5417d82f22accd3c91c3a/signed/1975_李玉桃、梁云、潘玉英_一等奖_7862.pdf"]
[1976,"P302519087483","曲轴的拆装","中职组","微课","一等奖","肇庆市",{"$f":"VLOOKUP(B1978,'[1]002'!B:M,7,0)","v":"曹现英"},{"$f":"VLOOKUP(B1978,'[1]002'!B:M,8,0)","v":"肇庆市农业学校"},{"$f":"VLOOKUP(B1978,'[1]002'!B:M,11,0)","v":"余飞"},{"$f":"VLOOKUP(B1978,'[1]002'!B:M,12,0)","v":"肇庆市农业学校"},{"$f":"VLOOKUP(B1978,[2]sheet2!B:L,10,0)","v":"周家伟"},{"$f":"VLOOKUP(B1978,[2]sheet2!B:L,11,0)","v":"肇庆市农业学校"},"http://183.62.54.51:8841/data/files/certificate/000000000439/b66cb492880648928dd91cd2a987635a/signed/1976_曹现英、余飞、周家伟_一等奖_7863.pdf"]
[1977,"P302519090054","拍摄角度","中职组","微课","一等奖","潮州市",{"$f":"VLOOKUP(B1979,'[1]002'!B:M,7,0)","v":"李泽琳"},{"$f":"VLOOKUP(B1979,'[1]002'!B:M,8,0)","v":"潮州市职业技术学校"},{"$f":"VLOOKUP(B1979,'[1]002'!B:M,11,0)","v":"-"},{"$f":"VLOOKUP(B1979,'[1]002'!B:M,12,0)","v":"-"},{"$f":"VLOOKUP(B1979,[2]sheet2!B:L,10,0)","v":"-"},{"$f":"VLOOKUP(B1979,[2]sheet2!B:L,11,0)","v":"-"},"http://183.62.54.51:8841/data/files/certificate/000000000439/305586bf03be4f5695ca8fd7ba200034/signed/1977_李泽琳_一等奖_7864.pdf"]
[1978,"P302519083626","邮件合并之批量制作客户信函","中职组","微课","一等奖","潮州市",{"$f":"VLOOKUP(B1980,'[1]002'!B:M,7,0)","v":"李楠"},{"$f":"VLOOKUP(B1980,'[1]002'!B:M,8,0)","v":"潮州市湘桥区虹桥职业技术学校"},{"$f":"VLOOKUP(B1980,'[1]002'!B:M,11,0)","v":"-"},{"$f":"VLOOKUP(B1980,'[1]002'!B:M,12,0)","v":"-"},{"$f":"VLOOKUP(B1980,[2]sheet2!B:L,10,0)","v":"-"},{"$f":"VLOOKUP(B1980,[2]sheet2!B:L,11,0)","v":"-"},"http://183.62.54.51:8841/data/files/certificate/000000000439/df3be9d83b124d62873473c69faa5818/signed/1978_李楠_一等奖_7865.pdf"]
[1979,"P302519079740","Excel中IF函数的使用","中职组","微课","一等奖","潮州市",{"$f":"VLOOKUP(B1981,'[1]002'!B:M,7,0)","v":"林振宇"},{"$f":"VLOOKUP(B1981,'[1]002'!B:M,8,0)","v":"饶平县贡天职业技术学校"},{"$f":"VLOOKUP(B1981,'[1]002'!B:M,11,0)","v":"-"},{"$f":"VLOOKUP(B1981,'[1]002'!B:M,12,0)","v":"-"},{"$f":"VLOOKUP(B1981,[2]sheet2!B:L,10,0)","v":"-"},{"$f":"VLOOKUP(B1981,[2]sheet2!B:L,11,0)","v":"-"},"http://183.62.54.51:8841/data/files/certificate/000000000439/304a4bfddfbe431eb70b50fcf7de953a/signed/1979_林振宇_一等奖_7866.pdf"]
[1980,"P302519081844","一笔一画写汉字","中职组","微课","一等奖","云浮市",{"$f":"VLOOKUP(B1982,'[1]002'!B:M,7,0)","v":"谢雪燕"},{"$f":"VLOOKUP(B1982,'[1]002'!B:M,8,0)","v":"新兴理工学校"},{"$f":"VLOOKUP(B1982,'[1]002'!B:M,11,0)","v":"-"},{"$f":"VLOOKUP(B1982,'[1]002'!B:M,12,0)","v":"-"},{"$f":"VLOOKUP(B1982,[2]sheet2!B:L,10,0)","v":"-"},{"$f":"VLOOKUP(B1982,[2]sheet2!B:L,11,0)","v":"-"},"http://183.62.54.51:8841/data/files/certificate/000000000439/da8841da31164950a1a27c8cf98153c0/signed/1980_谢雪燕_一等奖_7867.pdf"]
[1981,"P302519085486","平面设计微课人像美化1磨皮","中职组","微课","一等奖","云浮市",{"$f":"VLOOKUP(B1983,'[1]002'!B:M,7,0)","v":"刘丽"},{"$f":"VLOOKUP(B1983,'[1]002'!B:M,8,0)","v":"新兴理工学校"},{"$f":"VLOOKUP(B1983,'[1]002'!B:M,11,0)","v":"-"},{"$f":"VLOOKUP(B1983,'[1]002'!B:M,12,0)","v":"-"},{"$f":"VLOOKUP(B1983,[2]sheet2!B:L,10,0)","v":"-"},{"$f":"VLOOKUP(B1983,[2]sheet2!B:L,11,0)","v":"-"},"http://183.62.54.51:8841/data/files/certificate/000000000439/dc12b2f4700746d387bbca546937c8ab/signed/1981_刘丽_一等奖_7868.pdf"]
[1982,"P303519093200","如何消除平均的困惑-标志变异指标的分析与应用","中职组","信息化教学课程案例","一等奖","广州市",{"$f":"VLOOKUP(B1984,'[1]002'!B:M,7,0)","v":"项菲"},{"$f":"VLOOKUP(B1984,'[1]002'!B:M,8,0)","v":"广州市番禺区职业技术学校"},{"$f":"VLOOKUP(B1984,'[1]002'!B:M,11,0)","v":"梁二妹"},{"$f":"VLOOKUP(B1984,'[1]002'!B:M,12,0)","v":"广州市番禺区职业技术学校"},{"$f":"VLOOKUP(B1984,[2]sheet2!B:L,10,0)","v":"周红泉"},{"$f":"VLOOKUP(B1984,[2]sheet2!B:L,11,0)","v":"广州市番禺区职业技术学校"},"http://183.62.54.51:8841/data/files/certificate/000000000439/c952324899e54e39b4c9ec0f3f1e7916/signed/1982_项菲、梁二妹、周红泉_一等奖_7869.pdf"]
[1983,"P303519092772","以文化人 以践育人 诗经 采薇","中职组","信息化教学课程案例","一等奖","深圳市",{"$f":"VLOOKUP(B1985,'[1]002'!B:M,7,0)","v":"吴震"},{"$f":"VLOOKUP(B1985,'[1]002'!B:M,8,0)","v":"深圳市福田区华强职业技术学校"},{"$f":"VLOOKUP(B1985,'[1]002'!B:M,11,0)","v":"-"},{"$f":"VLOOKUP(B1985,'[1]002'!B:M,12,0)","v":"-"},{"$f":"VLOOKUP(B1985,[2]sheet2!B:L,10,0)","v":"-"},{"$f":"VLOOKUP(B1985,[2]sheet2!B:L,11,0)","v":"-"},"http://183.62.54.51:8841/data/files/certificate/000000000439/7201736f530d4764b2fd0ae83cec6075/signed/1983_吴震_一等奖_7870.pdf"]
[1984,"P303519090603","智慧物流走进入库作业","中职组","信息化教学课程案例","一等奖","佛山市",{"$f":"VLOOKUP(B1986,'[1]002'!B:M,7,0)","v":"蓝锦和"},{"$f":"VLOOKUP(B1986,'[1]002'!B:M,8,0)","v":"佛山市顺德区李伟强职业技术学校"},{"$f":"VLOOKUP(B1986,'[1]002'!B:M,11,0)","v":"梁敏娟"},{"$f":"VLOOKUP(B1986,'[1]002'!B:M,12,0)","v":"佛山市顺德区李伟强职业技术学校"},{"$f":"VLOOKUP(B1986,[2]sheet2!B:L,10,0)","v":"吴其坚"},{"$f":"VLOOKUP(B1986,[2]sheet2!B:L,11,0)","v":"佛山市顺德区李伟强职业技术学校"},"http://183.62.54.51:8841/data/files/certificate/000000000439/b44c733c60324e878f3541c85d6d854d/signed/1984_蓝锦和、梁敏娟、吴其坚_一等奖_7871.pdf"]
[1985,"P303519089450","海报字体设计与应用","中职组","信息化教学课程案例","一等奖","中山市",{"$f":"VLOOKUP(B1987,'[1]002'!B:M,7,0)","v":"周翠玉"},{"$f":"VLOOKUP(B1987,'[1]002'!B:M,8,0)","v":"中山火炬开发区理工学校"},"丛中笑","中山火炬开发区理工学校","何享贤","中山火炬开发区理工学校","http://183.62.54.51:8841/data/files/certificate/000000000439/e366710c713c47e98e655a3340a96ad1/signed/1985_周翠玉、丛中笑、何享贤_一等奖_7872.pdf"]
[1986,"P303519089813","So much to do before we travel!","中职组","信息化教学课程案例","一等奖","中山市",{"$f":"VLOOKUP(B1988,'[1]002'!B:M,7,0)","v":"游巧旋"},{"$f":"VLOOKUP(B1988,'[1]002'!B:M,8,0)","v":"中山市中等专业学校"},{"$f":"VLOOKUP(B1988,'[1]002'!B:M,11,0)","v":"陈晓冰"},{"$f":"VLOOKUP(B1988,'[1]002'!B:M,12,0)","v":"中山市中等专业学校"},{"$f":"VLOOKUP(B1988,[2]sheet2!B:L,10,0)","v":"钟玉娣"},{"$f":"VLOOKUP(B1988,[2]sheet2!B:L,11,0)","v":"中山市中等专业学校"},"http://183.62.54.51:8841/data/files/certificate/000000000439/084288602e6843f9854da8db73f4fdb5/signed/1986_游巧旋、陈晓冰、钟玉娣_一等奖_7873.pdf"]
[1987,"P303519089651","多彩青春精彩校园","中职组","信息化教学课程案例","一等奖","中山市",{"$f":"VLOOKUP(B1989,'[1]002'!B:M,7,0)","v":"张铄"},{"$f":"VLOOKUP(B1989,'[1]002'!B:M,8,0)","v":"中山火炬开发区理工学校"},{"$f":"VLOOKUP(B1989,'[1]002'!B:M,11,0)","v":"刘新安"},{"$f":"VLOOKUP(B1989,'[1]002'!B:M,12,0)","v":"中山火炬开发区理工学校"},{"$f":"VLOOKUP(B1989,[2]sheet2!B:L,10,0)","v":"张道辉"},{"$f":"VLOOKUP(B1989,[2]sheet2!B:L,11,0)","v":"中山火炬开发区理工学校"},"http://183.62.54.51:8841/data/files/certificate/000000000439/2cf62e595ed54bba98e177156bc538c9/signed/1987_张铄、刘新安、张道辉_一等奖_7874.pdf"]
[1988,"P301519093178","Choose the Best Salesperson","中职组","课件","二等奖","广州市",{"$f":"VLOOKUP(B1990,'[1]002'!B:M,7,0)","v":"刘晶"},{"$f":"VLOOKUP(B1990,'[1]002'!B:M,8,0)","v":"广州市增城区东方职业技术学校"},{"$f":"VLOOKUP(B1990,'[1]002'!B:M,11,0)","v":"刘钰芬"},{"$f":"VLOOKUP(B1990,'[1]002'!B:M,12,0)","v":"广州市增城区东方职业技术学校"},{"$f":"VLOOKUP(B1990,[2]sheet2!B:L,10,0)","v":"董诗雅"},{"$f":"VLOOKUP(B1990,[2]sheet2!B:L,11,0)","v":"广州市增城区东方职业技术学校"},"http://183.62.54.51:8841/data/files/certificate/000000000439/375d252381694c518ef5adbb78d311e0/signed/1988_刘晶、刘钰芬、董诗雅_二等奖_7875.pdf"]
[1989,"P301519093181","循环灯电路识读与装配","中职组","课件","二等奖","广州市",{"$f":"VLOOKUP(B1991,'[1]002'!B:M,7,0)","v":"温建芳"},{"$f":"VLOOKUP(B1991,'[1]002'!B:M,8,0)","v":"广州市花都区理工职业技术学校"},{"$f":"VLOOKUP(B1991,'[1]002'!B:M,11,0)","v":"夏永文"},{"$f":"VLOOKUP(B1991,'[1]002'!B:M,12,0)","v":"广州市花都区理工职业技术学校"},{"$f":"VLOOKUP(B1991,[2]sheet2!B:L,10,0)","v":"-"},{"$f":"VLOOKUP(B1991,[2]sheet2!B:L,11,0)","v":"-"},"http://183.62.54.51:8841/data/files/certificate/000000000439/acb6362522ba4299bebcb0a199decbd1/signed/1989_温建芳、夏永文_二等奖_7876.pdf"]
[1990,"P301519093173","学打乒乓球","中职组","课件","二等奖","广州市",{"$f":"VLOOKUP(B1992,'[1]002'!B:M,7,0)","v":"谢岳富"},{"$f":"VLOOKUP(B1992,'[1]002'!B:M,8,0)","v":"广州市财经职业学校"},{"$f":"VLOOKUP(B1992,'[1]002'!B:M,11,0)","v":"-"},{"$f":"VLOOKUP(B1992,'[1]002'!B:M,12,0)","v":"-"},{"$f":"VLOOKUP(B1992,[2]sheet2!B:L,10,0)","v":"-"},{"$f":"VLOOKUP(B1992,[2]sheet2!B:L,11,0)","v":"-"},"http://183.62.54.51:8841/data/files/certificate/000000000439/c40a9bd5833a4a47907dfbc87a90645b/signed/1990_谢岳富_二等奖_7877.pdf"]
[1991,"P301519093175","实地查勘","中职组","课件","二等奖","广州市",{"$f":"VLOOKUP(B1993,'[1]002'!B:M,7,0)","v":"黄常运"},{"$f":"VLOOKUP(B1993,'[1]002'!B:M,8,0)","v":"广州市土地房产管理职业学校"},{"$f":"VLOOKUP(B1993,'[1]002'!B:M,11,0)","v":"阮梓茗"},{"$f":"VLOOKUP(B1993,'[1]002'!B:M,12,0)","v":"广州市土地房产管理职业学校"},{"$f":"VLOOKUP(B1993,[2]sheet2!B:L,10,0)","v":"-"},{"$f":"VLOOKUP(B1993,[2]sheet2!B:L,11,0)","v":"-"},"http://183.62.54.51:8841/data/files/certificate/000000000439/4b0415270ce84f249132c3bfb5aa1543/signed/1991_黄常运、阮梓茗_二等奖_7878.pdf"]
[1992,"P301519092774","if语句生成器","中职组","课件","二等奖","深圳市",{"$f":"VLOOKUP(B1994,'[1]002'!B:M,7,0)","v":"戴文静"},{"$f":"VLOOKUP(B1994,'[1]002'!B:M,8,0)","v":"深圳市第二职业技术学校"},{"$f":"VLOOKUP(B1994,'[1]002'!B:M,11,0)","v":"-"},{"$f":"VLOOKUP(B1994,'[1]002'!B:M,12,0)","v":"-"},{"$f":"VLOOKUP(B1994,[2]sheet2!B:L,10,0)","v":"-"},{"$f":"VLOOKUP(B1994,[2]sheet2!B:L,11,0)","v":"-"},"http://183.62.54.51:8841/data/files/certificate/000000000439/b6453267843343f2bb06cd384a80046d/signed/1992_戴文静_二等奖_7879.pdf"]
[1993,"P301519092776","css样式表","中职组","课件","二等奖","深圳市",{"$f":"VLOOKUP(B1995,'[1]002'!B:M,7,0)","v":"邬幼芬"},{"$f":"VLOOKUP(B1995,'[1]002'!B:M,8,0)","v":"深圳市博伦职业技术学校"},{"$f":"VLOOKUP(B1995,'[1]002'!B:M,11,0)","v":"姚忠洪"},{"$f":"VLOOKUP(B1995,'[1]002'!B:M,12,0)","v":"深圳市博伦职业技术学校"},{"$f":"VLOOKUP(B1995,[2]sheet2!B:L,10,0)","v":"邹翔"},{"$f":"VLOOKUP(B1995,[2]sheet2!B:L,11,0)","v":"深圳市博伦职业技术学校"},"http://183.62.54.51:8841/data/files/certificate/000000000439/bf202e621e1d4ff1a6d6bf572236de1a/signed/1993_邬幼芬、姚忠洪、邹翔_二等奖_7880.pdf"]
[1994,"P301519090594","会计点钞技能之手持式单指单张点钞法","中职组","课件","二等奖","佛山市",{"$f":"VLOOKUP(B1996,'[1]002'!B:M,7,0)","v":"何国强"},{"$f":"VLOOKUP(B1996,'[1]002'!B:M,8,0)","v":"佛山市三水区工业中等专业学校"},{"$f":"VLOOKUP(B1996,'[1]002'!B:M,11,0)","v":"-"},{"$f":"VLOOKUP(B1996,'[1]002'!B:M,12,0)","v":"-"},{"$f":"VLOOKUP(B1996,[2]sheet2!B:L,10,0)","v":"-"},{"$f":"VLOOKUP(B1996,[2]sheet2!B:L,11,0)","v":"-"},"http://183.62.54.51:8841/data/files/certificate/000000000439/b264fa4a4fd64a72bf7d0255a3995957/signed/1994_何国强_二等奖_7881.pdf"]
[1995,"P301519090593","畅想未来","中职组","课件","二等奖","佛山市",{"$f":"VLOOKUP(B1997,'[1]002'!B:M,7,0)","v":"张少敏"},{"$f":"VLOOKUP(B1997,'[1]002'!B:M,8,0)","v":"佛山市三水区工业中等专业学校"},{"$f":"VLOOKUP(B1997,'[1]002'!B:M,11,0)","v":"刘韬"},{"$f":"VLOOKUP(B1997,'[1]002'!B:M,12,0)","v":"佛山市三水区工业中等专业学校"},{"$f":"VLOOKUP(B1997,[2]sheet2!B:L,10,0)","v":"席晓波"},{"$f":"VLOOKUP(B1997,[2]sheet2!B:L,11,0)","v":"佛山市三水区工业中等专业学校"},"http://183.62.54.51:8841/data/files/certificate/000000000439/d12b220c365c4cb583581aaaad46b516/signed/1995_张少敏、刘韬、席晓波_二等奖_7882.pdf"]
[1996,"P301519090581","主题摄影_人物","中职组","课件","二等奖","佛山市",{"$f":"VLOOKUP(B1998,'[1]002'!B:M,7,0)","v":"黄为"},{"$f":"VLOOKUP(B1998,'[1]002'!B:M,8,0)","v":"佛山市华材职业技术学校"},{"$f":"VLOOKUP(B1998,'[1]002'!B:M,11,0)","v":"-"},{"$f":"VLOOKUP(B1998,'[1]002'!B:M,12,0)","v":"-"},{"$f":"VLOOKUP(B1998,[2]sheet2!B:L,10,0)","v":"-"},{"$f":"VLOOKUP(B1998,[2]sheet2!B:L,11,0)","v":"-"},"http://183.62.54.51:8841/data/files/certificate/000000000439/725e3dd3e3074e0cb675e529c7c7475a/signed/1996_黄为_二等奖_7883.pdf"]
[1997,"P301519090585","项目四多媒体信息处理","中职组","课件","二等奖","佛山市",{"$f":"VLOOKUP(B1999,'[1]002'!B:M,7,0)","v":"涂志芳"},{"$f":"VLOOKUP(B1999,'[1]002'!B:M,8,0)","v":"佛山市南海区第一职业技术学校"},{"$f":"VLOOKUP(B1999,'[1]002'!B:M,11,0)","v":"-"},{"$f":"VLOOKUP(B1999,'[1]002'!B:M,12,0)","v":"-"},{"$f":"VLOOKUP(B1999,[2]sheet2!B:L,10,0)","v":"-"},{"$f":"VLOOKUP(B1999,[2]sheet2!B:L,11,0)","v":"-"},"http://183.62.54.51:8841/data/files/certificate/000000000439/c1af0db8568443789fc7b2db590fc894/signed/1997_涂志芳_二等奖_7884.pdf"]
[1998,"P301519090573","游标卡尺的使用方法","中职组","课件","二等奖","佛山市",{"$f":"VLOOKUP(B2000,'[1]002'!B:M,7,0)","v":"李建聪"},{"$f":"VLOOKUP(B2000,'[1]002'!B:M,8,0)","v":"佛山市高明区职业技术学校"},{"$f":"VLOOKUP(B2000,'[1]002'!B:M,11,0)","v":"-"},{"$f":"VLOOKUP(B2000,'[1]002'!B:M,12,0)","v":"-"},{"$f":"VLOOKUP(B2000,[2]sheet2!B:L,10,0)","v":"-"},{"$f":"VLOOKUP(B2000,[2]sheet2!B:L,11,0)","v":"-"},"http://183.62.54.51:8841/data/files/certificate/000000000439/bcb0fc00ad4d45b68c013d9dea8b4bcc/signed/1998_李建聪_二等奖_7885.pdf"]
[1999,"P301519090579","网站展示与评价","中职组","课件","二等奖","佛山市",{"$f":"VLOOKUP(B2001,'[1]002'!B:M,7,0)","v":"陈智盖"},{"$f":"VLOOKUP(B2001,'[1]002'!B:M,8,0)","v":"佛山市华材职业技术学校"},{"$f":"VLOOKUP(B2001,'[1]002'!B:M,11,0)","v":"-"},{"$f":"VLOOKUP(B2001,'[1]002'!B:M,12,0)","v":"-"},{"$f":"VLOOKUP(B2001,[2]sheet2!B:L,10,0)","v":"-"},{"$f":"VLOOKUP(B2001,[2]sheet2!B:L,11,0)","v":"-"},"http://183.62.54.51:8841/data/files/certificate/000000000439/2e5ffb83be7847a09979939ebf89fce8/signed/1999_陈智盖_二等奖_7886.pdf"]
[2000,"P301519088993","成语第一讲之望文生义","中职组","课件","二等奖","韶关市",{"$f":"VLOOKUP(B2002,'[1]002'!B:M,7,0)","v":"廖益红"},{"$f":"VLOOKUP(B2002,'[1]002'!B:M,8,0)","v":"翁源县中等职业技术学校"},{"$f":"VLOOKUP(B2002,'[1]002'!B:M,11,0)","v":"-"},{"$f":"VLOOKUP(B2002,'[1]002'!B:M,12,0)","v":"-"},{"$f":"VLOOKUP(B2002,[2]sheet2!B:L,10,0)","v":"-"},{"$f":"VLOOKUP(B2002,[2]sheet2!B:L,11,0)","v":"-"},"http://183.62.54.51:8841/data/files/certificate/000000000439/1292f1dc85c7413a9160dd2d411a5bd8/signed/2000_廖益红_二等奖_7887.pdf"]
[2001,"P301519088034","Unit 5 What is your hobby","中职组","课件","二等奖","韶关市",{"$f":"VLOOKUP(B2003,'[1]002'!B:M,7,0)","v":"叶伟莲"},{"$f":"VLOOKUP(B2003,'[1]002'!B:M,8,0)","v":"翁源县中等职业技术学校"},{"$f":"VLOOKUP(B2003,'[1]002'!B:M,11,0)","v":"-"},{"$f":"VLOOKUP(B2003,'[1]002'!B:M,12,0)","v":"-"},{"$f":"VLOOKUP(B2003,[2]sheet2!B:L,10,0)","v":"-"},{"$f":"VLOOKUP(B2003,[2]sheet2!B:L,11,0)","v":"-"},"http://183.62.54.51:8841/data/files/certificate/000000000439/82b0292603fc4571aba1ea401044f4f8/signed/2001_叶伟莲_二等奖_7888.pdf"]
[2002,"P301519088078","永遇乐京口北固亭怀古","中职组","课件","二等奖","韶关市",{"$f":"VLOOKUP(B2004,'[1]002'!B:M,7,0)","v":"许惠青"},{"$f":"VLOOKUP(B2004,'[1]002'!B:M,8,0)","v":"翁源县中等职业技术学校"},{"$f":"VLOOKUP(B2004,'[1]002'!B:M,11,0)","v":"-"},{"$f":"VLOOKUP(B2004,'[1]002'!B:M,12,0)","v":"-"},{"$f":"VLOOKUP(B2004,[2]sheet2!B:L,10,0)","v":"-"},{"$f":"VLOOKUP(B2004,[2]sheet2!B:L,11,0)","v":"-"},"http://183.62.54.51:8841/data/files/certificate/000000000439/4e7ef5935abb49e68c7222bb3cdccfd4/signed/2002_许惠青_二等奖_7889.pdf"]
[2003,"P301519089350","配器方案的制定","中职组","课件","二等奖","韶关市",{"$f":"VLOOKUP(B2005,'[1]002'!B:M,7,0)","v":"谢凤珍"},{"$f":"VLOOKUP(B2005,'[1]002'!B:M,8,0)","v":"翁源县中等职业技术学校"},{"$f":"VLOOKUP(B2005,'[1]002'!B:M,11,0)","v":"-"},{"$f":"VLOOKUP(B2005,'[1]002'!B:M,12,0)","v":"-"},{"$f":"VLOOKUP(B2005,[2]sheet2!B:L,10,0)","v":"-"},{"$f":"VLOOKUP(B2005,[2]sheet2!B:L,11,0)","v":"-"},"http://183.62.54.51:8841/data/files/certificate/000000000439/f67ccc8ad5e244ae814026dbf1f9bea0/signed/2003_谢凤珍_二等奖_7890.pdf"]
[2004,"P301519092509","setInterval函数的应用","中职组","课件","二等奖","东莞市",{"$f":"VLOOKUP(B2006,'[1]002'!B:M,7,0)","v":"张远平"},{"$f":"VLOOKUP(B2006,'[1]002'!B:M,8,0)","v":"东莞市经济贸易学校"},{"$f":"VLOOKUP(B2006,'[1]002'!B:M,11,0)","v":"-"},{"$f":"VLOOKUP(B2006,'[1]002'!B:M,12,0)","v":"-"},{"$f":"VLOOKUP(B2006,[2]sheet2!B:L,10,0)","v":"-"},{"$f":"VLOOKUP(B2006,[2]sheet2!B:L,11,0)","v":"-"},"http://183.62.54.51:8841/data/files/certificate/000000000439/14e7e6a0b0e14afeb055237a9b552c2b/signed/2004_张远平_二等奖_7891.pdf"]
[2005,"P301519092511","会说话的图形","中职组","课件","二等奖","东莞市",{"$f":"VLOOKUP(B2007,'[1]002'!B:M,7,0)","v":"陈云芬"},{"$f":"VLOOKUP(B2007,'[1]002'!B:M,8,0)","v":"东莞市轻工业学校"},{"$f":"VLOOKUP(B2007,'[1]002'!B:M,11,0)","v":"周良晨"},{"$f":"VLOOKUP(B2007,'[1]002'!B:M,12,0)","v":"东莞市轻工业学校"},{"$f":"VLOOKUP(B2007,[2]sheet2!B:L,10,0)","v":"韩蕊鸿"},{"$f":"VLOOKUP(B2007,[2]sheet2!B:L,11,0)","v":"东莞市轻工业学校"},"http://183.62.54.51:8841/data/files/certificate/000000000439/63be252c1c3c41cb8358e0d3ec120f3b/signed/2005_陈云芬、周良晨、韩蕊鸿_二等奖_7892.pdf"]
[2006,"P301519089082","制作现代办公椅模型","中职组","课件","二等奖","中山市",{"$f":"VLOOKUP(B2008,'[1]002'!B:M,7,0)","v":"杨蒲菊"},{"$f":"VLOOKUP(B2008,'[1]002'!B:M,8,0)","v":"中山市港口理工学校"},{"$f":"VLOOKUP(B2008,'[1]002'!B:M,11,0)","v":"简会君"},{"$f":"VLOOKUP(B2008,'[1]002'!B:M,12,0)","v":"中山市港口理工学校"},{"$f":"VLOOKUP(B2008,[2]sheet2!B:L,10,0)","v":"-"},{"$f":"VLOOKUP(B2008,[2]sheet2!B:L,11,0)","v":"-"},"http://183.62.54.51:8841/data/files/certificate/000000000439/55f353dc08bb45f5a363009f437c0669/signed/2006_杨蒲菊、简会君_二等奖_7893.pdf"]
[2007,"P301519089259","或非门逻辑功能的验证","中职组","课件","二等奖","中山市",{"$f":"VLOOKUP(B2009,'[1]002'!B:M,7,0)","v":"胡端坚"},{"$f":"VLOOKUP(B2009,'[1]002'!B:M,8,0)","v":"中山市建斌中等职业技术学校"},{"$f":"VLOOKUP(B2009,'[1]002'!B:M,11,0)","v":"颜光"},{"$f":"VLOOKUP(B2009,'[1]002'!B:M,12,0)","v":"中山市建斌中等职业技术学校"},{"$f":"VLOOKUP(B2009,[2]sheet2!B:L,10,0)","v":"陆燕翔"},{"$f":"VLOOKUP(B2009,[2]sheet2!B:L,11,0)","v":"中山市建斌中等职业技术学校"},"http://183.62.54.51:8841/data/files/certificate/000000000439/c2b7b4a1f05746c4bb3abbc077e4f032/signed/2007_胡端坚、颜光、陆燕翔_二等奖_7894.pdf"]
[2008,"P301519089164","热处理的“四把火”","中职组","课件","二等奖","中山市",{"$f":"VLOOKUP(B2010,'[1]002'!B:M,7,0)","v":"杨晓媛"},{"$f":"VLOOKUP(B2010,'[1]002'!B:M,8,0)","v":"中山火炬开发区理工学校"},{"$f":"VLOOKUP(B2010,'[1]002'!B:M,11,0)","v":"林炳佳"},{"$f":"VLOOKUP(B2010,'[1]002'!B:M,12,0)","v":"中山火炬开发区理工学校"},{"$f":"VLOOKUP(B2010,[2]sheet2!B:L,10,0)","v":"-"},{"$f":"VLOOKUP(B2010,[2]sheet2!B:L,11,0)","v":"-"},"http://183.62.54.51:8841/data/files/certificate/000000000439/fac02b39b5354d0996994617850df500/signed/2008_杨晓媛、林炳佳_二等奖_7895.pdf"]
[2009,"P301519091802","商务服饰礼仪","中职组","课件","二等奖","江门市",{"$f":"VLOOKUP(B2011,'[1]002'!B:M,7,0)","v":"赵玉兰"},{"$f":"VLOOKUP(B2011,'[1]002'!B:M,8,0)","v":"江门市荷塘职业技术学校"},{"$f":"VLOOKUP(B2011,'[1]002'!B:M,11,0)","v":"-"},{"$f":"VLOOKUP(B2011,'[1]002'!B:M,12,0)","v":"-"},{"$f":"VLOOKUP(B2011,[2]sheet2!B:L,10,0)","v":"-"},{"$f":"VLOOKUP(B2011,[2]sheet2!B:L,11,0)","v":"-"},"http://183.62.54.51:8841/data/files/certificate/000000000439/e5f9182505fd45198bd2aeee7271b473/signed/2009_赵玉兰_二等奖_7896.pdf"]
[2010,"P301519090281","flash基础动画制作","中职组","课件","二等奖","肇庆市",{"$f":"VLOOKUP(B2012,'[1]002'!B:M,7,0)","v":"伍倩欣"},{"$f":"VLOOKUP(B2012,'[1]002'!B:M,8,0)","v":"肇庆市高要区中等职业学校"},{"$f":"VLOOKUP(B2012,'[1]002'!B:M,11,0)","v":"梁堃"},{"$f":"VLOOKUP(B2012,'[1]002'!B:M,12,0)","v":"广东省肇庆市高要区电化教育中心"},{"$f":"VLOOKUP(B2012,[2]sheet2!B:L,10,0)","v":"-"},{"$f":"VLOOKUP(B2012,[2]sheet2!B:L,11,0)","v":"-"},"http://183.62.54.51:8841/data/files/certificate/000000000439/cb475c426d52483da28c0f51e7b1d080/signed/2010_伍倩欣、梁堃_二等奖_7897.pdf"]
[2011,"P301519091278","3DSMAX镜像复制","中职组","课件","二等奖","肇庆市",{"$f":"VLOOKUP(B2013,'[1]002'!B:M,7,0)","v":"黎记果"},{"$f":"VLOOKUP(B2013,'[1]002'!B:M,8,0)","v":"怀集县职业技术学校"},{"$f":"VLOOKUP(B2013,'[1]002'!B:M,11,0)","v":"-"},{"$f":"VLOOKUP(B2013,'[1]002'!B:M,12,0)","v":"-"},{"$f":"VLOOKUP(B2013,[2]sheet2!B:L,10,0)","v":"-"},{"$f":"VLOOKUP(B2013,[2]sheet2!B:L,11,0)","v":"-"},"http://183.62.54.51:8841/data/files/certificate/000000000439/ed444c24ef73477780cb6016dbd5c8a8/signed/2011_黎记果_二等奖_7898.pdf"]
[2012,"P301519079745","放大镜效果","中职组","课件","二等奖","潮州市",{"$f":"VLOOKUP(B2014,'[1]002'!B:M,7,0)","v":"林振宇"},{"$f":"VLOOKUP(B2014,'[1]002'!B:M,8,0)","v":"饶平县贡天职业技术学校"},{"$f":"VLOOKUP(B2014,'[1]002'!B:M,11,0)","v":"-"},{"$f":"VLOOKUP(B2014,'[1]002'!B:M,12,0)","v":"-"},{"$f":"VLOOKUP(B2014,[2]sheet2!B:L,10,0)","v":"-"},{"$f":"VLOOKUP(B2014,[2]sheet2!B:L,11,0)","v":"-"},"http://183.62.54.51:8841/data/files/certificate/000000000439/2e2506c7b00941e186f2affb48bea3ac/signed/2012_林振宇_二等奖_7899.pdf"]
[2013,"P302519093182","悬挑式脚手架","中职组","微课","二等奖","广州市",{"$f":"VLOOKUP(B2015,'[1]002'!B:M,7,0)","v":"何子文"},{"$f":"VLOOKUP(B2015,'[1]002'!B:M,8,0)","v":"广州市土地房产管理职业学校"},{"$f":"VLOOKUP(B2015,'[1]002'!B:M,11,0)","v":"曾晓明"},{"$f":"VLOOKUP(B2015,'[1]002'!B:M,12,0)","v":"广州市土地房产管理职业学校"},{"$f":"VLOOKUP(B2015,[2]sheet2!B:L,10,0)","v":"邓杰超"},{"$f":"VLOOKUP(B2015,[2]sheet2!B:L,11,0)","v":"广州市土地房产管理职业学校"},"http://183.62.54.51:8841/data/files/certificate/000000000439/3623b85ddbeb4cf38378287654ecaa60/signed/2013_何子文、曾晓明、邓杰超_二等奖_7900.pdf"]
[2014,"P302519093187","刮水器系统的装配及使用","中职组","微课","二等奖","广州市",{"$f":"VLOOKUP(B2016,'[1]002'!B:M,7,0)","v":"唐金友"},{"$f":"VLOOKUP(B2016,'[1]002'!B:M,8,0)","v":"广州市交通运输职业学校"},{"$f":"VLOOKUP(B2016,'[1]002'!B:M,11,0)","v":"艾刚"},{"$f":"VLOOKUP(B2016,'[1]002'!B:M,12,0)","v":"广州市交通运输职业学校"},{"$f":"VLOOKUP(B2016,[2]sheet2!B:L,10,0)","v":"钟启成"},{"$f":"VLOOKUP(B2016,[2]sheet2!B:L,11,0)","v":"广州市交通运输职业学校"},"http://183.62.54.51:8841/data/files/certificate/000000000439/4a3b319d01db4fa9a7693f7985d018eb/signed/2014_唐金友、艾刚、钟启成_二等奖_7901.pdf"]
[2015,"P302519093185","汽车空调通风配气系统工作原理","中职组","微课","二等奖","广州市",{"$f":"VLOOKUP(B2017,'[1]002'!B:M,7,0)","v":"植其新"},{"$f":"VLOOKUP(B2017,'[1]002'!B:M,8,0)","v":"广州市交通运输职业学校"},{"$f":"VLOOKUP(B2017,'[1]002'!B:M,11,0)","v":"谭滔"},{"$f":"VLOOKUP(B2017,'[1]002'!B:M,12,0)","v":"广州市交通运输职业学校"},{"$f":"VLOOKUP(B2017,[2]sheet2!B:L,10,0)","v":"-"},{"$f":"VLOOKUP(B2017,[2]sheet2!B:L,11,0)","v":"-"},"http://183.62.54.51:8841/data/files/certificate/000000000439/6eca6c146f034b9e91c3f9f83344dc32/signed/2015_植其新、谭滔_二等奖_7902.pdf"]
[2016,"P302519093186","发动机气缸压力的检测","中职组","微课","二等奖","广州市",{"$f":"VLOOKUP(B2018,'[1]002'!B:M,7,0)","v":"盘宗敏"},{"$f":"VLOOKUP(B2018,'[1]002'!B:M,8,0)","v":"广州市交通运输职业学校"},{"$f":"VLOOKUP(B2018,'[1]002'!B:M,11,0)","v":"-"},{"$f":"VLOOKUP(B2018,'[1]002'!B:M,12,0)","v":"-"},{"$f":"VLOOKUP(B2018,[2]sheet2!B:L,10,0)","v":"-"},{"$f":"VLOOKUP(B2018,[2]sheet2!B:L,11,0)","v":"-"},"http://183.62.54.51:8841/data/files/certificate/000000000439/f9998f7fa7824218bbde45083b65bdd4/signed/2016_盘宗敏_二等奖_7903.pdf"]
[2017,"P302519090570","食品包装盒的手绘制作","中职组","微课","二等奖","佛山市",{"$f":"VLOOKUP(B2019,'[1]002'!B:M,7,0)","v":"孙静"},{"$f":"VLOOKUP(B2019,'[1]002'!B:M,8,0)","v":"佛山市三水区工业中等专业学校"},{"$f":"VLOOKUP(B2019,'[1]002'!B:M,11,0)","v":"何淑芬"},{"$f":"VLOOKUP(B2019,'[1]002'!B:M,12,0)","v":"佛山市三水区工业中等专业学校"},{"$f":"VLOOKUP(B2019,[2]sheet2!B:L,10,0)","v":"张志瑜"},{"$f":"VLOOKUP(B2019,[2]sheet2!B:L,11,0)","v":"佛山市三水区工业中等专业学校"},"http://183.62.54.51:8841/data/files/certificate/000000000439/b185d4e9b4e44b9f944db21fd7b8de01/signed/2017_孙静、何淑芬、张志瑜_二等奖_7904.pdf"]
[2018,"P302519090559","江淮iEV6E电动汽车高压互锁系统故障检修","中职组","微课","二等奖","佛山市",{"$f":"VLOOKUP(B2020,'[1]002'!B:M,7,0)","v":"陆镇桓"},{"$f":"VLOOKUP(B2020,'[1]002'!B:M,8,0)","v":"佛山市顺德区勒流职业技术学校"},{"$f":"VLOOKUP(B2020,'[1]002'!B:M,11,0)","v":"余胜伦"},{"$f":"VLOOKUP(B2020,'[1]002'!B:M,12,0)","v":"佛山市顺德区勒流职业技术学校"},{"$f":"VLOOKUP(B2020,[2]sheet2!B:L,10,0)","v":"苏新蕾"},{"$f":"VLOOKUP(B2020,[2]sheet2!B:L,11,0)","v":"佛山市顺德区勒流职业技术学校"},"http://183.62.54.51:8841/data/files/certificate/000000000439/6dc753a77b674d57a3fef5e28ed30508/signed/2018_陆镇桓、余胜伦、苏新蕾_二等奖_7905.pdf"]
[2019,"P302519090556","FABE销售法则","中职组","微课","二等奖","佛山市",{"$f":"VLOOKUP(B2021,'[1]002'!B:M,7,0)","v":"曾文芳"},{"$f":"VLOOKUP(B2021,'[1]002'!B:M,8,0)","v":"南海信息技术学校"},{"$f":"VLOOKUP(B2021,'[1]002'!B:M,11,0)","v":"-"},{"$f":"VLOOKUP(B2021,'[1]002'!B:M,12,0)","v":"-"},{"$f":"VLOOKUP(B2021,[2]sheet2!B:L,10,0)","v":"-"},{"$f":"VLOOKUP(B2021,[2]sheet2!B:L,11,0)","v":"-"},"http://183.62.54.51:8841/data/files/certificate/000000000439/1e4e6e494c834ce68068f38fd0eee984/signed/2019_曾文芳_二等奖_7906.pdf"]
[2020,"P302519090557","餐厅服务员仪容仪表展示","中职组","微课","二等奖","佛山市",{"$f":"VLOOKUP(B2022,'[1]002'!B:M,7,0)","v":"林晓纯"},{"$f":"VLOOKUP(B2022,'[1]002'!B:M,8,0)","v":"佛山市南海区盐步职业技术学校"},{"$f":"VLOOKUP(B2022,'[1]002'!B:M,11,0)","v":"曹振翀"},{"$f":"VLOOKUP(B2022,'[1]002'!B:M,12,0)","v":"佛山市南海区盐步职业技术学校"},{"$f":"VLOOKUP(B2022,[2]sheet2!B:L,10,0)","v":"-"},{"$f":"VLOOKUP(B2022,[2]sheet2!B:L,11,0)","v":"-"},"http://183.62.54.51:8841/data/files/certificate/000000000439/b016abc797964d049e77446b24d6941d/signed/2020_林晓纯、曹振翀_二等奖_7907.pdf"]
[2021,"P302519090564","谈翡翠的颜色分级","中职组","微课","二等奖","佛山市",{"$f":"VLOOKUP(B2023,'[1]002'!B:M,7,0)","v":"吴文杰"},{"$f":"VLOOKUP(B2023,'[1]002'!B:M,8,0)","v":"顺德区郑敬诒职业技术学校"},{"$f":"VLOOKUP(B2023,'[1]002'!B:M,11,0)","v":"-"},{"$f":"VLOOKUP(B2023,'[1]002'!B:M,12,0)","v":"-"},{"$f":"VLOOKUP(B2023,[2]sheet2!B:L,10,0)","v":"-"},{"$f":"VLOOKUP(B2023,[2]sheet2!B:L,11,0)","v":"-"},"http://183.62.54.51:8841/data/files/certificate/000000000439/4a4e88fbc0a44d84be1edca9fa06e774/signed/2021_吴文杰_二等奖_7908.pdf"]
[2022,"P302519090549","排版利器之网格系统","中职组","微课","二等奖","佛山市",{"$f":"VLOOKUP(B2024,'[1]002'!B:M,7,0)","v":"王瑛"},{"$f":"VLOOKUP(B2024,'[1]002'!B:M,8,0)","v":"佛山市华材职业技术学校"},{"$f":"VLOOKUP(B2024,'[1]002'!B:M,11,0)","v":"-"},{"$f":"VLOOKUP(B2024,'[1]002'!B:M,12,0)","v":"-"},{"$f":"VLOOKUP(B2024,[2]sheet2!B:L,10,0)","v":"-"},{"$f":"VLOOKUP(B2024,[2]sheet2!B:L,11,0)","v":"-"},"http://183.62.54.51:8841/data/files/certificate/000000000439/cd9f693dfc3f4cf6b891be8570ed0b70/signed/2022_王瑛_二等奖_7909.pdf"]
[2023,"P302519090562","微信朋友圈营销的策略","中职组","微课","二等奖","佛山市",{"$f":"VLOOKUP(B2025,'[1]002'!B:M,7,0)","v":"吴丹丹"},{"$f":"VLOOKUP(B2025,'[1]002'!B:M,8,0)","v":"佛山市顺德区李伟强职业技术学校"},{"$f":"VLOOKUP(B2025,'[1]002'!B:M,11,0)","v":"-"},{"$f":"VLOOKUP(B2025,'[1]002'!B:M,12,0)","v":"-"},{"$f":"VLOOKUP(B2025,[2]sheet2!B:L,10,0)","v":"-"},{"$f":"VLOOKUP(B2025,[2]sheet2!B:L,11,0)","v":"-"},"http://183.62.54.51:8841/data/files/certificate/000000000439/3ee3cb4d05cc4e188cb405df3b4e9143/signed/2023_吴丹丹_二等奖_7910.pdf"]
[2024,"P302519093286","时尚新娘杂志封面设计","中职组","微课","二等奖","河源市",{"$f":"VLOOKUP(B2026,'[1]002'!B:M,7,0)","v":"戴丽芬"},{"$f":"VLOOKUP(B2026,'[1]002'!B:M,8,0)","v":"紫金县职业技术学校"},{"$f":"VLOOKUP(B2026,'[1]002'!B:M,11,0)","v":"-"},{"$f":"VLOOKUP(B2026,'[1]002'!B:M,12,0)","v":"-"},{"$f":"VLOOKUP(B2026,[2]sheet2!B:L,10,0)","v":"-"},{"$f":"VLOOKUP(B2026,[2]sheet2!B:L,11,0)","v":"-"},"http://183.62.54.51:8841/data/files/certificate/000000000439/978087d6c4ec41299feabcfb6a8dde14/signed/2024_戴丽芬_二等奖_7911.pdf"]
[2025,"P302519093279","二极管的识别","中职组","微课","二等奖","河源市",{"$f":"VLOOKUP(B2027,'[1]002'!B:M,7,0)","v":"潘楚加"},{"$f":"VLOOKUP(B2027,'[1]002'!B:M,8,0)","v":"河源理工学校"},{"$f":"VLOOKUP(B2027,'[1]002'!B:M,11,0)","v":"-"},{"$f":"VLOOKUP(B2027,'[1]002'!B:M,12,0)","v":"-"},{"$f":"VLOOKUP(B2027,[2]sheet2!B:L,10,0)","v":"-"},{"$f":"VLOOKUP(B2027,[2]sheet2!B:L,11,0)","v":"-"},"http://183.62.54.51:8841/data/files/certificate/000000000439/4a43706dd32b4416bfd11a331987aef1/signed/2025_潘楚加_二等奖_7912.pdf"]
[2026,"P302519093280","腹部四部触诊","中职组","微课","二等奖","河源市",{"$f":"VLOOKUP(B2028,'[1]002'!B:M,7,0)","v":"魏洁"},{"$f":"VLOOKUP(B2028,'[1]002'!B:M,8,0)","v":"河源市卫生学校"},{"$f":"VLOOKUP(B2028,'[1]002'!B:M,11,0)","v":"张惠群"},{"$f":"VLOOKUP(B2028,'[1]002'!B:M,12,0)","v":"河源市卫生学校"},{"$f":"VLOOKUP(B2028,[2]sheet2!B:L,10,0)","v":"吴双双"},{"$f":"VLOOKUP(B2028,[2]sheet2!B:L,11,0)","v":"河源市卫生学校"},"http://183.62.54.51:8841/data/files/certificate/000000000439/88ec96bead18464c9e04a81333a25674/signed/2026_魏洁、张惠群、吴双双_二等奖_7913.pdf"]
[2027,"P302519093287","美妆护肤杂志封面设计","中职组","微课","二等奖","河源市",{"$f":"VLOOKUP(B2029,'[1]002'!B:M,7,0)","v":"戴丽芬"},{"$f":"VLOOKUP(B2029,'[1]002'!B:M,8,0)","v":"紫金县职业技术学校"},{"$f":"VLOOKUP(B2029,'[1]002'!B:M,11,0)","v":"-"},{"$f":"VLOOKUP(B2029,'[1]002'!B:M,12,0)","v":"-"},{"$f":"VLOOKUP(B2029,[2]sheet2!B:L,10,0)","v":"-"},{"$f":"VLOOKUP(B2029,[2]sheet2!B:L,11,0)","v":"-"},"http://183.62.54.51:8841/data/files/certificate/000000000439/a244deb6dbe3471bb3d86342f78dbbed/signed/2027_戴丽芬_二等奖_7914.pdf"]
[2028,"P302519092603","奶油蛋糕","中职组","微课","二等奖","东莞市",{"$f":"VLOOKUP(B2030,'[1]002'!B:M,7,0)","v":"袁淑灵"},{"$f":"VLOOKUP(B2030,'[1]002'!B:M,8,0)","v":"东莞市轻工业学校"},{"$f":"VLOOKUP(B2030,'[1]002'!B:M,11,0)","v":"-"},{"$f":"VLOOKUP(B2030,'[1]002'!B:M,12,0)","v":"-"},{"$f":"VLOOKUP(B2030,[2]sheet2!B:L,10,0)","v":"-"},{"$f":"VLOOKUP(B2030,[2]sheet2!B:L,11,0)","v":"-"},"http://183.62.54.51:8841/data/files/certificate/000000000439/559db830818d4ebd8072677badea0f68/signed/2028_袁淑灵_二等奖_7915.pdf"]
[2029,"P302519092604","客房中式铺床","中职组","微课","二等奖","东莞市",{"$f":"VLOOKUP(B2031,'[1]002'!B:M,7,0)","v":"林颖悦"},{"$f":"VLOOKUP(B2031,'[1]002'!B:M,8,0)","v":"东莞市轻工业学校"},{"$f":"VLOOKUP(B2031,'[1]002'!B:M,11,0)","v":"弘艺泽"},{"$f":"VLOOKUP(B2031,'[1]002'!B:M,12,0)","v":"东莞市轻工业学校"},{"$f":"VLOOKUP(B2031,[2]sheet2!B:L,10,0)","v":"-"},{"$f":"VLOOKUP(B2031,[2]sheet2!B:L,11,0)","v":"-"},"http://183.62.54.51:8841/data/files/certificate/000000000439/ee1052a2e34f457dbba2f92f94fc390f/signed/2029_林颖悦、弘艺泽_二等奖_7916.pdf"]
[2030,"P302519092596","百善孝为先_水彩插画情境绘制孝道篇","中职组","微课","二等奖","东莞市",{"$f":"VLOOKUP(B2032,'[1]002'!B:M,7,0)","v":"王琳"},{"$f":"VLOOKUP(B2032,'[1]002'!B:M,8,0)","v":"东莞市经济贸易学校"},{"$f":"VLOOKUP(B2032,'[1]002'!B:M,11,0)","v":"尹梓先"},{"$f":"VLOOKUP(B2032,'[1]002'!B:M,12,0)","v":"东莞市经济贸易学校"},{"$f":"VLOOKUP(B2032,[2]sheet2!B:L,10,0)","v":"-"},{"$f":"VLOOKUP(B2032,[2]sheet2!B:L,11,0)","v":"-"},"http://183.62.54.51:8841/data/files/certificate/000000000439/d91f10b2a752481ab5a12837050b46b2/signed/2030_王琳、尹梓先_二等奖_7917.pdf"]
[2031,"P302519092599","托盘堆码方式","中职组","微课","二等奖","东莞市",{"$f":"VLOOKUP(B2033,'[1]002'!B:M,7,0)","v":"林永纳"},{"$f":"VLOOKUP(B2033,'[1]002'!B:M,8,0)","v":"东莞市经济贸易学校"},{"$f":"VLOOKUP(B2033,'[1]002'!B:M,11,0)","v":"邓锐成"},{"$f":"VLOOKUP(B2033,'[1]002'!B:M,12,0)","v":"东莞市经济贸易学校"},{"$f":"VLOOKUP(B2033,[2]sheet2!B:L,10,0)","v":"李玉清"},{"$f":"VLOOKUP(B2033,[2]sheet2!B:L,11,0)","v":"东莞市经济贸易学校"},"http://183.62.54.51:8841/data/files/certificate/000000000439/e20fba8799f541f0bf9d3c984dc18704/signed/2031_林永纳、邓锐成、李玉清_二等奖_7918.pdf"]
[2032,"P302519089646","更换机油步骤","中职组","微课","二等奖","中山市",{"$f":"VLOOKUP(B2034,'[1]002'!B:M,7,0)","v":"李爱军"},{"$f":"VLOOKUP(B2034,'[1]002'!B:M,8,0)","v":"中山市中等专业学校"},{"$f":"VLOOKUP(B2034,'[1]002'!B:M,11,0)","v":"-"},{"$f":"VLOOKUP(B2034,'[1]002'!B:M,12,0)","v":"-"},{"$f":"VLOOKUP(B2034,[2]sheet2!B:L,10,0)","v":"-"},{"$f":"VLOOKUP(B2034,[2]sheet2!B:L,11,0)","v":"-"},"http://183.62.54.51:8841/data/files/certificate/000000000439/320860a5bc0b4428a0edea0cbb22d19a/signed/2032_李爱军_二等奖_7919.pdf"]
[2033,"P302519088940","双绞线的制作","中职组","微课","二等奖","中山市",{"$f":"VLOOKUP(B2035,'[1]002'!B:M,7,0)","v":"张文彬"},{"$f":"VLOOKUP(B2035,'[1]002'!B:M,8,0)","v":"中山市沙溪理工学校"},{"$f":"VLOOKUP(B2035,'[1]002'!B:M,11,0)","v":"刘文海"},{"$f":"VLOOKUP(B2035,'[1]002'!B:M,12,0)","v":"中山市沙溪理工学校"},{"$f":"VLOOKUP(B2035,[2]sheet2!B:L,10,0)","v":"林敏"},{"$f":"VLOOKUP(B2035,[2]sheet2!B:L,11,0)","v":"中山市沙溪理工学校"},"http://183.62.54.51:8841/data/files/certificate/000000000439/ca6507a88fb34ca896f339e642471fdc/signed/2033_张文彬、刘文海、林敏_二等奖_7920.pdf"]
[2034,"P302519089672","电子货币的法律问题","中职组","微课","二等奖","中山市",{"$f":"VLOOKUP(B2036,'[1]002'!B:M,7,0)","v":"刘月"},{"$f":"VLOOKUP(B2036,'[1]002'!B:M,8,0)","v":"中山市中等专业学校"},{"$f":"VLOOKUP(B2036,'[1]002'!B:M,11,0)","v":"张征"},{"$f":"VLOOKUP(B2036,'[1]002'!B:M,12,0)","v":"中山市中等专业学校"},{"$f":"VLOOKUP(B2036,[2]sheet2!B:L,10,0)","v":"朱重阳"},{"$f":"VLOOKUP(B2036,[2]sheet2!B:L,11,0)","v":"中山市中等专业学校"},"http://183.62.54.51:8841/data/files/certificate/000000000439/6d66329e7f9c4c5f92ab0e0c0d249b9d/signed/2034_刘月、张征、朱重阳_二等奖_7921.pdf"]
[2035,"P302519088926","一键穿越，开启王者之旅—premiere中的键控合成","中职组","微课","二等奖","中山市",{"$f":"VLOOKUP(B2037,'[1]002'!B:M,7,0)","v":"卢晓玲"},{"$f":"VLOOKUP(B2037,'[1]002'!B:M,8,0)","v":"中山市建斌中等职业技术学校"},{"$f":"VLOOKUP(B2037,'[1]002'!B:M,11,0)","v":"-"},{"$f":"VLOOKUP(B2037,'[1]002'!B:M,12,0)","v":"-"},{"$f":"VLOOKUP(B2037,[2]sheet2!B:L,10,0)","v":"-"},{"$f":"VLOOKUP(B2037,[2]sheet2!B:L,11,0)","v":"-"},"http://183.62.54.51:8841/data/files/certificate/000000000439/73f7aadf88f247c38b7d12e577d5fab0/signed/2035_卢晓玲_二等奖_7922.pdf"]
[2036,"P302519092942","小儿鹅口疮","中职组","微课","二等奖","湛江市",{"$f":"VLOOKUP(B2038,'[1]002'!B:M,7,0)","v":"赵巧燕"},{"$f":"VLOOKUP(B2038,'[1]002'!B:M,8,0)","v":"广东省湛江卫生学校"},{"$f":"VLOOKUP(B2038,'[1]002'!B:M,11,0)","v":"李伟南"},{"$f":"VLOOKUP(B2038,'[1]002'!B:M,12,0)","v":"广东省湛江卫生学校"},{"$f":"VLOOKUP(B2038,[2]sheet2!B:L,10,0)","v":"-"},{"$f":"VLOOKUP(B2038,[2]sheet2!B:L,11,0)","v":"-"},"http://183.62.54.51:8841/data/files/certificate/000000000439/4787c5ebfcf446e89278bbfb8d104dbb/signed/2036_赵巧燕、李伟南_二等奖_7923.pdf"]
[2037,"P302519092938","如何正确滴耳","中职组","微课","二等奖","湛江市",{"$f":"VLOOKUP(B2039,'[1]002'!B:M,7,0)","v":"古源"},{"$f":"VLOOKUP(B2039,'[1]002'!B:M,8,0)","v":"广东省湛江卫生学校"},{"$f":"VLOOKUP(B2039,'[1]002'!B:M,11,0)","v":"李东风"},{"$f":"VLOOKUP(B2039,'[1]002'!B:M,12,0)","v":"广东省湛江卫生学校"},{"$f":"VLOOKUP(B2039,[2]sheet2!B:L,10,0)","v":"-"},{"$f":"VLOOKUP(B2039,[2]sheet2!B:L,11,0)","v":"-"},"http://183.62.54.51:8841/data/files/certificate/000000000439/dbe221428b734692a806fe793c158719/signed/2037_古源、李东风_二等奖_7924.pdf"]
[2038,"P302519092937","护士行为礼仪","中职组","微课","二等奖","湛江市",{"$f":"VLOOKUP(B2040,'[1]002'!B:M,7,0)","v":"刘真蔼"},{"$f":"VLOOKUP(B2040,'[1]002'!B:M,8,0)","v":"广东省湛江卫生学校"},{"$f":"VLOOKUP(B2040,'[1]002'!B:M,11,0)","v":"潘如萍"},{"$f":"VLOOKUP(B2040,'[1]002'!B:M,12,0)","v":"广东省湛江卫生学校"},{"$f":"VLOOKUP(B2040,[2]sheet2!B:L,10,0)","v":"谢诗书"},{"$f":"VLOOKUP(B2040,[2]sheet2!B:L,11,0)","v":"广东省湛江卫生学校"},"http://183.62.54.51:8841/data/files/certificate/000000000439/f0f02b8162f0464aa0bda8d1cbc9e17b/signed/2038_刘真蔼、潘如萍、谢诗书_二等奖_7925.pdf"]
[2039,"P302519090055","如何突出拍摄主体","中职组","微课","二等奖","潮州市",{"$f":"VLOOKUP(B2041,'[1]002'!B:M,7,0)","v":"李泽琳"},{"$f":"VLOOKUP(B2041,'[1]002'!B:M,8,0)","v":"潮州市职业技术学校"},{"$f":"VLOOKUP(B2041,'[1]002'!B:M,11,0)","v":"-"},{"$f":"VLOOKUP(B2041,'[1]002'!B:M,12,0)","v":"-"},{"$f":"VLOOKUP(B2041,[2]sheet2!B:L,10,0)","v":"-"},{"$f":"VLOOKUP(B2041,[2]sheet2!B:L,11,0)","v":"-"},"http://183.62.54.51:8841/data/files/certificate/000000000439/4255cada429841a49acb89ba371352c6/signed/2039_李泽琳_二等奖_7926.pdf"]
[2040,"P302519079969","素描静物苹果的画法","中职组","微课","二等奖","云浮市",{"$f":"VLOOKUP(B2042,'[1]002'!B:M,7,0)","v":"赖巧慧"},{"$f":"VLOOKUP(B2042,'[1]002'!B:M,8,0)","v":"云浮市中等专业学校"},{"$f":"VLOOKUP(B2042,'[1]002'!B:M,11,0)","v":"任继媛"},{"$f":"VLOOKUP(B2042,'[1]002'!B:M,12,0)","v":"云浮市中等专业学校"},{"$f":"VLOOKUP(B2042,[2]sheet2!B:L,10,0)","v":"邓洁"},{"$f":"VLOOKUP(B2042,[2]sheet2!B:L,11,0)","v":"云浮市中等专业学校"},"http://183.62.54.51:8841/data/files/certificate/000000000439/8a24520758174442a5fbcef75550117d/signed/2040_赖巧慧、任继媛、邓洁_二等奖_7927.pdf"]
[2041,"P302519089605","吹画","中职组","微课","二等奖","云浮市",{"$f":"VLOOKUP(B2043,'[1]002'!B:M,7,0)","v":"徐永连"},{"$f":"VLOOKUP(B2043,'[1]002'!B:M,8,0)","v":"郁南县职业技术学校"},{"$f":"VLOOKUP(B2043,'[1]002'!B:M,11,0)","v":"-"},{"$f":"VLOOKUP(B2043,'[1]002'!B:M,12,0)","v":"-"},{"$f":"VLOOKUP(B2043,[2]sheet2!B:L,10,0)","v":"-"},{"$f":"VLOOKUP(B2043,[2]sheet2!B:L,11,0)","v":"-"},"http://183.62.54.51:8841/data/files/certificate/000000000439/219d43a2eee1457db211d67606c289b3/signed/2041_徐永连_二等奖_7928.pdf"]
[2042,"P303519093197","诗情画意荷花淀","中职组","信息化教学课程案例","二等奖","广州市",{"$f":"VLOOKUP(B2044,'[1]002'!B:M,7,0)","v":"陈瑾香"},{"$f":"VLOOKUP(B2044,'[1]002'!B:M,8,0)","v":"广州市增城区东方职业技术学校"},{"$f":"VLOOKUP(B2044,'[1]002'!B:M,11,0)","v":"梁明霞"},{"$f":"VLOOKUP(B2044,'[1]002'!B:M,12,0)","v":"广州市增城区东方职业技术学校"},{"$f":"VLOOKUP(B2044,[2]sheet2!B:L,10,0)","v":"张学勇"},{"$f":"VLOOKUP(B2044,[2]sheet2!B:L,11,0)","v":"广州市增城区东方职业技术学校"},"http://183.62.54.51:8841/data/files/certificate/000000000439/e12abf71315f455c81861269d8a49602/signed/2042_陈瑾香、梁明霞、张学勇_二等奖_7929.pdf"]
[2043,"P303519093202","基于项目的市场营销学智慧学习设计之以促销方式中人员推销为例","中职组","信息化教学课程案例","二等奖","广州市",{"$f":"VLOOKUP(B2045,'[1]002'!B:M,7,0)","v":"朱洪"},{"$f":"VLOOKUP(B2045,'[1]002'!B:M,8,0)","v":"广州市增城区东方职业技术学校"},{"$f":"VLOOKUP(B2045,'[1]002'!B:M,11,0)","v":"罗娜"},{"$f":"VLOOKUP(B2045,'[1]002'!B:M,12,0)","v":"广州市增城区东方职业技术学校"},{"$f":"VLOOKUP(B2045,[2]sheet2!B:L,10,0)","v":"何平"},{"$f":"VLOOKUP(B2045,[2]sheet2!B:L,11,0)","v":"广州市增城区东方职业技术学校"},"http://183.62.54.51:8841/data/files/certificate/000000000439/582d3b3e72df41dcab3a292a1a217435/signed/2043_朱洪、罗娜、何平_二等奖_7930.pdf"]
[2044,"P303519092770","西餐水波蛋创意实验课","中职组","信息化教学课程案例","二等奖","深圳市",{"$f":"VLOOKUP(B2046,'[1]002'!B:M,7,0)","v":"张子桐"},{"$f":"VLOOKUP(B2046,'[1]002'!B:M,8,0)","v":"深圳市第二职业技术学校"},{"$f":"VLOOKUP(B2046,'[1]002'!B:M,11,0)","v":"-"},{"$f":"VLOOKUP(B2046,'[1]002'!B:M,12,0)","v":"-"},{"$f":"VLOOKUP(B2046,[2]sheet2!B:L,10,0)","v":"-"},{"$f":"VLOOKUP(B2046,[2]sheet2!B:L,11,0)","v":"-"},"http://183.62.54.51:8841/data/files/certificate/000000000439/870ed355a9164ffa99c16abfe677bf59/signed/2044_张子桐_二等奖_7931.pdf"]
[2045,"P303519090599","农产品移动端闪屏海报制作","中职组","信息化教学课程案例","二等奖","佛山市",{"$f":"VLOOKUP(B2047,'[1]002'!B:M,7,0)","v":"何芳"},{"$f":"VLOOKUP(B2047,'[1]002'!B:M,8,0)","v":"佛山市顺德区李伟强职业技术学校"},{"$f":"VLOOKUP(B2047,'[1]002'!B:M,11,0)","v":"杨嘉辉"},{"$f":"VLOOKUP(B2047,'[1]002'!B:M,12,0)","v":"佛山市顺德区李伟强职业技术学校"},{"$f":"VLOOKUP(B2047,[2]sheet2!B:L,10,0)","v":"-"},{"$f":"VLOOKUP(B2047,[2]sheet2!B:L,11,0)","v":"-"},"http://183.62.54.51:8841/data/files/certificate/000000000439/b2c0e9473a444a15b55081a25e7de5a0/signed/2045_何芳、杨嘉辉_二等奖_7932.pdf"]
[2046,"P303519090600","国粹京剧","中职组","信息化教学课程案例","二等奖","佛山市",{"$f":"VLOOKUP(B2048,'[1]002'!B:M,7,0)","v":"张艳辉"},{"$f":"VLOOKUP(B2048,'[1]002'!B:M,8,0)","v":"佛山市顺德区北滘职业技术学校"},{"$f":"VLOOKUP(B2048,'[1]002'!B:M,11,0)","v":"-"},{"$f":"VLOOKUP(B2048,'[1]002'!B:M,12,0)","v":"-"},{"$f":"VLOOKUP(B2048,[2]sheet2!B:L,10,0)","v":"-"},{"$f":"VLOOKUP(B2048,[2]sheet2!B:L,11,0)","v":"-"},"http://183.62.54.51:8841/data/files/certificate/000000000439/c2f17ea3e4cb42baaec0c6937a1268fb/signed/2046_张艳辉_二等奖_7933.pdf"]
[2047,"P303519090601","微信朋友圈营销方案的策划","中职组","信息化教学课程案例","二等奖","佛山市",{"$f":"VLOOKUP(B2049,'[1]002'!B:M,7,0)","v":"吴丹丹"},{"$f":"VLOOKUP(B2049,'[1]002'!B:M,8,0)","v":"佛山市顺德区李伟强职业技术学校"},{"$f":"VLOOKUP(B2049,'[1]002'!B:M,11,0)","v":"-"},{"$f":"VLOOKUP(B2049,'[1]002'!B:M,12,0)","v":"-"},{"$f":"VLOOKUP(B2049,[2]sheet2!B:L,10,0)","v":"-"},{"$f":"VLOOKUP(B2049,[2]sheet2!B:L,11,0)","v":"-"},"http://183.62.54.51:8841/data/files/certificate/000000000439/a52cdea4c1de45e1a85fdb7ee1e3f561/signed/2047_吴丹丹_二等奖_7934.pdf"]
[2048,"P303519087977","基于自主学习的信息化教学案例","中职组","信息化教学课程案例","二等奖","梅州市",{"$f":"VLOOKUP(B2050,'[1]002'!B:M,7,0)","v":"刘东强"},{"$f":"VLOOKUP(B2050,'[1]002'!B:M,8,0)","v":"五华县华城职业技术学校"},{"$f":"VLOOKUP(B2050,'[1]002'!B:M,11,0)","v":"-"},{"$f":"VLOOKUP(B2050,'[1]002'!B:M,12,0)","v":"-"},{"$f":"VLOOKUP(B2050,[2]sheet2!B:L,10,0)","v":"-"},{"$f":"VLOOKUP(B2050,[2]sheet2!B:L,11,0)","v":"-"},"http://183.62.54.51:8841/data/files/certificate/000000000439/37d3d6d33f024e57847471df3d27a9f4/signed/2048_刘东强_二等奖_7935.pdf"]
[2049,"P303519092816","PS钢笔工具的应用","中职组","信息化教学课程案例","二等奖","东莞市",{"$f":"VLOOKUP(B2051,'[1]002'!B:M,7,0)","v":"谢培璇"},{"$f":"VLOOKUP(B2051,'[1]002'!B:M,8,0)","v":"东莞市信息技术学校"},{"$f":"VLOOKUP(B2051,'[1]002'!B:M,11,0)","v":"邢彦年"},{"$f":"VLOOKUP(B2051,'[1]002'!B:M,12,0)","v":"东莞市信息技术学校"},{"$f":"VLOOKUP(B2051,[2]sheet2!B:L,10,0)","v":"李永晓"},{"$f":"VLOOKUP(B2051,[2]sheet2!B:L,11,0)","v":"东莞市信息技术学校"},"http://183.62.54.51:8841/data/files/certificate/000000000439/722d15590f6f427f8d661b2d5354b2ca/signed/2049_谢培璇、邢彦年、李永晓_二等奖_7936.pdf"]
[2050,"P303519092815","英语面试对话课例","中职组","信息化教学课程案例","二等奖","东莞市",{"$f":"VLOOKUP(B2052,'[1]002'!B:M,7,0)","v":"黎丽华"},{"$f":"VLOOKUP(B2052,'[1]002'!B:M,8,0)","v":"东莞市信息技术学校"},{"$f":"VLOOKUP(B2052,'[1]002'!B:M,11,0)","v":"盘蔼然"},{"$f":"VLOOKUP(B2052,'[1]002'!B:M,12,0)","v":"东莞市信息技术学校"},{"$f":"VLOOKUP(B2052,[2]sheet2!B:L,10,0)","v":"颜厥塔"},{"$f":"VLOOKUP(B2052,[2]sheet2!B:L,11,0)","v":"东莞市信息技术学校"},"http://183.62.54.51:8841/data/files/certificate/000000000439/c132f978bd164055b70a712d930773c6/signed/2050_黎丽华、盘蔼然、颜厥塔_二等奖_7937.pdf"]
[2051,"P303519090144","心肺复苏CPR","中职组","信息化教学课程案例","二等奖","中山市",{"$f":"VLOOKUP(B2053,'[1]002'!B:M,7,0)","v":"景茵"},{"$f":"VLOOKUP(B2053,'[1]002'!B:M,8,0)","v":"中山火炬开发区理工学校"},{"$f":"VLOOKUP(B2053,'[1]002'!B:M,11,0)","v":"陈静雅"},{"$f":"VLOOKUP(B2053,'[1]002'!B:M,12,0)","v":"中山火炬开发区理工学校"},{"$f":"VLOOKUP(B2053,[2]sheet2!B:L,10,0)","v":"韩冬"},{"$f":"VLOOKUP(B2053,[2]sheet2!B:L,11,0)","v":"中山火炬开发区理工学校"},"http://183.62.54.51:8841/data/files/certificate/000000000439/7d3c8287dbfb4dec9e05570da8a75150/signed/2051_景茵、陈静雅、韩冬_二等奖_7938.pdf"]
[2052,"P303519089584","马斯洛需要层次的运用以汽车营销为例","中职组","信息化教学课程案例","二等奖","中山市",{"$f":"VLOOKUP(B2054,'[1]002'!B:M,7,0)","v":"林金治"},{"$f":"VLOOKUP(B2054,'[1]002'!B:M,8,0)","v":"中山市中等专业学校"},{"$f":"VLOOKUP(B2054,'[1]002'!B:M,11,0)","v":"李爱军"},{"$f":"VLOOKUP(B2054,'[1]002'!B:M,12,0)","v":"中山市中等专业学校"},{"$f":"VLOOKUP(B2054,[2]sheet2!B:L,10,0)","v":"熊英"},{"$f":"VLOOKUP(B2054,[2]sheet2!B:L,11,0)","v":"中山市中等专业学校"},"http://183.62.54.51:8841/data/files/certificate/000000000439/86e106c666944cac8ad40f94ea946038/signed/2052_林金治、李爱军、熊英_二等奖_7939.pdf"]
[2053,"P303519088957","梦幻海景“创”出来","中职组","信息化教学课程案例","二等奖","中山市",{"$f":"VLOOKUP(B2055,'[1]002'!B:M,7,0)","v":"廖雪峰"},{"$f":"VLOOKUP(B2055,'[1]002'!B:M,8,0)","v":"中山市港口理工学校"},{"$f":"VLOOKUP(B2055,'[1]002'!B:M,11,0)","v":"王铁军"},{"$f":"VLOOKUP(B2055,'[1]002'!B:M,12,0)","v":"中山市港口理工学校"},{"$f":"VLOOKUP(B2055,[2]sheet2!B:L,10,0)","v":"朱思进"},{"$f":"VLOOKUP(B2055,[2]sheet2!B:L,11,0)","v":"中山市港口理工学校"},"http://183.62.54.51:8841/data/files/certificate/000000000439/a590feb004e940f18a5c8acf9a6bb7bf/signed/2053_廖雪峰、王铁军、朱思进_二等奖_7940.pdf"]
[2054,"P303519091371","沁园春.长沙","中职组","信息化教学课程案例","二等奖","茂名市",{"$f":"VLOOKUP(B2056,'[1]002'!B:M,7,0)","v":"陈莲君"},{"$f":"VLOOKUP(B2056,'[1]002'!B:M,8,0)","v":"茂名市第二职业技术学校"},{"$f":"VLOOKUP(B2056,'[1]002'!B:M,11,0)","v":"王兵"},{"$f":"VLOOKUP(B2056,'[1]002'!B:M,12,0)","v":"茂名市第二职业技术学校"},{"$f":"VLOOKUP(B2056,[2]sheet2!B:L,10,0)","v":"陈颖"},{"$f":"VLOOKUP(B2056,[2]sheet2!B:L,11,0)","v":"茂名市教师继续教育中心"},"http://183.62.54.51:8841/data/files/certificate/000000000439/b21e578ce9ee4dc0b4e1d4d8c28c3c4f/signed/2054_陈莲君、王兵、陈颖_二等奖_7941.pdf"]
[2055,"P301519091919","错账更正方法","中职组","课件","三等奖","汕头市",{"$f":"VLOOKUP(B2057,'[1]002'!B:M,7,0)","v":"王莉"},{"$f":"VLOOKUP(B2057,'[1]002'!B:M,8,0)","v":"汕头市澄海职业技术学校"},{"$f":"VLOOKUP(B2057,'[1]002'!B:M,11,0)","v":"马汉杰"},{"$f":"VLOOKUP(B2057,'[1]002'!B:M,12,0)","v":"汕头市澄海职业技术学校"},{"$f":"VLOOKUP(B2057,[2]sheet2!B:L,10,0)","v":"许思洁"},{"$f":"VLOOKUP(B2057,[2]sheet2!B:L,11,0)","v":"汕头市澄海职业技术学校"},"http://183.62.54.51:8841/data/files/certificate/000000000439/8c2ef6a2232f4ecaa6ee8c08b8c3838d/signed/2055_王莉、马汉杰、许思洁_三等奖_7942.pdf"]
[2056,"P301519091920","向量的坐标","中职组","课件","三等奖","汕头市",{"$f":"VLOOKUP(B2058,'[1]002'!B:M,7,0)","v":"王泠"},{"$f":"VLOOKUP(B2058,'[1]002'!B:M,8,0)","v":"汕头市澄海职业技术学校"},{"$f":"VLOOKUP(B2058,'[1]002'!B:M,11,0)","v":"-"},{"$f":"VLOOKUP(B2058,'[1]002'!B:M,12,0)","v":"-"},{"$f":"VLOOKUP(B2058,[2]sheet2!B:L,10,0)","v":"-"},{"$f":"VLOOKUP(B2058,[2]sheet2!B:L,11,0)","v":"-"},"http://183.62.54.51:8841/data/files/certificate/000000000439/1dfbbb38bcc748f49fdb11d531834004/signed/2056_王泠_三等奖_7943.pdf"]
[2057,"P301519091922","直通车推广概述","中职组","课件","三等奖","汕头市",{"$f":"VLOOKUP(B2059,'[1]002'!B:M,7,0)","v":"柳婷婷"},{"$f":"VLOOKUP(B2059,'[1]002'!B:M,8,0)","v":"潮南区职业技术教育中心"},{"$f":"VLOOKUP(B2059,'[1]002'!B:M,11,0)","v":"-"},{"$f":"VLOOKUP(B2059,'[1]002'!B:M,12,0)","v":"-"},{"$f":"VLOOKUP(B2059,[2]sheet2!B:L,10,0)","v":"-"},{"$f":"VLOOKUP(B2059,[2]sheet2!B:L,11,0)","v":"-"},"http://183.62.54.51:8841/data/files/certificate/000000000439/3e256bb4d9d84cc4b239475c9bd53532/signed/2057_柳婷婷_三等奖_7944.pdf"]
[2058,"P301519090576","邮件合并","中职组","课件","三等奖","佛山市",{"$f":"VLOOKUP(B2060,'[1]002'!B:M,7,0)","v":"谢翠芬"},{"$f":"VLOOKUP(B2060,'[1]002'!B:M,8,0)","v":"佛山市华材职业技术学校"},{"$f":"VLOOKUP(B2060,'[1]002'!B:M,11,0)","v":"邓俊英"},{"$f":"VLOOKUP(B2060,'[1]002'!B:M,12,0)","v":"佛山市华材职业技术学校"},{"$f":"VLOOKUP(B2060,[2]sheet2!B:L,10,0)","v":"-"},{"$f":"VLOOKUP(B2060,[2]sheet2!B:L,11,0)","v":"-"},"http://183.62.54.51:8841/data/files/certificate/000000000439/06ca88a899c644aa9e62e8f23cd860b8/signed/2058_谢翠芬、邓俊英_三等奖_7945.pdf"]
[2059,"P301519090578","饮料广告效果图与动画制作","中职组","课件","三等奖","佛山市",{"$f":"VLOOKUP(B2061,'[1]002'!B:M,7,0)","v":"涂浩"},{"$f":"VLOOKUP(B2061,'[1]002'!B:M,8,0)","v":"佛山市华材职业技术学校"},{"$f":"VLOOKUP(B2061,'[1]002'!B:M,11,0)","v":"-"},{"$f":"VLOOKUP(B2061,'[1]002'!B:M,12,0)","v":"-"},{"$f":"VLOOKUP(B2061,[2]sheet2!B:L,10,0)","v":"-"},{"$f":"VLOOKUP(B2061,[2]sheet2!B:L,11,0)","v":"-"},"http://183.62.54.51:8841/data/files/certificate/000000000439/0d9a69a332814d8b942af9bf3f1fc50d/signed/2059_涂浩_三等奖_7946.pdf"]
[2060,"P301519090586","填写支票","中职组","课件","三等奖","佛山市",{"$f":"VLOOKUP(B2062,'[1]002'!B:M,7,0)","v":"肖菲玫"},{"$f":"VLOOKUP(B2062,'[1]002'!B:M,8,0)","v":"南海信息技术学校"},{"$f":"VLOOKUP(B2062,'[1]002'!B:M,11,0)","v":"-"},{"$f":"VLOOKUP(B2062,'[1]002'!B:M,12,0)","v":"-"},{"$f":"VLOOKUP(B2062,[2]sheet2!B:L,10,0)","v":"-"},{"$f":"VLOOKUP(B2062,[2]sheet2!B:L,11,0)","v":"-"},"http://183.62.54.51:8841/data/files/certificate/000000000439/5035a04c2bdd445a9aa228c484746bbc/signed/2060_肖菲玫_三等奖_7947.pdf"]
[2061,"P301519090575","放样建模","中职组","课件","三等奖","佛山市",{"$f":"VLOOKUP(B2063,'[1]002'!B:M,7,0)","v":"谢翠芬"},{"$f":"VLOOKUP(B2063,'[1]002'!B:M,8,0)","v":"佛山市华材职业技术学校"},{"$f":"VLOOKUP(B2063,'[1]002'!B:M,11,0)","v":"邓俊英"},{"$f":"VLOOKUP(B2063,'[1]002'!B:M,12,0)","v":"佛山市华材职业技术学校"},{"$f":"VLOOKUP(B2063,[2]sheet2!B:L,10,0)","v":"-"},{"$f":"VLOOKUP(B2063,[2]sheet2!B:L,11,0)","v":"-"},"http://183.62.54.51:8841/data/files/certificate/000000000439/b73f8ba016e544eca39d6bb91535a689/signed/2061_谢翠芬、邓俊英_三等奖_7948.pdf"]
[2062,"P301519090592","个体户电商企业的工商登记","中职组","课件","三等奖","佛山市",{"$f":"VLOOKUP(B2064,'[1]002'!B:M,7,0)","v":"刘琳滢"},{"$f":"VLOOKUP(B2064,'[1]002'!B:M,8,0)","v":"佛山市三水区工业中等专业学校"},{"$f":"VLOOKUP(B2064,'[1]002'!B:M,11,0)","v":"张志瑜"},{"$f":"VLOOKUP(B2064,'[1]002'!B:M,12,0)","v":"佛山市三水区工业中等专业学校"},{"$f":"VLOOKUP(B2064,[2]sheet2!B:L,10,0)","v":"杨敏红"},{"$f":"VLOOKUP(B2064,[2]sheet2!B:L,11,0)","v":"佛山市三水区工业中等专业学校"},"http://183.62.54.51:8841/data/files/certificate/000000000439/256328d5652b428d89f25a63d6f9efd0/signed/2062_刘琳滢、张志瑜、杨敏红_三等奖_7949.pdf"]
[2063,"P301519088292","电脑维修知识","中职组","课件","三等奖","韶关市",{"$f":"VLOOKUP(B2065,'[1]002'!B:M,7,0)","v":"袁必策"},{"$f":"VLOOKUP(B2065,'[1]002'!B:M,8,0)","v":"新丰县中等职业技术学校"},{"$f":"VLOOKUP(B2065,'[1]002'!B:M,11,0)","v":"-"},{"$f":"VLOOKUP(B2065,'[1]002'!B:M,12,0)","v":"-"},{"$f":"VLOOKUP(B2065,[2]sheet2!B:L,10,0)","v":"-"},{"$f":"VLOOKUP(B2065,[2]sheet2!B:L,11,0)","v":"-"},"http://183.62.54.51:8841/data/files/certificate/000000000439/cd9b606902b146aca919fc826d123adb/signed/2063_袁必策_三等奖_7950.pdf"]
[2064,"P301519088928","（Focusky）函数的性质--单调性","中职组","课件","三等奖","韶关市",{"$f":"VLOOKUP(B2066,'[1]002'!B:M,7,0)","v":"王凤亮"},{"$f":"VLOOKUP(B2066,'[1]002'!B:M,8,0)","v":"翁源县中等职业技术学校"},{"$f":"VLOOKUP(B2066,'[1]002'!B:M,11,0)","v":"-"},{"$f":"VLOOKUP(B2066,'[1]002'!B:M,12,0)","v":"-"},{"$f":"VLOOKUP(B2066,[2]sheet2!B:L,10,0)","v":"-"},{"$f":"VLOOKUP(B2066,[2]sheet2!B:L,11,0)","v":"-"},"http://183.62.54.51:8841/data/files/certificate/000000000439/42432dfc449b4d30b921a3486d51d6af/signed/2064_王凤亮_三等奖_7951.pdf"]
[2065,"P301519089391","情绪与情感的概述","中职组","课件","三等奖","韶关市",{"$f":"VLOOKUP(B2067,'[1]002'!B:M,7,0)","v":"陈晓莹"},{"$f":"VLOOKUP(B2067,'[1]002'!B:M,8,0)","v":"翁源县中等职业技术学校"},{"$f":"VLOOKUP(B2067,'[1]002'!B:M,11,0)","v":"-"},{"$f":"VLOOKUP(B2067,'[1]002'!B:M,12,0)","v":"-"},{"$f":"VLOOKUP(B2067,[2]sheet2!B:L,10,0)","v":"-"},{"$f":"VLOOKUP(B2067,[2]sheet2!B:L,11,0)","v":"-"},"http://183.62.54.51:8841/data/files/certificate/000000000439/d5beb1c6052d4fb7bc6b1acee1bd6f2a/signed/2065_陈晓莹_三等奖_7952.pdf"]
[2066,"P301519093293","英文问路和指路","中职组","课件","三等奖","河源市",{"$f":"VLOOKUP(B2068,'[1]002'!B:M,7,0)","v":"陈淑惠"},{"$f":"VLOOKUP(B2068,'[1]002'!B:M,8,0)","v":"河源理工学校"},{"$f":"VLOOKUP(B2068,'[1]002'!B:M,11,0)","v":"-"},{"$f":"VLOOKUP(B2068,'[1]002'!B:M,12,0)","v":"-"},{"$f":"VLOOKUP(B2068,[2]sheet2!B:L,10,0)","v":"-"},{"$f":"VLOOKUP(B2068,[2]sheet2!B:L,11,0)","v":"-"},"http://183.62.54.51:8841/data/files/certificate/000000000439/56d54835bcce44f3920f255b7c5c1ee7/signed/2066_陈淑惠_三等奖_7953.pdf"]
[2067,"P301519093294","爱国主义教育主题班会课件","中职组","课件","三等奖","河源市",{"$f":"VLOOKUP(B2069,'[1]002'!B:M,7,0)","v":"郑晓彤"},{"$f":"VLOOKUP(B2069,'[1]002'!B:M,8,0)","v":"河源理工学校"},{"$f":"VLOOKUP(B2069,'[1]002'!B:M,11,0)","v":"赖勤"},{"$f":"VLOOKUP(B2069,'[1]002'!B:M,12,0)","v":"河源理工学校"},{"$f":"VLOOKUP(B2069,[2]sheet2!B:L,10,0)","v":"-"},{"$f":"VLOOKUP(B2069,[2]sheet2!B:L,11,0)","v":"-"},"http://183.62.54.51:8841/data/files/certificate/000000000439/f42f640d77c5438bb2dded8a65d00557/signed/2067_郑晓彤、赖勤_三等奖_7954.pdf"]
[2068,"P301519093292","如何培养幼儿独立性","中职组","课件","三等奖","河源市",{"$f":"VLOOKUP(B2070,'[1]002'!B:M,7,0)","v":"黄丽堪"},{"$f":"VLOOKUP(B2070,'[1]002'!B:M,8,0)","v":"河源市职业技术学校"},{"$f":"VLOOKUP(B2070,'[1]002'!B:M,11,0)","v":"-"},{"$f":"VLOOKUP(B2070,'[1]002'!B:M,12,0)","v":"-"},{"$f":"VLOOKUP(B2070,[2]sheet2!B:L,10,0)","v":"-"},{"$f":"VLOOKUP(B2070,[2]sheet2!B:L,11,0)","v":"-"},"http://183.62.54.51:8841/data/files/certificate/000000000439/1be1416e593241039b176440354cd857/signed/2068_黄丽堪_三等奖_7955.pdf"]
[2069,"P301519093288","无菌技术","中职组","课件","三等奖","河源市",{"$f":"VLOOKUP(B2071,'[1]002'!B:M,7,0)","v":"陈秀琳"},{"$f":"VLOOKUP(B2071,'[1]002'!B:M,8,0)","v":"河源市卫生学校"},{"$f":"VLOOKUP(B2071,'[1]002'!B:M,11,0)","v":"黄利飞"},{"$f":"VLOOKUP(B2071,'[1]002'!B:M,12,0)","v":"河源市卫生学校"},{"$f":"VLOOKUP(B2071,[2]sheet2!B:L,10,0)","v":"王浩东"},{"$f":"VLOOKUP(B2071,[2]sheet2!B:L,11,0)","v":"河源市卫生学校"},"http://183.62.54.51:8841/data/files/certificate/000000000439/d2c27881f7ff46b1a4ab9e312f01631b/signed/2069_陈秀琳、黄利飞、王浩东_三等奖_7956.pdf"]
[2070,"P301519093290","动作补间摇摆篇摘星记","中职组","课件","三等奖","河源市",{"$f":"VLOOKUP(B2072,'[1]002'!B:M,7,0)","v":"曹瑞英"},{"$f":"VLOOKUP(B2072,'[1]002'!B:M,8,0)","v":"河源市职业技术学校"},{"$f":"VLOOKUP(B2072,'[1]002'!B:M,11,0)","v":"-"},{"$f":"VLOOKUP(B2072,'[1]002'!B:M,12,0)","v":"-"},{"$f":"VLOOKUP(B2072,[2]sheet2!B:L,10,0)","v":"-"},{"$f":"VLOOKUP(B2072,[2]sheet2!B:L,11,0)","v":"-"},"http://183.62.54.51:8841/data/files/certificate/000000000439/58e350605eca4144acfc445777db8f79/signed/2070_曹瑞英_三等奖_7957.pdf"]
[2071,"P301519087942","发展职业生涯要善于把握机遇","中职组","课件","三等奖","梅州市",{"$f":"VLOOKUP(B2073,'[1]002'!B:M,7,0)","v":"唐华标"},{"$f":"VLOOKUP(B2073,'[1]002'!B:M,8,0)","v":"五华县华城职业技术学校"},{"$f":"VLOOKUP(B2073,'[1]002'!B:M,11,0)","v":"-"},{"$f":"VLOOKUP(B2073,'[1]002'!B:M,12,0)","v":"-"},{"$f":"VLOOKUP(B2073,[2]sheet2!B:L,10,0)","v":"-"},{"$f":"VLOOKUP(B2073,[2]sheet2!B:L,11,0)","v":"-"},"http://183.62.54.51:8841/data/files/certificate/000000000439/4f79e08006494d739b118beedbf5aaeb/signed/2071_唐华标_三等奖_7958.pdf"]
[2072,"P301519092510","规划库区","中职组","课件","三等奖","东莞市",{"$f":"VLOOKUP(B2074,'[1]002'!B:M,7,0)","v":"邓锐成"},{"$f":"VLOOKUP(B2074,'[1]002'!B:M,8,0)","v":"东莞市经济贸易学校"},{"$f":"VLOOKUP(B2074,'[1]002'!B:M,11,0)","v":"-"},{"$f":"VLOOKUP(B2074,'[1]002'!B:M,12,0)","v":"-"},{"$f":"VLOOKUP(B2074,[2]sheet2!B:L,10,0)","v":"-"},{"$f":"VLOOKUP(B2074,[2]sheet2!B:L,11,0)","v":"-"},"http://183.62.54.51:8841/data/files/certificate/000000000439/cbaaad0841124aaeb7e9205cd7cd8e2b/signed/2072_邓锐成_三等奖_7959.pdf"]
[2073,"P301519092519","精研细斟育工匠红葡萄酒斟酒七艺","中职组","课件","三等奖","东莞市",{"$f":"VLOOKUP(B2075,'[1]002'!B:M,7,0)","v":"胡转玲"},{"$f":"VLOOKUP(B2075,'[1]002'!B:M,8,0)","v":"东莞市轻工业学校"},{"$f":"VLOOKUP(B2075,'[1]002'!B:M,11,0)","v":"李想"},{"$f":"VLOOKUP(B2075,'[1]002'!B:M,12,0)","v":"东莞市轻工业学校"},{"$f":"VLOOKUP(B2075,[2]sheet2!B:L,10,0)","v":"吴想宇"},{"$f":"VLOOKUP(B2075,[2]sheet2!B:L,11,0)","v":"东莞市轻工业学校"},"http://183.62.54.51:8841/data/files/certificate/000000000439/3218fa24b3f342f6aa833393b1e7c3a0/signed/2073_胡转玲、李想、吴想宇_三等奖_7960.pdf"]
[2074,"P301519092512","挫折心理之心理防御机制","中职组","课件","三等奖","东莞市",{"$f":"VLOOKUP(B2076,'[1]002'!B:M,7,0)","v":"徐杰"},{"$f":"VLOOKUP(B2076,'[1]002'!B:M,8,0)","v":"东莞市经济贸易学校"},{"$f":"VLOOKUP(B2076,'[1]002'!B:M,11,0)","v":"龚雪"},{"$f":"VLOOKUP(B2076,'[1]002'!B:M,12,0)","v":"东莞市经济贸易学校"},{"$f":"VLOOKUP(B2076,[2]sheet2!B:L,10,0)","v":"杨小英"},{"$f":"VLOOKUP(B2076,[2]sheet2!B:L,11,0)","v":"东莞市经济贸易学校"},"http://183.62.54.51:8841/data/files/certificate/000000000439/302ce0b0f3e3460eaba5d346f983450c/signed/2074_徐杰、龚雪、杨小英_三等奖_7961.pdf"]
[2075,"P301519092515","感恩父爱母爱","中职组","课件","三等奖","东莞市",{"$f":"VLOOKUP(B2077,'[1]002'!B:M,7,0)","v":"黄小燕"},{"$f":"VLOOKUP(B2077,'[1]002'!B:M,8,0)","v":"东莞市信息技术学校"},{"$f":"VLOOKUP(B2077,'[1]002'!B:M,11,0)","v":"宋晓红"},{"$f":"VLOOKUP(B2077,'[1]002'!B:M,12,0)","v":"东莞市信息技术学校"},{"$f":"VLOOKUP(B2077,[2]sheet2!B:L,10,0)","v":"-"},{"$f":"VLOOKUP(B2077,[2]sheet2!B:L,11,0)","v":"-"},"http://183.62.54.51:8841/data/files/certificate/000000000439/9170ae89b819428884387e0ec3628ea0/signed/2075_黄小燕、宋晓红_三等奖_7962.pdf"]
[2076,"P301519092507","以情入画以画传情_插画情境绘制构设孝道篇","中职组","课件","三等奖","东莞市",{"$f":"VLOOKUP(B2078,'[1]002'!B:M,7,0)","v":"王琳"},{"$f":"VLOOKUP(B2078,'[1]002'!B:M,8,0)","v":"东莞市经济贸易学校"},{"$f":"VLOOKUP(B2078,'[1]002'!B:M,11,0)","v":"-"},{"$f":"VLOOKUP(B2078,'[1]002'!B:M,12,0)","v":"-"},{"$f":"VLOOKUP(B2078,[2]sheet2!B:L,10,0)","v":"-"},{"$f":"VLOOKUP(B2078,[2]sheet2!B:L,11,0)","v":"-"},"http://183.62.54.51:8841/data/files/certificate/000000000439/620f3f829ce245d0ae0332629151051d/signed/2076_王琳_三等奖_7963.pdf"]
[2077,"P301519092514","FOB贸易术语","中职组","课件","三等奖","东莞市",{"$f":"VLOOKUP(B2079,'[1]002'!B:M,7,0)","v":"萧婉君"},{"$f":"VLOOKUP(B2079,'[1]002'!B:M,8,0)","v":"东莞市轻工业学校"},{"$f":"VLOOKUP(B2079,'[1]002'!B:M,11,0)","v":"-"},{"$f":"VLOOKUP(B2079,'[1]002'!B:M,12,0)","v":"-"},{"$f":"VLOOKUP(B2079,[2]sheet2!B:L,10,0)","v":"-"},{"$f":"VLOOKUP(B2079,[2]sheet2!B:L,11,0)","v":"-"},"http://183.62.54.51:8841/data/files/certificate/000000000439/1d2365d5aa1b4457940e89b030f5fdc6/signed/2077_萧婉君_三等奖_7964.pdf"]
[2078,"P301519089008","以积极心态面对人生境遇","中职组","课件","三等奖","中山市",{"$f":"VLOOKUP(B2080,'[1]002'!B:M,7,0)","v":"刘莹"},{"$f":"VLOOKUP(B2080,'[1]002'!B:M,8,0)","v":"中山市港口理工学校"},{"$f":"VLOOKUP(B2080,'[1]002'!B:M,11,0)","v":"谢先梅"},{"$f":"VLOOKUP(B2080,'[1]002'!B:M,12,0)","v":"中山市港口理工学校"},{"$f":"VLOOKUP(B2080,[2]sheet2!B:L,10,0)","v":"霍瑞贞"},{"$f":"VLOOKUP(B2080,[2]sheet2!B:L,11,0)","v":"中山市港口理工学校"},"http://183.62.54.51:8841/data/files/certificate/000000000439/f499d311910a476398683d0e65a2bd68/signed/2078_刘莹、谢先梅、霍瑞贞_三等奖_7965.pdf"]
[2079,"P301519089893","感受中国古典舞的形之美","中职组","课件","三等奖","中山市",{"$f":"VLOOKUP(B2081,'[1]002'!B:M,7,0)","v":"李赛花"},{"$f":"VLOOKUP(B2081,'[1]002'!B:M,8,0)","v":"中山火炬开发区理工学校"},{"$f":"VLOOKUP(B2081,'[1]002'!B:M,11,0)","v":"-"},{"$f":"VLOOKUP(B2081,'[1]002'!B:M,12,0)","v":"-"},{"$f":"VLOOKUP(B2081,[2]sheet2!B:L,10,0)","v":"-"},{"$f":"VLOOKUP(B2081,[2]sheet2!B:L,11,0)","v":"-"},"http://183.62.54.51:8841/data/files/certificate/000000000439/49fb19c1cf76415b8707e94c5be63c7d/signed/2079_李赛花_三等奖_7966.pdf"]
[2080,"P301519088917","指数函数的图像与性质","中职组","课件","三等奖","中山市",{"$f":"VLOOKUP(B2082,'[1]002'!B:M,7,0)","v":"仇治国"},{"$f":"VLOOKUP(B2082,'[1]002'!B:M,8,0)","v":"中山市中等专业学校"},{"$f":"VLOOKUP(B2082,'[1]002'!B:M,11,0)","v":"朱正兵"},"中山市中等专业学校",{"$f":"VLOOKUP(B2082,[2]sheet2!B:L,10,0)","v":"-"},{"$f":"VLOOKUP(B2082,[2]sheet2!B:L,11,0)","v":"-"},"http://183.62.54.51:8841/data/files/certificate/000000000439/17204fc626a841dabeee8b58bf19db82/signed/2080_仇治国、朱正兵_三等奖_7967.pdf"]
[2081,"P301519088941","It is time to change.","中职组","课件","三等奖","中山市",{"$f":"VLOOKUP(B2083,'[1]002'!B:M,7,0)","v":"张欣"},{"$f":"VLOOKUP(B2083,'[1]002'!B:M,8,0)","v":"中山市中等专业学校"},{"$f":"VLOOKUP(B2083,'[1]002'!B:M,11,0)","v":"卢娟"},{"$f":"VLOOKUP(B2083,'[1]002'!B:M,12,0)","v":"中山市中等专业学校"},{"$f":"VLOOKUP(B2083,[2]sheet2!B:L,10,0)","v":"-"},{"$f":"VLOOKUP(B2083,[2]sheet2!B:L,11,0)","v":"-"},"http://183.62.54.51:8841/data/files/certificate/000000000439/1904b199bc924d1e854453283ac5c815/signed/2081_张欣、卢娟_三等奖_7968.pdf"]
[2082,"P301519089311","LED数码管的检测","中职组","课件","三等奖","中山市",{"$f":"VLOOKUP(B2084,'[1]002'!B:M,7,0)","v":"陈敏"},{"$f":"VLOOKUP(B2084,'[1]002'!B:M,8,0)","v":"中山火炬开发区理工学校"},{"$f":"VLOOKUP(B2084,'[1]002'!B:M,11,0)","v":"何国义"},{"$f":"VLOOKUP(B2084,'[1]002'!B:M,12,0)","v":"中山火炬开发区理工学校"},{"$f":"VLOOKUP(B2084,[2]sheet2!B:L,10,0)","v":"郭文探"},{"$f":"VLOOKUP(B2084,[2]sheet2!B:L,11,0)","v":"中山火炬开发区理工学校"},"http://183.62.54.51:8841/data/files/certificate/000000000439/f9f2055ae30a49bfa110737f3f4874dd/signed/2082_陈敏、何国义、郭文探_三等奖_7969.pdf"]
[2083,"P301519092019","体态礼仪","中职组","课件","三等奖","江门市",{"$f":"VLOOKUP(B2085,'[1]002'!B:M,7,0)","v":"邹菊"},{"$f":"VLOOKUP(B2085,'[1]002'!B:M,8,0)","v":"开平市吴汉良理工学校"},{"$f":"VLOOKUP(B2085,'[1]002'!B:M,11,0)","v":"-"},{"$f":"VLOOKUP(B2085,'[1]002'!B:M,12,0)","v":"-"},{"$f":"VLOOKUP(B2085,[2]sheet2!B:L,10,0)","v":"-"},{"$f":"VLOOKUP(B2085,[2]sheet2!B:L,11,0)","v":"-"},"http://183.62.54.51:8841/data/files/certificate/000000000439/42225ebd1f5849698af13efeb265060d/signed/2083_邹菊_三等奖_7970.pdf"]
[2084,"P301519092067","电气火灾的认识与应对","中职组","课件","三等奖","江门市",{"$f":"VLOOKUP(B2086,'[1]002'!B:M,7,0)","v":"区伟民"},{"$f":"VLOOKUP(B2086,'[1]002'!B:M,8,0)","v":"鹤山市职业技术学校"},{"$f":"VLOOKUP(B2086,'[1]002'!B:M,11,0)","v":"-"},{"$f":"VLOOKUP(B2086,'[1]002'!B:M,12,0)","v":"-"},{"$f":"VLOOKUP(B2086,[2]sheet2!B:L,10,0)","v":"-"},{"$f":"VLOOKUP(B2086,[2]sheet2!B:L,11,0)","v":"-"},"http://183.62.54.51:8841/data/files/certificate/000000000439/9b74cb4a2b854464b82c09dc85ba323e/signed/2084_区伟民_三等奖_7971.pdf"]
[2085,"P301519092352","用Proe扫描特征设计创意产品","中职组","课件","三等奖","江门市",{"$f":"VLOOKUP(B2087,'[1]002'!B:M,7,0)","v":"黎杏"},{"$f":"VLOOKUP(B2087,'[1]002'!B:M,8,0)","v":"台山市培英职业技术学校"},{"$f":"VLOOKUP(B2087,'[1]002'!B:M,11,0)","v":"朱敬忠"},{"$f":"VLOOKUP(B2087,'[1]002'!B:M,12,0)","v":"台山市培英职业技术学校"},{"$f":"VLOOKUP(B2087,[2]sheet2!B:L,10,0)","v":"-"},{"$f":"VLOOKUP(B2087,[2]sheet2!B:L,11,0)","v":"-"},"http://183.62.54.51:8841/data/files/certificate/000000000439/05d5a20ab93d44e48e6caa8d625f227e/signed/2085_黎杏、朱敬忠_三等奖_7972.pdf"]
[2086,"P301519092930","渗漉法","中职组","课件","三等奖","湛江市",{"$f":"VLOOKUP(B2088,'[1]002'!B:M,7,0)","v":"花闻钊"},{"$f":"VLOOKUP(B2088,'[1]002'!B:M,8,0)","v":"广东省湛江卫生学校"},{"$f":"VLOOKUP(B2088,'[1]002'!B:M,11,0)","v":"欧绍淑"},{"$f":"VLOOKUP(B2088,'[1]002'!B:M,12,0)","v":"广东省湛江卫生学校"},{"$f":"VLOOKUP(B2088,[2]sheet2!B:L,10,0)","v":"陈卓君"},{"$f":"VLOOKUP(B2088,[2]sheet2!B:L,11,0)","v":"广东省湛江卫生学校"},"http://183.62.54.51:8841/data/files/certificate/000000000439/3f2bc1ad45914bb68ddf119e5a3270b9/signed/2086_花闻钊、欧绍淑、陈卓君_三等奖_7973.pdf"]
[2087,"P301519092931","蛋白质的性质","中职组","课件","三等奖","湛江市",{"$f":"VLOOKUP(B2089,'[1]002'!B:M,7,0)","v":"彭文毫"},{"$f":"VLOOKUP(B2089,'[1]002'!B:M,8,0)","v":"广东省湛江卫生学校"},{"$f":"VLOOKUP(B2089,'[1]002'!B:M,11,0)","v":"陈炳湘"},{"$f":"VLOOKUP(B2089,'[1]002'!B:M,12,0)","v":"广东省湛江卫生学校"},{"$f":"VLOOKUP(B2089,[2]sheet2!B:L,10,0)","v":"黄俊娴"},{"$f":"VLOOKUP(B2089,[2]sheet2!B:L,11,0)","v":"广东省湛江卫生学校"},"http://183.62.54.51:8841/data/files/certificate/000000000439/02cb4d61ce7b4d758750beea4fcc1f6e/signed/2087_彭文毫、陈炳湘、黄俊娴_三等奖_7974.pdf"]
[2088,"P301519091287","Excel库函数的应用","中职组","课件","三等奖","肇庆市",{"$f":"VLOOKUP(B2090,'[1]002'!B:M,7,0)","v":"任重明"},{"$f":"VLOOKUP(B2090,'[1]002'!B:M,8,0)","v":"肇庆市工业贸易学校"},{"$f":"VLOOKUP(B2090,'[1]002'!B:M,11,0)","v":"-"},{"$f":"VLOOKUP(B2090,'[1]002'!B:M,12,0)","v":"-"},{"$f":"VLOOKUP(B2090,[2]sheet2!B:L,10,0)","v":"-"},{"$f":"VLOOKUP(B2090,[2]sheet2!B:L,11,0)","v":"-"},"http://183.62.54.51:8841/data/files/certificate/000000000439/209071ffa3ee4c9ea51e4b6e7c6e8038/signed/2088_任重明_三等奖_7975.pdf"]
[2089,"P301519091279","超级链接","中职组","课件","三等奖","肇庆市",{"$f":"VLOOKUP(B2091,'[1]002'!B:M,7,0)","v":"黄秀茵"},{"$f":"VLOOKUP(B2091,'[1]002'!B:M,8,0)","v":"怀集县职业技术学校"},{"$f":"VLOOKUP(B2091,'[1]002'!B:M,11,0)","v":"-"},{"$f":"VLOOKUP(B2091,'[1]002'!B:M,12,0)","v":"-"},{"$f":"VLOOKUP(B2091,[2]sheet2!B:L,10,0)","v":"-"},{"$f":"VLOOKUP(B2091,[2]sheet2!B:L,11,0)","v":"-"},"http://183.62.54.51:8841/data/files/certificate/000000000439/61e84b3ee3bb40e88886111022569205/signed/2089_黄秀茵_三等奖_7976.pdf"]
[2090,"P301519091724","Excel数据计算","中职组","课件","三等奖","清远市",{"$f":"VLOOKUP(B2092,'[1]002'!B:M,7,0)","v":"唐婵娟"},{"$f":"VLOOKUP(B2092,'[1]002'!B:M,8,0)","v":"连山职业技术学校"},{"$f":"VLOOKUP(B2092,'[1]002'!B:M,11,0)","v":"-"},{"$f":"VLOOKUP(B2092,'[1]002'!B:M,12,0)","v":"-"},{"$f":"VLOOKUP(B2092,[2]sheet2!B:L,10,0)","v":"-"},{"$f":"VLOOKUP(B2092,[2]sheet2!B:L,11,0)","v":"-"},"http://183.62.54.51:8841/data/files/certificate/000000000439/ad6bf5e72d224ddfbca04bc3e32f778b/signed/2090_唐婵娟_三等奖_7977.pdf"]
[2091,"P301519079743","如何制作GIF","中职组","课件","三等奖","潮州市",{"$f":"VLOOKUP(B2093,'[1]002'!B:M,7,0)","v":"林振宇"},{"$f":"VLOOKUP(B2093,'[1]002'!B:M,8,0)","v":"饶平县贡天职业技术学校"},{"$f":"VLOOKUP(B2093,'[1]002'!B:M,11,0)","v":"-"},{"$f":"VLOOKUP(B2093,'[1]002'!B:M,12,0)","v":"-"},{"$f":"VLOOKUP(B2093,[2]sheet2!B:L,10,0)","v":"-"},{"$f":"VLOOKUP(B2093,[2]sheet2!B:L,11,0)","v":"-"},"http://183.62.54.51:8841/data/files/certificate/000000000439/6ffd0e4d51fe41a9b33c88571f6691d7/signed/2091_林振宇_三等奖_7978.pdf"]
[2092,"P301519080567","静物的配置与构图","中职组","课件","三等奖","潮州市",{"$f":"VLOOKUP(B2094,'[1]002'!B:M,7,0)","v":"张婷"},{"$f":"VLOOKUP(B2094,'[1]002'!B:M,8,0)","v":"潮州市职业技术学校"},{"$f":"VLOOKUP(B2094,'[1]002'!B:M,11,0)","v":"-"},{"$f":"VLOOKUP(B2094,'[1]002'!B:M,12,0)","v":"-"},{"$f":"VLOOKUP(B2094,[2]sheet2!B:L,10,0)","v":"-"},{"$f":"VLOOKUP(B2094,[2]sheet2!B:L,11,0)","v":"-"},"http://183.62.54.51:8841/data/files/certificate/000000000439/dd11b136b17a493bbf69bf8c2d6a2d91/signed/2092_张婷_三等奖_7979.pdf"]
[2093,"P301519081132","计算机系统组成","中职组","课件","三等奖","潮州市",{"$f":"VLOOKUP(B2095,'[1]002'!B:M,7,0)","v":"蔡锦萍"},{"$f":"VLOOKUP(B2095,'[1]002'!B:M,8,0)","v":"潮州市职业技术学校"},{"$f":"VLOOKUP(B2095,'[1]002'!B:M,11,0)","v":"-"},{"$f":"VLOOKUP(B2095,'[1]002'!B:M,12,0)","v":"-"},{"$f":"VLOOKUP(B2095,[2]sheet2!B:L,10,0)","v":"-"},{"$f":"VLOOKUP(B2095,[2]sheet2!B:L,11,0)","v":"-"},"http://183.62.54.51:8841/data/files/certificate/000000000439/ebabfdf51add4d47969d1b08fa75a363/signed/2093_蔡锦萍_三等奖_7980.pdf"]
[2094,"P301519088330","一氧化碳中毒","中职组","课件","三等奖","云浮市",{"$f":"VLOOKUP(B2096,'[1]002'!B:M,7,0)","v":"黎焕容"},{"$f":"VLOOKUP(B2096,'[1]002'!B:M,8,0)","v":"广东省新兴中药学校"},{"$f":"VLOOKUP(B2096,'[1]002'!B:M,11,0)","v":"-"},{"$f":"VLOOKUP(B2096,'[1]002'!B:M,12,0)","v":"-"},{"$f":"VLOOKUP(B2096,[2]sheet2!B:L,10,0)","v":"-"},{"$f":"VLOOKUP(B2096,[2]sheet2!B:L,11,0)","v":"-"},"http://183.62.54.51:8841/data/files/certificate/000000000439/7240c8761123479fb8b5027ed25e9da6/signed/2094_黎焕容_三等奖_7981.pdf"]
[2095,"P302519093184","雨刮的检查与更换","中职组","微课","三等奖","广州市",{"$f":"VLOOKUP(B2097,'[1]002'!B:M,7,0)","v":"宁英毅"},{"$f":"VLOOKUP(B2097,'[1]002'!B:M,8,0)","v":"广州市交通运输职业学校"},{"$f":"VLOOKUP(B2097,'[1]002'!B:M,11,0)","v":"-"},{"$f":"VLOOKUP(B2097,'[1]002'!B:M,12,0)","v":"-"},{"$f":"VLOOKUP(B2097,[2]sheet2!B:L,10,0)","v":"-"},{"$f":"VLOOKUP(B2097,[2]sheet2!B:L,11,0)","v":"-"},"http://183.62.54.51:8841/data/files/certificate/000000000439/5ef24da8c95c4ed1a93372abc6d3d249/signed/2095_宁英毅_三等奖_7982.pdf"]
[2096,"P302519093190","轻松学习Excel 分类汇总","中职组","微课","三等奖","广州市",{"$f":"VLOOKUP(B2098,'[1]002'!B:M,7,0)","v":"闾小燕"},{"$f":"VLOOKUP(B2098,'[1]002'!B:M,8,0)","v":"广州市市政职业学校"},{"$f":"VLOOKUP(B2098,'[1]002'!B:M,11,0)","v":"韦春艳"},{"$f":"VLOOKUP(B2098,'[1]002'!B:M,12,0)","v":"广州市市政职业学校"},{"$f":"VLOOKUP(B2098,[2]sheet2!B:L,10,0)","v":"-"},{"$f":"VLOOKUP(B2098,[2]sheet2!B:L,11,0)","v":"-"},"http://183.62.54.51:8841/data/files/certificate/000000000439/e3c3c707871a4fb58ad5f674c7d514e7/signed/2096_闾小燕、韦春艳_三等奖_7983.pdf"]
[2097,"P302519093188","水浒传之三碗不过岗——品牌设计原则","中职组","微课","三等奖","广州市",{"$f":"VLOOKUP(B2099,'[1]002'!B:M,7,0)","v":"杨春丽"},{"$f":"VLOOKUP(B2099,'[1]002'!B:M,8,0)","v":"广州市商贸职业学校"},{"$f":"VLOOKUP(B2099,'[1]002'!B:M,11,0)","v":"邝宇翔"},{"$f":"VLOOKUP(B2099,'[1]002'!B:M,12,0)","v":"广州市商贸职业学校"},{"$f":"VLOOKUP(B2099,[2]sheet2!B:L,10,0)","v":"-"},{"$f":"VLOOKUP(B2099,[2]sheet2!B:L,11,0)","v":"-"},"http://183.62.54.51:8841/data/files/certificate/000000000439/68f201c88a6b4cf8977190eeccff9f9a/signed/2097_杨春丽、邝宇翔_三等奖_7984.pdf"]
[2098,"P302519093183","剖面图与断面图","中职组","微课","三等奖","广州市",{"$f":"VLOOKUP(B2100,'[1]002'!B:M,7,0)","v":"刘慧娟"},{"$f":"VLOOKUP(B2100,'[1]002'!B:M,8,0)","v":"广州市建筑工程职业学校"},{"$f":"VLOOKUP(B2100,'[1]002'!B:M,11,0)","v":"-"},{"$f":"VLOOKUP(B2100,'[1]002'!B:M,12,0)","v":"-"},{"$f":"VLOOKUP(B2100,[2]sheet2!B:L,10,0)","v":"-"},{"$f":"VLOOKUP(B2100,[2]sheet2!B:L,11,0)","v":"-"},"http://183.62.54.51:8841/data/files/certificate/000000000439/75295eaee3a442b8a443d3fc54cb5324/signed/2098_刘慧娟_三等奖_7985.pdf"]
[2099,"P302519093191","局域网的资源共享设置","中职组","微课","三等奖","广州市",{"$f":"VLOOKUP(B2101,'[1]002'!B:M,7,0)","v":"李志鸿"},{"$f":"VLOOKUP(B2101,'[1]002'!B:M,8,0)","v":"广州市市政职业学校"},{"$f":"VLOOKUP(B2101,'[1]002'!B:M,11,0)","v":"-"},{"$f":"VLOOKUP(B2101,'[1]002'!B:M,12,0)","v":"-"},{"$f":"VLOOKUP(B2101,[2]sheet2!B:L,10,0)","v":"-"},{"$f":"VLOOKUP(B2101,[2]sheet2!B:L,11,0)","v":"-"},"http://183.62.54.51:8841/data/files/certificate/000000000439/389c17ecb539435c8c863eb7eec19d25/signed/2099_李志鸿_三等奖_7986.pdf"]
[2100,"P302519092777","云湃家长 APP     Banner 广告轮播效果","中职组","微课","三等奖","深圳市",{"$f":"VLOOKUP(B2102,'[1]002'!B:M,7,0)","v":"刘磊"},{"$f":"VLOOKUP(B2102,'[1]002'!B:M,8,0)","v":"深圳市福田区华强职业技术学校"},{"$f":"VLOOKUP(B2102,'[1]002'!B:M,11,0)","v":"-"},{"$f":"VLOOKUP(B2102,'[1]002'!B:M,12,0)","v":"-"},{"$f":"VLOOKUP(B2102,[2]sheet2!B:L,10,0)","v":"-"},{"$f":"VLOOKUP(B2102,[2]sheet2!B:L,11,0)","v":"-"},"http://183.62.54.51:8841/data/files/certificate/000000000439/c4156ce3cf3a4664b0decbec26927e22/signed/2100_刘磊_三等奖_7987.pdf"]
[2101,"P302519091916","制作网络跳线","中职组","微课","三等奖","汕头市",{"$f":"VLOOKUP(B2103,'[1]002'!B:M,7,0)","v":"马铁松"},{"$f":"VLOOKUP(B2103,'[1]002'!B:M,8,0)","v":"潮南区职业技术教育中心"},{"$f":"VLOOKUP(B2103,'[1]002'!B:M,11,0)","v":"-"},{"$f":"VLOOKUP(B2103,'[1]002'!B:M,12,0)","v":"-"},{"$f":"VLOOKUP(B2103,[2]sheet2!B:L,10,0)","v":"-"},{"$f":"VLOOKUP(B2103,[2]sheet2!B:L,11,0)","v":"-"},"http://183.62.54.51:8841/data/files/certificate/000000000439/5e15aa0fc6b140f492b0fb4ac5abc345/signed/2101_马铁松_三等奖_7988.pdf"]
[2102,"P302519090566","商务礼仪","中职组","微课","三等奖","佛山市",{"$f":"VLOOKUP(B2104,'[1]002'!B:M,7,0)","v":"饶远慈"},{"$f":"VLOOKUP(B2104,'[1]002'!B:M,8,0)","v":"佛山市三水区工业中等专业学校"},{"$f":"VLOOKUP(B2104,'[1]002'!B:M,11,0)","v":"李唐昭"},{"$f":"VLOOKUP(B2104,'[1]002'!B:M,12,0)","v":"佛山市三水区工业中等专业学校"},{"$f":"VLOOKUP(B2104,[2]sheet2!B:L,10,0)","v":"-"},{"$f":"VLOOKUP(B2104,[2]sheet2!B:L,11,0)","v":"-"},"http://183.62.54.51:8841/data/files/certificate/000000000439/b98bc5cc3f1a414a8f9fd6bcc383ce76/signed/2102_饶远慈、李唐昭_三等奖_7989.pdf"]
[2103,"P302519090558","认识支票","中职组","微课","三等奖","佛山市",{"$f":"VLOOKUP(B2105,'[1]002'!B:M,7,0)","v":"肖菲玫"},{"$f":"VLOOKUP(B2105,'[1]002'!B:M,8,0)","v":"南海信息技术学校"},{"$f":"VLOOKUP(B2105,'[1]002'!B:M,11,0)","v":"-"},{"$f":"VLOOKUP(B2105,'[1]002'!B:M,12,0)","v":"-"},{"$f":"VLOOKUP(B2105,[2]sheet2!B:L,10,0)","v":"-"},{"$f":"VLOOKUP(B2105,[2]sheet2!B:L,11,0)","v":"-"},"http://183.62.54.51:8841/data/files/certificate/000000000439/f4aacbf23f974190b67359df4f40ddaf/signed/2103_肖菲玫_三等奖_7990.pdf"]
[2104,"P302519090554","多边形建模Maya","中职组","微课","三等奖","佛山市",{"$f":"VLOOKUP(B2106,'[1]002'!B:M,7,0)","v":"翟草霞"},{"$f":"VLOOKUP(B2106,'[1]002'!B:M,8,0)","v":"佛山市华材职业技术学校"},{"$f":"VLOOKUP(B2106,'[1]002'!B:M,11,0)","v":"-"},{"$f":"VLOOKUP(B2106,'[1]002'!B:M,12,0)","v":"-"},{"$f":"VLOOKUP(B2106,[2]sheet2!B:L,10,0)","v":"-"},{"$f":"VLOOKUP(B2106,[2]sheet2!B:L,11,0)","v":"-"},"http://183.62.54.51:8841/data/files/certificate/000000000439/8cb18ca51f6c4a068cc4f1389f5d00ad/signed/2104_翟草霞_三等奖_7991.pdf"]
[2105,"P302519090567","个体户电商企业的工商登记","中职组","微课","三等奖","佛山市",{"$f":"VLOOKUP(B2107,'[1]002'!B:M,7,0)","v":"刘琳滢"},{"$f":"VLOOKUP(B2107,'[1]002'!B:M,8,0)","v":"佛山市三水区工业中等专业学校"},{"$f":"VLOOKUP(B2107,'[1]002'!B:M,11,0)","v":"张志瑜"},{"$f":"VLOOKUP(B2107,'[1]002'!B:M,12,0)","v":"佛山市三水区工业中等专业学校"},{"$f":"VLOOKUP(B2107,[2]sheet2!B:L,10,0)","v":"杨敏红"},{"$f":"VLOOKUP(B2107,[2]sheet2!B:L,11,0)","v":"佛山市三水区工业中等专业学校"},"http://183.62.54.51:8841/data/files/certificate/000000000439/7dd16cdcd41345338326c313c387284a/signed/2105_刘琳滢、张志瑜、杨敏红_三等奖_7992.pdf"]
[2106,"P302519093282","3D打印轴承座","中职组","微课","三等奖","河源市",{"$f":"VLOOKUP(B2108,'[1]002'!B:M,7,0)","v":"郑晓彤"},{"$f":"VLOOKUP(B2108,'[1]002'!B:M,8,0)","v":"河源理工学校"},{"$f":"VLOOKUP(B2108,'[1]002'!B:M,11,0)","v":"彭晓航"},{"$f":"VLOOKUP(B2108,'[1]002'!B:M,12,0)","v":"河源理工学校"},{"$f":"VLOOKUP(B2108,[2]sheet2!B:L,10,0)","v":"-"},{"$f":"VLOOKUP(B2108,[2]sheet2!B:L,11,0)","v":"-"},"http://183.62.54.51:8841/data/files/certificate/000000000439/ca7a643c7a8a4ec89100f99be656024f/signed/2106_郑晓彤、彭晓航_三等奖_7993.pdf"]
[2107,"P302519093281","端接信息模块","中职组","微课","三等奖","河源市",{"$f":"VLOOKUP(B2109,'[1]002'!B:M,7,0)","v":"刘辉"},{"$f":"VLOOKUP(B2109,'[1]002'!B:M,8,0)","v":"河源理工学校"},{"$f":"VLOOKUP(B2109,'[1]002'!B:M,11,0)","v":"-"},{"$f":"VLOOKUP(B2109,'[1]002'!B:M,12,0)","v":"-"},{"$f":"VLOOKUP(B2109,[2]sheet2!B:L,10,0)","v":"-"},{"$f":"VLOOKUP(B2109,[2]sheet2!B:L,11,0)","v":"-"},"http://183.62.54.51:8841/data/files/certificate/000000000439/57f8b80198b341bc9c26004a369099cf/signed/2107_刘辉_三等奖_7994.pdf"]
[2108,"P302519093283","内分泌系统","中职组","微课","三等奖","河源市",{"$f":"VLOOKUP(B2110,'[1]002'!B:M,7,0)","v":"梁曼容"},{"$f":"VLOOKUP(B2110,'[1]002'!B:M,8,0)","v":"河源市职业技术学校"},{"$f":"VLOOKUP(B2110,'[1]002'!B:M,11,0)","v":"-"},{"$f":"VLOOKUP(B2110,'[1]002'!B:M,12,0)","v":"-"},{"$f":"VLOOKUP(B2110,[2]sheet2!B:L,10,0)","v":"-"},{"$f":"VLOOKUP(B2110,[2]sheet2!B:L,11,0)","v":"-"},"http://183.62.54.51:8841/data/files/certificate/000000000439/82cc3dd1459848cebc169d0660deba8e/signed/2108_梁曼容_三等奖_7995.pdf"]
[2109,"P302519080388","偶遇上互联网","中职组","微课","三等奖","梅州市",{"$f":"VLOOKUP(B2111,'[1]002'!B:M,7,0)","v":"吴琼祥"},{"$f":"VLOOKUP(B2111,'[1]002'!B:M,8,0)","v":"梅州城西职业技术学校"},{"$f":"VLOOKUP(B2111,'[1]002'!B:M,11,0)","v":"-"},{"$f":"VLOOKUP(B2111,'[1]002'!B:M,12,0)","v":"-"},{"$f":"VLOOKUP(B2111,[2]sheet2!B:L,10,0)","v":"-"},{"$f":"VLOOKUP(B2111,[2]sheet2!B:L,11,0)","v":"-"},"http://183.62.54.51:8841/data/files/certificate/000000000439/40d7a0802a28415d92355f15df23ade1/signed/2109_吴琼祥_三等奖_7996.pdf"]
[2110,"P302519087119","计算机硬件系统","中职组","微课","三等奖","梅州市",{"$f":"VLOOKUP(B2112,'[1]002'!B:M,7,0)","v":"章盼伟"},{"$f":"VLOOKUP(B2112,'[1]002'!B:M,8,0)","v":"梅州市梅县区第一职业学校"},{"$f":"VLOOKUP(B2112,'[1]002'!B:M,11,0)","v":"-"},{"$f":"VLOOKUP(B2112,'[1]002'!B:M,12,0)","v":"-"},{"$f":"VLOOKUP(B2112,[2]sheet2!B:L,10,0)","v":"-"},{"$f":"VLOOKUP(B2112,[2]sheet2!B:L,11,0)","v":"-"},"http://183.62.54.51:8841/data/files/certificate/000000000439/0549c7482a584a96bdae9a6ef35f43c6/signed/2110_章盼伟_三等奖_7997.pdf"]
[2111,"P302519092602","圆的标准方程","中职组","微课","三等奖","东莞市",{"$f":"VLOOKUP(B2113,'[1]002'!B:M,7,0)","v":"高晶"},{"$f":"VLOOKUP(B2113,'[1]002'!B:M,8,0)","v":"东莞市机电工程学校"},{"$f":"VLOOKUP(B2113,'[1]002'!B:M,11,0)","v":"张亚男"},{"$f":"VLOOKUP(B2113,'[1]002'!B:M,12,0)","v":"东莞市机电工程学校"},{"$f":"VLOOKUP(B2113,[2]sheet2!B:L,10,0)","v":"马春雷"},{"$f":"VLOOKUP(B2113,[2]sheet2!B:L,11,0)","v":"东莞市机电工程学校"},"http://183.62.54.51:8841/data/files/certificate/000000000439/5ab7ad83d7ee48ac8f6be70e62bc07f2/signed/2111_高晶、张亚男、马春雷_三等奖_7998.pdf"]
[2112,"P302519092601","同角三角函数基本关系式的运用1","中职组","微课","三等奖","东莞市",{"$f":"VLOOKUP(B2114,'[1]002'!B:M,7,0)","v":"王统增"},{"$f":"VLOOKUP(B2114,'[1]002'!B:M,8,0)","v":"东莞市商业学校"},{"$f":"VLOOKUP(B2114,'[1]002'!B:M,11,0)","v":"-"},{"$f":"VLOOKUP(B2114,'[1]002'!B:M,12,0)","v":"-"},{"$f":"VLOOKUP(B2114,[2]sheet2!B:L,10,0)","v":"-"},{"$f":"VLOOKUP(B2114,[2]sheet2!B:L,11,0)","v":"-"},"http://183.62.54.51:8841/data/files/certificate/000000000439/f63986c9ff3f4afbb4ab95b8896d3d2d/signed/2112_王统增_三等奖_7999.pdf"]
[2113,"P302519092600","蛋白打发","中职组","微课","三等奖","东莞市",{"$f":"VLOOKUP(B2115,'[1]002'!B:M,7,0)","v":"边若男"},{"$f":"VLOOKUP(B2115,'[1]002'!B:M,8,0)","v":"东莞市轻工业学校"},{"$f":"VLOOKUP(B2115,'[1]002'!B:M,11,0)","v":"陈曼"},{"$f":"VLOOKUP(B2115,'[1]002'!B:M,12,0)","v":"东莞市轻工业学校"},{"$f":"VLOOKUP(B2115,[2]sheet2!B:L,10,0)","v":"姚志添"},{"$f":"VLOOKUP(B2115,[2]sheet2!B:L,11,0)","v":"东莞市轻工业学校"},"http://183.62.54.51:8841/data/files/certificate/000000000439/eafb9eac450947399bd525ea3788e845/signed/2113_边若男、陈曼、姚志添_三等奖_8000.pdf"]
[2114,"P302519092607","合同履行的原则","中职组","微课","三等奖","东莞市",{"$f":"VLOOKUP(B2116,'[1]002'!B:M,7,0)","v":"黄小燕"},{"$f":"VLOOKUP(B2116,'[1]002'!B:M,8,0)","v":"东莞市信息技术学校"},{"$f":"VLOOKUP(B2116,'[1]002'!B:M,11,0)","v":"刘梦"},{"$f":"VLOOKUP(B2116,'[1]002'!B:M,12,0)","v":"东莞市信息技术学校"},{"$f":"VLOOKUP(B2116,[2]sheet2!B:L,10,0)","v":"宋晓红"},{"$f":"VLOOKUP(B2116,[2]sheet2!B:L,11,0)","v":"东莞市信息技术学校"},"http://183.62.54.51:8841/data/files/certificate/000000000439/7818b58d06624670b921be25df97b7db/signed/2114_黄小燕、刘梦、宋晓红_三等奖_8001.pdf"]
[2115,"P302519092595","Excel图表实际应用","中职组","微课","三等奖","东莞市",{"$f":"VLOOKUP(B2117,'[1]002'!B:M,7,0)","v":"谢培璇"},{"$f":"VLOOKUP(B2117,'[1]002'!B:M,8,0)","v":"东莞市信息技术学校"},{"$f":"VLOOKUP(B2117,'[1]002'!B:M,11,0)","v":"李永晓"},{"$f":"VLOOKUP(B2117,'[1]002'!B:M,12,0)","v":"东莞市信息技术学校"},{"$f":"VLOOKUP(B2117,[2]sheet2!B:L,10,0)","v":"邢彦年"},{"$f":"VLOOKUP(B2117,[2]sheet2!B:L,11,0)","v":"东莞市信息技术学校"},"http://183.62.54.51:8841/data/files/certificate/000000000439/87942cb0b6d74ed5830c528f3b376d99/signed/2115_谢培璇、李永晓、邢彦年_三等奖_8002.pdf"]
[2116,"P302519092597","藏在地图里的数据","中职组","微课","三等奖","东莞市",{"$f":"VLOOKUP(B2118,'[1]002'!B:M,7,0)","v":"邹锰"},{"$f":"VLOOKUP(B2118,'[1]002'!B:M,8,0)","v":"东莞理工学校"},{"$f":"VLOOKUP(B2118,'[1]002'!B:M,11,0)","v":"黄建威"},{"$f":"VLOOKUP(B2118,'[1]002'!B:M,12,0)","v":"东莞理工学校"},{"$f":"VLOOKUP(B2118,[2]sheet2!B:L,10,0)","v":"阳莉"},{"$f":"VLOOKUP(B2118,[2]sheet2!B:L,11,0)","v":"东莞理工学校"},"http://183.62.54.51:8841/data/files/certificate/000000000439/72a831648cd042b6a46f1a3fc0025406/signed/2116_邹锰、黄建威、阳莉_三等奖_8003.pdf"]
[2117,"P302519092606","网店商品图细节设计","中职组","微课","三等奖","东莞市",{"$f":"VLOOKUP(B2119,'[1]002'!B:M,7,0)","v":"陈舒敏"},{"$f":"VLOOKUP(B2119,'[1]002'!B:M,8,0)","v":"东莞市信息技术学校"},{"$f":"VLOOKUP(B2119,'[1]002'!B:M,11,0)","v":"王强珍"},{"$f":"VLOOKUP(B2119,'[1]002'!B:M,12,0)","v":"东莞市信息技术学校"},{"$f":"VLOOKUP(B2119,[2]sheet2!B:L,10,0)","v":"-"},{"$f":"VLOOKUP(B2119,[2]sheet2!B:L,11,0)","v":"-"},"http://183.62.54.51:8841/data/files/certificate/000000000439/e6ed91713bff40d08145206987deb87d/signed/2117_陈舒敏、王强珍_三等奖_8004.pdf"]
[2118,"P302519092045","超声波距离传感器的综合应用","中职组","微课","三等奖","江门市",{"$f":"VLOOKUP(B2120,'[1]002'!B:M,7,0)","v":"黄春恒"},{"$f":"VLOOKUP(B2120,'[1]002'!B:M,8,0)","v":"台山市敬修职业技术学校"},{"$f":"VLOOKUP(B2120,'[1]002'!B:M,11,0)","v":"黄荣新"},{"$f":"VLOOKUP(B2120,'[1]002'!B:M,12,0)","v":"台山市敬修职业技术学校"},{"$f":"VLOOKUP(B2120,[2]sheet2!B:L,10,0)","v":"范陈强"},{"$f":"VLOOKUP(B2120,[2]sheet2!B:L,11,0)","v":"台山市敬修职业技术学校"},"http://183.62.54.51:8841/data/files/certificate/000000000439/617c5d4bcf1a46539a958707071a3c3a/signed/2118_黄春恒、黄荣新、范陈强_三等奖_8005.pdf"]
[2119,"P302519092044","胸部叩击及有效咳嗽","中职组","微课","三等奖","江门市",{"$f":"VLOOKUP(B2121,'[1]002'!B:M,7,0)","v":"何玉宝"},{"$f":"VLOOKUP(B2121,'[1]002'!B:M,8,0)","v":"台山市敬修职业技术学校"},{"$f":"VLOOKUP(B2121,'[1]002'!B:M,11,0)","v":"赵美娜"},{"$f":"VLOOKUP(B2121,'[1]002'!B:M,12,0)","v":"台山市敬修职业技术学校"},{"$f":"VLOOKUP(B2121,[2]sheet2!B:L,10,0)","v":"李进"},{"$f":"VLOOKUP(B2121,[2]sheet2!B:L,11,0)","v":"台山市敬修职业技术学校"},"http://183.62.54.51:8841/data/files/certificate/000000000439/953002dd0e154d89b56a87fa91fe37b2/signed/2119_何玉宝、赵美娜、李进_三等奖_8006.pdf"]
[2120,"P302519092021","叉车叉取卸载托盘","中职组","微课","三等奖","江门市",{"$f":"VLOOKUP(B2122,'[1]002'!B:M,7,0)","v":"温志海"},{"$f":"VLOOKUP(B2122,'[1]002'!B:M,8,0)","v":"开平市吴汉良理工学校"},{"$f":"VLOOKUP(B2122,'[1]002'!B:M,11,0)","v":"-"},{"$f":"VLOOKUP(B2122,'[1]002'!B:M,12,0)","v":"-"},{"$f":"VLOOKUP(B2122,[2]sheet2!B:L,10,0)","v":"-"},{"$f":"VLOOKUP(B2122,[2]sheet2!B:L,11,0)","v":"-"},"http://183.62.54.51:8841/data/files/certificate/000000000439/d9d0ec78e89e440f963e9d9280e5b462/signed/2120_温志海_三等奖_8007.pdf"]
[2121,"P302519092941","微量血糖测定","中职组","微课","三等奖","湛江市",{"$f":"VLOOKUP(B2123,'[1]002'!B:M,7,0)","v":"张翠玉"},{"$f":"VLOOKUP(B2123,'[1]002'!B:M,8,0)","v":"广东省湛江卫生学校"},{"$f":"VLOOKUP(B2123,'[1]002'!B:M,11,0)","v":"廖树政"},{"$f":"VLOOKUP(B2123,'[1]002'!B:M,12,0)","v":"广东省湛江卫生学校"},{"$f":"VLOOKUP(B2123,[2]sheet2!B:L,10,0)","v":"-"},{"$f":"VLOOKUP(B2123,[2]sheet2!B:L,11,0)","v":"-"},"http://183.62.54.51:8841/data/files/certificate/000000000439/bdeef26c148541ac8b4e3bd33b963bf7/signed/2121_张翠玉、廖树政_三等奖_8008.pdf"]
[2122,"P302519092939","信用证收付流程","中职组","微课","三等奖","湛江市",{"$f":"VLOOKUP(B2124,'[1]002'!B:M,7,0)","v":"陈小聪"},{"$f":"VLOOKUP(B2124,'[1]002'!B:M,8,0)","v":"湛江财贸中等专业学校"},{"$f":"VLOOKUP(B2124,'[1]002'!B:M,11,0)","v":"房昱芳"},{"$f":"VLOOKUP(B2124,'[1]002'!B:M,12,0)","v":"湛江财贸中等专业学校"},{"$f":"VLOOKUP(B2124,[2]sheet2!B:L,10,0)","v":"-"},{"$f":"VLOOKUP(B2124,[2]sheet2!B:L,11,0)","v":"-"},"http://183.62.54.51:8841/data/files/certificate/000000000439/e2a7608798bb45cd941e5f527624b790/signed/2122_陈小聪、房昱芳_三等奖_8009.pdf"]
[2123,"P302519092944","手术器械辨认之钳类","中职组","微课","三等奖","湛江市",{"$f":"VLOOKUP(B2125,'[1]002'!B:M,7,0)","v":"黄益苗"},{"$f":"VLOOKUP(B2125,'[1]002'!B:M,8,0)","v":"广东省湛江卫生学校"},{"$f":"VLOOKUP(B2125,'[1]002'!B:M,11,0)","v":"王开炳"},{"$f":"VLOOKUP(B2125,'[1]002'!B:M,12,0)","v":"广东省湛江卫生学校"},{"$f":"VLOOKUP(B2125,[2]sheet2!B:L,10,0)","v":"刘美鹏"},{"$f":"VLOOKUP(B2125,[2]sheet2!B:L,11,0)","v":"广东省湛江卫生学校"},"http://183.62.54.51:8841/data/files/certificate/000000000439/53f0fed7712a49a9b7dfcdd21884cf3c/signed/2123_黄益苗、王开炳、刘美鹏_三等奖_8010.pdf"]
[2124,"P302519092935","分娩机制","中职组","微课","三等奖","湛江市",{"$f":"VLOOKUP(B2126,'[1]002'!B:M,7,0)","v":"闫金凤"},{"$f":"VLOOKUP(B2126,'[1]002'!B:M,8,0)","v":"广东省湛江卫生学校"},{"$f":"VLOOKUP(B2126,'[1]002'!B:M,11,0)","v":"林春梅"},{"$f":"VLOOKUP(B2126,'[1]002'!B:M,12,0)","v":"广东省湛江卫生学校"},{"$f":"VLOOKUP(B2126,[2]sheet2!B:L,10,0)","v":"林  新"},{"$f":"VLOOKUP(B2126,[2]sheet2!B:L,11,0)","v":"广东省湛江卫生学校"},"http://183.62.54.51:8841/data/files/certificate/000000000439/c139aae9f3364aed8dc13447d8af54bf/signed/2124_闫金凤、林春梅、林新_三等奖_8011.pdf"]
[2125,"P302519092943","Photoshop发丝抠图—通道","中职组","微课","三等奖","湛江市",{"$f":"VLOOKUP(B2127,'[1]002'!B:M,7,0)","v":"李春兰"},{"$f":"VLOOKUP(B2127,'[1]002'!B:M,8,0)","v":"湛江财贸中等专业学校"},{"$f":"VLOOKUP(B2127,'[1]002'!B:M,11,0)","v":"-"},{"$f":"VLOOKUP(B2127,'[1]002'!B:M,12,0)","v":"-"},{"$f":"VLOOKUP(B2127,[2]sheet2!B:L,10,0)","v":"-"},{"$f":"VLOOKUP(B2127,[2]sheet2!B:L,11,0)","v":"-"},"http://183.62.54.51:8841/data/files/certificate/000000000439/95648d718ad640fdb4547fc9250f9ebe/signed/2125_李春兰_三等奖_8012.pdf"]
[2126,"P302519092940","八分钟教你学会红字更正法","中职组","微课","三等奖","湛江市",{"$f":"VLOOKUP(B2128,'[1]002'!B:M,7,0)","v":"骆丽娜"},{"$f":"VLOOKUP(B2128,'[1]002'!B:M,8,0)","v":"湛江财贸中等专业学校"},{"$f":"VLOOKUP(B2128,'[1]002'!B:M,11,0)","v":"陈舒静"},{"$f":"VLOOKUP(B2128,'[1]002'!B:M,12,0)","v":"湛江财贸中等专业学校"},{"$f":"VLOOKUP(B2128,[2]sheet2!B:L,10,0)","v":"郑翠萍"},{"$f":"VLOOKUP(B2128,[2]sheet2!B:L,11,0)","v":"湛江财贸中等专业学校"},"http://183.62.54.51:8841/data/files/certificate/000000000439/16dfb348621d4f519b80ccfd69cacda5/signed/2126_骆丽娜、陈舒静、郑翠萍_三等奖_8013.pdf"]
[2127,"P302519091339","成角透视","中职组","微课","三等奖","茂名市",{"$f":"VLOOKUP(B2129,'[1]002'!B:M,7,0)","v":"陈秋丽"},{"$f":"VLOOKUP(B2129,'[1]002'!B:M,8,0)","v":"信宜市职业技术学校"},{"$f":"VLOOKUP(B2129,'[1]002'!B:M,11,0)","v":"-"},{"$f":"VLOOKUP(B2129,'[1]002'!B:M,12,0)","v":"-"},{"$f":"VLOOKUP(B2129,[2]sheet2!B:L,10,0)","v":"-"},{"$f":"VLOOKUP(B2129,[2]sheet2!B:L,11,0)","v":"-"},"http://183.62.54.51:8841/data/files/certificate/000000000439/82e8b6a5e2454a92b59c17fa887df0d4/signed/2127_陈秋丽_三等奖_8014.pdf"]
[2128,"P302519091426","路灯控制电路的安装","中职组","微课","三等奖","茂名市",{"$f":"VLOOKUP(B2130,'[1]002'!B:M,7,0)","v":"崔海城"},{"$f":"VLOOKUP(B2130,'[1]002'!B:M,8,0)","v":"茂名市第一职业技术学校"},{"$f":"VLOOKUP(B2130,'[1]002'!B:M,11,0)","v":"-"},{"$f":"VLOOKUP(B2130,'[1]002'!B:M,12,0)","v":"-"},{"$f":"VLOOKUP(B2130,[2]sheet2!B:L,10,0)","v":"-"},{"$f":"VLOOKUP(B2130,[2]sheet2!B:L,11,0)","v":"-"},"http://183.62.54.51:8841/data/files/certificate/000000000439/5cbbb48ee18d43f08b0eb4de5d806e66/signed/2128_崔海城_三等奖_8015.pdf"]
[2129,"P302519091373","制作图像的倒影效果","中职组","微课","三等奖","茂名市",{"$f":"VLOOKUP(B2131,'[1]002'!B:M,7,0)","v":"王嫄嫄"},{"$f":"VLOOKUP(B2131,'[1]002'!B:M,8,0)","v":"茂名市第二职业技术学校"},{"$f":"VLOOKUP(B2131,'[1]002'!B:M,11,0)","v":"梁翠婷"},{"$f":"VLOOKUP(B2131,'[1]002'!B:M,12,0)","v":"茂名市第二职业技术学校"},{"$f":"VLOOKUP(B2131,[2]sheet2!B:L,10,0)","v":"龚陈平"},{"$f":"VLOOKUP(B2131,[2]sheet2!B:L,11,0)","v":"茂名市第二职业技术学校"},"http://183.62.54.51:8841/data/files/certificate/000000000439/7baab721439f41fc98c84cf616acfdc3/signed/2129_王嫄嫄、梁翠婷、龚陈平_三等奖_8016.pdf"]
[2130,"P302519090282","邮件合并","中职组","微课","三等奖","肇庆市",{"$f":"VLOOKUP(B2132,'[1]002'!B:M,7,0)","v":"伍倩欣"},{"$f":"VLOOKUP(B2132,'[1]002'!B:M,8,0)","v":"肇庆市高要区中等职业学校"},{"$f":"VLOOKUP(B2132,'[1]002'!B:M,11,0)","v":"-"},{"$f":"VLOOKUP(B2132,'[1]002'!B:M,12,0)","v":"-"},{"$f":"VLOOKUP(B2132,[2]sheet2!B:L,10,0)","v":"-"},{"$f":"VLOOKUP(B2132,[2]sheet2!B:L,11,0)","v":"-"},"http://183.62.54.51:8841/data/files/certificate/000000000439/7a563203fc0c4625b6f6c668270d21c0/signed/2130_伍倩欣_三等奖_8017.pdf"]
[2131,"P302519089572","由知否里的茶事还原宋代七汤点茶法","中职组","微课","三等奖","潮州市",{"$f":"VLOOKUP(B2133,'[1]002'!B:M,7,0)","v":"谢美瑶"},{"$f":"VLOOKUP(B2133,'[1]002'!B:M,8,0)","v":"潮州市职业技术学校"},{"$f":"VLOOKUP(B2133,'[1]002'!B:M,11,0)","v":"-"},{"$f":"VLOOKUP(B2133,'[1]002'!B:M,12,0)","v":"-"},{"$f":"VLOOKUP(B2133,[2]sheet2!B:L,10,0)","v":"-"},{"$f":"VLOOKUP(B2133,[2]sheet2!B:L,11,0)","v":"-"},"http://183.62.54.51:8841/data/files/certificate/000000000439/69af760e85fc40a5896300483c67a5ad/signed/2131_谢美瑶_三等奖_8018.pdf"]
[2132,"P301519080296","在局域网内设置打印机共享","中职组","微课","三等奖","潮州市",{"$f":"VLOOKUP(B2134,'[1]002'!B:M,7,0)","v":"蔡阳"},{"$f":"VLOOKUP(B2134,'[1]002'!B:M,8,0)","v":"潮州市职业技术学校"},{"$f":"VLOOKUP(B2134,'[1]002'!B:M,11,0)","v":"-"},{"$f":"VLOOKUP(B2134,'[1]002'!B:M,12,0)","v":"-"},{"$f":"VLOOKUP(B2134,[2]sheet2!B:L,10,0)","v":"-"},{"$f":"VLOOKUP(B2134,[2]sheet2!B:L,11,0)","v":"-"},"http://183.62.54.51:8841/data/files/certificate/000000000439/5c6b19190d6d4c5b8b445ab988d73d38/signed/2132_蔡阳_三等奖_8019.pdf"]
[2133,"P302519087615","随机函数","中职组","微课","三等奖","潮州市",{"$f":"VLOOKUP(B2135,'[1]002'!B:M,7,0)","v":"张良环"},{"$f":"VLOOKUP(B2135,'[1]002'!B:M,8,0)","v":"饶平县贡天职业技术学校"},{"$f":"VLOOKUP(B2135,'[1]002'!B:M,11,0)","v":"-"},{"$f":"VLOOKUP(B2135,'[1]002'!B:M,12,0)","v":"-"},{"$f":"VLOOKUP(B2135,[2]sheet2!B:L,10,0)","v":"-"},{"$f":"VLOOKUP(B2135,[2]sheet2!B:L,11,0)","v":"-"},"http://183.62.54.51:8841/data/files/certificate/000000000439/027cb93e5fac4329b606f5241e6205b4/signed/2133_张良环_三等奖_8020.pdf"]
[2134,"P302519087993","最小系统组装","中职组","微课","三等奖","云浮市",{"$f":"VLOOKUP(B2136,'[1]002'!B:M,7,0)","v":"邝梓键"},{"$f":"VLOOKUP(B2136,'[1]002'!B:M,8,0)","v":"郁南县职业技术学校"},{"$f":"VLOOKUP(B2136,'[1]002'!B:M,11,0)","v":"-"},{"$f":"VLOOKUP(B2136,'[1]002'!B:M,12,0)","v":"-"},{"$f":"VLOOKUP(B2136,[2]sheet2!B:L,10,0)","v":"-"},{"$f":"VLOOKUP(B2136,[2]sheet2!B:L,11,0)","v":"-"},"http://183.62.54.51:8841/data/files/certificate/000000000439/15e948d9d1614ceb98207b3f87371407/signed/2134_邝梓键_三等奖_8021.pdf"]
[2135,"P302519079360","医药产品整体概念","中职组","微课","三等奖","云浮市",{"$f":"VLOOKUP(B2137,'[1]002'!B:M,7,0)","v":"邓智中"},{"$f":"VLOOKUP(B2137,'[1]002'!B:M,8,0)","v":"广东省新兴中药学校"},{"$f":"VLOOKUP(B2137,'[1]002'!B:M,11,0)","v":"陶敏婕"},{"$f":"VLOOKUP(B2137,'[1]002'!B:M,12,0)","v":"广东省新兴中药学校"},{"$f":"VLOOKUP(B2137,[2]sheet2!B:L,10,0)","v":"梁爱华"},{"$f":"VLOOKUP(B2137,[2]sheet2!B:L,11,0)","v":"广东省新兴中药学校"},"http://183.62.54.51:8841/data/files/certificate/000000000439/557e097ad8ff407b954df5469e79c09c/signed/2135_邓智中、陶敏婕、梁爱华_三等奖_8022.pdf"]
[2136,"P302519090478","双绞线水晶头的制作","中职组","微课","三等奖","云浮市",{"$f":"VLOOKUP(B2138,'[1]002'!B:M,7,0)","v":"彭意连"},{"$f":"VLOOKUP(B2138,'[1]002'!B:M,8,0)","v":"罗定市中等职业技术学校"},{"$f":"VLOOKUP(B2138,'[1]002'!B:M,11,0)","v":"-"},{"$f":"VLOOKUP(B2138,'[1]002'!B:M,12,0)","v":"-"},{"$f":"VLOOKUP(B2138,[2]sheet2!B:L,10,0)","v":"-"},{"$f":"VLOOKUP(B2138,[2]sheet2!B:L,11,0)","v":"-"},"http://183.62.54.51:8841/data/files/certificate/000000000439/fc5cfeabff1945f68cb5acfa16901930/signed/2136_彭意连_三等奖_8023.pdf"]
[2137,"P302519080649","圣诞贺卡","中职组","微课","三等奖","云浮市",{"$f":"VLOOKUP(B2139,'[1]002'!B:M,7,0)","v":"张峰"},{"$f":"VLOOKUP(B2139,'[1]002'!B:M,8,0)","v":"新兴理工学校"},{"$f":"VLOOKUP(B2139,'[1]002'!B:M,11,0)","v":"-"},{"$f":"VLOOKUP(B2139,'[1]002'!B:M,12,0)","v":"-"},{"$f":"VLOOKUP(B2139,[2]sheet2!B:L,10,0)","v":"-"},{"$f":"VLOOKUP(B2139,[2]sheet2!B:L,11,0)","v":"-"},"http://183.62.54.51:8841/data/files/certificate/000000000439/3acfa299916e4bf5a45dba3cc4d86c4a/signed/2137_张峰_三等奖_8024.pdf"]
[2138,"P303519093194","居民燃气入户安检—隐患排查","中职组","信息化教学课程案例","三等奖","广州市",{"$f":"VLOOKUP(B2140,'[1]002'!B:M,7,0)","v":"冯晶琛"},{"$f":"VLOOKUP(B2140,'[1]002'!B:M,8,0)","v":"广州市交通运输职业学校"},{"$f":"VLOOKUP(B2140,'[1]002'!B:M,11,0)","v":"李刚"},{"$f":"VLOOKUP(B2140,'[1]002'!B:M,12,0)","v":"广州市交通运输职业学校"},{"$f":"VLOOKUP(B2140,[2]sheet2!B:L,10,0)","v":"曾彦铭"},{"$f":"VLOOKUP(B2140,[2]sheet2!B:L,11,0)","v":"广州市交通运输职业学校"},"http://183.62.54.51:8841/data/files/certificate/000000000439/e91aba791c144d4297946735c1d5818e/signed/2138_冯晶琛、李刚、曾彦铭_三等奖_8025.pdf"]
[2139,"P303519093196","分类汇总的使用","中职组","信息化教学课程案例","三等奖","广州市",{"$f":"VLOOKUP(B2141,'[1]002'!B:M,7,0)","v":"王翔"},{"$f":"VLOOKUP(B2141,'[1]002'!B:M,8,0)","v":"广州市土地房产管理职业学校"},{"$f":"VLOOKUP(B2141,'[1]002'!B:M,11,0)","v":"袁嘉"},{"$f":"VLOOKUP(B2141,'[1]002'!B:M,12,0)","v":"广州市土地房产管理职业学校"},{"$f":"VLOOKUP(B2141,[2]sheet2!B:L,10,0)","v":"彭玉蓉"},{"$f":"VLOOKUP(B2141,[2]sheet2!B:L,11,0)","v":"-"},"http://183.62.54.51:8841/data/files/certificate/000000000439/be82f14dd09542b5b364e4a0b60fc748/signed/2139_王翔、袁嘉、彭玉蓉_三等奖_8026.pdf"]
[2140,"P303519093192","钢琴弹奏与即兴伴奏","中职组","信息化教学课程案例","三等奖","广州市",{"$f":"VLOOKUP(B2142,'[1]002'!B:M,7,0)","v":"王安琪"},{"$f":"VLOOKUP(B2142,'[1]002'!B:M,8,0)","v":"广州市司法职业学校"},{"$f":"VLOOKUP(B2142,'[1]002'!B:M,11,0)","v":"许婉"},{"$f":"VLOOKUP(B2142,'[1]002'!B:M,12,0)","v":"广州市司法职业学校"},{"$f":"VLOOKUP(B2142,[2]sheet2!B:L,10,0)","v":"刘思勤"},{"$f":"VLOOKUP(B2142,[2]sheet2!B:L,11,0)","v":"广州市司法职业学校"},"http://183.62.54.51:8841/data/files/certificate/000000000439/a34890fac03a4676988a1d0a8571a604/signed/2140_王安琪、许婉、刘思勤_三等奖_8027.pdf"]
[2141,"P303519093201","IM营销技巧的应用","中职组","信息化教学课程案例","三等奖","广州市",{"$f":"VLOOKUP(B2143,'[1]002'!B:M,7,0)","v":"卢玙"},{"$f":"VLOOKUP(B2143,'[1]002'!B:M,8,0)","v":"广州市增城区东方职业技术学校"},{"$f":"VLOOKUP(B2143,'[1]002'!B:M,11,0)","v":"徐锐杰"},{"$f":"VLOOKUP(B2143,'[1]002'!B:M,12,0)","v":"广州市增城区东方职业技术学校"},{"$f":"VLOOKUP(B2143,[2]sheet2!B:L,10,0)","v":"李住宁"},{"$f":"VLOOKUP(B2143,[2]sheet2!B:L,11,0)","v":"广州市增城区东方职业技术学校"},"http://183.62.54.51:8841/data/files/certificate/000000000439/0c20132ea8f44136a02e5ef7876df5dd/signed/2141_卢玙、徐锐杰、李住宁_三等奖_8028.pdf"]
[2142,"P303519092769","比喻在商品文案中的运用——荷塘月色综合实践活动","中职组","信息化教学课程案例","三等奖","深圳市",{"$f":"VLOOKUP(B2144,'[1]002'!B:M,7,0)","v":"林森森"},{"$f":"VLOOKUP(B2144,'[1]002'!B:M,8,0)","v":"深圳市第二职业技术学校"},{"$f":"VLOOKUP(B2144,'[1]002'!B:M,11,0)","v":"-"},{"$f":"VLOOKUP(B2144,'[1]002'!B:M,12,0)","v":"-"},{"$f":"VLOOKUP(B2144,[2]sheet2!B:L,10,0)","v":"-"},{"$f":"VLOOKUP(B2144,[2]sheet2!B:L,11,0)","v":"-"},"http://183.62.54.51:8841/data/files/certificate/000000000439/d97dad83c61e4c25a10c21a3c9ffc475/signed/2142_林森森_三等奖_8029.pdf"]
[2143,"P303519092771","错账更正法","中职组","信息化教学课程案例","三等奖","深圳市",{"$f":"VLOOKUP(B2145,'[1]002'!B:M,7,0)","v":"游美君"},{"$f":"VLOOKUP(B2145,'[1]002'!B:M,8,0)","v":"深圳市第二职业技术学校"},{"$f":"VLOOKUP(B2145,'[1]002'!B:M,11,0)","v":"杨茜"},{"$f":"VLOOKUP(B2145,'[1]002'!B:M,12,0)","v":"深圳市第二职业技术学校"},{"$f":"VLOOKUP(B2145,[2]sheet2!B:L,10,0)","v":"邓立焘"},{"$f":"VLOOKUP(B2145,[2]sheet2!B:L,11,0)","v":"深圳市第二职业技术学校"},"http://183.62.54.51:8841/data/files/certificate/000000000439/9a40f949d6884371b8211e409f9f916f/signed/2143_游美君、杨茜、邓立焘_三等奖_8030.pdf"]
[2144,"P303519090602","荷塘月色","中职组","信息化教学课程案例","三等奖","佛山市",{"$f":"VLOOKUP(B2146,'[1]002'!B:M,7,0)","v":"卢娟"},{"$f":"VLOOKUP(B2146,'[1]002'!B:M,8,0)","v":"佛山市顺德区勒流职业技术学校"},{"$f":"VLOOKUP(B2146,'[1]002'!B:M,11,0)","v":"-"},{"$f":"VLOOKUP(B2146,'[1]002'!B:M,12,0)","v":"-"},{"$f":"VLOOKUP(B2146,[2]sheet2!B:L,10,0)","v":"-"},{"$f":"VLOOKUP(B2146,[2]sheet2!B:L,11,0)","v":"-"},"http://183.62.54.51:8841/data/files/certificate/000000000439/2809ba4da6ff409bb0c28bfbc6f67e9f/signed/2144_卢娟_三等奖_8031.pdf"]
[2145,"P303519090604","食品包装盒设计与制作","中职组","信息化教学课程案例","三等奖","佛山市",{"$f":"VLOOKUP(B2147,'[1]002'!B:M,7,0)","v":"何淑芬"},{"$f":"VLOOKUP(B2147,'[1]002'!B:M,8,0)","v":"佛山市三水区工业中等专业学校"},{"$f":"VLOOKUP(B2147,'[1]002'!B:M,11,0)","v":"陆勤灵"},{"$f":"VLOOKUP(B2147,'[1]002'!B:M,12,0)","v":"佛山市三水区工业中等专业学校"},{"$f":"VLOOKUP(B2147,[2]sheet2!B:L,10,0)","v":"孙静"},{"$f":"VLOOKUP(B2147,[2]sheet2!B:L,11,0)","v":"佛山市三水区工业中等专业学校"},"http://183.62.54.51:8841/data/files/certificate/000000000439/0f6aa26749a3416cb3154d17996eb8ea/signed/2145_何淑芬、陆勤灵、孙静_三等奖_8032.pdf"]
[2146,"P303519090595","中职英语语法虚拟语气的运用","中职组","信息化教学课程案例","三等奖","佛山市",{"$f":"VLOOKUP(B2148,'[1]002'!B:M,7,0)","v":"赵淑妍"},{"$f":"VLOOKUP(B2148,'[1]002'!B:M,8,0)","v":"佛山市华材职业技术学校"},{"$f":"VLOOKUP(B2148,'[1]002'!B:M,11,0)","v":"-"},{"$f":"VLOOKUP(B2148,'[1]002'!B:M,12,0)","v":"-"},{"$f":"VLOOKUP(B2148,[2]sheet2!B:L,10,0)","v":"-"},{"$f":"VLOOKUP(B2148,[2]sheet2!B:L,11,0)","v":"-"},"http://183.62.54.51:8841/data/files/certificate/000000000439/f591014806db435bb10af908958384f7/signed/2146_赵淑妍_三等奖_8033.pdf"]
[2147,"P303519093297","百变哲学","中职组","信息化教学课程案例","三等奖","河源市",{"$f":"VLOOKUP(B2149,'[1]002'!B:M,7,0)","v":"刘晓芳"},{"$f":"VLOOKUP(B2149,'[1]002'!B:M,8,0)","v":"河源市职业技术学校"},{"$f":"VLOOKUP(B2149,'[1]002'!B:M,11,0)","v":"-"},{"$f":"VLOOKUP(B2149,'[1]002'!B:M,12,0)","v":"-"},{"$f":"VLOOKUP(B2149,[2]sheet2!B:L,10,0)","v":"-"},{"$f":"VLOOKUP(B2149,[2]sheet2!B:L,11,0)","v":"-"},"http://183.62.54.51:8841/data/files/certificate/000000000439/875c27d4c6ac42cdb30eccd7e93ef5a8/signed/2147_刘晓芳_三等奖_8034.pdf"]
[2148,"P303519093296","微信营销","中职组","信息化教学课程案例","三等奖","河源市",{"$f":"VLOOKUP(B2150,'[1]002'!B:M,7,0)","v":"苏路丹"},{"$f":"VLOOKUP(B2150,'[1]002'!B:M,8,0)","v":"河源理工学校"},{"$f":"VLOOKUP(B2150,'[1]002'!B:M,11,0)","v":"曾宪基"},{"$f":"VLOOKUP(B2150,'[1]002'!B:M,12,0)","v":"河源理工学校"},{"$f":"VLOOKUP(B2150,[2]sheet2!B:L,10,0)","v":"何碧海"},{"$f":"VLOOKUP(B2150,[2]sheet2!B:L,11,0)","v":"河源理工学校"},"http://183.62.54.51:8841/data/files/certificate/000000000439/8eb82df26d884ce6a39af0b5a56ac0e1/signed/2148_苏路丹、曾宪基、何碧海_三等奖_8035.pdf"]
[2149,"P303519090181","常见民族民间舞欣赏","中职组","信息化教学课程案例","三等奖","梅州市",{"$f":"VLOOKUP(B2151,'[1]002'!B:M,7,0)","v":"罗龙珠"},{"$f":"VLOOKUP(B2151,'[1]002'!B:M,8,0)","v":"大埔县田家炳高级职业学校"},{"$f":"VLOOKUP(B2151,'[1]002'!B:M,11,0)","v":"-"},{"$f":"VLOOKUP(B2151,'[1]002'!B:M,12,0)","v":"-"},{"$f":"VLOOKUP(B2151,[2]sheet2!B:L,10,0)","v":"-"},{"$f":"VLOOKUP(B2151,[2]sheet2!B:L,11,0)","v":"-"},"http://183.62.54.51:8841/data/files/certificate/000000000439/86f6fdf008cc459ca50cbe6cb34bb331/signed/2149_罗龙珠_三等奖_8036.pdf"]
[2150,"P303519092817","以情绘鲤_传统水墨鲤鱼的绘画技法","中职组","信息化教学课程案例","三等奖","东莞市",{"$f":"VLOOKUP(B2152,'[1]002'!B:M,7,0)","v":"王琳"},{"$f":"VLOOKUP(B2152,'[1]002'!B:M,8,0)","v":"东莞市经济贸易学校"},{"$f":"VLOOKUP(B2152,'[1]002'!B:M,11,0)","v":"马勇林"},{"$f":"VLOOKUP(B2152,'[1]002'!B:M,12,0)","v":"东莞市经济贸易学校"},{"$f":"VLOOKUP(B2152,[2]sheet2!B:L,10,0)","v":"肖犁"},{"$f":"VLOOKUP(B2152,[2]sheet2!B:L,11,0)","v":"东莞市经济贸易学校"},"http://183.62.54.51:8841/data/files/certificate/000000000439/feec15da4a4e4c71b88297d3ed1044a3/signed/2150_王琳、马勇林、肖犁_三等奖_8037.pdf"]
[2151,"P303519092818","二维动画设计与制作","中职组","信息化教学课程案例","三等奖","东莞市",{"$f":"VLOOKUP(B2153,'[1]002'!B:M,7,0)","v":"何圆春"},{"$f":"VLOOKUP(B2153,'[1]002'!B:M,8,0)","v":"东莞市信息技术学校"},{"$f":"VLOOKUP(B2153,'[1]002'!B:M,11,0)","v":"张宝升"},{"$f":"VLOOKUP(B2153,'[1]002'!B:M,12,0)","v":"东莞市信息技术学校"},{"$f":"VLOOKUP(B2153,[2]sheet2!B:L,10,0)","v":"黄利书"},{"$f":"VLOOKUP(B2153,[2]sheet2!B:L,11,0)","v":"东莞市信息技术学校"},"http://183.62.54.51:8841/data/files/certificate/000000000439/ff63f38e16d448fca3781c1c5cb896f1/signed/2151_何圆春、张宝升、黄利书_三等奖_8038.pdf"]
[2152,"P303519089300","V形凿刀技法","中职组","信息化教学课程案例","三等奖","中山市",{"$f":"VLOOKUP(B2154,'[1]002'!B:M,7,0)","v":"张婷婷"},{"$f":"VLOOKUP(B2154,'[1]002'!B:M,8,0)","v":"中山市港口理工学校"},{"$f":"VLOOKUP(B2154,'[1]002'!B:M,11,0)","v":"廖三平"},{"$f":"VLOOKUP(B2154,'[1]002'!B:M,12,0)","v":"中山市港口理工学校"},{"$f":"VLOOKUP(B2154,[2]sheet2!B:L,10,0)","v":"马兰"},{"$f":"VLOOKUP(B2154,[2]sheet2!B:L,11,0)","v":"中山市港口理工学校"},"http://183.62.54.51:8841/data/files/certificate/000000000439/5b43407436694c2c865d470918bbcf57/signed/2152_张婷婷、廖三平、马兰_三等奖_8039.pdf"]
[2153,"P303519092066","信息技术变革体育课教学模式——“我爱瑜伽”教学案例","中职组","信息化教学课程案例","三等奖","江门市",{"$f":"VLOOKUP(B2155,'[1]002'!B:M,7,0)","v":"尹一平"},{"$f":"VLOOKUP(B2155,'[1]002'!B:M,8,0)","v":"鹤山市职业技术学校"},{"$f":"VLOOKUP(B2155,'[1]002'!B:M,11,0)","v":"罗利梅"},{"$f":"VLOOKUP(B2155,'[1]002'!B:M,12,0)","v":"鹤山市职业技术学校"},{"$f":"VLOOKUP(B2155,[2]sheet2!B:L,10,0)","v":"-"},{"$f":"VLOOKUP(B2155,[2]sheet2!B:L,11,0)","v":"-"},"http://183.62.54.51:8841/data/files/certificate/000000000439/3079ca43596649ae9571099973413a03/signed/2153_尹一平、罗利梅_三等奖_8040.pdf"]
[2154,"P303519091428","让图片”说话”","中职组","信息化教学课程案例","三等奖","茂名市",{"$f":"VLOOKUP(B2156,'[1]002'!B:M,7,0)","v":"李幸"},{"$f":"VLOOKUP(B2156,'[1]002'!B:M,8,0)","v":"茂名市第二职业技术学校"},{"$f":"VLOOKUP(B2156,'[1]002'!B:M,11,0)","v":"梁燕秋"},{"$f":"VLOOKUP(B2156,'[1]002'!B:M,12,0)","v":"茂名市第二职业技术学校"},{"$f":"VLOOKUP(B2156,[2]sheet2!B:L,10,0)","v":"庞美娟"},{"$f":"VLOOKUP(B2156,[2]sheet2!B:L,11,0)","v":"茂名市第二职业技术学校"},"http://183.62.54.51:8841/data/files/certificate/000000000439/6dd1ae0f415746d6a665d48209603111/signed/2154_李幸、梁燕秋、庞美娟_三等奖_8041.pdf"]
[2155,"P303519091289","职工薪酬的核算","中职组","信息化教学课程案例","三等奖","肇庆市",{"$f":"VLOOKUP(B2157,'[1]002'!B:M,7,0)","v":"林绮桃"},{"$f":"VLOOKUP(B2157,'[1]002'!B:M,8,0)","v":"肇庆市经贸中等职业学校"},{"$f":"VLOOKUP(B2157,'[1]002'!B:M,11,0)","v":"-"},{"$f":"VLOOKUP(B2157,'[1]002'!B:M,12,0)","v":"-"},{"$f":"VLOOKUP(B2157,[2]sheet2!B:L,10,0)","v":"-"},{"$f":"VLOOKUP(B2157,[2]sheet2!B:L,11,0)","v":"-"},"http://183.62.54.51:8841/data/files/certificate/000000000439/ff590334418146779f22263372e42060/signed/2155_林绮桃_三等奖_8042.pdf"]
[2156,"P303519088320","血细胞分析仪的使用","中职组","信息化教学课程案例","三等奖","云浮市",{"$f":"VLOOKUP(B2158,'[1]002'!B:M,7,0)","v":"欧瑾仪"},{"$f":"VLOOKUP(B2158,'[1]002'!B:M,8,0)","v":"广东省新兴中药学校"},{"$f":"VLOOKUP(B2158,'[1]002'!B:M,11,0)","v":"-"},{"$f":"VLOOKUP(B2158,'[1]002'!B:M,12,0)","v":"-"},{"$f":"VLOOKUP(B2158,[2]sheet2!B:L,10,0)","v":"-"},{"$f":"VLOOKUP(B2158,[2]sheet2!B:L,11,0)","v":"-"},"http://183.62.54.51:8841/data/files/certificate/000000000439/2cd3f53fd762436880ad7f75b22c7862/signed/2156_欧瑾仪_三等奖_8043.pdf"]
[2157,"P301619088421","摄影构图","高教组","课件","一等奖",null,{"$f":"VLOOKUP(B2159,[1]高教组!B:M,6,0)","v":"黄杰洪"},{"$f":"VLOOKUP(B2159,[1]高教组!B:M,7,0)","v":"广东环境保护工程职业学院"},{"$f":"VLOOKUP(B2159,[1]高教组!B:M,8,0)","v":"江伟"},{"$f":"VLOOKUP(B2159,[1]高教组!B:M,9,0)","v":"广东环境保护工程职业学院"},{"$f":"VLOOKUP(B2159,[2]sheet2!B:L,10,0)","v":"詹晓容"},{"$f":"VLOOKUP(B2159,[2]sheet2!B:L,11,0)","v":"广东环境保护工程职业学院"},"http://183.62.54.51:8841/data/files/certificate/000000000439/419ef4e626904e558978189c33fda4b7/signed/2157_黄杰洪、江伟、詹晓容_一等奖_8044.pdf"]
[2158,"P301619087233","机冲出跑道应急救援桌面演练学习及模拟训练平台","高教组","课件","一等奖",null,{"$f":"VLOOKUP(B2160,[1]高教组!B:M,6,0)","v":"郑嘉曦"},{"$f":"VLOOKUP(B2160,[1]高教组!B:M,7,0)","v":"广州民航职业技术学院"},{"$f":"VLOOKUP(B2160,[1]高教组!B:M,8,0)","v":"林修杰"},{"$f":"VLOOKUP(B2160,[1]高教组!B:M,9,0)","v":"广州民航职业技术学院"},{"$f":"VLOOKUP(B2160,[2]sheet2!B:L,10,0)","v":"魏臣"},{"$f":"VLOOKUP(B2160,[2]sheet2!B:L,11,0)","v":"广州民航职业技术学院"},"http://183.62.54.51:8841/data/files/certificate/000000000439/9b59259501cb4492b28731c4014a5649/signed/2158_郑嘉曦、林修杰、魏臣_一等奖_8045.pdf"]
[2159,"P301619089319","基于AR的虚拟智能制造仿真教学平台","高教组","课件","一等奖",null,{"$f":"VLOOKUP(B2161,[1]高教组!B:M,6,0)","v":"刘杰"},{"$f":"VLOOKUP(B2161,[1]高教组!B:M,7,0)","v":"深圳职业技术学院"},{"$f":"VLOOKUP(B2161,[1]高教组!B:M,8,0)","v":"-"},{"$f":"VLOOKUP(B2161,[1]高教组!B:M,9,0)","v":"-"},{"$f":"VLOOKUP(B2161,[2]sheet2!B:L,10,0)","v":"-"},{"$f":"VLOOKUP(B2161,[2]sheet2!B:L,11,0)","v":"-"},"http://183.62.54.51:8841/data/files/certificate/000000000439/cbe6c17bfd734dd1bc78b611c07707b2/signed/2159_刘杰_一等奖_8046.pdf"]
[2160,"P301619086181","毒品分类与识别","高教组","课件","一等奖",null,"汤锋","广州城建职业学院","曹春华","广州城建职业学院",{"$f":"VLOOKUP(B2162,[2]sheet2!B:L,10,0)","v":"-"},{"$f":"VLOOKUP(B2162,[2]sheet2!B:L,11,0)","v":"-"},"http://183.62.54.51:8841/data/files/certificate/000000000439/8b403f112fff40abaa42c592bf4b3687/signed/2160_汤锋、曹春华_一等奖_8047.pdf"]
[2161,"P301619092796","PPT的设计与制作","高教组","课件","一等奖",null,{"$f":"VLOOKUP(B2163,[1]高教组!B:M,6,0)","v":"蓝丽萍"},{"$f":"VLOOKUP(B2163,[1]高教组!B:M,7,0)","v":"广东技术师范大学"},{"$f":"VLOOKUP(B2163,[1]高教组!B:M,8,0)","v":"林月姣"},{"$f":"VLOOKUP(B2163,[1]高教组!B:M,9,0)","v":"广东技术师范大学"},{"$f":"VLOOKUP(B2163,[2]sheet2!B:L,10,0)","v":"-"},{"$f":"VLOOKUP(B2163,[2]sheet2!B:L,11,0)","v":"-"},"http://183.62.54.51:8841/data/files/certificate/000000000439/56861773afbe434a97fdf3df77cb4ec4/signed/2161_蓝丽萍、林月姣_一等奖_8048.pdf"]
[2162,"P301619089986","风筝","高教组","课件","一等奖",null,{"$f":"VLOOKUP(B2164,[1]高教组!B:M,6,0)","v":"张金刚"},{"$f":"VLOOKUP(B2164,[1]高教组!B:M,7,0)","v":"湛江幼儿师范专科学校"},{"$f":"VLOOKUP(B2164,[1]高教组!B:M,8,0)","v":"张嘉庆"},{"$f":"VLOOKUP(B2164,[1]高教组!B:M,9,0)","v":"佛山市顺德区昌教小学"},{"$f":"VLOOKUP(B2164,[2]sheet2!B:L,10,0)","v":"杨小玲"},{"$f":"VLOOKUP(B2164,[2]sheet2!B:L,11,0)","v":"佛山市顺德区昌教小学"},"http://183.62.54.51:8841/data/files/certificate/000000000439/6413e9350c9342f0b22a3d31175c47e6/signed/2162_张金刚、张嘉庆、杨小玲_一等奖_8049.pdf"]
[2163,"P301619086796","动量守恒定律","高教组","课件","一等奖",null,{"$f":"VLOOKUP(B2165,[1]高教组!B:M,6,0)","v":"谭毅"},{"$f":"VLOOKUP(B2165,[1]高教组!B:M,7,0)","v":"广东第二师范学院"},{"$f":"VLOOKUP(B2165,[1]高教组!B:M,8,0)","v":"-"},{"$f":"VLOOKUP(B2165,[1]高教组!B:M,9,0)","v":"-"},{"$f":"VLOOKUP(B2165,[2]sheet2!B:L,10,0)","v":"-"},{"$f":"VLOOKUP(B2165,[2]sheet2!B:L,11,0)","v":"-"},"http://183.62.54.51:8841/data/files/certificate/000000000439/d5ea14f3354945549fc0bf6853f1ff95/signed/2163_谭毅_一等奖_8050.pdf"]
[2164,"P302619092247","家禽翼下静脉采血技术","高教组","微课","一等奖","惠州市",{"$f":"VLOOKUP(B2166,'[1]002'!B:M,7,0)","v":"季艳菊"},{"$f":"VLOOKUP(B2166,'[1]002'!B:M,8,0)","v":"惠州工程技术学校"},{"$f":"VLOOKUP(B2166,'[1]002'!B:M,11,0)","v":"孙闯"},{"$f":"VLOOKUP(B2166,'[1]002'!B:M,12,0)","v":"惠州工程技术学校"},{"$f":"VLOOKUP(B2166,[2]sheet2!B:L,10,0)","v":"张伟"},{"$f":"VLOOKUP(B2166,[2]sheet2!B:L,11,0)","v":"惠州工程技术学校"},"http://183.62.54.51:8841/data/files/certificate/000000000439/71f55c51dd7e4ac99acc692159e6aa03/signed/2164_季艳菊、孙闯、张伟_一等奖_8051.pdf"]
[2165,"P302619088408","脂肪消失的秘密&mdash;&mdash;甘油三酯分解代谢","高教组","微课","一等奖",null,{"$f":"VLOOKUP(B2167,[1]高教组!B:M,6,0)","v":"黄翠虹"},{"$f":"VLOOKUP(B2167,[1]高教组!B:M,7,0)","v":"顺德职业技术学院"},{"$f":"VLOOKUP(B2167,[1]高教组!B:M,8,0)","v":"-"},{"$f":"VLOOKUP(B2167,[1]高教组!B:M,9,0)","v":"-"},{"$f":"VLOOKUP(B2167,[2]sheet2!B:L,10,0)","v":"-"},{"$f":"VLOOKUP(B2167,[2]sheet2!B:L,11,0)","v":"-"},"http://183.62.54.51:8841/data/files/certificate/000000000439/296ea41da2154f6f815082118c8169f8/signed/2165_黄翠虹_一等奖_8052.pdf"]
[2166,"P302619090220","血糖生成指数和血糖负荷","高教组","微课","一等奖",null,{"$f":"VLOOKUP(B2168,[1]高教组!B:M,6,0)","v":"贾青"},{"$f":"VLOOKUP(B2168,[1]高教组!B:M,7,0)","v":"广东医科大学"},{"$f":"VLOOKUP(B2168,[1]高教组!B:M,8,0)","v":"-"},{"$f":"VLOOKUP(B2168,[1]高教组!B:M,9,0)","v":"-"},{"$f":"VLOOKUP(B2168,[2]sheet2!B:L,10,0)","v":"-"},{"$f":"VLOOKUP(B2168,[2]sheet2!B:L,11,0)","v":"-"},"http://183.62.54.51:8841/data/files/certificate/000000000439/b8f1418957ee40d88e702264910ccb9e/signed/2166_贾青_一等奖_8053.pdf"]
[2167,"P302619087728","万物互联 连接未来","高教组","微课","一等奖",null,{"$f":"VLOOKUP(B2169,[1]高教组!B:M,6,0)","v":"孙蓉菲"},{"$f":"VLOOKUP(B2169,[1]高教组!B:M,7,0)","v":"华南师范大学"},{"$f":"VLOOKUP(B2169,[1]高教组!B:M,8,0)","v":"张妙华"},{"$f":"VLOOKUP(B2169,[1]高教组!B:M,9,0)","v":"华南师范大学"},{"$f":"VLOOKUP(B2169,[2]sheet2!B:L,10,0)","v":"-"},{"$f":"VLOOKUP(B2169,[2]sheet2!B:L,11,0)","v":"-"},"http://183.62.54.51:8841/data/files/certificate/000000000439/5be73304f63345059840dbb942851586/signed/2167_孙蓉菲、张妙华_一等奖_8054.pdf"]
[2168,"P302619087790","四步完成翻转课堂的设计","高教组","微课","一等奖",null,{"$f":"VLOOKUP(B2170,[1]高教组!B:M,6,0)","v":"尹睿"},{"$f":"VLOOKUP(B2170,[1]高教组!B:M,7,0)","v":"华南师范大学"},{"$f":"VLOOKUP(B2170,[1]高教组!B:M,8,0)","v":"巫纯丹"},{"$f":"VLOOKUP(B2170,[1]高教组!B:M,9,0)","v":"华南师范大学"},{"$f":"VLOOKUP(B2170,[2]sheet2!B:L,10,0)","v":"-"},{"$f":"VLOOKUP(B2170,[2]sheet2!B:L,11,0)","v":"-"},"http://183.62.54.51:8841/data/files/certificate/000000000439/75c679121bf0435bbe5b4ae495693bf7/signed/2168_尹睿、巫纯丹_一等奖_8055.pdf"]
[2169,"P302619085961","喂爱坚持母乳喂养指导","高教组","微课","一等奖",null,{"$f":"VLOOKUP(B2171,[1]高教组!B:M,6,0)","v":"郑长花"},{"$f":"VLOOKUP(B2171,[1]高教组!B:M,7,0)","v":"广州卫生职业技术学院"},{"$f":"VLOOKUP(B2171,[1]高教组!B:M,8,0)","v":"彭慧蛟"},{"$f":"VLOOKUP(B2171,[1]高教组!B:M,9,0)","v":"广州卫生职业技术学院"},{"$f":"VLOOKUP(B2171,[2]sheet2!B:L,10,0)","v":"苏淑贤"},{"$f":"VLOOKUP(B2171,[2]sheet2!B:L,11,0)","v":"广州卫生职业技术学院"},"http://183.62.54.51:8841/data/files/certificate/000000000439/fbeb0f0e93ae45ca994c62ef2461f7d5/signed/2169_郑长花、彭慧蛟、苏淑贤_一等奖_8056.pdf"]
[2170,"P302619088325","武术旋风脚","高教组","微课","一等奖",null,{"$f":"VLOOKUP(B2172,[1]高教组!B:M,6,0)","v":"田桂菊"},{"$f":"VLOOKUP(B2172,[1]高教组!B:M,7,0)","v":"深圳职业技术学院"},{"$f":"VLOOKUP(B2172,[1]高教组!B:M,8,0)","v":"陈雁杨"},{"$f":"VLOOKUP(B2172,[1]高教组!B:M,9,0)","v":"深圳职业技术学院"},{"$f":"VLOOKUP(B2172,[2]sheet2!B:L,10,0)","v":"王瑛"},{"$f":"VLOOKUP(B2172,[2]sheet2!B:L,11,0)","v":"深圳职业技术学院"},"http://183.62.54.51:8841/data/files/certificate/000000000439/7f70c41064c8486e8bde4d3627450f47/signed/2170_田桂菊、陈雁杨、王瑛_一等奖_8057.pdf"]
[2171,"P302619092022","潮州工夫茶二十一式","高教组","微课","一等奖",null,{"$f":"VLOOKUP(B2173,[1]高教组!B:M,6,0)","v":"张海燕"},{"$f":"VLOOKUP(B2173,[1]高教组!B:M,7,0)","v":"广东技术师范大学"},{"$f":"VLOOKUP(B2173,[1]高教组!B:M,8,0)","v":"-"},{"$f":"VLOOKUP(B2173,[1]高教组!B:M,9,0)","v":"-"},{"$f":"VLOOKUP(B2173,[2]sheet2!B:L,10,0)","v":"-"},{"$f":"VLOOKUP(B2173,[2]sheet2!B:L,11,0)","v":"-"},"http://183.62.54.51:8841/data/files/certificate/000000000439/aeacadb22c604795b392d62730d21453/signed/2171_张海燕_一等奖_8058.pdf"]
[2172,"P302619087291","供应商现场考察: 望闻问切四诊法","高教组","微课","一等奖",null,{"$f":"VLOOKUP(B2174,[1]高教组!B:M,6,0)","v":"刘刚桥"},{"$f":"VLOOKUP(B2174,[1]高教组!B:M,7,0)","v":"顺德职业技术学院"},{"$f":"VLOOKUP(B2174,[1]高教组!B:M,8,0)","v":"师建华"},{"$f":"VLOOKUP(B2174,[1]高教组!B:M,9,0)","v":"顺德职业技术学院"},{"$f":"VLOOKUP(B2174,[2]sheet2!B:L,10,0)","v":"-"},{"$f":"VLOOKUP(B2174,[2]sheet2!B:L,11,0)","v":"-"},"http://183.62.54.51:8841/data/files/certificate/000000000439/4033013c974e4003a61696a4075f1f95/signed/2172_刘刚桥、师建华_一等奖_8059.pdf"]
[2173,"P302619092614","人造板材知多少","高教组","微课","一等奖",null,{"$f":"VLOOKUP(B2175,[1]高教组!B:M,6,0)","v":"罗向兼"},{"$f":"VLOOKUP(B2175,[1]高教组!B:M,7,0)","v":"广东技术师范大学"},{"$f":"VLOOKUP(B2175,[1]高教组!B:M,8,0)","v":"-"},{"$f":"VLOOKUP(B2175,[1]高教组!B:M,9,0)","v":"-"},{"$f":"VLOOKUP(B2175,[2]sheet2!B:L,10,0)","v":"-"},{"$f":"VLOOKUP(B2175,[2]sheet2!B:L,11,0)","v":"-"},"http://183.62.54.51:8841/data/files/certificate/000000000439/43fdfe878f6b42edbee57a51b39fcb53/signed/2173_罗向兼_一等奖_8060.pdf"]
[2174,"P302619088314","脂肪去哪儿-人体对脂肪的消化及脂类食物的选择","高教组","微课","一等奖",null,{"$f":"VLOOKUP(B2176,[1]高教组!B:M,6,0)","v":"江津津"},{"$f":"VLOOKUP(B2176,[1]高教组!B:M,7,0)","v":"广州城市职业学院"},{"$f":"VLOOKUP(B2176,[1]高教组!B:M,8,0)","v":"胡玉玫"},{"$f":"VLOOKUP(B2176,[1]高教组!B:M,9,0)","v":"广州城市职业学院"},{"$f":"VLOOKUP(B2176,[2]sheet2!B:L,10,0)","v":"欧爱芬"},{"$f":"VLOOKUP(B2176,[2]sheet2!B:L,11,0)","v":"广州城市职业学院"},"http://183.62.54.51:8841/data/files/certificate/000000000439/55c73e35357e4f7fa4d441633ebaeab8/signed/2174_江津津、胡玉玫、欧爱芬_一等奖_8061.pdf"]
[2175,"P302619089098","口服片剂的类型和用法","高教组","微课","一等奖",null,{"$f":"VLOOKUP(B2177,[1]高教组!B:M,6,0)","v":"易少凌"},{"$f":"VLOOKUP(B2177,[1]高教组!B:M,7,0)","v":"广东食品药品职业学院"},{"$f":"VLOOKUP(B2177,[1]高教组!B:M,8,0)","v":"陈伶俐"},{"$f":"VLOOKUP(B2177,[1]高教组!B:M,9,0)","v":"广东食品药品职业学院"},{"$f":"VLOOKUP(B2177,[2]sheet2!B:L,10,0)","v":"林青"},{"$f":"VLOOKUP(B2177,[2]sheet2!B:L,11,0)","v":"广东食品药品职业学院"},"http://183.62.54.51:8841/data/files/certificate/000000000439/b07c1ab4907a477d98b7b1a6f4c75d24/signed/2175_易少凌、陈伶俐、林青_一等奖_8062.pdf"]
[2176,"P303619090497","综合德语信息化教学课程案例","高教组","信息化教学课程案例","一等奖",null,{"$f":"VLOOKUP(B2178,[1]高教组!B:M,6,0)","v":"曹洁"},{"$f":"VLOOKUP(B2178,[1]高教组!B:M,7,0)","v":"深圳职业技术学院"},{"$f":"VLOOKUP(B2178,[1]高教组!B:M,8,0)","v":"齐剑鹏"},{"$f":"VLOOKUP(B2178,[1]高教组!B:M,9,0)","v":"深圳职业技术学院"},{"$f":"VLOOKUP(B2178,[2]sheet2!B:L,10,0)","v":"马丽丽"},{"$f":"VLOOKUP(B2178,[2]sheet2!B:L,11,0)","v":"深圳职业技术学院"},"http://183.62.54.51:8841/data/files/certificate/000000000439/ad4eb7d547024deb8d073c398e27bfee/signed/2176_曹洁、齐剑鹏、马丽丽_一等奖_8063.pdf"]
[2177,"P303619091570","跨国企业管理信息化教学课程案例专题介绍","高教组","信息化教学课程案例","一等奖",null,{"$f":"VLOOKUP(B2179,[1]高教组!B:M,6,0)","v":"朱文博浩"},{"$f":"VLOOKUP(B2179,[1]高教组!B:M,7,0)","v":"广东白云学院"},{"$f":"VLOOKUP(B2179,[1]高教组!B:M,8,0)","v":"-"},{"$f":"VLOOKUP(B2179,[1]高教组!B:M,9,0)","v":"-"},{"$f":"VLOOKUP(B2179,[2]sheet2!B:L,10,0)","v":"-"},{"$f":"VLOOKUP(B2179,[2]sheet2!B:L,11,0)","v":"-"},"http://183.62.54.51:8841/data/files/certificate/000000000439/68f3a1990ce044499cbdc36bc9a5355a/signed/2177_朱文博浩_一等奖_8064.pdf"]
[2178,"P303619088162","K线组合信息化教学案例","高教组","信息化教学课程案例","一等奖",null,{"$f":"VLOOKUP(B2180,[1]高教组!B:M,6,0)","v":"何练"},{"$f":"VLOOKUP(B2180,[1]高教组!B:M,7,0)","v":"吉林大学珠海学院"},{"$f":"VLOOKUP(B2180,[1]高教组!B:M,8,0)","v":"-"},{"$f":"VLOOKUP(B2180,[1]高教组!B:M,9,0)","v":"-"},{"$f":"VLOOKUP(B2180,[2]sheet2!B:L,10,0)","v":"-"},{"$f":"VLOOKUP(B2180,[2]sheet2!B:L,11,0)","v":"-"},"http://183.62.54.51:8841/data/files/certificate/000000000439/2ddac0f192de4593bbebe23835722db8/signed/2178_何练_一等奖_8065.pdf"]
[2179,"P303619089073","广告做得好 创意最重要&mdash;&mdash;广告创意的表现原则与运用","高教组","信息化教学课程案例","一等奖",null,{"$f":"VLOOKUP(B2181,[1]高教组!B:M,6,0)","v":"冯雁"},{"$f":"VLOOKUP(B2181,[1]高教组!B:M,7,0)","v":"珠海城市职业技术学院"},{"$f":"VLOOKUP(B2181,[1]高教组!B:M,8,0)","v":"-"},{"$f":"VLOOKUP(B2181,[1]高教组!B:M,9,0)","v":"-"},{"$f":"VLOOKUP(B2181,[2]sheet2!B:L,10,0)","v":"-"},{"$f":"VLOOKUP(B2181,[2]sheet2!B:L,11,0)","v":"-"},"http://183.62.54.51:8841/data/files/certificate/000000000439/e8585ba40d554afdb74af77560297cc8/signed/2179_冯雁_一等奖_8066.pdf"]
[2180,"P303619080902","高尔夫击球技术校正","高教组","信息化教学课程案例","一等奖",null,{"$f":"VLOOKUP(B2182,[1]高教组!B:M,6,0)","v":"常金鑫"},{"$f":"VLOOKUP(B2182,[1]高教组!B:M,7,0)","v":"佛山职业技术学院"},{"$f":"VLOOKUP(B2182,[1]高教组!B:M,8,0)","v":"-"},{"$f":"VLOOKUP(B2182,[1]高教组!B:M,9,0)","v":"-"},{"$f":"VLOOKUP(B2182,[2]sheet2!B:L,10,0)","v":"-"},{"$f":"VLOOKUP(B2182,[2]sheet2!B:L,11,0)","v":"-"},"http://183.62.54.51:8841/data/files/certificate/000000000439/e56b47c2d4604e508367a1f772304d0c/signed/2180_常金鑫_一等奖_8067.pdf"]
[2181,"P301619091131","生产制造商运营管理","高教组","课件","二等奖",null,{"$f":"VLOOKUP(B2183,[1]高教组!B:M,6,0)","v":"贺雪荣"},{"$f":"VLOOKUP(B2183,[1]高教组!B:M,7,0)","v":"广东白云学院"},{"$f":"VLOOKUP(B2183,[1]高教组!B:M,8,0)","v":"-"},{"$f":"VLOOKUP(B2183,[1]高教组!B:M,9,0)","v":"-"},{"$f":"VLOOKUP(B2183,[2]sheet2!B:L,10,0)","v":"-"},{"$f":"VLOOKUP(B2183,[2]sheet2!B:L,11,0)","v":"-"},"http://183.62.54.51:8841/data/files/certificate/000000000439/e3913587263642628a9ce7b8278ae275/signed/2181_贺雪荣_二等奖_8068.pdf"]
[2182,"P440000000001","猜拳游戏——选择与循环","高教组","课件","二等奖",null,"陆冰琳","广东东软学院","-","-","-","-","http://183.62.54.51:8841/data/files/certificate/000000000439/a685a0c7bde84bc1a83ee9f91e34fb0e/signed/2182_陆冰琳_二等奖_8069.pdf"]
[2183,"P301619088793","爸爸去哪儿","高教组","课件","二等奖",null,{"$f":"VLOOKUP(B2185,[1]高教组!B:M,6,0)","v":"胡垂立"},{"$f":"VLOOKUP(B2185,[1]高教组!B:M,7,0)","v":"广州工商学院"},{"$f":"VLOOKUP(B2185,[1]高教组!B:M,8,0)","v":"-"},{"$f":"VLOOKUP(B2185,[1]高教组!B:M,9,0)","v":"-"},{"$f":"VLOOKUP(B2185,[2]sheet2!B:L,10,0)","v":"-"},{"$f":"VLOOKUP(B2185,[2]sheet2!B:L,11,0)","v":"-"},"http://183.62.54.51:8841/data/files/certificate/000000000439/85f806f4b7ee4bc082743c19f3cddafc/signed/2183_胡垂立_二等奖_8070.pdf"]
[2184,"P440000000002","生活中的ERP","高教组","课件","二等奖",null,"张爽","广东东软学院","-","-","-","-","http://183.62.54.51:8841/data/files/certificate/000000000439/bb8c16d86ddc473ba8c536fe10a47755/signed/2184_张爽_二等奖_8071.pdf"]
[2185,"P301619086030","VR大型商用服务器拆装教学系统","高教组","课件","二等奖",null,{"$f":"VLOOKUP(B2187,[1]高教组!B:M,6,0)","v":"李金子"},{"$f":"VLOOKUP(B2187,[1]高教组!B:M,7,0)","v":"深圳职业技术学院"},{"$f":"VLOOKUP(B2187,[1]高教组!B:M,8,0)","v":"孙宏伟"},{"$f":"VLOOKUP(B2187,[1]高教组!B:M,9,0)","v":"深圳职业技术学院"},{"$f":"VLOOKUP(B2187,[2]sheet2!B:L,10,0)","v":"彭艳"},{"$f":"VLOOKUP(B2187,[2]sheet2!B:L,11,0)","v":"深圳职业技术学院"},"http://183.62.54.51:8841/data/files/certificate/000000000439/c45c3b59d03f48b5bbe8c3d4717a8742/signed/2185_李金子、孙宏伟、彭艳_二等奖_8072.pdf"]
[2186,"P301619087883","传动类机械部件装配图虚拟现实辅助学习软件","高教组","课件","二等奖",null,{"$f":"VLOOKUP(B2188,[1]高教组!B:M,6,0)","v":"江方记"},{"$f":"VLOOKUP(B2188,[1]高教组!B:M,7,0)","v":"深圳职业技术学院"},{"$f":"VLOOKUP(B2188,[1]高教组!B:M,8,0)","v":"吕利昌"},{"$f":"VLOOKUP(B2188,[1]高教组!B:M,9,0)","v":"深圳职业技术学院"},{"$f":"VLOOKUP(B2188,[2]sheet2!B:L,10,0)","v":"黄雪云"},{"$f":"VLOOKUP(B2188,[2]sheet2!B:L,11,0)","v":"深圳职业技术学院"},"http://183.62.54.51:8841/data/files/certificate/000000000439/f0695f1bb82b4b039d576a39b266e180/signed/2186_江方记、吕利昌、黄雪云_二等奖_8073.pdf"]
[2187,"P301619079918","记账凭证","高教组","课件","二等奖",null,{"$f":"VLOOKUP(B2189,[1]高教组!B:M,6,0)","v":"李秀霞"},{"$f":"VLOOKUP(B2189,[1]高教组!B:M,7,0)","v":"广东工商职业学院"},{"$f":"VLOOKUP(B2189,[1]高教组!B:M,8,0)","v":"黄艳芳"},{"$f":"VLOOKUP(B2189,[1]高教组!B:M,9,0)","v":"广东工商职业学院"},{"$f":"VLOOKUP(B2189,[2]sheet2!B:L,10,0)","v":"梁健"},{"$f":"VLOOKUP(B2189,[2]sheet2!B:L,11,0)","v":"广东工商职业学院"},"http://183.62.54.51:8841/data/files/certificate/000000000439/58278c2064784eea9dfef38623471691/signed/2187_李秀霞、黄艳芳、梁健_二等奖_8074.pdf"]
[2188,"P301619087945","&ldquo;农业网站制作实训教程&rdquo;网络课件","高教组","课件","二等奖",null,{"$f":"VLOOKUP(B2190,[1]高教组!B:M,6,0)","v":"付志文"},{"$f":"VLOOKUP(B2190,[1]高教组!B:M,7,0)","v":"仲恺农业工程学院"},{"$f":"VLOOKUP(B2190,[1]高教组!B:M,8,0)","v":"吴东醒"},{"$f":"VLOOKUP(B2190,[1]高教组!B:M,9,0)","v":"仲恺农业工程学院"},{"$f":"VLOOKUP(B2190,[2]sheet2!B:L,10,0)","v":"贺超波"},{"$f":"VLOOKUP(B2190,[2]sheet2!B:L,11,0)","v":"仲恺农业工程学院"},"http://183.62.54.51:8841/data/files/certificate/000000000439/734d18920bdd4b5aaf64e4775203ba71/signed/2188_付志文、吴东醒、贺超波_二等奖_8075.pdf"]
[2189,"P301619087994","翻转课堂的 课前设计","高教组","课件","二等奖",null,"钟丽霞","广东第二师范学院","-","-",{"$f":"VLOOKUP(B2191,[2]sheet2!B:L,10,0)","v":"-"},{"$f":"VLOOKUP(B2191,[2]sheet2!B:L,11,0)","v":"-"},"http://183.62.54.51:8841/data/files/certificate/000000000439/ca201311e1ab4f1e89dd16dcfe4bc1fd/signed/2189_钟丽霞_二等奖_8076.pdf"]
[2190,"P301619088844","利尿药","高教组","课件","二等奖",null,{"$f":"VLOOKUP(B2192,[1]高教组!B:M,6,0)","v":"林丽飞"},{"$f":"VLOOKUP(B2192,[1]高教组!B:M,7,0)","v":"广东茂名健康职业学院"},{"$f":"VLOOKUP(B2192,[1]高教组!B:M,8,0)","v":"杨梅"},{"$f":"VLOOKUP(B2192,[1]高教组!B:M,9,0)","v":"广东茂名健康职业学院"},{"$f":"VLOOKUP(B2192,[2]sheet2!B:L,10,0)","v":"-"},{"$f":"VLOOKUP(B2192,[2]sheet2!B:L,11,0)","v":"-"},"http://183.62.54.51:8841/data/files/certificate/000000000439/168562efb63842a9bd7071287e829cba/signed/2190_林丽飞、杨梅_二等奖_8077.pdf"]
[2191,"P440000000006","Typing Practice","高教组","课件","二等奖",null,"王天然","广东技术师范大学","-","-","-","-","http://183.62.54.51:8841/data/files/certificate/000000000439/495510a8ca9e448e8687ba58f37c71b7/signed/2191_王天然_二等奖_8078.pdf"]
[2192,"P301619089964","机构自由度分析","高教组","课件","二等奖",null,{"$f":"VLOOKUP(B2194,[1]高教组!B:M,6,0)","v":"江帆"},{"$f":"VLOOKUP(B2194,[1]高教组!B:M,7,0)","v":"广州大学"},{"$f":"VLOOKUP(B2194,[1]高教组!B:M,8,0)","v":"-"},{"$f":"VLOOKUP(B2194,[1]高教组!B:M,9,0)","v":"-"},{"$f":"VLOOKUP(B2194,[2]sheet2!B:L,10,0)","v":"-"},{"$f":"VLOOKUP(B2194,[2]sheet2!B:L,11,0)","v":"-"},"http://183.62.54.51:8841/data/files/certificate/000000000439/ef0a25462d1c45e1baf9310e35a459a9/signed/2192_江帆_二等奖_8079.pdf"]
[2193,"P301619091446","发动机有害排放物净化系统","高教组","课件","二等奖",null,{"$f":"VLOOKUP(B2195,[1]高教组!B:M,6,0)","v":"曾令超"},{"$f":"VLOOKUP(B2195,[1]高教组!B:M,7,0)","v":"广东白云学院"},{"$f":"VLOOKUP(B2195,[1]高教组!B:M,8,0)","v":"-"},{"$f":"VLOOKUP(B2195,[1]高教组!B:M,9,0)","v":"-"},{"$f":"VLOOKUP(B2195,[2]sheet2!B:L,10,0)","v":"-"},{"$f":"VLOOKUP(B2195,[2]sheet2!B:L,11,0)","v":"-"},"http://183.62.54.51:8841/data/files/certificate/000000000439/d876575a6f0f4278bb4af4bef5d4f192/signed/2193_曾令超_二等奖_8080.pdf"]
[2194,"P301619089466","海姆立克急救法","高教组","课件","二等奖",null,{"$f":"VLOOKUP(B2196,[1]高教组!B:M,6,0)","v":"李颖"},{"$f":"VLOOKUP(B2196,[1]高教组!B:M,7,0)","v":"广东医科大学"},{"$f":"VLOOKUP(B2196,[1]高教组!B:M,8,0)","v":"-"},{"$f":"VLOOKUP(B2196,[1]高教组!B:M,9,0)","v":"-"},{"$f":"VLOOKUP(B2196,[2]sheet2!B:L,10,0)","v":"-"},{"$f":"VLOOKUP(B2196,[2]sheet2!B:L,11,0)","v":"-"},"http://183.62.54.51:8841/data/files/certificate/000000000439/2bf8f090d38b4435bf46063b7f3f7565/signed/2194_李颖_二等奖_8081.pdf"]
[2195,"P301619088351","平衡膳食 一日营养食谱设计","高教组","课件","二等奖",null,{"$f":"VLOOKUP(B2197,[1]高教组!B:M,6,0)","v":"王英"},{"$f":"VLOOKUP(B2197,[1]高教组!B:M,7,0)","v":"广州城市职业学院"},{"$f":"VLOOKUP(B2197,[1]高教组!B:M,8,0)","v":"张越华"},{"$f":"VLOOKUP(B2197,[1]高教组!B:M,9,0)","v":"广州城市职业学院"},{"$f":"VLOOKUP(B2197,[2]sheet2!B:L,10,0)","v":"王欢"},{"$f":"VLOOKUP(B2197,[2]sheet2!B:L,11,0)","v":"广州城市职业学院"},"http://183.62.54.51:8841/data/files/certificate/000000000439/1f8f966865f5465ca4b016e1c71002d2/signed/2195_王英、张越华、王欢_二等奖_8082.pdf"]
[2196,"P301619089492","心电学基本知识","高教组","课件","二等奖",null,{"$f":"VLOOKUP(B2198,[1]高教组!B:M,6,0)","v":"李海念"},{"$f":"VLOOKUP(B2198,[1]高教组!B:M,7,0)","v":"广东茂名健康职业学院"},{"$f":"VLOOKUP(B2198,[1]高教组!B:M,8,0)","v":"-"},{"$f":"VLOOKUP(B2198,[1]高教组!B:M,9,0)","v":"-"},{"$f":"VLOOKUP(B2198,[2]sheet2!B:L,10,0)","v":"-"},{"$f":"VLOOKUP(B2198,[2]sheet2!B:L,11,0)","v":"-"},"http://183.62.54.51:8841/data/files/certificate/000000000439/9226c62add01400d84447ecaeab3c124/signed/2196_李海念_二等奖_8083.pdf"]
[2197,"P302619089257","CrazyTalk让人物图片开口说话","高教组","微课","二等奖",null,{"$f":"VLOOKUP(B2199,[1]高教组!B:M,6,0)","v":"詹宏基"},{"$f":"VLOOKUP(B2199,[1]高教组!B:M,7,0)","v":"华南理工大学"},{"$f":"VLOOKUP(B2199,[1]高教组!B:M,8,0)","v":"麻晓林"},{"$f":"VLOOKUP(B2199,[1]高教组!B:M,9,0)","v":"华南理工大学"},{"$f":"VLOOKUP(B2199,[2]sheet2!B:L,10,0)","v":"陆芳"},{"$f":"VLOOKUP(B2199,[2]sheet2!B:L,11,0)","v":"华南理工大学"},"http://183.62.54.51:8841/data/files/certificate/000000000439/e47b337481ab4f0ca91fef1dc4177524/signed/2197_詹宏基、麻晓林、陆芳_二等奖_8084.pdf"]
[2198,"P302619089818","网络经济中的&ldquo;长尾理论&rdquo;","高教组","微课","二等奖",null,{"$f":"VLOOKUP(B2200,[1]高教组!B:M,6,0)","v":"李曼"},{"$f":"VLOOKUP(B2200,[1]高教组!B:M,7,0)","v":"广东东软学院"},{"$f":"VLOOKUP(B2200,[1]高教组!B:M,8,0)","v":"-"},{"$f":"VLOOKUP(B2200,[1]高教组!B:M,9,0)","v":"-"},{"$f":"VLOOKUP(B2200,[2]sheet2!B:L,10,0)","v":"-"},{"$f":"VLOOKUP(B2200,[2]sheet2!B:L,11,0)","v":"-"},"http://183.62.54.51:8841/data/files/certificate/000000000439/edd08b8d2b0343029cb5065e22aa9f6c/signed/2198_李曼_二等奖_8085.pdf"]
[2199,"P302619087453","火柴人走路动画制作-Flash元件应用","高教组","微课","二等奖",null,{"$f":"VLOOKUP(B2201,[1]高教组!B:M,6,0)","v":"王婧"},{"$f":"VLOOKUP(B2201,[1]高教组!B:M,7,0)","v":"吉林大学珠海学院"},{"$f":"VLOOKUP(B2201,[1]高教组!B:M,8,0)","v":"-"},{"$f":"VLOOKUP(B2201,[1]高教组!B:M,9,0)","v":"-"},{"$f":"VLOOKUP(B2201,[2]sheet2!B:L,10,0)","v":"-"},{"$f":"VLOOKUP(B2201,[2]sheet2!B:L,11,0)","v":"-"},"http://183.62.54.51:8841/data/files/certificate/000000000439/e2b4fde744d04153838be05f07c9bc72/signed/2199_王婧_二等奖_8086.pdf"]
[2200,"P302619089733","消费者知觉的特性","高教组","微课","二等奖",null,{"$f":"VLOOKUP(B2202,[1]高教组!B:M,6,0)","v":"李苹绣"},{"$f":"VLOOKUP(B2202,[1]高教组!B:M,7,0)","v":"广东东软学院"},{"$f":"VLOOKUP(B2202,[1]高教组!B:M,8,0)","v":"鲁海英"},{"$f":"VLOOKUP(B2202,[1]高教组!B:M,9,0)","v":"广东东软学院"},{"$f":"VLOOKUP(B2202,[2]sheet2!B:L,10,0)","v":"何锦明"},{"$f":"VLOOKUP(B2202,[2]sheet2!B:L,11,0)","v":"广东东软学院"},"http://183.62.54.51:8841/data/files/certificate/000000000439/b80f4d5a332f43189dafa0285cf2eee2/signed/2200_李苹绣、鲁海英、何锦明_二等奖_8087.pdf"]
[2201,"P302619086925","中国结与数学","高教组","微课","二等奖",null,"阎昕明","广东第二师范学院","-","-",{"$f":"VLOOKUP(B2203,[2]sheet2!B:L,10,0)","v":"-"},{"$f":"VLOOKUP(B2203,[2]sheet2!B:L,11,0)","v":"-"},"http://183.62.54.51:8841/data/files/certificate/000000000439/1fd02ecf63b44afa8669634e52678b1d/signed/2201_阎昕明_二等奖_8088.pdf"]
[2202,"P302619087679","解读工匠精神","高教组","微课","二等奖",null,{"$f":"VLOOKUP(B2204,[1]高教组!B:M,6,0)","v":"蔡小葵"},{"$f":"VLOOKUP(B2204,[1]高教组!B:M,7,0)","v":"广东轻工职业技术学院"},{"$f":"VLOOKUP(B2204,[1]高教组!B:M,8,0)","v":"赵薇"},{"$f":"VLOOKUP(B2204,[1]高教组!B:M,9,0)","v":"广东轻工职业技术学院"},{"$f":"VLOOKUP(B2204,[2]sheet2!B:L,10,0)","v":"黄英霞"},{"$f":"VLOOKUP(B2204,[2]sheet2!B:L,11,0)","v":"广东轻工职业技术学院"},"http://183.62.54.51:8841/data/files/certificate/000000000439/f18f75d68cbc4282a9735caef113d618/signed/2202_蔡小葵、赵薇、黄英霞_二等奖_8089.pdf"]
[2203,"P302619088786","注塑产品的收缩特性","高教组","微课","二等奖",null,{"$f":"VLOOKUP(B2205,[1]高教组!B:M,6,0)","v":"黄晓明"},{"$f":"VLOOKUP(B2205,[1]高教组!B:M,7,0)","v":"广东岭南职业技术学院"},{"$f":"VLOOKUP(B2205,[1]高教组!B:M,8,0)","v":"田晶"},{"$f":"VLOOKUP(B2205,[1]高教组!B:M,9,0)","v":"广东岭南职业技术学院"},{"$f":"VLOOKUP(B2205,[2]sheet2!B:L,10,0)","v":"张鉴隆"},{"$f":"VLOOKUP(B2205,[2]sheet2!B:L,11,0)","v":"广东岭南职业技术学院"},"http://183.62.54.51:8841/data/files/certificate/000000000439/9e8e4a1d83ae4f27953ea14260826c8f/signed/2203_黄晓明、田晶、张鉴隆_二等奖_8090.pdf"]
[2204,"P302619088026","设计思维之思维发散","高教组","微课","二等奖",null,{"$f":"VLOOKUP(B2206,[1]高教组!B:M,6,0)","v":"詹泽慧"},{"$f":"VLOOKUP(B2206,[1]高教组!B:M,7,0)","v":"华南师范大学"},{"$f":"VLOOKUP(B2206,[1]高教组!B:M,8,0)","v":"邵芳芳"},{"$f":"VLOOKUP(B2206,[1]高教组!B:M,9,0)","v":"华南师范大学"},{"$f":"VLOOKUP(B2206,[2]sheet2!B:L,10,0)","v":"何国庆"},{"$f":"VLOOKUP(B2206,[2]sheet2!B:L,11,0)","v":"华南师范大学"},"http://183.62.54.51:8841/data/files/certificate/000000000439/ea60a2d52f6a41868d4057ad492267f2/signed/2204_詹泽慧、邵芳芳、何国庆_二等奖_8091.pdf"]
[2205,"P302619088956","Interview Strategies","高教组","微课","二等奖",null,{"$f":"VLOOKUP(B2207,[1]高教组!B:M,6,0)","v":"陈绮雯"},{"$f":"VLOOKUP(B2207,[1]高教组!B:M,7,0)","v":"中山大学新华学院"},{"$f":"VLOOKUP(B2207,[1]高教组!B:M,8,0)","v":"谭雄胜"},{"$f":"VLOOKUP(B2207,[1]高教组!B:M,9,0)","v":"中山大学新华学院"},{"$f":"VLOOKUP(B2207,[2]sheet2!B:L,10,0)","v":"简俊"},{"$f":"VLOOKUP(B2207,[2]sheet2!B:L,11,0)","v":"中山大学新华学院"},"http://183.62.54.51:8841/data/files/certificate/000000000439/8e1812ead2c24db4a909230ec04cd183/signed/2205_陈绮雯、谭雄胜、简俊_二等奖_8092.pdf"]
[2206,"P302619091133","石子表观密度的测定","高教组","微课","二等奖",null,{"$f":"VLOOKUP(B2208,[1]高教组!B:M,6,0)","v":"林锦眉"},{"$f":"VLOOKUP(B2208,[1]高教组!B:M,7,0)","v":"广东工业大学华立学院"},{"$f":"VLOOKUP(B2208,[1]高教组!B:M,8,0)","v":"张波"},{"$f":"VLOOKUP(B2208,[1]高教组!B:M,9,0)","v":"广东工业大学华立学院"},{"$f":"VLOOKUP(B2208,[2]sheet2!B:L,10,0)","v":"何汝基"},{"$f":"VLOOKUP(B2208,[2]sheet2!B:L,11,0)","v":"广东工业大学华立学院"},"http://183.62.54.51:8841/data/files/certificate/000000000439/d88121a754504b01aa729af998ec1b3a/signed/2206_林锦眉、张波、何汝基_二等奖_8093.pdf"]
[2207,"P302619088414","初识电除尘器","高教组","微课","二等奖",null,{"$f":"VLOOKUP(B2209,[1]高教组!B:M,6,0)","v":"何建林"},{"$f":"VLOOKUP(B2209,[1]高教组!B:M,7,0)","v":"广东环境保护工程职业学院"},{"$f":"VLOOKUP(B2209,[1]高教组!B:M,8,0)","v":"黄杰洪"},{"$f":"VLOOKUP(B2209,[1]高教组!B:M,9,0)","v":"广东环境保护工程职业学院"},{"$f":"VLOOKUP(B2209,[2]sheet2!B:L,10,0)","v":"杨鸿"},{"$f":"VLOOKUP(B2209,[2]sheet2!B:L,11,0)","v":"广东环境保护工程职业学院"},"http://183.62.54.51:8841/data/files/certificate/000000000439/5b1522e44bd5415e9e14f612b853eac1/signed/2207_何建林、黄杰洪、杨鸿_二等奖_8094.pdf"]
[2208,"P302619081553","定积分的定义","高教组","微课","二等奖",null,{"$f":"VLOOKUP(B2210,[1]高教组!B:M,6,0)","v":"魏悦姿"},{"$f":"VLOOKUP(B2210,[1]高教组!B:M,7,0)","v":"广州医科大学"},{"$f":"VLOOKUP(B2210,[1]高教组!B:M,8,0)","v":"-"},{"$f":"VLOOKUP(B2210,[1]高教组!B:M,9,0)","v":"-"},{"$f":"VLOOKUP(B2210,[2]sheet2!B:L,10,0)","v":"-"},{"$f":"VLOOKUP(B2210,[2]sheet2!B:L,11,0)","v":"-"},"http://183.62.54.51:8841/data/files/certificate/000000000439/6c76d2348bea42b5bc66b831c722f35e/signed/2208_魏悦姿_二等奖_8095.pdf"]
[2209,"P302619086849","习近平强军思想领航建设世界一流军队","高教组","微课","二等奖",null,{"$f":"VLOOKUP(B2211,[1]高教组!B:M,6,0)","v":"余芳"},{"$f":"VLOOKUP(B2211,[1]高教组!B:M,7,0)","v":"广东轻工职业技术学院"},{"$f":"VLOOKUP(B2211,[1]高教组!B:M,8,0)","v":"许为谨"},{"$f":"VLOOKUP(B2211,[1]高教组!B:M,9,0)","v":"广东轻工职业技术学院"},{"$f":"VLOOKUP(B2211,[2]sheet2!B:L,10,0)","v":"袁慎芝"},{"$f":"VLOOKUP(B2211,[2]sheet2!B:L,11,0)","v":"广东轻工职业技术学院"},"http://183.62.54.51:8841/data/files/certificate/000000000439/fd5412d8063d41d3b7873ab8601721e7/signed/2209_余芳、许为谨、袁慎芝_二等奖_8096.pdf"]
[2210,"P302619091273","典型的热能转换装置","高教组","微课","二等奖",null,{"$f":"VLOOKUP(B2212,[1]高教组!B:M,6,0)","v":"冯甜甜"},{"$f":"VLOOKUP(B2212,[1]高教组!B:M,7,0)","v":"广东白云学院"},{"$f":"VLOOKUP(B2212,[1]高教组!B:M,8,0)","v":"-"},{"$f":"VLOOKUP(B2212,[1]高教组!B:M,9,0)","v":"-"},{"$f":"VLOOKUP(B2212,[2]sheet2!B:L,10,0)","v":"-"},{"$f":"VLOOKUP(B2212,[2]sheet2!B:L,11,0)","v":"-"},"http://183.62.54.51:8841/data/files/certificate/000000000439/fe7952b209c843088fb457b3e1df7cc2/signed/2210_冯甜甜_二等奖_8097.pdf"]
[2211,"P302619091172","七十二变之分身术利用AE遮罩功能打造分身特效","高教组","微课","二等奖",null,{"$f":"VLOOKUP(B2213,[1]高教组!B:M,6,0)","v":"高平"},{"$f":"VLOOKUP(B2213,[1]高教组!B:M,7,0)","v":"广州商学院"},{"$f":"VLOOKUP(B2213,[1]高教组!B:M,8,0)","v":"曾小兰"},{"$f":"VLOOKUP(B2213,[1]高教组!B:M,9,0)","v":"广州商学院"},{"$f":"VLOOKUP(B2213,[2]sheet2!B:L,10,0)","v":"-"},{"$f":"VLOOKUP(B2213,[2]sheet2!B:L,11,0)","v":"-"},"http://183.62.54.51:8841/data/files/certificate/000000000439/76bf77cf0c294133af3c4125ebf3bdec/signed/2211_高平、曾小兰_二等奖_8098.pdf"]
[2212,"P302619088455","一点透视技法","高教组","微课","二等奖",null,{"$f":"VLOOKUP(B2214,[1]高教组!B:M,6,0)","v":"万可萌"},{"$f":"VLOOKUP(B2214,[1]高教组!B:M,7,0)","v":"广州华南商贸职业学院"},{"$f":"VLOOKUP(B2214,[1]高教组!B:M,8,0)","v":"李端慧"},{"$f":"VLOOKUP(B2214,[1]高教组!B:M,9,0)","v":"广州华南商贸职业学院"},{"$f":"VLOOKUP(B2214,[2]sheet2!B:L,10,0)","v":"-"},{"$f":"VLOOKUP(B2214,[2]sheet2!B:L,11,0)","v":"-"},"http://183.62.54.51:8841/data/files/certificate/000000000439/1fb77fa4c8604811b299ab12081f89bb/signed/2212_万可萌、李端慧_二等奖_8099.pdf"]
[2213,"P302619090209","生活中的物理学&mdash;&mdash;转动","高教组","微课","二等奖",null,{"$f":"VLOOKUP(B2215,[1]高教组!B:M,6,0)","v":"张伟"},{"$f":"VLOOKUP(B2215,[1]高教组!B:M,7,0)","v":"暨南大学"},{"$f":"VLOOKUP(B2215,[1]高教组!B:M,8,0)","v":"陆星"},{"$f":"VLOOKUP(B2215,[1]高教组!B:M,9,0)","v":"暨南大学"},{"$f":"VLOOKUP(B2215,[2]sheet2!B:L,10,0)","v":"杨七平"},{"$f":"VLOOKUP(B2215,[2]sheet2!B:L,11,0)","v":"暨南大学"},"http://183.62.54.51:8841/data/files/certificate/000000000439/3b66d98be6e643f0b2b270fc398817bc/signed/2213_张伟、陆星、杨七平_二等奖_8100.pdf"]
[2214,"P440000000005","神奇的if函数","高教组","微课","二等奖",null,"王强","广东技术师范大学","徐省华","广东技术师范大学","黄经赢","广东技术师范大学","http://183.62.54.51:8841/data/files/certificate/000000000439/62af8c46cf1340a984f4cefc37aca44c/signed/2214_王强、徐省华、黄经赢_二等奖_8101.pdf"]
[2215,"P302619086077","哆啦A梦番外Arduino蓝牙通信","高教组","微课","二等奖",null,{"$f":"VLOOKUP(B2217,[1]高教组!B:M,6,0)","v":"魏彦"},{"$f":"VLOOKUP(B2217,[1]高教组!B:M,7,0)","v":"深圳职业技术学院"},{"$f":"VLOOKUP(B2217,[1]高教组!B:M,8,0)","v":"-"},{"$f":"VLOOKUP(B2217,[1]高教组!B:M,9,0)","v":"-"},{"$f":"VLOOKUP(B2217,[2]sheet2!B:L,10,0)","v":"-"},{"$f":"VLOOKUP(B2217,[2]sheet2!B:L,11,0)","v":"-"},"http://183.62.54.51:8841/data/files/certificate/000000000439/0cee0012c5c049639a63598b9c1ac8a1/signed/2215_魏彦_二等奖_8102.pdf"]
[2216,"P302619086329","拥抱的力量儿童海式急救法","高教组","微课","二等奖",null,{"$f":"VLOOKUP(B2218,[1]高教组!B:M,6,0)","v":"黄婉霞"},{"$f":"VLOOKUP(B2218,[1]高教组!B:M,7,0)","v":"广州卫生职业技术学院"},{"$f":"VLOOKUP(B2218,[1]高教组!B:M,8,0)","v":"贺艳"},{"$f":"VLOOKUP(B2218,[1]高教组!B:M,9,0)","v":"广州卫生职业技术学院"},{"$f":"VLOOKUP(B2218,[2]sheet2!B:L,10,0)","v":"罗俏玲"},{"$f":"VLOOKUP(B2218,[2]sheet2!B:L,11,0)","v":"广州卫生职业技术学院"},"http://183.62.54.51:8841/data/files/certificate/000000000439/f8976e6957254cd0b78e33d1d0e2beca/signed/2216_黄婉霞、贺艳、罗俏玲_二等奖_8103.pdf"]
[2217,"P302619089049","液体制剂的合理应用及药学服务技巧","高教组","微课","二等奖",null,{"$f":"VLOOKUP(B2219,[1]高教组!B:M,6,0)","v":"陈伶俐"},{"$f":"VLOOKUP(B2219,[1]高教组!B:M,7,0)","v":"广东食品药品职业学院"},{"$f":"VLOOKUP(B2219,[1]高教组!B:M,8,0)","v":"林青"},{"$f":"VLOOKUP(B2219,[1]高教组!B:M,9,0)","v":"广东食品药品职业学院"},{"$f":"VLOOKUP(B2219,[2]sheet2!B:L,10,0)","v":"姚瑶"},{"$f":"VLOOKUP(B2219,[2]sheet2!B:L,11,0)","v":"广东食品药品职业学院"},"http://183.62.54.51:8841/data/files/certificate/000000000439/a484357dea5b409ea07550c3b014f0bd/signed/2217_陈伶俐、林青、姚瑶_二等奖_8104.pdf"]
[2218,"P302619090527","摄影的光位","高教组","微课","二等奖",null,{"$f":"VLOOKUP(B2220,[1]高教组!B:M,6,0)","v":"何莉丽"},{"$f":"VLOOKUP(B2220,[1]高教组!B:M,7,0)","v":"广东工业大学华立学院"},{"$f":"VLOOKUP(B2220,[1]高教组!B:M,8,0)","v":"肖华英"},{"$f":"VLOOKUP(B2220,[1]高教组!B:M,9,0)","v":"广东工业大学华立学院"},{"$f":"VLOOKUP(B2220,[2]sheet2!B:L,10,0)","v":"-"},{"$f":"VLOOKUP(B2220,[2]sheet2!B:L,11,0)","v":"-"},"http://183.62.54.51:8841/data/files/certificate/000000000439/f87a8242994449b3983afbd8b61c85d4/signed/2218_何莉丽、肖华英_二等奖_8105.pdf"]
[2219,"P303619086274","大货柜巧计算选择最佳的集装箱装箱方案","高教组","信息化教学课程案例","二等奖",null,"王莹书","广州城建职业学院","李志强","广州城建职业学院",{"$f":"VLOOKUP(B2221,[2]sheet2!B:L,10,0)","v":"夏季"},{"$f":"VLOOKUP(B2221,[2]sheet2!B:L,11,0)","v":"广州城建职业学院"},"http://183.62.54.51:8841/data/files/certificate/000000000439/a952d0cc41954a66a9a287f51340165b/signed/2219_王莹书、李志强、夏季_二等奖_8106.pdf"]
[2220,"P303619090007","护理人员伦理道德规范","高教组","信息化教学课程案例","二等奖",null,{"$f":"VLOOKUP(B2222,[1]高教组!B:M,6,0)","v":"王丽萍"},{"$f":"VLOOKUP(B2222,[1]高教组!B:M,7,0)","v":"广东医科大学"},{"$f":"VLOOKUP(B2222,[1]高教组!B:M,8,0)","v":"孙嘉"},{"$f":"VLOOKUP(B2222,[1]高教组!B:M,9,0)","v":"广东医科大学"},{"$f":"VLOOKUP(B2222,[2]sheet2!B:L,10,0)","v":"彭旭"},{"$f":"VLOOKUP(B2222,[2]sheet2!B:L,11,0)","v":"广东医科大学"},"http://183.62.54.51:8841/data/files/certificate/000000000439/bbc185eac7fc48f4ba6e02f7ca62bf05/signed/2220_王丽萍、孙嘉、彭旭_二等奖_8107.pdf"]
[2221,"P440000000004","仪器分析技术信息化课程教学案例","高教组","信息化教学课程案例","二等奖",null,"赵文华","中山职业技术学院","杨秋菊","中山职业技术学院","庄晓梅","中山职业技术学院","http://183.62.54.51:8841/data/files/certificate/000000000439/9e9b64b0fbfb4864b918728635c74f81/signed/2221_赵文华、杨秋菊、庄晓梅_二等奖_8108.pdf"]
[2222,"P303619087789","&ldquo;学术诚信与剽窃&rdquo;混合式教学案例","高教组","信息化教学课程案例","二等奖",null,{"$f":"VLOOKUP(B2224,[1]高教组!B:M,6,0)","v":"张倩苇"},{"$f":"VLOOKUP(B2224,[1]高教组!B:M,7,0)","v":"华南师范大学"},{"$f":"VLOOKUP(B2224,[1]高教组!B:M,8,0)","v":"谭健豪"},{"$f":"VLOOKUP(B2224,[1]高教组!B:M,9,0)","v":"华南师范大学"},{"$f":"VLOOKUP(B2224,[2]sheet2!B:L,10,0)","v":"杨春霞"},{"$f":"VLOOKUP(B2224,[2]sheet2!B:L,11,0)","v":"华南师范大学"},"http://183.62.54.51:8841/data/files/certificate/000000000439/3e6e3a93bbb84404bdbac80df0664c4c/signed/2222_张倩苇、谭健豪、杨春霞_二等奖_8109.pdf"]
[2223,"P303619090211","MG动画的制作","高教组","信息化教学课程案例","二等奖",null,{"$f":"VLOOKUP(B2225,[1]高教组!B:M,6,0)","v":"詹宏基"},{"$f":"VLOOKUP(B2225,[1]高教组!B:M,7,0)","v":"华南理工大学"},{"$f":"VLOOKUP(B2225,[1]高教组!B:M,8,0)","v":"刘广"},{"$f":"VLOOKUP(B2225,[1]高教组!B:M,9,0)","v":"华南理工大学"},{"$f":"VLOOKUP(B2225,[2]sheet2!B:L,10,0)","v":"陆芳"},{"$f":"VLOOKUP(B2225,[2]sheet2!B:L,11,0)","v":"华南理工大学"},"http://183.62.54.51:8841/data/files/certificate/000000000439/c20801f1e71a4de8991f25d29af30e80/signed/2223_詹宏基、刘广、陆芳_二等奖_8110.pdf"]
[2224,"P303619091249","信息化教学在XML技术课程中的应用","高教组","信息化教学课程案例","二等奖",null,{"$f":"VLOOKUP(B2226,[1]高教组!B:M,6,0)","v":"徐宝林"},{"$f":"VLOOKUP(B2226,[1]高教组!B:M,7,0)","v":"广东白云学院"},{"$f":"VLOOKUP(B2226,[1]高教组!B:M,8,0)","v":"-"},{"$f":"VLOOKUP(B2226,[1]高教组!B:M,9,0)","v":"-"},{"$f":"VLOOKUP(B2226,[2]sheet2!B:L,10,0)","v":"-"},{"$f":"VLOOKUP(B2226,[2]sheet2!B:L,11,0)","v":"-"},"http://183.62.54.51:8841/data/files/certificate/000000000439/85413b2f60d54bb0beaf67e18b2a0104/signed/2224_徐宝林_二等奖_8111.pdf"]
[2225,"P303619088081","课程思政视域下的创客培养研究","高教组","信息化教学课程案例","二等奖",null,{"$f":"VLOOKUP(B2227,[1]高教组!B:M,6,0)","v":"王楚鸿"},{"$f":"VLOOKUP(B2227,[1]高教组!B:M,7,0)","v":"华南师范大学"},{"$f":"VLOOKUP(B2227,[1]高教组!B:M,8,0)","v":"蔡韶华"},{"$f":"VLOOKUP(B2227,[1]高教组!B:M,9,0)","v":"华南师范大学"},{"$f":"VLOOKUP(B2227,[2]sheet2!B:L,10,0)","v":"陈亚芝"},{"$f":"VLOOKUP(B2227,[2]sheet2!B:L,11,0)","v":"华南师范大学"},"http://183.62.54.51:8841/data/files/certificate/000000000439/9693402056d44e3c88c35d5a069bb21f/signed/2225_王楚鸿、蔡韶华、陈亚芝_二等奖_8112.pdf"]
[2226,"P303619087377","工匠精神的知与行","高教组","信息化教学课程案例","二等奖",null,{"$f":"VLOOKUP(B2228,[1]高教组!B:M,6,0)","v":"蔡小葵"},{"$f":"VLOOKUP(B2228,[1]高教组!B:M,7,0)","v":"广东轻工职业技术学院"},{"$f":"VLOOKUP(B2228,[1]高教组!B:M,8,0)","v":"余芳"},{"$f":"VLOOKUP(B2228,[1]高教组!B:M,9,0)","v":"广东轻工职业技术学院"},{"$f":"VLOOKUP(B2228,[2]sheet2!B:L,10,0)","v":"高顺起"},{"$f":"VLOOKUP(B2228,[2]sheet2!B:L,11,0)","v":"广东轻工职业技术学院"},"http://183.62.54.51:8841/data/files/certificate/000000000439/0fde422166624bebbeecc7da1f45166b/signed/2226_蔡小葵、余芳、高顺起_二等奖_8113.pdf"]
[2227,"P303619088905","翻转课堂-PBL教学案例视频","高教组","信息化教学课程案例","二等奖",null,{"$f":"VLOOKUP(B2229,[1]高教组!B:M,6,0)","v":"刘盈"},{"$f":"VLOOKUP(B2229,[1]高教组!B:M,7,0)","v":"中山大学新华学院"},{"$f":"VLOOKUP(B2229,[1]高教组!B:M,8,0)","v":"张素中"},{"$f":"VLOOKUP(B2229,[1]高教组!B:M,9,0)","v":"中山大学新华学院"},{"$f":"VLOOKUP(B2229,[2]sheet2!B:L,10,0)","v":"黄鹤"},{"$f":"VLOOKUP(B2229,[2]sheet2!B:L,11,0)","v":"中山大学新华学院"},"http://183.62.54.51:8841/data/files/certificate/000000000439/1e485dc7efe94e5aa5597b08adb29b2f/signed/2227_刘盈、张素中、黄鹤_二等奖_8114.pdf"]
[2228,"P303619090511","讲好长征故事弘扬长征精神","高教组","信息化教学课程案例","二等奖",null,{"$f":"VLOOKUP(B2230,[1]高教组!B:M,6,0)","v":"李作芳"},{"$f":"VLOOKUP(B2230,[1]高教组!B:M,7,0)","v":"广东工业大学华立学院"},{"$f":"VLOOKUP(B2230,[1]高教组!B:M,8,0)","v":"李炽平"},{"$f":"VLOOKUP(B2230,[1]高教组!B:M,9,0)","v":"广东工业大学华立学院"},{"$f":"VLOOKUP(B2230,[2]sheet2!B:L,10,0)","v":"李孟"},{"$f":"VLOOKUP(B2230,[2]sheet2!B:L,11,0)","v":"广东工业大学华立学院"},"http://183.62.54.51:8841/data/files/certificate/000000000439/9e288194a4b34c5f9c683cc1fbc7101c/signed/2228_李作芳、李炽平、李孟_二等奖_8115.pdf"]
[2229,"P303619091459","无效劳动合同与劳动争议处理制度","高教组","信息化教学课程案例","二等奖",null,{"$f":"VLOOKUP(B2231,[1]高教组!B:M,6,0)","v":"陈 欢"},{"$f":"VLOOKUP(B2231,[1]高教组!B:M,7,0)","v":"私立华联学院"},{"$f":"VLOOKUP(B2231,[1]高教组!B:M,8,0)","v":"李伟俭"},{"$f":"VLOOKUP(B2231,[1]高教组!B:M,9,0)","v":"私立华联学院"},{"$f":"VLOOKUP(B2231,[2]sheet2!B:L,10,0)","v":"李斯娴"},{"$f":"VLOOKUP(B2231,[2]sheet2!B:L,11,0)","v":"私立华联学院"},"http://183.62.54.51:8841/data/files/certificate/000000000439/0db1f4eb7fa64606a629ffe17e405da1/signed/2229_陈欢、李伟俭、李斯娴_二等奖_8116.pdf"]
[2230,"P303619088257","H5导航栏设计","高教组","信息化教学课程案例","二等奖",null,{"$f":"VLOOKUP(B2232,[1]高教组!B:M,6,0)","v":"李泽文"},{"$f":"VLOOKUP(B2232,[1]高教组!B:M,7,0)","v":"广州城市职业学院"},{"$f":"VLOOKUP(B2232,[1]高教组!B:M,8,0)","v":"陈晓柱"},{"$f":"VLOOKUP(B2232,[1]高教组!B:M,9,0)","v":"广州城市职业学院"},{"$f":"VLOOKUP(B2232,[2]sheet2!B:L,10,0)","v":"陈宁"},{"$f":"VLOOKUP(B2232,[2]sheet2!B:L,11,0)","v":"广州城市职业学院"},"http://183.62.54.51:8841/data/files/certificate/000000000439/ccbae6c2c8254ae8b8a6d0f62daa55e0/signed/2230_李泽文、陈晓柱、陈宁_二等奖_8117.pdf"]
[2231,"P301619088297","原子吸收分光光度计","高教组","课件","三等奖",null,{"$f":"VLOOKUP(B2233,[1]高教组!B:M,6,0)","v":"吴荣方"},{"$f":"VLOOKUP(B2233,[1]高教组!B:M,7,0)","v":"广东环境保护工程职业学院"},{"$f":"VLOOKUP(B2233,[1]高教组!B:M,8,0)","v":"林书乐"},{"$f":"VLOOKUP(B2233,[1]高教组!B:M,9,0)","v":"广东环境保护工程职业学院"},{"$f":"VLOOKUP(B2233,[2]sheet2!B:L,10,0)","v":"李彩霞"},{"$f":"VLOOKUP(B2233,[2]sheet2!B:L,11,0)","v":"广东环境保护工程职业学院"},"http://183.62.54.51:8841/data/files/certificate/000000000439/4071c0652b5c47949114b25cfcf19baf/signed/2231_吴荣方、林书乐、李彩霞_三等奖_8118.pdf"]
[2232,"P301619091573","北欧设计风格","高教组","课件","三等奖",null,{"$f":"VLOOKUP(B2234,[1]高教组!B:M,6,0)","v":"吴珊"},{"$f":"VLOOKUP(B2234,[1]高教组!B:M,7,0)","v":"广东白云学院"},{"$f":"VLOOKUP(B2234,[1]高教组!B:M,8,0)","v":"-"},{"$f":"VLOOKUP(B2234,[1]高教组!B:M,9,0)","v":"-"},{"$f":"VLOOKUP(B2234,[2]sheet2!B:L,10,0)","v":"-"},{"$f":"VLOOKUP(B2234,[2]sheet2!B:L,11,0)","v":"-"},"http://183.62.54.51:8841/data/files/certificate/000000000439/e0dfe34e835b47d695c81da8a14a48fd/signed/2232_吴珊_三等奖_8119.pdf"]
[2233,"P301619089015","绽放的互联网金融","高教组","课件","三等奖",null,"王一琳","广州工商学院","赵鑫","广州工商学院",{"$f":"VLOOKUP(B2235,[2]sheet2!B:L,10,0)","v":"高桥锋"},{"$f":"VLOOKUP(B2235,[2]sheet2!B:L,11,0)","v":"广州工商学院"},"http://183.62.54.51:8841/data/files/certificate/000000000439/e9451e91907e432591fc43297210d2ae/signed/2233_王一琳、赵鑫、高桥锋_三等奖_8120.pdf"]
[2234,"P301619079920","室内空间设计的概况","高教组","课件","三等奖",null,"梁少芳","广东工商职业学院","-","-",{"$f":"VLOOKUP(B2236,[2]sheet2!B:L,10,0)","v":"-"},{"$f":"VLOOKUP(B2236,[2]sheet2!B:L,11,0)","v":"-"},"http://183.62.54.51:8841/data/files/certificate/000000000439/599ff5a837604bffb807cffae93835a3/signed/2234_梁少芳_三等奖_8121.pdf"]
[2235,"P301619088463","一点透视技法","高教组","课件","三等奖",null,{"$f":"VLOOKUP(B2237,[1]高教组!B:M,6,0)","v":"万可萌"},{"$f":"VLOOKUP(B2237,[1]高教组!B:M,7,0)","v":"广州华南商贸职业学院"},{"$f":"VLOOKUP(B2237,[1]高教组!B:M,8,0)","v":"李端慧"},{"$f":"VLOOKUP(B2237,[1]高教组!B:M,9,0)","v":"广州华南商贸职业学院"},{"$f":"VLOOKUP(B2237,[2]sheet2!B:L,10,0)","v":"-"},{"$f":"VLOOKUP(B2237,[2]sheet2!B:L,11,0)","v":"-"},"http://183.62.54.51:8841/data/files/certificate/000000000439/7da03d557ccf41eeb727c24ef968ccc7/signed/2235_万可萌、李端慧_三等奖_8122.pdf"]
[2236,"P301619085567","导尿及留置导尿管护理","高教组","课件","三等奖",null,{"$f":"VLOOKUP(B2238,[1]高教组!B:M,6,0)","v":"李雪丽"},{"$f":"VLOOKUP(B2238,[1]高教组!B:M,7,0)","v":"广州医科大学"},{"$f":"VLOOKUP(B2238,[1]高教组!B:M,8,0)","v":"叶清霞"},{"$f":"VLOOKUP(B2238,[1]高教组!B:M,9,0)","v":"广州医科大学"},{"$f":"VLOOKUP(B2238,[2]sheet2!B:L,10,0)","v":"-"},{"$f":"VLOOKUP(B2238,[2]sheet2!B:L,11,0)","v":"-"},"http://183.62.54.51:8841/data/files/certificate/000000000439/571267d4c19a4508bdd8396373aa0fdd/signed/2236_李雪丽、叶清霞_三等奖_8123.pdf"]
[2237,"P301619088812","美丽人生 从齿开始","高教组","课件","三等奖",null,{"$f":"VLOOKUP(B2239,[1]高教组!B:M,6,0)","v":"杨梅"},{"$f":"VLOOKUP(B2239,[1]高教组!B:M,7,0)","v":"广东茂名健康职业学院"},{"$f":"VLOOKUP(B2239,[1]高教组!B:M,8,0)","v":"林丽飞"},{"$f":"VLOOKUP(B2239,[1]高教组!B:M,9,0)","v":"广东茂名健康职业学院"},{"$f":"VLOOKUP(B2239,[2]sheet2!B:L,10,0)","v":"-"},{"$f":"VLOOKUP(B2239,[2]sheet2!B:L,11,0)","v":"-"},"http://183.62.54.51:8841/data/files/certificate/000000000439/864de3c171b040f885460ee7c682f0bf/signed/2237_杨梅、林丽飞_三等奖_8124.pdf"]
[2238,"P301619088964","新中式空间的设计","高教组","课件","三等奖",null,{"$f":"VLOOKUP(B2240,[1]高教组!B:M,6,0)","v":"邓向群"},{"$f":"VLOOKUP(B2240,[1]高教组!B:M,7,0)","v":"私立华联学院"},{"$f":"VLOOKUP(B2240,[1]高教组!B:M,8,0)","v":"-"},{"$f":"VLOOKUP(B2240,[1]高教组!B:M,9,0)","v":"-"},{"$f":"VLOOKUP(B2240,[2]sheet2!B:L,10,0)","v":"-"},{"$f":"VLOOKUP(B2240,[2]sheet2!B:L,11,0)","v":"-"},"http://183.62.54.51:8841/data/files/certificate/000000000439/79c391d6430042f8a47066ce76a7abc9/signed/2238_邓向群_三等奖_8125.pdf"]
[2239,"P301619091275","会计要素","高教组","课件","三等奖",null,{"$f":"VLOOKUP(B2241,[1]高教组!B:M,6,0)","v":"单志红"},{"$f":"VLOOKUP(B2241,[1]高教组!B:M,7,0)","v":"广东工业大学华立学院"},{"$f":"VLOOKUP(B2241,[1]高教组!B:M,8,0)","v":"-"},{"$f":"VLOOKUP(B2241,[1]高教组!B:M,9,0)","v":"-"},{"$f":"VLOOKUP(B2241,[2]sheet2!B:L,10,0)","v":"-"},{"$f":"VLOOKUP(B2241,[2]sheet2!B:L,11,0)","v":"-"},"http://183.62.54.51:8841/data/files/certificate/000000000439/f698258cd2ad4a7498589b4311ce60ba/signed/2239_单志红_三等奖_8126.pdf"]
[2240,"P301619089832","数据有效性","高教组","课件","三等奖",null,{"$f":"VLOOKUP(B2242,[1]高教组!B:M,6,0)","v":"叶小莺"},{"$f":"VLOOKUP(B2242,[1]高教组!B:M,7,0)","v":"广东东软学院"},{"$f":"VLOOKUP(B2242,[1]高教组!B:M,8,0)","v":"-"},{"$f":"VLOOKUP(B2242,[1]高教组!B:M,9,0)","v":"-"},{"$f":"VLOOKUP(B2242,[2]sheet2!B:L,10,0)","v":"-"},{"$f":"VLOOKUP(B2242,[2]sheet2!B:L,11,0)","v":"-"},"http://183.62.54.51:8841/data/files/certificate/000000000439/b44088724e614efebb92707543500257/signed/2240_叶小莺_三等奖_8127.pdf"]
[2241,"P301619090091","AnimalProtection","高教组","课件","三等奖",null,{"$f":"VLOOKUP(B2243,[1]高教组!B:M,6,0)","v":"周晓丽"},{"$f":"VLOOKUP(B2243,[1]高教组!B:M,7,0)","v":"广州商学院"},{"$f":"VLOOKUP(B2243,[1]高教组!B:M,8,0)","v":"-"},{"$f":"VLOOKUP(B2243,[1]高教组!B:M,9,0)","v":"-"},{"$f":"VLOOKUP(B2243,[2]sheet2!B:L,10,0)","v":"-"},{"$f":"VLOOKUP(B2243,[2]sheet2!B:L,11,0)","v":"-"},"http://183.62.54.51:8841/data/files/certificate/000000000439/aeaee672826249e38ec9e99165b9af49/signed/2241_周晓丽_三等奖_8128.pdf"]
[2242,"P301619088284","鹦鹉螺Nautilus（壳分析软件）","高教组","课件","三等奖",null,{"$f":"VLOOKUP(B2244,[1]高教组!B:M,6,0)","v":"刘虓"},{"$f":"VLOOKUP(B2244,[1]高教组!B:M,7,0)","v":"华南理工大学"},{"$f":"VLOOKUP(B2244,[1]高教组!B:M,8,0)","v":"-"},{"$f":"VLOOKUP(B2244,[1]高教组!B:M,9,0)","v":"-"},{"$f":"VLOOKUP(B2244,[2]sheet2!B:L,10,0)","v":"-"},{"$f":"VLOOKUP(B2244,[2]sheet2!B:L,11,0)","v":"-"},"http://183.62.54.51:8841/data/files/certificate/000000000439/3440979bdebb4f4283f902cc19fc9804/signed/2242_刘虓_三等奖_8129.pdf"]
[2243,"P301619089150","基础日语课件","高教组","课件","三等奖",null,{"$f":"VLOOKUP(B2245,[1]高教组!B:M,6,0)","v":"陈姗姗"},{"$f":"VLOOKUP(B2245,[1]高教组!B:M,7,0)","v":"仲恺农业工程学院"},{"$f":"VLOOKUP(B2245,[1]高教组!B:M,8,0)","v":"-"},{"$f":"VLOOKUP(B2245,[1]高教组!B:M,9,0)","v":"-"},{"$f":"VLOOKUP(B2245,[2]sheet2!B:L,10,0)","v":"-"},{"$f":"VLOOKUP(B2245,[2]sheet2!B:L,11,0)","v":"-"},"http://183.62.54.51:8841/data/files/certificate/000000000439/d9902003dfc541f892e6fcffb91ea2e6/signed/2243_陈姗姗_三等奖_8130.pdf"]
[2244,"P301619089159","1.1系统管理（ERP模拟实训）","高教组","课件","三等奖",null,{"$f":"VLOOKUP(B2246,[1]高教组!B:M,6,0)","v":"陈小慧"},{"$f":"VLOOKUP(B2246,[1]高教组!B:M,7,0)","v":"华南理工大学广州学院"},{"$f":"VLOOKUP(B2246,[1]高教组!B:M,8,0)","v":"-"},{"$f":"VLOOKUP(B2246,[1]高教组!B:M,9,0)","v":"-"},{"$f":"VLOOKUP(B2246,[2]sheet2!B:L,10,0)","v":"-"},{"$f":"VLOOKUP(B2246,[2]sheet2!B:L,11,0)","v":"-"},"http://183.62.54.51:8841/data/files/certificate/000000000439/02d665140972459582fd2180d9edc2de/signed/2244_陈小慧_三等奖_8131.pdf"]
[2245,"P301619090082","导向信息设计课件","高教组","课件","三等奖",null,{"$f":"VLOOKUP(B2247,[1]高教组!B:M,6,0)","v":"张雅"},{"$f":"VLOOKUP(B2247,[1]高教组!B:M,7,0)","v":"仲恺农业工程学院"},{"$f":"VLOOKUP(B2247,[1]高教组!B:M,8,0)","v":"宋璟瑜"},{"$f":"VLOOKUP(B2247,[1]高教组!B:M,9,0)","v":"仲恺农业工程学院"},{"$f":"VLOOKUP(B2247,[2]sheet2!B:L,10,0)","v":"-"},{"$f":"VLOOKUP(B2247,[2]sheet2!B:L,11,0)","v":"-"},"http://183.62.54.51:8841/data/files/certificate/000000000439/647dbcb7f9bf42179a8da17467145e13/signed/2245_张雅、宋璟瑜_三等奖_8132.pdf"]
[2246,"P301619089312","动画概论中国动画","高教组","课件","三等奖",null,{"$f":"VLOOKUP(B2248,[1]高教组!B:M,6,0)","v":"史云昊"},{"$f":"VLOOKUP(B2248,[1]高教组!B:M,7,0)","v":"广州大学松田学院"},{"$f":"VLOOKUP(B2248,[1]高教组!B:M,8,0)","v":"朱学勤"},{"$f":"VLOOKUP(B2248,[1]高教组!B:M,9,0)","v":"广州大学松田学院"},{"$f":"VLOOKUP(B2248,[2]sheet2!B:L,10,0)","v":"-"},{"$f":"VLOOKUP(B2248,[2]sheet2!B:L,11,0)","v":"-"},"http://183.62.54.51:8841/data/files/certificate/000000000439/177e22edc81a404a872b37b28e6b026c/signed/2246_史云昊、朱学勤_三等奖_8133.pdf"]
[2247,"P301619088632","金融学","高教组","课件","三等奖",null,{"$f":"VLOOKUP(B2249,[1]高教组!B:M,6,0)","v":"马超平"},{"$f":"VLOOKUP(B2249,[1]高教组!B:M,7,0)","v":"广州工商学院"},{"$f":"VLOOKUP(B2249,[1]高教组!B:M,8,0)","v":"易露霞"},{"$f":"VLOOKUP(B2249,[1]高教组!B:M,9,0)","v":"广州工商学院"},{"$f":"VLOOKUP(B2249,[2]sheet2!B:L,10,0)","v":"林晓云"},{"$f":"VLOOKUP(B2249,[2]sheet2!B:L,11,0)","v":"广州工商学院"},"http://183.62.54.51:8841/data/files/certificate/000000000439/84db3945aeca4f3681500d618d106abc/signed/2247_马超平、易露霞、林晓云_三等奖_8134.pdf"]
[2248,"P301619088088","回到童年的时光机","高教组","课件","三等奖",null,{"$f":"VLOOKUP(B2250,[1]高教组!B:M,6,0)","v":"汤雪娜"},{"$f":"VLOOKUP(B2250,[1]高教组!B:M,7,0)","v":"广州华南商贸职业学院"},{"$f":"VLOOKUP(B2250,[1]高教组!B:M,8,0)","v":"-"},{"$f":"VLOOKUP(B2250,[1]高教组!B:M,9,0)","v":"-"},{"$f":"VLOOKUP(B2250,[2]sheet2!B:L,10,0)","v":"-"},{"$f":"VLOOKUP(B2250,[2]sheet2!B:L,11,0)","v":"-"},"http://183.62.54.51:8841/data/files/certificate/000000000439/43ff6228cfe9451db978177299b1935f/signed/2248_汤雪娜_三等奖_8135.pdf"]
[2249,"P301619086378","庭院设计平面构图模式","高教组","课件","三等奖",null,"傅嘉维","广州城建职业学院","-","-",{"$f":"VLOOKUP(B2251,[2]sheet2!B:L,10,0)","v":"-"},{"$f":"VLOOKUP(B2251,[2]sheet2!B:L,11,0)","v":"-"},"http://183.62.54.51:8841/data/files/certificate/000000000439/7ee0045dc271443c812047e75dbf8917/signed/2249_傅嘉维_三等奖_8136.pdf"]
[2250,"P301619090078","Love Make the World Go round","高教组","课件","三等奖",null,{"$f":"VLOOKUP(B2252,[1]高教组!B:M,6,0)","v":"周晓丽"},{"$f":"VLOOKUP(B2252,[1]高教组!B:M,7,0)","v":"广州商学院"},{"$f":"VLOOKUP(B2252,[1]高教组!B:M,8,0)","v":"-"},{"$f":"VLOOKUP(B2252,[1]高教组!B:M,9,0)","v":"-"},{"$f":"VLOOKUP(B2252,[2]sheet2!B:L,10,0)","v":"-"},{"$f":"VLOOKUP(B2252,[2]sheet2!B:L,11,0)","v":"-"},"http://183.62.54.51:8841/data/files/certificate/000000000439/dddc38d0b4e24864bdc0b41ddc000f8f/signed/2250_周晓丽_三等奖_8137.pdf"]
[2251,"P301619089690","香料紫罗兰酮生产工艺虚拟仿真实验软件","高教组","课件","三等奖",null,{"$f":"VLOOKUP(B2253,[1]高教组!B:M,6,0)","v":"梁红"},{"$f":"VLOOKUP(B2253,[1]高教组!B:M,7,0)","v":"广州大学"},{"$f":"VLOOKUP(B2253,[1]高教组!B:M,8,0)","v":"李树华"},{"$f":"VLOOKUP(B2253,[1]高教组!B:M,9,0)","v":"广州大学"},{"$f":"VLOOKUP(B2253,[2]sheet2!B:L,10,0)","v":"乔智威"},{"$f":"VLOOKUP(B2253,[2]sheet2!B:L,11,0)","v":"广州大学"},"http://183.62.54.51:8841/data/files/certificate/000000000439/e61718503c734cc9a855bce8bb0d529a/signed/2251_梁红、李树华、乔智威_三等奖_8138.pdf"]
[2252,"P301619089743","软文营销","高教组","课件","三等奖",null,{"$f":"VLOOKUP(B2254,[1]高教组!B:M,6,0)","v":"金蓉"},{"$f":"VLOOKUP(B2254,[1]高教组!B:M,7,0)","v":"广州民航职业技术学院"},{"$f":"VLOOKUP(B2254,[1]高教组!B:M,8,0)","v":"罗闻泉"},{"$f":"VLOOKUP(B2254,[1]高教组!B:M,9,0)","v":"广州民航职业技术学院"},{"$f":"VLOOKUP(B2254,[2]sheet2!B:L,10,0)","v":"陈婷婷"},{"$f":"VLOOKUP(B2254,[2]sheet2!B:L,11,0)","v":"广州民航职业技术学院"},"http://183.62.54.51:8841/data/files/certificate/000000000439/1b4918d9a1414ea9a798d22faa7d7356/signed/2252_金蓉、罗闻泉、陈婷婷_三等奖_8139.pdf"]
[2253,"P302619092248","苔藓微景观生态瓶的制作","高教组","微课","三等奖","惠州市",{"$f":"VLOOKUP(B2255,'[1]002'!B:M,7,0)","v":"杨丽华"},{"$f":"VLOOKUP(B2255,'[1]002'!B:M,8,0)","v":"惠州工程技术学校"},{"$f":"VLOOKUP(B2255,'[1]002'!B:M,11,0)","v":"林秀莲"},{"$f":"VLOOKUP(B2255,'[1]002'!B:M,12,0)","v":"惠州工程技术学校"},{"$f":"VLOOKUP(B2255,[2]sheet2!B:L,10,0)","v":"陈晓茹"},{"$f":"VLOOKUP(B2255,[2]sheet2!B:L,11,0)","v":"惠州工程技术学校"},"http://183.62.54.51:8841/data/files/certificate/000000000439/a1f6ca7656514b65af9ce5639b5eb203/signed/2253_杨丽华、林秀莲、陈晓茹_三等奖_8140.pdf"]
[2254,"P302619092870","英语否定形式表示肯定意义","高教组","微课","三等奖","湛江市",{"$f":"VLOOKUP(B2256,'[1]002'!B:M,7,0)","v":"黄理坚"},{"$f":"VLOOKUP(B2256,'[1]002'!B:M,8,0)","v":"湛江开放大学"},{"$f":"VLOOKUP(B2256,'[1]002'!B:M,11,0)","v":"梁静雯"},{"$f":"VLOOKUP(B2256,'[1]002'!B:M,12,0)","v":"湛江开放大学"},{"$f":"VLOOKUP(B2256,[2]sheet2!B:L,10,0)","v":"-"},{"$f":"VLOOKUP(B2256,[2]sheet2!B:L,11,0)","v":"-"},"http://183.62.54.51:8841/data/files/certificate/000000000439/ab5dfb5c7bd54b2ba2e7c8dbec02ee17/signed/2254_黄理坚、梁静雯_三等奖_8141.pdf"]
[2255,"P302619088911","识读生活污水处理厂设计图纸","高教组","微课","三等奖",null,{"$f":"VLOOKUP(B2257,[1]高教组!B:M,6,0)","v":"李慧颖"},{"$f":"VLOOKUP(B2257,[1]高教组!B:M,7,0)","v":"广东环境保护工程职业学院"},{"$f":"VLOOKUP(B2257,[1]高教组!B:M,8,0)","v":"-"},{"$f":"VLOOKUP(B2257,[1]高教组!B:M,9,0)","v":"-"},{"$f":"VLOOKUP(B2257,[2]sheet2!B:L,10,0)","v":"-"},{"$f":"VLOOKUP(B2257,[2]sheet2!B:L,11,0)","v":"-"},"http://183.62.54.51:8841/data/files/certificate/000000000439/994d68474cbe4aa6905c591398954a6c/signed/2255_李慧颖_三等奖_8142.pdf"]
[2256,"P302619088113","纸的半立体设计","高教组","微课","三等奖",null,{"$f":"VLOOKUP(B2258,[1]高教组!B:M,6,0)","v":"萧玥"},{"$f":"VLOOKUP(B2258,[1]高教组!B:M,7,0)","v":"广州华南商贸职业学院"},{"$f":"VLOOKUP(B2258,[1]高教组!B:M,8,0)","v":"于平"},{"$f":"VLOOKUP(B2258,[1]高教组!B:M,9,0)","v":"广州华南商贸职业学院"},{"$f":"VLOOKUP(B2258,[2]sheet2!B:L,10,0)","v":"王珂"},{"$f":"VLOOKUP(B2258,[2]sheet2!B:L,11,0)","v":"广州华南商贸职业学院"},"http://183.62.54.51:8841/data/files/certificate/000000000439/f5e071c69914408b93c1a3ee51e71385/signed/2256_萧玥、于平、王珂_三等奖_8143.pdf"]
[2257,"P302619088154","轮椅旅客服务流程","高教组","微课","三等奖",null,{"$f":"VLOOKUP(B2259,[1]高教组!B:M,6,0)","v":"王文芳"},{"$f":"VLOOKUP(B2259,[1]高教组!B:M,7,0)","v":"广州民航职业技术学院"},{"$f":"VLOOKUP(B2259,[1]高教组!B:M,8,0)","v":"-"},{"$f":"VLOOKUP(B2259,[1]高教组!B:M,9,0)","v":"-"},{"$f":"VLOOKUP(B2259,[2]sheet2!B:L,10,0)","v":"-"},{"$f":"VLOOKUP(B2259,[2]sheet2!B:L,11,0)","v":"-"},"http://183.62.54.51:8841/data/files/certificate/000000000439/b0eb620e8f7a4148a62c3ae3215a57c2/signed/2257_王文芳_三等奖_8144.pdf"]
[2258,"P302619079039","闭合水准路线高差闭合差计算与调整","高教组","微课","三等奖",null,{"$f":"VLOOKUP(B2260,[1]高教组!B:M,6,0)","v":"王盾"},{"$f":"VLOOKUP(B2260,[1]高教组!B:M,7,0)","v":"惠州学院"},{"$f":"VLOOKUP(B2260,[1]高教组!B:M,8,0)","v":"-"},{"$f":"VLOOKUP(B2260,[1]高教组!B:M,9,0)","v":"-"},{"$f":"VLOOKUP(B2260,[2]sheet2!B:L,10,0)","v":"-"},{"$f":"VLOOKUP(B2260,[2]sheet2!B:L,11,0)","v":"-"},"http://183.62.54.51:8841/data/files/certificate/000000000439/fa6a512b5a644b02bdefd2a5297a0977/signed/2258_王盾_三等奖_8145.pdf"]
[2259,"P302619090164","体量创建及幕墙嵌板制作以广州塔为例","高教组","微课","三等奖",null,{"$f":"VLOOKUP(B2261,[1]高教组!B:M,6,0)","v":"王晓轩"},{"$f":"VLOOKUP(B2261,[1]高教组!B:M,7,0)","v":"广东工业大学华立学院"},{"$f":"VLOOKUP(B2261,[1]高教组!B:M,8,0)","v":"陈静"},{"$f":"VLOOKUP(B2261,[1]高教组!B:M,9,0)","v":"广东工业大学华立学院"},{"$f":"VLOOKUP(B2261,[2]sheet2!B:L,10,0)","v":"吴宇静"},{"$f":"VLOOKUP(B2261,[2]sheet2!B:L,11,0)","v":"广东工业大学华立学院"},"http://183.62.54.51:8841/data/files/certificate/000000000439/e5838ead2dbd410eb4315d972abd6379/signed/2259_王晓轩、陈静、吴宇静_三等奖_8146.pdf"]
[2260,"P302619089734","时间就是心肌时间就是生命","高教组","微课","三等奖",null,{"$f":"VLOOKUP(B2262,[1]高教组!B:M,6,0)","v":"熊海燕"},{"$f":"VLOOKUP(B2262,[1]高教组!B:M,7,0)","v":"广东茂名健康职业学院"},{"$f":"VLOOKUP(B2262,[1]高教组!B:M,8,0)","v":"邹银婷"},{"$f":"VLOOKUP(B2262,[1]高教组!B:M,9,0)","v":"广东茂名健康职业学院"},{"$f":"VLOOKUP(B2262,[2]sheet2!B:L,10,0)","v":"谭伟群"},{"$f":"VLOOKUP(B2262,[2]sheet2!B:L,11,0)","v":"广东茂名健康职业学院"},"http://183.62.54.51:8841/data/files/certificate/000000000439/06facf395a21424089b51b444a13e67e/signed/2260_熊海燕、邹银婷、谭伟群_三等奖_8147.pdf"]
[2261,"P302619087490","什么是儿童文学","高教组","微课","三等奖",null,{"$f":"VLOOKUP(B2263,[1]高教组!B:M,6,0)","v":"王彦波"},{"$f":"VLOOKUP(B2263,[1]高教组!B:M,7,0)","v":"广东第二师范学院"},{"$f":"VLOOKUP(B2263,[1]高教组!B:M,8,0)","v":"-"},{"$f":"VLOOKUP(B2263,[1]高教组!B:M,9,0)","v":"-"},{"$f":"VLOOKUP(B2263,[2]sheet2!B:L,10,0)","v":"-"},{"$f":"VLOOKUP(B2263,[2]sheet2!B:L,11,0)","v":"-"},"http://183.62.54.51:8841/data/files/certificate/000000000439/cb6db5db87cb47e6ba672e00c952208f/signed/2261_王彦波_三等奖_8148.pdf"]
[2262,"P302619079088","动脉粥样硬化","高教组","微课","三等奖",null,"张绘宇","广州医科大学","-","-",{"$f":"VLOOKUP(B2264,[2]sheet2!B:L,10,0)","v":"-"},{"$f":"VLOOKUP(B2264,[2]sheet2!B:L,11,0)","v":"-"},"http://183.62.54.51:8841/data/files/certificate/000000000439/ca58cd92b2204b969183467191d41cde/signed/2262_张绘宇_三等奖_8149.pdf"]
[2263,"P302619089973","网络安全小课堂","高教组","微课","三等奖",null,{"$f":"VLOOKUP(B2265,[1]高教组!B:M,6,0)","v":"陈军"},{"$f":"VLOOKUP(B2265,[1]高教组!B:M,7,0)","v":"广东技术师范大学"},{"$f":"VLOOKUP(B2265,[1]高教组!B:M,8,0)","v":"李文鑫"},{"$f":"VLOOKUP(B2265,[1]高教组!B:M,9,0)","v":"广东技术师范大学"},{"$f":"VLOOKUP(B2265,[2]sheet2!B:L,10,0)","v":"-"},{"$f":"VLOOKUP(B2265,[2]sheet2!B:L,11,0)","v":"-"},"http://183.62.54.51:8841/data/files/certificate/000000000439/3ba78e6d9a794ee9839d5b27810b16c7/signed/2263_陈军、李文鑫_三等奖_8150.pdf"]
[2264,"P302619087538","时间的相对性","高教组","微课","三等奖",null,{"$f":"VLOOKUP(B2266,[1]高教组!B:M,6,0)","v":"陈碧梅"},{"$f":"VLOOKUP(B2266,[1]高教组!B:M,7,0)","v":"吉林大学珠海学院"},{"$f":"VLOOKUP(B2266,[1]高教组!B:M,8,0)","v":"-"},{"$f":"VLOOKUP(B2266,[1]高教组!B:M,9,0)","v":"-"},{"$f":"VLOOKUP(B2266,[2]sheet2!B:L,10,0)","v":"-"},{"$f":"VLOOKUP(B2266,[2]sheet2!B:L,11,0)","v":"-"},"http://183.62.54.51:8841/data/files/certificate/000000000439/2e1484357013423784a1d63fc444628a/signed/2264_陈碧梅_三等奖_8151.pdf"]
[2265,"P302619090107","动脉粥样硬化","高教组","微课","三等奖",null,{"$f":"VLOOKUP(B2267,[1]高教组!B:M,6,0)","v":"孙嘉"},{"$f":"VLOOKUP(B2267,[1]高教组!B:M,7,0)","v":"广东医科大学"},{"$f":"VLOOKUP(B2267,[1]高教组!B:M,8,0)","v":"成莹"},{"$f":"VLOOKUP(B2267,[1]高教组!B:M,9,0)","v":"广东医科大学"},{"$f":"VLOOKUP(B2267,[2]sheet2!B:L,10,0)","v":"陈智勇"},{"$f":"VLOOKUP(B2267,[2]sheet2!B:L,11,0)","v":"广东医科大学"},"http://183.62.54.51:8841/data/files/certificate/000000000439/26d2d1ee2ff34c8290cfcbc693f8f3d7/signed/2265_孙嘉、成莹、陈智勇_三等奖_8152.pdf"]
[2266,"P302619088750","机上安全广播（In-flight Safety Announcements）","高教组","微课","三等奖",null,{"$f":"VLOOKUP(B2268,[1]高教组!B:M,6,0)","v":"张朝霞"},{"$f":"VLOOKUP(B2268,[1]高教组!B:M,7,0)","v":"广州民航职业技术学院"},{"$f":"VLOOKUP(B2268,[1]高教组!B:M,8,0)","v":"-"},{"$f":"VLOOKUP(B2268,[1]高教组!B:M,9,0)","v":"-"},{"$f":"VLOOKUP(B2268,[2]sheet2!B:L,10,0)","v":"-"},{"$f":"VLOOKUP(B2268,[2]sheet2!B:L,11,0)","v":"-"},"http://183.62.54.51:8841/data/files/certificate/000000000439/95990c68bb6045c9bce57ff015ef3ffd/signed/2266_张朝霞_三等奖_8153.pdf"]
[2267,"P302619093278","美食作文法让四级写作变成小菜一碟","高教组","微课","三等奖",null,{"$f":"VLOOKUP(B2269,[1]高教组!B:M,6,0)","v":"周银新"},{"$f":"VLOOKUP(B2269,[1]高教组!B:M,7,0)","v":"广东水利电力职业技术学院"},{"$f":"VLOOKUP(B2269,[1]高教组!B:M,8,0)","v":"-"},{"$f":"VLOOKUP(B2269,[1]高教组!B:M,9,0)","v":"-"},{"$f":"VLOOKUP(B2269,[2]sheet2!B:L,10,0)","v":"-"},{"$f":"VLOOKUP(B2269,[2]sheet2!B:L,11,0)","v":"-"},"http://183.62.54.51:8841/data/files/certificate/000000000439/9a64f1eb277d4631a19d9df8ec36dcc3/signed/2267_周银新_三等奖_8154.pdf"]
[2268,"P302619089615","Photoshop cs5 图像处理基础：操控变形的应用","高教组","微课","三等奖",null,{"$f":"VLOOKUP(B2270,[1]高教组!B:M,6,0)","v":"翁权杰"},{"$f":"VLOOKUP(B2270,[1]高教组!B:M,7,0)","v":"广州商学院"},{"$f":"VLOOKUP(B2270,[1]高教组!B:M,8,0)","v":"-"},{"$f":"VLOOKUP(B2270,[1]高教组!B:M,9,0)","v":"-"},{"$f":"VLOOKUP(B2270,[2]sheet2!B:L,10,0)","v":"-"},{"$f":"VLOOKUP(B2270,[2]sheet2!B:L,11,0)","v":"-"},"http://183.62.54.51:8841/data/files/certificate/000000000439/1383c7ad94b14de0b69dae3e5864564b/signed/2268_翁权杰_三等奖_8155.pdf"]
[2269,"P302619086373","面试-精心准备至关重要","高教组","微课","三等奖",null,"蒋明丽","广州城建职业学院","周银新","广州城建职业学院",{"$f":"VLOOKUP(B2271,[2]sheet2!B:L,10,0)","v":"刘海霞"},{"$f":"VLOOKUP(B2271,[2]sheet2!B:L,11,0)","v":"广州城建职业学院"},"http://183.62.54.51:8841/data/files/certificate/000000000439/5ae1410a6cbe4f39a2080d7f78bccc8a/signed/2269_蒋明丽、周银新、刘海霞_三等奖_8156.pdf"]
[2270,"P302619079069","正常骨髓细胞形态鉴别","高教组","微课","三等奖",null,"林梅双","广州医科大学","-","-",{"$f":"VLOOKUP(B2272,[2]sheet2!B:L,10,0)","v":"-"},{"$f":"VLOOKUP(B2272,[2]sheet2!B:L,11,0)","v":"-"},"http://183.62.54.51:8841/data/files/certificate/000000000439/2167fc66808445baa9d5b5bed198c31b/signed/2270_林梅双_三等奖_8157.pdf"]
[2271,"P302619091134","高效液相色谱在药物分析中的应用-以高效液相色谱测定小儿百部止咳糖浆中黄芩苷的含量为例","高教组","微课","三等奖",null,{"$f":"VLOOKUP(B2273,[1]高教组!B:M,6,0)","v":"周伟明"},{"$f":"VLOOKUP(B2273,[1]高教组!B:M,7,0)","v":"广东食品药品职业学院"},{"$f":"VLOOKUP(B2273,[1]高教组!B:M,8,0)","v":"李利花"},{"$f":"VLOOKUP(B2273,[1]高教组!B:M,9,0)","v":"广东食品药品职业学院"},{"$f":"VLOOKUP(B2273,[2]sheet2!B:L,10,0)","v":"王如意"},{"$f":"VLOOKUP(B2273,[2]sheet2!B:L,11,0)","v":"广东食品药品职业学院"},"http://183.62.54.51:8841/data/files/certificate/000000000439/ab07cd0fcd9a4ec9972ca1f1edd0ff41/signed/2271_周伟明、李利花、王如意_三等奖_8158.pdf"]
[2272,"P302619086217","绿色战袍手术衣穿法","高教组","微课","三等奖",null,{"$f":"VLOOKUP(B2274,[1]高教组!B:M,6,0)","v":"李莲"},{"$f":"VLOOKUP(B2274,[1]高教组!B:M,7,0)","v":"广州卫生职业技术学院"},{"$f":"VLOOKUP(B2274,[1]高教组!B:M,8,0)","v":"王文文"},{"$f":"VLOOKUP(B2274,[1]高教组!B:M,9,0)","v":"广州卫生职业技术学院"},{"$f":"VLOOKUP(B2274,[2]sheet2!B:L,10,0)","v":"卢惠琴"},{"$f":"VLOOKUP(B2274,[2]sheet2!B:L,11,0)","v":"广州医科大学"},"http://183.62.54.51:8841/data/files/certificate/000000000439/344e343a80d14c2cb2175e8d968ccc30/signed/2272_李莲、王文文、卢惠琴_三等奖_8159.pdf"]
[2273,"P302619088723","图解账龄分析","高教组","微课","三等奖",null,{"$f":"VLOOKUP(B2275,[1]高教组!B:M,6,0)","v":"黄妍君"},{"$f":"VLOOKUP(B2275,[1]高教组!B:M,7,0)","v":"广东工商职业学院"},{"$f":"VLOOKUP(B2275,[1]高教组!B:M,8,0)","v":"杜小桃"},{"$f":"VLOOKUP(B2275,[1]高教组!B:M,9,0)","v":"广东工商职业学院"},{"$f":"VLOOKUP(B2275,[2]sheet2!B:L,10,0)","v":"欧韵"},{"$f":"VLOOKUP(B2275,[2]sheet2!B:L,11,0)","v":"广东工商职业学院"},"http://183.62.54.51:8841/data/files/certificate/000000000439/f4f2ca1f33ad46969838372c2e61e244/signed/2273_黄妍君、杜小桃、欧韵_三等奖_8160.pdf"]
[2274,"P302619079033","复合函数的二阶偏导举例","高教组","微课","三等奖",null,{"$f":"VLOOKUP(B2276,[1]高教组!B:M,6,0)","v":"罗辉"},{"$f":"VLOOKUP(B2276,[1]高教组!B:M,7,0)","v":"惠州学院"},{"$f":"VLOOKUP(B2276,[1]高教组!B:M,8,0)","v":"-"},{"$f":"VLOOKUP(B2276,[1]高教组!B:M,9,0)","v":"-"},{"$f":"VLOOKUP(B2276,[2]sheet2!B:L,10,0)","v":"-"},{"$f":"VLOOKUP(B2276,[2]sheet2!B:L,11,0)","v":"-"},"http://183.62.54.51:8841/data/files/certificate/000000000439/1590e05264f64e46a7e395192c4267dc/signed/2274_罗辉_三等奖_8161.pdf"]
[2275,"P302619086337","Timer组件的使用","高教组","微课","三等奖",null,"郑少珍","广州城建职业学院","-","-",{"$f":"VLOOKUP(B2277,[2]sheet2!B:L,10,0)","v":"-"},{"$f":"VLOOKUP(B2277,[2]sheet2!B:L,11,0)","v":"-"},"http://183.62.54.51:8841/data/files/certificate/000000000439/6a0d925ce8bb4ac6ac38a583c9c63ff3/signed/2275_郑少珍_三等奖_8162.pdf"]
[2276,"P302619089768","揭开月经的神秘面纱","高教组","微课","三等奖",null,{"$f":"VLOOKUP(B2278,[1]高教组!B:M,6,0)","v":"邹银婷"},{"$f":"VLOOKUP(B2278,[1]高教组!B:M,7,0)","v":"广东茂名健康职业学院"},{"$f":"VLOOKUP(B2278,[1]高教组!B:M,8,0)","v":"熊海燕"},{"$f":"VLOOKUP(B2278,[1]高教组!B:M,9,0)","v":"广东茂名健康职业学院"},{"$f":"VLOOKUP(B2278,[2]sheet2!B:L,10,0)","v":"唐玉清"},{"$f":"VLOOKUP(B2278,[2]sheet2!B:L,11,0)","v":"广东茂名健康职业学院"},"http://183.62.54.51:8841/data/files/certificate/000000000439/a9c9b7d7455045ba928220b62e8a572d/signed/2276_邹银婷、熊海燕、唐玉清_三等奖_8163.pdf"]
[2277,"P302619089782","近因原则","高教组","微课","三等奖",null,{"$f":"VLOOKUP(B2279,[1]高教组!B:M,6,0)","v":"李重燕"},{"$f":"VLOOKUP(B2279,[1]高教组!B:M,7,0)","v":"广州大学松田学院"},{"$f":"VLOOKUP(B2279,[1]高教组!B:M,8,0)","v":"李先科"},{"$f":"VLOOKUP(B2279,[1]高教组!B:M,9,0)","v":"广州大学松田学院"},{"$f":"VLOOKUP(B2279,[2]sheet2!B:L,10,0)","v":"-"},{"$f":"VLOOKUP(B2279,[2]sheet2!B:L,11,0)","v":"-"},"http://183.62.54.51:8841/data/files/certificate/000000000439/0dfbb72b8974450d9225751a1f4fd3e0/signed/2277_李重燕、李先科_三等奖_8164.pdf"]
[2278,"P302619089671","渗透性利尿与水利尿","高教组","微课","三等奖",null,"王婷婷","广东茂名健康职业学院","黄丹青","广东茂名健康职业学院",{"$f":"VLOOKUP(B2280,[2]sheet2!B:L,10,0)","v":"吴文婵"},{"$f":"VLOOKUP(B2280,[2]sheet2!B:L,11,0)","v":"广东茂名健康职业学院"},"http://183.62.54.51:8841/data/files/certificate/000000000439/01ad6c216e8a4a1cab6959e66ed21d6e/signed/2278_王婷婷、黄丹青、吴文婵_三等奖_8165.pdf"]
[2279,"P302619089898","货币形态演进溯源I","高教组","微课","三等奖",null,{"$f":"VLOOKUP(B2281,[1]高教组!B:M,6,0)","v":"程静"},{"$f":"VLOOKUP(B2281,[1]高教组!B:M,7,0)","v":"暨南大学"},{"$f":"VLOOKUP(B2281,[1]高教组!B:M,8,0)","v":"吴思诗"},{"$f":"VLOOKUP(B2281,[1]高教组!B:M,9,0)","v":"暨南大学"},{"$f":"VLOOKUP(B2281,[2]sheet2!B:L,10,0)","v":"-"},{"$f":"VLOOKUP(B2281,[2]sheet2!B:L,11,0)","v":"-"},"http://183.62.54.51:8841/data/files/certificate/000000000439/c8bd502f439646f4a2b7008632f58a69/signed/2279_程静、吴思诗_三等奖_8166.pdf"]
[2280,"P302619089774","瞬移效果","高教组","微课","三等奖",null,{"$f":"VLOOKUP(B2282,[1]高教组!B:M,6,0)","v":"谢峰"},{"$f":"VLOOKUP(B2282,[1]高教组!B:M,7,0)","v":"广东东软学院"},{"$f":"VLOOKUP(B2282,[1]高教组!B:M,8,0)","v":"李晓婷"},{"$f":"VLOOKUP(B2282,[1]高教组!B:M,9,0)","v":"广东东软学院"},{"$f":"VLOOKUP(B2282,[2]sheet2!B:L,10,0)","v":"-"},{"$f":"VLOOKUP(B2282,[2]sheet2!B:L,11,0)","v":"-"},"http://183.62.54.51:8841/data/files/certificate/000000000439/e4533779864d41cbb62b2a8ed627632a/signed/2280_谢峰、李晓婷_三等奖_8167.pdf"]
[2281,"P302619088294","衣服换新颜","高教组","微课","三等奖",null,{"$f":"VLOOKUP(B2283,[1]高教组!B:M,6,0)","v":"刘永明"},{"$f":"VLOOKUP(B2283,[1]高教组!B:M,7,0)","v":"广东环境保护工程职业学院"},{"$f":"VLOOKUP(B2283,[1]高教组!B:M,8,0)","v":"陈追文"},{"$f":"VLOOKUP(B2283,[1]高教组!B:M,9,0)","v":"广东环境保护工程职业学院"},{"$f":"VLOOKUP(B2283,[2]sheet2!B:L,10,0)","v":"邓荔丹"},{"$f":"VLOOKUP(B2283,[2]sheet2!B:L,11,0)","v":"广东环境保护工程职业学院"},"http://183.62.54.51:8841/data/files/certificate/000000000439/45ff5885c8604eb6b08453d2dc69ff69/signed/2281_刘永明、陈追文、邓荔丹_三等奖_8168.pdf"]
[2282,"P302619087975","理想流体伯努利方程及其应用","高教组","微课","三等奖",null,"黄雪","仲恺农业工程学院","-","-",{"$f":"VLOOKUP(B2284,[2]sheet2!B:L,10,0)","v":"-"},{"$f":"VLOOKUP(B2284,[2]sheet2!B:L,11,0)","v":"-"},"http://183.62.54.51:8841/data/files/certificate/000000000439/2bdac690950d4e85a154e98e43edfeb8/signed/2282_黄雪_三等奖_8169.pdf"]
[2283,"P302619088601","胺类化合物的结构分析","高教组","微课","三等奖",null,{"$f":"VLOOKUP(B2285,[1]高教组!B:M,6,0)","v":"徐娟娟"},{"$f":"VLOOKUP(B2285,[1]高教组!B:M,7,0)","v":"中山大学新华学院"},{"$f":"VLOOKUP(B2285,[1]高教组!B:M,8,0)","v":"黄鹤"},{"$f":"VLOOKUP(B2285,[1]高教组!B:M,9,0)","v":"中山大学新华学院"},{"$f":"VLOOKUP(B2285,[2]sheet2!B:L,10,0)","v":"刘德嘉"},{"$f":"VLOOKUP(B2285,[2]sheet2!B:L,11,0)","v":"中山大学新华学院"},"http://183.62.54.51:8841/data/files/certificate/000000000439/a4db4a7eb04a451ca2bf8d3bfecaa4f5/signed/2283_徐娟娟、黄鹤、刘德嘉_三等奖_8170.pdf"]
[2284,"P302619089659","访谈现场的进入技巧","高教组","微课","三等奖",null,{"$f":"VLOOKUP(B2286,[1]高教组!B:M,6,0)","v":"陆淑珍"},{"$f":"VLOOKUP(B2286,[1]高教组!B:M,7,0)","v":"广东轻工职业技术学院"},{"$f":"VLOOKUP(B2286,[1]高教组!B:M,8,0)","v":"冼颖妍"},{"$f":"VLOOKUP(B2286,[1]高教组!B:M,9,0)","v":"广东轻工职业技术学院"},{"$f":"VLOOKUP(B2286,[2]sheet2!B:L,10,0)","v":"黄卫"},{"$f":"VLOOKUP(B2286,[2]sheet2!B:L,11,0)","v":"广东轻工职业技术学院"},"http://183.62.54.51:8841/data/files/certificate/000000000439/e3f726f0eea149fca6cf8ba1be3f3eda/signed/2284_陆淑珍、冼颖妍、黄卫_三等奖_8171.pdf"]
[2285,"P303619089012","栓剂","高教组","信息化教学课程案例","三等奖",null,{"$f":"VLOOKUP(B2287,[1]高教组!B:M,6,0)","v":"魏金津"},{"$f":"VLOOKUP(B2287,[1]高教组!B:M,7,0)","v":"广东食品药品职业学院"},{"$f":"VLOOKUP(B2287,[1]高教组!B:M,8,0)","v":"林青"},{"$f":"VLOOKUP(B2287,[1]高教组!B:M,9,0)","v":"广东食品药品职业学院"},{"$f":"VLOOKUP(B2287,[2]sheet2!B:L,10,0)","v":"姚瑶"},{"$f":"VLOOKUP(B2287,[2]sheet2!B:L,11,0)","v":"广东食品药品职业学院"},"http://183.62.54.51:8841/data/files/certificate/000000000439/9657aa70b8ff44f4a93e8b654f9c8b0b/signed/2285_魏金津、林青、姚瑶_三等奖_8172.pdf"]
[2286,"P303619089223","中医诊断学基于MOOC和虚拟仿真的多维实时互动混合式学习模式信息化课程案例","高教组","信息化教学课程案例","三等奖",null,{"$f":"VLOOKUP(B2288,[1]高教组!B:M,6,0)","v":"孙立"},{"$f":"VLOOKUP(B2288,[1]高教组!B:M,7,0)","v":"暨南大学"},{"$f":"VLOOKUP(B2288,[1]高教组!B:M,8,0)","v":"周红春"},{"$f":"VLOOKUP(B2288,[1]高教组!B:M,9,0)","v":"暨南大学"},{"$f":"VLOOKUP(B2288,[2]sheet2!B:L,10,0)","v":"谢舒潇"},{"$f":"VLOOKUP(B2288,[2]sheet2!B:L,11,0)","v":"暨南大学"},"http://183.62.54.51:8841/data/files/certificate/000000000439/799145ce0061466e8cc52bf9aa4e7566/signed/2286_孙立、周红春、谢舒潇_三等奖_8173.pdf"]
[2287,"P303619091523","学校人力资源管理","高教组","信息化教学课程案例","三等奖",null,{"$f":"VLOOKUP(B2289,[1]高教组!B:M,6,0)","v":"黎晓君"},{"$f":"VLOOKUP(B2289,[1]高教组!B:M,7,0)","v":"广东第二师范学院"},{"$f":"VLOOKUP(B2289,[1]高教组!B:M,8,0)","v":"闫德明"},{"$f":"VLOOKUP(B2289,[1]高教组!B:M,9,0)","v":"广东第二师范学院"},{"$f":"VLOOKUP(B2289,[2]sheet2!B:L,10,0)","v":"-"},{"$f":"VLOOKUP(B2289,[2]sheet2!B:L,11,0)","v":"-"},"http://183.62.54.51:8841/data/files/certificate/000000000439/9ba0aa970eab469dbf1c6c9ee3d2997b/signed/2287_黎晓君、闫德明_三等奖_8174.pdf"]
[2288,"P303619089942","一带一路，构建中国梦与世界梦","高教组","信息化教学课程案例","三等奖",null,{"$f":"VLOOKUP(B2290,[1]高教组!B:M,6,0)","v":"李文勇"},{"$f":"VLOOKUP(B2290,[1]高教组!B:M,7,0)","v":"广东工业大学华立学院"},{"$f":"VLOOKUP(B2290,[1]高教组!B:M,8,0)","v":"宁晚枚"},{"$f":"VLOOKUP(B2290,[1]高教组!B:M,9,0)","v":"广东工业大学华立学院"},{"$f":"VLOOKUP(B2290,[2]sheet2!B:L,10,0)","v":"张雪玉"},{"$f":"VLOOKUP(B2290,[2]sheet2!B:L,11,0)","v":"广东工业大学华立学院"},"http://183.62.54.51:8841/data/files/certificate/000000000439/14cfaddc9d054c8b89cf2cda82dc263d/signed/2288_李文勇、宁晚枚、张雪玉_三等奖_8175.pdf"]
[2289,"P303619091735","不忘初心牢记使命坚定不移跟党走","高教组","信息化教学课程案例","三等奖",null,{"$f":"VLOOKUP(B2291,[1]高教组!B:M,6,0)","v":"高顺起"},{"$f":"VLOOKUP(B2291,[1]高教组!B:M,7,0)","v":"广东轻工职业技术学院"},{"$f":"VLOOKUP(B2291,[1]高教组!B:M,8,0)","v":"王喜英"},{"$f":"VLOOKUP(B2291,[1]高教组!B:M,9,0)","v":"广东轻工职业技术学院"},{"$f":"VLOOKUP(B2291,[2]sheet2!B:L,10,0)","v":"刘红卫"},{"$f":"VLOOKUP(B2291,[2]sheet2!B:L,11,0)","v":"广东轻工职业技术学院"},"http://183.62.54.51:8841/data/files/certificate/000000000439/b3974117a7d64d21973c49648312149c/signed/2289_高顺起、王喜英、刘红卫_三等奖_8176.pdf"]
[2290,"P303619090520","商务英语视听说","高教组","信息化教学课程案例","三等奖",null,{"$f":"VLOOKUP(B2292,[1]高教组!B:M,6,0)","v":"苏梓楠"},{"$f":"VLOOKUP(B2292,[1]高教组!B:M,7,0)","v":"广州城市职业学院"},{"$f":"VLOOKUP(B2292,[1]高教组!B:M,8,0)","v":"刘向红"},{"$f":"VLOOKUP(B2292,[1]高教组!B:M,9,0)","v":"广州城市职业学院"},{"$f":"VLOOKUP(B2292,[2]sheet2!B:L,10,0)","v":"聂玉洁"},{"$f":"VLOOKUP(B2292,[2]sheet2!B:L,11,0)","v":"广州城市职业学院"},"http://183.62.54.51:8841/data/files/certificate/000000000439/5de83b2f275e433181c38af1e4e44a6a/signed/2290_苏梓楠、刘向红、聂玉洁_三等奖_8177.pdf"]
[2291,"P303619088168","随轮而动-基于HTML5之滚滚屏设计","高教组","信息化教学课程案例","三等奖",null,{"$f":"VLOOKUP(B2293,[1]高教组!B:M,6,0)","v":"刘国敏"},{"$f":"VLOOKUP(B2293,[1]高教组!B:M,7,0)","v":"广州华南商贸职业学院"},"何达齐","广州华南商贸职业学院","姜微","广州华南商贸职业学院","http://183.62.54.51:8841/data/files/certificate/000000000439/666a08e80f0149ed8b82391e446fda9e/signed/2291_刘国敏、何达齐、姜微_三等奖_8178.pdf"]
[2292,"P303619086396","鼻饲法","高教组","信息化教学课程案例","三等奖",null,{"$f":"VLOOKUP(B2294,[1]高教组!B:M,6,0)","v":"何夏阳"},{"$f":"VLOOKUP(B2294,[1]高教组!B:M,7,0)","v":"广州卫生职业技术学院"},{"$f":"VLOOKUP(B2294,[1]高教组!B:M,8,0)","v":"宋文娟"},{"$f":"VLOOKUP(B2294,[1]高教组!B:M,9,0)","v":"广州卫生职业技术学院"},{"$f":"VLOOKUP(B2294,[2]sheet2!B:L,10,0)","v":"许莹"},{"$f":"VLOOKUP(B2294,[2]sheet2!B:L,11,0)","v":"广州卫生职业技术学院"},"http://183.62.54.51:8841/data/files/certificate/000000000439/c0972647b1e540efb098a5ab233e7c20/signed/2292_何夏阳、宋文娟、许莹_三等奖_8179.pdf"]
[2293,"P303619089905","基于大数据和云计算的经济管理虚拟仿真协同创新实训的多元统计分析及R语言建模课程教学案例","高教组","信息化教学课程案例","三等奖",null,{"$f":"VLOOKUP(B2295,[1]高教组!B:M,6,0)","v":"王斌会"},{"$f":"VLOOKUP(B2295,[1]高教组!B:M,7,0)","v":"暨南大学"},{"$f":"VLOOKUP(B2295,[1]高教组!B:M,8,0)","v":"赵海霞"},{"$f":"VLOOKUP(B2295,[1]高教组!B:M,9,0)","v":"暨南大学"},{"$f":"VLOOKUP(B2295,[2]sheet2!B:L,10,0)","v":"刘情情"},{"$f":"VLOOKUP(B2295,[2]sheet2!B:L,11,0)","v":"暨南大学"},"http://183.62.54.51:8841/data/files/certificate/000000000439/0eb9717095a04205b2abd190f8f864a1/signed/2293_王斌会、赵海霞、刘情情_三等奖_8180.pdf"]
[2294,"P303619090492","华文教育技术与实践--基于数字文化传播人才培养三三融合式课程创新的探索与实践的教学信息化课程案例","高教组","信息化教学课程案例","三等奖",null,{"$f":"VLOOKUP(B2296,[1]高教组!B:M,6,0)","v":"熊玉珍"},{"$f":"VLOOKUP(B2296,[1]高教组!B:M,7,0)","v":"暨南大学"},{"$f":"VLOOKUP(B2296,[1]高教组!B:M,8,0)","v":"李香平"},{"$f":"VLOOKUP(B2296,[1]高教组!B:M,9,0)","v":"暨南大学"},{"$f":"VLOOKUP(B2296,[2]sheet2!B:L,10,0)","v":"胡颖"},{"$f":"VLOOKUP(B2296,[2]sheet2!B:L,11,0)","v":"暨南大学"},"http://183.62.54.51:8841/data/files/certificate/000000000439/3a3a4a289cb94fdeb811ce3e4381122d/signed/2294_熊玉珍、李香平、胡颖_三等奖_8181.pdf"]
[2295,"P303619088228","今天我做主：编制主生产计划","高教组","信息化教学课程案例","三等奖",null,{"$f":"VLOOKUP(B2297,[1]高教组!B:M,6,0)","v":"师建华"},{"$f":"VLOOKUP(B2297,[1]高教组!B:M,7,0)","v":"顺德职业技术学院"},{"$f":"VLOOKUP(B2297,[1]高教组!B:M,8,0)","v":"刘刚桥"},{"$f":"VLOOKUP(B2297,[1]高教组!B:M,9,0)","v":"顺德职业技术学院"},{"$f":"VLOOKUP(B2297,[2]sheet2!B:L,10,0)","v":"-"},{"$f":"VLOOKUP(B2297,[2]sheet2!B:L,11,0)","v":"-"},"http://183.62.54.51:8841/data/files/certificate/000000000439/a48ad60924af4294bf9fc6253dd63cf0/signed/2295_师建华、刘刚桥_三等奖_8182.pdf"]
[2296,"P303619089826","基于虚实虚的虚拟仿真与野外实践课题共同体的生物学野外实习课程信息化教学案例","高教组","信息化教学课程案例","三等奖",null,{"$f":"VLOOKUP(B2298,[1]高教组!B:M,6,0)","v":"黄柏炎"},{"$f":"VLOOKUP(B2298,[1]高教组!B:M,7,0)","v":"暨南大学"},{"$f":"VLOOKUP(B2298,[1]高教组!B:M,8,0)","v":"赵海霞"},{"$f":"VLOOKUP(B2298,[1]高教组!B:M,9,0)","v":"暨南大学"},{"$f":"VLOOKUP(B2298,[2]sheet2!B:L,10,0)","v":"印尤强"},{"$f":"VLOOKUP(B2298,[2]sheet2!B:L,11,0)","v":"暨南大学"},"http://183.62.54.51:8841/data/files/certificate/000000000439/0c1ada42b58b4fdfbb2b7ec6adc70274/signed/2296_黄柏炎、赵海霞、印尤强_三等奖_8183.pdf"]
[2297,"P303619091236","建筑制图与CAD 线上线下一体化教学实践","高教组","信息化教学课程案例","三等奖",null,{"$f":"VLOOKUP(B2299,[1]高教组!B:M,6,0)","v":"方玲"},{"$f":"VLOOKUP(B2299,[1]高教组!B:M,7,0)","v":"广东白云学院"},{"$f":"VLOOKUP(B2299,[1]高教组!B:M,8,0)","v":"丁斌"},{"$f":"VLOOKUP(B2299,[1]高教组!B:M,9,0)","v":"广东白云学院"},{"$f":"VLOOKUP(B2299,[2]sheet2!B:L,10,0)","v":"-"},{"$f":"VLOOKUP(B2299,[2]sheet2!B:L,11,0)","v":"-"},"http://183.62.54.51:8841/data/files/certificate/000000000439/5cc5f2312bd54d77b3953dc2cc1056e4/signed/2297_方玲、丁斌_三等奖_8184.pdf"]
[2298,"P303619088438","制定职业生涯规划实施方案","高教组","信息化教学课程案例","三等奖",null,{"$f":"VLOOKUP(B2300,[1]高教组!B:M,6,0)","v":"陈龙"},{"$f":"VLOOKUP(B2300,[1]高教组!B:M,7,0)","v":"广东环境保护工程职业学院"},{"$f":"VLOOKUP(B2300,[1]高教组!B:M,8,0)","v":"朱刚利"},{"$f":"VLOOKUP(B2300,[1]高教组!B:M,9,0)","v":"广东环境保护工程职业学院"},{"$f":"VLOOKUP(B2300,[2]sheet2!B:L,10,0)","v":"李坤德"},{"$f":"VLOOKUP(B2300,[2]sheet2!B:L,11,0)","v":"广东环境保护工程职业学院"},"http://183.62.54.51:8841/data/files/certificate/000000000439/364752fc8b4b44b7b679bb2438acb0ed/signed/2298_陈龙、朱刚利、李坤德_三等奖_8185.pdf"]
[2299,"P303619086232","时间与温度的艺术_____低温热塑矫形器技能学习","高教组","信息化教学课程案例","三等奖",null,{"$f":"VLOOKUP(B2301,[1]高教组!B:M,6,0)","v":"张雪"},{"$f":"VLOOKUP(B2301,[1]高教组!B:M,7,0)","v":"广州卫生职业技术学院"},{"$f":"VLOOKUP(B2301,[1]高教组!B:M,8,0)","v":"张效玮"},{"$f":"VLOOKUP(B2301,[1]高教组!B:M,9,0)","v":"广州卫生职业技术学院"},{"$f":"VLOOKUP(B2301,[2]sheet2!B:L,10,0)","v":"欧阳静明"},{"$f":"VLOOKUP(B2301,[2]sheet2!B:L,11,0)","v":"广州卫生职业技术学院"},"http://183.62.54.51:8841/data/files/certificate/000000000439/b7ae94e136ed4ea1bb63416e4c71e45c/signed/2299_张雪、张效玮、欧阳静明_三等奖_8186.pdf"]
[2300,"P303619089746","基于职教云+翻转课堂的混合式教学模式的构建与实施---以《网络营销》为例","高教组","信息化教学课程案例","三等奖",null,{"$f":"VLOOKUP(B2302,[1]高教组!B:M,6,0)","v":"金蓉"},{"$f":"VLOOKUP(B2302,[1]高教组!B:M,7,0)","v":"广州民航职业技术学院"},{"$f":"VLOOKUP(B2302,[1]高教组!B:M,8,0)","v":"罗闻泉"},{"$f":"VLOOKUP(B2302,[1]高教组!B:M,9,0)","v":"广州民航职业技术学院"},{"$f":"VLOOKUP(B2302,[2]sheet2!B:L,10,0)","v":"张颖敏"},{"$f":"VLOOKUP(B2302,[2]sheet2!B:L,11,0)","v":"广州民航职业技术学院"},"http://183.62.54.51:8841/data/files/certificate/000000000439/c12d114ab6e44c8fa549d67d13f52b97/signed/2300_金蓉、罗闻泉、张颖敏_三等奖_8187.pdf"]