{"text_format":"2","workbook":"xlsx","n_sheets":1,"sheets":["Sheet1"],"not_rendered":{"charts":0,"images":0,"macros":0,"external_links":1,"defined_names":1,"comments":0,"pivot_tables":0},"unopened":[],"bounds":{"document_bytes":16777216,"sheet_cells":100000,"run_cost":"one","rows_first":2000,"rows_last":500,"rows_between":2000,"halvings":0,"cell_chars":16384,"cell_head_chars":4096},"cells_cut":0,"cells_raw":0,"read":"whole","date_system":"1900"}

{"sheet":"Sheet1","index":0,"n_rows":2302,"n_cols":11,"rows_kept":2302,"cut":false,"hidden":false,"merged":[[0,0,0,10]]}
["广东省教育“双融双创”行动暨2019年教师教育教学信息化交流及新媒体新技术教学应用活动获奖名单"]
["序号","编码","标题","组别","类别","奖项","地市","第一作者","第一作者单位","第二作者","第二作者单位"]
[1,"P303119093093","夜色","小学组","课件","一等奖","广州市",{"$f":"VLOOKUP(B3,'[1]002'!B:M,7,0)","v":"钟财义"},{"$f":"VLOOKUP(B3,'[1]002'!B:M,8,0)","v":"广州市越秀区文德路小学"},{"$f":"VLOOKUP(B3,'[1]002'!B:M,11,0)","v":"-"},{"$f":"VLOOKUP(B3,'[1]002'!B:M,12,0)","v":"-"}]
[2,"P303119093094","We can save the animasl","小学组","课件","一等奖","广州市",{"$f":"VLOOKUP(B4,'[1]002'!B:M,7,0)","v":"陈秀清"},{"$f":"VLOOKUP(B4,'[1]002'!B:M,8,0)","v":"广州市越秀区文德路小学"},{"$f":"VLOOKUP(B4,'[1]002'!B:M,11,0)","v":"薛强"},{"$f":"VLOOKUP(B4,'[1]002'!B:M,12,0)","v":"广州市越秀区文德路小学"}]
[3,"P303119093083","三年级下册Module4Fruits词汇课","小学组","课件","一等奖","广州市",{"$f":"VLOOKUP(B5,'[1]002'!B:M,7,0)","v":"陈喜玉"},{"$f":"VLOOKUP(B5,'[1]002'!B:M,8,0)","v":"广州市番禺区南村镇市头小学"},{"$f":"VLOOKUP(B5,'[1]002'!B:M,11,0)","v":"-"},{"$f":"VLOOKUP(B5,'[1]002'!B:M,12,0)","v":"-"}]
[4,"P303119093108","搭配问题","小学组","课件","一等奖","广州市",{"$f":"VLOOKUP(B6,'[1]002'!B:M,7,0)","v":"芦玉玲"},{"$f":"VLOOKUP(B6,'[1]002'!B:M,8,0)","v":"广州市越秀区朝天小学"},{"$f":"VLOOKUP(B6,'[1]002'!B:M,11,0)","v":"-"},{"$f":"VLOOKUP(B6,'[1]002'!B:M,12,0)","v":"-"}]
[5,"P303119093098","三角形内角和","小学组","课件","一等奖","广州市",{"$f":"VLOOKUP(B7,'[1]002'!B:M,7,0)","v":"李汉锋"},{"$f":"VLOOKUP(B7,'[1]002'!B:M,8,0)","v":"广州市番禺区钟村中心小学"},{"$f":"VLOOKUP(B7,'[1]002'!B:M,11,0)","v":"-"},{"$f":"VLOOKUP(B7,'[1]002'!B:M,12,0)","v":"-"}]
[6,"P303119093096","认识圆的周长","小学组","课件","一等奖","广州市",{"$f":"VLOOKUP(B8,'[1]002'!B:M,7,0)","v":"李汉锋"},{"$f":"VLOOKUP(B8,'[1]002'!B:M,8,0)","v":"广州市番禺区钟村中心小学"},{"$f":"VLOOKUP(B8,'[1]002'!B:M,11,0)","v":"-"},{"$f":"VLOOKUP(B8,'[1]002'!B:M,12,0)","v":"-"}]
[7,"P303119093085","图形的运动","小学组","课件","一等奖","广州市",{"$f":"VLOOKUP(B9,'[1]002'!B:M,7,0)","v":"邱奕祥"},{"$f":"VLOOKUP(B9,'[1]002'!B:M,8,0)","v":"广州市番禺区石楼镇联围小学"},{"$f":"VLOOKUP(B9,'[1]002'!B:M,11,0)","v":"-"},{"$f":"VLOOKUP(B9,'[1]002'!B:M,12,0)","v":"-"}]
[8,"P303119093100","领先阅读X计划Bug Hunt绘本阅读教学课件","小学组","课件","一等奖","广州市",{"$f":"VLOOKUP(B10,'[1]002'!B:M,7,0)","v":"潘艳华"},{"$f":"VLOOKUP(B10,'[1]002'!B:M,8,0)","v":"广州市番禺区沙湾镇红基学校"},{"$f":"VLOOKUP(B10,'[1]002'!B:M,11,0)","v":"-"},{"$f":"VLOOKUP(B10,'[1]002'!B:M,12,0)","v":"-"}]
[9,"P303119092645","Shapes","小学组","课件","一等奖","深圳市",{"$f":"VLOOKUP(B11,'[1]002'!B:M,7,0)","v":"徐菁菁"},"深圳市南山区大磡小学",{"$f":"VLOOKUP(B11,'[1]002'!B:M,11,0)","v":"-"},{"$f":"VLOOKUP(B11,'[1]002'!B:M,12,0)","v":"-"}]
[10,"P303119079215","村居","小学组","课件","一等奖","珠海市",{"$f":"VLOOKUP(B12,'[1]002'!B:M,7,0)","v":"陈红波"},{"$f":"VLOOKUP(B12,'[1]002'!B:M,8,0)","v":"珠海市金湾区第一小学"},{"$f":"VLOOKUP(B12,'[1]002'!B:M,11,0)","v":"-"},{"$f":"VLOOKUP(B12,'[1]002'!B:M,12,0)","v":"-"}]
[11,"P303119079012","找规律","小学组","课件","一等奖","珠海市",{"$f":"VLOOKUP(B13,'[1]002'!B:M,7,0)","v":"杨晓丹"},{"$f":"VLOOKUP(B13,'[1]002'!B:M,8,0)","v":"珠海市红旗镇军建小学"},{"$f":"VLOOKUP(B13,'[1]002'!B:M,11,0)","v":"-"},{"$f":"VLOOKUP(B13,'[1]002'!B:M,12,0)","v":"-"}]
[12,"P303119091945","PEP五下Unit3BLetstalk","小学组","课件","一等奖","汕头市",{"$f":"VLOOKUP(B14,'[1]002'!B:M,7,0)","v":"陈晓丹"},{"$f":"VLOOKUP(B14,'[1]002'!B:M,8,0)","v":"汕头市澄海建阳小学"},{"$f":"VLOOKUP(B14,'[1]002'!B:M,11,0)","v":"李慕云"},{"$f":"VLOOKUP(B14,'[1]002'!B:M,12,0)","v":"汕头市澄海建阳小学"}]
[13,"P303119091940","名人漫画","小学组","课件","一等奖","汕头市",{"$f":"VLOOKUP(B15,'[1]002'!B:M,7,0)","v":"许洁莹"},{"$f":"VLOOKUP(B15,'[1]002'!B:M,8,0)","v":"汕头市澄海隆都中心小学"},{"$f":"VLOOKUP(B15,'[1]002'!B:M,11,0)","v":"-"},{"$f":"VLOOKUP(B15,'[1]002'!B:M,12,0)","v":"-"}]
[14,"P303119090845","标签与品牌","小学组","课件","一等奖","佛山市",{"$f":"VLOOKUP(B16,'[1]002'!B:M,7,0)","v":"许宜胜"},{"$f":"VLOOKUP(B16,'[1]002'!B:M,8,0)","v":"佛山市顺德区本原小学"},"廖伟伟","佛山市顺德区本原小学"]
[15,"P303119090802","忆江南","小学组","课件","一等奖","佛山市",{"$f":"VLOOKUP(B17,'[1]002'!B:M,7,0)","v":"刘健芬"},"佛山市高明区教师发展中心",{"$f":"VLOOKUP(B17,'[1]002'!B:M,11,0)","v":"-"},{"$f":"VLOOKUP(B17,'[1]002'!B:M,12,0)","v":"-"}]
[16,"P303119090857","春夏秋冬","小学组","课件","一等奖","佛山市",{"$f":"VLOOKUP(B18,'[1]002'!B:M,7,0)","v":"梁碧云"},{"$f":"VLOOKUP(B18,'[1]002'!B:M,8,0)","v":"佛山市顺德区昌教小学"},{"$f":"VLOOKUP(B18,'[1]002'!B:M,11,0)","v":"欧阳惠贞"},"佛山市顺德区南朗小学"]
[17,"P303119090827","马路不是游戏场","小学组","课件","一等奖","佛山市",{"$f":"VLOOKUP(B19,'[1]002'!B:M,7,0)","v":"梁韶昆"},{"$f":"VLOOKUP(B19,'[1]002'!B:M,8,0)","v":"佛山市顺德区鉴海小学"},{"$f":"VLOOKUP(B19,'[1]002'!B:M,11,0)","v":"张蔼颖"},{"$f":"VLOOKUP(B19,'[1]002'!B:M,12,0)","v":"佛山市顺德区鉴海小学"}]
[18,"P303119090849","背土豆","小学组","课件","一等奖","佛山市",{"$f":"VLOOKUP(B20,'[1]002'!B:M,7,0)","v":"张嘉庆"},{"$f":"VLOOKUP(B20,'[1]002'!B:M,8,0)","v":"佛山市顺德区昌教小学"},{"$f":"VLOOKUP(B20,'[1]002'!B:M,11,0)","v":"张子昕"},{"$f":"VLOOKUP(B20,'[1]002'!B:M,12,0)","v":"佛山市顺德区昌教小学"}]
[19,"P303119090840","动画创作流程指导","小学组","课件","一等奖","佛山市",{"$f":"VLOOKUP(B21,'[1]002'!B:M,7,0)","v":"叶粉娥"},{"$f":"VLOOKUP(B21,'[1]002'!B:M,8,0)","v":"佛山市顺德区容桂上佳市小学"},{"$f":"VLOOKUP(B21,'[1]002'!B:M,11,0)","v":"-"},{"$f":"VLOOKUP(B21,'[1]002'!B:M,12,0)","v":"-"}]
[20,"P303119090843","购物场所我知道","小学组","课件","一等奖","佛山市",{"$f":"VLOOKUP(B22,'[1]002'!B:M,7,0)","v":"罗新慧"},{"$f":"VLOOKUP(B22,'[1]002'!B:M,8,0)","v":"佛山市顺德区杏坛小学"},{"$f":"VLOOKUP(B22,'[1]002'!B:M,11,0)","v":"程欣萍"},{"$f":"VLOOKUP(B22,'[1]002'!B:M,12,0)","v":"佛山市顺德区杏坛小学"}]
[21,"P303119090836","一年级英语Unit8Shapes","小学组","课件","一等奖","佛山市",{"$f":"VLOOKUP(B23,'[1]002'!B:M,7,0)","v":"肖玮"},{"$f":"VLOOKUP(B23,'[1]002'!B:M,8,0)","v":"佛山市顺德区均安中心小学"},{"$f":"VLOOKUP(B23,'[1]002'!B:M,11,0)","v":"-"},{"$f":"VLOOKUP(B23,'[1]002'!B:M,12,0)","v":"-"}]
[22,"P303119090839","总是迟到的大卫","小学组","课件","一等奖","佛山市",{"$f":"VLOOKUP(B24,'[1]002'!B:M,7,0)","v":"叶粉娥"},{"$f":"VLOOKUP(B24,'[1]002'!B:M,8,0)","v":"佛山市顺德区容桂上佳市小学"},{"$f":"VLOOKUP(B24,'[1]002'!B:M,11,0)","v":"-"},{"$f":"VLOOKUP(B24,'[1]002'!B:M,12,0)","v":"-"}]
[23,"P303119090844","大小多少","小学组","课件","一等奖","佛山市",{"$f":"VLOOKUP(B25,'[1]002'!B:M,7,0)","v":"李海婷"},{"$f":"VLOOKUP(B25,'[1]002'!B:M,8,0)","v":"佛山市顺德区北滘林头小学"},{"$f":"VLOOKUP(B25,'[1]002'!B:M,11,0)","v":"-"},{"$f":"VLOOKUP(B25,'[1]002'!B:M,12,0)","v":"-"}]
[24,"P303119090832","认识人民币","小学组","课件","一等奖","佛山市",{"$f":"VLOOKUP(B26,'[1]002'!B:M,7,0)","v":"范聪利"},{"$f":"VLOOKUP(B26,'[1]002'!B:M,8,0)","v":"佛山市顺德区勒流裕源小学"},{"$f":"VLOOKUP(B26,'[1]002'!B:M,11,0)","v":"关燕霞"},{"$f":"VLOOKUP(B26,'[1]002'!B:M,12,0)","v":"佛山市南海外国语学校"}]
[25,"P303119090807","我的汽车在哪里","小学组","课件","一等奖","佛山市",{"$f":"VLOOKUP(B27,'[1]002'!B:M,7,0)","v":"黎毅峰"},{"$f":"VLOOKUP(B27,'[1]002'!B:M,8,0)","v":"佛山市禅城区南庄镇吉利小学"},{"$f":"VLOOKUP(B27,'[1]002'!B:M,11,0)","v":"-"},{"$f":"VLOOKUP(B27,'[1]002'!B:M,12,0)","v":"-"}]
[26,"P303119090808","Mobile","小学组","课件","一等奖","佛山市",{"$f":"VLOOKUP(B28,'[1]002'!B:M,7,0)","v":"梁淑颜"},{"$f":"VLOOKUP(B28,'[1]002'!B:M,8,0)","v":"佛山市城南小学"},{"$f":"VLOOKUP(B28,'[1]002'!B:M,11,0)","v":"-"},{"$f":"VLOOKUP(B28,'[1]002'!B:M,12,0)","v":"-"}]
[27,"P303119090855","画风","小学组","课件","一等奖","佛山市",{"$f":"VLOOKUP(B29,'[1]002'!B:M,7,0)","v":"沈国华"},{"$f":"VLOOKUP(B29,'[1]002'!B:M,8,0)","v":"佛山市顺德区大良实验小学"},{"$f":"VLOOKUP(B29,'[1]002'!B:M,11,0)","v":"-"},{"$f":"VLOOKUP(B29,'[1]002'!B:M,12,0)","v":"-"}]
[28,"P303119090846","找春天","小学组","课件","一等奖","佛山市",{"$f":"VLOOKUP(B30,'[1]002'!B:M,7,0)","v":"马亦"},{"$f":"VLOOKUP(B30,'[1]002'!B:M,8,0)","v":"佛山市顺德区北滘中心小学"},{"$f":"VLOOKUP(B30,'[1]002'!B:M,11,0)","v":"周敏霞"},{"$f":"VLOOKUP(B30,'[1]002'!B:M,12,0)","v":"佛山市顺德区北滘广教小学"}]
[29,"P303119090799","小学英语五年级上册第五单元对话课","小学组","课件","一等奖","佛山市",{"$f":"VLOOKUP(B31,'[1]002'!B:M,7,0)","v":"黄淑霞"},{"$f":"VLOOKUP(B31,'[1]002'!B:M,8,0)","v":"佛山市高明区荷城街道德信实验学校"},{"$f":"VLOOKUP(B31,'[1]002'!B:M,11,0)","v":"-"},{"$f":"VLOOKUP(B31,'[1]002'!B:M,12,0)","v":"-"}]
[30,"P303119090829","混合运算及其应用","小学组","课件","一等奖","佛山市",{"$f":"VLOOKUP(B32,'[1]002'!B:M,7,0)","v":"黄金平"},{"$f":"VLOOKUP(B32,'[1]002'!B:M,8,0)","v":"佛山市顺德区仓门小学"},{"$f":"VLOOKUP(B32,'[1]002'!B:M,11,0)","v":"-"},{"$f":"VLOOKUP(B32,'[1]002'!B:M,12,0)","v":"-"}]
[31,"P303119090833","轴对称","小学组","课件","一等奖","佛山市",{"$f":"VLOOKUP(B33,'[1]002'!B:M,7,0)","v":"汪梅"},"佛山市顺德区北滘镇莘村小学",{"$f":"VLOOKUP(B33,'[1]002'!B:M,11,0)","v":"凌春球"},"佛山市顺德区北滘镇马龙小学"]
[32,"P303119090779","Myholiday英语写作教学","小学组","课件","一等奖","佛山市",{"$f":"VLOOKUP(B34,'[1]002'!B:M,7,0)","v":"苏燕利"},{"$f":"VLOOKUP(B34,'[1]002'!B:M,8,0)","v":"佛山市高明区更合镇中心小学"},{"$f":"VLOOKUP(B34,'[1]002'!B:M,11,0)","v":"-"},{"$f":"VLOOKUP(B34,'[1]002'!B:M,12,0)","v":"-"}]
[33,"P303119090828","圆柱和圆锥","小学组","课件","一等奖","佛山市",{"$f":"VLOOKUP(B35,'[1]002'!B:M,7,0)","v":"凌春球"},"佛山市顺德区北滘镇马龙小学",{"$f":"VLOOKUP(B35,'[1]002'!B:M,11,0)","v":"汪梅"},"佛山市顺德区北滘镇莘村小学"]
[34,"P303119090834","密铺","小学组","课件","一等奖","佛山市",{"$f":"VLOOKUP(B36,'[1]002'!B:M,7,0)","v":"李观英"},{"$f":"VLOOKUP(B36,'[1]002'!B:M,8,0)","v":"佛山市顺德区南朗小学"},{"$f":"VLOOKUP(B36,'[1]002'!B:M,11,0)","v":"欧阳嘉俊"},{"$f":"VLOOKUP(B36,'[1]002'!B:M,12,0)","v":"佛山市顺德区均安天连小学"}]
[35,"P303119093463","姥姥的剪纸","小学组","课件","一等奖","河源市",{"$f":"VLOOKUP(B37,'[1]002'!B:M,7,0)","v":"刘春霞"},{"$f":"VLOOKUP(B37,'[1]002'!B:M,8,0)","v":"龙川县老隆镇水贝小学"},{"$f":"VLOOKUP(B37,'[1]002'!B:M,11,0)","v":"-"},{"$f":"VLOOKUP(B37,'[1]002'!B:M,12,0)","v":"-"}]
[36,"P303119088235","装在信封里的小太阳","小学组","课件","一等奖","梅州市",{"$f":"VLOOKUP(B38,'[1]002'!B:M,7,0)","v":"黄海苑"},{"$f":"VLOOKUP(B38,'[1]002'!B:M,8,0)","v":"梅州市兴宁市兴城镇第八小学"},{"$f":"VLOOKUP(B38,'[1]002'!B:M,11,0)","v":"-"},{"$f":"VLOOKUP(B38,'[1]002'!B:M,12,0)","v":"-"}]
[37,"P303119092115","A_Let_s_talk","小学组","课件","一等奖","惠州市",{"$f":"VLOOKUP(B39,'[1]002'!B:M,7,0)","v":"李卫平"},{"$f":"VLOOKUP(B39,'[1]002'!B:M,8,0)","v":"博罗县罗阳第六小学"},{"$f":"VLOOKUP(B39,'[1]002'!B:M,11,0)","v":"余慧群"},{"$f":"VLOOKUP(B39,'[1]002'!B:M,12,0)","v":"博罗县罗阳第六小学"}]
[38,"P303119092467","九寨沟","小学组","课件","一等奖","东莞市",{"$f":"VLOOKUP(B40,'[1]002'!B:M,7,0)","v":"叶倩明"},{"$f":"VLOOKUP(B40,'[1]002'!B:M,8,0)","v":"东莞市东城虎英小学"},{"$f":"VLOOKUP(B40,'[1]002'!B:M,11,0)","v":"-"},{"$f":"VLOOKUP(B40,'[1]002'!B:M,12,0)","v":"-"}]
[39,"P303119092460","寓言两则","小学组","课件","一等奖","东莞市",{"$f":"VLOOKUP(B41,'[1]002'!B:M,7,0)","v":"何棋珍"},{"$f":"VLOOKUP(B41,'[1]002'!B:M,8,0)","v":"东莞市大朗镇三星小学"},{"$f":"VLOOKUP(B41,'[1]002'!B:M,11,0)","v":"周惠平"},{"$f":"VLOOKUP(B41,'[1]002'!B:M,12,0)","v":"东莞市大朗镇三星小学"}]
[40,"P303119092463","制作课程表","小学组","课件","一等奖","东莞市",{"$f":"VLOOKUP(B42,'[1]002'!B:M,7,0)","v":"张倩予"},{"$f":"VLOOKUP(B42,'[1]002'!B:M,8,0)","v":"东莞市东城第一小学"},{"$f":"VLOOKUP(B42,'[1]002'!B:M,11,0)","v":"-"},{"$f":"VLOOKUP(B42,'[1]002'!B:M,12,0)","v":"-"}]
[41,"P303119092461","画杨桃","小学组","课件","一等奖","东莞市",{"$f":"VLOOKUP(B43,'[1]002'!B:M,7,0)","v":"何棋珍"},{"$f":"VLOOKUP(B43,'[1]002'!B:M,8,0)","v":"东莞市大朗镇三星小学"},{"$f":"VLOOKUP(B43,'[1]002'!B:M,11,0)","v":"-"},{"$f":"VLOOKUP(B43,'[1]002'!B:M,12,0)","v":"-"}]
[42,"P303119092464","亡羊补牢","小学组","课件","一等奖","东莞市",{"$f":"VLOOKUP(B44,'[1]002'!B:M,7,0)","v":"黄华文"},{"$f":"VLOOKUP(B44,'[1]002'!B:M,8,0)","v":"东莞市石龙镇爱联学校"},{"$f":"VLOOKUP(B44,'[1]002'!B:M,11,0)","v":"钟育燕"},{"$f":"VLOOKUP(B44,'[1]002'!B:M,12,0)","v":"东莞市石龙镇爱联学校"}]
[43,"P303119088382","小学英语单词学习软件","小学组","课件","一等奖","中山市",{"$f":"VLOOKUP(B45,'[1]002'!B:M,7,0)","v":"张芳萍"},{"$f":"VLOOKUP(B45,'[1]002'!B:M,8,0)","v":"中山市板芙镇新联小学"},{"$f":"VLOOKUP(B45,'[1]002'!B:M,11,0)","v":"-"},{"$f":"VLOOKUP(B45,'[1]002'!B:M,12,0)","v":"-"}]
[44,"P303119088282","奇思妙想","小学组","课件","一等奖","中山市",{"$f":"VLOOKUP(B46,'[1]002'!B:M,7,0)","v":"陈翠芬"},{"$f":"VLOOKUP(B46,'[1]002'!B:M,8,0)","v":"中山市沙溪镇濠涌小学"},{"$f":"VLOOKUP(B46,'[1]002'!B:M,11,0)","v":"-"},{"$f":"VLOOKUP(B46,'[1]002'!B:M,12,0)","v":"-"}]
[45,"P303119089227","小学数学图形与几何学习软件","小学组","课件","一等奖","中山市",{"$f":"VLOOKUP(B47,'[1]002'!B:M,7,0)","v":"张琼珊"},{"$f":"VLOOKUP(B47,'[1]002'!B:M,8,0)","v":"中山市石岐张溪郑二小学"},{"$f":"VLOOKUP(B47,'[1]002'!B:M,11,0)","v":"-"},{"$f":"VLOOKUP(B47,'[1]002'!B:M,12,0)","v":"-"}]
[46,"P303119092893","反问句转换为陈述句","小学组","课件","一等奖","湛江市",{"$f":"VLOOKUP(B48,'[1]002'!B:M,7,0)","v":"何茵"},{"$f":"VLOOKUP(B48,'[1]002'!B:M,8,0)","v":"湛江市第十七中学"},{"$f":"VLOOKUP(B48,'[1]002'!B:M,11,0)","v":"-"},{"$f":"VLOOKUP(B48,'[1]002'!B:M,12,0)","v":"-"}]
[47,"P303119092882","部编人教版二年级下  传统节日","小学组","课件","一等奖","湛江市",{"$f":"VLOOKUP(B49,'[1]002'!B:M,7,0)","v":"肖东阳"},{"$f":"VLOOKUP(B49,'[1]002'!B:M,8,0)","v":"湛江经济技术开发区第一小学"},{"$f":"VLOOKUP(B49,'[1]002'!B:M,11,0)","v":"-"},{"$f":"VLOOKUP(B49,'[1]002'!B:M,12,0)","v":"-"}]
[48,"P305119093143","Compound Words","小学组","微课","一等奖","广州市",{"$f":"VLOOKUP(B50,'[1]002'!B:M,7,0)","v":"刘凤霞"},{"$f":"VLOOKUP(B50,'[1]002'!B:M,8,0)","v":"广州市越秀区东风西路小学"},{"$f":"VLOOKUP(B50,'[1]002'!B:M,11,0)","v":"邱雅希"},{"$f":"VLOOKUP(B50,'[1]002'!B:M,12,0)","v":"广州市越秀区东风西路小学"}]
[49,"P305119093141","推荐一部动画片","小学组","微课","一等奖","广州市",{"$f":"VLOOKUP(B51,'[1]002'!B:M,7,0)","v":"王玉清"},{"$f":"VLOOKUP(B51,'[1]002'!B:M,8,0)","v":"华南理工大学附属实验学校"},{"$f":"VLOOKUP(B51,'[1]002'!B:M,11,0)","v":"-"},{"$f":"VLOOKUP(B51,'[1]002'!B:M,12,0)","v":"-"}]
[50,"P305119093138","三年级下册Module4Fruits学习水果制作水果画陈喜玉","小学组","微课","一等奖","广州市",{"$f":"VLOOKUP(B52,'[1]002'!B:M,7,0)","v":"陈喜玉"},{"$f":"VLOOKUP(B52,'[1]002'!B:M,8,0)","v":"广州市番禺区南村镇市头小学"},{"$f":"VLOOKUP(B52,'[1]002'!B:M,11,0)","v":"-"},{"$f":"VLOOKUP(B52,'[1]002'!B:M,12,0)","v":"-"}]
[51,"P305119093153","写好一二三","小学组","微课","一等奖","广州市",{"$f":"VLOOKUP(B53,'[1]002'!B:M,7,0)","v":"叶敏"},{"$f":"VLOOKUP(B53,'[1]002'!B:M,8,0)","v":"广州市越秀区建设六马路小学"},{"$f":"VLOOKUP(B53,'[1]002'!B:M,11,0)","v":"凃咏梅"},{"$f":"VLOOKUP(B53,'[1]002'!B:M,12,0)","v":"广州市越秀区建设六马路小学"}]
[52,"P305119092706","字写错就切水果呗","小学组","微课","一等奖","深圳市",{"$f":"VLOOKUP(B54,'[1]002'!B:M,7,0)","v":"施碧冰"},{"$f":"VLOOKUP(B54,'[1]002'!B:M,8,0)","v":"深圳市向西小学"},{"$f":"VLOOKUP(B54,'[1]002'!B:M,11,0)","v":"-"},{"$f":"VLOOKUP(B54,'[1]002'!B:M,12,0)","v":"-"}]
[53,"P305119092720","习作：我的动物朋友","小学组","微课","一等奖","深圳市",{"$f":"VLOOKUP(B55,'[1]002'!B:M,7,0)","v":"魏银"},{"$f":"VLOOKUP(B55,'[1]002'!B:M,8,0)","v":"深圳市龙华区同胜学校"},{"$f":"VLOOKUP(B55,'[1]002'!B:M,11,0)","v":"-"},{"$f":"VLOOKUP(B55,'[1]002'!B:M,12,0)","v":"-"}]
[54,"P305119092727","伙伴随我加","小学组","微课","一等奖","深圳市",{"$f":"VLOOKUP(B56,'[1]002'!B:M,7,0)","v":"郑丽卿"},{"$f":"VLOOKUP(B56,'[1]002'!B:M,8,0)","v":"深圳市布心小学"},{"$f":"VLOOKUP(B56,'[1]002'!B:M,11,0)","v":"-"},{"$f":"VLOOKUP(B56,'[1]002'!B:M,12,0)","v":"-"}]
[55,"P305119092731","用波普艺术风格画肖像画","小学组","微课","一等奖","深圳市",{"$f":"VLOOKUP(B57,'[1]002'!B:M,7,0)","v":"罗云"},{"$f":"VLOOKUP(B57,'[1]002'!B:M,8,0)","v":"深圳市南山区文理实验学校集团科创学校"},{"$f":"VLOOKUP(B57,'[1]002'!B:M,11,0)","v":"-"},{"$f":"VLOOKUP(B57,'[1]002'!B:M,12,0)","v":"-"}]
[56,"P305119092723","编织乐园","小学组","微课","一等奖","深圳市",{"$f":"VLOOKUP(B58,'[1]002'!B:M,7,0)","v":"李巧梦"},{"$f":"VLOOKUP(B58,'[1]002'!B:M,8,0)","v":"坪山区坪山中心小学"},{"$f":"VLOOKUP(B58,'[1]002'!B:M,11,0)","v":"-"},{"$f":"VLOOKUP(B58,'[1]002'!B:M,12,0)","v":"-"}]
[57,"P305119092724","十分钟让你学会比喻句","小学组","微课","一等奖","深圳市",{"$f":"VLOOKUP(B59,'[1]002'!B:M,7,0)","v":"方子玉"},{"$f":"VLOOKUP(B59,'[1]002'!B:M,8,0)","v":"深圳市南山区南海小学"},{"$f":"VLOOKUP(B59,'[1]002'!B:M,11,0)","v":"-"},{"$f":"VLOOKUP(B59,'[1]002'!B:M,12,0)","v":"-"}]
[58,"P305119092711","认识底和高","小学组","微课","一等奖","深圳市",{"$f":"VLOOKUP(B60,'[1]002'!B:M,7,0)","v":"刘畅"},{"$f":"VLOOKUP(B60,'[1]002'!B:M,8,0)","v":"深圳市南山实验教育集团"},{"$f":"VLOOKUP(B60,'[1]002'!B:M,11,0)","v":"-"},{"$f":"VLOOKUP(B60,'[1]002'!B:M,12,0)","v":"-"}]
[59,"P305119092738","假设法巧解鸡兔同笼","小学组","微课","一等奖","深圳市",{"$f":"VLOOKUP(B61,'[1]002'!B:M,7,0)","v":"陈纯子"},{"$f":"VLOOKUP(B61,'[1]002'!B:M,8,0)","v":"龙岗区布吉贤义外国语学校"},{"$f":"VLOOKUP(B61,'[1]002'!B:M,11,0)","v":"-"},{"$f":"VLOOKUP(B61,'[1]002'!B:M,12,0)","v":"-"}]
[60,"P305119092262","Unit 6 Lets spell","小学组","微课","一等奖","汕头市",{"$f":"VLOOKUP(B62,'[1]002'!B:M,7,0)","v":"李惠莉"},{"$f":"VLOOKUP(B62,'[1]002'!B:M,8,0)","v":"汕头市龙湖区金晖小学"},{"$f":"VLOOKUP(B62,'[1]002'!B:M,11,0)","v":"-"},{"$f":"VLOOKUP(B62,'[1]002'!B:M,12,0)","v":"-"}]
[61,"P305119091970","魔术表演","小学组","微课","一等奖","汕头市",{"$f":"VLOOKUP(B63,'[1]002'!B:M,7,0)","v":"黄子斌"},{"$f":"VLOOKUP(B63,'[1]002'!B:M,8,0)","v":"汕头市潮阳实验学校"},{"$f":"VLOOKUP(B63,'[1]002'!B:M,11,0)","v":"-"},{"$f":"VLOOKUP(B63,'[1]002'!B:M,12,0)","v":"-"}]
[62,"P305119091967","足球脚内侧传球","小学组","微课","一等奖","汕头市",{"$f":"VLOOKUP(B64,'[1]002'!B:M,7,0)","v":"张娜"},{"$f":"VLOOKUP(B64,'[1]002'!B:M,8,0)","v":"汕头市龙湖区金阳小学"},{"$f":"VLOOKUP(B64,'[1]002'!B:M,11,0)","v":"-"},{"$f":"VLOOKUP(B64,'[1]002'!B:M,12,0)","v":"-"}]
[63,"P305119090904","小节小节线终止线","小学组","微课","一等奖","佛山市",{"$f":"VLOOKUP(B65,'[1]002'!B:M,7,0)","v":"高丽怡"},{"$f":"VLOOKUP(B65,'[1]002'!B:M,8,0)","v":"佛山市南海区桂城街道桂江小学"},{"$f":"VLOOKUP(B65,'[1]002'!B:M,11,0)","v":"-"},{"$f":"VLOOKUP(B65,'[1]002'!B:M,12,0)","v":"-"}]
[64,"P305119090932","变废为宝","小学组","微课","一等奖","佛山市",{"$f":"VLOOKUP(B66,'[1]002'!B:M,7,0)","v":"苏丽彤"},{"$f":"VLOOKUP(B66,'[1]002'!B:M,8,0)","v":"佛山市顺德区麦村小学"},{"$f":"VLOOKUP(B66,'[1]002'!B:M,11,0)","v":"王洁"},{"$f":"VLOOKUP(B66,'[1]002'!B:M,12,0)","v":"佛山市顺德区麦村小学"}]
[65,"P305119090944","杠杆","小学组","微课","一等奖","佛山市",{"$f":"VLOOKUP(B67,'[1]002'!B:M,7,0)","v":"郑洁"},{"$f":"VLOOKUP(B67,'[1]002'!B:M,8,0)","v":"佛山市顺德区勒流江义小学"},{"$f":"VLOOKUP(B67,'[1]002'!B:M,11,0)","v":"-"},{"$f":"VLOOKUP(B67,'[1]002'!B:M,12,0)","v":"-"}]
[66,"P305119090901","缩句的原则与技巧","小学组","微课","一等奖","佛山市",{"$f":"VLOOKUP(B68,'[1]002'!B:M,7,0)","v":"程健宁"},{"$f":"VLOOKUP(B68,'[1]002'!B:M,8,0)","v":"禅城区南庄镇中心小学"},{"$f":"VLOOKUP(B68,'[1]002'!B:M,11,0)","v":"-"},{"$f":"VLOOKUP(B68,'[1]002'!B:M,12,0)","v":"-"}]
[67,"P305119090938","中华文化常识","小学组","微课","一等奖","佛山市",{"$f":"VLOOKUP(B69,'[1]002'!B:M,7,0)","v":"谢远清"},{"$f":"VLOOKUP(B69,'[1]002'!B:M,8,0)","v":"佛山市顺德区北滘镇承德小学"},{"$f":"VLOOKUP(B69,'[1]002'!B:M,11,0)","v":"沈上华"},{"$f":"VLOOKUP(B69,'[1]002'!B:M,12,0)","v":"佛山市顺德区北滘镇承德小学"}]
[68,"P305119090905","第13课酷猫玩游戏","小学组","微课","一等奖","佛山市",{"$f":"VLOOKUP(B70,'[1]002'!B:M,7,0)","v":"冯碧玲"},{"$f":"VLOOKUP(B70,'[1]002'!B:M,8,0)","v":"佛山市南海区大沥镇盐步中心小学"},{"$f":"VLOOKUP(B70,'[1]002'!B:M,11,0)","v":"-"},{"$f":"VLOOKUP(B70,'[1]002'!B:M,12,0)","v":"-"}]
[69,"P305119090945","人物外貌描写小绝招","小学组","微课","一等奖","佛山市",{"$f":"VLOOKUP(B71,'[1]002'!B:M,7,0)","v":"杨青霖"},{"$f":"VLOOKUP(B71,'[1]002'!B:M,8,0)","v":"佛山市三水区西南街道第八小学"},{"$f":"VLOOKUP(B71,'[1]002'!B:M,11,0)","v":"-"},{"$f":"VLOOKUP(B71,'[1]002'!B:M,12,0)","v":"-"}]
[70,"P305119090908","我是大侦探","小学组","微课","一等奖","佛山市",{"$f":"VLOOKUP(B72,'[1]002'!B:M,7,0)","v":"刘媛"},{"$f":"VLOOKUP(B72,'[1]002'!B:M,8,0)","v":"佛山市南海区桂城街道桂江小学"},{"$f":"VLOOKUP(B72,'[1]002'!B:M,11,0)","v":"-"},{"$f":"VLOOKUP(B72,'[1]002'!B:M,12,0)","v":"-"}]
[71,"P305119090892","信息学竞赛知识点数字拆分的学习","小学组","微课","一等奖","佛山市",{"$f":"VLOOKUP(B73,'[1]002'!B:M,7,0)","v":"曾晓薇"},{"$f":"VLOOKUP(B73,'[1]002'!B:M,8,0)","v":"佛山市南海区大沥镇盐步中心小学"},{"$f":"VLOOKUP(B73,'[1]002'!B:M,11,0)","v":"-"},{"$f":"VLOOKUP(B73,'[1]002'!B:M,12,0)","v":"-"}]
[72,"P305119090931","你画我猜","小学组","微课","一等奖","佛山市",{"$f":"VLOOKUP(B74,'[1]002'!B:M,7,0)","v":"欧阳瑶瑶"},{"$f":"VLOOKUP(B74,'[1]002'!B:M,8,0)","v":"佛山市顺德区均安中心小学"},{"$f":"VLOOKUP(B74,'[1]002'!B:M,11,0)","v":"-"},{"$f":"VLOOKUP(B74,'[1]002'!B:M,12,0)","v":"-"}]
[73,"P305119090876","吃饭有讲究","小学组","微课","一等奖","佛山市",{"$f":"VLOOKUP(B75,'[1]002'!B:M,7,0)","v":"区燕红"},{"$f":"VLOOKUP(B75,'[1]002'!B:M,8,0)","v":"佛山市高明区荷城街道德信实验学校"},{"$f":"VLOOKUP(B75,'[1]002'!B:M,11,0)","v":"-"},{"$f":"VLOOKUP(B75,'[1]002'!B:M,12,0)","v":"-"}]
[74,"P305119087669","微课彼得与狼","小学组","微课","一等奖","韶关市",{"$f":"VLOOKUP(B76,'[1]002'!B:M,7,0)","v":"阮旭阳"},{"$f":"VLOOKUP(B76,'[1]002'!B:M,8,0)","v":"韶关市翁源县实验小学"},{"$f":"VLOOKUP(B76,'[1]002'!B:M,11,0)","v":"-"},{"$f":"VLOOKUP(B76,'[1]002'!B:M,12,0)","v":"-"}]
[75,"P305119088724","昨天，今天和明天","小学组","微课","一等奖","韶关市",{"$f":"VLOOKUP(B77,'[1]002'!B:M,7,0)","v":"鲁曙琦"},{"$f":"VLOOKUP(B77,'[1]002'!B:M,8,0)","v":"始兴县顿岗镇中心小学"},{"$f":"VLOOKUP(B77,'[1]002'!B:M,11,0)","v":"-"},{"$f":"VLOOKUP(B77,'[1]002'!B:M,12,0)","v":"-"}]
[76,"P305119089559","认识角","小学组","微课","一等奖","韶关市",{"$f":"VLOOKUP(B78,'[1]002'!B:M,7,0)","v":"邓毅萍"},{"$f":"VLOOKUP(B78,'[1]002'!B:M,8,0)","v":"仁化县第二小学"},{"$f":"VLOOKUP(B78,'[1]002'!B:M,11,0)","v":"黄聪"},{"$f":"VLOOKUP(B78,'[1]002'!B:M,12,0)","v":"仁化县第二小学"}]
[77,"P305119093432","成群的动物","小学组","微课","一等奖","河源市",{"$f":"VLOOKUP(B79,'[1]002'!B:M,7,0)","v":"谢玲玲"},{"$f":"VLOOKUP(B79,'[1]002'!B:M,8,0)","v":"车田镇中心小学"},{"$f":"VLOOKUP(B79,'[1]002'!B:M,11,0)","v":"-"},{"$f":"VLOOKUP(B79,'[1]002'!B:M,12,0)","v":"-"}]
[78,"P305119092107","There_be句型","小学组","微课","一等奖","惠州市",{"$f":"VLOOKUP(B80,'[1]002'!B:M,7,0)","v":"余慧群"},{"$f":"VLOOKUP(B80,'[1]002'!B:M,8,0)","v":"博罗县罗阳第六小学"},{"$f":"VLOOKUP(B80,'[1]002'!B:M,11,0)","v":"李卫平"},{"$f":"VLOOKUP(B80,'[1]002'!B:M,12,0)","v":"博罗县罗阳第六小学"}]
[79,"P305119092388","鸡兔同笼","小学组","微课","一等奖","汕尾市",{"$f":"VLOOKUP(B81,'[1]002'!B:M,7,0)","v":"林启俊"},{"$f":"VLOOKUP(B81,'[1]002'!B:M,8,0)","v":"海丰县海城镇中心小学"},{"$f":"VLOOKUP(B81,'[1]002'!B:M,11,0)","v":"-"},{"$f":"VLOOKUP(B81,'[1]002'!B:M,12,0)","v":"-"}]
[80,"P305119092561","人教版小学英语五下Unit3ReadandWrite系列微课","小学组","微课","一等奖","东莞市",{"$f":"VLOOKUP(B82,'[1]002'!B:M,7,0)","v":"朱顺美"},{"$f":"VLOOKUP(B82,'[1]002'!B:M,8,0)","v":"东莞松山湖实验小学"},{"$f":"VLOOKUP(B82,'[1]002'!B:M,11,0)","v":"-"},{"$f":"VLOOKUP(B82,'[1]002'!B:M,12,0)","v":"-"}]
[81,"P305119092558","改转述句的方法","小学组","微课","一等奖","东莞市",{"$f":"VLOOKUP(B83,'[1]002'!B:M,7,0)","v":"吴恩彤"},{"$f":"VLOOKUP(B83,'[1]002'!B:M,8,0)","v":"东莞市寮步镇凫山小学"},{"$f":"VLOOKUP(B83,'[1]002'!B:M,11,0)","v":"-"},{"$f":"VLOOKUP(B83,'[1]002'!B:M,12,0)","v":"-"}]
[82,"P305119092568","鸡兔同笼","小学组","微课","一等奖","东莞市",{"$f":"VLOOKUP(B84,'[1]002'!B:M,7,0)","v":"王丽婷"},{"$f":"VLOOKUP(B84,'[1]002'!B:M,8,0)","v":"东莞市南城中心小学"},{"$f":"VLOOKUP(B84,'[1]002'!B:M,11,0)","v":"蔡俊清"},{"$f":"VLOOKUP(B84,'[1]002'!B:M,12,0)","v":"东莞市南城中心小学"}]
[83,"P305119092560","书写提示","小学组","微课","一等奖","东莞市",{"$f":"VLOOKUP(B85,'[1]002'!B:M,7,0)","v":"黄开葵"},{"$f":"VLOOKUP(B85,'[1]002'!B:M,8,0)","v":"东莞市大朗镇中心小学"},{"$f":"VLOOKUP(B85,'[1]002'!B:M,11,0)","v":"-"},{"$f":"VLOOKUP(B85,'[1]002'!B:M,12,0)","v":"-"}]
[84,"P305119092556","寻找秋雨颜色之旅","小学组","微课","一等奖","东莞市",{"$f":"VLOOKUP(B86,'[1]002'!B:M,7,0)","v":"秦子薇"},{"$f":"VLOOKUP(B86,'[1]002'!B:M,8,0)","v":"东莞市石碣实验小学"},{"$f":"VLOOKUP(B86,'[1]002'!B:M,11,0)","v":"-"},{"$f":"VLOOKUP(B86,'[1]002'!B:M,12,0)","v":"-"}]
[85,"P305119092562","圆的面积","小学组","微课","一等奖","东莞市",{"$f":"VLOOKUP(B87,'[1]002'!B:M,7,0)","v":"黄香思"},{"$f":"VLOOKUP(B87,'[1]002'!B:M,8,0)","v":"东莞市长安镇中山小学"},{"$f":"VLOOKUP(B87,'[1]002'!B:M,11,0)","v":"覃翠丽"},{"$f":"VLOOKUP(B87,'[1]002'!B:M,12,0)","v":"东莞市长安镇中山小学"}]
[86,"P305119092565","利用思维导图来介绍自己的家庭","小学组","微课","一等奖","东莞市",{"$f":"VLOOKUP(B88,'[1]002'!B:M,7,0)","v":"邹燕"},{"$f":"VLOOKUP(B88,'[1]002'!B:M,8,0)","v":"东莞市虎门镇太平小学"},{"$f":"VLOOKUP(B88,'[1]002'!B:M,11,0)","v":"-"},{"$f":"VLOOKUP(B88,'[1]002'!B:M,12,0)","v":"-"}]
[87,"P305119088220","粽叶飘香话端午","小学组","微课","一等奖","中山市",{"$f":"VLOOKUP(B89,'[1]002'!B:M,7,0)","v":"钟淑燕"},{"$f":"VLOOKUP(B89,'[1]002'!B:M,8,0)","v":"中山市板芙镇广福小学"},{"$f":"VLOOKUP(B89,'[1]002'!B:M,11,0)","v":"黄建芳"},{"$f":"VLOOKUP(B89,'[1]002'!B:M,12,0)","v":"中山市板芙镇广福小学"}]
[88,"P305119088359","跆拳道腿法前踢","小学组","微课","一等奖","中山市",{"$f":"VLOOKUP(B90,'[1]002'!B:M,7,0)","v":"易辉龙"},{"$f":"VLOOKUP(B90,'[1]002'!B:M,8,0)","v":"中山市石岐中心小学"},{"$f":"VLOOKUP(B90,'[1]002'!B:M,11,0)","v":"刘文东"},{"$f":"VLOOKUP(B90,'[1]002'!B:M,12,0)","v":"中山市石岐中心小学"}]
[89,"P305119088225","复式统计表","小学组","微课","一等奖","中山市",{"$f":"VLOOKUP(B91,'[1]002'!B:M,7,0)","v":"潘锦嫦"},{"$f":"VLOOKUP(B91,'[1]002'!B:M,8,0)","v":"中山市实验小学蓝波湾学校"},{"$f":"VLOOKUP(B91,'[1]002'!B:M,11,0)","v":"卢家明"},{"$f":"VLOOKUP(B91,'[1]002'!B:M,12,0)","v":"中山市实验小学"}]
[90,"P305119088655","小墨课堂——用墨与用笔","小学组","微课","一等奖","中山市",{"$f":"VLOOKUP(B92,'[1]002'!B:M,7,0)","v":"何熙怡"},{"$f":"VLOOKUP(B92,'[1]002'!B:M,8,0)","v":"中山市东区竹苑小学"},{"$f":"VLOOKUP(B92,'[1]002'!B:M,11,0)","v":"-"},{"$f":"VLOOKUP(B92,'[1]002'!B:M,12,0)","v":"-"}]
[91,"P305119088276","用排水法求不规则物体的体积","小学组","微课","一等奖","中山市",{"$f":"VLOOKUP(B93,'[1]002'!B:M,7,0)","v":"任慧"},{"$f":"VLOOKUP(B93,'[1]002'!B:M,8,0)","v":"中山市中港英文学校"},{"$f":"VLOOKUP(B93,'[1]002'!B:M,11,0)","v":"林佳"},{"$f":"VLOOKUP(B93,'[1]002'!B:M,12,0)","v":"中山市中港英文学校"}]
[92,"P305119090302","微课Unit3Animals","小学组","微课","一等奖","中山市",{"$f":"VLOOKUP(B94,'[1]002'!B:M,7,0)","v":"陈水玲"},{"$f":"VLOOKUP(B94,'[1]002'!B:M,8,0)","v":"中山市西区中心小学"},{"$f":"VLOOKUP(B94,'[1]002'!B:M,11,0)","v":"-"},{"$f":"VLOOKUP(B94,'[1]002'!B:M,12,0)","v":"-"}]
[93,"P305119091781","学用There be 句型表达“某地有……”","小学组","微课","一等奖","江门市",{"$f":"VLOOKUP(B95,'[1]002'!B:M,7,0)","v":"伍雅茵"},{"$f":"VLOOKUP(B95,'[1]002'!B:M,8,0)","v":"江门市紫茶小学"},{"$f":"VLOOKUP(B95,'[1]002'!B:M,11,0)","v":"-"},{"$f":"VLOOKUP(B95,'[1]002'!B:M,12,0)","v":"-"}]
[94,"P305119091824","乘法分配律","小学组","微课","一等奖","江门市",{"$f":"VLOOKUP(B96,'[1]002'!B:M,7,0)","v":"骆晓珊"},{"$f":"VLOOKUP(B96,'[1]002'!B:M,8,0)","v":"外海中路小学"},{"$f":"VLOOKUP(B96,'[1]002'!B:M,11,0)","v":"-"},{"$f":"VLOOKUP(B96,'[1]002'!B:M,12,0)","v":"-"}]
[95,"P305119092916","穿越古代，走进送别诗","小学组","微课","一等奖","湛江市",{"$f":"VLOOKUP(B97,'[1]002'!B:M,7,0)","v":"何茵"},{"$f":"VLOOKUP(B97,'[1]002'!B:M,8,0)","v":"湛江市第十七中学"},{"$f":"VLOOKUP(B97,'[1]002'!B:M,11,0)","v":"-"},{"$f":"VLOOKUP(B97,'[1]002'!B:M,12,0)","v":"-"}]
[96,"P305119091314","让句子发出声音","小学组","微课","一等奖","茂名市",{"$f":"VLOOKUP(B98,'[1]002'!B:M,7,0)","v":"吴晓颖"},{"$f":"VLOOKUP(B98,'[1]002'!B:M,8,0)","v":"茂名市方兴小学"},{"$f":"VLOOKUP(B98,'[1]002'!B:M,11,0)","v":"-"},{"$f":"VLOOKUP(B98,'[1]002'!B:M,12,0)","v":"-"}]
[97,"P305119091311","微课How to talk about hobbies","小学组","微课","一等奖","茂名市",{"$f":"VLOOKUP(B99,'[1]002'!B:M,7,0)","v":"吴晓聪"},{"$f":"VLOOKUP(B99,'[1]002'!B:M,8,0)","v":"化州市第三小学"},{"$f":"VLOOKUP(B99,'[1]002'!B:M,11,0)","v":"-"},{"$f":"VLOOKUP(B99,'[1]002'!B:M,12,0)","v":"-"}]
[98,"P305119091316","惠崇春江晓景","小学组","微课","一等奖","茂名市",{"$f":"VLOOKUP(B100,'[1]002'!B:M,7,0)","v":"邓丹霞"},{"$f":"VLOOKUP(B100,'[1]002'!B:M,8,0)","v":"电城镇蔡屋小学"},{"$f":"VLOOKUP(B100,'[1]002'!B:M,11,0)","v":"-"},{"$f":"VLOOKUP(B100,'[1]002'!B:M,12,0)","v":"-"}]
[99,"P305119091796","巧救小昆虫","小学组","微课","一等奖","茂名市",{"$f":"VLOOKUP(B101,'[1]002'!B:M,7,0)","v":"冯思敏"},{"$f":"VLOOKUP(B101,'[1]002'!B:M,8,0)","v":"茂名市江滨小学"},{"$f":"VLOOKUP(B101,'[1]002'!B:M,11,0)","v":"-"},{"$f":"VLOOKUP(B101,'[1]002'!B:M,12,0)","v":"-"}]
[100,"P305119089834","与键盘交朋友","小学组","微课","一等奖","肇庆市",{"$f":"VLOOKUP(B102,'[1]002'!B:M,7,0)","v":"邓诗颖"},{"$f":"VLOOKUP(B102,'[1]002'!B:M,8,0)","v":"肇庆高新区实验小学"},{"$f":"VLOOKUP(B102,'[1]002'!B:M,11,0)","v":"李坤明"},{"$f":"VLOOKUP(B102,'[1]002'!B:M,12,0)","v":"肇庆高新区实验小学"}]
[101,"P305119081577","部编版三年下册第九课古诗三首之九月九日忆山东兄弟","小学组","微课","一等奖","潮州市",{"$f":"VLOOKUP(B103,'[1]002'!B:M,7,0)","v":"张余波"},{"$f":"VLOOKUP(B103,'[1]002'!B:M,8,0)","v":"潮州市实验学校"},{"$f":"VLOOKUP(B103,'[1]002'!B:M,11,0)","v":"-"},{"$f":"VLOOKUP(B103,'[1]002'!B:M,12,0)","v":"-"}]
[102,"P305119087329","PEP三年级上册Unit3 Look at me PartA","小学组","微课","一等奖","潮州市",{"$f":"VLOOKUP(B104,'[1]002'!B:M,7,0)","v":"蔡钿"},{"$f":"VLOOKUP(B104,'[1]002'!B:M,8,0)","v":"湘桥区兴华学校"},{"$f":"VLOOKUP(B104,'[1]002'!B:M,11,0)","v":"-"},{"$f":"VLOOKUP(B104,'[1]002'!B:M,12,0)","v":"-"}]
[103,"P305119080000","撑起身体的保护伞","小学组","微课","一等奖","潮州市",{"$f":"VLOOKUP(B105,'[1]002'!B:M,7,0)","v":"黄梓梦"},{"$f":"VLOOKUP(B105,'[1]002'!B:M,8,0)","v":"湘桥区兴华学校"},{"$f":"VLOOKUP(B105,'[1]002'!B:M,11,0)","v":"-"},{"$f":"VLOOKUP(B105,'[1]002'!B:M,12,0)","v":"-"}]
[104,"P307119092667","万科双语学校人工智能系列课程","小学组","信息技术创新教学案例","一等奖","深圳市",{"$f":"VLOOKUP(B106,'[1]002'!B:M,7,0)","v":"吴萍"},{"$f":"VLOOKUP(B106,'[1]002'!B:M,8,0)","v":"深圳市龙华区万科双语学校"},{"$f":"VLOOKUP(B106,'[1]002'!B:M,11,0)","v":"-"},{"$f":"VLOOKUP(B106,'[1]002'!B:M,12,0)","v":"-"}]
[105,"P307119092666","机器人STEM教学探究","小学组","信息技术创新教学案例","一等奖","深圳市",{"$f":"VLOOKUP(B107,'[1]002'!B:M,7,0)","v":"陈秀"},{"$f":"VLOOKUP(B107,'[1]002'!B:M,8,0)","v":"深圳市福田区福民小学"},{"$f":"VLOOKUP(B107,'[1]002'!B:M,11,0)","v":"-"},{"$f":"VLOOKUP(B107,'[1]002'!B:M,12,0)","v":"-"}]
[106,"P307119090705","我是小小建筑师","小学组","信息技术创新教学案例","一等奖","佛山市",{"$f":"VLOOKUP(B108,'[1]002'!B:M,7,0)","v":"杨月华"},{"$f":"VLOOKUP(B108,'[1]002'!B:M,8,0)","v":"佛山市南海区丹灶镇罗行小学"},"张碧玉","佛山市南海区丹灶镇罗行小学"]
[107,"P307119090708","用拍微电影方式探究种子传播","小学组","信息技术创新教学案例","一等奖","佛山市",{"$f":"VLOOKUP(B109,'[1]002'!B:M,7,0)","v":"冯斌"},{"$f":"VLOOKUP(B109,'[1]002'!B:M,8,0)","v":"禅城区东鄱小学"},{"$f":"VLOOKUP(B109,'[1]002'!B:M,11,0)","v":"-"},{"$f":"VLOOKUP(B109,'[1]002'!B:M,12,0)","v":"-"}]
[108,"P307119090707","动物儿歌识字教学案例","小学组","信息技术创新教学案例","一等奖","佛山市",{"$f":"VLOOKUP(B110,'[1]002'!B:M,7,0)","v":"林惜容"},{"$f":"VLOOKUP(B110,'[1]002'!B:M,8,0)","v":"佛山市南海区丹灶镇有为小学"},{"$f":"VLOOKUP(B110,'[1]002'!B:M,11,0)","v":"-"},{"$f":"VLOOKUP(B110,'[1]002'!B:M,12,0)","v":"-"}]
[109,"P307119092821","实施互联网加美术构建美术工具应用新模式","小学组","信息技术创新教学案例","一等奖","东莞市",{"$f":"VLOOKUP(B111,'[1]002'!B:M,7,0)","v":"谢文兰"},{"$f":"VLOOKUP(B111,'[1]002'!B:M,8,0)","v":"东莞市寮步镇凫山小学"},{"$f":"VLOOKUP(B111,'[1]002'!B:M,11,0)","v":"-"},{"$f":"VLOOKUP(B111,'[1]002'!B:M,12,0)","v":"-"}]
[110,"P307119092825","基于智慧云平台创新翻转课堂新模式","小学组","信息技术创新教学案例","一等奖","东莞市",{"$f":"VLOOKUP(B112,'[1]002'!B:M,7,0)","v":"万瑜文"},"东莞市南城阳光第二小学",{"$f":"VLOOKUP(B112,'[1]002'!B:M,11,0)","v":"胡肖媚"},"东莞市南城阳光第二小学"]
[111,"P301119092834","基于大数据下的线上和线下混合式教学模式初探与实践","小学组","教师网络空间应用案例","一等奖","东莞市",{"$f":"VLOOKUP(B113,'[1]002'!B:M,7,0)","v":"秦静宜"},{"$f":"VLOOKUP(B113,'[1]002'!B:M,8,0)","v":"东莞市长安镇金沙小学"},{"$f":"VLOOKUP(B113,'[1]002'!B:M,11,0)","v":"訾羽佳"},{"$f":"VLOOKUP(B113,'[1]002'!B:M,12,0)","v":"东莞市长安镇金沙小学"}]
[112,"P304119092840","学科日记提升素养","小学组","跨学科项目式学习教学案例","一等奖","东莞市",{"$f":"VLOOKUP(B114,'[1]002'!B:M,7,0)","v":"谢宜伶"},{"$f":"VLOOKUP(B114,'[1]002'!B:M,8,0)","v":"东莞市凤岗镇中心小学"},{"$f":"VLOOKUP(B114,'[1]002'!B:M,11,0)","v":"-"},{"$f":"VLOOKUP(B114,'[1]002'!B:M,12,0)","v":"-"}]
[113,"P304119092844","我是职业小达人融合式课程","小学组","跨学科项目式学习教学案例","一等奖","东莞市",{"$f":"VLOOKUP(B115,'[1]002'!B:M,7,0)","v":"王锟"},{"$f":"VLOOKUP(B115,'[1]002'!B:M,8,0)","v":"东莞市东城虎英小学"},{"$f":"VLOOKUP(B115,'[1]002'!B:M,11,0)","v":"张玉珊"},{"$f":"VLOOKUP(B115,'[1]002'!B:M,12,0)","v":"东莞市东城虎英小学"}]
[114,"P304119089609","夜行动物","小学组","跨学科项目式学习教学案例","一等奖","中山市",{"$f":"VLOOKUP(B116,'[1]002'!B:M,7,0)","v":"陈宏珊"},{"$f":"VLOOKUP(B116,'[1]002'!B:M,8,0)","v":"中山市实验小学"},{"$f":"VLOOKUP(B116,'[1]002'!B:M,11,0)","v":"-"},{"$f":"VLOOKUP(B116,'[1]002'!B:M,12,0)","v":"-"}]
[115,"P306119093135","生命最宝贵","小学组","新媒体新技术教学应用课例","一等奖",{"$f":"RIGHT(LEFT(VLOOKUP(B117,'[1]002'!B:M,3,0),7),3)","v":"广州市"},{"$f":"VLOOKUP(B117,'[1]002'!B:M,7,0)","v":"吴晓虹"},{"$f":"VLOOKUP(B117,'[1]002'!B:M,8,0)","v":"广州市番禺区市桥南阳里小学"},{"$f":"VLOOKUP(B117,'[1]002'!B:M,11,0)","v":"-"},{"$f":"VLOOKUP(B117,'[1]002'!B:M,12,0)","v":"-"}]
[116,"P306119093115","学会辨别东、西、南、北","小学组","新媒体新技术教学应用课例","一等奖",{"$f":"RIGHT(LEFT(VLOOKUP(B118,'[1]002'!B:M,3,0),7),3)","v":"广州市"},{"$f":"VLOOKUP(B118,'[1]002'!B:M,7,0)","v":"房舒娜"},{"$f":"VLOOKUP(B118,'[1]002'!B:M,8,0)","v":"广州市番禺区市桥南阳里小学"},{"$f":"VLOOKUP(B118,'[1]002'!B:M,11,0)","v":"-"},{"$f":"VLOOKUP(B118,'[1]002'!B:M,12,0)","v":"-"}]
[117,"P306119093132","简单电路","小学组","新媒体新技术教学应用课例","一等奖",{"$f":"RIGHT(LEFT(VLOOKUP(B119,'[1]002'!B:M,3,0),7),3)","v":"广州市"},{"$f":"VLOOKUP(B119,'[1]002'!B:M,7,0)","v":"肖玲"},{"$f":"VLOOKUP(B119,'[1]002'!B:M,8,0)","v":"广州市荔湾区芦荻西小学"},{"$f":"VLOOKUP(B119,'[1]002'!B:M,11,0)","v":"-"},{"$f":"VLOOKUP(B119,'[1]002'!B:M,12,0)","v":"-"}]
[118,"P306119093134","飞向蓝天的恐龙","小学组","新媒体新技术教学应用课例","一等奖",{"$f":"RIGHT(LEFT(VLOOKUP(B120,'[1]002'!B:M,3,0),7),3)","v":"广州市"},{"$f":"VLOOKUP(B120,'[1]002'!B:M,7,0)","v":"黄丽东"},{"$f":"VLOOKUP(B120,'[1]002'!B:M,8,0)","v":"广州市番禺区市桥南阳里小学"},{"$f":"VLOOKUP(B120,'[1]002'!B:M,11,0)","v":"吴海华"},{"$f":"VLOOKUP(B120,'[1]002'!B:M,12,0)","v":"广州市番禺区市桥南阳里小学"}]
[119,"P306119093117","线段、直线和射线","小学组","新媒体新技术教学应用课例","一等奖",{"$f":"RIGHT(LEFT(VLOOKUP(B121,'[1]002'!B:M,3,0),7),3)","v":"广州市"},{"$f":"VLOOKUP(B121,'[1]002'!B:M,7,0)","v":"李妍媛"},{"$f":"VLOOKUP(B121,'[1]002'!B:M,8,0)","v":"广州市天河区体育东路小学"},{"$f":"VLOOKUP(B121,'[1]002'!B:M,11,0)","v":"-"},{"$f":"VLOOKUP(B121,'[1]002'!B:M,12,0)","v":"-"}]
[120,"P306119093124","Unit 10 Travel Abroad Fun With Language","小学组","新媒体新技术教学应用课例","一等奖",{"$f":"RIGHT(LEFT(VLOOKUP(B122,'[1]002'!B:M,3,0),7),3)","v":"广州市"},{"$f":"VLOOKUP(B122,'[1]002'!B:M,7,0)","v":"周乐君"},{"$f":"VLOOKUP(B122,'[1]002'!B:M,8,0)","v":"广州市荔湾区乐贤坊小学"},{"$f":"VLOOKUP(B122,'[1]002'!B:M,11,0)","v":"-"},{"$f":"VLOOKUP(B122,'[1]002'!B:M,12,0)","v":"-"}]
[121,"P306119092635","小小的船","小学组","新媒体新技术教学应用课例","一等奖",{"$f":"RIGHT(LEFT(VLOOKUP(B123,'[1]002'!B:M,3,0),7),3)","v":"深圳市"},{"$f":"VLOOKUP(B123,'[1]002'!B:M,7,0)","v":"朱苑兰"},{"$f":"VLOOKUP(B123,'[1]002'!B:M,8,0)","v":"龙城街道龙西小学"},{"$f":"VLOOKUP(B123,'[1]002'!B:M,11,0)","v":"-"},{"$f":"VLOOKUP(B123,'[1]002'!B:M,12,0)","v":"-"}]
[122,"P306119092622","给机器人一双“眼睛”","小学组","新媒体新技术教学应用课例","一等奖",{"$f":"RIGHT(LEFT(VLOOKUP(B124,'[1]002'!B:M,3,0),7),3)","v":"深圳市"},{"$f":"VLOOKUP(B124,'[1]002'!B:M,7,0)","v":"廖致锋"},{"$f":"VLOOKUP(B124,'[1]002'!B:M,8,0)","v":"深圳市红桂小学"},{"$f":"VLOOKUP(B124,'[1]002'!B:M,11,0)","v":"-"},{"$f":"VLOOKUP(B124,'[1]002'!B:M,12,0)","v":"-"}]
[123,"P306119092632","漂亮的挂盘","小学组","新媒体新技术教学应用课例","一等奖",{"$f":"RIGHT(LEFT(VLOOKUP(B125,'[1]002'!B:M,3,0),7),3)","v":"深圳市"},{"$f":"VLOOKUP(B125,'[1]002'!B:M,7,0)","v":"刘彦希"},{"$f":"VLOOKUP(B125,'[1]002'!B:M,8,0)","v":"深圳市南山区珠光小学"},{"$f":"VLOOKUP(B125,'[1]002'!B:M,11,0)","v":"-"},{"$f":"VLOOKUP(B125,'[1]002'!B:M,12,0)","v":"-"}]
[124,"P306119092623","食物链和食物网","小学组","新媒体新技术教学应用课例","一等奖",{"$f":"RIGHT(LEFT(VLOOKUP(B126,'[1]002'!B:M,3,0),7),3)","v":"深圳市"},{"$f":"VLOOKUP(B126,'[1]002'!B:M,7,0)","v":"陈丹骅"},{"$f":"VLOOKUP(B126,'[1]002'!B:M,8,0)","v":"深圳市南山实验教育集团"},{"$f":"VLOOKUP(B126,'[1]002'!B:M,11,0)","v":"-"},{"$f":"VLOOKUP(B126,'[1]002'!B:M,12,0)","v":"-"}]
[125,"P306119092619","第10课伙伴随我加","小学组","新媒体新技术教学应用课例","一等奖",{"$f":"RIGHT(LEFT(VLOOKUP(B127,'[1]002'!B:M,3,0),7),3)","v":"深圳市"},{"$f":"VLOOKUP(B127,'[1]002'!B:M,7,0)","v":"蔡静敏"},{"$f":"VLOOKUP(B127,'[1]002'!B:M,8,0)","v":"深圳市龙华区行知小学"},{"$f":"VLOOKUP(B127,'[1]002'!B:M,11,0)","v":"-"},{"$f":"VLOOKUP(B127,'[1]002'!B:M,12,0)","v":"-"}]
[126,"P306119092625","不同物象的表面特征","小学组","新媒体新技术教学应用课例","一等奖",{"$f":"RIGHT(LEFT(VLOOKUP(B128,'[1]002'!B:M,3,0),7),3)","v":"深圳市"},{"$f":"VLOOKUP(B128,'[1]002'!B:M,7,0)","v":"许嘉萍"},{"$f":"VLOOKUP(B128,'[1]002'!B:M,8,0)","v":"深圳市水田小学"},{"$f":"VLOOKUP(B128,'[1]002'!B:M,11,0)","v":"-"},{"$f":"VLOOKUP(B128,'[1]002'!B:M,12,0)","v":"-"}]
[127,"P306119079221","荷花","小学组","新媒体新技术教学应用课例","一等奖",{"$f":"RIGHT(LEFT(VLOOKUP(B129,'[1]002'!B:M,3,0),7),3)","v":"珠海市"},{"$f":"VLOOKUP(B129,'[1]002'!B:M,7,0)","v":"陈红波"},{"$f":"VLOOKUP(B129,'[1]002'!B:M,8,0)","v":"珠海市金湾区第一小学"},{"$f":"VLOOKUP(B129,'[1]002'!B:M,11,0)","v":"-"},{"$f":"VLOOKUP(B129,'[1]002'!B:M,12,0)","v":"-"}]
[128,"P306119091136","圆锥的体积","小学组","新媒体新技术教学应用课例","一等奖",{"$f":"RIGHT(LEFT(VLOOKUP(B130,'[1]002'!B:M,3,0),7),3)","v":"珠海市"},{"$f":"VLOOKUP(B130,'[1]002'!B:M,7,0)","v":"梁德君"},{"$f":"VLOOKUP(B130,'[1]002'!B:M,8,0)","v":"珠海市香洲区第二十一小学"},{"$f":"VLOOKUP(B130,'[1]002'!B:M,11,0)","v":"-"},{"$f":"VLOOKUP(B130,'[1]002'!B:M,12,0)","v":"-"}]
[129,"P306119091985","圆的周长","小学组","新媒体新技术教学应用课例","一等奖",{"$f":"RIGHT(LEFT(VLOOKUP(B131,'[1]002'!B:M,3,0),7),3)","v":"汕头市"},{"$f":"VLOOKUP(B131,'[1]002'!B:M,7,0)","v":"潘素端"},{"$f":"VLOOKUP(B131,'[1]002'!B:M,8,0)","v":"汕头市澄海实验小学"},{"$f":"VLOOKUP(B131,'[1]002'!B:M,11,0)","v":"-"},{"$f":"VLOOKUP(B131,'[1]002'!B:M,12,0)","v":"-"}]
[130,"P306119090743","动物儿歌识字教学课例","小学组","新媒体新技术教学应用课例","一等奖",{"$f":"RIGHT(LEFT(VLOOKUP(B132,'[1]002'!B:M,3,0),7),3)","v":"佛山市"},{"$f":"VLOOKUP(B132,'[1]002'!B:M,7,0)","v":"林惜容"},{"$f":"VLOOKUP(B132,'[1]002'!B:M,8,0)","v":"佛山市南海区丹灶镇有为小学"},{"$f":"VLOOKUP(B132,'[1]002'!B:M,11,0)","v":"-"},{"$f":"VLOOKUP(B132,'[1]002'!B:M,12,0)","v":"-"}]
[131,"P306119090746","寻找魔法珠","小学组","新媒体新技术教学应用课例","一等奖",{"$f":"RIGHT(LEFT(VLOOKUP(B133,'[1]002'!B:M,3,0),7),3)","v":"佛山市"},{"$f":"VLOOKUP(B133,'[1]002'!B:M,7,0)","v":"张英华"},{"$f":"VLOOKUP(B133,'[1]002'!B:M,8,0)","v":"佛山市南海区桂城街道桂江小学"},{"$f":"VLOOKUP(B133,'[1]002'!B:M,11,0)","v":"-"},{"$f":"VLOOKUP(B133,'[1]002'!B:M,12,0)","v":"-"}]
[132,"P306119090765","Unit6WorkquietlyAletstalk","小学组","新媒体新技术教学应用课例","一等奖",{"$f":"RIGHT(LEFT(VLOOKUP(B134,'[1]002'!B:M,3,0),7),3)","v":"佛山市"},{"$f":"VLOOKUP(B134,'[1]002'!B:M,7,0)","v":"郑萍"},{"$f":"VLOOKUP(B134,'[1]002'!B:M,8,0)","v":"佛山市顺德区北滘中心小学"},{"$f":"VLOOKUP(B134,'[1]002'!B:M,11,0)","v":"廖晓锋"},{"$f":"VLOOKUP(B134,'[1]002'!B:M,12,0)","v":"佛山市顺德区北滘中心小学"}]
[133,"P306119090742","9的乘法口诀","小学组","新媒体新技术教学应用课例","一等奖",{"$f":"RIGHT(LEFT(VLOOKUP(B135,'[1]002'!B:M,3,0),7),3)","v":"佛山市"},{"$f":"VLOOKUP(B135,'[1]002'!B:M,7,0)","v":"方兆敏"},{"$f":"VLOOKUP(B135,'[1]002'!B:M,8,0)","v":"佛山市南海区桂城街道桂园小学"},{"$f":"VLOOKUP(B135,'[1]002'!B:M,11,0)","v":"-"},{"$f":"VLOOKUP(B135,'[1]002'!B:M,12,0)","v":"-"}]
[134,"P306119090773","我变成了一棵树","小学组","新媒体新技术教学应用课例","一等奖",{"$f":"RIGHT(LEFT(VLOOKUP(B136,'[1]002'!B:M,3,0),7),3)","v":"佛山市"},{"$f":"VLOOKUP(B136,'[1]002'!B:M,7,0)","v":"吴淑芬"},{"$f":"VLOOKUP(B136,'[1]002'!B:M,8,0)","v":"佛山市顺德区龙江世埠小学"},{"$f":"VLOOKUP(B136,'[1]002'!B:M,11,0)","v":"-"},{"$f":"VLOOKUP(B136,'[1]002'!B:M,12,0)","v":"-"}]
[135,"P306119090774","飞翔吧小鸟","小学组","新媒体新技术教学应用课例","一等奖",{"$f":"RIGHT(LEFT(VLOOKUP(B137,'[1]002'!B:M,3,0),7),3)","v":"佛山市"},{"$f":"VLOOKUP(B137,'[1]002'!B:M,7,0)","v":"罗潇"},{"$f":"VLOOKUP(B137,'[1]002'!B:M,8,0)","v":"佛山市顺德区容桂容山小学"},{"$f":"VLOOKUP(B137,'[1]002'!B:M,11,0)","v":"邓嘉慧"},{"$f":"VLOOKUP(B137,'[1]002'!B:M,12,0)","v":"佛山市顺德区容桂容山小学"}]
[136,"P306119090767","胆小的老鼠","小学组","新媒体新技术教学应用课例","一等奖",{"$f":"RIGHT(LEFT(VLOOKUP(B138,'[1]002'!B:M,3,0),7),3)","v":"佛山市"},{"$f":"VLOOKUP(B138,'[1]002'!B:M,7,0)","v":"辛结容"},{"$f":"VLOOKUP(B138,'[1]002'!B:M,8,0)","v":"佛山市顺德区北滘中心小学"},{"$f":"VLOOKUP(B138,'[1]002'!B:M,11,0)","v":"-"},{"$f":"VLOOKUP(B138,'[1]002'!B:M,12,0)","v":"-"}]
[137,"P306119089116","坐井观天","小学组","新媒体新技术教学应用课例","一等奖",{"$f":"RIGHT(LEFT(VLOOKUP(B139,'[1]002'!B:M,3,0),7),3)","v":"韶关市"},{"$f":"VLOOKUP(B139,'[1]002'!B:M,7,0)","v":"潘康君"},{"$f":"VLOOKUP(B139,'[1]002'!B:M,8,0)","v":"韶关市武江区田家炳沙湖绿洲小学"},{"$f":"VLOOKUP(B139,'[1]002'!B:M,11,0)","v":"蔡慧良"},{"$f":"VLOOKUP(B139,'[1]002'!B:M,12,0)","v":"韶关市武江区田家炳沙湖绿洲小学"}]
[138,"P306119092120","A_Let_s_talk","小学组","新媒体新技术教学应用课例","一等奖",{"$f":"RIGHT(LEFT(VLOOKUP(B140,'[1]002'!B:M,3,0),7),3)","v":"惠州市"},{"$f":"VLOOKUP(B140,'[1]002'!B:M,7,0)","v":"余慧群"},{"$f":"VLOOKUP(B140,'[1]002'!B:M,8,0)","v":"博罗县罗阳第六小学"},{"$f":"VLOOKUP(B140,'[1]002'!B:M,11,0)","v":"李卫平"},{"$f":"VLOOKUP(B140,'[1]002'!B:M,12,0)","v":"博罗县罗阳第六小学"}]
[139,"P306119092416","长方体的认识","小学组","新媒体新技术教学应用课例","一等奖",{"$f":"RIGHT(LEFT(VLOOKUP(B141,'[1]002'!B:M,3,0),7),3)","v":"东莞市"},{"$f":"VLOOKUP(B141,'[1]002'!B:M,7,0)","v":"陈琰彬"},{"$f":"VLOOKUP(B141,'[1]002'!B:M,8,0)","v":"东莞市南城区阳光第二小学"},{"$f":"VLOOKUP(B141,'[1]002'!B:M,11,0)","v":"-"},{"$f":"VLOOKUP(B141,'[1]002'!B:M,12,0)","v":"-"}]
[140,"P306119092418","植物学认识花朵","小学组","新媒体新技术教学应用课例","一等奖",{"$f":"RIGHT(LEFT(VLOOKUP(B142,'[1]002'!B:M,3,0),7),3)","v":"东莞市"},{"$f":"VLOOKUP(B142,'[1]002'!B:M,7,0)","v":"徐丽莉"},{"$f":"VLOOKUP(B142,'[1]002'!B:M,8,0)","v":"东莞市大朗镇崇文小学"},{"$f":"VLOOKUP(B142,'[1]002'!B:M,11,0)","v":"-"},{"$f":"VLOOKUP(B142,'[1]002'!B:M,12,0)","v":"-"}]
[141,"P306119092420","创意编程重复积木的嵌套","小学组","新媒体新技术教学应用课例","一等奖",{"$f":"RIGHT(LEFT(VLOOKUP(B143,'[1]002'!B:M,3,0),7),3)","v":"东莞市"},{"$f":"VLOOKUP(B143,'[1]002'!B:M,7,0)","v":"程马峰"},{"$f":"VLOOKUP(B143,'[1]002'!B:M,8,0)","v":"东莞市大朗镇巷头小学"},{"$f":"VLOOKUP(B143,'[1]002'!B:M,11,0)","v":"-"},{"$f":"VLOOKUP(B143,'[1]002'!B:M,12,0)","v":"-"}]
[142,"P306119088807","探索正方体的奥秘","小学组","新媒体新技术教学应用课例","一等奖",{"$f":"RIGHT(LEFT(VLOOKUP(B144,'[1]002'!B:M,3,0),7),3)","v":"中山市"},{"$f":"VLOOKUP(B144,'[1]002'!B:M,7,0)","v":"陈彩丽"},{"$f":"VLOOKUP(B144,'[1]002'!B:M,8,0)","v":"中山市西区铁城小学"},{"$f":"VLOOKUP(B144,'[1]002'!B:M,11,0)","v":"-"},{"$f":"VLOOKUP(B144,'[1]002'!B:M,12,0)","v":"-"}]
[143,"P306119088303","千年梦圆在今朝","小学组","新媒体新技术教学应用课例","一等奖",{"$f":"RIGHT(LEFT(VLOOKUP(B145,'[1]002'!B:M,3,0),7),3)","v":"中山市"},{"$f":"VLOOKUP(B145,'[1]002'!B:M,7,0)","v":"梁雪芬"},{"$f":"VLOOKUP(B145,'[1]002'!B:M,8,0)","v":"中山市小榄镇九洲基小学"},{"$f":"VLOOKUP(B145,'[1]002'!B:M,11,0)","v":"-"},{"$f":"VLOOKUP(B145,'[1]002'!B:M,12,0)","v":"-"}]
[144,"P306119090195","日月明","小学组","新媒体新技术教学应用课例","一等奖",{"$f":"RIGHT(LEFT(VLOOKUP(B146,'[1]002'!B:M,3,0),7),3)","v":"中山市"},{"$f":"VLOOKUP(B146,'[1]002'!B:M,7,0)","v":"刘允霞"},{"$f":"VLOOKUP(B146,'[1]002'!B:M,8,0)","v":"中山市石岐中心小学"},{"$f":"VLOOKUP(B146,'[1]002'!B:M,11,0)","v":"-"},{"$f":"VLOOKUP(B146,'[1]002'!B:M,12,0)","v":"-"}]
[145,"P306119088345","探索图形","小学组","新媒体新技术教学应用课例","一等奖",{"$f":"RIGHT(LEFT(VLOOKUP(B147,'[1]002'!B:M,3,0),7),3)","v":"中山市"},{"$f":"VLOOKUP(B147,'[1]002'!B:M,7,0)","v":"韦培华"},{"$f":"VLOOKUP(B147,'[1]002'!B:M,8,0)","v":"中山市小榄丰华学校"},{"$f":"VLOOKUP(B147,'[1]002'!B:M,11,0)","v":"黄慧霞"},{"$f":"VLOOKUP(B147,'[1]002'!B:M,12,0)","v":"中山市小榄丰华学校"}]
[146,"P306119088164","二维码识别与制作","小学组","新媒体新技术教学应用课例","一等奖",{"$f":"RIGHT(LEFT(VLOOKUP(B148,'[1]002'!B:M,3,0),7),3)","v":"中山市"},{"$f":"VLOOKUP(B148,'[1]002'!B:M,7,0)","v":"唐节"},{"$f":"VLOOKUP(B148,'[1]002'!B:M,8,0)","v":"中山市西区烟洲小学"},{"$f":"VLOOKUP(B148,'[1]002'!B:M,11,0)","v":"-"},{"$f":"VLOOKUP(B148,'[1]002'!B:M,12,0)","v":"-"}]
[147,"P306119089538","写日记","小学组","新媒体新技术教学应用课例","一等奖",{"$f":"RIGHT(LEFT(VLOOKUP(B149,'[1]002'!B:M,3,0),7),3)","v":"中山市"},{"$f":"VLOOKUP(B149,'[1]002'!B:M,7,0)","v":"侯蔚璐"},{"$f":"VLOOKUP(B149,'[1]002'!B:M,8,0)","v":"中山市沙溪镇龙瑞小学"},{"$f":"VLOOKUP(B149,'[1]002'!B:M,11,0)","v":"-"},{"$f":"VLOOKUP(B149,'[1]002'!B:M,12,0)","v":"-"}]
[148,"P306119080092","粤人教版小学英语四年级下册Unit3BankorBeach语音教学","小学组","新媒体新技术教学应用课例","一等奖",{"$f":"RIGHT(LEFT(VLOOKUP(B150,'[1]002'!B:M,3,0),7),3)","v":"中山市"},{"$f":"VLOOKUP(B150,'[1]002'!B:M,7,0)","v":"蔡家梅"},{"$f":"VLOOKUP(B150,'[1]002'!B:M,8,0)","v":"中山市石岐杨仙逸小学"},{"$f":"VLOOKUP(B150,'[1]002'!B:M,11,0)","v":"-"},{"$f":"VLOOKUP(B150,'[1]002'!B:M,12,0)","v":"-"}]
[149,"P306119091356","Module 7 Unit 1 We fly kites in spring.","小学组","新媒体新技术教学应用课例","一等奖",{"$f":"RIGHT(LEFT(VLOOKUP(B151,'[1]002'!B:M,3,0),7),3)","v":"茂名市"},{"$f":"VLOOKUP(B151,'[1]002'!B:M,7,0)","v":"蔡金兰"},{"$f":"VLOOKUP(B151,'[1]002'!B:M,8,0)","v":"茂名市向阳小学"},{"$f":"VLOOKUP(B151,'[1]002'!B:M,11,0)","v":"-"},{"$f":"VLOOKUP(B151,'[1]002'!B:M,12,0)","v":"-"}]
[150,"P306119091292","Module7Unit1Hespentabouttwentyonehoursinspace.","小学组","新媒体新技术教学应用课例","一等奖",{"$f":"RIGHT(LEFT(VLOOKUP(B152,'[1]002'!B:M,3,0),7),3)","v":"茂名市"},{"$f":"VLOOKUP(B152,'[1]002'!B:M,7,0)","v":"谭玲"},{"$f":"VLOOKUP(B152,'[1]002'!B:M,8,0)","v":"信宜市田家炳小学"},{"$f":"VLOOKUP(B152,'[1]002'!B:M,11,0)","v":"-"},{"$f":"VLOOKUP(B152,'[1]002'!B:M,12,0)","v":"-"}]
[151,"P306119091192","Unit5Dinnersready","小学组","新媒体新技术教学应用课例","一等奖",{"$f":"RIGHT(LEFT(VLOOKUP(B153,'[1]002'!B:M,3,0),7),3)","v":"肇庆市"},{"$f":"VLOOKUP(B153,'[1]002'!B:M,7,0)","v":"廖文雯"},{"$f":"VLOOKUP(B153,'[1]002'!B:M,8,0)","v":"鼎湖区沙浦镇中心小学"},{"$f":"VLOOKUP(B153,'[1]002'!B:M,11,0)","v":"-"},{"$f":"VLOOKUP(B153,'[1]002'!B:M,12,0)","v":"-"}]
[152,"P306119090212","震中求生","小学组","新媒体新技术教学应用课例","一等奖",{"$f":"RIGHT(LEFT(VLOOKUP(B154,'[1]002'!B:M,3,0),7),3)","v":"肇庆市"},{"$f":"VLOOKUP(B154,'[1]002'!B:M,7,0)","v":"何杰才"},{"$f":"VLOOKUP(B154,'[1]002'!B:M,8,0)","v":"肇庆市第一小学"},{"$f":"VLOOKUP(B154,'[1]002'!B:M,11,0)","v":"温础诚"},{"$f":"VLOOKUP(B154,'[1]002'!B:M,12,0)","v":"肇庆市第一小学"}]
[153,"P303119093084","为中华之崛起而读书","小学组","课件","二等奖","广州市",{"$f":"VLOOKUP(B155,'[1]002'!B:M,7,0)","v":"梁达仁"},{"$f":"VLOOKUP(B155,'[1]002'!B:M,8,0)","v":"广东第二师范学院番禺附属小学"},{"$f":"VLOOKUP(B155,'[1]002'!B:M,11,0)","v":"-"},{"$f":"VLOOKUP(B155,'[1]002'!B:M,12,0)","v":"-"}]
[154,"P303119093111","Excel2007专题学习网站","小学组","课件","二等奖","广州市",{"$f":"VLOOKUP(B156,'[1]002'!B:M,7,0)","v":"梁灿强"},{"$f":"VLOOKUP(B156,'[1]002'!B:M,8,0)","v":"广州市白云区萧岗小学"},{"$f":"VLOOKUP(B156,'[1]002'!B:M,11,0)","v":"-"},{"$f":"VLOOKUP(B156,'[1]002'!B:M,12,0)","v":"-"}]
[155,"P303119093091","低年段SPP绘本阅读课Mr Tall and Mr Small","小学组","课件","二等奖","广州市",{"$f":"VLOOKUP(B157,'[1]002'!B:M,7,0)","v":"谢凡"},{"$f":"VLOOKUP(B157,'[1]002'!B:M,8,0)","v":"广州市增城区富鹏小学"},{"$f":"VLOOKUP(B157,'[1]002'!B:M,11,0)","v":"-"},{"$f":"VLOOKUP(B157,'[1]002'!B:M,12,0)","v":"-"}]
[156,"P303119093092","教科版三下Unit 12 Whose rabbits are these","小学组","课件","二等奖","广州市",{"$f":"VLOOKUP(B158,'[1]002'!B:M,7,0)","v":"高宇铃"},{"$f":"VLOOKUP(B158,'[1]002'!B:M,8,0)","v":"广州市天河区天府路小学"},{"$f":"VLOOKUP(B158,'[1]002'!B:M,11,0)","v":"-"},{"$f":"VLOOKUP(B158,'[1]002'!B:M,12,0)","v":"-"}]
[157,"P303119093089","圆的周长","小学组","课件","二等奖","广州市",{"$f":"VLOOKUP(B159,'[1]002'!B:M,7,0)","v":"梁柏波"},{"$f":"VLOOKUP(B159,'[1]002'!B:M,8,0)","v":"广州市番禺区石碁镇永善小学"},{"$f":"VLOOKUP(B159,'[1]002'!B:M,11,0)","v":"-"},{"$f":"VLOOKUP(B159,'[1]002'!B:M,12,0)","v":"-"}]
[158,"P303119093090","筒形玩偶","小学组","课件","二等奖","广州市",{"$f":"VLOOKUP(B160,'[1]002'!B:M,7,0)","v":"梁玉昆"},{"$f":"VLOOKUP(B160,'[1]002'!B:M,8,0)","v":"广州市番禺区沙湾镇红基学校"},{"$f":"VLOOKUP(B160,'[1]002'!B:M,11,0)","v":"-"},{"$f":"VLOOKUP(B160,'[1]002'!B:M,12,0)","v":"-"}]
[159,"P303119093102","美丽与邪恶","小学组","课件","二等奖","广州市",{"$f":"VLOOKUP(B161,'[1]002'!B:M,7,0)","v":"陈艳琚"},{"$f":"VLOOKUP(B161,'[1]002'!B:M,8,0)","v":"广州市番禺区石碁镇小龙小学"},{"$f":"VLOOKUP(B161,'[1]002'!B:M,11,0)","v":"-"},{"$f":"VLOOKUP(B161,'[1]002'!B:M,12,0)","v":"-"}]
[160,"P303119092636","轴对称图形","小学组","课件","二等奖","深圳市",{"$f":"VLOOKUP(B162,'[1]002'!B:M,7,0)","v":"刘志勇"},{"$f":"VLOOKUP(B162,'[1]002'!B:M,8,0)","v":"深圳市南山区第二外国语学校（集团）"},{"$f":"VLOOKUP(B162,'[1]002'!B:M,11,0)","v":"-"},{"$f":"VLOOKUP(B162,'[1]002'!B:M,12,0)","v":"-"}]
[161,"P303119092649","语音教学：字母组合ee","小学组","课件","二等奖","深圳市",{"$f":"VLOOKUP(B163,'[1]002'!B:M,7,0)","v":"彭苏婷"},{"$f":"VLOOKUP(B163,'[1]002'!B:M,8,0)","v":"深圳市大鹏新区南澳中心小学"},{"$f":"VLOOKUP(B163,'[1]002'!B:M,11,0)","v":"-"},{"$f":"VLOOKUP(B163,'[1]002'!B:M,12,0)","v":"-"}]
[162,"P303119092643","操场上","小学组","课件","二等奖","深圳市",{"$f":"VLOOKUP(B164,'[1]002'!B:M,7,0)","v":"冼丽君"},{"$f":"VLOOKUP(B164,'[1]002'!B:M,8,0)","v":"龙华区鹭湖外国语小学"},{"$f":"VLOOKUP(B164,'[1]002'!B:M,11,0)","v":"-"},{"$f":"VLOOKUP(B164,'[1]002'!B:M,12,0)","v":"-"}]
[163,"P303119092644","平移和旋转","小学组","课件","二等奖","深圳市",{"$f":"VLOOKUP(B165,'[1]002'!B:M,7,0)","v":"李朝宇"},{"$f":"VLOOKUP(B165,'[1]002'!B:M,8,0)","v":"深圳市大鹏新区南澳中心小学"},{"$f":"VLOOKUP(B165,'[1]002'!B:M,11,0)","v":"-"},{"$f":"VLOOKUP(B165,'[1]002'!B:M,12,0)","v":"-"}]
[164,"P303119079217","小马过河","小学组","课件","二等奖","珠海市",{"$f":"VLOOKUP(B166,'[1]002'!B:M,7,0)","v":"陈红波"},{"$f":"VLOOKUP(B166,'[1]002'!B:M,8,0)","v":"珠海市金湾区第一小学"},{"$f":"VLOOKUP(B166,'[1]002'!B:M,11,0)","v":"-"},{"$f":"VLOOKUP(B166,'[1]002'!B:M,12,0)","v":"-"}]
[165,"P303119086707","Unit2AMagicDayReview","小学组","课件","二等奖","珠海市",{"$f":"VLOOKUP(B167,'[1]002'!B:M,7,0)","v":"林钿珊"},{"$f":"VLOOKUP(B167,'[1]002'!B:M,8,0)","v":"珠海市金湾区第一小学"},{"$f":"VLOOKUP(B167,'[1]002'!B:M,11,0)","v":"-"},{"$f":"VLOOKUP(B167,'[1]002'!B:M,12,0)","v":"-"}]
[166,"P303119091948","Unit 3 Weather Let us spell","小学组","课件","二等奖","汕头市",{"$f":"VLOOKUP(B168,'[1]002'!B:M,7,0)","v":"林怡敏"},{"$f":"VLOOKUP(B168,'[1]002'!B:M,8,0)","v":"汕头市濠江区埭头小学"},{"$f":"VLOOKUP(B168,'[1]002'!B:M,11,0)","v":"-"},{"$f":"VLOOKUP(B168,'[1]002'!B:M,12,0)","v":"-"}]
[167,"P303119091954","Unit 5 There is a big bed B Lets learn","小学组","课件","二等奖","汕头市",{"$f":"VLOOKUP(B169,'[1]002'!B:M,7,0)","v":"陈升苗"},{"$f":"VLOOKUP(B169,'[1]002'!B:M,8,0)","v":"汕头市濠江区青篮小学"},{"$f":"VLOOKUP(B169,'[1]002'!B:M,11,0)","v":"-"},{"$f":"VLOOKUP(B169,'[1]002'!B:M,12,0)","v":"-"}]
[168,"P303119091937","Unit 3 Where did you go? Part B talk","小学组","课件","二等奖","汕头市",{"$f":"VLOOKUP(B170,'[1]002'!B:M,7,0)","v":"李梓"},{"$f":"VLOOKUP(B170,'[1]002'!B:M,8,0)","v":"汕头市澄海涂池小学"},{"$f":"VLOOKUP(B170,'[1]002'!B:M,11,0)","v":"-"},{"$f":"VLOOKUP(B170,'[1]002'!B:M,12,0)","v":"-"}]
[169,"P303119091944","What would you like","小学组","课件","二等奖","汕头市",{"$f":"VLOOKUP(B171,'[1]002'!B:M,7,0)","v":"柯敏"},{"$f":"VLOOKUP(B171,'[1]002'!B:M,8,0)","v":"汕头市龙湖区内充公小学"},{"$f":"VLOOKUP(B171,'[1]002'!B:M,11,0)","v":"-"},{"$f":"VLOOKUP(B171,'[1]002'!B:M,12,0)","v":"-"}]
[170,"P303119091956","乘法的初步认识","小学组","课件","二等奖","汕头市",{"$f":"VLOOKUP(B172,'[1]002'!B:M,7,0)","v":"辛宜雯"},{"$f":"VLOOKUP(B172,'[1]002'!B:M,8,0)","v":"汕头金中华侨试验区学校"},{"$f":"VLOOKUP(B172,'[1]002'!B:M,11,0)","v":"-"},{"$f":"VLOOKUP(B172,'[1]002'!B:M,12,0)","v":"-"}]
[171,"P303119091934","草船借箭","小学组","课件","二等奖","汕头市",{"$f":"VLOOKUP(B173,'[1]002'!B:M,7,0)","v":"刘嘉欣"},{"$f":"VLOOKUP(B173,'[1]002'!B:M,8,0)","v":"汕头市龙湖区官一小学"},{"$f":"VLOOKUP(B173,'[1]002'!B:M,11,0)","v":"-"},{"$f":"VLOOKUP(B173,'[1]002'!B:M,12,0)","v":"-"}]
[172,"P303119091958","大自然的声音","小学组","课件","二等奖","汕头市",{"$f":"VLOOKUP(B174,'[1]002'!B:M,7,0)","v":"李香勇"},{"$f":"VLOOKUP(B174,'[1]002'!B:M,8,0)","v":"汕头市濠江区南山小学"},{"$f":"VLOOKUP(B174,'[1]002'!B:M,11,0)","v":"-"},{"$f":"VLOOKUP(B174,'[1]002'!B:M,12,0)","v":"-"}]
[173,"P303119091947","这些是大家的","小学组","课件","二等奖","汕头市",{"$f":"VLOOKUP(B175,'[1]002'!B:M,7,0)","v":"蔡晓虹"},{"$f":"VLOOKUP(B175,'[1]002'!B:M,8,0)","v":"汕头市龙湖区蓬中华侨小学"},{"$f":"VLOOKUP(B175,'[1]002'!B:M,11,0)","v":"谢纯娜"},{"$f":"VLOOKUP(B175,'[1]002'!B:M,12,0)","v":"汕头市龙湖区蓬中华侨小学"}]
[174,"P303119091931","平行四边形的面积","小学组","课件","二等奖","汕头市",{"$f":"VLOOKUP(B176,'[1]002'!B:M,7,0)","v":"郑泽梅"},{"$f":"VLOOKUP(B176,'[1]002'!B:M,8,0)","v":"汕头市龙湖区金阳小学"},{"$f":"VLOOKUP(B176,'[1]002'!B:M,11,0)","v":"-"},{"$f":"VLOOKUP(B176,'[1]002'!B:M,12,0)","v":"-"}]
[175,"P303119091952","认识三角形","小学组","课件","二等奖","汕头市",{"$f":"VLOOKUP(B177,'[1]002'!B:M,7,0)","v":"顾若琳"},{"$f":"VLOOKUP(B177,'[1]002'!B:M,8,0)","v":"汕头市东厦小学"},{"$f":"VLOOKUP(B177,'[1]002'!B:M,11,0)","v":"-"},{"$f":"VLOOKUP(B177,'[1]002'!B:M,12,0)","v":"-"}]
[176,"P303119090847","中国美食","小学组","课件","二等奖","佛山市",{"$f":"VLOOKUP(B178,'[1]002'!B:M,7,0)","v":"陈志銮"},{"$f":"VLOOKUP(B178,'[1]002'!B:M,8,0)","v":"佛山市顺德区大良顺峰小学"},{"$f":"VLOOKUP(B178,'[1]002'!B:M,11,0)","v":"符志刚"},{"$f":"VLOOKUP(B178,'[1]002'!B:M,12,0)","v":"佛山市顺德区大良顺峰小学"}]
[177,"P303119090858","两小儿辩日","小学组","课件","二等奖","佛山市",{"$f":"VLOOKUP(B179,'[1]002'!B:M,7,0)","v":"何国兴"},{"$f":"VLOOKUP(B179,'[1]002'!B:M,8,0)","v":"佛山市顺德区北滘碧江小学"},{"$f":"VLOOKUP(B179,'[1]002'!B:M,11,0)","v":"计晗芬"},{"$f":"VLOOKUP(B179,'[1]002'!B:M,12,0)","v":"佛山市顺德区北滘碧江小学"}]
[178,"P303119090811","鱼游到了纸上","小学组","课件","二等奖","佛山市",{"$f":"VLOOKUP(B180,'[1]002'!B:M,7,0)","v":"梁凯妍"},{"$f":"VLOOKUP(B180,'[1]002'!B:M,8,0)","v":"禅城区南庄镇中心小学"},{"$f":"VLOOKUP(B180,'[1]002'!B:M,11,0)","v":"-"},{"$f":"VLOOKUP(B180,'[1]002'!B:M,12,0)","v":"-"}]
[179,"P303119090785","阅读与写作","小学组","课件","二等奖","佛山市",{"$f":"VLOOKUP(B181,'[1]002'!B:M,7,0)","v":"谭翠文"},{"$f":"VLOOKUP(B181,'[1]002'!B:M,8,0)","v":"佛山市高明区沧江中学附属小学"},{"$f":"VLOOKUP(B181,'[1]002'!B:M,11,0)","v":"-"},{"$f":"VLOOKUP(B181,'[1]002'!B:M,12,0)","v":"-"}]
[180,"P303119090793","PEP四年级下册第四单元A部分对话教学","小学组","课件","二等奖","佛山市",{"$f":"VLOOKUP(B182,'[1]002'!B:M,7,0)","v":"张英华"},{"$f":"VLOOKUP(B182,'[1]002'!B:M,8,0)","v":"佛山市高明区明城镇明城小学"},{"$f":"VLOOKUP(B182,'[1]002'!B:M,11,0)","v":"-"},{"$f":"VLOOKUP(B182,'[1]002'!B:M,12,0)","v":"-"}]
[181,"P303119090804","PEP三下unit3atthezoo","小学组","课件","二等奖","佛山市",{"$f":"VLOOKUP(B183,'[1]002'!B:M,7,0)","v":"李钰欣"},{"$f":"VLOOKUP(B183,'[1]002'!B:M,8,0)","v":"禅城区澜石小学"},{"$f":"VLOOKUP(B183,'[1]002'!B:M,11,0)","v":"-"},{"$f":"VLOOKUP(B183,'[1]002'!B:M,12,0)","v":"-"}]
[182,"P303119090851","四季的脚步","小学组","课件","二等奖","佛山市",{"$f":"VLOOKUP(B184,'[1]002'!B:M,7,0)","v":"邹永国"},{"$f":"VLOOKUP(B184,'[1]002'!B:M,8,0)","v":"佛山市顺德区北滘镇朝亮小学"},{"$f":"VLOOKUP(B184,'[1]002'!B:M,11,0)","v":"肖平兴"},{"$f":"VLOOKUP(B184,'[1]002'!B:M,12,0)","v":"佛山市顺德区北滘镇朝亮小学"}]
[183,"P303119090859","小青蛙","小学组","课件","二等奖","佛山市",{"$f":"VLOOKUP(B185,'[1]002'!B:M,7,0)","v":"陈志良"},{"$f":"VLOOKUP(B185,'[1]002'!B:M,8,0)","v":"佛山市顺德区高赞小学"},{"$f":"VLOOKUP(B185,'[1]002'!B:M,11,0)","v":"-"},{"$f":"VLOOKUP(B185,'[1]002'!B:M,12,0)","v":"-"}]
[184,"P303119090852","荷叶圆圆","小学组","课件","二等奖","佛山市",{"$f":"VLOOKUP(B186,'[1]002'!B:M,7,0)","v":"廖逢源"},{"$f":"VLOOKUP(B186,'[1]002'!B:M,8,0)","v":"佛山市顺德区容桂幸福陈占梅小学"},{"$f":"VLOOKUP(B186,'[1]002'!B:M,11,0)","v":"吴晓茵"},{"$f":"VLOOKUP(B186,'[1]002'!B:M,12,0)","v":"佛山市顺德区容桂海尾小学"}]
[185,"P303119090819","农场一天游","小学组","课件","二等奖","佛山市",{"$f":"VLOOKUP(B187,'[1]002'!B:M,7,0)","v":"林芝杨"},{"$f":"VLOOKUP(B187,'[1]002'!B:M,8,0)","v":"佛山市南海区丹灶镇金沙小学"},{"$f":"VLOOKUP(B187,'[1]002'!B:M,11,0)","v":"-"},{"$f":"VLOOKUP(B187,'[1]002'!B:M,12,0)","v":"-"}]
[186,"P303119090841","学弈","小学组","课件","二等奖","佛山市",{"$f":"VLOOKUP(B188,'[1]002'!B:M,7,0)","v":"刘秋怡"},{"$f":"VLOOKUP(B188,'[1]002'!B:M,8,0)","v":"佛山市顺德区勒流育贤实验学校小学部"},{"$f":"VLOOKUP(B188,'[1]002'!B:M,11,0)","v":"-"},{"$f":"VLOOKUP(B188,'[1]002'!B:M,12,0)","v":"-"}]
[187,"P303119090831","学会英文打字","小学组","课件","二等奖","佛山市",{"$f":"VLOOKUP(B189,'[1]002'!B:M,7,0)","v":"冯迪诗"},{"$f":"VLOOKUP(B189,'[1]002'!B:M,8,0)","v":"佛山市顺德区伦教培教小学"},{"$f":"VLOOKUP(B189,'[1]002'!B:M,11,0)","v":"-"},{"$f":"VLOOKUP(B189,'[1]002'!B:M,12,0)","v":"-"}]
[188,"P303119090838","草船借箭","小学组","课件","二等奖","佛山市",{"$f":"VLOOKUP(B190,'[1]002'!B:M,7,0)","v":"邓鸿琼"},{"$f":"VLOOKUP(B190,'[1]002'!B:M,8,0)","v":"佛山市顺德区龙江世埠小学"},{"$f":"VLOOKUP(B190,'[1]002'!B:M,11,0)","v":"-"},{"$f":"VLOOKUP(B190,'[1]002'!B:M,12,0)","v":"-"}]
[189,"P303119090835","让我们走进地震","小学组","课件","二等奖","佛山市",{"$f":"VLOOKUP(B191,'[1]002'!B:M,7,0)","v":"张惠姗"},{"$f":"VLOOKUP(B191,'[1]002'!B:M,8,0)","v":"佛山市顺德区容桂四基初级中学"},{"$f":"VLOOKUP(B191,'[1]002'!B:M,11,0)","v":"-"},{"$f":"VLOOKUP(B191,'[1]002'!B:M,12,0)","v":"-"}]
[190,"P303119090842","轴对称与平移与旋转","小学组","课件","二等奖","佛山市",{"$f":"VLOOKUP(B192,'[1]002'!B:M,7,0)","v":"黄雷"},{"$f":"VLOOKUP(B192,'[1]002'!B:M,8,0)","v":"佛山市顺德区北滘镇西滘小学"},{"$f":"VLOOKUP(B192,'[1]002'!B:M,11,0)","v":"李万红"},{"$f":"VLOOKUP(B192,'[1]002'!B:M,12,0)","v":"佛山市顺德区北滘镇莘村小学"}]
[191,"P303119090786","我最喜欢的季节","小学组","课件","二等奖","佛山市",{"$f":"VLOOKUP(B193,'[1]002'!B:M,7,0)","v":"冯翠梅"},{"$f":"VLOOKUP(B193,'[1]002'!B:M,8,0)","v":"佛山市高明区荷城街道德信实验学校"},{"$f":"VLOOKUP(B193,'[1]002'!B:M,11,0)","v":"-"},{"$f":"VLOOKUP(B193,'[1]002'!B:M,12,0)","v":"-"}]
[192,"P303119090826","三角形flash交互课件","小学组","课件","二等奖","佛山市",{"$f":"VLOOKUP(B194,'[1]002'!B:M,7,0)","v":"廖少峰"},{"$f":"VLOOKUP(B194,'[1]002'!B:M,8,0)","v":"佛山市顺德区勒流梁季彝纪念学校"},{"$f":"VLOOKUP(B194,'[1]002'!B:M,11,0)","v":"伍敏静"},{"$f":"VLOOKUP(B194,'[1]002'!B:M,12,0)","v":"佛山市顺德区勒流梁季彝纪念学校"}]
[193,"P303119090872","角的度量","小学组","课件","二等奖","佛山市",{"$f":"VLOOKUP(B195,'[1]002'!B:M,7,0)","v":"梁智成"},{"$f":"VLOOKUP(B195,'[1]002'!B:M,8,0)","v":"佛山市三水区西南街道中心小学"},{"$f":"VLOOKUP(B195,'[1]002'!B:M,11,0)","v":"杨彩英"},{"$f":"VLOOKUP(B195,'[1]002'!B:M,12,0)","v":"佛山市三水区西南街道中心小学"}]
[194,"P303119090792","我的变化写作课","小学组","课件","二等奖","佛山市",{"$f":"VLOOKUP(B196,'[1]002'!B:M,7,0)","v":"邓思恩"},{"$f":"VLOOKUP(B196,'[1]002'!B:M,8,0)","v":"佛山市高明区明城镇明城小学"},{"$f":"VLOOKUP(B196,'[1]002'!B:M,11,0)","v":"-"},{"$f":"VLOOKUP(B196,'[1]002'!B:M,12,0)","v":"-"}]
[195,"P303119090801","动物的花衣裳","小学组","课件","二等奖","佛山市",{"$f":"VLOOKUP(B197,'[1]002'!B:M,7,0)","v":"何少娟"},{"$f":"VLOOKUP(B197,'[1]002'!B:M,8,0)","v":"佛山市高明区沧江中学附属小学"},{"$f":"VLOOKUP(B197,'[1]002'!B:M,11,0)","v":"-"},{"$f":"VLOOKUP(B197,'[1]002'!B:M,12,0)","v":"-"}]
[196,"P303119090856","确定位置","小学组","课件","二等奖","佛山市",{"$f":"VLOOKUP(B198,'[1]002'!B:M,7,0)","v":"苏碧贤"},{"$f":"VLOOKUP(B198,'[1]002'!B:M,8,0)","v":"佛山市顺德区伦教荔村小学"},{"$f":"VLOOKUP(B198,'[1]002'!B:M,11,0)","v":"周瑞君"},{"$f":"VLOOKUP(B198,'[1]002'!B:M,12,0)","v":"佛山市顺德区伦教荔村小学"}]
[197,"P303119090798","分数加减混合运算","小学组","课件","二等奖","佛山市",{"$f":"VLOOKUP(B199,'[1]002'!B:M,7,0)","v":"麦小航"},{"$f":"VLOOKUP(B199,'[1]002'!B:M,8,0)","v":"佛山市高明区明城镇崇步学校"},{"$f":"VLOOKUP(B199,'[1]002'!B:M,11,0)","v":"-"},{"$f":"VLOOKUP(B199,'[1]002'!B:M,12,0)","v":"-"}]
[198,"P303119088404","五年级下册第四单元16课范仲淹的故事","小学组","课件","二等奖","韶关市",{"$f":"VLOOKUP(B200,'[1]002'!B:M,7,0)","v":"陈建伟"},{"$f":"VLOOKUP(B200,'[1]002'!B:M,8,0)","v":"始兴县马市镇中心小学"},{"$f":"VLOOKUP(B200,'[1]002'!B:M,11,0)","v":"-"},{"$f":"VLOOKUP(B200,'[1]002'!B:M,12,0)","v":"-"}]
[199,"P303119088342","桂林山水","小学组","课件","二等奖","韶关市",{"$f":"VLOOKUP(B201,'[1]002'!B:M,7,0)","v":"夏伟军"},{"$f":"VLOOKUP(B201,'[1]002'!B:M,8,0)","v":"始兴县马市镇中心小学"},{"$f":"VLOOKUP(B201,'[1]002'!B:M,11,0)","v":"-"},{"$f":"VLOOKUP(B201,'[1]002'!B:M,12,0)","v":"-"}]
[200,"P303119079025","滥竽充数","小学组","课件","二等奖","韶关市",{"$f":"VLOOKUP(B202,'[1]002'!B:M,7,0)","v":"严兰先"},{"$f":"VLOOKUP(B202,'[1]002'!B:M,8,0)","v":"始兴县太平镇中心小学"},{"$f":"VLOOKUP(B202,'[1]002'!B:M,11,0)","v":"-"},{"$f":"VLOOKUP(B202,'[1]002'!B:M,12,0)","v":"-"}]
[201,"P303119088286","孔子拜师","小学组","课件","二等奖","韶关市",{"$f":"VLOOKUP(B203,'[1]002'!B:M,7,0)","v":"刘国威"},{"$f":"VLOOKUP(B203,'[1]002'!B:M,8,0)","v":"始兴县逸夫小学"},{"$f":"VLOOKUP(B203,'[1]002'!B:M,11,0)","v":"-"},{"$f":"VLOOKUP(B203,'[1]002'!B:M,12,0)","v":"-"}]
[202,"P303119089549","认识角","小学组","课件","二等奖","韶关市",{"$f":"VLOOKUP(B204,'[1]002'!B:M,7,0)","v":"邓毅萍"},{"$f":"VLOOKUP(B204,'[1]002'!B:M,8,0)","v":"仁化县第二小学"},{"$f":"VLOOKUP(B204,'[1]002'!B:M,11,0)","v":"-"},{"$f":"VLOOKUP(B204,'[1]002'!B:M,12,0)","v":"-"}]
[203,"P303119089496","找质数","小学组","课件","二等奖","韶关市",{"$f":"VLOOKUP(B205,'[1]002'!B:M,7,0)","v":"钟慧怡"},{"$f":"VLOOKUP(B205,'[1]002'!B:M,8,0)","v":"仁化县城口学校"},{"$f":"VLOOKUP(B205,'[1]002'!B:M,11,0)","v":"-"},{"$f":"VLOOKUP(B205,'[1]002'!B:M,12,0)","v":"-"}]
[204,"P303119087774","《出塞》","小学组","课件","二等奖","韶关市",{"$f":"VLOOKUP(B206,'[1]002'!B:M,7,0)","v":"刘红英"},{"$f":"VLOOKUP(B206,'[1]002'!B:M,8,0)","v":"翁源县龙仙第三小学"},{"$f":"VLOOKUP(B206,'[1]002'!B:M,11,0)","v":"曾淑容"},{"$f":"VLOOKUP(B206,'[1]002'!B:M,12,0)","v":"翁源县龙仙第三小学"}]
[205,"P303119089567","好吃的水果","小学组","课件","二等奖","韶关市",{"$f":"VLOOKUP(B207,'[1]002'!B:M,7,0)","v":"黄聪"},{"$f":"VLOOKUP(B207,'[1]002'!B:M,8,0)","v":"仁化县第二小学"},{"$f":"VLOOKUP(B207,'[1]002'!B:M,11,0)","v":"-"},{"$f":"VLOOKUP(B207,'[1]002'!B:M,12,0)","v":"-"}]
[206,"P303119092116","Unit3_A_Let_s_earn","小学组","课件","二等奖","惠州市",{"$f":"VLOOKUP(B208,'[1]002'!B:M,7,0)","v":"李卫平"},{"$f":"VLOOKUP(B208,'[1]002'!B:M,8,0)","v":"博罗县罗阳第六小学"},{"$f":"VLOOKUP(B208,'[1]002'!B:M,11,0)","v":"陈文洁"},{"$f":"VLOOKUP(B208,'[1]002'!B:M,12,0)","v":"博罗县罗阳第六小学"}]
[207,"P303119092163","小学英语四年级上册Unit3 Friends A.Let’s learn","小学组","课件","二等奖","惠州市",{"$f":"VLOOKUP(B209,'[1]002'!B:M,7,0)","v":"陈琳"},{"$f":"VLOOKUP(B209,'[1]002'!B:M,8,0)","v":"惠东县实验小学"},{"$f":"VLOOKUP(B209,'[1]002'!B:M,11,0)","v":"-"},{"$f":"VLOOKUP(B209,'[1]002'!B:M,12,0)","v":"-"}]
[208,"P303119092395","人教版英语小学四年级下册第四单元第五课时","小学组","课件","二等奖","汕尾市",{"$f":"VLOOKUP(B210,'[1]002'!B:M,7,0)","v":"庄素芬"},{"$f":"VLOOKUP(B210,'[1]002'!B:M,8,0)","v":"汕尾市城区凤山街道林伟华小学"},{"$f":"VLOOKUP(B210,'[1]002'!B:M,11,0)","v":"-"},{"$f":"VLOOKUP(B210,'[1]002'!B:M,12,0)","v":"-"}]
[209,"P303119092471","游山西村","小学组","课件","二等奖","东莞市",{"$f":"VLOOKUP(B211,'[1]002'!B:M,7,0)","v":"温素敏"},{"$f":"VLOOKUP(B211,'[1]002'!B:M,8,0)","v":"东莞市凤岗镇油甘埔小学"},{"$f":"VLOOKUP(B211,'[1]002'!B:M,11,0)","v":"-"},{"$f":"VLOOKUP(B211,'[1]002'!B:M,12,0)","v":"-"}]
[210,"P303119092470","数学广角推理","小学组","课件","二等奖","东莞市",{"$f":"VLOOKUP(B212,'[1]002'!B:M,7,0)","v":"刘云"},{"$f":"VLOOKUP(B212,'[1]002'!B:M,8,0)","v":"东莞市南城中心小学"},{"$f":"VLOOKUP(B212,'[1]002'!B:M,11,0)","v":"-"},{"$f":"VLOOKUP(B212,'[1]002'!B:M,12,0)","v":"-"}]
[211,"P303119092468","一片树叶","小学组","课件","二等奖","东莞市",{"$f":"VLOOKUP(B213,'[1]002'!B:M,7,0)","v":"苏淑清"},{"$f":"VLOOKUP(B213,'[1]002'!B:M,8,0)","v":"东莞市常平镇袁山贝小学"},{"$f":"VLOOKUP(B213,'[1]002'!B:M,11,0)","v":"-"},{"$f":"VLOOKUP(B213,'[1]002'!B:M,12,0)","v":"-"}]
[212,"P303119092465","曹冲称象","小学组","课件","二等奖","东莞市",{"$f":"VLOOKUP(B214,'[1]002'!B:M,7,0)","v":"黄爱芳"},{"$f":"VLOOKUP(B214,'[1]002'!B:M,8,0)","v":"东莞市大岭山镇第一小学"},{"$f":"VLOOKUP(B214,'[1]002'!B:M,11,0)","v":"-"},{"$f":"VLOOKUP(B214,'[1]002'!B:M,12,0)","v":"-"}]
[213,"P303119092462","flash课件图形的运动","小学组","课件","二等奖","东莞市",{"$f":"VLOOKUP(B215,'[1]002'!B:M,7,0)","v":"郑少萍"},{"$f":"VLOOKUP(B215,'[1]002'!B:M,8,0)","v":"东莞市石碣袁崇焕小学"},{"$f":"VLOOKUP(B215,'[1]002'!B:M,11,0)","v":"-"},{"$f":"VLOOKUP(B215,'[1]002'!B:M,12,0)","v":"-"}]
[214,"P303119092469","分数的认识","小学组","课件","二等奖","东莞市",{"$f":"VLOOKUP(B216,'[1]002'!B:M,7,0)","v":"黄华文"},{"$f":"VLOOKUP(B216,'[1]002'!B:M,8,0)","v":"东莞市石龙镇爱联学校"},{"$f":"VLOOKUP(B216,'[1]002'!B:M,11,0)","v":"罗辉"},{"$f":"VLOOKUP(B216,'[1]002'!B:M,12,0)","v":"东莞市石龙镇爱联学校"}]
[215,"P303119088272","我是什么flash课件","小学组","课件","二等奖","中山市",{"$f":"VLOOKUP(B217,'[1]002'!B:M,7,0)","v":"王敏"},{"$f":"VLOOKUP(B217,'[1]002'!B:M,8,0)","v":"中山市沙溪镇港园小学"},{"$f":"VLOOKUP(B217,'[1]002'!B:M,11,0)","v":"-"},{"$f":"VLOOKUP(B217,'[1]002'!B:M,12,0)","v":"-"}]
[216,"P303119088929","二泉映月","小学组","课件","二等奖","中山市",{"$f":"VLOOKUP(B218,'[1]002'!B:M,7,0)","v":"晏利红"},{"$f":"VLOOKUP(B218,'[1]002'!B:M,8,0)","v":"中山市东区竹苑小学"},{"$f":"VLOOKUP(B218,'[1]002'!B:M,11,0)","v":"-"},{"$f":"VLOOKUP(B218,'[1]002'!B:M,12,0)","v":"-"}]
[217,"P303119088490","鸡兔同笼","小学组","课件","二等奖","中山市",{"$f":"VLOOKUP(B219,'[1]002'!B:M,7,0)","v":"罗志远"},{"$f":"VLOOKUP(B219,'[1]002'!B:M,8,0)","v":"中山市西区烟洲小学"},{"$f":"VLOOKUP(B219,'[1]002'!B:M,11,0)","v":"陈彩丽"},{"$f":"VLOOKUP(B219,'[1]002'!B:M,12,0)","v":"中山市西区铁城小学"}]
[218,"P303119089654","圆的面积","小学组","课件","二等奖","中山市",{"$f":"VLOOKUP(B220,'[1]002'!B:M,7,0)","v":"李秋霖"},{"$f":"VLOOKUP(B220,'[1]002'!B:M,8,0)","v":"中山火炬高技术产业开发区第六小学"},{"$f":"VLOOKUP(B220,'[1]002'!B:M,11,0)","v":"-"},{"$f":"VLOOKUP(B220,'[1]002'!B:M,12,0)","v":"-"}]
[219,"P303119092014","Readingandwriting","小学组","课件","二等奖","江门市",{"$f":"VLOOKUP(B221,'[1]002'!B:M,7,0)","v":"劳关女"},{"$f":"VLOOKUP(B221,'[1]002'!B:M,8,0)","v":"开平市苍城镇中心小学"},{"$f":"VLOOKUP(B221,'[1]002'!B:M,11,0)","v":"黄光辉"},{"$f":"VLOOKUP(B221,'[1]002'!B:M,12,0)","v":"开平市苍城镇中心小学"}]
[220,"P303119091848","花盆补水器","小学组","课件","二等奖","江门市",{"$f":"VLOOKUP(B222,'[1]002'!B:M,7,0)","v":"梁艳彤"},{"$f":"VLOOKUP(B222,'[1]002'!B:M,8,0)","v":"外海麻一佑启学校"},{"$f":"VLOOKUP(B222,'[1]002'!B:M,11,0)","v":"-"},{"$f":"VLOOKUP(B222,'[1]002'!B:M,12,0)","v":"-"}]
[221,"P303119091751","让更多的灯亮起来","小学组","课件","二等奖","江门市",{"$f":"VLOOKUP(B223,'[1]002'!B:M,7,0)","v":"许桂珍"},{"$f":"VLOOKUP(B223,'[1]002'!B:M,8,0)","v":"江门市江华小学"},{"$f":"VLOOKUP(B223,'[1]002'!B:M,11,0)","v":"-"},{"$f":"VLOOKUP(B223,'[1]002'!B:M,12,0)","v":"-"}]
[222,"P303119092063","生态环保研学之旅——走进大雁山","小学组","课件","二等奖","江门市",{"$f":"VLOOKUP(B224,'[1]002'!B:M,7,0)","v":"吴英连"},{"$f":"VLOOKUP(B224,'[1]002'!B:M,8,0)","v":"鹤山市沙坪街道第三小学"},{"$f":"VLOOKUP(B224,'[1]002'!B:M,11,0)","v":"-"},{"$f":"VLOOKUP(B224,'[1]002'!B:M,12,0)","v":"-"}]
[223,"P303119092082","Unit6Outdoorfun","小学组","课件","二等奖","江门市",{"$f":"VLOOKUP(B225,'[1]002'!B:M,7,0)","v":"林月送"},{"$f":"VLOOKUP(B225,'[1]002'!B:M,8,0)","v":"江门市新会区古井镇古井小学"},{"$f":"VLOOKUP(B225,'[1]002'!B:M,11,0)","v":"-"},{"$f":"VLOOKUP(B225,'[1]002'!B:M,12,0)","v":"-"}]
[224,"P303119092877","这儿真美","小学组","课件","二等奖","湛江市",{"$f":"VLOOKUP(B226,'[1]002'!B:M,7,0)","v":"苏徐红"},{"$f":"VLOOKUP(B226,'[1]002'!B:M,8,0)","v":"湛江经济技术开发区第一小学"},{"$f":"VLOOKUP(B226,'[1]002'!B:M,11,0)","v":"-"},{"$f":"VLOOKUP(B226,'[1]002'!B:M,12,0)","v":"-"}]
[225,"P303119092900","我爱你，中国的汉字","小学组","课件","二等奖","湛江市",{"$f":"VLOOKUP(B227,'[1]002'!B:M,7,0)","v":"庄瑞华"},{"$f":"VLOOKUP(B227,'[1]002'!B:M,8,0)","v":"雷州市实验小学"},{"$f":"VLOOKUP(B227,'[1]002'!B:M,11,0)","v":"-"},{"$f":"VLOOKUP(B227,'[1]002'!B:M,12,0)","v":"-"}]
[226,"P303119092888","临死前的严监生","小学组","课件","二等奖","湛江市",{"$f":"VLOOKUP(B228,'[1]002'!B:M,7,0)","v":"余薇薇"},{"$f":"VLOOKUP(B228,'[1]002'!B:M,8,0)","v":"湛江市第二十八中学"},{"$f":"VLOOKUP(B228,'[1]002'!B:M,11,0)","v":"-"},{"$f":"VLOOKUP(B228,'[1]002'!B:M,12,0)","v":"-"}]
[227,"P303119092874","PEP小学英语四年级上册Unit 4 My home A","小学组","课件","二等奖","湛江市",{"$f":"VLOOKUP(B229,'[1]002'!B:M,7,0)","v":"陈巧敏"},{"$f":"VLOOKUP(B229,'[1]002'!B:M,8,0)","v":"湛江市第三十二小学"},{"$f":"VLOOKUP(B229,'[1]002'!B:M,11,0)","v":"林淼冰"},{"$f":"VLOOKUP(B229,'[1]002'!B:M,12,0)","v":"湛江市第三十二小学"}]
[228,"P303119092894","守株待兔","小学组","课件","二等奖","湛江市",{"$f":"VLOOKUP(B230,'[1]002'!B:M,7,0)","v":"何茵"},{"$f":"VLOOKUP(B230,'[1]002'!B:M,8,0)","v":"湛江市第十七中学"},{"$f":"VLOOKUP(B230,'[1]002'!B:M,11,0)","v":"-"},{"$f":"VLOOKUP(B230,'[1]002'!B:M,12,0)","v":"-"}]
[229,"P303119092873","Unit5 Whose dog is it","小学组","课件","二等奖","湛江市",{"$f":"VLOOKUP(B231,'[1]002'!B:M,7,0)","v":"卢嘉瑜"},{"$f":"VLOOKUP(B231,'[1]002'!B:M,8,0)","v":"湛江市第三十二小学"},{"$f":"VLOOKUP(B231,'[1]002'!B:M,11,0)","v":"-"},{"$f":"VLOOKUP(B231,'[1]002'!B:M,12,0)","v":"-"}]
[230,"P303119092879","19大象的耳朵","小学组","课件","二等奖","湛江市",{"$f":"VLOOKUP(B232,'[1]002'!B:M,7,0)","v":"陈海兰"},{"$f":"VLOOKUP(B232,'[1]002'!B:M,8,0)","v":"湛江市第二小学"},{"$f":"VLOOKUP(B232,'[1]002'!B:M,11,0)","v":"-"},{"$f":"VLOOKUP(B232,'[1]002'!B:M,12,0)","v":"-"}]
[231,"P303119091401","梯形的面积","小学组","课件","二等奖","茂名市",{"$f":"VLOOKUP(B233,'[1]002'!B:M,7,0)","v":"张力中"},{"$f":"VLOOKUP(B233,'[1]002'!B:M,8,0)","v":"信宜市怀乡镇狮山小学"},{"$f":"VLOOKUP(B233,'[1]002'!B:M,11,0)","v":"-"},{"$f":"VLOOKUP(B233,'[1]002'!B:M,12,0)","v":"-"}]
[232,"P303119090249","Unit5MyClothesBLetsLearn","小学组","课件","二等奖","肇庆市",{"$f":"VLOOKUP(B234,'[1]002'!B:M,7,0)","v":"林宇珊"},{"$f":"VLOOKUP(B234,'[1]002'!B:M,8,0)","v":"德庆县马圩镇中心小学"},{"$f":"VLOOKUP(B234,'[1]002'!B:M,11,0)","v":"-"},{"$f":"VLOOKUP(B234,'[1]002'!B:M,12,0)","v":"-"}]
[233,"P303119090250","Unit4ALetstalk","小学组","课件","二等奖","肇庆市",{"$f":"VLOOKUP(B235,'[1]002'!B:M,7,0)","v":"梁碧珍"},{"$f":"VLOOKUP(B235,'[1]002'!B:M,8,0)","v":"德庆县马圩镇中心小学"},{"$f":"VLOOKUP(B235,'[1]002'!B:M,11,0)","v":"-"},{"$f":"VLOOKUP(B235,'[1]002'!B:M,12,0)","v":"-"}]
[234,"P303119091581","小学英语五年级上册第二单元课件","小学组","课件","二等奖","清远市",{"$f":"VLOOKUP(B236,'[1]002'!B:M,7,0)","v":"朱英娜"},{"$f":"VLOOKUP(B236,'[1]002'!B:M,8,0)","v":"佛冈县振兴小学"},{"$f":"VLOOKUP(B236,'[1]002'!B:M,11,0)","v":"-"},{"$f":"VLOOKUP(B236,'[1]002'!B:M,12,0)","v":"-"}]
[235,"P303119087353","PEP六年级 上册 第六单元 B Let’s talk","小学组","课件","二等奖","潮州市",{"$f":"VLOOKUP(B237,'[1]002'!B:M,7,0)","v":"蚁冬雪"},{"$f":"VLOOKUP(B237,'[1]002'!B:M,8,0)","v":"凤凰镇福南中心学校"},{"$f":"VLOOKUP(B237,'[1]002'!B:M,11,0)","v":"-"},{"$f":"VLOOKUP(B237,'[1]002'!B:M,12,0)","v":"-"}]
[236,"P303119079185","圆的认识","小学组","课件","二等奖","潮州市",{"$f":"VLOOKUP(B238,'[1]002'!B:M,7,0)","v":"陈春娜"},{"$f":"VLOOKUP(B238,'[1]002'!B:M,8,0)","v":"登塘镇白水小学"},{"$f":"VLOOKUP(B238,'[1]002'!B:M,11,0)","v":"-"},{"$f":"VLOOKUP(B238,'[1]002'!B:M,12,0)","v":"-"}]
[237,"P303119080174","Unit4AtthefarmBLetustalk","小学组","课件","二等奖","云浮市",{"$f":"VLOOKUP(B239,'[1]002'!B:M,7,0)","v":"李青霞"},{"$f":"VLOOKUP(B239,'[1]002'!B:M,8,0)","v":"罗定市实验小学"},{"$f":"VLOOKUP(B239,'[1]002'!B:M,11,0)","v":"-"},{"$f":"VLOOKUP(B239,'[1]002'!B:M,12,0)","v":"-"}]
[238,"P303119087952","花城粤教版音乐二年级下册第四课《野兔饿了》","小学组","课件","二等奖","云浮市",{"$f":"VLOOKUP(B240,'[1]002'!B:M,7,0)","v":"陈晓妍"},{"$f":"VLOOKUP(B240,'[1]002'!B:M,8,0)","v":"云浮市第四小学"},{"$f":"VLOOKUP(B240,'[1]002'!B:M,11,0)","v":"-"},{"$f":"VLOOKUP(B240,'[1]002'!B:M,12,0)","v":"-"}]
[239,"P305119093156","长方体切分实验","小学组","微课","二等奖","广州市",{"$f":"VLOOKUP(B241,'[1]002'!B:M,7,0)","v":"林睿坤"},{"$f":"VLOOKUP(B241,'[1]002'!B:M,8,0)","v":"广州市天河区四海小学"},{"$f":"VLOOKUP(B241,'[1]002'!B:M,11,0)","v":"-"},{"$f":"VLOOKUP(B241,'[1]002'!B:M,12,0)","v":"-"}]
[240,"P305119093151","劝告的语言艺术","小学组","微课","二等奖","广州市",{"$f":"VLOOKUP(B242,'[1]002'!B:M,7,0)","v":"李熙盈"},{"$f":"VLOOKUP(B242,'[1]002'!B:M,8,0)","v":"广州市天河区华景小学"},{"$f":"VLOOKUP(B242,'[1]002'!B:M,11,0)","v":"黄宇芬"},{"$f":"VLOOKUP(B242,'[1]002'!B:M,12,0)","v":"广州市天河区华景小学"}]
[241,"P305119093150","摆的研究","小学组","微课","二等奖","广州市",{"$f":"VLOOKUP(B243,'[1]002'!B:M,7,0)","v":"郑松南"},{"$f":"VLOOKUP(B243,'[1]002'!B:M,8,0)","v":"广州市天河区华阳小学"},{"$f":"VLOOKUP(B243,'[1]002'!B:M,11,0)","v":"-"},{"$f":"VLOOKUP(B243,'[1]002'!B:M,12,0)","v":"-"}]
[242,"P305119093157","学写留言条","小学组","微课","二等奖","广州市",{"$f":"VLOOKUP(B244,'[1]002'!B:M,7,0)","v":"李颖恩"},{"$f":"VLOOKUP(B244,'[1]002'!B:M,8,0)","v":"广州市越秀区建设六马路小学"},{"$f":"VLOOKUP(B244,'[1]002'!B:M,11,0)","v":"余海鸣"},{"$f":"VLOOKUP(B244,'[1]002'!B:M,12,0)","v":"广州市越秀区建设六马路小学"}]
[243,"P305119093161","神秘的图腾柱","小学组","微课","二等奖","广州市",{"$f":"VLOOKUP(B245,'[1]002'!B:M,7,0)","v":"何倩琪"},{"$f":"VLOOKUP(B245,'[1]002'!B:M,8,0)","v":"广州市越秀区建设六马路小学"},{"$f":"VLOOKUP(B245,'[1]002'!B:M,11,0)","v":"甘伟梁"},{"$f":"VLOOKUP(B245,'[1]002'!B:M,12,0)","v":"广州市越秀区建设六马路小学"}]
[244,"P305119093144","角色的旋转","小学组","微课","二等奖","广州市",{"$f":"VLOOKUP(B246,'[1]002'!B:M,7,0)","v":"麦茵"},{"$f":"VLOOKUP(B246,'[1]002'!B:M,8,0)","v":"广州市从化区江埔街禾仓小学"},{"$f":"VLOOKUP(B246,'[1]002'!B:M,11,0)","v":"-"},{"$f":"VLOOKUP(B246,'[1]002'!B:M,12,0)","v":"-"}]
[245,"P305119093158","有序摆数","小学组","微课","二等奖","广州市",{"$f":"VLOOKUP(B247,'[1]002'!B:M,7,0)","v":"邝翎"},{"$f":"VLOOKUP(B247,'[1]002'!B:M,8,0)","v":"广州市荔湾区乐贤坊小学"},{"$f":"VLOOKUP(B247,'[1]002'!B:M,11,0)","v":"-"},{"$f":"VLOOKUP(B247,'[1]002'!B:M,12,0)","v":"-"}]
[246,"P305119093146","奇异的“海怪”","小学组","微课","二等奖","广州市",{"$f":"VLOOKUP(B248,'[1]002'!B:M,7,0)","v":"高碧兰"},{"$f":"VLOOKUP(B248,'[1]002'!B:M,8,0)","v":"广州市番禺区市桥南阳里小学"},{"$f":"VLOOKUP(B248,'[1]002'!B:M,11,0)","v":"-"},{"$f":"VLOOKUP(B248,'[1]002'!B:M,12,0)","v":"-"}]
[247,"P305119093154","制作贺卡-广播与接收广播指令","小学组","微课","二等奖","广州市",{"$f":"VLOOKUP(B249,'[1]002'!B:M,7,0)","v":"汤毅冰"},{"$f":"VLOOKUP(B249,'[1]002'!B:M,8,0)","v":"广州市花都区新华街棠澍小学"},{"$f":"VLOOKUP(B249,'[1]002'!B:M,11,0)","v":"-"},{"$f":"VLOOKUP(B249,'[1]002'!B:M,12,0)","v":"-"}]
[248,"P305119093145","妙用梯形面积公式计算圆环","小学组","微课","二等奖","广州市",{"$f":"VLOOKUP(B250,'[1]002'!B:M,7,0)","v":"梁耀坤"},{"$f":"VLOOKUP(B250,'[1]002'!B:M,8,0)","v":"广州市番禺区大石富丽小学"},{"$f":"VLOOKUP(B250,'[1]002'!B:M,11,0)","v":"-"},{"$f":"VLOOKUP(B250,'[1]002'!B:M,12,0)","v":"-"}]
[249,"P305119093162","找规律课前预习探究实践","小学组","微课","二等奖","广州市",{"$f":"VLOOKUP(B251,'[1]002'!B:M,7,0)","v":"李结云"},{"$f":"VLOOKUP(B251,'[1]002'!B:M,8,0)","v":"广州市白云区京溪小学"},{"$f":"VLOOKUP(B251,'[1]002'!B:M,11,0)","v":"-"},{"$f":"VLOOKUP(B251,'[1]002'!B:M,12,0)","v":"-"}]
[250,"P305119092705","围绕一个意思把一段话写清楚","小学组","微课","二等奖","深圳市",{"$f":"VLOOKUP(B252,'[1]002'!B:M,7,0)","v":"王丽"},{"$f":"VLOOKUP(B252,'[1]002'!B:M,8,0)","v":"深圳市大鹏新区大鹏第二小学"},{"$f":"VLOOKUP(B252,'[1]002'!B:M,11,0)","v":"-"},{"$f":"VLOOKUP(B252,'[1]002'!B:M,12,0)","v":"-"}]
[251,"P305119092704","侧面描写","小学组","微课","二等奖","深圳市",{"$f":"VLOOKUP(B253,'[1]002'!B:M,7,0)","v":"胡晓倩"},{"$f":"VLOOKUP(B253,'[1]002'!B:M,8,0)","v":"深圳市盐田区外国语小学"},{"$f":"VLOOKUP(B253,'[1]002'!B:M,11,0)","v":"-"},{"$f":"VLOOKUP(B253,'[1]002'!B:M,12,0)","v":"-"}]
[252,"P305119092739","图像变变变","小学组","微课","二等奖","深圳市",{"$f":"VLOOKUP(B254,'[1]002'!B:M,7,0)","v":"陈胜辉"},{"$f":"VLOOKUP(B254,'[1]002'!B:M,8,0)","v":"深圳市坪山区马峦小学"},{"$f":"VLOOKUP(B254,'[1]002'!B:M,11,0)","v":"钟映霞"},{"$f":"VLOOKUP(B254,'[1]002'!B:M,12,0)","v":"深圳市坪山区马峦小学"}]
[253,"P305119092708","阳光下的世界","小学组","微课","二等奖","深圳市",{"$f":"VLOOKUP(B255,'[1]002'!B:M,7,0)","v":"黄惠珊"},{"$f":"VLOOKUP(B255,'[1]002'!B:M,8,0)","v":"深圳市宝安区塘尾万里学校"},{"$f":"VLOOKUP(B255,'[1]002'!B:M,11,0)","v":"-"},{"$f":"VLOOKUP(B255,'[1]002'!B:M,12,0)","v":"-"}]
[254,"P305119092713","My favourite season写作指导","小学组","微课","二等奖","深圳市",{"$f":"VLOOKUP(B256,'[1]002'!B:M,7,0)","v":"吴学妍"},{"$f":"VLOOKUP(B256,'[1]002'!B:M,8,0)","v":"深圳市龙华区同胜学校"},{"$f":"VLOOKUP(B256,'[1]002'!B:M,11,0)","v":"-"},{"$f":"VLOOKUP(B256,'[1]002'!B:M,12,0)","v":"-"}]
[255,"P305119092729","密铺","小学组","微课","二等奖","深圳市",{"$f":"VLOOKUP(B257,'[1]002'!B:M,7,0)","v":"邓金秀"},{"$f":"VLOOKUP(B257,'[1]002'!B:M,8,0)","v":"南外大冲学校"},{"$f":"VLOOKUP(B257,'[1]002'!B:M,11,0)","v":"-"},{"$f":"VLOOKUP(B257,'[1]002'!B:M,12,0)","v":"-"}]
[256,"P305119092709","三个和尚 四种引用","小学组","微课","二等奖","深圳市",{"$f":"VLOOKUP(B258,'[1]002'!B:M,7,0)","v":"刘洁"},{"$f":"VLOOKUP(B258,'[1]002'!B:M,8,0)","v":"深圳市南山区香山里小学"},{"$f":"VLOOKUP(B258,'[1]002'!B:M,11,0)","v":"-"},{"$f":"VLOOKUP(B258,'[1]002'!B:M,12,0)","v":"-"}]
[257,"P305119092719","玩转打地鼠","小学组","微课","二等奖","深圳市",{"$f":"VLOOKUP(B259,'[1]002'!B:M,7,0)","v":"徐毅"},{"$f":"VLOOKUP(B259,'[1]002'!B:M,8,0)","v":"深圳市光明区光明小学"},{"$f":"VLOOKUP(B259,'[1]002'!B:M,11,0)","v":"陈陆"},{"$f":"VLOOKUP(B259,'[1]002'!B:M,12,0)","v":"深圳市光明区光明小学"}]
[258,"P305119092732","制作逐帧动画","小学组","微课","二等奖","深圳市",{"$f":"VLOOKUP(B260,'[1]002'!B:M,7,0)","v":"王珊珊"},{"$f":"VLOOKUP(B260,'[1]002'!B:M,8,0)","v":"深圳市光明新区爱华小学"},{"$f":"VLOOKUP(B260,'[1]002'!B:M,11,0)","v":"-"},{"$f":"VLOOKUP(B260,'[1]002'!B:M,12,0)","v":"-"}]
[259,"P305119092726","听话的Arduino机器人","小学组","微课","二等奖","深圳市",{"$f":"VLOOKUP(B261,'[1]002'!B:M,7,0)","v":"黄晨"},{"$f":"VLOOKUP(B261,'[1]002'!B:M,8,0)","v":"深圳市福田区明德实验学校"},{"$f":"VLOOKUP(B261,'[1]002'!B:M,11,0)","v":"-"},{"$f":"VLOOKUP(B261,'[1]002'!B:M,12,0)","v":"-"}]
[260,"P305119092722","铜、铝、钢传热比赛","小学组","微课","二等奖","深圳市",{"$f":"VLOOKUP(B262,'[1]002'!B:M,7,0)","v":"张惠瑶"},{"$f":"VLOOKUP(B262,'[1]002'!B:M,8,0)","v":"南湾街道下李朗小学"},{"$f":"VLOOKUP(B262,'[1]002'!B:M,11,0)","v":"陈耿炎"},{"$f":"VLOOKUP(B262,'[1]002'!B:M,12,0)","v":"横岗街道中心学校"}]
[261,"P305119092730","良好沟通三部曲","小学组","微课","二等奖","深圳市",{"$f":"VLOOKUP(B263,'[1]002'!B:M,7,0)","v":"黄家慧"},{"$f":"VLOOKUP(B263,'[1]002'!B:M,8,0)","v":"深圳市南山区阳光小学"},{"$f":"VLOOKUP(B263,'[1]002'!B:M,11,0)","v":"-"},{"$f":"VLOOKUP(B263,'[1]002'!B:M,12,0)","v":"-"}]
[262,"P305119086709","一般过去时动词变化规则","小学组","微课","二等奖","珠海市",{"$f":"VLOOKUP(B264,'[1]002'!B:M,7,0)","v":"林钿珊"},{"$f":"VLOOKUP(B264,'[1]002'!B:M,8,0)","v":"珠海市金湾区第一小学"},{"$f":"VLOOKUP(B264,'[1]002'!B:M,11,0)","v":"-"},{"$f":"VLOOKUP(B264,'[1]002'!B:M,12,0)","v":"-"}]
[263,"P305119092214","图形的平移","小学组","微课","二等奖","珠海市",{"$f":"VLOOKUP(B265,'[1]002'!B:M,7,0)","v":"郭林飞"},{"$f":"VLOOKUP(B265,'[1]002'!B:M,8,0)","v":"珠海市金湾区第一小学"},{"$f":"VLOOKUP(B265,'[1]002'!B:M,11,0)","v":"-"},{"$f":"VLOOKUP(B265,'[1]002'!B:M,12,0)","v":"-"}]
[264,"P305119078964","圆的认识","小学组","微课","二等奖","珠海市",{"$f":"VLOOKUP(B266,'[1]002'!B:M,7,0)","v":"杨晓丹"},{"$f":"VLOOKUP(B266,'[1]002'!B:M,8,0)","v":"珠海市红旗镇军建小学"},{"$f":"VLOOKUP(B266,'[1]002'!B:M,11,0)","v":"-"},{"$f":"VLOOKUP(B266,'[1]002'!B:M,12,0)","v":"-"}]
[265,"P305119091972","探索图形","小学组","微课","二等奖","汕头市",{"$f":"VLOOKUP(B267,'[1]002'!B:M,7,0)","v":"郑雪芸"},{"$f":"VLOOKUP(B267,'[1]002'!B:M,8,0)","v":"汕头市金砂小学"},{"$f":"VLOOKUP(B267,'[1]002'!B:M,11,0)","v":"-"},{"$f":"VLOOKUP(B267,'[1]002'!B:M,12,0)","v":"-"}]
[266,"P305119091973","It is time for/ to的意义和用法","小学组","微课","二等奖","汕头市",{"$f":"VLOOKUP(B268,'[1]002'!B:M,7,0)","v":"蔡维莹"},{"$f":"VLOOKUP(B268,'[1]002'!B:M,8,0)","v":"汕头市濠江区华里小学"},{"$f":"VLOOKUP(B268,'[1]002'!B:M,11,0)","v":"-"},{"$f":"VLOOKUP(B268,'[1]002'!B:M,12,0)","v":"-"}]
[267,"P305119091984","认识图形（一）","小学组","微课","二等奖","汕头市",{"$f":"VLOOKUP(B269,'[1]002'!B:M,7,0)","v":"纪欣欣"},{"$f":"VLOOKUP(B269,'[1]002'!B:M,8,0)","v":"汕头市长厦小学"},{"$f":"VLOOKUP(B269,'[1]002'!B:M,11,0)","v":"黄旻纯"},{"$f":"VLOOKUP(B269,'[1]002'!B:M,12,0)","v":"汕头市长厦小学"}]
[268,"P305119091968","思维导图在低年级阅读中的运用，以小蜗牛一课为例","小学组","微课","二等奖","汕头市",{"$f":"VLOOKUP(B270,'[1]002'!B:M,7,0)","v":"谢亿璇"},{"$f":"VLOOKUP(B270,'[1]002'!B:M,8,0)","v":"汕头市龙湖区亿信小学"},{"$f":"VLOOKUP(B270,'[1]002'!B:M,11,0)","v":"-"},{"$f":"VLOOKUP(B270,'[1]002'!B:M,12,0)","v":"-"}]
[269,"P305119091982","运算定律的再认识","小学组","微课","二等奖","汕头市",{"$f":"VLOOKUP(B271,'[1]002'!B:M,7,0)","v":"辛晓娜"},{"$f":"VLOOKUP(B271,'[1]002'!B:M,8,0)","v":"汕头市东厦小学"},{"$f":"VLOOKUP(B271,'[1]002'!B:M,11,0)","v":"-"},{"$f":"VLOOKUP(B271,'[1]002'!B:M,12,0)","v":"-"}]
[270,"P305119091963","分数除法——工程问题","小学组","微课","二等奖","汕头市",{"$f":"VLOOKUP(B272,'[1]002'!B:M,7,0)","v":"张丽霞"},{"$f":"VLOOKUP(B272,'[1]002'!B:M,8,0)","v":"汕头市金平区蓝天小学"},{"$f":"VLOOKUP(B272,'[1]002'!B:M,11,0)","v":"-"},{"$f":"VLOOKUP(B272,'[1]002'!B:M,12,0)","v":"-"}]
[271,"P305119090888","破折号的用法","小学组","微课","二等奖","佛山市",{"$f":"VLOOKUP(B273,'[1]002'!B:M,7,0)","v":"杨美金"},{"$f":"VLOOKUP(B273,'[1]002'!B:M,8,0)","v":"佛山市高明区沧江中学附属小学"},{"$f":"VLOOKUP(B273,'[1]002'!B:M,11,0)","v":"-"},{"$f":"VLOOKUP(B273,'[1]002'!B:M,12,0)","v":"-"}]
[272,"P305119090899","小蜗牛慢慢爬","小学组","微课","二等奖","佛山市",{"$f":"VLOOKUP(B274,'[1]002'!B:M,7,0)","v":"陆韫瑶"},{"$f":"VLOOKUP(B274,'[1]002'!B:M,8,0)","v":"佛山市南海区丹灶镇金沙小学"},{"$f":"VLOOKUP(B274,'[1]002'!B:M,11,0)","v":"-"},{"$f":"VLOOKUP(B274,'[1]002'!B:M,12,0)","v":"-"}]
[273,"P305119090911","我们爱植树","小学组","微课","二等奖","佛山市",{"$f":"VLOOKUP(B275,'[1]002'!B:M,7,0)","v":"潘光志"},{"$f":"VLOOKUP(B275,'[1]002'!B:M,8,0)","v":"佛山市南海区桂城街道桂江小学"},{"$f":"VLOOKUP(B275,'[1]002'!B:M,11,0)","v":"-"},{"$f":"VLOOKUP(B275,'[1]002'!B:M,12,0)","v":"-"}]
[274,"P305119090942","写通知","小学组","微课","二等奖","佛山市",{"$f":"VLOOKUP(B276,'[1]002'!B:M,7,0)","v":"何惠浈"},{"$f":"VLOOKUP(B276,'[1]002'!B:M,8,0)","v":"佛山市顺德区陈村镇吴维泰纪念小学"},{"$f":"VLOOKUP(B276,'[1]002'!B:M,11,0)","v":"-"},{"$f":"VLOOKUP(B276,'[1]002'!B:M,12,0)","v":"-"}]
[275,"P305119090881","平均分","小学组","微课","二等奖","佛山市",{"$f":"VLOOKUP(B277,'[1]002'!B:M,7,0)","v":"缪丽娜"},{"$f":"VLOOKUP(B277,'[1]002'!B:M,8,0)","v":"佛山市高明区沧江中学附属小学"},{"$f":"VLOOKUP(B277,'[1]002'!B:M,11,0)","v":"-"},{"$f":"VLOOKUP(B277,'[1]002'!B:M,12,0)","v":"-"}]
[276,"P305119090878","PEP Book4 Unit3 Weather A Spell","小学组","微课","二等奖","佛山市",{"$f":"VLOOKUP(B278,'[1]002'!B:M,7,0)","v":"陈嘉裕"},{"$f":"VLOOKUP(B278,'[1]002'!B:M,8,0)","v":"佛山市高明区沧江中学附属小学"},{"$f":"VLOOKUP(B278,'[1]002'!B:M,11,0)","v":"-"},{"$f":"VLOOKUP(B278,'[1]002'!B:M,12,0)","v":"-"}]
[277,"P305119090913","破折号的自述","小学组","微课","二等奖","佛山市",{"$f":"VLOOKUP(B279,'[1]002'!B:M,7,0)","v":"陈彩霞"},{"$f":"VLOOKUP(B279,'[1]002'!B:M,8,0)","v":"佛山市南海区丹灶镇罗行小学"},{"$f":"VLOOKUP(B279,'[1]002'!B:M,11,0)","v":"-"},{"$f":"VLOOKUP(B279,'[1]002'!B:M,12,0)","v":"-"}]
[278,"P305119090951","复式折线统计图","小学组","微课","二等奖","佛山市",{"$f":"VLOOKUP(B280,'[1]002'!B:M,7,0)","v":"王杰"},{"$f":"VLOOKUP(B280,'[1]002'!B:M,8,0)","v":"佛山市三水区西南街道中心小学"},{"$f":"VLOOKUP(B280,'[1]002'!B:M,11,0)","v":"-"},{"$f":"VLOOKUP(B280,'[1]002'!B:M,12,0)","v":"-"}]
[279,"P305119090907","神奇的花瓶","小学组","微课","二等奖","佛山市",{"$f":"VLOOKUP(B281,'[1]002'!B:M,7,0)","v":"吴正荣"},{"$f":"VLOOKUP(B281,'[1]002'!B:M,8,0)","v":"佛山市南海区大沥镇盐步中心小学"},{"$f":"VLOOKUP(B281,'[1]002'!B:M,11,0)","v":"-"},{"$f":"VLOOKUP(B281,'[1]002'!B:M,12,0)","v":"-"}]
[280,"P305119090935","让丝网花也智能课件","小学组","微课","二等奖","佛山市",{"$f":"VLOOKUP(B282,'[1]002'!B:M,7,0)","v":"廖晓锋"},{"$f":"VLOOKUP(B282,'[1]002'!B:M,8,0)","v":"佛山市顺德区北滘中心小学"},{"$f":"VLOOKUP(B282,'[1]002'!B:M,11,0)","v":"郑萍"},{"$f":"VLOOKUP(B282,'[1]002'!B:M,12,0)","v":"佛山市顺德区北滘中心小学"}]
[281,"P305119090906","Mybirthday写作课","小学组","微课","二等奖","佛山市",{"$f":"VLOOKUP(B283,'[1]002'!B:M,7,0)","v":"林静韫"},{"$f":"VLOOKUP(B283,'[1]002'!B:M,8,0)","v":"佛山市南海区大沥镇盐步中心小学"},{"$f":"VLOOKUP(B283,'[1]002'!B:M,11,0)","v":"-"},{"$f":"VLOOKUP(B283,'[1]002'!B:M,12,0)","v":"-"}]
[282,"P305119090949","三角形的认识","小学组","微课","二等奖","佛山市",{"$f":"VLOOKUP(B284,'[1]002'!B:M,7,0)","v":"陈爱华"},{"$f":"VLOOKUP(B284,'[1]002'!B:M,8,0)","v":"佛山市三水区西南街道北江小学"},{"$f":"VLOOKUP(B284,'[1]002'!B:M,11,0)","v":"-"},{"$f":"VLOOKUP(B284,'[1]002'!B:M,12,0)","v":"-"}]
[283,"P305119090877","总分结构","小学组","微课","二等奖","佛山市",{"$f":"VLOOKUP(B285,'[1]002'!B:M,7,0)","v":"李小玲"},{"$f":"VLOOKUP(B285,'[1]002'!B:M,8,0)","v":"佛山市高明区沧江中学附属小学"},{"$f":"VLOOKUP(B285,'[1]002'!B:M,11,0)","v":"-"},{"$f":"VLOOKUP(B285,'[1]002'!B:M,12,0)","v":"-"}]
[284,"P305119090923","胆小的老鼠","小学组","微课","二等奖","佛山市",{"$f":"VLOOKUP(B286,'[1]002'!B:M,7,0)","v":"蓝细娜"},{"$f":"VLOOKUP(B286,'[1]002'!B:M,8,0)","v":"佛山市顺德区乐从水藤小学"},{"$f":"VLOOKUP(B286,'[1]002'!B:M,11,0)","v":"-"},{"$f":"VLOOKUP(B286,'[1]002'!B:M,12,0)","v":"-"}]
[285,"P305119090891","第6课通天云梯_用for语句控制循环","小学组","微课","二等奖","佛山市",{"$f":"VLOOKUP(B287,'[1]002'!B:M,7,0)","v":"刘炳升"},{"$f":"VLOOKUP(B287,'[1]002'!B:M,8,0)","v":"佛山市南海区大沥镇盐步中心小学"},{"$f":"VLOOKUP(B287,'[1]002'!B:M,11,0)","v":"-"},{"$f":"VLOOKUP(B287,'[1]002'!B:M,12,0)","v":"-"}]
[286,"P305119090926","时间介词的用法","小学组","微课","二等奖","佛山市",{"$f":"VLOOKUP(B288,'[1]002'!B:M,7,0)","v":"卢颖诗"},{"$f":"VLOOKUP(B288,'[1]002'!B:M,8,0)","v":"佛山市顺德区龙江城区中心小学"},{"$f":"VLOOKUP(B288,'[1]002'!B:M,11,0)","v":"-"},{"$f":"VLOOKUP(B288,'[1]002'!B:M,12,0)","v":"-"}]
[287,"P305119090918","二年级看图写话单幅图写法指导微课教学","小学组","微课","二等奖","佛山市",{"$f":"VLOOKUP(B289,'[1]002'!B:M,7,0)","v":"余姗炫"},{"$f":"VLOOKUP(B289,'[1]002'!B:M,8,0)","v":"佛山市禅城区环湖小学"},{"$f":"VLOOKUP(B289,'[1]002'!B:M,11,0)","v":"-"},{"$f":"VLOOKUP(B289,'[1]002'!B:M,12,0)","v":"-"}]
[288,"P305119090900","小泥人","小学组","微课","二等奖","佛山市",{"$f":"VLOOKUP(B290,'[1]002'!B:M,7,0)","v":"孔淑文"},{"$f":"VLOOKUP(B290,'[1]002'!B:M,8,0)","v":"佛山市南海区桂城街道桂江小学"},{"$f":"VLOOKUP(B290,'[1]002'!B:M,11,0)","v":"-"},{"$f":"VLOOKUP(B290,'[1]002'!B:M,12,0)","v":"-"}]
[289,"P305119090929","彩绘石头","小学组","微课","二等奖","佛山市",{"$f":"VLOOKUP(B291,'[1]002'!B:M,7,0)","v":"曾晓雅"},{"$f":"VLOOKUP(B291,'[1]002'!B:M,8,0)","v":"佛山市顺德区容桂实验学校"},{"$f":"VLOOKUP(B291,'[1]002'!B:M,11,0)","v":"-"},{"$f":"VLOOKUP(B291,'[1]002'!B:M,12,0)","v":"-"}]
[290,"P305119090884","动物的花衣裳","小学组","微课","二等奖","佛山市",{"$f":"VLOOKUP(B292,'[1]002'!B:M,7,0)","v":"何少娟"},{"$f":"VLOOKUP(B292,'[1]002'!B:M,8,0)","v":"佛山市高明区沧江中学附属小学"},{"$f":"VLOOKUP(B292,'[1]002'!B:M,11,0)","v":"-"},{"$f":"VLOOKUP(B292,'[1]002'!B:M,12,0)","v":"-"}]
[291,"P305119090912","认识小括号","小学组","微课","二等奖","佛山市",{"$f":"VLOOKUP(B293,'[1]002'!B:M,7,0)","v":"黄翠婉"},{"$f":"VLOOKUP(B293,'[1]002'!B:M,8,0)","v":"佛山市南海区桂城街道桂江小学"},{"$f":"VLOOKUP(B293,'[1]002'!B:M,11,0)","v":"-"},{"$f":"VLOOKUP(B293,'[1]002'!B:M,12,0)","v":"-"}]
[292,"P305119090890","两位数加两位数不进位加","小学组","微课","二等奖","佛山市",{"$f":"VLOOKUP(B294,'[1]002'!B:M,7,0)","v":"梁海秀"},{"$f":"VLOOKUP(B294,'[1]002'!B:M,8,0)","v":"禅城区南庄镇溶洲小学"},{"$f":"VLOOKUP(B294,'[1]002'!B:M,11,0)","v":"-"},{"$f":"VLOOKUP(B294,'[1]002'!B:M,12,0)","v":"-"}]
[293,"P305119090924","圆锥的体积","小学组","微课","二等奖","佛山市",{"$f":"VLOOKUP(B295,'[1]002'!B:M,7,0)","v":"区艳冰"},{"$f":"VLOOKUP(B295,'[1]002'!B:M,8,0)","v":"佛山市顺德区乐从水藤小学"},{"$f":"VLOOKUP(B295,'[1]002'!B:M,11,0)","v":"-"},{"$f":"VLOOKUP(B295,'[1]002'!B:M,12,0)","v":"-"}]
[294,"P305119087888","学写留言条","小学组","微课","二等奖","韶关市",{"$f":"VLOOKUP(B296,'[1]002'!B:M,7,0)","v":"曹慧"},{"$f":"VLOOKUP(B296,'[1]002'!B:M,8,0)","v":"韶关市武江区金福园小学"},{"$f":"VLOOKUP(B296,'[1]002'!B:M,11,0)","v":"-"},{"$f":"VLOOKUP(B296,'[1]002'!B:M,12,0)","v":"-"}]
[295,"P305119088878","神奇的水之毛细现象篇","小学组","微课","二等奖","韶关市",{"$f":"VLOOKUP(B297,'[1]002'!B:M,7,0)","v":"李万英"},{"$f":"VLOOKUP(B297,'[1]002'!B:M,8,0)","v":"韶关市武江区田家炳小学"},{"$f":"VLOOKUP(B297,'[1]002'!B:M,11,0)","v":"-"},{"$f":"VLOOKUP(B297,'[1]002'!B:M,12,0)","v":"-"}]
[296,"P305119090155","学做仿铜泥浮雕","小学组","微课","二等奖","韶关市",{"$f":"VLOOKUP(B298,'[1]002'!B:M,7,0)","v":"朱香霖"},{"$f":"VLOOKUP(B298,'[1]002'!B:M,8,0)","v":"韶关市武江区田家炳沙湖绿洲小学"},{"$f":"VLOOKUP(B298,'[1]002'!B:M,11,0)","v":"-"},{"$f":"VLOOKUP(B298,'[1]002'!B:M,12,0)","v":"-"}]
[297,"P305119093435","我的周末计划","小学组","微课","二等奖","河源市",{"$f":"VLOOKUP(B299,'[1]002'!B:M,7,0)","v":"吴莹"},{"$f":"VLOOKUP(B299,'[1]002'!B:M,8,0)","v":"老隆镇涧洞小学"},{"$f":"VLOOKUP(B299,'[1]002'!B:M,11,0)","v":"邓萌萌"},{"$f":"VLOOKUP(B299,'[1]002'!B:M,12,0)","v":"老隆镇涧洞小学"}]
[298,"P305119093431","泊船瓜洲","小学组","微课","二等奖","河源市",{"$f":"VLOOKUP(B300,'[1]002'!B:M,7,0)","v":"吴海燕"},{"$f":"VLOOKUP(B300,'[1]002'!B:M,8,0)","v":"回龙镇中心小学"},{"$f":"VLOOKUP(B300,'[1]002'!B:M,11,0)","v":"吴开城"},{"$f":"VLOOKUP(B300,'[1]002'!B:M,12,0)","v":"回龙镇中心小学"}]
[299,"P305119093436","游园不值","小学组","微课","二等奖","河源市",{"$f":"VLOOKUP(B301,'[1]002'!B:M,7,0)","v":"杨桂霞"},{"$f":"VLOOKUP(B301,'[1]002'!B:M,8,0)","v":"老隆镇第三小学"},{"$f":"VLOOKUP(B301,'[1]002'!B:M,11,0)","v":"-"},{"$f":"VLOOKUP(B301,'[1]002'!B:M,12,0)","v":"-"}]
[300,"P305119085850","台湾蝴蝶甲天下之名贵蝴蝶的介绍","小学组","微课","二等奖","梅州市",{"$f":"VLOOKUP(B302,'[1]002'!B:M,7,0)","v":"李红"},{"$f":"VLOOKUP(B302,'[1]002'!B:M,8,0)","v":"梅州市梅江区人民小学"},{"$f":"VLOOKUP(B302,'[1]002'!B:M,11,0)","v":"-"},{"$f":"VLOOKUP(B302,'[1]002'!B:M,12,0)","v":"-"}]
[301,"P305119092110","Itsimeto和Itstimefor","小学组","微课","二等奖","惠州市",{"$f":"VLOOKUP(B303,'[1]002'!B:M,7,0)","v":"曾惠芳"},{"$f":"VLOOKUP(B303,'[1]002'!B:M,8,0)","v":"博罗县罗阳第六小学"},{"$f":"VLOOKUP(B303,'[1]002'!B:M,11,0)","v":"李卫平"},{"$f":"VLOOKUP(B303,'[1]002'!B:M,12,0)","v":"博罗县罗阳第六小学"}]
[302,"P305119092150","元日","小学组","微课","二等奖","惠州市",{"$f":"VLOOKUP(B304,'[1]002'!B:M,7,0)","v":"李丽婷"},{"$f":"VLOOKUP(B304,'[1]002'!B:M,8,0)","v":"惠州市惠阳区淡水第六小学"},{"$f":"VLOOKUP(B304,'[1]002'!B:M,11,0)","v":"-"},{"$f":"VLOOKUP(B304,'[1]002'!B:M,12,0)","v":"-"}]
[303,"P305119092105","平移和旋转","小学组","微课","二等奖","惠州市",{"$f":"VLOOKUP(B305,'[1]002'!B:M,7,0)","v":"徐彩云"},{"$f":"VLOOKUP(B305,'[1]002'!B:M,8,0)","v":"龙城第五小学"},{"$f":"VLOOKUP(B305,'[1]002'!B:M,11,0)","v":"叶润平"},{"$f":"VLOOKUP(B305,'[1]002'!B:M,12,0)","v":"龙城第五小学"}]
[304,"P305119092147","Unit2Whattimeisit微课","小学组","微课","二等奖","惠州市",{"$f":"VLOOKUP(B306,'[1]002'!B:M,7,0)","v":"李燕华"},{"$f":"VLOOKUP(B306,'[1]002'!B:M,8,0)","v":"惠州市惠阳区淡水第六小学"},{"$f":"VLOOKUP(B306,'[1]002'!B:M,11,0)","v":"-"},{"$f":"VLOOKUP(B306,'[1]002'!B:M,12,0)","v":"-"}]
[305,"P305119092390","如何做读书笔记","小学组","微课","二等奖","汕尾市",{"$f":"VLOOKUP(B307,'[1]002'!B:M,7,0)","v":"王映红"},{"$f":"VLOOKUP(B307,'[1]002'!B:M,8,0)","v":"海丰县海城镇向阳小学"},{"$f":"VLOOKUP(B307,'[1]002'!B:M,11,0)","v":"-"},{"$f":"VLOOKUP(B307,'[1]002'!B:M,12,0)","v":"-"}]
[306,"P305119092566","有趣的动物","小学组","微课","二等奖","东莞市",{"$f":"VLOOKUP(B308,'[1]002'!B:M,7,0)","v":"袁于棋"},{"$f":"VLOOKUP(B308,'[1]002'!B:M,8,0)","v":"东莞市东城第一小学"},{"$f":"VLOOKUP(B308,'[1]002'!B:M,11,0)","v":"-"},{"$f":"VLOOKUP(B308,'[1]002'!B:M,12,0)","v":"-"}]
[307,"P305119092564","年月日","小学组","微课","二等奖","东莞市",{"$f":"VLOOKUP(B309,'[1]002'!B:M,7,0)","v":"卢施美"},{"$f":"VLOOKUP(B309,'[1]002'!B:M,8,0)","v":"东莞市光正实验学校"},{"$f":"VLOOKUP(B309,'[1]002'!B:M,11,0)","v":"卢彰贵"},{"$f":"VLOOKUP(B309,'[1]002'!B:M,12,0)","v":"东莞市光正实验学校"}]
[308,"P305119089331","Book3Review2","小学组","微课","二等奖","中山市",{"$f":"VLOOKUP(B310,'[1]002'!B:M,7,0)","v":"杨丽萍"},{"$f":"VLOOKUP(B310,'[1]002'!B:M,8,0)","v":"中山市石岐中心小学"},{"$f":"VLOOKUP(B310,'[1]002'!B:M,11,0)","v":"-"},{"$f":"VLOOKUP(B310,'[1]002'!B:M,12,0)","v":"-"}]
[309,"P305119088239","微课：空气能占据空间吗？","小学组","微课","二等奖","中山市",{"$f":"VLOOKUP(B311,'[1]002'!B:M,7,0)","v":"苏晓华"},{"$f":"VLOOKUP(B311,'[1]002'!B:M,8,0)","v":"中山市板芙镇新联小学"},{"$f":"VLOOKUP(B311,'[1]002'!B:M,11,0)","v":"-"},{"$f":"VLOOKUP(B311,'[1]002'!B:M,12,0)","v":"-"}]
[310,"P305119089045","大鱼吃小鱼","小学组","微课","二等奖","中山市",{"$f":"VLOOKUP(B312,'[1]002'!B:M,7,0)","v":"徐旭辉"},{"$f":"VLOOKUP(B312,'[1]002'!B:M,8,0)","v":"中山市西区中心小学"},{"$f":"VLOOKUP(B312,'[1]002'!B:M,11,0)","v":"黄剑锋"},{"$f":"VLOOKUP(B312,'[1]002'!B:M,12,0)","v":"中山市实验小学"}]
[311,"P305119089349","葫芦丝高音56 学习","小学组","微课","二等奖","中山市",{"$f":"VLOOKUP(B313,'[1]002'!B:M,7,0)","v":"蓝旭雯"},{"$f":"VLOOKUP(B313,'[1]002'!B:M,8,0)","v":"中山市阜沙镇牛角小学"},{"$f":"VLOOKUP(B313,'[1]002'!B:M,11,0)","v":"任思"},{"$f":"VLOOKUP(B313,'[1]002'!B:M,12,0)","v":"中山市阜沙镇牛角小学"}]
[312,"P305119089194","Scratch编程之顺序结构","小学组","微课","二等奖","中山市",{"$f":"VLOOKUP(B314,'[1]002'!B:M,7,0)","v":"朱艳萍"},{"$f":"VLOOKUP(B314,'[1]002'!B:M,8,0)","v":"中山火炬高技术产业开发区第五小学"},{"$f":"VLOOKUP(B314,'[1]002'!B:M,11,0)","v":"-"},{"$f":"VLOOKUP(B314,'[1]002'!B:M,12,0)","v":"-"}]
[313,"P305119089043","四二拍和四三拍节拍特点","小学组","微课","二等奖","中山市",{"$f":"VLOOKUP(B315,'[1]002'!B:M,7,0)","v":"冯贤冰"},{"$f":"VLOOKUP(B315,'[1]002'!B:M,8,0)","v":"中山市西区翠景东方小学"},{"$f":"VLOOKUP(B315,'[1]002'!B:M,11,0)","v":"-"},{"$f":"VLOOKUP(B315,'[1]002'!B:M,12,0)","v":"-"}]
[314,"P305119088271","盐的妙用","小学组","微课","二等奖","中山市",{"$f":"VLOOKUP(B316,'[1]002'!B:M,7,0)","v":"陈翠芬"},{"$f":"VLOOKUP(B316,'[1]002'!B:M,8,0)","v":"中山市沙溪镇濠涌小学"},{"$f":"VLOOKUP(B316,'[1]002'!B:M,11,0)","v":"-"},{"$f":"VLOOKUP(B316,'[1]002'!B:M,12,0)","v":"-"}]
[315,"P305119092061","鸡兔同笼分组法","小学组","微课","二等奖","江门市",{"$f":"VLOOKUP(B317,'[1]002'!B:M,7,0)","v":"梁尚意"},{"$f":"VLOOKUP(B317,'[1]002'!B:M,8,0)","v":"鹤山市沙坪街道第三小学"},{"$f":"VLOOKUP(B317,'[1]002'!B:M,11,0)","v":"-"},{"$f":"VLOOKUP(B317,'[1]002'!B:M,12,0)","v":"-"}]
[316,"P305119091834","铁生锈有没有新物质产生","小学组","微课","二等奖","江门市",{"$f":"VLOOKUP(B318,'[1]002'!B:M,7,0)","v":"梁怡君"},{"$f":"VLOOKUP(B318,'[1]002'!B:M,8,0)","v":"外海麻一佑启学校"},{"$f":"VLOOKUP(B318,'[1]002'!B:M,11,0)","v":"-"},{"$f":"VLOOKUP(B318,'[1]002'!B:M,12,0)","v":"-"}]
[317,"P305119091833","修改文章中的错误","小学组","微课","二等奖","江门市",{"$f":"VLOOKUP(B319,'[1]002'!B:M,7,0)","v":"戴广权"},{"$f":"VLOOKUP(B319,'[1]002'!B:M,8,0)","v":"江海区华兴小学"},{"$f":"VLOOKUP(B319,'[1]002'!B:M,11,0)","v":"-"},{"$f":"VLOOKUP(B319,'[1]002'!B:M,12,0)","v":"-"}]
[318,"P305119091779","四边形的内角和","小学组","微课","二等奖","江门市",{"$f":"VLOOKUP(B320,'[1]002'!B:M,7,0)","v":"邝泳霞"},{"$f":"VLOOKUP(B320,'[1]002'!B:M,8,0)","v":"江门市农林小学"},{"$f":"VLOOKUP(B320,'[1]002'!B:M,11,0)","v":"-"},{"$f":"VLOOKUP(B320,'[1]002'!B:M,12,0)","v":"-"}]
[319,"P305119092011","三角形的内角和","小学组","微课","二等奖","江门市",{"$f":"VLOOKUP(B321,'[1]002'!B:M,7,0)","v":"陈秀媚"},{"$f":"VLOOKUP(B321,'[1]002'!B:M,8,0)","v":"开平市水口镇红花小学"},{"$f":"VLOOKUP(B321,'[1]002'!B:M,11,0)","v":"-"},{"$f":"VLOOKUP(B321,'[1]002'!B:M,12,0)","v":"-"}]
[320,"P305119092056","杠杆的秘密","小学组","微课","二等奖","江门市",{"$f":"VLOOKUP(B322,'[1]002'!B:M,7,0)","v":"谭锦辉"},{"$f":"VLOOKUP(B322,'[1]002'!B:M,8,0)","v":"鹤山市沙坪街道第一小学"},{"$f":"VLOOKUP(B322,'[1]002'!B:M,11,0)","v":"-"},{"$f":"VLOOKUP(B322,'[1]002'!B:M,12,0)","v":"-"}]
[321,"P305119092920","查看文件与文件夹","小学组","微课","二等奖","湛江市",{"$f":"VLOOKUP(B323,'[1]002'!B:M,7,0)","v":"吴少琼"},{"$f":"VLOOKUP(B323,'[1]002'!B:M,8,0)","v":"湛江市第九小学"},{"$f":"VLOOKUP(B323,'[1]002'!B:M,11,0)","v":"-"},{"$f":"VLOOKUP(B323,'[1]002'!B:M,12,0)","v":"-"}]
[322,"P305119092926","Flash制作引导层动画","小学组","微课","二等奖","湛江市",{"$f":"VLOOKUP(B324,'[1]002'!B:M,7,0)","v":"张文贞"},{"$f":"VLOOKUP(B324,'[1]002'!B:M,8,0)","v":"湛江市第六小学"},{"$f":"VLOOKUP(B324,'[1]002'!B:M,11,0)","v":"-"},{"$f":"VLOOKUP(B324,'[1]002'!B:M,12,0)","v":"-"}]
[323,"P305119092919","看图写话就三步","小学组","微课","二等奖","湛江市",{"$f":"VLOOKUP(B325,'[1]002'!B:M,7,0)","v":"毛细"},{"$f":"VLOOKUP(B325,'[1]002'!B:M,8,0)","v":"湛江市第十七中学"},{"$f":"VLOOKUP(B325,'[1]002'!B:M,11,0)","v":"-"},{"$f":"VLOOKUP(B325,'[1]002'!B:M,12,0)","v":"-"}]
[324,"P305119091413","学写留言条","小学组","微课","二等奖","茂名市",{"$f":"VLOOKUP(B326,'[1]002'!B:M,7,0)","v":"何珊"},{"$f":"VLOOKUP(B326,'[1]002'!B:M,8,0)","v":"信宜市第六小学"},{"$f":"VLOOKUP(B326,'[1]002'!B:M,11,0)","v":"-"},{"$f":"VLOOKUP(B326,'[1]002'!B:M,12,0)","v":"-"}]
[325,"P305119091539","变幻的画面","小学组","微课","二等奖","茂名市",{"$f":"VLOOKUP(B327,'[1]002'!B:M,7,0)","v":"黄彦欣"},{"$f":"VLOOKUP(B327,'[1]002'!B:M,8,0)","v":"茂名市华英外国语学校"},{"$f":"VLOOKUP(B327,'[1]002'!B:M,11,0)","v":"-"},{"$f":"VLOOKUP(B327,'[1]002'!B:M,12,0)","v":"-"}]
[326,"P305119091309","turn left，turn right和go straight on词组意义教学","小学组","微课","二等奖","茂名市",{"$f":"VLOOKUP(B328,'[1]002'!B:M,7,0)","v":"吴东瑜"},{"$f":"VLOOKUP(B328,'[1]002'!B:M,8,0)","v":"茂名市电白区岭门镇中心小学"},{"$f":"VLOOKUP(B328,'[1]002'!B:M,11,0)","v":"-"},{"$f":"VLOOKUP(B328,'[1]002'!B:M,12,0)","v":"-"}]
[327,"P305119091313","微课What colour is it","小学组","微课","二等奖","茂名市",{"$f":"VLOOKUP(B329,'[1]002'!B:M,7,0)","v":"余润华"},{"$f":"VLOOKUP(B329,'[1]002'!B:M,8,0)","v":"化州市第三小学"},{"$f":"VLOOKUP(B329,'[1]002'!B:M,11,0)","v":"-"},{"$f":"VLOOKUP(B329,'[1]002'!B:M,12,0)","v":"-"}]
[328,"P305119091384","巧用过渡","小学组","微课","二等奖","茂名市",{"$f":"VLOOKUP(B330,'[1]002'!B:M,7,0)","v":"黄奇诗"},{"$f":"VLOOKUP(B330,'[1]002'!B:M,8,0)","v":"茂名市方兴小学"},{"$f":"VLOOKUP(B330,'[1]002'!B:M,11,0)","v":"-"},{"$f":"VLOOKUP(B330,'[1]002'!B:M,12,0)","v":"-"}]
[329,"P305119091317","珍珠鸟","小学组","微课","二等奖","茂名市",{"$f":"VLOOKUP(B331,'[1]002'!B:M,7,0)","v":"吴良梅"},{"$f":"VLOOKUP(B331,'[1]002'!B:M,8,0)","v":"高州市文明路小学"},{"$f":"VLOOKUP(B331,'[1]002'!B:M,11,0)","v":"-"},{"$f":"VLOOKUP(B331,'[1]002'!B:M,12,0)","v":"-"}]
[330,"P305119091418","Numbers","小学组","微课","二等奖","茂名市",{"$f":"VLOOKUP(B332,'[1]002'!B:M,7,0)","v":"李春美"},{"$f":"VLOOKUP(B332,'[1]002'!B:M,8,0)","v":"化州市第一小学"},{"$f":"VLOOKUP(B332,'[1]002'!B:M,11,0)","v":"-"},{"$f":"VLOOKUP(B332,'[1]002'!B:M,12,0)","v":"-"}]
[331,"P305119091382","神态描写有妙招","小学组","微课","二等奖","茂名市",{"$f":"VLOOKUP(B333,'[1]002'!B:M,7,0)","v":"裴凤"},{"$f":"VLOOKUP(B333,'[1]002'!B:M,8,0)","v":"高州市第二小学"},{"$f":"VLOOKUP(B333,'[1]002'!B:M,11,0)","v":"-"},{"$f":"VLOOKUP(B333,'[1]002'!B:M,12,0)","v":"-"}]
[332,"P305119091383","奇妙的歇后语","小学组","微课","二等奖","茂名市",{"$f":"VLOOKUP(B334,'[1]002'!B:M,7,0)","v":"彭秋琪"},{"$f":"VLOOKUP(B334,'[1]002'!B:M,8,0)","v":"茂名市文东街小学"},{"$f":"VLOOKUP(B334,'[1]002'!B:M,11,0)","v":"-"},{"$f":"VLOOKUP(B334,'[1]002'!B:M,12,0)","v":"-"}]
[333,"P305119091336","介绍一种动物","小学组","微课","二等奖","茂名市",{"$f":"VLOOKUP(B335,'[1]002'!B:M,7,0)","v":"邓颜"},{"$f":"VLOOKUP(B335,'[1]002'!B:M,8,0)","v":"茂名市光华小学"},{"$f":"VLOOKUP(B335,'[1]002'!B:M,11,0)","v":"-"},{"$f":"VLOOKUP(B335,'[1]002'!B:M,12,0)","v":"-"}]
[334,"P305119091306","快速学会书信的格式","小学组","微课","二等奖","茂名市",{"$f":"VLOOKUP(B336,'[1]002'!B:M,7,0)","v":"李德业"},{"$f":"VLOOKUP(B336,'[1]002'!B:M,8,0)","v":"信宜市第三小学"},{"$f":"VLOOKUP(B336,'[1]002'!B:M,11,0)","v":"-"},{"$f":"VLOOKUP(B336,'[1]002'!B:M,12,0)","v":"-"}]
[335,"P305119091414","买铅笔","小学组","微课","二等奖","茂名市",{"$f":"VLOOKUP(B337,'[1]002'!B:M,7,0)","v":"巢金花"},{"$f":"VLOOKUP(B337,'[1]002'!B:M,8,0)","v":"茂名市福华小学"},{"$f":"VLOOKUP(B337,'[1]002'!B:M,11,0)","v":"-"},{"$f":"VLOOKUP(B337,'[1]002'!B:M,12,0)","v":"-"}]
[336,"P305119091196","小瓢虫找妈妈","小学组","微课","二等奖","肇庆市",{"$f":"VLOOKUP(B338,'[1]002'!B:M,7,0)","v":"林闯建"},{"$f":"VLOOKUP(B338,'[1]002'!B:M,8,0)","v":"鼎湖区桂城街道办事处桂城中心小学"},{"$f":"VLOOKUP(B338,'[1]002'!B:M,11,0)","v":"-"},{"$f":"VLOOKUP(B338,'[1]002'!B:M,12,0)","v":"-"}]
[337,"P305119089855","角的初步认识","小学组","微课","二等奖","肇庆市",{"$f":"VLOOKUP(B339,'[1]002'!B:M,7,0)","v":"刘宇婷"},{"$f":"VLOOKUP(B339,'[1]002'!B:M,8,0)","v":"肇庆高新技术产业开发区育慧学校"},{"$f":"VLOOKUP(B339,'[1]002'!B:M,11,0)","v":"-"},{"$f":"VLOOKUP(B339,'[1]002'!B:M,12,0)","v":"-"}]
[338,"P305119091637","揠苗助长","小学组","微课","二等奖","清远市",{"$f":"VLOOKUP(B340,'[1]002'!B:M,7,0)","v":"范兰英"},{"$f":"VLOOKUP(B340,'[1]002'!B:M,8,0)","v":"佛冈县第三小学"},{"$f":"VLOOKUP(B340,'[1]002'!B:M,11,0)","v":"-"},{"$f":"VLOOKUP(B340,'[1]002'!B:M,12,0)","v":"-"}]
[339,"P305119091631","认识整时","小学组","微课","二等奖","清远市",{"$f":"VLOOKUP(B341,'[1]002'!B:M,7,0)","v":"邝惠冰"},{"$f":"VLOOKUP(B341,'[1]002'!B:M,8,0)","v":"清远市师范学校附属小学"},{"$f":"VLOOKUP(B341,'[1]002'!B:M,11,0)","v":"-"},{"$f":"VLOOKUP(B341,'[1]002'!B:M,12,0)","v":"-"}]
[340,"P305119086342","大嘴巴狮子王","小学组","微课","二等奖","潮州市",{"$f":"VLOOKUP(B342,'[1]002'!B:M,7,0)","v":"蔡秋铧"},{"$f":"VLOOKUP(B342,'[1]002'!B:M,8,0)","v":"湘桥区兴华学校"},{"$f":"VLOOKUP(B342,'[1]002'!B:M,11,0)","v":"-"},{"$f":"VLOOKUP(B342,'[1]002'!B:M,12,0)","v":"-"}]
[341,"P305119087341","三位数乘两位数","小学组","微课","二等奖","潮州市",{"$f":"VLOOKUP(B343,'[1]002'!B:M,7,0)","v":"李楚玲"},{"$f":"VLOOKUP(B343,'[1]002'!B:M,8,0)","v":"湘桥区兴华学校"},{"$f":"VLOOKUP(B343,'[1]002'!B:M,11,0)","v":"-"},{"$f":"VLOOKUP(B343,'[1]002'!B:M,12,0)","v":"-"}]
[342,"P305119079685","曲线工具装扮美丽的花园","小学组","微课","二等奖","潮州市",{"$f":"VLOOKUP(B344,'[1]002'!B:M,7,0)","v":"钟泽鹏"},{"$f":"VLOOKUP(B344,'[1]002'!B:M,8,0)","v":"湘桥区兴华学校"},{"$f":"VLOOKUP(B344,'[1]002'!B:M,11,0)","v":"-"},{"$f":"VLOOKUP(B344,'[1]002'!B:M,12,0)","v":"-"}]
[343,"P305119080363","圆的面积","小学组","微课","二等奖","潮州市",{"$f":"VLOOKUP(B345,'[1]002'!B:M,7,0)","v":"郑兰君"},{"$f":"VLOOKUP(B345,'[1]002'!B:M,8,0)","v":"东凤镇仙桥小学"},{"$f":"VLOOKUP(B345,'[1]002'!B:M,11,0)","v":"-"},{"$f":"VLOOKUP(B345,'[1]002'!B:M,12,0)","v":"-"}]
[344,"P305119079468","小海龟画图之右转左转命令","小学组","微课","二等奖","潮州市",{"$f":"VLOOKUP(B346,'[1]002'!B:M,7,0)","v":"吕蕾丹"},{"$f":"VLOOKUP(B346,'[1]002'!B:M,8,0)","v":"潮州市实验学校"},{"$f":"VLOOKUP(B346,'[1]002'!B:M,11,0)","v":"-"},{"$f":"VLOOKUP(B346,'[1]002'!B:M,12,0)","v":"-"}]
[345,"P305119079179","圆锥的体积","小学组","微课","二等奖","潮州市",{"$f":"VLOOKUP(B347,'[1]002'!B:M,7,0)","v":"陈春娜"},{"$f":"VLOOKUP(B347,'[1]002'!B:M,8,0)","v":"登塘镇白水小学"},{"$f":"VLOOKUP(B347,'[1]002'!B:M,11,0)","v":"-"},{"$f":"VLOOKUP(B347,'[1]002'!B:M,12,0)","v":"-"}]
[346,"P305119079044","了解自己的情绪","小学组","微课","二等奖","潮州市",{"$f":"VLOOKUP(B348,'[1]002'!B:M,7,0)","v":"谢晓燕"},{"$f":"VLOOKUP(B348,'[1]002'!B:M,8,0)","v":"潮州市实验学校"},{"$f":"VLOOKUP(B348,'[1]002'!B:M,11,0)","v":"-"},{"$f":"VLOOKUP(B348,'[1]002'!B:M,12,0)","v":"-"}]
[347,"P305119079997","格子乘法","小学组","微课","二等奖","潮州市",{"$f":"VLOOKUP(B349,'[1]002'!B:M,7,0)","v":"郑玉燕"},{"$f":"VLOOKUP(B349,'[1]002'!B:M,8,0)","v":"潮州市枫溪区枫溪小学"},{"$f":"VLOOKUP(B349,'[1]002'!B:M,11,0)","v":"-"},{"$f":"VLOOKUP(B349,'[1]002'!B:M,12,0)","v":"-"}]
[348,"P305119079471","租船问题","小学组","微课","二等奖","潮州市",{"$f":"VLOOKUP(B350,'[1]002'!B:M,7,0)","v":"吴玉琼"},{"$f":"VLOOKUP(B350,'[1]002'!B:M,8,0)","v":"潮州市湘桥区厦寺小学"},{"$f":"VLOOKUP(B350,'[1]002'!B:M,11,0)","v":"-"},{"$f":"VLOOKUP(B350,'[1]002'!B:M,12,0)","v":"-"}]
[349,"P305119086877","晓出净慈寺送林子方","小学组","微课","二等奖","云浮市",{"$f":"VLOOKUP(B351,'[1]002'!B:M,7,0)","v":"洪晓敏"},{"$f":"VLOOKUP(B351,'[1]002'!B:M,8,0)","v":"新兴县惠能小学"},{"$f":"VLOOKUP(B351,'[1]002'!B:M,11,0)","v":"-"},{"$f":"VLOOKUP(B351,'[1]002'!B:M,12,0)","v":"-"}]
[350,"P305119086616","微课认识轴对称图形梁思婷","小学组","微课","二等奖","云浮市",{"$f":"VLOOKUP(B352,'[1]002'!B:M,7,0)","v":"梁思婷"},{"$f":"VLOOKUP(B352,'[1]002'!B:M,8,0)","v":"新兴县惠能小学"},{"$f":"VLOOKUP(B352,'[1]002'!B:M,11,0)","v":"-"},{"$f":"VLOOKUP(B352,'[1]002'!B:M,12,0)","v":"-"}]
[351,"P305119088254","美化调查图表","小学组","微课","二等奖","云浮市",{"$f":"VLOOKUP(B353,'[1]002'!B:M,7,0)","v":"陈智慧"},{"$f":"VLOOKUP(B353,'[1]002'!B:M,8,0)","v":"云浮市云城区河口香港海员希望小学"},{"$f":"VLOOKUP(B353,'[1]002'!B:M,11,0)","v":"-"},{"$f":"VLOOKUP(B353,'[1]002'!B:M,12,0)","v":"-"}]
[352,"P305119086860","正摇双脚跳绳","小学组","微课","二等奖","云浮市",{"$f":"VLOOKUP(B354,'[1]002'!B:M,7,0)","v":"陈栎多"},{"$f":"VLOOKUP(B354,'[1]002'!B:M,8,0)","v":"新兴县惠能小学"},{"$f":"VLOOKUP(B354,'[1]002'!B:M,11,0)","v":"-"},{"$f":"VLOOKUP(B354,'[1]002'!B:M,12,0)","v":"-"}]
[353,"P305119079877","拟人句","小学组","微课","二等奖","云浮市",{"$f":"VLOOKUP(B355,'[1]002'!B:M,7,0)","v":"伍绿意"},{"$f":"VLOOKUP(B355,'[1]002'!B:M,8,0)","v":"新兴县六祖镇中心小学"},{"$f":"VLOOKUP(B355,'[1]002'!B:M,11,0)","v":"-"},{"$f":"VLOOKUP(B355,'[1]002'!B:M,12,0)","v":"-"}]
[354,"P307119093171","科技改变生活STEM创客教育案例","小学组","信息技术创新教学案例","二等奖","广州市",{"$f":"VLOOKUP(B356,'[1]002'!B:M,7,0)","v":"严佩宜"},{"$f":"VLOOKUP(B356,'[1]002'!B:M,8,0)","v":"广州市越秀区署前路小学"},{"$f":"VLOOKUP(B356,'[1]002'!B:M,11,0)","v":"张璐"},{"$f":"VLOOKUP(B356,'[1]002'!B:M,12,0)","v":"广州市越秀区净慧体校"}]
[355,"P307119093170","揠苗助长","小学组","信息技术创新教学案例","二等奖","广州市",{"$f":"VLOOKUP(B357,'[1]002'!B:M,7,0)","v":"刘芳"},{"$f":"VLOOKUP(B357,'[1]002'!B:M,8,0)","v":"广州市荔湾区芦荻西小学"},{"$f":"VLOOKUP(B357,'[1]002'!B:M,11,0)","v":"刘佩斯"},{"$f":"VLOOKUP(B357,'[1]002'!B:M,12,0)","v":"广州市荔湾区芦荻西小学"}]
[356,"P307119093169","胡萝卜先生的长胡子","小学组","信息技术创新教学案例","二等奖","广州市",{"$f":"VLOOKUP(B358,'[1]002'!B:M,7,0)","v":"曾筱洵"},{"$f":"VLOOKUP(B358,'[1]002'!B:M,8,0)","v":"广州市番禺区石碁镇中心小学"},{"$f":"VLOOKUP(B358,'[1]002'!B:M,11,0)","v":"-"},{"$f":"VLOOKUP(B358,'[1]002'!B:M,12,0)","v":"-"}]
[357,"P307119092668","设计红绿灯","小学组","信息技术创新教学案例","二等奖","深圳市",{"$f":"VLOOKUP(B359,'[1]002'!B:M,7,0)","v":"张敏娜"},{"$f":"VLOOKUP(B359,'[1]002'!B:M,8,0)","v":"深圳市锦田小学"},{"$f":"VLOOKUP(B359,'[1]002'!B:M,11,0)","v":"韦璐琪"},{"$f":"VLOOKUP(B359,'[1]002'!B:M,12,0)","v":"深圳市锦田小学"}]
[358,"P307119092670","比例尺","小学组","信息技术创新教学案例","二等奖","深圳市",{"$f":"VLOOKUP(B360,'[1]002'!B:M,7,0)","v":"汪效莹"},{"$f":"VLOOKUP(B360,'[1]002'!B:M,8,0)","v":"深圳市蛇口育才教育集团育才四小"},{"$f":"VLOOKUP(B360,'[1]002'!B:M,11,0)","v":"-"},{"$f":"VLOOKUP(B360,'[1]002'!B:M,12,0)","v":"-"}]
[359,"P307119090438","创意小风扇，幸福转呀转！","小学组","信息技术创新教学案例","二等奖","珠海市",{"$f":"VLOOKUP(B361,'[1]002'!B:M,7,0)","v":"翁玉婵"},{"$f":"VLOOKUP(B361,'[1]002'!B:M,8,0)","v":"珠海市金湾区第一小学"},{"$f":"VLOOKUP(B361,'[1]002'!B:M,11,0)","v":"-"},{"$f":"VLOOKUP(B361,'[1]002'!B:M,12,0)","v":"-"}]
[360,"P307119090713","昼夜的交替","小学组","信息技术创新教学案例","二等奖","佛山市",{"$f":"VLOOKUP(B362,'[1]002'!B:M,7,0)","v":"欧昭旋"},{"$f":"VLOOKUP(B362,'[1]002'!B:M,8,0)","v":"佛山市顺德区均安中心小学"},{"$f":"VLOOKUP(B362,'[1]002'!B:M,11,0)","v":"-"},{"$f":"VLOOKUP(B362,'[1]002'!B:M,12,0)","v":"-"}]
[361,"P307119090710","养花","小学组","信息技术创新教学案例","二等奖","佛山市",{"$f":"VLOOKUP(B363,'[1]002'!B:M,7,0)","v":"曾雯"},{"$f":"VLOOKUP(B363,'[1]002'!B:M,8,0)","v":"佛山市顺德区北滘中心小学"},{"$f":"VLOOKUP(B363,'[1]002'!B:M,11,0)","v":"-"},{"$f":"VLOOKUP(B363,'[1]002'!B:M,12,0)","v":"-"}]
[362,"P307119090721","躲避鲨鱼","小学组","信息技术创新教学案例","二等奖","佛山市",{"$f":"VLOOKUP(B364,'[1]002'!B:M,7,0)","v":"程惠蓝"},{"$f":"VLOOKUP(B364,'[1]002'!B:M,8,0)","v":"佛山市三水区实验小学"},{"$f":"VLOOKUP(B364,'[1]002'!B:M,11,0)","v":"-"},{"$f":"VLOOKUP(B364,'[1]002'!B:M,12,0)","v":"-"}]
[363,"P307119090715","趣玩随机数","小学组","信息技术创新教学案例","二等奖","佛山市",{"$f":"VLOOKUP(B365,'[1]002'!B:M,7,0)","v":"黄景华"},{"$f":"VLOOKUP(B365,'[1]002'!B:M,8,0)","v":"佛山市顺德区北滘镇承德小学"},{"$f":"VLOOKUP(B365,'[1]002'!B:M,11,0)","v":"苏明涛"},{"$f":"VLOOKUP(B365,'[1]002'!B:M,12,0)","v":"佛山市顺德区北滘镇承德小学"}]
[364,"P307119090712","包装的学问","小学组","信息技术创新教学案例","二等奖","佛山市",{"$f":"VLOOKUP(B366,'[1]002'!B:M,7,0)","v":"苏凤轩"},{"$f":"VLOOKUP(B366,'[1]002'!B:M,8,0)","v":"佛山市顺德区北滘中心小学"},{"$f":"VLOOKUP(B366,'[1]002'!B:M,11,0)","v":"-"},{"$f":"VLOOKUP(B366,'[1]002'!B:M,12,0)","v":"-"}]
[365,"P307119090703","小学英语综合课VisitingtheFarm","小学组","信息技术创新教学案例","二等奖","佛山市",{"$f":"VLOOKUP(B367,'[1]002'!B:M,7,0)","v":"何芝阌"},{"$f":"VLOOKUP(B367,'[1]002'!B:M,8,0)","v":"佛山市南海区南海实验小学"},{"$f":"VLOOKUP(B367,'[1]002'!B:M,11,0)","v":"-"},{"$f":"VLOOKUP(B367,'[1]002'!B:M,12,0)","v":"-"}]
[366,"P307119090718","接苹果","小学组","信息技术创新教学案例","二等奖","佛山市",{"$f":"VLOOKUP(B368,'[1]002'!B:M,7,0)","v":"薛冬梅"},{"$f":"VLOOKUP(B368,'[1]002'!B:M,8,0)","v":"佛山市顺德区北滘镇莘村小学"},{"$f":"VLOOKUP(B368,'[1]002'!B:M,11,0)","v":"-"},{"$f":"VLOOKUP(B368,'[1]002'!B:M,12,0)","v":"-"}]
[367,"P307119092822","让思维与信息技术无缝对接鸡兔同笼应用案例","小学组","信息技术创新教学案例","二等奖","东莞市",{"$f":"VLOOKUP(B369,'[1]002'!B:M,7,0)","v":"卢健坤"},{"$f":"VLOOKUP(B369,'[1]002'!B:M,8,0)","v":"东莞市莞城中心小学"},{"$f":"VLOOKUP(B369,'[1]002'!B:M,11,0)","v":"-"},{"$f":"VLOOKUP(B369,'[1]002'!B:M,12,0)","v":"-"}]
[368,"P307119088503","安全记心上——119的警示","小学组","信息技术创新教学案例","二等奖","中山市",{"$f":"VLOOKUP(B370,'[1]002'!B:M,7,0)","v":"朱晓玲"},{"$f":"VLOOKUP(B370,'[1]002'!B:M,8,0)","v":"中山市石岐中心小学"},{"$f":"VLOOKUP(B370,'[1]002'!B:M,11,0)","v":"董超"},{"$f":"VLOOKUP(B370,'[1]002'!B:M,12,0)","v":"中山市石岐中心小学"}]
[369,"P307119089518","人工智能之智能遥控门","小学组","信息技术创新教学案例","二等奖","中山市",{"$f":"VLOOKUP(B371,'[1]002'!B:M,7,0)","v":"阮德怀"},{"$f":"VLOOKUP(B371,'[1]002'!B:M,8,0)","v":"中山市实验小学"},{"$f":"VLOOKUP(B371,'[1]002'!B:M,11,0)","v":"黄伟祥"},{"$f":"VLOOKUP(B371,'[1]002'!B:M,12,0)","v":"中山市实验小学"}]
[370,"P307119089412","Study Tour","小学组","信息技术创新教学案例","二等奖","中山市",{"$f":"VLOOKUP(B372,'[1]002'!B:M,7,0)","v":"张丽卿"},{"$f":"VLOOKUP(B372,'[1]002'!B:M,8,0)","v":"中山市石岐中心小学"},{"$f":"VLOOKUP(B372,'[1]002'!B:M,11,0)","v":"王盛"},{"$f":"VLOOKUP(B372,'[1]002'!B:M,12,0)","v":"中山市石岐中心小学"}]
[371,"P304119091791","用编程猫敲开古诗词的大门","小学组","信息技术创新教学案例","二等奖","江门市",{"$f":"VLOOKUP(B373,'[1]002'!B:M,7,0)","v":"李德"},{"$f":"VLOOKUP(B373,'[1]002'!B:M,8,0)","v":"江门市蓬江区农林双朗小学"},{"$f":"VLOOKUP(B373,'[1]002'!B:M,11,0)","v":"梁建小"},{"$f":"VLOOKUP(B373,'[1]002'!B:M,12,0)","v":"江门市蓬江区农林双朗小学"}]
[372,"P307119091352","基于专递课堂教学，实现资源共享案例 ——以一节作文课为例","小学组","信息技术创新教学案例","二等奖","茂名市",{"$f":"VLOOKUP(B374,'[1]002'!B:M,7,0)","v":"吴美玲"},{"$f":"VLOOKUP(B374,'[1]002'!B:M,8,0)","v":"信宜市田家炳小学"},{"$f":"VLOOKUP(B374,'[1]002'!B:M,11,0)","v":"刘林海"},{"$f":"VLOOKUP(B374,'[1]002'!B:M,12,0)","v":"信宜市第六小学"}]
[373,"P301119093081","源远流长","小学组","教师网络空间应用案例","二等奖","广州市",{"$f":"VLOOKUP(B375,'[1]002'!B:M,7,0)","v":"唐鹏飞"},{"$f":"VLOOKUP(B375,'[1]002'!B:M,8,0)","v":"广州市白云区平沙培英学校"},{"$f":"VLOOKUP(B375,'[1]002'!B:M,11,0)","v":"谢妹"},{"$f":"VLOOKUP(B375,'[1]002'!B:M,12,0)","v":"广州市白云区平沙培英学校"}]
[374,"P301119092833","网络平台与微课助学小学数学计算教学新模式","小学组","教师网络空间应用案例","二等奖","东莞市",{"$f":"VLOOKUP(B376,'[1]002'!B:M,7,0)","v":"陈笑芳"},{"$f":"VLOOKUP(B376,'[1]002'!B:M,8,0)","v":"东莞市长安镇金沙小学"},{"$f":"VLOOKUP(B376,'[1]002'!B:M,11,0)","v":"秦静宜"},{"$f":"VLOOKUP(B376,'[1]002'!B:M,12,0)","v":"东莞市长安镇金沙小学"}]
[375,"P301119092835","运用微课掌上通平台开展美术课外第二课堂","小学组","教师网络空间应用案例","二等奖","东莞市",{"$f":"VLOOKUP(B377,'[1]002'!B:M,7,0)","v":"方靖雯"},{"$f":"VLOOKUP(B377,'[1]002'!B:M,8,0)","v":"东莞市石碣实验小学"},{"$f":"VLOOKUP(B377,'[1]002'!B:M,11,0)","v":"-"},{"$f":"VLOOKUP(B377,'[1]002'!B:M,12,0)","v":"-"}]
[376,"P301119089260","”基于设计“理念下的阅读平台研究","小学组","教师网络空间应用案例","二等奖","中山市",{"$f":"VLOOKUP(B378,'[1]002'!B:M,7,0)","v":"陈小梅"},{"$f":"VLOOKUP(B378,'[1]002'!B:M,8,0)","v":"中山市小榄广源学校"},{"$f":"VLOOKUP(B378,'[1]002'!B:M,11,0)","v":"-"},{"$f":"VLOOKUP(B378,'[1]002'!B:M,12,0)","v":"-"}]
[377,"P304119090691","化危机为良机让课堂生成精彩","小学组","跨学科项目式学习教学案例","二等奖","佛山市",{"$f":"VLOOKUP(B379,'[1]002'!B:M,7,0)","v":"霍敏华"},{"$f":"VLOOKUP(B379,'[1]002'!B:M,8,0)","v":"佛山市实验学校小学部"},{"$f":"VLOOKUP(B379,'[1]002'!B:M,11,0)","v":"-"},{"$f":"VLOOKUP(B379,'[1]002'!B:M,12,0)","v":"-"}]
[378,"P304119092838","音数巧相逢课堂趣横生Steam教育环境下探究学习平台的实践研究","小学组","跨学科项目式学习教学案例","二等奖","东莞市",{"$f":"VLOOKUP(B380,'[1]002'!B:M,7,0)","v":"杨丽娟"},{"$f":"VLOOKUP(B380,'[1]002'!B:M,8,0)","v":"东莞市寮步镇凫山小学"},{"$f":"VLOOKUP(B380,'[1]002'!B:M,11,0)","v":"黄子坤"},{"$f":"VLOOKUP(B380,'[1]002'!B:M,12,0)","v":"东莞市寮步镇凫山小学"}]
[379,"P304119092839","三年级数学教学与Scratch软件融合创新","小学组","跨学科项目式学习教学案例","二等奖","东莞市",{"$f":"VLOOKUP(B381,'[1]002'!B:M,7,0)","v":"甘锐祥"},{"$f":"VLOOKUP(B381,'[1]002'!B:M,8,0)","v":"东莞市大岭山镇第三小学"},{"$f":"VLOOKUP(B381,'[1]002'!B:M,11,0)","v":"-"},{"$f":"VLOOKUP(B381,'[1]002'!B:M,12,0)","v":"-"}]
[380,"P306119093133","糕点盒的设计","小学组","新媒体新技术教学应用课例","二等奖",{"$f":"RIGHT(LEFT(VLOOKUP(B382,'[1]002'!B:M,3,0),7),3)","v":"广州市"},{"$f":"VLOOKUP(B382,'[1]002'!B:M,7,0)","v":"单欣然"},{"$f":"VLOOKUP(B382,'[1]002'!B:M,8,0)","v":"广州市南国学校"},{"$f":"VLOOKUP(B382,'[1]002'!B:M,11,0)","v":"-"},{"$f":"VLOOKUP(B382,'[1]002'!B:M,12,0)","v":"-"}]
[381,"P306119093130","秦兵马俑","小学组","新媒体新技术教学应用课例","二等奖",{"$f":"RIGHT(LEFT(VLOOKUP(B383,'[1]002'!B:M,3,0),7),3)","v":"广州市"},{"$f":"VLOOKUP(B383,'[1]002'!B:M,7,0)","v":"安扬"},{"$f":"VLOOKUP(B383,'[1]002'!B:M,8,0)","v":"华南理工大学附属实验学校"},{"$f":"VLOOKUP(B383,'[1]002'!B:M,11,0)","v":"-"},{"$f":"VLOOKUP(B383,'[1]002'!B:M,12,0)","v":"-"}]
[382,"P306119093137","难忘童年","小学组","新媒体新技术教学应用课例","二等奖",{"$f":"RIGHT(LEFT(VLOOKUP(B384,'[1]002'!B:M,3,0),7),3)","v":"广州市"},{"$f":"VLOOKUP(B384,'[1]002'!B:M,7,0)","v":"黄燕如"},{"$f":"VLOOKUP(B384,'[1]002'!B:M,8,0)","v":"华南理工大学附属实验学校"},{"$f":"VLOOKUP(B384,'[1]002'!B:M,11,0)","v":"-"},{"$f":"VLOOKUP(B384,'[1]002'!B:M,12,0)","v":"-"}]
[383,"P306119093118","Unit 4 Have a good time in Hainan","小学组","新媒体新技术教学应用课例","二等奖",{"$f":"RIGHT(LEFT(VLOOKUP(B385,'[1]002'!B:M,3,0),7),3)","v":"广州市"},{"$f":"VLOOKUP(B385,'[1]002'!B:M,7,0)","v":"邓丹"},{"$f":"VLOOKUP(B385,'[1]002'!B:M,8,0)","v":"广州市天河区沐陂小学"},{"$f":"VLOOKUP(B385,'[1]002'!B:M,11,0)","v":"-"},{"$f":"VLOOKUP(B385,'[1]002'!B:M,12,0)","v":"-"}]
[384,"P306119093119","梯形的面积","小学组","新媒体新技术教学应用课例","二等奖",{"$f":"RIGHT(LEFT(VLOOKUP(B386,'[1]002'!B:M,3,0),7),3)","v":"广州市"},{"$f":"VLOOKUP(B386,'[1]002'!B:M,7,0)","v":"陈丽"},{"$f":"VLOOKUP(B386,'[1]002'!B:M,8,0)","v":"广州市天河区体育东路小学"},{"$f":"VLOOKUP(B386,'[1]002'!B:M,11,0)","v":"-"},{"$f":"VLOOKUP(B386,'[1]002'!B:M,12,0)","v":"-"}]
[385,"P306119093131","放大镜","小学组","新媒体新技术教学应用课例","二等奖",{"$f":"RIGHT(LEFT(VLOOKUP(B387,'[1]002'!B:M,3,0),7),3)","v":"广州市"},{"$f":"VLOOKUP(B387,'[1]002'!B:M,7,0)","v":"邓燕玲"},{"$f":"VLOOKUP(B387,'[1]002'!B:M,8,0)","v":"广州市越秀区红火炬小学"},{"$f":"VLOOKUP(B387,'[1]002'!B:M,11,0)","v":"-"},{"$f":"VLOOKUP(B387,'[1]002'!B:M,12,0)","v":"-"}]
[386,"P306119093123","Module5My Family","小学组","新媒体新技术教学应用课例","二等奖",{"$f":"RIGHT(LEFT(VLOOKUP(B388,'[1]002'!B:M,3,0),7),3)","v":"广州市"},{"$f":"VLOOKUP(B388,'[1]002'!B:M,7,0)","v":"郭阳方"},{"$f":"VLOOKUP(B388,'[1]002'!B:M,8,0)","v":"华南理工大学附属实验学校"},{"$f":"VLOOKUP(B388,'[1]002'!B:M,11,0)","v":"-"},{"$f":"VLOOKUP(B388,'[1]002'!B:M,12,0)","v":"-"}]
[387,"P306119093126","多彩童年 基于umu互动平台的线上线下个性化学习课堂","小学组","新媒体新技术教学应用课例","二等奖",{"$f":"RIGHT(LEFT(VLOOKUP(B389,'[1]002'!B:M,3,0),7),3)","v":"广州市"},{"$f":"VLOOKUP(B389,'[1]002'!B:M,7,0)","v":"庞子妍"},{"$f":"VLOOKUP(B389,'[1]002'!B:M,8,0)","v":"广州市番禺区南村镇中心小学"},{"$f":"VLOOKUP(B389,'[1]002'!B:M,11,0)","v":"-"},{"$f":"VLOOKUP(B389,'[1]002'!B:M,12,0)","v":"-"}]
[388,"P306119093122","《杨氏之子》","小学组","新媒体新技术教学应用课例","二等奖",{"$f":"RIGHT(LEFT(VLOOKUP(B390,'[1]002'!B:M,3,0),7),3)","v":"广州市"},{"$f":"VLOOKUP(B390,'[1]002'!B:M,7,0)","v":"叶嘉宁"},{"$f":"VLOOKUP(B390,'[1]002'!B:M,8,0)","v":"广州市越秀区署前路小学"},{"$f":"VLOOKUP(B390,'[1]002'!B:M,11,0)","v":"-"},{"$f":"VLOOKUP(B390,'[1]002'!B:M,12,0)","v":"-"}]
[389,"P306119092621","在语言的门厅里聆听花钟报时","小学组","新媒体新技术教学应用课例","二等奖",{"$f":"RIGHT(LEFT(VLOOKUP(B391,'[1]002'!B:M,3,0),7),3)","v":"深圳市"},{"$f":"VLOOKUP(B391,'[1]002'!B:M,7,0)","v":"彭飞翔"},{"$f":"VLOOKUP(B391,'[1]002'!B:M,8,0)","v":"深圳市南山区第二外国语学校（集团）"},{"$f":"VLOOKUP(B391,'[1]002'!B:M,11,0)","v":"-"},{"$f":"VLOOKUP(B391,'[1]002'!B:M,12,0)","v":"-"}]
[390,"P306119092633","Different sounds","小学组","新媒体新技术教学应用课例","二等奖",{"$f":"RIGHT(LEFT(VLOOKUP(B392,'[1]002'!B:M,3,0),7),3)","v":"深圳市"},{"$f":"VLOOKUP(B392,'[1]002'!B:M,7,0)","v":"黎敬欢"},{"$f":"VLOOKUP(B392,'[1]002'!B:M,8,0)","v":"宝安区天骄小学"},{"$f":"VLOOKUP(B392,'[1]002'!B:M,11,0)","v":"-"},{"$f":"VLOOKUP(B392,'[1]002'!B:M,12,0)","v":"-"}]
[391,"P306119092634","口语交际 让嘴巴去旅行","小学组","新媒体新技术教学应用课例","二等奖",{"$f":"RIGHT(LEFT(VLOOKUP(B393,'[1]002'!B:M,3,0),7),3)","v":"深圳市"},{"$f":"VLOOKUP(B393,'[1]002'!B:M,7,0)","v":"伍秀兰"},{"$f":"VLOOKUP(B393,'[1]002'!B:M,8,0)","v":"平湖街道凤凰山小学"},{"$f":"VLOOKUP(B393,'[1]002'!B:M,11,0)","v":"-"},{"$f":"VLOOKUP(B393,'[1]002'!B:M,12,0)","v":"-"}]
[392,"P306119089177","杏林春满","小学组","新媒体新技术教学应用课例","二等奖",{"$f":"RIGHT(LEFT(VLOOKUP(B394,'[1]002'!B:M,3,0),7),3)","v":"珠海市"},{"$f":"VLOOKUP(B394,'[1]002'!B:M,7,0)","v":"陈金华"},{"$f":"VLOOKUP(B394,'[1]002'!B:M,8,0)","v":"珠海市金湾区第一小学"},{"$f":"VLOOKUP(B394,'[1]002'!B:M,11,0)","v":"-"},{"$f":"VLOOKUP(B394,'[1]002'!B:M,12,0)","v":"-"}]
[393,"P306119092221","图形的平移","小学组","新媒体新技术教学应用课例","二等奖",{"$f":"RIGHT(LEFT(VLOOKUP(B395,'[1]002'!B:M,3,0),7),3)","v":"珠海市"},{"$f":"VLOOKUP(B395,'[1]002'!B:M,7,0)","v":"郭林飞"},{"$f":"VLOOKUP(B395,'[1]002'!B:M,8,0)","v":"珠海市金湾区第一小学"},{"$f":"VLOOKUP(B395,'[1]002'!B:M,11,0)","v":"-"},{"$f":"VLOOKUP(B395,'[1]002'!B:M,12,0)","v":"-"}]
[394,"P306119087771","分数的初步认识","小学组","新媒体新技术教学应用课例","二等奖",{"$f":"RIGHT(LEFT(VLOOKUP(B396,'[1]002'!B:M,3,0),7),3)","v":"珠海市"},{"$f":"VLOOKUP(B396,'[1]002'!B:M,7,0)","v":"梁小茹"},{"$f":"VLOOKUP(B396,'[1]002'!B:M,8,0)","v":"珠海市金湾区第一小学"},{"$f":"VLOOKUP(B396,'[1]002'!B:M,11,0)","v":"-"},{"$f":"VLOOKUP(B396,'[1]002'!B:M,12,0)","v":"-"}]
[395,"P306119086816","慧眼辨真相","小学组","新媒体新技术教学应用课例","二等奖",{"$f":"RIGHT(LEFT(VLOOKUP(B397,'[1]002'!B:M,3,0),7),3)","v":"珠海市"},{"$f":"VLOOKUP(B397,'[1]002'!B:M,7,0)","v":"罗怡莲"},{"$f":"VLOOKUP(B397,'[1]002'!B:M,8,0)","v":"珠海市三灶镇海澄小学"},{"$f":"VLOOKUP(B397,'[1]002'!B:M,11,0)","v":"-"},{"$f":"VLOOKUP(B397,'[1]002'!B:M,12,0)","v":"-"}]
[396,"P306119091987","认识三角形","小学组","新媒体新技术教学应用课例","二等奖",{"$f":"RIGHT(LEFT(VLOOKUP(B398,'[1]002'!B:M,3,0),7),3)","v":"汕头市"},{"$f":"VLOOKUP(B398,'[1]002'!B:M,7,0)","v":"陈晓楠"},{"$f":"VLOOKUP(B398,'[1]002'!B:M,8,0)","v":"汕头市龙湖区西南小学"},{"$f":"VLOOKUP(B398,'[1]002'!B:M,11,0)","v":"-"},{"$f":"VLOOKUP(B398,'[1]002'!B:M,12,0)","v":"-"}]
[397,"P306119091991","圆锥的体积","小学组","新媒体新技术教学应用课例","二等奖",{"$f":"RIGHT(LEFT(VLOOKUP(B399,'[1]002'!B:M,3,0),7),3)","v":"汕头市"},{"$f":"VLOOKUP(B399,'[1]002'!B:M,7,0)","v":"陈蓉"},{"$f":"VLOOKUP(B399,'[1]002'!B:M,8,0)","v":"汕头市澄海永新小学"},{"$f":"VLOOKUP(B399,'[1]002'!B:M,11,0)","v":"-"},{"$f":"VLOOKUP(B399,'[1]002'!B:M,12,0)","v":"-"}]
[398,"P306119090741","连加连减","小学组","新媒体新技术教学应用课例","二等奖",{"$f":"RIGHT(LEFT(VLOOKUP(B400,'[1]002'!B:M,3,0),7),3)","v":"佛山市"},{"$f":"VLOOKUP(B400,'[1]002'!B:M,7,0)","v":"陈彩桂"},{"$f":"VLOOKUP(B400,'[1]002'!B:M,8,0)","v":"佛山市南海区丹灶镇有为小学"},{"$f":"VLOOKUP(B400,'[1]002'!B:M,11,0)","v":"-"},{"$f":"VLOOKUP(B400,'[1]002'!B:M,12,0)","v":"-"}]
[399,"P306119090777","Revision：Jobs","小学组","新媒体新技术教学应用课例","二等奖",{"$f":"RIGHT(LEFT(VLOOKUP(B401,'[1]002'!B:M,3,0),7),3)","v":"佛山市"},{"$f":"VLOOKUP(B401,'[1]002'!B:M,7,0)","v":"张子昕"},{"$f":"VLOOKUP(B401,'[1]002'!B:M,8,0)","v":"佛山市顺德区昌教小学"},{"$f":"VLOOKUP(B401,'[1]002'!B:M,11,0)","v":"伍惠珠"},{"$f":"VLOOKUP(B401,'[1]002'!B:M,12,0)","v":"佛山市顺德区昌教小学"}]
[400,"P306119090735","快递中的数学问题","小学组","新媒体新技术教学应用课例","二等奖",{"$f":"RIGHT(LEFT(VLOOKUP(B402,'[1]002'!B:M,3,0),7),3)","v":"佛山市"},{"$f":"VLOOKUP(B402,'[1]002'!B:M,7,0)","v":"佘雪珠"},{"$f":"VLOOKUP(B402,'[1]002'!B:M,8,0)","v":"佛山市高明区沧江中学附属小学"},{"$f":"VLOOKUP(B402,'[1]002'!B:M,11,0)","v":"-"},{"$f":"VLOOKUP(B402,'[1]002'!B:M,12,0)","v":"-"}]
[401,"P306119090755","给小车装上风帆","小学组","新媒体新技术教学应用课例","二等奖",{"$f":"RIGHT(LEFT(VLOOKUP(B403,'[1]002'!B:M,3,0),7),3)","v":"佛山市"},{"$f":"VLOOKUP(B403,'[1]002'!B:M,7,0)","v":"伍敏静"},{"$f":"VLOOKUP(B403,'[1]002'!B:M,8,0)","v":"佛山市顺德区勒流梁季彝纪念学校"},{"$f":"VLOOKUP(B403,'[1]002'!B:M,11,0)","v":"廖少峰"},{"$f":"VLOOKUP(B403,'[1]002'!B:M,12,0)","v":"佛山市顺德区勒流梁季彝纪念学校"}]
[402,"P306119090754","光的传播","小学组","新媒体新技术教学应用课例","二等奖",{"$f":"RIGHT(LEFT(VLOOKUP(B404,'[1]002'!B:M,3,0),7),3)","v":"佛山市"},{"$f":"VLOOKUP(B404,'[1]002'!B:M,7,0)","v":"廖少峰"},{"$f":"VLOOKUP(B404,'[1]002'!B:M,8,0)","v":"佛山市顺德区勒流梁季彝纪念学校"},{"$f":"VLOOKUP(B404,'[1]002'!B:M,11,0)","v":"伍敏静"},{"$f":"VLOOKUP(B404,'[1]002'!B:M,12,0)","v":"佛山市顺德区勒流梁季彝纪念学校"}]
[403,"P306119090759","参观花圃","小学组","新媒体新技术教学应用课例","二等奖",{"$f":"RIGHT(LEFT(VLOOKUP(B405,'[1]002'!B:M,3,0),7),3)","v":"佛山市"},{"$f":"VLOOKUP(B405,'[1]002'!B:M,7,0)","v":"丘文梅"},{"$f":"VLOOKUP(B405,'[1]002'!B:M,8,0)","v":"佛山市顺德区龙江世埠小学"},{"$f":"VLOOKUP(B405,'[1]002'!B:M,11,0)","v":"-"},{"$f":"VLOOKUP(B405,'[1]002'!B:M,12,0)","v":"-"}]
[404,"P306119090757","六年级英语Unit3Wheredidyougo","小学组","新媒体新技术教学应用课例","二等奖",{"$f":"RIGHT(LEFT(VLOOKUP(B406,'[1]002'!B:M,3,0),7),3)","v":"佛山市"},{"$f":"VLOOKUP(B406,'[1]002'!B:M,7,0)","v":"黄熊"},{"$f":"VLOOKUP(B406,'[1]002'!B:M,8,0)","v":"佛山市顺德区均安顺峰小学"},{"$f":"VLOOKUP(B406,'[1]002'!B:M,11,0)","v":"欧阳静欣"},{"$f":"VLOOKUP(B406,'[1]002'!B:M,12,0)","v":"佛山市顺德区均安顺峰小学"}]
[405,"P306119085809","17我的伯父鲁迅先生","小学组","新媒体新技术教学应用课例","二等奖",{"$f":"RIGHT(LEFT(VLOOKUP(B407,'[1]002'!B:M,3,0),7),3)","v":"梅州市"},{"$f":"VLOOKUP(B407,'[1]002'!B:M,7,0)","v":"俞丽容"},{"$f":"VLOOKUP(B407,'[1]002'!B:M,8,0)","v":"梅州市梅江区人民小学"},{"$f":"VLOOKUP(B407,'[1]002'!B:M,11,0)","v":"-"},{"$f":"VLOOKUP(B407,'[1]002'!B:M,12,0)","v":"-"}]
[406,"P306119088898","儿童诗写作指导","小学组","新媒体新技术教学应用课例","二等奖",{"$f":"RIGHT(LEFT(VLOOKUP(B408,'[1]002'!B:M,3,0),7),3)","v":"中山市"},{"$f":"VLOOKUP(B408,'[1]002'!B:M,7,0)","v":"刘敏丽"},{"$f":"VLOOKUP(B408,'[1]002'!B:M,8,0)","v":"中山市石岐杨仙逸小学"},{"$f":"VLOOKUP(B408,'[1]002'!B:M,11,0)","v":"-"},{"$f":"VLOOKUP(B408,'[1]002'!B:M,12,0)","v":"-"}]
[407,"P306119088453","图形的旋转","小学组","新媒体新技术教学应用课例","二等奖",{"$f":"RIGHT(LEFT(VLOOKUP(B409,'[1]002'!B:M,3,0),7),3)","v":"中山市"},{"$f":"VLOOKUP(B409,'[1]002'!B:M,7,0)","v":"黄景锋"},{"$f":"VLOOKUP(B409,'[1]002'!B:M,8,0)","v":"中山市小榄镇九洲基小学"},{"$f":"VLOOKUP(B409,'[1]002'!B:M,11,0)","v":"梁晓文"},{"$f":"VLOOKUP(B409,'[1]002'!B:M,12,0)","v":"中山市小榄镇九洲基小学"}]
[408,"P306119088368","雪地里的小画家","小学组","新媒体新技术教学应用课例","二等奖",{"$f":"RIGHT(LEFT(VLOOKUP(B410,'[1]002'!B:M,3,0),7),3)","v":"中山市"},{"$f":"VLOOKUP(B410,'[1]002'!B:M,7,0)","v":"董春雷"},{"$f":"VLOOKUP(B410,'[1]002'!B:M,8,0)","v":"中山市西区广丰小学"},{"$f":"VLOOKUP(B410,'[1]002'!B:M,11,0)","v":"-"},{"$f":"VLOOKUP(B410,'[1]002'!B:M,12,0)","v":"-"}]
[409,"P306119088803","玩转七巧板","小学组","新媒体新技术教学应用课例","二等奖",{"$f":"RIGHT(LEFT(VLOOKUP(B411,'[1]002'!B:M,3,0),7),3)","v":"中山市"},{"$f":"VLOOKUP(B411,'[1]002'!B:M,7,0)","v":"郭骏涛"},{"$f":"VLOOKUP(B411,'[1]002'!B:M,8,0)","v":"中山市小榄镇永康小学"},{"$f":"VLOOKUP(B411,'[1]002'!B:M,11,0)","v":"-"},{"$f":"VLOOKUP(B411,'[1]002'!B:M,12,0)","v":"-"}]
[410,"P306119088910","Unit3 My Week绘本阅读","小学组","新媒体新技术教学应用课例","二等奖",{"$f":"RIGHT(LEFT(VLOOKUP(B412,'[1]002'!B:M,3,0),7),3)","v":"中山市"},{"$f":"VLOOKUP(B412,'[1]002'!B:M,7,0)","v":"陈剑辉"},{"$f":"VLOOKUP(B412,'[1]002'!B:M,8,0)","v":"中山市石岐杨仙逸小学"},{"$f":"VLOOKUP(B412,'[1]002'!B:M,11,0)","v":"-"},{"$f":"VLOOKUP(B412,'[1]002'!B:M,12,0)","v":"-"}]
[411,"P306119090367","Unit 5 School Lunch","小学组","新媒体新技术教学应用课例","二等奖",{"$f":"RIGHT(LEFT(VLOOKUP(B413,'[1]002'!B:M,3,0),7),3)","v":"中山市"},{"$f":"VLOOKUP(B413,'[1]002'!B:M,7,0)","v":"徐永发"},{"$f":"VLOOKUP(B413,'[1]002'!B:M,8,0)","v":"中山市东凤镇中心小学"},{"$f":"VLOOKUP(B413,'[1]002'!B:M,11,0)","v":"-"},{"$f":"VLOOKUP(B413,'[1]002'!B:M,12,0)","v":"-"}]
[412,"P306119088246","Unit 5 My Favorite Activities","小学组","新媒体新技术教学应用课例","二等奖",{"$f":"RIGHT(LEFT(VLOOKUP(B414,'[1]002'!B:M,3,0),7),3)","v":"中山市"},{"$f":"VLOOKUP(B414,'[1]002'!B:M,7,0)","v":"甘小梅"},{"$f":"VLOOKUP(B414,'[1]002'!B:M,8,0)","v":"中山市小榄镇九洲基小学"},{"$f":"VLOOKUP(B414,'[1]002'!B:M,11,0)","v":"-"},{"$f":"VLOOKUP(B414,'[1]002'!B:M,12,0)","v":"-"}]
[413,"P306119089939","植树问题","小学组","新媒体新技术教学应用课例","二等奖",{"$f":"RIGHT(LEFT(VLOOKUP(B415,'[1]002'!B:M,3,0),7),3)","v":"中山市"},{"$f":"VLOOKUP(B415,'[1]002'!B:M,7,0)","v":"梁樱珠"},{"$f":"VLOOKUP(B415,'[1]002'!B:M,8,0)","v":"中山市实验小学"},{"$f":"VLOOKUP(B415,'[1]002'!B:M,11,0)","v":"-"},{"$f":"VLOOKUP(B415,'[1]002'!B:M,12,0)","v":"-"}]
[414,"P306119085493","三年级数学广角搭配","小学组","新媒体新技术教学应用课例","二等奖",{"$f":"RIGHT(LEFT(VLOOKUP(B416,'[1]002'!B:M,3,0),7),3)","v":"中山市"},{"$f":"VLOOKUP(B416,'[1]002'!B:M,7,0)","v":"简卓敏"},{"$f":"VLOOKUP(B416,'[1]002'!B:M,8,0)","v":"中山市实验小学"},{"$f":"VLOOKUP(B416,'[1]002'!B:M,11,0)","v":"-"},{"$f":"VLOOKUP(B416,'[1]002'!B:M,12,0)","v":"-"}]
[415,"P306119088499","20、肥皂泡","小学组","新媒体新技术教学应用课例","二等奖",{"$f":"RIGHT(LEFT(VLOOKUP(B417,'[1]002'!B:M,3,0),7),3)","v":"中山市"},{"$f":"VLOOKUP(B417,'[1]002'!B:M,7,0)","v":"周敏"},{"$f":"VLOOKUP(B417,'[1]002'!B:M,8,0)","v":"中山市西区铁城小学"},{"$f":"VLOOKUP(B417,'[1]002'!B:M,11,0)","v":"侯洁"},{"$f":"VLOOKUP(B417,'[1]002'!B:M,12,0)","v":"中山市西区铁城小学"}]
[416,"P306119089390","Unit 2 Months","小学组","新媒体新技术教学应用课例","二等奖",{"$f":"RIGHT(LEFT(VLOOKUP(B418,'[1]002'!B:M,3,0),7),3)","v":"中山市"},{"$f":"VLOOKUP(B418,'[1]002'!B:M,7,0)","v":"江露婵"},{"$f":"VLOOKUP(B418,'[1]002'!B:M,8,0)","v":"中山火炬高技术产业开发区香晖园小学"},{"$f":"VLOOKUP(B418,'[1]002'!B:M,11,0)","v":"翟伟钰"},{"$f":"VLOOKUP(B418,'[1]002'!B:M,12,0)","v":"中山火炬高技术产业开发区香晖园小学"}]
[417,"P306119088296","奇思妙想","小学组","新媒体新技术教学应用课例","二等奖",{"$f":"RIGHT(LEFT(VLOOKUP(B419,'[1]002'!B:M,3,0),7),3)","v":"中山市"},{"$f":"VLOOKUP(B419,'[1]002'!B:M,7,0)","v":"陈翠芬"},{"$f":"VLOOKUP(B419,'[1]002'!B:M,8,0)","v":"中山市沙溪镇濠涌小学"},{"$f":"VLOOKUP(B419,'[1]002'!B:M,11,0)","v":"-"},{"$f":"VLOOKUP(B419,'[1]002'!B:M,12,0)","v":"-"}]
[418,"P306119091785","Unit5 My Body","小学组","新媒体新技术教学应用课例","二等奖",{"$f":"RIGHT(LEFT(VLOOKUP(B420,'[1]002'!B:M,3,0),7),3)","v":"江门市"},{"$f":"VLOOKUP(B420,'[1]002'!B:M,7,0)","v":"蓝曼菊"},{"$f":"VLOOKUP(B420,'[1]002'!B:M,8,0)","v":"江门市紫茶小学"},{"$f":"VLOOKUP(B420,'[1]002'!B:M,11,0)","v":"-"},{"$f":"VLOOKUP(B420,'[1]002'!B:M,12,0)","v":"-"}]
[419,"P306119092064","植树问题","小学组","新媒体新技术教学应用课例","二等奖",{"$f":"RIGHT(LEFT(VLOOKUP(B421,'[1]002'!B:M,3,0),7),3)","v":"江门市"},{"$f":"VLOOKUP(B421,'[1]002'!B:M,7,0)","v":"李文静"},{"$f":"VLOOKUP(B421,'[1]002'!B:M,8,0)","v":"鹤山市沙坪街道第三小学"},{"$f":"VLOOKUP(B421,'[1]002'!B:M,11,0)","v":"-"},{"$f":"VLOOKUP(B421,'[1]002'!B:M,12,0)","v":"-"}]
[420,"P306119091840","Helping at Home","小学组","新媒体新技术教学应用课例","二等奖",{"$f":"RIGHT(LEFT(VLOOKUP(B422,'[1]002'!B:M,3,0),7),3)","v":"江门市"},{"$f":"VLOOKUP(B422,'[1]002'!B:M,7,0)","v":"黄雪颖"},{"$f":"VLOOKUP(B422,'[1]002'!B:M,8,0)","v":"外海银泉小学"},{"$f":"VLOOKUP(B422,'[1]002'!B:M,11,0)","v":"-"},{"$f":"VLOOKUP(B422,'[1]002'!B:M,12,0)","v":"-"}]
[421,"P306119091783","年月日","小学组","新媒体新技术教学应用课例","二等奖",{"$f":"RIGHT(LEFT(VLOOKUP(B423,'[1]002'!B:M,3,0),7),3)","v":"江门市"},{"$f":"VLOOKUP(B423,'[1]002'!B:M,7,0)","v":"林凤娇"},{"$f":"VLOOKUP(B423,'[1]002'!B:M,8,0)","v":"江门市农林小学"},{"$f":"VLOOKUP(B423,'[1]002'!B:M,11,0)","v":"-"},{"$f":"VLOOKUP(B423,'[1]002'!B:M,12,0)","v":"-"}]
[422,"P306119091786","风娃娃","小学组","新媒体新技术教学应用课例","二等奖",{"$f":"RIGHT(LEFT(VLOOKUP(B424,'[1]002'!B:M,3,0),7),3)","v":"江门市"},{"$f":"VLOOKUP(B424,'[1]002'!B:M,7,0)","v":"林坤"},{"$f":"VLOOKUP(B424,'[1]002'!B:M,8,0)","v":"江门市蓬江区发展小学"},{"$f":"VLOOKUP(B424,'[1]002'!B:M,11,0)","v":"-"},{"$f":"VLOOKUP(B424,'[1]002'!B:M,12,0)","v":"-"}]
[423,"P306119091359","心理活动描写","小学组","新媒体新技术教学应用课例","二等奖",{"$f":"RIGHT(LEFT(VLOOKUP(B425,'[1]002'!B:M,3,0),7),3)","v":"茂名市"},{"$f":"VLOOKUP(B425,'[1]002'!B:M,7,0)","v":"徐永清"},{"$f":"VLOOKUP(B425,'[1]002'!B:M,8,0)","v":"茂名市双山小学"},{"$f":"VLOOKUP(B425,'[1]002'!B:M,11,0)","v":"-"},{"$f":"VLOOKUP(B425,'[1]002'!B:M,12,0)","v":"-"}]
[424,"P306119090272","PEP六上英语第二单元第五课时","小学组","新媒体新技术教学应用课例","二等奖",{"$f":"RIGHT(LEFT(VLOOKUP(B426,'[1]002'!B:M,3,0),7),3)","v":"肇庆市"},{"$f":"VLOOKUP(B426,'[1]002'!B:M,7,0)","v":"何雅裕"},{"$f":"VLOOKUP(B426,'[1]002'!B:M,8,0)","v":"德庆县德城镇第一小学"},{"$f":"VLOOKUP(B426,'[1]002'!B:M,11,0)","v":"徐金梅"},{"$f":"VLOOKUP(B426,'[1]002'!B:M,12,0)","v":"德庆县德城镇第一小学"}]
[425,"P306119086389","观察物体","小学组","新媒体新技术教学应用课例","二等奖",{"$f":"RIGHT(LEFT(VLOOKUP(B427,'[1]002'!B:M,3,0),7),3)","v":"云浮市"},{"$f":"VLOOKUP(B427,'[1]002'!B:M,7,0)","v":"盘水杰"},{"$f":"VLOOKUP(B427,'[1]002'!B:M,8,0)","v":"新兴县惠能小学"},{"$f":"VLOOKUP(B427,'[1]002'!B:M,11,0)","v":"-"},{"$f":"VLOOKUP(B427,'[1]002'!B:M,12,0)","v":"-"}]
[426,"P303119093106","Module5Unit10Thenandnow","小学组","课件","三等奖","广州市",{"$f":"VLOOKUP(B428,'[1]002'!B:M,7,0)","v":"汤李欣"},{"$f":"VLOOKUP(B428,'[1]002'!B:M,8,0)","v":"广州市天河区石牌小学"},{"$f":"VLOOKUP(B428,'[1]002'!B:M,11,0)","v":"-"},{"$f":"VLOOKUP(B428,'[1]002'!B:M,12,0)","v":"-"}]
[427,"P303119093087","Module4Travel","小学组","课件","三等奖","广州市",{"$f":"VLOOKUP(B429,'[1]002'!B:M,7,0)","v":"巫露英"},{"$f":"VLOOKUP(B429,'[1]002'!B:M,8,0)","v":"广州市海珠区晓港湾小学"},{"$f":"VLOOKUP(B429,'[1]002'!B:M,11,0)","v":"-"},{"$f":"VLOOKUP(B429,'[1]002'!B:M,12,0)","v":"-"}]
[428,"P303119093097","给动物分类","小学组","课件","三等奖","广州市",{"$f":"VLOOKUP(B430,'[1]002'!B:M,7,0)","v":"潘利莉"},{"$f":"VLOOKUP(B430,'[1]002'!B:M,8,0)","v":"广州市天河区沐陂小学"},{"$f":"VLOOKUP(B430,'[1]002'!B:M,11,0)","v":"-"},{"$f":"VLOOKUP(B430,'[1]002'!B:M,12,0)","v":"-"}]
[429,"P303119093109","龟兔赛跑课件","小学组","课件","三等奖","广州市",{"$f":"VLOOKUP(B431,'[1]002'!B:M,7,0)","v":"陈婉"},{"$f":"VLOOKUP(B431,'[1]002'!B:M,8,0)","v":"广州市白云区太和第二小学"},{"$f":"VLOOKUP(B431,'[1]002'!B:M,11,0)","v":"-"},{"$f":"VLOOKUP(B431,'[1]002'!B:M,12,0)","v":"-"}]
[430,"P303119093110","守株待兔","小学组","课件","三等奖","广州市",{"$f":"VLOOKUP(B432,'[1]002'!B:M,7,0)","v":"欧阳汝林"},{"$f":"VLOOKUP(B432,'[1]002'!B:M,8,0)","v":"广州市天河区羊城花园小学"},{"$f":"VLOOKUP(B432,'[1]002'!B:M,11,0)","v":"-"},{"$f":"VLOOKUP(B432,'[1]002'!B:M,12,0)","v":"-"}]
[431,"P303119093099","计算机能手-数据的计算","小学组","课件","三等奖","广州市",{"$f":"VLOOKUP(B433,'[1]002'!B:M,7,0)","v":"朱琦亮"},{"$f":"VLOOKUP(B433,'[1]002'!B:M,8,0)","v":"广州市番禺区沙湾镇兴贤小学"},{"$f":"VLOOKUP(B433,'[1]002'!B:M,11,0)","v":"-"},{"$f":"VLOOKUP(B433,'[1]002'!B:M,12,0)","v":"-"}]
[432,"P303119093264","羽毛球运动","小学组","课件","三等奖","广州市",{"$f":"VLOOKUP(B434,'[1]002'!B:M,7,0)","v":"庞柱德"},{"$f":"VLOOKUP(B434,'[1]002'!B:M,8,0)","v":"广州市海珠区宝玉直实验小学"},{"$f":"VLOOKUP(B434,'[1]002'!B:M,11,0)","v":"胡睿华"},{"$f":"VLOOKUP(B434,'[1]002'!B:M,12,0)","v":"广州市海珠区教育发展中心"}]
[433,"P303119093104","中国传统节日文化之访谈法","小学组","课件","三等奖","广州市",{"$f":"VLOOKUP(B435,'[1]002'!B:M,7,0)","v":"张楚琼"},{"$f":"VLOOKUP(B435,'[1]002'!B:M,8,0)","v":"广州市增城区天恩双语学校"},{"$f":"VLOOKUP(B435,'[1]002'!B:M,11,0)","v":"-"},{"$f":"VLOOKUP(B435,'[1]002'!B:M,12,0)","v":"-"}]
[434,"P303119093103","现代城市的地下通道","小学组","课件","三等奖","广州市",{"$f":"VLOOKUP(B436,'[1]002'!B:M,7,0)","v":"颜漪"},{"$f":"VLOOKUP(B436,'[1]002'!B:M,8,0)","v":"广州市天河区吉山小学"},{"$f":"VLOOKUP(B436,'[1]002'!B:M,11,0)","v":"-"},{"$f":"VLOOKUP(B436,'[1]002'!B:M,12,0)","v":"-"}]
[435,"P303119093101","白鹅","小学组","课件","三等奖","广州市",{"$f":"VLOOKUP(B437,'[1]002'!B:M,7,0)","v":"陈艳钗"},{"$f":"VLOOKUP(B437,'[1]002'!B:M,8,0)","v":"广州市番禺区沙湾镇红基学校"},{"$f":"VLOOKUP(B437,'[1]002'!B:M,11,0)","v":"-"},{"$f":"VLOOKUP(B437,'[1]002'!B:M,12,0)","v":"-"}]
[436,"P303119092641","6AM4U12 The Earth","小学组","课件","三等奖","深圳市",{"$f":"VLOOKUP(B438,'[1]002'!B:M,7,0)","v":"温佳敏"},{"$f":"VLOOKUP(B438,'[1]002'!B:M,8,0)","v":"深圳市光明区下村小学"},{"$f":"VLOOKUP(B438,'[1]002'!B:M,11,0)","v":"-"},{"$f":"VLOOKUP(B438,'[1]002'!B:M,12,0)","v":"-"}]
[437,"P303119092647","图形的运动（一）","小学组","课件","三等奖","深圳市",{"$f":"VLOOKUP(B439,'[1]002'!B:M,7,0)","v":"陈琳"},{"$f":"VLOOKUP(B439,'[1]002'!B:M,8,0)","v":"深圳市盐田区盐港小学"},{"$f":"VLOOKUP(B439,'[1]002'!B:M,11,0)","v":"-"},{"$f":"VLOOKUP(B439,'[1]002'!B:M,12,0)","v":"-"}]
[438,"P303119092638","U 11 Festivals","小学组","课件","三等奖","深圳市",{"$f":"VLOOKUP(B440,'[1]002'!B:M,7,0)","v":"陈惠娇"},{"$f":"VLOOKUP(B440,'[1]002'!B:M,8,0)","v":"龙岗区科技城外国语学校"},{"$f":"VLOOKUP(B440,'[1]002'!B:M,11,0)","v":"-"},{"$f":"VLOOKUP(B440,'[1]002'!B:M,12,0)","v":"-"}]
[439,"P303119092650","有趣的折叠","小学组","课件","三等奖","深圳市",{"$f":"VLOOKUP(B441,'[1]002'!B:M,7,0)","v":"陈尧"},{"$f":"VLOOKUP(B441,'[1]002'!B:M,8,0)","v":"龙城街道龙西小学"},{"$f":"VLOOKUP(B441,'[1]002'!B:M,11,0)","v":"-"},{"$f":"VLOOKUP(B441,'[1]002'!B:M,12,0)","v":"-"}]
[440,"P303119092648","趣学小篮球规则","小学组","课件","三等奖","深圳市",{"$f":"VLOOKUP(B442,'[1]002'!B:M,7,0)","v":"卫荣健"},{"$f":"VLOOKUP(B442,'[1]002'!B:M,8,0)","v":"深圳市盐田区外国语小学东和分校"},{"$f":"VLOOKUP(B442,'[1]002'!B:M,11,0)","v":"-"},{"$f":"VLOOKUP(B442,'[1]002'!B:M,12,0)","v":"-"}]
[441,"P303119092651","编码","小学组","课件","三等奖","深圳市",{"$f":"VLOOKUP(B443,'[1]002'!B:M,7,0)","v":"陈纯子"},{"$f":"VLOOKUP(B443,'[1]002'!B:M,8,0)","v":"龙岗区布吉贤义外国语学校"},{"$f":"VLOOKUP(B443,'[1]002'!B:M,11,0)","v":"-"},{"$f":"VLOOKUP(B443,'[1]002'!B:M,12,0)","v":"-"}]
[442,"P303119092652","认识钟面","小学组","课件","三等奖","深圳市",{"$f":"VLOOKUP(B444,'[1]002'!B:M,7,0)","v":"林采露"},{"$f":"VLOOKUP(B444,'[1]002'!B:M,8,0)","v":"深圳市光明区楼村小学"},{"$f":"VLOOKUP(B444,'[1]002'!B:M,11,0)","v":"-"},{"$f":"VLOOKUP(B444,'[1]002'!B:M,12,0)","v":"-"}]
[443,"P303119092646","神秘的图腾柱","小学组","课件","三等奖","深圳市",{"$f":"VLOOKUP(B445,'[1]002'!B:M,7,0)","v":"刘圣灵"},"深圳市龙岗区平湖街道凤凰山小学",{"$f":"VLOOKUP(B445,'[1]002'!B:M,11,0)","v":"-"},{"$f":"VLOOKUP(B445,'[1]002'!B:M,12,0)","v":"-"}]
[444,"P303119092639","大雁","小学组","课件","三等奖","深圳市",{"$f":"VLOOKUP(B446,'[1]002'!B:M,7,0)","v":"赖薇伊"},{"$f":"VLOOKUP(B446,'[1]002'!B:M,8,0)","v":"深圳市南山区文理实验学校集团文理学校"},{"$f":"VLOOKUP(B446,'[1]002'!B:M,11,0)","v":"-"},{"$f":"VLOOKUP(B446,'[1]002'!B:M,12,0)","v":"-"}]
[445,"P303119092612","鸽巢问题","小学组","课件","三等奖","珠海市",{"$f":"VLOOKUP(B447,'[1]002'!B:M,7,0)","v":"郭林飞"},{"$f":"VLOOKUP(B447,'[1]002'!B:M,8,0)","v":"珠海市金湾区第一小学"},{"$f":"VLOOKUP(B447,'[1]002'!B:M,11,0)","v":"-"},{"$f":"VLOOKUP(B447,'[1]002'!B:M,12,0)","v":"-"}]
[446,"P303119091942","木瓜恰恰恰","小学组","课件","三等奖","汕头市",{"$f":"VLOOKUP(B448,'[1]002'!B:M,7,0)","v":"林伊媛"},{"$f":"VLOOKUP(B448,'[1]002'!B:M,8,0)","v":"汕头市大路小学"},{"$f":"VLOOKUP(B448,'[1]002'!B:M,11,0)","v":"-"},{"$f":"VLOOKUP(B448,'[1]002'!B:M,12,0)","v":"-"}]
[447,"P303119091955","让更多小灯泡亮起来","小学组","课件","三等奖","汕头市",{"$f":"VLOOKUP(B449,'[1]002'!B:M,7,0)","v":"李仰珊"},{"$f":"VLOOKUP(B449,'[1]002'!B:M,8,0)","v":"汕头市澄海汇璟实验小学"},{"$f":"VLOOKUP(B449,'[1]002'!B:M,11,0)","v":"-"},{"$f":"VLOOKUP(B449,'[1]002'!B:M,12,0)","v":"-"}]
[448,"P303119091950","列方程解决相遇问题","小学组","课件","三等奖","汕头市",{"$f":"VLOOKUP(B450,'[1]002'!B:M,7,0)","v":"吴雪暖"},{"$f":"VLOOKUP(B450,'[1]002'!B:M,8,0)","v":"汕头市澄海华侨小学"},{"$f":"VLOOKUP(B450,'[1]002'!B:M,11,0)","v":"-"},{"$f":"VLOOKUP(B450,'[1]002'!B:M,12,0)","v":"-"}]
[449,"P303119091932","与象共舞","小学组","课件","三等奖","汕头市",{"$f":"VLOOKUP(B451,'[1]002'!B:M,7,0)","v":"陈曦纯"},{"$f":"VLOOKUP(B451,'[1]002'!B:M,8,0)","v":"汕头市龙湖区下蓬中心小学"},{"$f":"VLOOKUP(B451,'[1]002'!B:M,11,0)","v":"-"},{"$f":"VLOOKUP(B451,'[1]002'!B:M,12,0)","v":"-"}]
[450,"P303119091953","长方体和正方体的表面积","小学组","课件","三等奖","汕头市",{"$f":"VLOOKUP(B452,'[1]002'!B:M,7,0)","v":"陈素和"},{"$f":"VLOOKUP(B452,'[1]002'!B:M,8,0)","v":"汕头市濠江区河东文华学校"},{"$f":"VLOOKUP(B452,'[1]002'!B:M,11,0)","v":"-"},{"$f":"VLOOKUP(B452,'[1]002'!B:M,12,0)","v":"-"}]
[451,"P303119091935","牧场之国","小学组","课件","三等奖","汕头市",{"$f":"VLOOKUP(B453,'[1]002'!B:M,7,0)","v":"黄文哲"},{"$f":"VLOOKUP(B453,'[1]002'!B:M,8,0)","v":"汕头市龙湖区周厝塭小学"},{"$f":"VLOOKUP(B453,'[1]002'!B:M,11,0)","v":"王璇"},{"$f":"VLOOKUP(B453,'[1]002'!B:M,12,0)","v":"汕头市龙湖区朝阳小学"}]
[452,"P303119091943","爱牙护齿保健康生命质量有保障","小学组","课件","三等奖","汕头市",{"$f":"VLOOKUP(B454,'[1]002'!B:M,7,0)","v":"黄瑜玲"},{"$f":"VLOOKUP(B454,'[1]002'!B:M,8,0)","v":"汕头市龙湖区万吉西小学"},{"$f":"VLOOKUP(B454,'[1]002'!B:M,11,0)","v":"-"},{"$f":"VLOOKUP(B454,'[1]002'!B:M,12,0)","v":"-"}]
[453,"P303119091946","图形的平移","小学组","课件","三等奖","汕头市",{"$f":"VLOOKUP(B455,'[1]002'!B:M,7,0)","v":"黄丹浩"},{"$f":"VLOOKUP(B455,'[1]002'!B:M,8,0)","v":"汕头市澄海坛头小学"},{"$f":"VLOOKUP(B455,'[1]002'!B:M,11,0)","v":"-"},{"$f":"VLOOKUP(B455,'[1]002'!B:M,12,0)","v":"-"}]
[454,"P303119091949","分数的意义","小学组","课件","三等奖","汕头市",{"$f":"VLOOKUP(B456,'[1]002'!B:M,7,0)","v":"李廷玉"},{"$f":"VLOOKUP(B456,'[1]002'!B:M,8,0)","v":"汕头市濠江区濠滨小学"},{"$f":"VLOOKUP(B456,'[1]002'!B:M,11,0)","v":"林文伟"},{"$f":"VLOOKUP(B456,'[1]002'!B:M,12,0)","v":"汕头市达濠第三中学"}]
[455,"P303119091939","可爱的童帽","小学组","课件","三等奖","汕头市",{"$f":"VLOOKUP(B457,'[1]002'!B:M,7,0)","v":"陈艺辉"},{"$f":"VLOOKUP(B457,'[1]002'!B:M,8,0)","v":"汕头市澄海下北小学"},{"$f":"VLOOKUP(B457,'[1]002'!B:M,11,0)","v":"-"},{"$f":"VLOOKUP(B457,'[1]002'!B:M,12,0)","v":"-"}]
[456,"P303119091957","Unit 5 Letters and sounds","小学组","课件","三等奖","汕头市",{"$f":"VLOOKUP(B458,'[1]002'!B:M,7,0)","v":"张真臻"},{"$f":"VLOOKUP(B458,'[1]002'!B:M,8,0)","v":"汕头市东厦小学"},{"$f":"VLOOKUP(B458,'[1]002'!B:M,11,0)","v":"-"},{"$f":"VLOOKUP(B458,'[1]002'!B:M,12,0)","v":"-"}]
[457,"P303119091936","分数的意义","小学组","课件","三等奖","汕头市",{"$f":"VLOOKUP(B459,'[1]002'!B:M,7,0)","v":"曾黛玟"},{"$f":"VLOOKUP(B459,'[1]002'!B:M,8,0)","v":"汕头市龙湖区丹霞小学"},{"$f":"VLOOKUP(B459,'[1]002'!B:M,11,0)","v":"-"},{"$f":"VLOOKUP(B459,'[1]002'!B:M,12,0)","v":"-"}]
[458,"P303119090870","253的倍数的特征","小学组","课件","三等奖","佛山市",{"$f":"VLOOKUP(B460,'[1]002'!B:M,7,0)","v":"吴永恒"},{"$f":"VLOOKUP(B460,'[1]002'!B:M,8,0)","v":"佛山市三水区西南街道中心小学"},{"$f":"VLOOKUP(B460,'[1]002'!B:M,11,0)","v":"-"},{"$f":"VLOOKUP(B460,'[1]002'!B:M,12,0)","v":"-"}]
[459,"P303119090816","通天云梯","小学组","课件","三等奖","佛山市",{"$f":"VLOOKUP(B461,'[1]002'!B:M,7,0)","v":"刘冬梅"},{"$f":"VLOOKUP(B461,'[1]002'!B:M,8,0)","v":"佛山市南海区桂城街道桂江第三小学"},{"$f":"VLOOKUP(B461,'[1]002'!B:M,11,0)","v":"-"},{"$f":"VLOOKUP(B461,'[1]002'!B:M,12,0)","v":"-"}]
[460,"P303119090790","PEPBook4Unit6ShoppingAtalk课件","小学组","课件","三等奖","佛山市",{"$f":"VLOOKUP(B462,'[1]002'!B:M,7,0)","v":"冯楚瑶"},{"$f":"VLOOKUP(B462,'[1]002'!B:M,8,0)","v":"佛山市高明区沧江中学附属小学"},{"$f":"VLOOKUP(B462,'[1]002'!B:M,11,0)","v":"-"},{"$f":"VLOOKUP(B462,'[1]002'!B:M,12,0)","v":"-"}]
[461,"P303119090782","我的日程表","小学组","课件","三等奖","佛山市",{"$f":"VLOOKUP(B463,'[1]002'!B:M,7,0)","v":"冯翠梅"},{"$f":"VLOOKUP(B463,'[1]002'!B:M,8,0)","v":"佛山市高明区荷城街道德信实验学校"},{"$f":"VLOOKUP(B463,'[1]002'!B:M,11,0)","v":"-"},{"$f":"VLOOKUP(B463,'[1]002'!B:M,12,0)","v":"-"}]
[462,"P303119090788","攀登英语阅读系列Thisismyfather","小学组","课件","三等奖","佛山市",{"$f":"VLOOKUP(B464,'[1]002'!B:M,7,0)","v":"谢美凤"},{"$f":"VLOOKUP(B464,'[1]002'!B:M,8,0)","v":"佛山市高明区沧江中学附属小学"},{"$f":"VLOOKUP(B464,'[1]002'!B:M,11,0)","v":"-"},{"$f":"VLOOKUP(B464,'[1]002'!B:M,12,0)","v":"-"}]
[463,"P303119090812","伯牙绝弦","小学组","课件","三等奖","佛山市",{"$f":"VLOOKUP(B465,'[1]002'!B:M,7,0)","v":"梁桂滨"},{"$f":"VLOOKUP(B465,'[1]002'!B:M,8,0)","v":"佛山市惠景小学"},{"$f":"VLOOKUP(B465,'[1]002'!B:M,11,0)","v":"-"},{"$f":"VLOOKUP(B465,'[1]002'!B:M,12,0)","v":"-"}]
[464,"P303119090803","Where_is_the_cap","小学组","课件","三等奖","佛山市",{"$f":"VLOOKUP(B466,'[1]002'!B:M,7,0)","v":"余文诗"},{"$f":"VLOOKUP(B466,'[1]002'!B:M,8,0)","v":"禅城区南庄镇中心小学"},{"$f":"VLOOKUP(B466,'[1]002'!B:M,11,0)","v":"谭瑞贞"},{"$f":"VLOOKUP(B466,'[1]002'!B:M,12,0)","v":"禅城区南庄镇中心小学"}]
[465,"P303119090837","吃西瓜","小学组","课件","三等奖","佛山市",{"$f":"VLOOKUP(B467,'[1]002'!B:M,7,0)","v":"刘上玲"},{"$f":"VLOOKUP(B467,'[1]002'!B:M,8,0)","v":"佛山市顺德区西山小学高新区学校"},{"$f":"VLOOKUP(B467,'[1]002'!B:M,11,0)","v":"郑宏彬"},{"$f":"VLOOKUP(B467,'[1]002'!B:M,12,0)","v":"佛山市顺德区北滘中心小学"}]
[466,"P303119090830","比一比","小学组","课件","三等奖","佛山市",{"$f":"VLOOKUP(B468,'[1]002'!B:M,7,0)","v":"叶镇恒"},{"$f":"VLOOKUP(B468,'[1]002'!B:M,8,0)","v":"佛山市顺德区逢沙小学"},{"$f":"VLOOKUP(B468,'[1]002'!B:M,11,0)","v":"-"},{"$f":"VLOOKUP(B468,'[1]002'!B:M,12,0)","v":"-"}]
[467,"P303119090815","神奇魔法摇号机巧用随机函数","小学组","课件","三等奖","佛山市",{"$f":"VLOOKUP(B469,'[1]002'!B:M,7,0)","v":"林冰冰"},{"$f":"VLOOKUP(B469,'[1]002'!B:M,8,0)","v":"佛山市南海区丹灶镇有为小学"},{"$f":"VLOOKUP(B469,'[1]002'!B:M,11,0)","v":"-"},{"$f":"VLOOKUP(B469,'[1]002'!B:M,12,0)","v":"-"}]
[468,"P303119090797","PEP Book7 Unit2 Ways to go to shcool A Talk","小学组","课件","三等奖","佛山市",{"$f":"VLOOKUP(B470,'[1]002'!B:M,7,0)","v":"陈嘉裕"},{"$f":"VLOOKUP(B470,'[1]002'!B:M,8,0)","v":"佛山市高明区沧江中学附属小学"},{"$f":"VLOOKUP(B470,'[1]002'!B:M,11,0)","v":"-"},{"$f":"VLOOKUP(B470,'[1]002'!B:M,12,0)","v":"-"}]
[469,"P303119090822","有趣的字母系列","小学组","课件","三等奖","佛山市",{"$f":"VLOOKUP(B471,'[1]002'!B:M,7,0)","v":"陈泽佳"},{"$f":"VLOOKUP(B471,'[1]002'!B:M,8,0)","v":"佛山市南海区大沥镇盐步中心小学"},{"$f":"VLOOKUP(B471,'[1]002'!B:M,11,0)","v":"-"},{"$f":"VLOOKUP(B471,'[1]002'!B:M,12,0)","v":"-"}]
[470,"P303119090789","自己的花是让别人看的","小学组","课件","三等奖","佛山市",{"$f":"VLOOKUP(B472,'[1]002'!B:M,7,0)","v":"杨美金"},{"$f":"VLOOKUP(B472,'[1]002'!B:M,8,0)","v":"佛山市高明区沧江中学附属小学"},{"$f":"VLOOKUP(B472,'[1]002'!B:M,11,0)","v":"-"},{"$f":"VLOOKUP(B472,'[1]002'!B:M,12,0)","v":"-"}]
[471,"P303119090853","铅笔有多长","小学组","课件","三等奖","佛山市",{"$f":"VLOOKUP(B473,'[1]002'!B:M,7,0)","v":"梁碧云"},{"$f":"VLOOKUP(B473,'[1]002'!B:M,8,0)","v":"佛山市顺德区昌教小学"},{"$f":"VLOOKUP(B473,'[1]002'!B:M,11,0)","v":"陈煜"},{"$f":"VLOOKUP(B473,'[1]002'!B:M,12,0)","v":"佛山市顺德区昌教小学"}]
[472,"P303119090820","纪昌学射","小学组","课件","三等奖","佛山市",{"$f":"VLOOKUP(B474,'[1]002'!B:M,7,0)","v":"王宇静"},{"$f":"VLOOKUP(B474,'[1]002'!B:M,8,0)","v":"佛山市南海区丹灶镇金沙小学"},{"$f":"VLOOKUP(B474,'[1]002'!B:M,11,0)","v":"-"},{"$f":"VLOOKUP(B474,'[1]002'!B:M,12,0)","v":"-"}]
[473,"P303119090865","动物儿歌","小学组","课件","三等奖","佛山市",{"$f":"VLOOKUP(B475,'[1]002'!B:M,7,0)","v":"刘萍"},{"$f":"VLOOKUP(B475,'[1]002'!B:M,8,0)","v":"佛山市三水区西南街道北江小学"},{"$f":"VLOOKUP(B475,'[1]002'!B:M,11,0)","v":"-"},{"$f":"VLOOKUP(B475,'[1]002'!B:M,12,0)","v":"-"}]
[474,"P303119090867","最想对妈妈说的话","小学组","课件","三等奖","佛山市",{"$f":"VLOOKUP(B476,'[1]002'!B:M,7,0)","v":"林小颜"},{"$f":"VLOOKUP(B476,'[1]002'!B:M,8,0)","v":"佛山市三水区白坭镇中心小学"},{"$f":"VLOOKUP(B476,'[1]002'!B:M,11,0)","v":"-"},{"$f":"VLOOKUP(B476,'[1]002'!B:M,12,0)","v":"-"}]
[475,"P303119090805","鸡兔同笼课件","小学组","课件","三等奖","佛山市",{"$f":"VLOOKUP(B477,'[1]002'!B:M,7,0)","v":"何俊江"},{"$f":"VLOOKUP(B477,'[1]002'!B:M,8,0)","v":"佛山市惠景小学"},{"$f":"VLOOKUP(B477,'[1]002'!B:M,11,0)","v":"-"},{"$f":"VLOOKUP(B477,'[1]002'!B:M,12,0)","v":"-"}]
[476,"P303119090825","认识人民币","小学组","课件","三等奖","佛山市",{"$f":"VLOOKUP(B478,'[1]002'!B:M,7,0)","v":"罗洁婷"},{"$f":"VLOOKUP(B478,'[1]002'!B:M,8,0)","v":"禅城区澜石小学"},{"$f":"VLOOKUP(B478,'[1]002'!B:M,11,0)","v":"-"},{"$f":"VLOOKUP(B478,'[1]002'!B:M,12,0)","v":"-"}]
[477,"P303119090810","彝家娃娃真幸福","小学组","课件","三等奖","佛山市",{"$f":"VLOOKUP(B479,'[1]002'!B:M,7,0)","v":"谢利婷"},{"$f":"VLOOKUP(B479,'[1]002'!B:M,8,0)","v":"禅城区南庄镇中心小学"},{"$f":"VLOOKUP(B479,'[1]002'!B:M,11,0)","v":"-"},{"$f":"VLOOKUP(B479,'[1]002'!B:M,12,0)","v":"-"}]
[478,"P303119090823","采菱","小学组","课件","三等奖","佛山市",{"$f":"VLOOKUP(B480,'[1]002'!B:M,7,0)","v":"李俊"},{"$f":"VLOOKUP(B480,'[1]002'!B:M,8,0)","v":"佛山市城南小学"},{"$f":"VLOOKUP(B480,'[1]002'!B:M,11,0)","v":"-"},{"$f":"VLOOKUP(B480,'[1]002'!B:M,12,0)","v":"-"}]
[479,"P303119090806","Unit3Plansforfestivals","小学组","课件","三等奖","佛山市",{"$f":"VLOOKUP(B481,'[1]002'!B:M,7,0)","v":"张婵贞"},{"$f":"VLOOKUP(B481,'[1]002'!B:M,8,0)","v":"佛山市禅城区南庄镇吉利小学"},{"$f":"VLOOKUP(B481,'[1]002'!B:M,11,0)","v":"-"},{"$f":"VLOOKUP(B481,'[1]002'!B:M,12,0)","v":"-"}]
[480,"P303119090818","第8课创意水杯","小学组","课件","三等奖","佛山市",{"$f":"VLOOKUP(B482,'[1]002'!B:M,7,0)","v":"向庆媚"},{"$f":"VLOOKUP(B482,'[1]002'!B:M,8,0)","v":"佛山市南海区丹灶镇金沙小学"},{"$f":"VLOOKUP(B482,'[1]002'!B:M,11,0)","v":"-"},{"$f":"VLOOKUP(B482,'[1]002'!B:M,12,0)","v":"-"}]
[481,"P303119090871","复式折线统计图","小学组","课件","三等奖","佛山市",{"$f":"VLOOKUP(B483,'[1]002'!B:M,7,0)","v":"王杰"},{"$f":"VLOOKUP(B483,'[1]002'!B:M,8,0)","v":"佛山市三水区西南街道中心小学"},{"$f":"VLOOKUP(B483,'[1]002'!B:M,11,0)","v":"-"},{"$f":"VLOOKUP(B483,'[1]002'!B:M,12,0)","v":"-"}]
[482,"P303119090850","圆柱的表面积","小学组","课件","三等奖","佛山市",{"$f":"VLOOKUP(B484,'[1]002'!B:M,7,0)","v":"骆丽丽"},{"$f":"VLOOKUP(B484,'[1]002'!B:M,8,0)","v":"佛山市顺德区均安顺峰小学"},{"$f":"VLOOKUP(B484,'[1]002'!B:M,11,0)","v":"-"},{"$f":"VLOOKUP(B484,'[1]002'!B:M,12,0)","v":"-"}]
[483,"P303119090869","用789的乘法口诀求商","小学组","课件","三等奖","佛山市",{"$f":"VLOOKUP(B485,'[1]002'!B:M,7,0)","v":"孙小冰"},{"$f":"VLOOKUP(B485,'[1]002'!B:M,8,0)","v":"佛山市三水区西南街道北江小学"},{"$f":"VLOOKUP(B485,'[1]002'!B:M,11,0)","v":"-"},{"$f":"VLOOKUP(B485,'[1]002'!B:M,12,0)","v":"-"}]
[484,"P303119090778","共植诚信树","小学组","课件","三等奖","佛山市",{"$f":"VLOOKUP(B486,'[1]002'!B:M,7,0)","v":"严翠芳"},{"$f":"VLOOKUP(B486,'[1]002'!B:M,8,0)","v":"佛山市高明区杨和镇中心小学"},{"$f":"VLOOKUP(B486,'[1]002'!B:M,11,0)","v":"-"},{"$f":"VLOOKUP(B486,'[1]002'!B:M,12,0)","v":"-"}]
[485,"P303119090817","剪纸故事活动2","小学组","课件","三等奖","佛山市",{"$f":"VLOOKUP(B487,'[1]002'!B:M,7,0)","v":"孙志凌"},{"$f":"VLOOKUP(B487,'[1]002'!B:M,8,0)","v":"佛山市南海区丹灶镇金沙小学"},{"$f":"VLOOKUP(B487,'[1]002'!B:M,11,0)","v":"-"},{"$f":"VLOOKUP(B487,'[1]002'!B:M,12,0)","v":"-"}]
[486,"P303119090791","PEP人教版三年级下册第四单元语音课","小学组","课件","三等奖","佛山市",{"$f":"VLOOKUP(B488,'[1]002'!B:M,7,0)","v":"柯逸梦"},{"$f":"VLOOKUP(B488,'[1]002'!B:M,8,0)","v":"佛山市高明区沧江中学附属小学"},{"$f":"VLOOKUP(B488,'[1]002'!B:M,11,0)","v":"-"},{"$f":"VLOOKUP(B488,'[1]002'!B:M,12,0)","v":"-"}]
[487,"P303119090800","画出立体感空间感","小学组","课件","三等奖","佛山市",{"$f":"VLOOKUP(B489,'[1]002'!B:M,7,0)","v":"何姗文"},{"$f":"VLOOKUP(B489,'[1]002'!B:M,8,0)","v":"佛山市高明区明城镇明城小学"},{"$f":"VLOOKUP(B489,'[1]002'!B:M,11,0)","v":"-"},{"$f":"VLOOKUP(B489,'[1]002'!B:M,12,0)","v":"-"}]
[488,"P303119090809","Weather","小学组","课件","三等奖","佛山市",{"$f":"VLOOKUP(B490,'[1]002'!B:M,7,0)","v":"黄玲玲"},{"$f":"VLOOKUP(B490,'[1]002'!B:M,8,0)","v":"禅城区南庄镇中心小学"},{"$f":"VLOOKUP(B490,'[1]002'!B:M,11,0)","v":"-"},{"$f":"VLOOKUP(B490,'[1]002'!B:M,12,0)","v":"-"}]
[489,"P303119090821","Unit5DoyoulikepearsBtalk","小学组","课件","三等奖","佛山市",{"$f":"VLOOKUP(B491,'[1]002'!B:M,7,0)","v":"李健敏"},{"$f":"VLOOKUP(B491,'[1]002'!B:M,8,0)","v":"佛山市南海区大沥镇盐步中心小学"},{"$f":"VLOOKUP(B491,'[1]002'!B:M,11,0)","v":"-"},{"$f":"VLOOKUP(B491,'[1]002'!B:M,12,0)","v":"-"}]
[490,"P303119090866","人教版英语三年级下册Unit5Storytime","小学组","课件","三等奖","佛山市",{"$f":"VLOOKUP(B492,'[1]002'!B:M,7,0)","v":"陈梦霞"},{"$f":"VLOOKUP(B492,'[1]002'!B:M,8,0)","v":"佛山市三水区西南中学"},{"$f":"VLOOKUP(B492,'[1]002'!B:M,11,0)","v":"-"},{"$f":"VLOOKUP(B492,'[1]002'!B:M,12,0)","v":"-"}]
[491,"P303119087936","送元二使安西","小学组","课件","三等奖","韶关市",{"$f":"VLOOKUP(B493,'[1]002'!B:M,7,0)","v":"张秀早"},{"$f":"VLOOKUP(B493,'[1]002'!B:M,8,0)","v":"翁源县龙仙第三小学"},{"$f":"VLOOKUP(B493,'[1]002'!B:M,11,0)","v":"谢春燕"},{"$f":"VLOOKUP(B493,'[1]002'!B:M,12,0)","v":"翁源县龙仙第三小学"}]
[492,"P303119088445","整理与复习--圆","小学组","课件","三等奖","韶关市",{"$f":"VLOOKUP(B494,'[1]002'!B:M,7,0)","v":"杨春燕"},{"$f":"VLOOKUP(B494,'[1]002'!B:M,8,0)","v":"始兴县马市镇中心小学"},{"$f":"VLOOKUP(B494,'[1]002'!B:M,11,0)","v":"-"},{"$f":"VLOOKUP(B494,'[1]002'!B:M,12,0)","v":"-"}]
[493,"P303119088075","乒乓球入门教程","小学组","课件","三等奖","韶关市",{"$f":"VLOOKUP(B495,'[1]002'!B:M,7,0)","v":"梁欢欢"},{"$f":"VLOOKUP(B495,'[1]002'!B:M,8,0)","v":"翁源县新江镇中心小学"},{"$f":"VLOOKUP(B495,'[1]002'!B:M,11,0)","v":"-"},{"$f":"VLOOKUP(B495,'[1]002'!B:M,12,0)","v":"-"}]
[494,"P303119088050","神奇的变化","小学组","课件","三等奖","韶关市",{"$f":"VLOOKUP(B496,'[1]002'!B:M,7,0)","v":"赖娉"},{"$f":"VLOOKUP(B496,'[1]002'!B:M,8,0)","v":"韶关市武江区黄田坝小学"},{"$f":"VLOOKUP(B496,'[1]002'!B:M,11,0)","v":"-"},{"$f":"VLOOKUP(B496,'[1]002'!B:M,12,0)","v":"-"}]
[495,"P303119089726","花的世界","小学组","课件","三等奖","韶关市",{"$f":"VLOOKUP(B497,'[1]002'!B:M,7,0)","v":"侯欢"},{"$f":"VLOOKUP(B497,'[1]002'!B:M,8,0)","v":"韶关市曲江区九龄小学"},{"$f":"VLOOKUP(B497,'[1]002'!B:M,11,0)","v":"-"},{"$f":"VLOOKUP(B497,'[1]002'!B:M,12,0)","v":"-"}]
[496,"P303119093458","Unit2Colours","小学组","课件","三等奖","河源市",{"$f":"VLOOKUP(B498,'[1]002'!B:M,7,0)","v":"戴利云"},{"$f":"VLOOKUP(B498,'[1]002'!B:M,8,0)","v":"河源市源城区下城小学"},{"$f":"VLOOKUP(B498,'[1]002'!B:M,11,0)","v":"-"},{"$f":"VLOOKUP(B498,'[1]002'!B:M,12,0)","v":"-"}]
[497,"P303119093447","全等三角形","小学组","课件","三等奖","河源市",{"$f":"VLOOKUP(B499,'[1]002'!B:M,7,0)","v":"叶茂勇"},{"$f":"VLOOKUP(B499,'[1]002'!B:M,8,0)","v":"河源市第三小学"},{"$f":"VLOOKUP(B499,'[1]002'!B:M,11,0)","v":"-"},{"$f":"VLOOKUP(B499,'[1]002'!B:M,12,0)","v":"-"}]
[498,"P303119093444","Myschoolbag","小学组","课件","三等奖","河源市",{"$f":"VLOOKUP(B500,'[1]002'!B:M,7,0)","v":"林妍"},{"$f":"VLOOKUP(B500,'[1]002'!B:M,8,0)","v":"河源市源城区黄子洞小学"},{"$f":"VLOOKUP(B500,'[1]002'!B:M,11,0)","v":"-"},{"$f":"VLOOKUP(B500,'[1]002'!B:M,12,0)","v":"-"}]
[499,"P303119093448","Pep人教版三年级上册Recycle2Readaloud","小学组","课件","三等奖","河源市",{"$f":"VLOOKUP(B501,'[1]002'!B:M,7,0)","v":"杨丽"},{"$f":"VLOOKUP(B501,'[1]002'!B:M,8,0)","v":"东源县上莞镇常美小学"},{"$f":"VLOOKUP(B501,'[1]002'!B:M,11,0)","v":"-"},{"$f":"VLOOKUP(B501,'[1]002'!B:M,12,0)","v":"-"}]
[500,"P303119093457","教学课件","小学组","课件","三等奖","河源市",{"$f":"VLOOKUP(B502,'[1]002'!B:M,7,0)","v":"何淑蕾"},{"$f":"VLOOKUP(B502,'[1]002'!B:M,8,0)","v":"河源市源城区下城小学"},{"$f":"VLOOKUP(B502,'[1]002'!B:M,11,0)","v":"-"},{"$f":"VLOOKUP(B502,'[1]002'!B:M,12,0)","v":"-"}]
[501,"P303119093459","会话课","小学组","课件","三等奖","河源市",{"$f":"VLOOKUP(B503,'[1]002'!B:M,7,0)","v":"黎祝琴"},{"$f":"VLOOKUP(B503,'[1]002'!B:M,8,0)","v":"河源市源城区城东学校"},{"$f":"VLOOKUP(B503,'[1]002'!B:M,11,0)","v":"-"},{"$f":"VLOOKUP(B503,'[1]002'!B:M,12,0)","v":"-"}]
[502,"P303119093450","英语课件","小学组","课件","三等奖","河源市",{"$f":"VLOOKUP(B504,'[1]002'!B:M,7,0)","v":"朱婷婷"},{"$f":"VLOOKUP(B504,'[1]002'!B:M,8,0)","v":"东源县顺天镇中心小学"},{"$f":"VLOOKUP(B504,'[1]002'!B:M,11,0)","v":"-"},{"$f":"VLOOKUP(B504,'[1]002'!B:M,12,0)","v":"-"}]
[503,"P303119093462","Unit4_PartB_read_and_write","小学组","课件","三等奖","河源市",{"$f":"VLOOKUP(B505,'[1]002'!B:M,7,0)","v":"陈秀妮"},{"$f":"VLOOKUP(B505,'[1]002'!B:M,8,0)","v":"老隆镇第三小学"},{"$f":"VLOOKUP(B505,'[1]002'!B:M,11,0)","v":"-"},{"$f":"VLOOKUP(B505,'[1]002'!B:M,12,0)","v":"-"}]
[504,"P303119093437","PEP小学英语五年级上册U5读写课","小学组","课件","三等奖","河源市",{"$f":"VLOOKUP(B506,'[1]002'!B:M,7,0)","v":"古丽玲"},{"$f":"VLOOKUP(B506,'[1]002'!B:M,8,0)","v":"东源县崇文学校"},{"$f":"VLOOKUP(B506,'[1]002'!B:M,11,0)","v":"-"},{"$f":"VLOOKUP(B506,'[1]002'!B:M,12,0)","v":"-"}]
[505,"P303119093445","太空生活趣事多","小学组","课件","三等奖","河源市",{"$f":"VLOOKUP(B507,'[1]002'!B:M,7,0)","v":"顾梅花"},{"$f":"VLOOKUP(B507,'[1]002'!B:M,8,0)","v":"河源市源城区雅居乐小学"},{"$f":"VLOOKUP(B507,'[1]002'!B:M,11,0)","v":"-"},{"$f":"VLOOKUP(B507,'[1]002'!B:M,12,0)","v":"-"}]
[506,"P303119093456","Unit5Thereisabigbed","小学组","课件","三等奖","河源市",{"$f":"VLOOKUP(B508,'[1]002'!B:M,7,0)","v":"罗丽金"},{"$f":"VLOOKUP(B508,'[1]002'!B:M,8,0)","v":"河源市源城区下城小学"},{"$f":"VLOOKUP(B508,'[1]002'!B:M,11,0)","v":"-"},{"$f":"VLOOKUP(B508,'[1]002'!B:M,12,0)","v":"-"}]
[507,"P303119093439","圆的周长","小学组","课件","三等奖","河源市",{"$f":"VLOOKUP(B509,'[1]002'!B:M,7,0)","v":"钟丽珊"},{"$f":"VLOOKUP(B509,'[1]002'!B:M,8,0)","v":"东源县黄村镇中心小学"},{"$f":"VLOOKUP(B509,'[1]002'!B:M,11,0)","v":"-"},{"$f":"VLOOKUP(B509,'[1]002'!B:M,12,0)","v":"-"}]
[508,"P303119093443","PEP小学英语五年级下册Unit5WhosedogisitAlearn","小学组","课件","三等奖","河源市",{"$f":"VLOOKUP(B510,'[1]002'!B:M,7,0)","v":"曾耀芬"},{"$f":"VLOOKUP(B510,'[1]002'!B:M,8,0)","v":"河源市源城区下城小学"},{"$f":"VLOOKUP(B510,'[1]002'!B:M,11,0)","v":"-"},{"$f":"VLOOKUP(B510,'[1]002'!B:M,12,0)","v":"-"}]
[509,"P303119084306","减小液体的阻力的方法","小学组","课件","三等奖","梅州市",{"$f":"VLOOKUP(B511,'[1]002'!B:M,7,0)","v":"黄艳"},{"$f":"VLOOKUP(B511,'[1]002'!B:M,8,0)","v":"梅州市梅江区人民小学"},{"$f":"VLOOKUP(B511,'[1]002'!B:M,11,0)","v":"-"},{"$f":"VLOOKUP(B511,'[1]002'!B:M,12,0)","v":"-"}]
[510,"P303119081314","永生的眼睛","小学组","课件","三等奖","梅州市",{"$f":"VLOOKUP(B512,'[1]002'!B:M,7,0)","v":"林丹凤"},{"$f":"VLOOKUP(B512,'[1]002'!B:M,8,0)","v":"梅州市梅江区实验中学"},{"$f":"VLOOKUP(B512,'[1]002'!B:M,11,0)","v":"-"},{"$f":"VLOOKUP(B512,'[1]002'!B:M,12,0)","v":"-"}]
[511,"P303119087003","圆的面积计算公式的推导","小学组","课件","三等奖","梅州市",{"$f":"VLOOKUP(B513,'[1]002'!B:M,7,0)","v":"林群燕"},{"$f":"VLOOKUP(B513,'[1]002'!B:M,8,0)","v":"梅州市梅县区丽群小学"},{"$f":"VLOOKUP(B513,'[1]002'!B:M,11,0)","v":"-"},{"$f":"VLOOKUP(B513,'[1]002'!B:M,12,0)","v":"-"}]
[512,"P303119092136","威尼斯的小艇","小学组","课件","三等奖","惠州市",{"$f":"VLOOKUP(B514,'[1]002'!B:M,7,0)","v":"陈志伟"},{"$f":"VLOOKUP(B514,'[1]002'!B:M,8,0)","v":"惠州市惠阳区秋长中心小学"},{"$f":"VLOOKUP(B514,'[1]002'!B:M,11,0)","v":"陶远秋"},{"$f":"VLOOKUP(B514,'[1]002'!B:M,12,0)","v":"惠州市惠阳区秋长中心小学"}]
[513,"P303119092167","落花生","小学组","课件","三等奖","惠州市",{"$f":"VLOOKUP(B515,'[1]002'!B:M,7,0)","v":"杨春媚"},{"$f":"VLOOKUP(B515,'[1]002'!B:M,8,0)","v":"惠东县吉隆中心小学"},{"$f":"VLOOKUP(B515,'[1]002'!B:M,11,0)","v":"-"},{"$f":"VLOOKUP(B515,'[1]002'!B:M,12,0)","v":"-"}]
[514,"P303119092180","总也倒不了的老屋","小学组","课件","三等奖","惠州市",{"$f":"VLOOKUP(B516,'[1]002'!B:M,7,0)","v":"黄玉连"},{"$f":"VLOOKUP(B516,'[1]002'!B:M,8,0)","v":"惠东县实验小学"},{"$f":"VLOOKUP(B516,'[1]002'!B:M,11,0)","v":"-"},{"$f":"VLOOKUP(B516,'[1]002'!B:M,12,0)","v":"-"}]
[515,"P303119092343","面的旋转","小学组","课件","三等奖","惠州市",{"$f":"VLOOKUP(B517,'[1]002'!B:M,7,0)","v":"彭可可"},{"$f":"VLOOKUP(B517,'[1]002'!B:M,8,0)","v":"北师大珠海分校惠州附属学校"},{"$f":"VLOOKUP(B517,'[1]002'!B:M,11,0)","v":"陈妃霞"},{"$f":"VLOOKUP(B517,'[1]002'!B:M,12,0)","v":"北师大珠海分校惠州附属学校"}]
[516,"P303119092173","PEPBook2 Unit4 Where is my car?","小学组","课件","三等奖","惠州市",{"$f":"VLOOKUP(B518,'[1]002'!B:M,7,0)","v":"蔡素芬"},{"$f":"VLOOKUP(B518,'[1]002'!B:M,8,0)","v":"惠东县吉隆中心小学"},{"$f":"VLOOKUP(B518,'[1]002'!B:M,11,0)","v":"-"},{"$f":"VLOOKUP(B518,'[1]002'!B:M,12,0)","v":"-"}]
[517,"P303119092184","Unit 3 My friends","小学组","课件","三等奖","惠州市",{"$f":"VLOOKUP(B519,'[1]002'!B:M,7,0)","v":"邬健平"},{"$f":"VLOOKUP(B519,'[1]002'!B:M,8,0)","v":"惠东县平山第一小学"},{"$f":"VLOOKUP(B519,'[1]002'!B:M,11,0)","v":"胡雪琪"},{"$f":"VLOOKUP(B519,'[1]002'!B:M,12,0)","v":"惠东县平山第一小学"}]
[518,"P303119092134","彩色的非洲","小学组","课件","三等奖","惠州市",{"$f":"VLOOKUP(B520,'[1]002'!B:M,7,0)","v":"马婷婷"},{"$f":"VLOOKUP(B520,'[1]002'!B:M,8,0)","v":"惠州市惠阳区淡水第六小学"},{"$f":"VLOOKUP(B520,'[1]002'!B:M,11,0)","v":"张锦花"},{"$f":"VLOOKUP(B520,'[1]002'!B:M,12,0)","v":"惠州市惠阳区淡水第六小学"}]
[519,"P303119092170","学会观察","小学组","课件","三等奖","惠州市",{"$f":"VLOOKUP(B521,'[1]002'!B:M,7,0)","v":"欧瑞英"},{"$f":"VLOOKUP(B521,'[1]002'!B:M,8,0)","v":"惠东县吉隆中心小学"},{"$f":"VLOOKUP(B521,'[1]002'!B:M,11,0)","v":"-"},{"$f":"VLOOKUP(B521,'[1]002'!B:M,12,0)","v":"-"}]
[520,"P303119092169","Unit5 Let us eat A","小学组","课件","三等奖","惠州市",{"$f":"VLOOKUP(B522,'[1]002'!B:M,7,0)","v":"邬健平"},{"$f":"VLOOKUP(B522,'[1]002'!B:M,8,0)","v":"惠东县平山第一小学"},{"$f":"VLOOKUP(B522,'[1]002'!B:M,11,0)","v":"杜淑键"},{"$f":"VLOOKUP(B522,'[1]002'!B:M,12,0)","v":"惠东县平山第一小学"}]
[521,"P303119092168","童年趣事","小学组","课件","三等奖","惠州市",{"$f":"VLOOKUP(B523,'[1]002'!B:M,7,0)","v":"李伟实"},{"$f":"VLOOKUP(B523,'[1]002'!B:M,8,0)","v":"惠东县吉隆中心小学"},{"$f":"VLOOKUP(B523,'[1]002'!B:M,11,0)","v":"-"},{"$f":"VLOOKUP(B523,'[1]002'!B:M,12,0)","v":"-"}]
[522,"P303119092137","六年级下册unit3Alearn","小学组","课件","三等奖","惠州市",{"$f":"VLOOKUP(B524,'[1]002'!B:M,7,0)","v":"陈凌洁"},{"$f":"VLOOKUP(B524,'[1]002'!B:M,8,0)","v":"惠州市惠阳区淡水第六小学"},{"$f":"VLOOKUP(B524,'[1]002'!B:M,11,0)","v":"-"},{"$f":"VLOOKUP(B524,'[1]002'!B:M,12,0)","v":"-"}]
[523,"P303119092103","枫树上的喜鹊","小学组","课件","三等奖","惠州市",{"$f":"VLOOKUP(B525,'[1]002'!B:M,7,0)","v":"伍艳"},{"$f":"VLOOKUP(B525,'[1]002'!B:M,8,0)","v":"惠州仲恺高新区第三小学"},{"$f":"VLOOKUP(B525,'[1]002'!B:M,11,0)","v":"甘伟城"},{"$f":"VLOOKUP(B525,'[1]002'!B:M,12,0)","v":"惠州仲恺高新区第三小学"}]
[524,"P303119092140","Unit3WeatherALetslearn课件","小学组","课件","三等奖","惠州市",{"$f":"VLOOKUP(B526,'[1]002'!B:M,7,0)","v":"李燕华"},{"$f":"VLOOKUP(B526,'[1]002'!B:M,8,0)","v":"惠州市惠阳区淡水第六小学"},{"$f":"VLOOKUP(B526,'[1]002'!B:M,11,0)","v":"-"},{"$f":"VLOOKUP(B526,'[1]002'!B:M,12,0)","v":"-"}]
[525,"P303119092185","有趣的测量","小学组","课件","三等奖","惠州市",{"$f":"VLOOKUP(B527,'[1]002'!B:M,7,0)","v":"徐祥云"},{"$f":"VLOOKUP(B527,'[1]002'!B:M,8,0)","v":"惠东县吉隆中心小学"},{"$f":"VLOOKUP(B527,'[1]002'!B:M,11,0)","v":"-"},{"$f":"VLOOKUP(B527,'[1]002'!B:M,12,0)","v":"-"}]
[526,"P303119092252","Module 4 unit 1 Sam likes T-shirt","小学组","课件","三等奖","惠州市",{"$f":"VLOOKUP(B528,'[1]002'!B:M,7,0)","v":"杨玉婷"},{"$f":"VLOOKUP(B528,'[1]002'!B:M,8,0)","v":"惠州市光正实验学校"},{"$f":"VLOOKUP(B528,'[1]002'!B:M,11,0)","v":"-"},{"$f":"VLOOKUP(B528,'[1]002'!B:M,12,0)","v":"-"}]
[527,"P303119092393","有余数除法的竖式计算","小学组","课件","三等奖","汕尾市",{"$f":"VLOOKUP(B529,'[1]002'!B:M,7,0)","v":"丁晓英"},{"$f":"VLOOKUP(B529,'[1]002'!B:M,8,0)","v":"汕尾市城区凤山街道奎山小学"},{"$f":"VLOOKUP(B529,'[1]002'!B:M,11,0)","v":"-"},{"$f":"VLOOKUP(B529,'[1]002'!B:M,12,0)","v":"-"}]
[528,"P303119092472","认识周长","小学组","课件","三等奖","东莞市",{"$f":"VLOOKUP(B530,'[1]002'!B:M,7,0)","v":"黄玉娟"},{"$f":"VLOOKUP(B530,'[1]002'!B:M,8,0)","v":"东莞市大朗镇中心小学"},{"$f":"VLOOKUP(B530,'[1]002'!B:M,11,0)","v":"刘铭炜"},{"$f":"VLOOKUP(B530,'[1]002'!B:M,12,0)","v":"东莞市大朗镇中心小学"}]
[529,"P303119088401","我从哪儿来","小学组","课件","三等奖","中山市",{"$f":"VLOOKUP(B531,'[1]002'!B:M,7,0)","v":"陈红"},{"$f":"VLOOKUP(B531,'[1]002'!B:M,8,0)","v":"中山市石岐中心小学"},{"$f":"VLOOKUP(B531,'[1]002'!B:M,11,0)","v":"王盛"},{"$f":"VLOOKUP(B531,'[1]002'!B:M,12,0)","v":"中山市石岐中心小学"}]
[530,"P303119088379","赤壁之战","小学组","课件","三等奖","中山市",{"$f":"VLOOKUP(B532,'[1]002'!B:M,7,0)","v":"张芳萍"},{"$f":"VLOOKUP(B532,'[1]002'!B:M,8,0)","v":"中山市板芙镇新联小学"},{"$f":"VLOOKUP(B532,'[1]002'!B:M,11,0)","v":"-"},{"$f":"VLOOKUP(B532,'[1]002'!B:M,12,0)","v":"-"}]
[531,"P303119088529","安全记心上——119的警示","小学组","课件","三等奖","中山市",{"$f":"VLOOKUP(B533,'[1]002'!B:M,7,0)","v":"朱晓玲"},{"$f":"VLOOKUP(B533,'[1]002'!B:M,8,0)","v":"中山市石岐中心小学"},{"$f":"VLOOKUP(B533,'[1]002'!B:M,11,0)","v":"-"},{"$f":"VLOOKUP(B533,'[1]002'!B:M,12,0)","v":"-"}]
[532,"P303119089936","善言有力量","小学组","课件","三等奖","中山市",{"$f":"VLOOKUP(B534,'[1]002'!B:M,7,0)","v":"梁樱珠"},{"$f":"VLOOKUP(B534,'[1]002'!B:M,8,0)","v":"中山市实验小学"},{"$f":"VLOOKUP(B534,'[1]002'!B:M,11,0)","v":"-"},{"$f":"VLOOKUP(B534,'[1]002'!B:M,12,0)","v":"-"}]
[533,"P303119088435","角的初步认识","小学组","课件","三等奖","中山市",{"$f":"VLOOKUP(B535,'[1]002'!B:M,7,0)","v":"陈湘婷"},{"$f":"VLOOKUP(B535,'[1]002'!B:M,8,0)","v":"中山市西区中心小学"},{"$f":"VLOOKUP(B535,'[1]002'!B:M,11,0)","v":"-"},{"$f":"VLOOKUP(B535,'[1]002'!B:M,12,0)","v":"-"}]
[534,"P303119088806","探索正方体的奥秘","小学组","课件","三等奖","中山市",{"$f":"VLOOKUP(B536,'[1]002'!B:M,7,0)","v":"陈彩丽"},{"$f":"VLOOKUP(B536,'[1]002'!B:M,8,0)","v":"中山市西区铁城小学"},{"$f":"VLOOKUP(B536,'[1]002'!B:M,11,0)","v":"罗志远"},{"$f":"VLOOKUP(B536,'[1]002'!B:M,12,0)","v":"中山市西区烟洲小学"}]
[535,"P303119091753","Unit4SchoolThings","小学组","课件","三等奖","江门市",{"$f":"VLOOKUP(B537,'[1]002'!B:M,7,0)","v":"黄琼"},{"$f":"VLOOKUP(B537,'[1]002'!B:M,8,0)","v":"江门市蓬江区北郊中心小学"},{"$f":"VLOOKUP(B537,'[1]002'!B:M,11,0)","v":"-"},{"$f":"VLOOKUP(B537,'[1]002'!B:M,12,0)","v":"-"}]
[536,"P303119092013","研究自行车","小学组","课件","三等奖","江门市",{"$f":"VLOOKUP(B538,'[1]002'!B:M,7,0)","v":"梁育强"},{"$f":"VLOOKUP(B538,'[1]002'!B:M,8,0)","v":"开平市水口镇第一小学"},{"$f":"VLOOKUP(B538,'[1]002'!B:M,11,0)","v":"-"},{"$f":"VLOOKUP(B538,'[1]002'!B:M,12,0)","v":"-"}]
[537,"P303119091752","桥","小学组","课件","三等奖","江门市",{"$f":"VLOOKUP(B539,'[1]002'!B:M,7,0)","v":"梁群庆"},{"$f":"VLOOKUP(B539,'[1]002'!B:M,8,0)","v":"江门市江华小学"},{"$f":"VLOOKUP(B539,'[1]002'!B:M,11,0)","v":"-"},{"$f":"VLOOKUP(B539,'[1]002'!B:M,12,0)","v":"-"}]
[538,"P303119091843","古诗词扩写——以清明为例","小学组","课件","三等奖","江门市",{"$f":"VLOOKUP(B540,'[1]002'!B:M,7,0)","v":"何慧君"},{"$f":"VLOOKUP(B540,'[1]002'!B:M,8,0)","v":"外海麻一佑启学校"},{"$f":"VLOOKUP(B540,'[1]002'!B:M,11,0)","v":"-"},{"$f":"VLOOKUP(B540,'[1]002'!B:M,12,0)","v":"-"}]
[539,"P303119092086","weekendfun教学课件","小学组","课件","三等奖","江门市",{"$f":"VLOOKUP(B541,'[1]002'!B:M,7,0)","v":"苏国添"},{"$f":"VLOOKUP(B541,'[1]002'!B:M,8,0)","v":"江门市新会区双水镇富美学校"},{"$f":"VLOOKUP(B541,'[1]002'!B:M,11,0)","v":"-"},{"$f":"VLOOKUP(B541,'[1]002'!B:M,12,0)","v":"-"}]
[540,"P303119091750","葫芦丝音阶训练","小学组","课件","三等奖","江门市",{"$f":"VLOOKUP(B542,'[1]002'!B:M,7,0)","v":"胡胜锋"},{"$f":"VLOOKUP(B542,'[1]002'!B:M,8,0)","v":"江门市蓬江区荷塘镇白藤小学"},{"$f":"VLOOKUP(B542,'[1]002'!B:M,11,0)","v":"-"},{"$f":"VLOOKUP(B542,'[1]002'!B:M,12,0)","v":"-"}]
[541,"P303119092083","风的能量","小学组","课件","三等奖","江门市",{"$f":"VLOOKUP(B543,'[1]002'!B:M,7,0)","v":"邓玉婵"},{"$f":"VLOOKUP(B543,'[1]002'!B:M,8,0)","v":"江门市新会区沙堆镇梅阁学校"},{"$f":"VLOOKUP(B543,'[1]002'!B:M,11,0)","v":"-"},{"$f":"VLOOKUP(B543,'[1]002'!B:M,12,0)","v":"-"}]
[542,"P303119091803","曲线工具的使用","小学组","课件","三等奖","江门市",{"$f":"VLOOKUP(B544,'[1]002'!B:M,7,0)","v":"林春菊"},{"$f":"VLOOKUP(B544,'[1]002'!B:M,8,0)","v":"江门市蓬江区杜阮镇瑶芦小学"},{"$f":"VLOOKUP(B544,'[1]002'!B:M,11,0)","v":"-"},{"$f":"VLOOKUP(B544,'[1]002'!B:M,12,0)","v":"-"}]
[543,"P303119092886","圆的认识","小学组","课件","三等奖","湛江市",{"$f":"VLOOKUP(B545,'[1]002'!B:M,7,0)","v":"何文婷"},{"$f":"VLOOKUP(B545,'[1]002'!B:M,8,0)","v":"湛江市第三十二小学"},{"$f":"VLOOKUP(B545,'[1]002'!B:M,11,0)","v":"李茜茜"},{"$f":"VLOOKUP(B545,'[1]002'!B:M,12,0)","v":"湛江市第二小学"}]
[544,"P303119092891","What does he do","小学组","课件","三等奖","湛江市",{"$f":"VLOOKUP(B546,'[1]002'!B:M,7,0)","v":"金小娜"},{"$f":"VLOOKUP(B546,'[1]002'!B:M,8,0)","v":"湛江经济技术开发区第三小学"},{"$f":"VLOOKUP(B546,'[1]002'!B:M,11,0)","v":"-"},{"$f":"VLOOKUP(B546,'[1]002'!B:M,12,0)","v":"-"}]
[545,"P303119092887","认识图形","小学组","课件","三等奖","湛江市",{"$f":"VLOOKUP(B547,'[1]002'!B:M,7,0)","v":"耿珍玉"},{"$f":"VLOOKUP(B547,'[1]002'!B:M,8,0)","v":"湛江市第二十八中学"},{"$f":"VLOOKUP(B547,'[1]002'!B:M,11,0)","v":"-"},{"$f":"VLOOKUP(B547,'[1]002'!B:M,12,0)","v":"-"}]
[546,"P303119092875","食物链和食物网","小学组","课件","三等奖","湛江市",{"$f":"VLOOKUP(B548,'[1]002'!B:M,7,0)","v":"陈华锦"},{"$f":"VLOOKUP(B548,'[1]002'!B:M,8,0)","v":"遂溪县遂城第四小学"},{"$f":"VLOOKUP(B548,'[1]002'!B:M,11,0)","v":"-"},{"$f":"VLOOKUP(B548,'[1]002'!B:M,12,0)","v":"-"}]
[547,"P303119092907","送元二使安西","小学组","课件","三等奖","湛江市",{"$f":"VLOOKUP(B549,'[1]002'!B:M,7,0)","v":"邓文英"},{"$f":"VLOOKUP(B549,'[1]002'!B:M,8,0)","v":"雷州市实验小学"},{"$f":"VLOOKUP(B549,'[1]002'!B:M,11,0)","v":"-"},{"$f":"VLOOKUP(B549,'[1]002'!B:M,12,0)","v":"-"}]
[548,"P303119092884","长方体的认识","小学组","课件","三等奖","湛江市",{"$f":"VLOOKUP(B550,'[1]002'!B:M,7,0)","v":"叶泗凯"},{"$f":"VLOOKUP(B550,'[1]002'!B:M,8,0)","v":"湛江市第二十八中学"},{"$f":"VLOOKUP(B550,'[1]002'!B:M,11,0)","v":"-"},{"$f":"VLOOKUP(B550,'[1]002'!B:M,12,0)","v":"-"}]
[549,"P303119092892","认识逗号、句号和省略号","小学组","课件","三等奖","湛江市",{"$f":"VLOOKUP(B551,'[1]002'!B:M,7,0)","v":"袁凤"},{"$f":"VLOOKUP(B551,'[1]002'!B:M,8,0)","v":"湛江市第二十九小学"},{"$f":"VLOOKUP(B551,'[1]002'!B:M,11,0)","v":"-"},{"$f":"VLOOKUP(B551,'[1]002'!B:M,12,0)","v":"-"}]
[550,"P303119092871","PEP六年级上册Unit5What does he do?PartC","小学组","课件","三等奖","湛江市",{"$f":"VLOOKUP(B552,'[1]002'!B:M,7,0)","v":"卢嘉瑜"},{"$f":"VLOOKUP(B552,'[1]002'!B:M,8,0)","v":"湛江市第三十二小学"},{"$f":"VLOOKUP(B552,'[1]002'!B:M,11,0)","v":"-"},{"$f":"VLOOKUP(B552,'[1]002'!B:M,12,0)","v":"-"}]
[551,"P303119092889","对称图形","小学组","课件","三等奖","湛江市",{"$f":"VLOOKUP(B553,'[1]002'!B:M,7,0)","v":"叶泗凯"},{"$f":"VLOOKUP(B553,'[1]002'!B:M,8,0)","v":"湛江市第二十八中学"},{"$f":"VLOOKUP(B553,'[1]002'!B:M,11,0)","v":"-"},{"$f":"VLOOKUP(B553,'[1]002'!B:M,12,0)","v":"-"}]
[552,"P303119092890","PEP人教版英语四上Unit 4 At the farm","小学组","课件","三等奖","湛江市",{"$f":"VLOOKUP(B554,'[1]002'!B:M,7,0)","v":"戴诗红"},{"$f":"VLOOKUP(B554,'[1]002'!B:M,8,0)","v":"湛江经济技术开发区第一小学"},{"$f":"VLOOKUP(B554,'[1]002'!B:M,11,0)","v":"-"},{"$f":"VLOOKUP(B554,'[1]002'!B:M,12,0)","v":"-"}]
[553,"P303119092903","彩色的梦","小学组","课件","三等奖","湛江市",{"$f":"VLOOKUP(B555,'[1]002'!B:M,7,0)","v":"唐成任"},{"$f":"VLOOKUP(B555,'[1]002'!B:M,8,0)","v":"雷州市实验小学"},{"$f":"VLOOKUP(B555,'[1]002'!B:M,11,0)","v":"-"},{"$f":"VLOOKUP(B555,'[1]002'!B:M,12,0)","v":"-"}]
[554,"P303119091350","外研版四年级上册Doyouwantsomerice","小学组","课件","三等奖","茂名市",{"$f":"VLOOKUP(B556,'[1]002'!B:M,7,0)","v":"邓斯云"},{"$f":"VLOOKUP(B556,'[1]002'!B:M,8,0)","v":"茂名市桥北小学"},{"$f":"VLOOKUP(B556,'[1]002'!B:M,11,0)","v":"-"},{"$f":"VLOOKUP(B556,'[1]002'!B:M,12,0)","v":"-"}]
[555,"P303119091351","端午粽","小学组","课件","三等奖","茂名市",{"$f":"VLOOKUP(B557,'[1]002'!B:M,7,0)","v":"黎雯雯"},{"$f":"VLOOKUP(B557,'[1]002'!B:M,8,0)","v":"茂名市第二小学"},{"$f":"VLOOKUP(B557,'[1]002'!B:M,11,0)","v":"-"},{"$f":"VLOOKUP(B557,'[1]002'!B:M,12,0)","v":"-"}]
[556,"P303119091346","我喜欢的一则格言","小学组","课件","三等奖","茂名市",{"$f":"VLOOKUP(B558,'[1]002'!B:M,7,0)","v":"邓树飞"},{"$f":"VLOOKUP(B558,'[1]002'!B:M,8,0)","v":"茂名市第三小学"},{"$f":"VLOOKUP(B558,'[1]002'!B:M,11,0)","v":"-"},{"$f":"VLOOKUP(B558,'[1]002'!B:M,12,0)","v":"-"}]
[557,"P303119091349","黄道婆","小学组","课件","三等奖","茂名市",{"$f":"VLOOKUP(B559,'[1]002'!B:M,7,0)","v":"岑思颖"},{"$f":"VLOOKUP(B559,'[1]002'!B:M,8,0)","v":"茂名市电白区马踏镇石古湾小学"},{"$f":"VLOOKUP(B559,'[1]002'!B:M,11,0)","v":"-"},{"$f":"VLOOKUP(B559,'[1]002'!B:M,12,0)","v":"-"}]
[558,"P303119091397","奇异的花朵","小学组","课件","三等奖","茂名市",{"$f":"VLOOKUP(B560,'[1]002'!B:M,7,0)","v":"陈绛华"},{"$f":"VLOOKUP(B560,'[1]002'!B:M,8,0)","v":"茂名市福华小学"},{"$f":"VLOOKUP(B560,'[1]002'!B:M,11,0)","v":"-"},{"$f":"VLOOKUP(B560,'[1]002'!B:M,12,0)","v":"-"}]
[559,"P303119091395","作文指导：外貌描写有个性","小学组","课件","三等奖","茂名市",{"$f":"VLOOKUP(B561,'[1]002'!B:M,7,0)","v":"倪秋"},{"$f":"VLOOKUP(B561,'[1]002'!B:M,8,0)","v":"茂名市龙岭学校"},{"$f":"VLOOKUP(B561,'[1]002'!B:M,11,0)","v":"-"},{"$f":"VLOOKUP(B561,'[1]002'!B:M,12,0)","v":"-"}]
[560,"P303119091393","未来的——","小学组","课件","三等奖","茂名市",{"$f":"VLOOKUP(B562,'[1]002'!B:M,7,0)","v":"李雄"},{"$f":"VLOOKUP(B562,'[1]002'!B:M,8,0)","v":"茂名市第三小学"},{"$f":"VLOOKUP(B562,'[1]002'!B:M,11,0)","v":"-"},{"$f":"VLOOKUP(B562,'[1]002'!B:M,12,0)","v":"-"}]
[561,"P303119091394","写意蔬果——画荔枝","小学组","课件","三等奖","茂名市",{"$f":"VLOOKUP(B563,'[1]002'!B:M,7,0)","v":"林景霞"},{"$f":"VLOOKUP(B563,'[1]002'!B:M,8,0)","v":"茂名市第三小学"},{"$f":"VLOOKUP(B563,'[1]002'!B:M,11,0)","v":"-"},{"$f":"VLOOKUP(B563,'[1]002'!B:M,12,0)","v":"-"}]
[562,"P303119091341","分数的乘法三","小学组","课件","三等奖","茂名市",{"$f":"VLOOKUP(B564,'[1]002'!B:M,7,0)","v":"韦思萍"},{"$f":"VLOOKUP(B564,'[1]002'!B:M,8,0)","v":"茂名市第三小学"},{"$f":"VLOOKUP(B564,'[1]002'!B:M,11,0)","v":"-"},{"$f":"VLOOKUP(B564,'[1]002'!B:M,12,0)","v":"-"}]
[563,"P303119091177","小学英语三年级下册第五单元B部分对话教学","小学组","课件","三等奖","肇庆市",{"$f":"VLOOKUP(B565,'[1]002'!B:M,7,0)","v":"马晓琳"},{"$f":"VLOOKUP(B565,'[1]002'!B:M,8,0)","v":"鼎湖区永安镇中心小学"},{"$f":"VLOOKUP(B565,'[1]002'!B:M,11,0)","v":"-"},{"$f":"VLOOKUP(B565,'[1]002'!B:M,12,0)","v":"-"}]
[564,"P303119091187","比尾巴课件","小学组","课件","三等奖","肇庆市",{"$f":"VLOOKUP(B566,'[1]002'!B:M,7,0)","v":"莫小倩"},{"$f":"VLOOKUP(B566,'[1]002'!B:M,8,0)","v":"鼎湖区永安镇中心小学"},{"$f":"VLOOKUP(B566,'[1]002'!B:M,11,0)","v":"-"},{"$f":"VLOOKUP(B566,'[1]002'!B:M,12,0)","v":"-"}]
[565,"P303119091178","英语六年级下册Unit3ReadAndWrite","小学组","课件","三等奖","肇庆市",{"$f":"VLOOKUP(B567,'[1]002'!B:M,7,0)","v":"冯颖梅"},{"$f":"VLOOKUP(B567,'[1]002'!B:M,8,0)","v":"鼎湖区永安镇中心小学"},{"$f":"VLOOKUP(B567,'[1]002'!B:M,11,0)","v":"-"},{"$f":"VLOOKUP(B567,'[1]002'!B:M,12,0)","v":"-"}]
[566,"P303119090219","PEP Book2 Unit4 We love animals","小学组","课件","三等奖","肇庆市",{"$f":"VLOOKUP(B568,'[1]002'!B:M,7,0)","v":"梁思婷"},{"$f":"VLOOKUP(B568,'[1]002'!B:M,8,0)","v":"肇庆市端州区睦岗小学"},{"$f":"VLOOKUP(B568,'[1]002'!B:M,11,0)","v":"-"},{"$f":"VLOOKUP(B568,'[1]002'!B:M,12,0)","v":"-"}]
[567,"P303119090257","消防安全教育","小学组","课件","三等奖","肇庆市",{"$f":"VLOOKUP(B569,'[1]002'!B:M,7,0)","v":"陈娴"},{"$f":"VLOOKUP(B569,'[1]002'!B:M,8,0)","v":"德庆县德城镇第三小学"},{"$f":"VLOOKUP(B569,'[1]002'!B:M,11,0)","v":"梁丽芳"},{"$f":"VLOOKUP(B569,'[1]002'!B:M,12,0)","v":"德庆县德城镇第三小学"}]
[568,"P303119091222","培养良好姿势的重要性","小学组","课件","三等奖","肇庆市",{"$f":"VLOOKUP(B570,'[1]002'!B:M,7,0)","v":"陈朗"},{"$f":"VLOOKUP(B570,'[1]002'!B:M,8,0)","v":"四会市青云小学"},{"$f":"VLOOKUP(B570,'[1]002'!B:M,11,0)","v":"-"},{"$f":"VLOOKUP(B570,'[1]002'!B:M,12,0)","v":"-"}]
[569,"P303119091180","学我做","小学组","课件","三等奖","肇庆市",{"$f":"VLOOKUP(B571,'[1]002'!B:M,7,0)","v":"王少芬"},{"$f":"VLOOKUP(B571,'[1]002'!B:M,8,0)","v":"鼎湖区永安镇中心小学"},{"$f":"VLOOKUP(B571,'[1]002'!B:M,11,0)","v":"-"},{"$f":"VLOOKUP(B571,'[1]002'!B:M,12,0)","v":"-"}]
[570,"P303119090251","Unit 2 My Favourite season PB","小学组","课件","三等奖","肇庆市",{"$f":"VLOOKUP(B572,'[1]002'!B:M,7,0)","v":"李彩茹"},{"$f":"VLOOKUP(B572,'[1]002'!B:M,8,0)","v":"德庆县回龙镇中心小学"},{"$f":"VLOOKUP(B572,'[1]002'!B:M,11,0)","v":"-"},{"$f":"VLOOKUP(B572,'[1]002'!B:M,12,0)","v":"-"}]
[571,"P303119091186","巧变虚形与实形PPT","小学组","课件","三等奖","肇庆市",{"$f":"VLOOKUP(B573,'[1]002'!B:M,7,0)","v":"邓红玉"},{"$f":"VLOOKUP(B573,'[1]002'!B:M,8,0)","v":"鼎湖区永安镇中心小学"},{"$f":"VLOOKUP(B573,'[1]002'!B:M,11,0)","v":"-"},{"$f":"VLOOKUP(B573,'[1]002'!B:M,12,0)","v":"-"}]
[572,"P303119091179","轴对称","小学组","课件","三等奖","肇庆市",{"$f":"VLOOKUP(B574,'[1]002'!B:M,7,0)","v":"冯碧妍"},{"$f":"VLOOKUP(B574,'[1]002'!B:M,8,0)","v":"鼎湖区沙浦镇中心小学"},{"$f":"VLOOKUP(B574,'[1]002'!B:M,11,0)","v":"-"},{"$f":"VLOOKUP(B574,'[1]002'!B:M,12,0)","v":"-"}]
[573,"P303119090256","Unit 5 A  learn","小学组","课件","三等奖","肇庆市",{"$f":"VLOOKUP(B575,'[1]002'!B:M,7,0)","v":"陈银楚"},{"$f":"VLOOKUP(B575,'[1]002'!B:M,8,0)","v":"德庆县德城镇第一小学"},{"$f":"VLOOKUP(B575,'[1]002'!B:M,11,0)","v":"-"},{"$f":"VLOOKUP(B575,'[1]002'!B:M,12,0)","v":"-"}]
[574,"P303119091183","单式折线统计图","小学组","课件","三等奖","肇庆市",{"$f":"VLOOKUP(B576,'[1]002'!B:M,7,0)","v":"梁佩玲"},{"$f":"VLOOKUP(B576,'[1]002'!B:M,8,0)","v":"鼎湖逸夫小学"},{"$f":"VLOOKUP(B576,'[1]002'!B:M,11,0)","v":"-"},{"$f":"VLOOKUP(B576,'[1]002'!B:M,12,0)","v":"-"}]
[575,"P303119091574","Doyoulikepears","小学组","课件","三等奖","清远市",{"$f":"VLOOKUP(B577,'[1]002'!B:M,7,0)","v":"潘文娇"},{"$f":"VLOOKUP(B577,'[1]002'!B:M,8,0)","v":"清远市师范学校附属小学"},{"$f":"VLOOKUP(B577,'[1]002'!B:M,11,0)","v":"-"},{"$f":"VLOOKUP(B577,'[1]002'!B:M,12,0)","v":"-"}]
[576,"P303119091585","写好主笔竖弯钩","小学组","课件","三等奖","清远市",{"$f":"VLOOKUP(B578,'[1]002'!B:M,7,0)","v":"范兰英"},{"$f":"VLOOKUP(B578,'[1]002'!B:M,8,0)","v":"佛冈县第三小学"},{"$f":"VLOOKUP(B578,'[1]002'!B:M,11,0)","v":"-"},{"$f":"VLOOKUP(B578,'[1]002'!B:M,12,0)","v":"-"}]
[577,"P303119091591","快乐的小青蛙","小学组","课件","三等奖","清远市",{"$f":"VLOOKUP(B579,'[1]002'!B:M,7,0)","v":"肖慧连"},{"$f":"VLOOKUP(B579,'[1]002'!B:M,8,0)","v":"佛冈县振兴小学"},{"$f":"VLOOKUP(B579,'[1]002'!B:M,11,0)","v":"-"},{"$f":"VLOOKUP(B579,'[1]002'!B:M,12,0)","v":"-"}]
[578,"P303119091584","13荷叶圆圆","小学组","课件","三等奖","清远市",{"$f":"VLOOKUP(B580,'[1]002'!B:M,7,0)","v":"刘雪梅"},{"$f":"VLOOKUP(B580,'[1]002'!B:M,8,0)","v":"英德市第六小学"},{"$f":"VLOOKUP(B580,'[1]002'!B:M,11,0)","v":"-"},{"$f":"VLOOKUP(B580,'[1]002'!B:M,12,0)","v":"-"}]
[579,"P303119091576","unit2 My schoolbag B  learn教学课件","小学组","课件","三等奖","清远市",{"$f":"VLOOKUP(B581,'[1]002'!B:M,7,0)","v":"石锋"},{"$f":"VLOOKUP(B581,'[1]002'!B:M,8,0)","v":"清远市清新区第三小学"},{"$f":"VLOOKUP(B581,'[1]002'!B:M,11,0)","v":"-"},{"$f":"VLOOKUP(B581,'[1]002'!B:M,12,0)","v":"-"}]
[580,"P303119091590","寓言二则","小学组","课件","三等奖","清远市",{"$f":"VLOOKUP(B582,'[1]002'!B:M,7,0)","v":"范兰英"},{"$f":"VLOOKUP(B582,'[1]002'!B:M,8,0)","v":"佛冈县第三小学"},{"$f":"VLOOKUP(B582,'[1]002'!B:M,11,0)","v":"-"},{"$f":"VLOOKUP(B582,'[1]002'!B:M,12,0)","v":"-"}]
[581,"P303119091579","PEP第七册Recycle2","小学组","课件","三等奖","清远市",{"$f":"VLOOKUP(B583,'[1]002'!B:M,7,0)","v":"李国泉"},{"$f":"VLOOKUP(B583,'[1]002'!B:M,8,0)","v":"阳山县第一小学"},{"$f":"VLOOKUP(B583,'[1]002'!B:M,11,0)","v":"-"},{"$f":"VLOOKUP(B583,'[1]002'!B:M,12,0)","v":"-"}]
[582,"P303119091580","Unit 3 Weather A learn 教学课件","小学组","课件","三等奖","清远市",{"$f":"VLOOKUP(B584,'[1]002'!B:M,7,0)","v":"石锋"},{"$f":"VLOOKUP(B584,'[1]002'!B:M,8,0)","v":"清远市清新区第三小学"},{"$f":"VLOOKUP(B584,'[1]002'!B:M,11,0)","v":"-"},{"$f":"VLOOKUP(B584,'[1]002'!B:M,12,0)","v":"-"}]
[583,"P303119091575","奥运开幕","小学组","课件","三等奖","清远市",{"$f":"VLOOKUP(B585,'[1]002'!B:M,7,0)","v":"何秀梅"},{"$f":"VLOOKUP(B585,'[1]002'!B:M,8,0)","v":"英德市第六小学"},{"$f":"VLOOKUP(B585,'[1]002'!B:M,11,0)","v":"-"},{"$f":"VLOOKUP(B585,'[1]002'!B:M,12,0)","v":"-"}]
[584,"P303119080823","泊船瓜洲","小学组","课件","三等奖","潮州市",{"$f":"VLOOKUP(B586,'[1]002'!B:M,7,0)","v":"郑树蓬"},{"$f":"VLOOKUP(B586,'[1]002'!B:M,8,0)","v":"潮州市枫溪区枫溪小学"},{"$f":"VLOOKUP(B586,'[1]002'!B:M,11,0)","v":"-"},{"$f":"VLOOKUP(B586,'[1]002'!B:M,12,0)","v":"-"}]
[585,"P303119080361","圆的认识","小学组","课件","三等奖","潮州市",{"$f":"VLOOKUP(B587,'[1]002'!B:M,7,0)","v":"郑兰君"},{"$f":"VLOOKUP(B587,'[1]002'!B:M,8,0)","v":"东凤镇仙桥小学"},{"$f":"VLOOKUP(B587,'[1]002'!B:M,11,0)","v":"-"},{"$f":"VLOOKUP(B587,'[1]002'!B:M,12,0)","v":"-"}]
[586,"P303119080199","认识平行四边形","小学组","课件","三等奖","潮州市",{"$f":"VLOOKUP(B588,'[1]002'!B:M,7,0)","v":"苏小苗"},{"$f":"VLOOKUP(B588,'[1]002'!B:M,8,0)","v":"凤凰镇福南中心学校"},{"$f":"VLOOKUP(B588,'[1]002'!B:M,11,0)","v":"-"},{"$f":"VLOOKUP(B588,'[1]002'!B:M,12,0)","v":"-"}]
[587,"P303119080884","MySchoolPartCStorytime","小学组","课件","三等奖","潮州市",{"$f":"VLOOKUP(B589,'[1]002'!B:M,7,0)","v":"丁萍"},{"$f":"VLOOKUP(B589,'[1]002'!B:M,8,0)","v":"凤凰镇福南中心学校"},{"$f":"VLOOKUP(B589,'[1]002'!B:M,11,0)","v":"-"},{"$f":"VLOOKUP(B589,'[1]002'!B:M,12,0)","v":"-"}]
[588,"P303119091458","四边形","小学组","课件","三等奖","潮州市",{"$f":"VLOOKUP(B590,'[1]002'!B:M,7,0)","v":"黄丽丽"},{"$f":"VLOOKUP(B590,'[1]002'!B:M,8,0)","v":"潮州市城南中英文学校"},{"$f":"VLOOKUP(B590,'[1]002'!B:M,11,0)","v":"张馥兰"},{"$f":"VLOOKUP(B590,'[1]002'!B:M,12,0)","v":"潮州市城南中英文学校"}]
[589,"P303119085398","蜜蜂","小学组","课件","三等奖","云浮市",{"$f":"VLOOKUP(B591,'[1]002'!B:M,7,0)","v":"梁日洪"},{"$f":"VLOOKUP(B591,'[1]002'!B:M,8,0)","v":"新兴县里洞镇里江小学"},{"$f":"VLOOKUP(B591,'[1]002'!B:M,11,0)","v":"-"},{"$f":"VLOOKUP(B591,'[1]002'!B:M,12,0)","v":"-"}]
[590,"P303119090452","詹天佑课","小学组","课件","三等奖","云浮市",{"$f":"VLOOKUP(B592,'[1]002'!B:M,7,0)","v":"谢玲"},{"$f":"VLOOKUP(B592,'[1]002'!B:M,8,0)","v":"罗城城南小学"},{"$f":"VLOOKUP(B592,'[1]002'!B:M,11,0)","v":"-"},{"$f":"VLOOKUP(B592,'[1]002'!B:M,12,0)","v":"-"}]
[591,"P303119086157","不规则物体的体积","小学组","课件","三等奖","云浮市",{"$f":"VLOOKUP(B593,'[1]002'!B:M,7,0)","v":"张水娣"},{"$f":"VLOOKUP(B593,'[1]002'!B:M,8,0)","v":"罗定市实验小学"},{"$f":"VLOOKUP(B593,'[1]002'!B:M,11,0)","v":"-"},{"$f":"VLOOKUP(B593,'[1]002'!B:M,12,0)","v":"-"}]
[592,"P303119079436","圆锥的体积","小学组","课件","三等奖","云浮市",{"$f":"VLOOKUP(B594,'[1]002'!B:M,7,0)","v":"欧月嫦"},{"$f":"VLOOKUP(B594,'[1]002'!B:M,8,0)","v":"新兴县六祖镇旧郎小学"},{"$f":"VLOOKUP(B594,'[1]002'!B:M,11,0)","v":"-"},{"$f":"VLOOKUP(B594,'[1]002'!B:M,12,0)","v":"-"}]
[593,"P303119091234","夏天我们注意什么","小学组","课件","三等奖","云浮市",{"$f":"VLOOKUP(B595,'[1]002'!B:M,7,0)","v":"谢艳媚"},{"$f":"VLOOKUP(B595,'[1]002'!B:M,8,0)","v":"云浮市第二小学"},{"$f":"VLOOKUP(B595,'[1]002'!B:M,11,0)","v":"-"},{"$f":"VLOOKUP(B595,'[1]002'!B:M,12,0)","v":"-"}]
[594,"P303119079290","乘法结合律","小学组","课件","三等奖","云浮市",{"$f":"VLOOKUP(B596,'[1]002'!B:M,7,0)","v":"陈兴强"},{"$f":"VLOOKUP(B596,'[1]002'!B:M,8,0)","v":"云浮市云安区石城镇高潭小学"},{"$f":"VLOOKUP(B596,'[1]002'!B:M,11,0)","v":"-"},{"$f":"VLOOKUP(B596,'[1]002'!B:M,12,0)","v":"-"}]
[595,"P305119093140","城南旧事导读课","小学组","微课","三等奖","广州市",{"$f":"VLOOKUP(B597,'[1]002'!B:M,7,0)","v":"陈小琴"},{"$f":"VLOOKUP(B597,'[1]002'!B:M,8,0)","v":"广州市增城区荔江小学"},{"$f":"VLOOKUP(B597,'[1]002'!B:M,11,0)","v":"-"},{"$f":"VLOOKUP(B597,'[1]002'!B:M,12,0)","v":"-"}]
[596,"P305119093152","小学微课理解词语的方法","小学组","微课","三等奖","广州市",{"$f":"VLOOKUP(B598,'[1]002'!B:M,7,0)","v":"胡文君"},{"$f":"VLOOKUP(B598,'[1]002'!B:M,8,0)","v":"广州市越秀区小北路小学"},{"$f":"VLOOKUP(B598,'[1]002'!B:M,11,0)","v":"-"},{"$f":"VLOOKUP(B598,'[1]002'!B:M,12,0)","v":"-"}]
[597,"P305119093149","当复习遇见阅读","小学组","微课","三等奖","广州市",{"$f":"VLOOKUP(B599,'[1]002'!B:M,7,0)","v":"李恬恬"},{"$f":"VLOOKUP(B599,'[1]002'!B:M,8,0)","v":"广州市越秀区登峰小学"},{"$f":"VLOOKUP(B599,'[1]002'!B:M,11,0)","v":"-"},{"$f":"VLOOKUP(B599,'[1]002'!B:M,12,0)","v":"-"}]
[598,"P305119093163","Scratch变量的使用","小学组","微课","三等奖","广州市",{"$f":"VLOOKUP(B600,'[1]002'!B:M,7,0)","v":"莫水华"},{"$f":"VLOOKUP(B600,'[1]002'!B:M,8,0)","v":"广州市花都区花东镇杨荷小学"},{"$f":"VLOOKUP(B600,'[1]002'!B:M,11,0)","v":"-"},{"$f":"VLOOKUP(B600,'[1]002'!B:M,12,0)","v":"-"}]
[599,"P305119093155","鸡兔同笼","小学组","微课","三等奖","广州市",{"$f":"VLOOKUP(B601,'[1]002'!B:M,7,0)","v":"谭为"},{"$f":"VLOOKUP(B601,'[1]002'!B:M,8,0)","v":"广州市天河区华景小学"},{"$f":"VLOOKUP(B601,'[1]002'!B:M,11,0)","v":"黄燕强"},{"$f":"VLOOKUP(B601,'[1]002'!B:M,12,0)","v":"广州市天河区华景小学"}]
[600,"P305119093142","干草垛清晨赏析","小学组","微课","三等奖","广州市",{"$f":"VLOOKUP(B602,'[1]002'!B:M,7,0)","v":"陈凌雲"},{"$f":"VLOOKUP(B602,'[1]002'!B:M,8,0)","v":"广州市第七中学"},{"$f":"VLOOKUP(B602,'[1]002'!B:M,11,0)","v":"-"},{"$f":"VLOOKUP(B602,'[1]002'!B:M,12,0)","v":"-"}]
[601,"P305119093148","祈使句","小学组","微课","三等奖","广州市",{"$f":"VLOOKUP(B603,'[1]002'!B:M,7,0)","v":"黄永丽"},{"$f":"VLOOKUP(B603,'[1]002'!B:M,8,0)","v":"广州市天河区龙洞小学"},{"$f":"VLOOKUP(B603,'[1]002'!B:M,11,0)","v":"-"},{"$f":"VLOOKUP(B603,'[1]002'!B:M,12,0)","v":"-"}]
[602,"P305119093164","WhatsGoingOn","小学组","微课","三等奖","广州市",{"$f":"VLOOKUP(B604,'[1]002'!B:M,7,0)","v":"梁雪贞"},{"$f":"VLOOKUP(B604,'[1]002'!B:M,8,0)","v":"广州市番禺区大石中心小学"},{"$f":"VLOOKUP(B604,'[1]002'!B:M,11,0)","v":"-"},{"$f":"VLOOKUP(B604,'[1]002'!B:M,12,0)","v":"-"}]
[603,"P305119092718","Learn the sound","小学组","微课","三等奖","深圳市",{"$f":"VLOOKUP(B605,'[1]002'!B:M,7,0)","v":"方菲"},{"$f":"VLOOKUP(B605,'[1]002'!B:M,8,0)","v":"深圳市光明区光明小学"},{"$f":"VLOOKUP(B605,'[1]002'!B:M,11,0)","v":"-"},{"$f":"VLOOKUP(B605,'[1]002'!B:M,12,0)","v":"-"}]
[604,"P305119092736","重复的奥妙","小学组","微课","三等奖","深圳市",{"$f":"VLOOKUP(B606,'[1]002'!B:M,7,0)","v":"陈静华"},{"$f":"VLOOKUP(B606,'[1]002'!B:M,8,0)","v":"深圳市龙华区行知实验小学"},{"$f":"VLOOKUP(B606,'[1]002'!B:M,11,0)","v":"-"},{"$f":"VLOOKUP(B606,'[1]002'!B:M,12,0)","v":"-"}]
[605,"P305119092737","毕业赠言","小学组","微课","三等奖","深圳市",{"$f":"VLOOKUP(B607,'[1]002'!B:M,7,0)","v":"肖友花"},{"$f":"VLOOKUP(B607,'[1]002'!B:M,8,0)","v":"深圳市龙华区龙华中心小学"},{"$f":"VLOOKUP(B607,'[1]002'!B:M,11,0)","v":"古兴东"},{"$f":"VLOOKUP(B607,'[1]002'!B:M,12,0)","v":"深圳市龙华区龙华中心小学"}]
[606,"P305119092728","如何收纳秋季校服","小学组","微课","三等奖","深圳市",{"$f":"VLOOKUP(B608,'[1]002'!B:M,7,0)","v":"朱佳"},{"$f":"VLOOKUP(B608,'[1]002'!B:M,8,0)","v":"深圳市龙华区行知实验小学"},{"$f":"VLOOKUP(B608,'[1]002'!B:M,11,0)","v":"-"},{"$f":"VLOOKUP(B608,'[1]002'!B:M,12,0)","v":"-"}]
[607,"P305119092735","PPT画图工具","小学组","微课","三等奖","深圳市",{"$f":"VLOOKUP(B609,'[1]002'!B:M,7,0)","v":"施科"},{"$f":"VLOOKUP(B609,'[1]002'!B:M,8,0)","v":"深圳市福田区上步小学"},{"$f":"VLOOKUP(B609,'[1]002'!B:M,11,0)","v":"-"},{"$f":"VLOOKUP(B609,'[1]002'!B:M,12,0)","v":"-"}]
[608,"P305119092734","儿童乐园","小学组","微课","三等奖","深圳市",{"$f":"VLOOKUP(B610,'[1]002'!B:M,7,0)","v":"刘萍"},{"$f":"VLOOKUP(B610,'[1]002'!B:M,8,0)","v":"深圳市安芳小学"},{"$f":"VLOOKUP(B610,'[1]002'!B:M,11,0)","v":"-"},{"$f":"VLOOKUP(B610,'[1]002'!B:M,12,0)","v":"-"}]
[609,"P305119092721","Scratch中的动画制作","小学组","微课","三等奖","深圳市",{"$f":"VLOOKUP(B611,'[1]002'!B:M,7,0)","v":"陈彩莲"},{"$f":"VLOOKUP(B611,'[1]002'!B:M,8,0)","v":"深圳市新秀小学"},{"$f":"VLOOKUP(B611,'[1]002'!B:M,11,0)","v":"-"},{"$f":"VLOOKUP(B611,'[1]002'!B:M,12,0)","v":"-"}]
[610,"P305119092710","绘本My Mum","小学组","微课","三等奖","深圳市",{"$f":"VLOOKUP(B612,'[1]002'!B:M,7,0)","v":"胡捷"},{"$f":"VLOOKUP(B612,'[1]002'!B:M,8,0)","v":"深圳市布心小学"},{"$f":"VLOOKUP(B612,'[1]002'!B:M,11,0)","v":"-"},{"$f":"VLOOKUP(B612,'[1]002'!B:M,12,0)","v":"-"}]
[611,"P305119092712","猫抓老鼠","小学组","微课","三等奖","深圳市",{"$f":"VLOOKUP(B613,'[1]002'!B:M,7,0)","v":"朱泽凯"},{"$f":"VLOOKUP(B613,'[1]002'!B:M,8,0)","v":"深圳市仙桐实验小学"},{"$f":"VLOOKUP(B613,'[1]002'!B:M,11,0)","v":"-"},{"$f":"VLOOKUP(B613,'[1]002'!B:M,12,0)","v":"-"}]
[612,"P305119092733","节日的餐桌","小学组","微课","三等奖","深圳市",{"$f":"VLOOKUP(B614,'[1]002'!B:M,7,0)","v":"徐捷"},{"$f":"VLOOKUP(B614,'[1]002'!B:M,8,0)","v":"深圳市桂园小学"},{"$f":"VLOOKUP(B614,'[1]002'!B:M,11,0)","v":"-"},{"$f":"VLOOKUP(B614,'[1]002'!B:M,12,0)","v":"-"}]
[613,"P305119092715","有多重","小学组","微课","三等奖","深圳市",{"$f":"VLOOKUP(B615,'[1]002'!B:M,7,0)","v":"于冰溶"},{"$f":"VLOOKUP(B615,'[1]002'!B:M,8,0)","v":"深圳市福田区天健小学"},{"$f":"VLOOKUP(B615,'[1]002'!B:M,11,0)","v":"-"},{"$f":"VLOOKUP(B615,'[1]002'!B:M,12,0)","v":"-"}]
[614,"P305119079035","图块复制","小学组","微课","三等奖","珠海市",{"$f":"VLOOKUP(B616,'[1]002'!B:M,7,0)","v":"杨晓丹"},{"$f":"VLOOKUP(B616,'[1]002'!B:M,8,0)","v":"珠海市红旗镇军建小学"},{"$f":"VLOOKUP(B616,'[1]002'!B:M,11,0)","v":"-"},{"$f":"VLOOKUP(B616,'[1]002'!B:M,12,0)","v":"-"}]
[615,"P305119088769","不做胡涂涂——三年级看图写话类作文指导","小学组","微课","三等奖","珠海市",{"$f":"VLOOKUP(B617,'[1]002'!B:M,7,0)","v":"张瑞霞"},{"$f":"VLOOKUP(B617,'[1]002'!B:M,8,0)","v":"珠海市香洲区第六小学"},{"$f":"VLOOKUP(B617,'[1]002'!B:M,11,0)","v":"-"},{"$f":"VLOOKUP(B617,'[1]002'!B:M,12,0)","v":"-"}]
[616,"P305119086057","9加几","小学组","微课","三等奖","珠海市",{"$f":"VLOOKUP(B618,'[1]002'!B:M,7,0)","v":"庄华英"},{"$f":"VLOOKUP(B618,'[1]002'!B:M,8,0)","v":"珠海市金湾区外国语学校"},{"$f":"VLOOKUP(B618,'[1]002'!B:M,11,0)","v":"-"},{"$f":"VLOOKUP(B618,'[1]002'!B:M,12,0)","v":"-"}]
[617,"P305119091971","天净沙秋","小学组","微课","三等奖","汕头市",{"$f":"VLOOKUP(B619,'[1]002'!B:M,7,0)","v":"吴丹"},{"$f":"VLOOKUP(B619,'[1]002'!B:M,8,0)","v":"汕头市龙湖区金阳小学"},{"$f":"VLOOKUP(B619,'[1]002'!B:M,11,0)","v":"-"},{"$f":"VLOOKUP(B619,'[1]002'!B:M,12,0)","v":"-"}]
[618,"P305119091975","Myfavouriteseason写作指导","小学组","微课","三等奖","汕头市",{"$f":"VLOOKUP(B620,'[1]002'!B:M,7,0)","v":"曾丽环"},{"$f":"VLOOKUP(B620,'[1]002'!B:M,8,0)","v":"汕头市龙湖区诒铭小学"},{"$f":"VLOOKUP(B620,'[1]002'!B:M,11,0)","v":"-"},{"$f":"VLOOKUP(B620,'[1]002'!B:M,12,0)","v":"-"}]
[619,"P305119092325","PEP Book2 At the zoo A Let us spell","小学组","微课","三等奖","汕头市",{"$f":"VLOOKUP(B621,'[1]002'!B:M,7,0)","v":"黄越"},{"$f":"VLOOKUP(B621,'[1]002'!B:M,8,0)","v":"汕头市龙湖区陈厝合小学"},{"$f":"VLOOKUP(B621,'[1]002'!B:M,11,0)","v":"连哓贤"},{"$f":"VLOOKUP(B621,'[1]002'!B:M,12,0)","v":"汕头市龙湖区陈厝合小学"}]
[620,"P305119091980","My favourite season","小学组","微课","三等奖","汕头市",{"$f":"VLOOKUP(B622,'[1]002'!B:M,7,0)","v":"李佩珊"},{"$f":"VLOOKUP(B622,'[1]002'!B:M,8,0)","v":"汕头市东厦小学"},{"$f":"VLOOKUP(B622,'[1]002'!B:M,11,0)","v":"-"},{"$f":"VLOOKUP(B622,'[1]002'!B:M,12,0)","v":"-"}]
[621,"P305119091978","分段计费问题","小学组","微课","三等奖","汕头市",{"$f":"VLOOKUP(B623,'[1]002'!B:M,7,0)","v":"郑华生"},{"$f":"VLOOKUP(B623,'[1]002'!B:M,8,0)","v":"汕头市潮南区陇田镇华林小学"},{"$f":"VLOOKUP(B623,'[1]002'!B:M,11,0)","v":"-"},{"$f":"VLOOKUP(B623,'[1]002'!B:M,12,0)","v":"-"}]
[622,"P305119091961","田忌赛马","小学组","微课","三等奖","汕头市",{"$f":"VLOOKUP(B624,'[1]002'!B:M,7,0)","v":"蔡华虹"},{"$f":"VLOOKUP(B624,'[1]002'!B:M,8,0)","v":"汕头市濠江区青篮小学"},{"$f":"VLOOKUP(B624,'[1]002'!B:M,11,0)","v":"-"},{"$f":"VLOOKUP(B624,'[1]002'!B:M,12,0)","v":"-"}]
[623,"P305119091965","认识平移","小学组","微课","三等奖","汕头市",{"$f":"VLOOKUP(B625,'[1]002'!B:M,7,0)","v":"陈永慧"},{"$f":"VLOOKUP(B625,'[1]002'!B:M,8,0)","v":"汕头市龙湖区朝阳小学"},{"$f":"VLOOKUP(B625,'[1]002'!B:M,11,0)","v":"王炯德"},{"$f":"VLOOKUP(B625,'[1]002'!B:M,12,0)","v":"汕头市龙湖区丽日小学"}]
[624,"P305119091977","海螺和海星","小学组","微课","三等奖","汕头市",{"$f":"VLOOKUP(B626,'[1]002'!B:M,7,0)","v":"陈东岳"},{"$f":"VLOOKUP(B626,'[1]002'!B:M,8,0)","v":"汕头市达濠第三中学"},{"$f":"VLOOKUP(B626,'[1]002'!B:M,11,0)","v":"-"},{"$f":"VLOOKUP(B626,'[1]002'!B:M,12,0)","v":"-"}]
[625,"P305119091981","1000以内数的认识——如何数拐弯数","小学组","微课","三等奖","汕头市",{"$f":"VLOOKUP(B627,'[1]002'!B:M,7,0)","v":"陈烁灿"},{"$f":"VLOOKUP(B627,'[1]002'!B:M,8,0)","v":"汕头市东厦小学"},{"$f":"VLOOKUP(B627,'[1]002'!B:M,11,0)","v":"-"},{"$f":"VLOOKUP(B627,'[1]002'!B:M,12,0)","v":"-"}]
[626,"P305119090898","递归及其应用","小学组","微课","三等奖","佛山市",{"$f":"VLOOKUP(B628,'[1]002'!B:M,7,0)","v":"张际红"},{"$f":"VLOOKUP(B628,'[1]002'!B:M,8,0)","v":"佛山市南海区桂城街道桂园小学"},{"$f":"VLOOKUP(B628,'[1]002'!B:M,11,0)","v":"-"},{"$f":"VLOOKUP(B628,'[1]002'!B:M,12,0)","v":"-"}]
[627,"P305119090925","频度副词的用法","小学组","微课","三等奖","佛山市",{"$f":"VLOOKUP(B629,'[1]002'!B:M,7,0)","v":"黄金平"},{"$f":"VLOOKUP(B629,'[1]002'!B:M,8,0)","v":"佛山市顺德区仓门小学"},{"$f":"VLOOKUP(B629,'[1]002'!B:M,11,0)","v":"-"},{"$f":"VLOOKUP(B629,'[1]002'!B:M,12,0)","v":"-"}]
[628,"P305119090897","加法结合律","小学组","微课","三等奖","佛山市",{"$f":"VLOOKUP(B630,'[1]002'!B:M,7,0)","v":"林颖琪"},{"$f":"VLOOKUP(B630,'[1]002'!B:M,8,0)","v":"佛山市南海区丹灶镇金沙小学"},{"$f":"VLOOKUP(B630,'[1]002'!B:M,11,0)","v":"-"},{"$f":"VLOOKUP(B630,'[1]002'!B:M,12,0)","v":"-"}]
[629,"P305119090902","质数和合数","小学组","微课","三等奖","佛山市",{"$f":"VLOOKUP(B631,'[1]002'!B:M,7,0)","v":"姚海燕"},{"$f":"VLOOKUP(B631,'[1]002'!B:M,8,0)","v":"佛山市南海区丹灶镇罗行小学"},{"$f":"VLOOKUP(B631,'[1]002'!B:M,11,0)","v":"-"},{"$f":"VLOOKUP(B631,'[1]002'!B:M,12,0)","v":"-"}]
[630,"P305119090879","灵巧的手","小学组","微课","三等奖","佛山市",{"$f":"VLOOKUP(B632,'[1]002'!B:M,7,0)","v":"李丽华"},{"$f":"VLOOKUP(B632,'[1]002'!B:M,8,0)","v":"佛山市高明区荷城街道德信实验学校"},{"$f":"VLOOKUP(B632,'[1]002'!B:M,11,0)","v":"-"},{"$f":"VLOOKUP(B632,'[1]002'!B:M,12,0)","v":"-"}]
[631,"P305119090889","排队问题","小学组","微课","三等奖","佛山市",{"$f":"VLOOKUP(B633,'[1]002'!B:M,7,0)","v":"吴怡瑜"},{"$f":"VLOOKUP(B633,'[1]002'!B:M,8,0)","v":"佛山市禅城区环湖小学"},{"$f":"VLOOKUP(B633,'[1]002'!B:M,11,0)","v":"-"},{"$f":"VLOOKUP(B633,'[1]002'!B:M,12,0)","v":"-"}]
[632,"P305119090894","不规则图形的容积","小学组","微课","三等奖","佛山市",{"$f":"VLOOKUP(B634,'[1]002'!B:M,7,0)","v":"姚海燕"},{"$f":"VLOOKUP(B634,'[1]002'!B:M,8,0)","v":"佛山市南海区丹灶镇罗行小学"},{"$f":"VLOOKUP(B634,'[1]002'!B:M,11,0)","v":"-"},{"$f":"VLOOKUP(B634,'[1]002'!B:M,12,0)","v":"-"}]
[633,"P305119090893","第6课通天云梯_用for语句控制循环_习题讲解","小学组","微课","三等奖","佛山市",{"$f":"VLOOKUP(B635,'[1]002'!B:M,7,0)","v":"刘炳升"},{"$f":"VLOOKUP(B635,'[1]002'!B:M,8,0)","v":"佛山市南海区大沥镇盐步中心小学"},{"$f":"VLOOKUP(B635,'[1]002'!B:M,11,0)","v":"-"},{"$f":"VLOOKUP(B635,'[1]002'!B:M,12,0)","v":"-"}]
[634,"P305119090953","三角形的内角和","小学组","微课","三等奖","佛山市",{"$f":"VLOOKUP(B636,'[1]002'!B:M,7,0)","v":"陆晓明"},{"$f":"VLOOKUP(B636,'[1]002'!B:M,8,0)","v":"佛山市三水区实验小学"},{"$f":"VLOOKUP(B636,'[1]002'!B:M,11,0)","v":"-"},{"$f":"VLOOKUP(B636,'[1]002'!B:M,12,0)","v":"-"}]
[635,"P305119090886","立定跳远","小学组","微课","三等奖","佛山市",{"$f":"VLOOKUP(B637,'[1]002'!B:M,7,0)","v":"李润芳"},{"$f":"VLOOKUP(B637,'[1]002'!B:M,8,0)","v":"佛山市高明区荷城街道德信实验学校"},{"$f":"VLOOKUP(B637,'[1]002'!B:M,11,0)","v":"-"},{"$f":"VLOOKUP(B637,'[1]002'!B:M,12,0)","v":"-"}]
[636,"P305119090943","设置无线路由器","小学组","微课","三等奖","佛山市",{"$f":"VLOOKUP(B638,'[1]002'!B:M,7,0)","v":"何国兴"},{"$f":"VLOOKUP(B638,'[1]002'!B:M,8,0)","v":"佛山市顺德区北滘碧江小学"},{"$f":"VLOOKUP(B638,'[1]002'!B:M,11,0)","v":"麦梓朋"},{"$f":"VLOOKUP(B638,'[1]002'!B:M,12,0)","v":"佛山市顺德区北滘碧江小学"}]
[637,"P305119090921","What can you do?","小学组","微课","三等奖","佛山市",{"$f":"VLOOKUP(B639,'[1]002'!B:M,7,0)","v":"叶芸"},{"$f":"VLOOKUP(B639,'[1]002'!B:M,8,0)","v":"佛山市同济小学"},{"$f":"VLOOKUP(B639,'[1]002'!B:M,11,0)","v":"-"},{"$f":"VLOOKUP(B639,'[1]002'!B:M,12,0)","v":"-"}]
[638,"P305119090934","身体红绿灯","小学组","微课","三等奖","佛山市",{"$f":"VLOOKUP(B640,'[1]002'!B:M,7,0)","v":"肖楚娇"},{"$f":"VLOOKUP(B640,'[1]002'!B:M,8,0)","v":"佛山市顺德区均安顺峰小学"},{"$f":"VLOOKUP(B640,'[1]002'!B:M,11,0)","v":"-"},{"$f":"VLOOKUP(B640,'[1]002'!B:M,12,0)","v":"-"}]
[639,"P305119090883","透视原理","小学组","微课","三等奖","佛山市",{"$f":"VLOOKUP(B641,'[1]002'!B:M,7,0)","v":"何姗文"},{"$f":"VLOOKUP(B641,'[1]002'!B:M,8,0)","v":"佛山市高明区明城镇明城小学"},{"$f":"VLOOKUP(B641,'[1]002'!B:M,11,0)","v":"-"},{"$f":"VLOOKUP(B641,'[1]002'!B:M,12,0)","v":"-"}]
[640,"P305119090952","小数的意义","小学组","微课","三等奖","佛山市",{"$f":"VLOOKUP(B642,'[1]002'!B:M,7,0)","v":"黄晓芳"},{"$f":"VLOOKUP(B642,'[1]002'!B:M,8,0)","v":"佛山市三水区西南街道中心小学"},{"$f":"VLOOKUP(B642,'[1]002'!B:M,11,0)","v":"-"},{"$f":"VLOOKUP(B642,'[1]002'!B:M,12,0)","v":"-"}]
[641,"P305119090941","淘气的作息时间","小学组","微课","三等奖","佛山市",{"$f":"VLOOKUP(B643,'[1]002'!B:M,7,0)","v":"金凤霞"},{"$f":"VLOOKUP(B643,'[1]002'!B:M,8,0)","v":"佛山市顺德区乐从劳村小学"},{"$f":"VLOOKUP(B643,'[1]002'!B:M,11,0)","v":"-"},{"$f":"VLOOKUP(B643,'[1]002'!B:M,12,0)","v":"-"}]
[642,"P305119090915","角的度量","小学组","微课","三等奖","佛山市",{"$f":"VLOOKUP(B644,'[1]002'!B:M,7,0)","v":"欧玉婷"},{"$f":"VLOOKUP(B644,'[1]002'!B:M,8,0)","v":"禅城区东鄱小学"},{"$f":"VLOOKUP(B644,'[1]002'!B:M,11,0)","v":"-"},{"$f":"VLOOKUP(B644,'[1]002'!B:M,12,0)","v":"-"}]
[643,"P305119090895","认识名词的单复数","小学组","微课","三等奖","佛山市",{"$f":"VLOOKUP(B645,'[1]002'!B:M,7,0)","v":"张惠敏"},{"$f":"VLOOKUP(B645,'[1]002'!B:M,8,0)","v":"佛山市南海区丹灶镇罗行小学"},{"$f":"VLOOKUP(B645,'[1]002'!B:M,11,0)","v":"-"},{"$f":"VLOOKUP(B645,'[1]002'!B:M,12,0)","v":"-"}]
[644,"P305119090947","Howmany数风筝","小学组","微课","三等奖","佛山市",{"$f":"VLOOKUP(B646,'[1]002'!B:M,7,0)","v":"黄然筠"},{"$f":"VLOOKUP(B646,'[1]002'!B:M,8,0)","v":"佛山市三水区白坭镇中心小学"},{"$f":"VLOOKUP(B646,'[1]002'!B:M,11,0)","v":"-"},{"$f":"VLOOKUP(B646,'[1]002'!B:M,12,0)","v":"-"}]
[645,"P305119090909","水墨胡萝卜","小学组","微课","三等奖","佛山市",{"$f":"VLOOKUP(B647,'[1]002'!B:M,7,0)","v":"缪会金"},{"$f":"VLOOKUP(B647,'[1]002'!B:M,8,0)","v":"佛山市南海区桂城街道桂江小学"},{"$f":"VLOOKUP(B647,'[1]002'!B:M,11,0)","v":"-"},{"$f":"VLOOKUP(B647,'[1]002'!B:M,12,0)","v":"-"}]
[646,"P305119090936","龙舟儿女中的说唱音乐","小学组","微课","三等奖","佛山市",{"$f":"VLOOKUP(B648,'[1]002'!B:M,7,0)","v":"庞晓玲"},{"$f":"VLOOKUP(B648,'[1]002'!B:M,8,0)","v":"佛山市顺德区乐从小学"},{"$f":"VLOOKUP(B648,'[1]002'!B:M,11,0)","v":"-"},{"$f":"VLOOKUP(B648,'[1]002'!B:M,12,0)","v":"-"}]
[647,"P305119090948","从零认识拍号","小学组","微课","三等奖","佛山市",{"$f":"VLOOKUP(B649,'[1]002'!B:M,7,0)","v":"李以豪"},{"$f":"VLOOKUP(B649,'[1]002'!B:M,8,0)","v":"佛山市三水区西南街道第九小学"},{"$f":"VLOOKUP(B649,'[1]002'!B:M,11,0)","v":"-"},{"$f":"VLOOKUP(B649,'[1]002'!B:M,12,0)","v":"-"}]
[648,"P305119087989","立体贺卡","小学组","微课","三等奖","韶关市",{"$f":"VLOOKUP(B650,'[1]002'!B:M,7,0)","v":"朱霞"},{"$f":"VLOOKUP(B650,'[1]002'!B:M,8,0)","v":"韶关市武江区东岗小学"},{"$f":"VLOOKUP(B650,'[1]002'!B:M,11,0)","v":"-"},{"$f":"VLOOKUP(B650,'[1]002'!B:M,12,0)","v":"-"}]
[649,"P305119088992","铺砖问题","小学组","微课","三等奖","韶关市",{"$f":"VLOOKUP(B651,'[1]002'!B:M,7,0)","v":"刘溢文"},{"$f":"VLOOKUP(B651,'[1]002'!B:M,8,0)","v":"始兴县顿岗镇中心小学"},{"$f":"VLOOKUP(B651,'[1]002'!B:M,11,0)","v":"-"},{"$f":"VLOOKUP(B651,'[1]002'!B:M,12,0)","v":"-"}]
[650,"P305119089799","公式的使用与填充","小学组","微课","三等奖","韶关市",{"$f":"VLOOKUP(B652,'[1]002'!B:M,7,0)","v":"蓝运晶"},{"$f":"VLOOKUP(B652,'[1]002'!B:M,8,0)","v":"翁源县龙仙第二小学"},{"$f":"VLOOKUP(B652,'[1]002'!B:M,11,0)","v":"张细秀"},{"$f":"VLOOKUP(B652,'[1]002'!B:M,12,0)","v":"翁源县龙仙第二小学"}]
[651,"P305119087893","水是什么样的","小学组","微课","三等奖","韶关市",{"$f":"VLOOKUP(B653,'[1]002'!B:M,7,0)","v":"胡慧娟"},{"$f":"VLOOKUP(B653,'[1]002'!B:M,8,0)","v":"韶关市武江区东岗小学"},{"$f":"VLOOKUP(B653,'[1]002'!B:M,11,0)","v":"贺中意"},{"$f":"VLOOKUP(B653,'[1]002'!B:M,12,0)","v":"韶关市武江区东岗小学"}]
[652,"P305119088826","什么是面积","小学组","微课","三等奖","韶关市",{"$f":"VLOOKUP(B654,'[1]002'!B:M,7,0)","v":"邓旭明"},{"$f":"VLOOKUP(B654,'[1]002'!B:M,8,0)","v":"翁源县龙仙第二小学"},{"$f":"VLOOKUP(B654,'[1]002'!B:M,11,0)","v":"李凤娟"},{"$f":"VLOOKUP(B654,'[1]002'!B:M,12,0)","v":"翁源县龙仙第三小学"}]
[653,"P305119090535","单三部曲式","小学组","微课","三等奖","韶关市",{"$f":"VLOOKUP(B655,'[1]002'!B:M,7,0)","v":"李艳群"},{"$f":"VLOOKUP(B655,'[1]002'!B:M,8,0)","v":"韶关市浈江区执信小学"},{"$f":"VLOOKUP(B655,'[1]002'!B:M,11,0)","v":"-"},{"$f":"VLOOKUP(B655,'[1]002'!B:M,12,0)","v":"-"}]
[654,"P305119088851","制作家乡美景演示文稿","小学组","微课","三等奖","韶关市",{"$f":"VLOOKUP(B656,'[1]002'!B:M,7,0)","v":"曾永康"},{"$f":"VLOOKUP(B656,'[1]002'!B:M,8,0)","v":"韶关市武江区沐溪小学"},{"$f":"VLOOKUP(B656,'[1]002'!B:M,11,0)","v":"李坤燕"},{"$f":"VLOOKUP(B656,'[1]002'!B:M,12,0)","v":"韶关市武江区金福园小学"}]
[655,"P305119087932","双重否定句改为肯定句","小学组","微课","三等奖","韶关市",{"$f":"VLOOKUP(B657,'[1]002'!B:M,7,0)","v":"黄佩"},{"$f":"VLOOKUP(B657,'[1]002'!B:M,8,0)","v":"韶关市武江区金福园小学"},{"$f":"VLOOKUP(B657,'[1]002'!B:M,11,0)","v":"-"},{"$f":"VLOOKUP(B657,'[1]002'!B:M,12,0)","v":"-"}]
[656,"P305119093419","走进詹天佑及京张铁路","小学组","微课","三等奖","河源市",{"$f":"VLOOKUP(B658,'[1]002'!B:M,7,0)","v":"李艳岚"},{"$f":"VLOOKUP(B658,'[1]002'!B:M,8,0)","v":"河源市第一小学"},{"$f":"VLOOKUP(B658,'[1]002'!B:M,11,0)","v":"-"},{"$f":"VLOOKUP(B658,'[1]002'!B:M,12,0)","v":"-"}]
[657,"P305119093428","拔萝卜","小学组","微课","三等奖","河源市",{"$f":"VLOOKUP(B659,'[1]002'!B:M,7,0)","v":"黄嫦平"},{"$f":"VLOOKUP(B659,'[1]002'!B:M,8,0)","v":"车田镇中心小学"},{"$f":"VLOOKUP(B659,'[1]002'!B:M,11,0)","v":"-"},{"$f":"VLOOKUP(B659,'[1]002'!B:M,12,0)","v":"-"}]
[658,"P305119093424","认识图形","小学组","微课","三等奖","河源市",{"$f":"VLOOKUP(B660,'[1]002'!B:M,7,0)","v":"廖晓婷"},{"$f":"VLOOKUP(B660,'[1]002'!B:M,8,0)","v":"上义镇招元小学"},{"$f":"VLOOKUP(B660,'[1]002'!B:M,11,0)","v":"-"},{"$f":"VLOOKUP(B660,'[1]002'!B:M,12,0)","v":"-"}]
[659,"P305119093434","查字典","小学组","微课","三等奖","河源市",{"$f":"VLOOKUP(B661,'[1]002'!B:M,7,0)","v":"王仕丹"},{"$f":"VLOOKUP(B661,'[1]002'!B:M,8,0)","v":"老隆镇涧洞小学"},{"$f":"VLOOKUP(B661,'[1]002'!B:M,11,0)","v":"-"},{"$f":"VLOOKUP(B661,'[1]002'!B:M,12,0)","v":"-"}]
[660,"P305119093415","PEP2第一单元语音课","小学组","微课","三等奖","河源市",{"$f":"VLOOKUP(B662,'[1]002'!B:M,7,0)","v":"王玲"},{"$f":"VLOOKUP(B662,'[1]002'!B:M,8,0)","v":"紫金县蓝塘中心小学"},{"$f":"VLOOKUP(B662,'[1]002'!B:M,11,0)","v":"-"},{"$f":"VLOOKUP(B662,'[1]002'!B:M,12,0)","v":"-"}]
[661,"P305119093413","整十数加减整十数","小学组","微课","三等奖","河源市",{"$f":"VLOOKUP(B663,'[1]002'!B:M,7,0)","v":"高悦芝"},{"$f":"VLOOKUP(B663,'[1]002'!B:M,8,0)","v":"河源市第二小学"},{"$f":"VLOOKUP(B663,'[1]002'!B:M,11,0)","v":"-"},{"$f":"VLOOKUP(B663,'[1]002'!B:M,12,0)","v":"-"}]
[662,"P305119093422","圆柱的认识","小学组","微课","三等奖","河源市",{"$f":"VLOOKUP(B664,'[1]002'!B:M,7,0)","v":"李远庭"},{"$f":"VLOOKUP(B664,'[1]002'!B:M,8,0)","v":"河源市第二小学"},{"$f":"VLOOKUP(B664,'[1]002'!B:M,11,0)","v":"-"},{"$f":"VLOOKUP(B664,'[1]002'!B:M,12,0)","v":"-"}]
[663,"P305119093423","圆的周长","小学组","微课","三等奖","河源市",{"$f":"VLOOKUP(B665,'[1]002'!B:M,7,0)","v":"钟丽珊"},{"$f":"VLOOKUP(B665,'[1]002'!B:M,8,0)","v":"东源县黄村镇中心小学"},{"$f":"VLOOKUP(B665,'[1]002'!B:M,11,0)","v":"曾爱玉"},{"$f":"VLOOKUP(B665,'[1]002'!B:M,12,0)","v":"东源县黄村镇中心小学"}]
[664,"P305119093421","PEP小学英语三年级上册Unit1ASpell","小学组","微课","三等奖","河源市",{"$f":"VLOOKUP(B666,'[1]002'!B:M,7,0)","v":"何丽婷"},{"$f":"VLOOKUP(B666,'[1]002'!B:M,8,0)","v":"河源市第二小学"},{"$f":"VLOOKUP(B666,'[1]002'!B:M,11,0)","v":"-"},{"$f":"VLOOKUP(B666,'[1]002'!B:M,12,0)","v":"-"}]
[665,"P305119079350","名数及名数的改写","小学组","微课","三等奖","梅州市",{"$f":"VLOOKUP(B667,'[1]002'!B:M,7,0)","v":"张新秀"},{"$f":"VLOOKUP(B667,'[1]002'!B:M,8,0)","v":"长潭镇上村小学"},{"$f":"VLOOKUP(B667,'[1]002'!B:M,11,0)","v":"-"},{"$f":"VLOOKUP(B667,'[1]002'!B:M,12,0)","v":"-"}]
[666,"P305119086624","认识形容词比较级","小学组","微课","三等奖","梅州市",{"$f":"VLOOKUP(B668,'[1]002'!B:M,7,0)","v":"黄健新"},{"$f":"VLOOKUP(B668,'[1]002'!B:M,8,0)","v":"大埔县教育局"},{"$f":"VLOOKUP(B668,'[1]002'!B:M,11,0)","v":"-"},{"$f":"VLOOKUP(B668,'[1]002'!B:M,12,0)","v":"-"}]
[667,"P305119092108","可数名词复数形式的构词规律","小学组","微课","三等奖","惠州市",{"$f":"VLOOKUP(B669,'[1]002'!B:M,7,0)","v":"陈小裕"},{"$f":"VLOOKUP(B669,'[1]002'!B:M,8,0)","v":"博罗县罗阳第六小学"},{"$f":"VLOOKUP(B669,'[1]002'!B:M,11,0)","v":"李卫平"},{"$f":"VLOOKUP(B669,'[1]002'!B:M,12,0)","v":"博罗县罗阳第六小学"}]
[668,"P305119092109","动词ing形式的构词规律","小学组","微课","三等奖","惠州市",{"$f":"VLOOKUP(B670,'[1]002'!B:M,7,0)","v":"袁贵友"},{"$f":"VLOOKUP(B670,'[1]002'!B:M,8,0)","v":"博罗县罗阳第六小学"},{"$f":"VLOOKUP(B670,'[1]002'!B:M,11,0)","v":"李卫平"},{"$f":"VLOOKUP(B670,'[1]002'!B:M,12,0)","v":"博罗县罗阳第六小学"}]
[669,"P305119092118","What_are_they_doing","小学组","微课","三等奖","惠州市",{"$f":"VLOOKUP(B671,'[1]002'!B:M,7,0)","v":"李冬梅"},{"$f":"VLOOKUP(B671,'[1]002'!B:M,8,0)","v":"博罗县罗阳第六小学"},{"$f":"VLOOKUP(B671,'[1]002'!B:M,11,0)","v":"李卫平"},{"$f":"VLOOKUP(B671,'[1]002'!B:M,12,0)","v":"博罗县罗阳第六小学"}]
[670,"P305119092340","制作形状补间动画","小学组","微课","三等奖","惠州市",{"$f":"VLOOKUP(B672,'[1]002'!B:M,7,0)","v":"李俊芬"},{"$f":"VLOOKUP(B672,'[1]002'!B:M,8,0)","v":"惠州市合生实验学校"},{"$f":"VLOOKUP(B672,'[1]002'!B:M,11,0)","v":"-"},{"$f":"VLOOKUP(B672,'[1]002'!B:M,12,0)","v":"-"}]
[671,"P305119092158","反问句改陈述句","小学组","微课","三等奖","惠州市",{"$f":"VLOOKUP(B673,'[1]002'!B:M,7,0)","v":"黄文兵"},{"$f":"VLOOKUP(B673,'[1]002'!B:M,8,0)","v":"惠东县白花新联小学"},{"$f":"VLOOKUP(B673,'[1]002'!B:M,11,0)","v":"-"},{"$f":"VLOOKUP(B673,'[1]002'!B:M,12,0)","v":"-"}]
[672,"P305119092112","these和those的区别","小学组","微课","三等奖","惠州市",{"$f":"VLOOKUP(B674,'[1]002'!B:M,7,0)","v":"陈文洁"},{"$f":"VLOOKUP(B674,'[1]002'!B:M,8,0)","v":"博罗县罗阳第六小学"},{"$f":"VLOOKUP(B674,'[1]002'!B:M,11,0)","v":"李卫平"},{"$f":"VLOOKUP(B674,'[1]002'!B:M,12,0)","v":"博罗县罗阳第六小学"}]
[673,"P305119092339","制作个人小名片","小学组","微课","三等奖","惠州市",{"$f":"VLOOKUP(B675,'[1]002'!B:M,7,0)","v":"欧颖怡"},{"$f":"VLOOKUP(B675,'[1]002'!B:M,8,0)","v":"惠州市第九小学"},{"$f":"VLOOKUP(B675,'[1]002'!B:M,11,0)","v":"-"},{"$f":"VLOOKUP(B675,'[1]002'!B:M,12,0)","v":"-"}]
[674,"P305119092102","分饼","小学组","微课","三等奖","惠州市",{"$f":"VLOOKUP(B676,'[1]002'!B:M,7,0)","v":"伍艳"},{"$f":"VLOOKUP(B676,'[1]002'!B:M,8,0)","v":"惠州仲恺高新区第三小学"},{"$f":"VLOOKUP(B676,'[1]002'!B:M,11,0)","v":"甘伟城"},{"$f":"VLOOKUP(B676,'[1]002'!B:M,12,0)","v":"惠州仲恺高新区第三小学"}]
[675,"P305119092101","猫抓老鼠","小学组","微课","三等奖","惠州市",{"$f":"VLOOKUP(B677,'[1]002'!B:M,7,0)","v":"伍艳"},{"$f":"VLOOKUP(B677,'[1]002'!B:M,8,0)","v":"惠州仲恺高新区第三小学"},{"$f":"VLOOKUP(B677,'[1]002'!B:M,11,0)","v":"甘伟城"},{"$f":"VLOOKUP(B677,'[1]002'!B:M,12,0)","v":"惠州仲恺高新区第三小学"}]
[676,"P305119092106","三角形的高","小学组","微课","三等奖","惠州市",{"$f":"VLOOKUP(B678,'[1]002'!B:M,7,0)","v":"李摇婷"},{"$f":"VLOOKUP(B678,'[1]002'!B:M,8,0)","v":"龙城第五小学"},{"$f":"VLOOKUP(B678,'[1]002'!B:M,11,0)","v":"叶润平"},{"$f":"VLOOKUP(B678,'[1]002'!B:M,12,0)","v":"龙城第五小学"}]
[677,"P305119092563","摆手礼和美中心最美的风景","小学组","微课","三等奖","东莞市",{"$f":"VLOOKUP(B679,'[1]002'!B:M,7,0)","v":"魏燕霞"},{"$f":"VLOOKUP(B679,'[1]002'!B:M,8,0)","v":"东莞市大朗镇中心小学"},{"$f":"VLOOKUP(B679,'[1]002'!B:M,11,0)","v":"黄韵"},{"$f":"VLOOKUP(B679,'[1]002'!B:M,12,0)","v":"东莞市大朗镇中心小学"}]
[678,"P305119092567","Wearefamily","小学组","微课","三等奖","东莞市",{"$f":"VLOOKUP(B680,'[1]002'!B:M,7,0)","v":"江妙娟"},{"$f":"VLOOKUP(B680,'[1]002'!B:M,8,0)","v":"东莞市东城第三小学"},{"$f":"VLOOKUP(B680,'[1]002'!B:M,11,0)","v":"-"},{"$f":"VLOOKUP(B680,'[1]002'!B:M,12,0)","v":"-"}]
[679,"P305119092559","肩肘倒立体操技巧动作","小学组","微课","三等奖","东莞市",{"$f":"VLOOKUP(B681,'[1]002'!B:M,7,0)","v":"陈尧贤"},{"$f":"VLOOKUP(B681,'[1]002'!B:M,8,0)","v":"东莞市东华小学"},{"$f":"VLOOKUP(B681,'[1]002'!B:M,11,0)","v":"-"},{"$f":"VLOOKUP(B681,'[1]002'!B:M,12,0)","v":"-"}]
[680,"P305119088150","借物喻人","小学组","微课","三等奖","中山市",{"$f":"VLOOKUP(B682,'[1]002'!B:M,7,0)","v":"李华珍"},{"$f":"VLOOKUP(B682,'[1]002'!B:M,8,0)","v":"中山市小榄镇绩东二小学"},{"$f":"VLOOKUP(B682,'[1]002'!B:M,11,0)","v":"-"},{"$f":"VLOOKUP(B682,'[1]002'!B:M,12,0)","v":"-"}]
[681,"P305119089039","数据的简单统计","小学组","微课","三等奖","中山市",{"$f":"VLOOKUP(B683,'[1]002'!B:M,7,0)","v":"霍静妍"},{"$f":"VLOOKUP(B683,'[1]002'!B:M,8,0)","v":"中山火炬高技术产业开发区第四小学"},{"$f":"VLOOKUP(B683,'[1]002'!B:M,11,0)","v":"-"},{"$f":"VLOOKUP(B683,'[1]002'!B:M,12,0)","v":"-"}]
[682,"P305119088280","有趣的鞋","小学组","微课","三等奖","中山市",{"$f":"VLOOKUP(B684,'[1]002'!B:M,7,0)","v":"赵润莲"},{"$f":"VLOOKUP(B684,'[1]002'!B:M,8,0)","v":"中山市中港英文学校"},{"$f":"VLOOKUP(B684,'[1]002'!B:M,11,0)","v":"-"},{"$f":"VLOOKUP(B684,'[1]002'!B:M,12,0)","v":"-"}]
[683,"P305119088219","巧用半径的平方求圆的面积","小学组","微课","三等奖","中山市",{"$f":"VLOOKUP(B685,'[1]002'!B:M,7,0)","v":"钟淑燕"},{"$f":"VLOOKUP(B685,'[1]002'!B:M,8,0)","v":"中山市板芙镇广福小学"},{"$f":"VLOOKUP(B685,'[1]002'!B:M,11,0)","v":"梁志宏"},{"$f":"VLOOKUP(B685,'[1]002'!B:M,12,0)","v":"中山市板芙镇广福小学"}]
[684,"P305119088466","平面图形的面积的整理与复习","小学组","微课","三等奖","中山市",{"$f":"VLOOKUP(B686,'[1]002'!B:M,7,0)","v":"曾丽婵"},{"$f":"VLOOKUP(B686,'[1]002'!B:M,8,0)","v":"中山市板芙镇板芙小学"},{"$f":"VLOOKUP(B686,'[1]002'!B:M,11,0)","v":"彭亚燕"},{"$f":"VLOOKUP(B686,'[1]002'!B:M,12,0)","v":"中山市板芙镇板芙小学"}]
[685,"P305119089111","小说的矛盾冲突","小学组","微课","三等奖","中山市",{"$f":"VLOOKUP(B687,'[1]002'!B:M,7,0)","v":"吕云秀"},{"$f":"VLOOKUP(B687,'[1]002'!B:M,8,0)","v":"中山市菊城小学"},{"$f":"VLOOKUP(B687,'[1]002'!B:M,11,0)","v":"周扣兰"},{"$f":"VLOOKUP(B687,'[1]002'!B:M,12,0)","v":"中山市菊城小学"}]
[686,"P305119088277","水墨山石的画法","小学组","微课","三等奖","中山市",{"$f":"VLOOKUP(B688,'[1]002'!B:M,7,0)","v":"朱汝明"},{"$f":"VLOOKUP(B688,'[1]002'!B:M,8,0)","v":"中山市石岐杨仙逸小学"},{"$f":"VLOOKUP(B688,'[1]002'!B:M,11,0)","v":"-"},{"$f":"VLOOKUP(B688,'[1]002'!B:M,12,0)","v":"-"}]
[687,"P305119088215","聆听 森林狂想曲","小学组","微课","三等奖","中山市",{"$f":"VLOOKUP(B689,'[1]002'!B:M,7,0)","v":"李晓军"},{"$f":"VLOOKUP(B689,'[1]002'!B:M,8,0)","v":"中山市西区沙朗小学"},{"$f":"VLOOKUP(B689,'[1]002'!B:M,11,0)","v":"-"},{"$f":"VLOOKUP(B689,'[1]002'!B:M,12,0)","v":"-"}]
[688,"P305119092346","部首识字法","小学组","微课","三等奖","江门市",{"$f":"VLOOKUP(B690,'[1]002'!B:M,7,0)","v":"李瑞玲"},{"$f":"VLOOKUP(B690,'[1]002'!B:M,8,0)","v":"江门市新会区会城平山小学"},{"$f":"VLOOKUP(B690,'[1]002'!B:M,11,0)","v":"-"},{"$f":"VLOOKUP(B690,'[1]002'!B:M,12,0)","v":"-"}]
[689,"P305119091837","学写留言条","小学组","微课","三等奖","江门市",{"$f":"VLOOKUP(B691,'[1]002'!B:M,7,0)","v":"颜明雪"},{"$f":"VLOOKUP(B691,'[1]002'!B:M,8,0)","v":"外海中路小学"},{"$f":"VLOOKUP(B691,'[1]002'!B:M,11,0)","v":"-"},{"$f":"VLOOKUP(B691,'[1]002'!B:M,12,0)","v":"-"}]
[690,"P305119091776","设置对象的动态效果","小学组","微课","三等奖","江门市",{"$f":"VLOOKUP(B692,'[1]002'!B:M,7,0)","v":"容秀梅"},{"$f":"VLOOKUP(B692,'[1]002'!B:M,8,0)","v":"江门市紫茶小学"},{"$f":"VLOOKUP(B692,'[1]002'!B:M,11,0)","v":"-"},{"$f":"VLOOKUP(B692,'[1]002'!B:M,12,0)","v":"-"}]
[691,"P305119091782","初识Logo语言","小学组","微课","三等奖","江门市",{"$f":"VLOOKUP(B693,'[1]002'!B:M,7,0)","v":"林春菊"},{"$f":"VLOOKUP(B693,'[1]002'!B:M,8,0)","v":"江门市蓬江区杜阮镇瑶芦小学"},{"$f":"VLOOKUP(B693,'[1]002'!B:M,11,0)","v":"-"},{"$f":"VLOOKUP(B693,'[1]002'!B:M,12,0)","v":"-"}]
[692,"P305119092657","把物质混合起来","小学组","微课","三等奖","江门市",{"$f":"VLOOKUP(B694,'[1]002'!B:M,7,0)","v":"黄俏怡"},{"$f":"VLOOKUP(B694,'[1]002'!B:M,8,0)","v":"江门市新会区三江镇九子沙小学"},{"$f":"VLOOKUP(B694,'[1]002'!B:M,11,0)","v":"-"},{"$f":"VLOOKUP(B694,'[1]002'!B:M,12,0)","v":"-"}]
[693,"P305119091835","分清比喻和拟人","小学组","微课","三等奖","江门市",{"$f":"VLOOKUP(B695,'[1]002'!B:M,7,0)","v":"粟苗"},{"$f":"VLOOKUP(B695,'[1]002'!B:M,8,0)","v":"外海银泉小学"},{"$f":"VLOOKUP(B695,'[1]002'!B:M,11,0)","v":"-"},{"$f":"VLOOKUP(B695,'[1]002'!B:M,12,0)","v":"-"}]
[694,"P305119092008","图形的旋转","小学组","微课","三等奖","江门市",{"$f":"VLOOKUP(B696,'[1]002'!B:M,7,0)","v":"区小媚"},{"$f":"VLOOKUP(B696,'[1]002'!B:M,8,0)","v":"开平市水口镇致和小学"},{"$f":"VLOOKUP(B696,'[1]002'!B:M,11,0)","v":"-"},{"$f":"VLOOKUP(B696,'[1]002'!B:M,12,0)","v":"-"}]
[695,"P305119092060","解决问题——拼角","小学组","微课","三等奖","江门市",{"$f":"VLOOKUP(B697,'[1]002'!B:M,7,0)","v":"吴英连"},{"$f":"VLOOKUP(B697,'[1]002'!B:M,8,0)","v":"鹤山市沙坪街道第三小学"},{"$f":"VLOOKUP(B697,'[1]002'!B:M,11,0)","v":"-"},{"$f":"VLOOKUP(B697,'[1]002'!B:M,12,0)","v":"-"}]
[696,"P305119092062","男生女生大不同","小学组","微课","三等奖","江门市",{"$f":"VLOOKUP(B698,'[1]002'!B:M,7,0)","v":"陶丹红"},{"$f":"VLOOKUP(B698,'[1]002'!B:M,8,0)","v":"鹤山市沙坪街道第四小学"},{"$f":"VLOOKUP(B698,'[1]002'!B:M,11,0)","v":"-"},{"$f":"VLOOKUP(B698,'[1]002'!B:M,12,0)","v":"-"}]
[697,"P305119091775","分数的初步认识","小学组","微课","三等奖","江门市",{"$f":"VLOOKUP(B699,'[1]002'!B:M,7,0)","v":"陈佩灵"},{"$f":"VLOOKUP(B699,'[1]002'!B:M,8,0)","v":"江门市农林小学"},{"$f":"VLOOKUP(B699,'[1]002'!B:M,11,0)","v":"-"},{"$f":"VLOOKUP(B699,'[1]002'!B:M,12,0)","v":"-"}]
[698,"P305119091778","三角形的内角和","小学组","微课","三等奖","江门市",{"$f":"VLOOKUP(B700,'[1]002'!B:M,7,0)","v":"黄美娟"},{"$f":"VLOOKUP(B700,'[1]002'!B:M,8,0)","v":"江门市紫沙小学"},{"$f":"VLOOKUP(B700,'[1]002'!B:M,11,0)","v":"-"},{"$f":"VLOOKUP(B700,'[1]002'!B:M,12,0)","v":"-"}]
[699,"P305119092089","圆的认识","小学组","微课","三等奖","江门市",{"$f":"VLOOKUP(B701,'[1]002'!B:M,7,0)","v":"卢焕琼"},{"$f":"VLOOKUP(B701,'[1]002'!B:M,8,0)","v":"江门市新会区大鳌镇特沙小学"},{"$f":"VLOOKUP(B701,'[1]002'!B:M,11,0)","v":"-"},{"$f":"VLOOKUP(B701,'[1]002'!B:M,12,0)","v":"-"}]
[700,"P305119091777","therebe","小学组","微课","三等奖","江门市",{"$f":"VLOOKUP(B702,'[1]002'!B:M,7,0)","v":"温丽莉"},{"$f":"VLOOKUP(B702,'[1]002'!B:M,8,0)","v":"江门市陈白沙小学"},{"$f":"VLOOKUP(B702,'[1]002'!B:M,11,0)","v":"-"},{"$f":"VLOOKUP(B702,'[1]002'!B:M,12,0)","v":"-"}]
[701,"P305119091823","Lets与Letus","小学组","微课","三等奖","江门市",{"$f":"VLOOKUP(B703,'[1]002'!B:M,7,0)","v":"梁艳娟"},{"$f":"VLOOKUP(B703,'[1]002'!B:M,8,0)","v":"外海麻一佑启学校"},{"$f":"VLOOKUP(B703,'[1]002'!B:M,11,0)","v":"-"},{"$f":"VLOOKUP(B703,'[1]002'!B:M,12,0)","v":"-"}]
[702,"P305119092345","用字母表示数","小学组","微课","三等奖","江门市",{"$f":"VLOOKUP(B704,'[1]002'!B:M,7,0)","v":"梁丽霞"},{"$f":"VLOOKUP(B704,'[1]002'!B:M,8,0)","v":"江门市新会区古井镇岭东北小学"},{"$f":"VLOOKUP(B704,'[1]002'!B:M,11,0)","v":"-"},{"$f":"VLOOKUP(B704,'[1]002'!B:M,12,0)","v":"-"}]
[703,"P305119092009","三角形边的关系","小学组","微课","三等奖","江门市",{"$f":"VLOOKUP(B705,'[1]002'!B:M,7,0)","v":"李小芳"},{"$f":"VLOOKUP(B705,'[1]002'!B:M,8,0)","v":"开平市长沙谭宏帙纪念小学"},{"$f":"VLOOKUP(B705,'[1]002'!B:M,11,0)","v":"-"},{"$f":"VLOOKUP(B705,'[1]002'!B:M,12,0)","v":"-"}]
[704,"P305119091780","秒的认识","小学组","微课","三等奖","江门市",{"$f":"VLOOKUP(B706,'[1]002'!B:M,7,0)","v":"李柳清"},{"$f":"VLOOKUP(B706,'[1]002'!B:M,8,0)","v":"江门市蓬江区发展小学"},{"$f":"VLOOKUP(B706,'[1]002'!B:M,11,0)","v":"-"},{"$f":"VLOOKUP(B706,'[1]002'!B:M,12,0)","v":"-"}]
[705,"P305119092347","搭配一","小学组","微课","三等奖","江门市",{"$f":"VLOOKUP(B707,'[1]002'!B:M,7,0)","v":"黎务珍"},{"$f":"VLOOKUP(B707,'[1]002'!B:M,8,0)","v":"江门市新会区会城平山小学"},{"$f":"VLOOKUP(B707,'[1]002'!B:M,11,0)","v":"-"},{"$f":"VLOOKUP(B707,'[1]002'!B:M,12,0)","v":"-"}]
[706,"P305119091825","感知音乐的力度","小学组","微课","三等奖","江门市",{"$f":"VLOOKUP(B708,'[1]002'!B:M,7,0)","v":"王婷婷"},{"$f":"VLOOKUP(B708,'[1]002'!B:M,8,0)","v":"江海区华兴小学"},{"$f":"VLOOKUP(B708,'[1]002'!B:M,11,0)","v":"-"},{"$f":"VLOOKUP(B708,'[1]002'!B:M,12,0)","v":"-"}]
[707,"P305119092921","“神医”治病句","小学组","微课","三等奖","湛江市",{"$f":"VLOOKUP(B709,'[1]002'!B:M,7,0)","v":"何茵"},{"$f":"VLOOKUP(B709,'[1]002'!B:M,8,0)","v":"湛江市第十七中学"},{"$f":"VLOOKUP(B709,'[1]002'!B:M,11,0)","v":"-"},{"$f":"VLOOKUP(B709,'[1]002'!B:M,12,0)","v":"-"}]
[708,"P305119092925","渔歌子","小学组","微课","三等奖","湛江市",{"$f":"VLOOKUP(B710,'[1]002'!B:M,7,0)","v":"邓文英"},{"$f":"VLOOKUP(B710,'[1]002'!B:M,8,0)","v":"雷州市实验小学"},{"$f":"VLOOKUP(B710,'[1]002'!B:M,11,0)","v":"-"},{"$f":"VLOOKUP(B710,'[1]002'!B:M,12,0)","v":"-"}]
[709,"P305119092911","动作描写","小学组","微课","三等奖","湛江市",{"$f":"VLOOKUP(B711,'[1]002'!B:M,7,0)","v":"钟佩银"},{"$f":"VLOOKUP(B711,'[1]002'!B:M,8,0)","v":"湛江市第八小学"},{"$f":"VLOOKUP(B711,'[1]002'!B:M,11,0)","v":"-"},{"$f":"VLOOKUP(B711,'[1]002'!B:M,12,0)","v":"-"}]
[710,"P305119092927","把句子说具体","小学组","微课","三等奖","湛江市",{"$f":"VLOOKUP(B712,'[1]002'!B:M,7,0)","v":"劳晓嫦"},{"$f":"VLOOKUP(B712,'[1]002'!B:M,8,0)","v":"雷州市实验小学"},{"$f":"VLOOKUP(B712,'[1]002'!B:M,11,0)","v":"-"},{"$f":"VLOOKUP(B712,'[1]002'!B:M,12,0)","v":"-"}]
[711,"P305119092915","PEP英语四年级上册Unit5语音课字母e的发音","小学组","微课","三等奖","湛江市",{"$f":"VLOOKUP(B713,'[1]002'!B:M,7,0)","v":"何青映"},{"$f":"VLOOKUP(B713,'[1]002'!B:M,8,0)","v":"湛江市第十九小学"},{"$f":"VLOOKUP(B713,'[1]002'!B:M,11,0)","v":"-"},{"$f":"VLOOKUP(B713,'[1]002'!B:M,12,0)","v":"-"}]
[712,"P305119092910","音的走向","小学组","微课","三等奖","湛江市",{"$f":"VLOOKUP(B714,'[1]002'!B:M,7,0)","v":"詹琳慧"},{"$f":"VLOOKUP(B714,'[1]002'!B:M,8,0)","v":"廉江市第十八小学"},{"$f":"VLOOKUP(B714,'[1]002'!B:M,11,0)","v":"-"},{"$f":"VLOOKUP(B714,'[1]002'!B:M,12,0)","v":"-"}]
[713,"P305119092914","相遇问题","小学组","微课","三等奖","湛江市",{"$f":"VLOOKUP(B715,'[1]002'!B:M,7,0)","v":"王钦"},{"$f":"VLOOKUP(B715,'[1]002'!B:M,8,0)","v":"遂溪县遂城第四小学"},{"$f":"VLOOKUP(B715,'[1]002'!B:M,11,0)","v":"-"},{"$f":"VLOOKUP(B715,'[1]002'!B:M,12,0)","v":"-"}]
[714,"P305119092912","陈述句改为拟人句","小学组","微课","三等奖","湛江市",{"$f":"VLOOKUP(B716,'[1]002'!B:M,7,0)","v":"阮文柳"},{"$f":"VLOOKUP(B716,'[1]002'!B:M,8,0)","v":"廉江市第十八小学"},{"$f":"VLOOKUP(B716,'[1]002'!B:M,11,0)","v":"-"},{"$f":"VLOOKUP(B716,'[1]002'!B:M,12,0)","v":"-"}]
[715,"P305119092922","长方体的认识","小学组","微课","三等奖","湛江市",{"$f":"VLOOKUP(B717,'[1]002'!B:M,7,0)","v":"李杨春"},{"$f":"VLOOKUP(B717,'[1]002'!B:M,8,0)","v":"湛江经济技术开发区第四小学"},{"$f":"VLOOKUP(B717,'[1]002'!B:M,11,0)","v":"-"},{"$f":"VLOOKUP(B717,'[1]002'!B:M,12,0)","v":"-"}]
[716,"P305119092913","圆的面积一","小学组","微课","三等奖","湛江市",{"$f":"VLOOKUP(B718,'[1]002'!B:M,7,0)","v":"曹秋霞"},{"$f":"VLOOKUP(B718,'[1]002'!B:M,8,0)","v":"遂溪县遂城第四小学"},{"$f":"VLOOKUP(B718,'[1]002'!B:M,11,0)","v":"-"},{"$f":"VLOOKUP(B718,'[1]002'!B:M,12,0)","v":"-"}]
[717,"P305119091417","动静结合写景物","小学组","微课","三等奖","茂名市",{"$f":"VLOOKUP(B719,'[1]002'!B:M,7,0)","v":"古洪英"},{"$f":"VLOOKUP(B719,'[1]002'!B:M,8,0)","v":"化州市第二小学"},{"$f":"VLOOKUP(B719,'[1]002'!B:M,11,0)","v":"周春燕"},{"$f":"VLOOKUP(B719,'[1]002'!B:M,12,0)","v":"化州市南盛街道乐堂小学克坭教学点"}]
[718,"P305119091795","动物儿歌","小学组","微课","三等奖","茂名市",{"$f":"VLOOKUP(B720,'[1]002'!B:M,7,0)","v":"柯爱红"},{"$f":"VLOOKUP(B720,'[1]002'!B:M,8,0)","v":"茂名市愉园小学"},{"$f":"VLOOKUP(B720,'[1]002'!B:M,11,0)","v":"-"},{"$f":"VLOOKUP(B720,'[1]002'!B:M,12,0)","v":"-"}]
[719,"P305119091321","听故事，讲故事","小学组","微课","三等奖","茂名市",{"$f":"VLOOKUP(B721,'[1]002'!B:M,7,0)","v":"冯小霞"},{"$f":"VLOOKUP(B721,'[1]002'!B:M,8,0)","v":"茂名市官山学校"},{"$f":"VLOOKUP(B721,'[1]002'!B:M,11,0)","v":"-"},{"$f":"VLOOKUP(B721,'[1]002'!B:M,12,0)","v":"-"}]
[720,"P305119091320","微写作之描写动物","小学组","微课","三等奖","茂名市",{"$f":"VLOOKUP(B722,'[1]002'!B:M,7,0)","v":"杜冬怡"},{"$f":"VLOOKUP(B722,'[1]002'!B:M,8,0)","v":"茂名市官山学校"},{"$f":"VLOOKUP(B722,'[1]002'!B:M,11,0)","v":"-"},{"$f":"VLOOKUP(B722,'[1]002'!B:M,12,0)","v":"-"}]
[721,"P305119091386","三年级下册模块三第二单元","小学组","微课","三等奖","茂名市",{"$f":"VLOOKUP(B723,'[1]002'!B:M,7,0)","v":"吴粤宏"},{"$f":"VLOOKUP(B723,'[1]002'!B:M,8,0)","v":"茂名市福华小学"},{"$f":"VLOOKUP(B723,'[1]002'!B:M,11,0)","v":"-"},{"$f":"VLOOKUP(B723,'[1]002'!B:M,12,0)","v":"-"}]
[722,"P305119091318","有几瓶牛奶（20以内的进位加法-九加几）","小学组","微课","三等奖","茂名市",{"$f":"VLOOKUP(B724,'[1]002'!B:M,7,0)","v":"莫小婵"},{"$f":"VLOOKUP(B724,'[1]002'!B:M,8,0)","v":"高州市文明路小学"},{"$f":"VLOOKUP(B724,'[1]002'!B:M,11,0)","v":"-"},{"$f":"VLOOKUP(B724,'[1]002'!B:M,12,0)","v":"-"}]
[723,"P305119091323","实用的留言条","小学组","微课","三等奖","茂名市",{"$f":"VLOOKUP(B725,'[1]002'!B:M,7,0)","v":"李银"},{"$f":"VLOOKUP(B725,'[1]002'!B:M,8,0)","v":"信宜市教育城小学"},{"$f":"VLOOKUP(B725,'[1]002'!B:M,11,0)","v":"-"},{"$f":"VLOOKUP(B725,'[1]002'!B:M,12,0)","v":"-"}]
[724,"P305119091322","观察的范围","小学组","微课","三等奖","茂名市",{"$f":"VLOOKUP(B726,'[1]002'!B:M,7,0)","v":"杨宇彤"},{"$f":"VLOOKUP(B726,'[1]002'!B:M,8,0)","v":"茂名市方兴小学"},{"$f":"VLOOKUP(B726,'[1]002'!B:M,11,0)","v":"-"},{"$f":"VLOOKUP(B726,'[1]002'!B:M,12,0)","v":"-"}]
[725,"P305119091416","找最小公倍数的方法","小学组","微课","三等奖","茂名市",{"$f":"VLOOKUP(B727,'[1]002'!B:M,7,0)","v":"莫少艳"},{"$f":"VLOOKUP(B727,'[1]002'!B:M,8,0)","v":"茂名市福华小学"},{"$f":"VLOOKUP(B727,'[1]002'!B:M,11,0)","v":"-"},{"$f":"VLOOKUP(B727,'[1]002'!B:M,12,0)","v":"-"}]
[726,"P305119089838","编辑景点图文资料","小学组","微课","三等奖","肇庆市",{"$f":"VLOOKUP(B728,'[1]002'!B:M,7,0)","v":"邓诗颖"},{"$f":"VLOOKUP(B728,'[1]002'!B:M,8,0)","v":"肇庆高新区实验小学"},{"$f":"VLOOKUP(B728,'[1]002'!B:M,11,0)","v":"李坤明"},{"$f":"VLOOKUP(B728,'[1]002'!B:M,12,0)","v":"肇庆高新区实验小学"}]
[727,"P305119089840","小写转大写","小学组","微课","三等奖","肇庆市",{"$f":"VLOOKUP(B729,'[1]002'!B:M,7,0)","v":"李坤明"},{"$f":"VLOOKUP(B729,'[1]002'!B:M,8,0)","v":"肇庆高新区实验小学"},{"$f":"VLOOKUP(B729,'[1]002'!B:M,11,0)","v":"邓诗颖"},{"$f":"VLOOKUP(B729,'[1]002'!B:M,12,0)","v":"肇庆高新区实验小学"}]
[728,"P305119089857","增强记忆力","小学组","微课","三等奖","肇庆市",{"$f":"VLOOKUP(B730,'[1]002'!B:M,7,0)","v":"邱海英"},{"$f":"VLOOKUP(B730,'[1]002'!B:M,8,0)","v":"肇庆高新区实验小学"},{"$f":"VLOOKUP(B730,'[1]002'!B:M,11,0)","v":"-"},{"$f":"VLOOKUP(B730,'[1]002'!B:M,12,0)","v":"-"}]
[729,"P305119091203","画出公园一角","小学组","微课","三等奖","肇庆市",{"$f":"VLOOKUP(B731,'[1]002'!B:M,7,0)","v":"陈宗荣"},{"$f":"VLOOKUP(B731,'[1]002'!B:M,8,0)","v":"鼎湖区沙浦镇中心小学"},{"$f":"VLOOKUP(B731,'[1]002'!B:M,11,0)","v":"-"},{"$f":"VLOOKUP(B731,'[1]002'!B:M,12,0)","v":"-"}]
[730,"P305119091200","比喻句","小学组","微课","三等奖","肇庆市",{"$f":"VLOOKUP(B732,'[1]002'!B:M,7,0)","v":"李旭琴"},{"$f":"VLOOKUP(B732,'[1]002'!B:M,8,0)","v":"鼎湖区桂城街道办事处桂城中心小学"},{"$f":"VLOOKUP(B732,'[1]002'!B:M,11,0)","v":"-"},{"$f":"VLOOKUP(B732,'[1]002'!B:M,12,0)","v":"-"}]
[731,"P305119089856","快乐绘图之绘制小黄人","小学组","微课","三等奖","肇庆市",{"$f":"VLOOKUP(B733,'[1]002'!B:M,7,0)","v":"李坤明"},{"$f":"VLOOKUP(B733,'[1]002'!B:M,8,0)","v":"肇庆高新区实验小学"},{"$f":"VLOOKUP(B733,'[1]002'!B:M,11,0)","v":"邓诗颖"},{"$f":"VLOOKUP(B733,'[1]002'!B:M,12,0)","v":"肇庆高新区实验小学"}]
[732,"P305119089842","长方形正方形面积的计算","小学组","微课","三等奖","肇庆市",{"$f":"VLOOKUP(B734,'[1]002'!B:M,7,0)","v":"关春霞"},{"$f":"VLOOKUP(B734,'[1]002'!B:M,8,0)","v":"肇庆高新区实验小学"},{"$f":"VLOOKUP(B734,'[1]002'!B:M,11,0)","v":"-"},{"$f":"VLOOKUP(B734,'[1]002'!B:M,12,0)","v":"-"}]
[733,"P305119089841","平行四边形的面积","小学组","微课","三等奖","肇庆市",{"$f":"VLOOKUP(B735,'[1]002'!B:M,7,0)","v":"陈怡"},{"$f":"VLOOKUP(B735,'[1]002'!B:M,8,0)","v":"肇庆高新技术产业开发区中心小学"},{"$f":"VLOOKUP(B735,'[1]002'!B:M,11,0)","v":"-"},{"$f":"VLOOKUP(B735,'[1]002'!B:M,12,0)","v":"-"}]
[734,"P305119091198","百分数的意义","小学组","微课","三等奖","肇庆市",{"$f":"VLOOKUP(B736,'[1]002'!B:M,7,0)","v":"李砚霞"},{"$f":"VLOOKUP(B736,'[1]002'!B:M,8,0)","v":"鼎湖逸夫小学"},{"$f":"VLOOKUP(B736,'[1]002'!B:M,11,0)","v":"-"},{"$f":"VLOOKUP(B736,'[1]002'!B:M,12,0)","v":"-"}]
[735,"P305119089839","24时计时法","小学组","微课","三等奖","肇庆市",{"$f":"VLOOKUP(B737,'[1]002'!B:M,7,0)","v":"陈玲"},{"$f":"VLOOKUP(B737,'[1]002'!B:M,8,0)","v":"肇庆高新技术产业开发区中心小学"},{"$f":"VLOOKUP(B737,'[1]002'!B:M,11,0)","v":"-"},{"$f":"VLOOKUP(B737,'[1]002'!B:M,12,0)","v":"-"}]
[736,"P305119089846","一个数除以小数","小学组","微课","三等奖","肇庆市",{"$f":"VLOOKUP(B738,'[1]002'!B:M,7,0)","v":"郭蕾"},{"$f":"VLOOKUP(B738,'[1]002'!B:M,8,0)","v":"肇庆高新区实验小学"},{"$f":"VLOOKUP(B738,'[1]002'!B:M,11,0)","v":"-"},{"$f":"VLOOKUP(B738,'[1]002'!B:M,12,0)","v":"-"}]
[737,"P305119089844","Days of the week","小学组","微课","三等奖","肇庆市",{"$f":"VLOOKUP(B739,'[1]002'!B:M,7,0)","v":"吴声丽"},{"$f":"VLOOKUP(B739,'[1]002'!B:M,8,0)","v":"肇庆高新区实验小学"},{"$f":"VLOOKUP(B739,'[1]002'!B:M,11,0)","v":"-"},{"$f":"VLOOKUP(B739,'[1]002'!B:M,12,0)","v":"-"}]
[738,"P305119089843","简单的小数加、减法","小学组","微课","三等奖","肇庆市",{"$f":"VLOOKUP(B740,'[1]002'!B:M,7,0)","v":"李世琴"},{"$f":"VLOOKUP(B740,'[1]002'!B:M,8,0)","v":"肇庆高新区实验小学"},{"$f":"VLOOKUP(B740,'[1]002'!B:M,11,0)","v":"-"},{"$f":"VLOOKUP(B740,'[1]002'!B:M,12,0)","v":"-"}]
[739,"P305119091195","小海龟重复命令讲解","小学组","微课","三等奖","肇庆市",{"$f":"VLOOKUP(B741,'[1]002'!B:M,7,0)","v":"何斌海"},{"$f":"VLOOKUP(B741,'[1]002'!B:M,8,0)","v":"鼎湖区莲花镇真光中心小学"},{"$f":"VLOOKUP(B741,'[1]002'!B:M,11,0)","v":"-"},{"$f":"VLOOKUP(B741,'[1]002'!B:M,12,0)","v":"-"}]
[740,"P305119090269","的地得的区分和使用","小学组","微课","三等奖","肇庆市",{"$f":"VLOOKUP(B742,'[1]002'!B:M,7,0)","v":"何恒英"},{"$f":"VLOOKUP(B742,'[1]002'!B:M,8,0)","v":"德庆县德城镇第一小学"},{"$f":"VLOOKUP(B742,'[1]002'!B:M,11,0)","v":"-"},{"$f":"VLOOKUP(B742,'[1]002'!B:M,12,0)","v":"-"}]
[741,"P305119091193","《商末尾有0的除法》","小学组","微课","三等奖","肇庆市",{"$f":"VLOOKUP(B743,'[1]002'!B:M,7,0)","v":"陈海英"},{"$f":"VLOOKUP(B743,'[1]002'!B:M,8,0)","v":"鼎湖逸夫小学"},{"$f":"VLOOKUP(B743,'[1]002'!B:M,11,0)","v":"-"},{"$f":"VLOOKUP(B743,'[1]002'!B:M,12,0)","v":"-"}]
[742,"P305119089847","快乐识字","小学组","微课","三等奖","肇庆市",{"$f":"VLOOKUP(B744,'[1]002'!B:M,7,0)","v":"冯茵"},{"$f":"VLOOKUP(B744,'[1]002'!B:M,8,0)","v":"肇庆高新区实验小学"},{"$f":"VLOOKUP(B744,'[1]002'!B:M,11,0)","v":"-"},{"$f":"VLOOKUP(B744,'[1]002'!B:M,12,0)","v":"-"}]
[743,"P305119089860","比例尺","小学组","微课","三等奖","肇庆市",{"$f":"VLOOKUP(B745,'[1]002'!B:M,7,0)","v":"王炎鑫"},{"$f":"VLOOKUP(B745,'[1]002'!B:M,8,0)","v":"肇庆高新技术产业开发区中心小学"},{"$f":"VLOOKUP(B745,'[1]002'!B:M,11,0)","v":"-"},{"$f":"VLOOKUP(B745,'[1]002'!B:M,12,0)","v":"-"}]
[744,"P305119091632","怎样把反问句改为陈述句","小学组","微课","三等奖","清远市",{"$f":"VLOOKUP(B746,'[1]002'!B:M,7,0)","v":"姚敏君"},{"$f":"VLOOKUP(B746,'[1]002'!B:M,8,0)","v":"佛冈县第一小学"},{"$f":"VLOOKUP(B746,'[1]002'!B:M,11,0)","v":"-"},{"$f":"VLOOKUP(B746,'[1]002'!B:M,12,0)","v":"-"}]
[745,"P305119091634","五年级上册第四单元","小学组","微课","三等奖","清远市",{"$f":"VLOOKUP(B747,'[1]002'!B:M,7,0)","v":"朱翠芳"},{"$f":"VLOOKUP(B747,'[1]002'!B:M,8,0)","v":"阳山县岭背中学"},{"$f":"VLOOKUP(B747,'[1]002'!B:M,11,0)","v":"-"},{"$f":"VLOOKUP(B747,'[1]002'!B:M,12,0)","v":"-"}]
[746,"P305119091629","圆的面积微课","小学组","微课","三等奖","清远市",{"$f":"VLOOKUP(B748,'[1]002'!B:M,7,0)","v":"廖宗文"},{"$f":"VLOOKUP(B748,'[1]002'!B:M,8,0)","v":"佛冈县振兴小学"},{"$f":"VLOOKUP(B748,'[1]002'!B:M,11,0)","v":"-"},{"$f":"VLOOKUP(B748,'[1]002'!B:M,12,0)","v":"-"}]
[747,"P305119091633","奥运开幕","小学组","微课","三等奖","清远市",{"$f":"VLOOKUP(B749,'[1]002'!B:M,7,0)","v":"张秀容"},{"$f":"VLOOKUP(B749,'[1]002'!B:M,8,0)","v":"英德市第六小学"},{"$f":"VLOOKUP(B749,'[1]002'!B:M,11,0)","v":"-"},{"$f":"VLOOKUP(B749,'[1]002'!B:M,12,0)","v":"-"}]
[748,"P305119079270","制作个人小名片","小学组","微课","三等奖","潮州市",{"$f":"VLOOKUP(B750,'[1]002'!B:M,7,0)","v":"刘创煌"},{"$f":"VLOOKUP(B750,'[1]002'!B:M,8,0)","v":"潮州市湘桥区新桥路小学"},{"$f":"VLOOKUP(B750,'[1]002'!B:M,11,0)","v":"-"},{"$f":"VLOOKUP(B750,'[1]002'!B:M,12,0)","v":"-"}]
[749,"P305119079432","给树爷爷画像","小学组","微课","三等奖","潮州市",{"$f":"VLOOKUP(B751,'[1]002'!B:M,7,0)","v":"陈  馥"},{"$f":"VLOOKUP(B751,'[1]002'!B:M,8,0)","v":"潮州市实验学校"},{"$f":"VLOOKUP(B751,'[1]002'!B:M,11,0)","v":"-"},{"$f":"VLOOKUP(B751,'[1]002'!B:M,12,0)","v":"-"}]
[750,"P305119087325","《力度记号》","小学组","微课","三等奖","潮州市",{"$f":"VLOOKUP(B752,'[1]002'!B:M,7,0)","v":"彭孜羚"},{"$f":"VLOOKUP(B752,'[1]002'!B:M,8,0)","v":"湘桥区兴华学校"},{"$f":"VLOOKUP(B752,'[1]002'!B:M,11,0)","v":"-"},{"$f":"VLOOKUP(B752,'[1]002'!B:M,12,0)","v":"-"}]
[751,"P305119079589","使用显微镜观察微生物","小学组","微课","三等奖","潮州市",{"$f":"VLOOKUP(B753,'[1]002'!B:M,7,0)","v":"黄思"},{"$f":"VLOOKUP(B753,'[1]002'!B:M,8,0)","v":"潮州市实验学校"},{"$f":"VLOOKUP(B753,'[1]002'!B:M,11,0)","v":"-"},{"$f":"VLOOKUP(B753,'[1]002'!B:M,12,0)","v":"-"}]
[752,"P305119087465","第几","小学组","微课","三等奖","潮州市",{"$f":"VLOOKUP(B754,'[1]002'!B:M,7,0)","v":"吕曼"},{"$f":"VLOOKUP(B754,'[1]002'!B:M,8,0)","v":"湘桥区兴华学校"},{"$f":"VLOOKUP(B754,'[1]002'!B:M,11,0)","v":"-"},{"$f":"VLOOKUP(B754,'[1]002'!B:M,12,0)","v":"-"}]
[753,"P305119080136","FLASH形状补间动画","小学组","微课","三等奖","潮州市",{"$f":"VLOOKUP(B755,'[1]002'!B:M,7,0)","v":"傅銮芝"},{"$f":"VLOOKUP(B755,'[1]002'!B:M,8,0)","v":"潮州市潮安区庵埠镇维则小学"},{"$f":"VLOOKUP(B755,'[1]002'!B:M,11,0)","v":"-"},{"$f":"VLOOKUP(B755,'[1]002'!B:M,12,0)","v":"-"}]
[754,"P305119082312","圆的认识","小学组","微课","三等奖","潮州市",{"$f":"VLOOKUP(B756,'[1]002'!B:M,7,0)","v":"张伟丹"},{"$f":"VLOOKUP(B756,'[1]002'!B:M,8,0)","v":"文祠镇上荣小学"},{"$f":"VLOOKUP(B756,'[1]002'!B:M,11,0)","v":"-"},{"$f":"VLOOKUP(B756,'[1]002'!B:M,12,0)","v":"-"}]
[755,"P305119079617","雪地里的小画家","小学组","微课","三等奖","潮州市",{"$f":"VLOOKUP(B757,'[1]002'!B:M,7,0)","v":"曾燕华"},{"$f":"VLOOKUP(B757,'[1]002'!B:M,8,0)","v":"潮州市潮安区实验学校"},{"$f":"VLOOKUP(B757,'[1]002'!B:M,11,0)","v":"-"},{"$f":"VLOOKUP(B757,'[1]002'!B:M,12,0)","v":"-"}]
[756,"P305119079585","部编语文三下我变成了一棵树预习秘招","小学组","微课","三等奖","潮州市",{"$f":"VLOOKUP(B758,'[1]002'!B:M,7,0)","v":"许少兰"},{"$f":"VLOOKUP(B758,'[1]002'!B:M,8,0)","v":"潮州市实验学校"},{"$f":"VLOOKUP(B758,'[1]002'!B:M,11,0)","v":"-"},{"$f":"VLOOKUP(B758,'[1]002'!B:M,12,0)","v":"-"}]
[757,"P305119091232","begoingto句型微课","小学组","微课","三等奖","云浮市",{"$f":"VLOOKUP(B759,'[1]002'!B:M,7,0)","v":"张瑞平"},{"$f":"VLOOKUP(B759,'[1]002'!B:M,8,0)","v":"云浮市云城区腰古镇中心小学"},{"$f":"VLOOKUP(B759,'[1]002'!B:M,11,0)","v":"-"},{"$f":"VLOOKUP(B759,'[1]002'!B:M,12,0)","v":"-"}]
[758,"P305119085788","泊船瓜洲","小学组","微课","三等奖","云浮市",{"$f":"VLOOKUP(B760,'[1]002'!B:M,7,0)","v":"邓思思"},{"$f":"VLOOKUP(B760,'[1]002'!B:M,8,0)","v":"郁南县都城镇锦枝小学"},{"$f":"VLOOKUP(B760,'[1]002'!B:M,11,0)","v":"-"},{"$f":"VLOOKUP(B760,'[1]002'!B:M,12,0)","v":"-"}]
[759,"P305119087193","东方神韵中国民族器乐","小学组","微课","三等奖","云浮市",{"$f":"VLOOKUP(B761,'[1]002'!B:M,7,0)","v":"梁展甄"},{"$f":"VLOOKUP(B761,'[1]002'!B:M,8,0)","v":"新兴县惠能小学"},{"$f":"VLOOKUP(B761,'[1]002'!B:M,11,0)","v":"-"},{"$f":"VLOOKUP(B761,'[1]002'!B:M,12,0)","v":"-"}]
[760,"P305119079005","鹏程万里","小学组","微课","三等奖","云浮市",{"$f":"VLOOKUP(B762,'[1]002'!B:M,7,0)","v":"陈华佳"},{"$f":"VLOOKUP(B762,'[1]002'!B:M,8,0)","v":"云浮市云安区富林镇中学"},{"$f":"VLOOKUP(B762,'[1]002'!B:M,11,0)","v":"-"},{"$f":"VLOOKUP(B762,'[1]002'!B:M,12,0)","v":"-"}]
[761,"P305119086649","微课教学100以内数的组成","小学组","微课","三等奖","云浮市",{"$f":"VLOOKUP(B763,'[1]002'!B:M,7,0)","v":"邓达梅"},{"$f":"VLOOKUP(B763,'[1]002'!B:M,8,0)","v":"新兴县惠能小学"},{"$f":"VLOOKUP(B763,'[1]002'!B:M,11,0)","v":"-"},{"$f":"VLOOKUP(B763,'[1]002'!B:M,12,0)","v":"-"}]
[762,"P307119093168","简易方程(整理与复习)","小学组","信息技术创新教学案例","三等奖","广州市",{"$f":"VLOOKUP(B764,'[1]002'!B:M,7,0)","v":"潘俊仪"},{"$f":"VLOOKUP(B764,'[1]002'!B:M,8,0)","v":"广州市番禺区石碁镇中心小学"},{"$f":"VLOOKUP(B764,'[1]002'!B:M,11,0)","v":"-"},{"$f":"VLOOKUP(B764,'[1]002'!B:M,12,0)","v":"-"}]
[763,"P307119093166","我有一个强大的祖国","小学组","信息技术创新教学案例","三等奖","广州市",{"$f":"VLOOKUP(B765,'[1]002'!B:M,7,0)","v":"刘杰君"},{"$f":"VLOOKUP(B765,'[1]002'!B:M,8,0)","v":"广州市番禺区石碁镇中心小学"},{"$f":"VLOOKUP(B765,'[1]002'!B:M,11,0)","v":"-"},{"$f":"VLOOKUP(B765,'[1]002'!B:M,12,0)","v":"-"}]
[764,"P307119093167","小学三年级英语Short Vowel U语音课","小学组","信息技术创新教学案例","三等奖","广州市",{"$f":"VLOOKUP(B766,'[1]002'!B:M,7,0)","v":"段蕊"},{"$f":"VLOOKUP(B766,'[1]002'!B:M,8,0)","v":"广州市番禺区石碁镇中心小学"},{"$f":"VLOOKUP(B766,'[1]002'!B:M,11,0)","v":"-"},{"$f":"VLOOKUP(B766,'[1]002'!B:M,12,0)","v":"-"}]
[765,"P307119093165","Travel to Green Land绘本阅读课","小学组","信息技术创新教学案例","三等奖","广州市",{"$f":"VLOOKUP(B767,'[1]002'!B:M,7,0)","v":"梁玲"},{"$f":"VLOOKUP(B767,'[1]002'!B:M,8,0)","v":"广州市番禺区石碁镇中心小学"},{"$f":"VLOOKUP(B767,'[1]002'!B:M,11,0)","v":"-"},{"$f":"VLOOKUP(B767,'[1]002'!B:M,12,0)","v":"-"}]
[766,"P307119092669","我想和你们一起玩","小学组","信息技术创新教学案例","三等奖","深圳市",{"$f":"VLOOKUP(B768,'[1]002'!B:M,7,0)","v":"杨思萍"},{"$f":"VLOOKUP(B768,'[1]002'!B:M,8,0)","v":"深圳市龙华区上芬小学"},{"$f":"VLOOKUP(B768,'[1]002'!B:M,11,0)","v":"王敬芬"},{"$f":"VLOOKUP(B768,'[1]002'!B:M,12,0)","v":"深圳市龙华区上芬小学"}]
[767,"P307119091959","点亮思维_智造未来","小学组","信息技术创新教学案例","三等奖","汕头市",{"$f":"VLOOKUP(B769,'[1]002'!B:M,7,0)","v":"李旭城"},{"$f":"VLOOKUP(B769,'[1]002'!B:M,8,0)","v":"汕头市潮阳实验学校"},{"$f":"VLOOKUP(B769,'[1]002'!B:M,11,0)","v":"-"},{"$f":"VLOOKUP(B769,'[1]002'!B:M,12,0)","v":"-"}]
[768,"P307119091960","长方形正方形的面积计算","小学组","信息技术创新教学案例","三等奖","汕头市",{"$f":"VLOOKUP(B770,'[1]002'!B:M,7,0)","v":"杜纯"},{"$f":"VLOOKUP(B770,'[1]002'!B:M,8,0)","v":"汕头市澄海实验高级中学"},{"$f":"VLOOKUP(B770,'[1]002'!B:M,11,0)","v":"-"},{"$f":"VLOOKUP(B770,'[1]002'!B:M,12,0)","v":"-"}]
[769,"P307119090696","图形化编程之神奇的画笔","小学组","信息技术创新教学案例","三等奖","佛山市",{"$f":"VLOOKUP(B771,'[1]002'!B:M,7,0)","v":"陈倩明"},{"$f":"VLOOKUP(B771,'[1]002'!B:M,8,0)","v":"佛山市高明区杨和镇中心小学"},{"$f":"VLOOKUP(B771,'[1]002'!B:M,11,0)","v":"-"},{"$f":"VLOOKUP(B771,'[1]002'!B:M,12,0)","v":"-"}]
[770,"P307119090704","认识面积","小学组","信息技术创新教学案例","三等奖","佛山市",{"$f":"VLOOKUP(B772,'[1]002'!B:M,7,0)","v":"祝金霞"},{"$f":"VLOOKUP(B772,'[1]002'!B:M,8,0)","v":"佛山市南海区桂城街道中心小学"},{"$f":"VLOOKUP(B772,'[1]002'!B:M,11,0)","v":"-"},{"$f":"VLOOKUP(B772,'[1]002'!B:M,12,0)","v":"-"}]
[771,"P307119090699","智闯迷宫","小学组","信息技术创新教学案例","三等奖","佛山市",{"$f":"VLOOKUP(B773,'[1]002'!B:M,7,0)","v":"曾奕焕"},{"$f":"VLOOKUP(B773,'[1]002'!B:M,8,0)","v":"佛山市高明区荷城街道泽英小学"},{"$f":"VLOOKUP(B773,'[1]002'!B:M,11,0)","v":"-"},{"$f":"VLOOKUP(B773,'[1]002'!B:M,12,0)","v":"-"}]
[772,"P307119090711","画正多边形","小学组","信息技术创新教学案例","三等奖","佛山市",{"$f":"VLOOKUP(B774,'[1]002'!B:M,7,0)","v":"凌春球"},{"$f":"VLOOKUP(B774,'[1]002'!B:M,8,0)","v":"佛山市顺德区北滘马龙小学"},{"$f":"VLOOKUP(B774,'[1]002'!B:M,11,0)","v":"-"},{"$f":"VLOOKUP(B774,'[1]002'!B:M,12,0)","v":"-"}]
[773,"P307119090714","玩跷跷板编程猫教学","小学组","信息技术创新教学案例","三等奖","佛山市",{"$f":"VLOOKUP(B775,'[1]002'!B:M,7,0)","v":"杨凯"},{"$f":"VLOOKUP(B775,'[1]002'!B:M,8,0)","v":"佛山市顺德区伦教羊额何显朝纪念小学"},{"$f":"VLOOKUP(B775,'[1]002'!B:M,11,0)","v":"-"},{"$f":"VLOOKUP(B775,'[1]002'!B:M,12,0)","v":"-"}]
[774,"P307119090698","编程猫之跑男迷宫大作战","小学组","信息技术创新教学案例","三等奖","佛山市",{"$f":"VLOOKUP(B776,'[1]002'!B:M,7,0)","v":"茹月媚"},{"$f":"VLOOKUP(B776,'[1]002'!B:M,8,0)","v":"佛山市高明区更合镇千禧小学"},{"$f":"VLOOKUP(B776,'[1]002'!B:M,11,0)","v":"-"},{"$f":"VLOOKUP(B776,'[1]002'!B:M,12,0)","v":"-"}]
[775,"P307119090701","小猫快跑","小学组","信息技术创新教学案例","三等奖","佛山市",{"$f":"VLOOKUP(B777,'[1]002'!B:M,7,0)","v":"李洁莹"},{"$f":"VLOOKUP(B777,'[1]002'!B:M,8,0)","v":"佛山市元甲学校"},{"$f":"VLOOKUP(B777,'[1]002'!B:M,11,0)","v":"-"},{"$f":"VLOOKUP(B777,'[1]002'!B:M,12,0)","v":"-"}]
[776,"P307119090717","接苹果","小学组","信息技术创新教学案例","三等奖","佛山市",{"$f":"VLOOKUP(B778,'[1]002'!B:M,7,0)","v":"丁玲"},{"$f":"VLOOKUP(B778,'[1]002'!B:M,8,0)","v":"佛山市顺德区龙江东海小学"},{"$f":"VLOOKUP(B778,'[1]002'!B:M,11,0)","v":"-"},{"$f":"VLOOKUP(B778,'[1]002'!B:M,12,0)","v":"-"}]
[777,"P307119088814","Unit 4 When is Easter A. Let’s spell教学案例","小学组","信息技术创新教学案例","三等奖","韶关市",{"$f":"VLOOKUP(B779,'[1]002'!B:M,7,0)","v":"杨莉"},{"$f":"VLOOKUP(B779,'[1]002'!B:M,8,0)","v":"韶关市吴礼和中心小学"},{"$f":"VLOOKUP(B779,'[1]002'!B:M,11,0)","v":"-"},{"$f":"VLOOKUP(B779,'[1]002'!B:M,12,0)","v":"-"}]
[778,"P307119092823","AiSchool平台威力大_一课三磨出精彩","小学组","信息技术创新教学案例","三等奖","东莞市",{"$f":"VLOOKUP(B780,'[1]002'!B:M,7,0)","v":"万莉娜"},{"$f":"VLOOKUP(B780,'[1]002'!B:M,8,0)","v":"东莞市南城区阳光第二小学"},{"$f":"VLOOKUP(B780,'[1]002'!B:M,11,0)","v":"陈荣莉"},{"$f":"VLOOKUP(B780,'[1]002'!B:M,12,0)","v":"东莞市南城区阳光第二小学"}]
[779,"P307119092824","双师双融双创乐享慧美课堂","小学组","信息技术创新教学案例","三等奖","东莞市",{"$f":"VLOOKUP(B781,'[1]002'!B:M,7,0)","v":"黄展鹏"},{"$f":"VLOOKUP(B781,'[1]002'!B:M,8,0)","v":"东莞市道滘镇新城小学"},{"$f":"VLOOKUP(B781,'[1]002'!B:M,11,0)","v":"张雪涛"},{"$f":"VLOOKUP(B781,'[1]002'!B:M,12,0)","v":"东莞市道滘镇新城小学"}]
[780,"P307119088439","scratch下的动物诗词大会","小学组","信息技术创新教学案例","三等奖","中山市",{"$f":"VLOOKUP(B782,'[1]002'!B:M,7,0)","v":"罗廷"},{"$f":"VLOOKUP(B782,'[1]002'!B:M,8,0)","v":"中山市小榄镇中心小学"},{"$f":"VLOOKUP(B782,'[1]002'!B:M,11,0)","v":"-"},{"$f":"VLOOKUP(B782,'[1]002'!B:M,12,0)","v":"-"}]
[781,"P307119089040","追捕逃星","小学组","信息技术创新教学案例","三等奖","中山市",{"$f":"VLOOKUP(B783,'[1]002'!B:M,7,0)","v":"霍静妍"},{"$f":"VLOOKUP(B783,'[1]002'!B:M,8,0)","v":"中山火炬高技术产业开发区第四小学"},{"$f":"VLOOKUP(B783,'[1]002'!B:M,11,0)","v":"-"},{"$f":"VLOOKUP(B783,'[1]002'!B:M,12,0)","v":"-"}]
[782,"P307119088974","追击章鱼","小学组","信息技术创新教学案例","三等奖","中山市",{"$f":"VLOOKUP(B784,'[1]002'!B:M,7,0)","v":"吴洁怡"},{"$f":"VLOOKUP(B784,'[1]002'!B:M,8,0)","v":"中山火炬高技术产业开发区香晖园小学"},{"$f":"VLOOKUP(B784,'[1]002'!B:M,11,0)","v":"-"},{"$f":"VLOOKUP(B784,'[1]002'!B:M,12,0)","v":"-"}]
[783,"P307119091353","图文并茂更漂亮","小学组","信息技术创新教学案例","三等奖","茂名市",{"$f":"VLOOKUP(B785,'[1]002'!B:M,7,0)","v":"吴林蔚"},{"$f":"VLOOKUP(B785,'[1]002'!B:M,8,0)","v":"信宜市第五小学"},{"$f":"VLOOKUP(B785,'[1]002'!B:M,11,0)","v":"郑妍"},{"$f":"VLOOKUP(B785,'[1]002'!B:M,12,0)","v":"信宜市第五小学"}]
[784,"P307119087656","《修饰文字》教学案例","小学组","信息技术创新教学案例","三等奖","潮州市",{"$f":"VLOOKUP(B786,'[1]002'!B:M,7,0)","v":"钱瑞扬"},{"$f":"VLOOKUP(B786,'[1]002'!B:M,8,0)","v":"潮州市湘桥区昌黎路小学"},{"$f":"VLOOKUP(B786,'[1]002'!B:M,11,0)","v":"-"},{"$f":"VLOOKUP(B786,'[1]002'!B:M,12,0)","v":"-"}]
[785,"P307119089705","认识人民币","小学组","信息技术创新教学案例","三等奖","云浮市",{"$f":"VLOOKUP(B787,'[1]002'!B:M,7,0)","v":"王小霞"},{"$f":"VLOOKUP(B787,'[1]002'!B:M,8,0)","v":"郁南县都城镇中心小学"},{"$f":"VLOOKUP(B787,'[1]002'!B:M,11,0)","v":"-"},{"$f":"VLOOKUP(B787,'[1]002'!B:M,12,0)","v":"-"}]
[786,"P307119080155","小学英语创新教学案例","小学组","信息技术创新教学案例","三等奖","云浮市",{"$f":"VLOOKUP(B788,'[1]002'!B:M,7,0)","v":"赖彦谷"},{"$f":"VLOOKUP(B788,'[1]002'!B:M,8,0)","v":"罗定市实验小学"},{"$f":"VLOOKUP(B788,'[1]002'!B:M,11,0)","v":"-"},{"$f":"VLOOKUP(B788,'[1]002'!B:M,12,0)","v":"-"}]
[787,"P307119087833","假文盲漫画作文教学","小学组","信息技术创新教学案例","三等奖","云浮市",{"$f":"VLOOKUP(B789,'[1]002'!B:M,7,0)","v":"沈淑仪"},{"$f":"VLOOKUP(B789,'[1]002'!B:M,8,0)","v":"罗定市实验小学"},{"$f":"VLOOKUP(B789,'[1]002'!B:M,11,0)","v":"-"},{"$f":"VLOOKUP(B789,'[1]002'!B:M,12,0)","v":"-"}]
[788,"P301119092755","城市剪影教师网络空间应用案例","小学组","教师网络空间应用案例","三等奖","深圳市",{"$f":"VLOOKUP(B790,'[1]002'!B:M,7,0)","v":"宋颖瑶"},{"$f":"VLOOKUP(B790,'[1]002'!B:M,8,0)","v":"深圳市南山区前海小学"},{"$f":"VLOOKUP(B790,'[1]002'!B:M,11,0)","v":"-"},{"$f":"VLOOKUP(B790,'[1]002'!B:M,12,0)","v":"-"}]
[789,"P301119086935","Recycle2","小学组","教师网络空间应用案例","三等奖","云浮市",{"$f":"VLOOKUP(B791,'[1]002'!B:M,7,0)","v":"刘锐莉"},{"$f":"VLOOKUP(B791,'[1]002'!B:M,8,0)","v":"新兴县新城镇中心小学"},{"$f":"VLOOKUP(B791,'[1]002'!B:M,11,0)","v":"-"},{"$f":"VLOOKUP(B791,'[1]002'!B:M,12,0)","v":"-"}]
[790,"P304119092485","Micro：bit和VacationPlans","小学组","跨学科项目式学习教学案例","三等奖","珠海市",{"$f":"VLOOKUP(B792,'[1]002'!B:M,7,0)","v":"庄萍"},{"$f":"VLOOKUP(B792,'[1]002'!B:M,8,0)","v":"珠海市香洲区第十六小学"},{"$f":"VLOOKUP(B792,'[1]002'!B:M,11,0)","v":"-"},{"$f":"VLOOKUP(B792,'[1]002'!B:M,12,0)","v":"-"}]
[791,"P304119090687","我是小小建筑师","小学组","跨学科项目式学习教学案例","三等奖","佛山市",{"$f":"VLOOKUP(B793,'[1]002'!B:M,7,0)","v":"杨月华"},{"$f":"VLOOKUP(B793,'[1]002'!B:M,8,0)","v":"佛山市南海区丹灶镇罗行小学"},"-","-"]
[792,"P304119090693","古诗配画","小学组","跨学科项目式学习教学案例","三等奖","佛山市",{"$f":"VLOOKUP(B794,'[1]002'!B:M,7,0)","v":"何嘉丽"},{"$f":"VLOOKUP(B794,'[1]002'!B:M,8,0)","v":"佛山市三水区西南街道第八小学"},{"$f":"VLOOKUP(B794,'[1]002'!B:M,11,0)","v":"-"},{"$f":"VLOOKUP(B794,'[1]002'!B:M,12,0)","v":"-"}]
[793,"P304119092842","家乡华阳湖湿地公园探究","小学组","跨学科项目式学习教学案例","三等奖","东莞市",{"$f":"VLOOKUP(B795,'[1]002'!B:M,7,0)","v":"雷顺弟"},{"$f":"VLOOKUP(B795,'[1]002'!B:M,8,0)","v":"东莞市麻涌镇第三小学"},{"$f":"VLOOKUP(B795,'[1]002'!B:M,11,0)","v":"-"},{"$f":"VLOOKUP(B795,'[1]002'!B:M,12,0)","v":"-"}]
[794,"P304119089443","海底世界","小学组","跨学科项目式学习教学案例","三等奖","中山市",{"$f":"VLOOKUP(B796,'[1]002'!B:M,7,0)","v":"黄国盛"},{"$f":"VLOOKUP(B796,'[1]002'!B:M,8,0)","v":"中山市东凤镇凤鸣小学"},{"$f":"VLOOKUP(B796,'[1]002'!B:M,11,0)","v":"吴桂凤"},{"$f":"VLOOKUP(B796,'[1]002'!B:M,12,0)","v":"中山市东凤镇凤鸣小学"}]
[795,"P304119085019","pep版五年级下册英语第三单元B第一部分","小学组","跨学科项目式学习教学案例","三等奖","云浮市",{"$f":"VLOOKUP(B797,'[1]002'!B:M,7,0)","v":"陈怡杏"},{"$f":"VLOOKUP(B797,'[1]002'!B:M,8,0)","v":"新兴县水台镇中心小学"},{"$f":"VLOOKUP(B797,'[1]002'!B:M,11,0)","v":"王佩怡"},{"$f":"VLOOKUP(B797,'[1]002'!B:M,12,0)","v":"新兴县水台镇中心小学"}]
[796,"P306119093136","习作课例《学写读后感》","小学组","新媒体新技术教学应用课例","三等奖",{"$f":"RIGHT(LEFT(VLOOKUP(B798,'[1]002'!B:M,3,0),7),3)","v":"广州市"},{"$f":"VLOOKUP(B798,'[1]002'!B:M,7,0)","v":"谢玉妃"},{"$f":"VLOOKUP(B798,'[1]002'!B:M,8,0)","v":"广州市越秀区云山小学"},{"$f":"VLOOKUP(B798,'[1]002'!B:M,11,0)","v":"-"},{"$f":"VLOOKUP(B798,'[1]002'!B:M,12,0)","v":"-"}]
[797,"P306119093268","28 尺有所短 寸有所长","小学组","新媒体新技术教学应用课例","三等奖",{"$f":"RIGHT(LEFT(VLOOKUP(B799,'[1]002'!B:M,3,0),7),3)","v":"广州市"},{"$f":"VLOOKUP(B799,'[1]002'!B:M,7,0)","v":"李惠琼"},{"$f":"VLOOKUP(B799,'[1]002'!B:M,8,0)","v":"广州市番禺区沙湾镇兴贤小学"},{"$f":"VLOOKUP(B799,'[1]002'!B:M,11,0)","v":"-"},{"$f":"VLOOKUP(B799,'[1]002'!B:M,12,0)","v":"-"}]
[798,"P306119093125","足球：脚背正面射门","小学组","新媒体新技术教学应用课例","三等奖",{"$f":"RIGHT(LEFT(VLOOKUP(B800,'[1]002'!B:M,3,0),7),3)","v":"广州市"},{"$f":"VLOOKUP(B800,'[1]002'!B:M,7,0)","v":"刘晶"},{"$f":"VLOOKUP(B800,'[1]002'!B:M,8,0)","v":"广州市越秀区建设六马路小学"},{"$f":"VLOOKUP(B800,'[1]002'!B:M,11,0)","v":"-"},{"$f":"VLOOKUP(B800,'[1]002'!B:M,12,0)","v":"-"}]
[799,"P306119093129","三角形的面积","小学组","新媒体新技术教学应用课例","三等奖",{"$f":"RIGHT(LEFT(VLOOKUP(B801,'[1]002'!B:M,3,0),7),3)","v":"广州市"},{"$f":"VLOOKUP(B801,'[1]002'!B:M,7,0)","v":"莫舒敏"},{"$f":"VLOOKUP(B801,'[1]002'!B:M,8,0)","v":"广州市荔湾区芦荻西小学"},{"$f":"VLOOKUP(B801,'[1]002'!B:M,11,0)","v":"-"},{"$f":"VLOOKUP(B801,'[1]002'!B:M,12,0)","v":"-"}]
[800,"P306119093113","扇形统计图","小学组","新媒体新技术教学应用课例","三等奖",{"$f":"RIGHT(LEFT(VLOOKUP(B802,'[1]002'!B:M,3,0),7),3)","v":"广州市"},{"$f":"VLOOKUP(B802,'[1]002'!B:M,7,0)","v":"林飞燕"},{"$f":"VLOOKUP(B802,'[1]002'!B:M,8,0)","v":"广州市荔湾区南塘大街小学"},{"$f":"VLOOKUP(B802,'[1]002'!B:M,11,0)","v":"陈勃"},{"$f":"VLOOKUP(B802,'[1]002'!B:M,12,0)","v":"广州市越秀区小北路小学"}]
[801,"P306119093128","平行四边形的面积","小学组","新媒体新技术教学应用课例","三等奖",{"$f":"RIGHT(LEFT(VLOOKUP(B803,'[1]002'!B:M,3,0),7),3)","v":"广州市"},{"$f":"VLOOKUP(B803,'[1]002'!B:M,7,0)","v":"郑光英"},{"$f":"VLOOKUP(B803,'[1]002'!B:M,8,0)","v":"广州市越秀区东风东路小学"},{"$f":"VLOOKUP(B803,'[1]002'!B:M,11,0)","v":"-"},{"$f":"VLOOKUP(B803,'[1]002'!B:M,12,0)","v":"-"}]
[802,"P306119093116","《揭秘--陀螺》方法指导课","小学组","新媒体新技术教学应用课例","三等奖",{"$f":"RIGHT(LEFT(VLOOKUP(B804,'[1]002'!B:M,3,0),7),3)","v":"广州市"},{"$f":"VLOOKUP(B804,'[1]002'!B:M,7,0)","v":"林思敏"},{"$f":"VLOOKUP(B804,'[1]002'!B:M,8,0)","v":"广州市番禺区沙湾镇兴贤小学"},{"$f":"VLOOKUP(B804,'[1]002'!B:M,11,0)","v":"-"},{"$f":"VLOOKUP(B804,'[1]002'!B:M,12,0)","v":"-"}]
[803,"P306119093112","民风民俗习作讲评","小学组","新媒体新技术教学应用课例","三等奖",{"$f":"RIGHT(LEFT(VLOOKUP(B805,'[1]002'!B:M,3,0),7),3)","v":"广州市"},{"$f":"VLOOKUP(B805,'[1]002'!B:M,7,0)","v":"黄文娟"},{"$f":"VLOOKUP(B805,'[1]002'!B:M,8,0)","v":"广州市荔湾区南塘大街小学"},{"$f":"VLOOKUP(B805,'[1]002'!B:M,11,0)","v":"-"},{"$f":"VLOOKUP(B805,'[1]002'!B:M,12,0)","v":"-"}]
[804,"P306119093121","Unit 10 I am very fast","小学组","新媒体新技术教学应用课例","三等奖",{"$f":"RIGHT(LEFT(VLOOKUP(B806,'[1]002'!B:M,3,0),7),3)","v":"广州市"},{"$f":"VLOOKUP(B806,'[1]002'!B:M,7,0)","v":"谢倩韫"},{"$f":"VLOOKUP(B806,'[1]002'!B:M,8,0)","v":"广州市越秀区署前路小学"},{"$f":"VLOOKUP(B806,'[1]002'!B:M,11,0)","v":"-"},{"$f":"VLOOKUP(B806,'[1]002'!B:M,12,0)","v":"-"}]
[805,"P306119093127","剪出缤纷的生活","小学组","新媒体新技术教学应用课例","三等奖",{"$f":"RIGHT(LEFT(VLOOKUP(B807,'[1]002'!B:M,3,0),7),3)","v":"广州市"},{"$f":"VLOOKUP(B807,'[1]002'!B:M,7,0)","v":"崔青"},{"$f":"VLOOKUP(B807,'[1]002'!B:M,8,0)","v":"华南理工大学附属实验学校"},{"$f":"VLOOKUP(B807,'[1]002'!B:M,11,0)","v":"-"},{"$f":"VLOOKUP(B807,'[1]002'!B:M,12,0)","v":"-"}]
[806,"P306119093120","《Module4 My Class 拓展阅读课》","小学组","新媒体新技术教学应用课例","三等奖",{"$f":"RIGHT(LEFT(VLOOKUP(B808,'[1]002'!B:M,3,0),7),3)","v":"广州市"},{"$f":"VLOOKUP(B808,'[1]002'!B:M,7,0)","v":"罗思茹"},{"$f":"VLOOKUP(B808,'[1]002'!B:M,8,0)","v":"广州市越秀区署前路小学"},{"$f":"VLOOKUP(B808,'[1]002'!B:M,11,0)","v":"-"},{"$f":"VLOOKUP(B808,'[1]002'!B:M,12,0)","v":"-"}]
[807,"P306119092624","自己的花是让别人看的","小学组","新媒体新技术教学应用课例","三等奖",{"$f":"RIGHT(LEFT(VLOOKUP(B809,'[1]002'!B:M,3,0),7),3)","v":"深圳市"},{"$f":"VLOOKUP(B809,'[1]002'!B:M,7,0)","v":"彭丽婷"},{"$f":"VLOOKUP(B809,'[1]002'!B:M,8,0)","v":"深圳市龙华区龙华中心小学"},{"$f":"VLOOKUP(B809,'[1]002'!B:M,11,0)","v":"-"},{"$f":"VLOOKUP(B809,'[1]002'!B:M,12,0)","v":"-"}]
[808,"P306119092620","面的旋转","小学组","新媒体新技术教学应用课例","三等奖",{"$f":"RIGHT(LEFT(VLOOKUP(B810,'[1]002'!B:M,3,0),7),3)","v":"深圳市"},{"$f":"VLOOKUP(B810,'[1]002'!B:M,7,0)","v":"刘慧"},{"$f":"VLOOKUP(B810,'[1]002'!B:M,8,0)","v":"新安街道宝民小学"},{"$f":"VLOOKUP(B810,'[1]002'!B:M,11,0)","v":"-"},{"$f":"VLOOKUP(B810,'[1]002'!B:M,12,0)","v":"-"}]
[809,"P306119092617","开平碉楼","小学组","新媒体新技术教学应用课例","三等奖",{"$f":"RIGHT(LEFT(VLOOKUP(B811,'[1]002'!B:M,3,0),7),3)","v":"深圳市"},{"$f":"VLOOKUP(B811,'[1]002'!B:M,7,0)","v":"黄颖"},{"$f":"VLOOKUP(B811,'[1]002'!B:M,8,0)","v":"深圳市光明区光明小学"},{"$f":"VLOOKUP(B811,'[1]002'!B:M,11,0)","v":"刘芳霞"},{"$f":"VLOOKUP(B811,'[1]002'!B:M,12,0)","v":"深圳市光明区光明小学"}]
[810,"P306119092626","My Story","小学组","新媒体新技术教学应用课例","三等奖",{"$f":"RIGHT(LEFT(VLOOKUP(B812,'[1]002'!B:M,3,0),7),3)","v":"深圳市"},{"$f":"VLOOKUP(B812,'[1]002'!B:M,7,0)","v":"黄小梅"},{"$f":"VLOOKUP(B812,'[1]002'!B:M,8,0)","v":"深圳市螺岭外国语实验学校"},{"$f":"VLOOKUP(B812,'[1]002'!B:M,11,0)","v":"-"},{"$f":"VLOOKUP(B812,'[1]002'!B:M,12,0)","v":"-"}]
[811,"P306119092630","陶罐和铁罐 · 信息技术与iPad终端支持下的语文读写教学","小学组","新媒体新技术教学应用课例","三等奖",{"$f":"RIGHT(LEFT(VLOOKUP(B813,'[1]002'!B:M,3,0),7),3)","v":"深圳市"},{"$f":"VLOOKUP(B813,'[1]002'!B:M,7,0)","v":"朱思思"},{"$f":"VLOOKUP(B813,'[1]002'!B:M,8,0)","v":"深圳市南山区南方科技大学第二实验小学"},{"$f":"VLOOKUP(B813,'[1]002'!B:M,11,0)","v":"-"},{"$f":"VLOOKUP(B813,'[1]002'!B:M,12,0)","v":"-"}]
[812,"P306119092631","Unit 8 Days of the week","小学组","新媒体新技术教学应用课例","三等奖",{"$f":"RIGHT(LEFT(VLOOKUP(B814,'[1]002'!B:M,3,0),7),3)","v":"深圳市"},{"$f":"VLOOKUP(B814,'[1]002'!B:M,7,0)","v":"陈静"},{"$f":"VLOOKUP(B814,'[1]002'!B:M,8,0)","v":"深圳市锦田小学"},{"$f":"VLOOKUP(B814,'[1]002'!B:M,11,0)","v":"-"},{"$f":"VLOOKUP(B814,'[1]002'!B:M,12,0)","v":"-"}]
[813,"P306119092629","手指","小学组","新媒体新技术教学应用课例","三等奖",{"$f":"RIGHT(LEFT(VLOOKUP(B815,'[1]002'!B:M,3,0),7),3)","v":"深圳市"},{"$f":"VLOOKUP(B815,'[1]002'!B:M,7,0)","v":"林源芳"},{"$f":"VLOOKUP(B815,'[1]002'!B:M,8,0)","v":"深圳市布心小学"},{"$f":"VLOOKUP(B815,'[1]002'!B:M,11,0)","v":"-"},{"$f":"VLOOKUP(B815,'[1]002'!B:M,12,0)","v":"-"}]
[814,"P306119092627","Unit11 Small animals","小学组","新媒体新技术教学应用课例","三等奖",{"$f":"RIGHT(LEFT(VLOOKUP(B816,'[1]002'!B:M,3,0),7),3)","v":"深圳市"},{"$f":"VLOOKUP(B816,'[1]002'!B:M,7,0)","v":"陈春红"},{"$f":"VLOOKUP(B816,'[1]002'!B:M,8,0)","v":"深圳市南山区沙河小学"},{"$f":"VLOOKUP(B816,'[1]002'!B:M,11,0)","v":"俞旭健"},{"$f":"VLOOKUP(B816,'[1]002'!B:M,12,0)","v":"深圳市南山区沙河小学"}]
[815,"P306119092613","鸽巢问题","小学组","新媒体新技术教学应用课例","三等奖",{"$f":"RIGHT(LEFT(VLOOKUP(B817,'[1]002'!B:M,3,0),7),3)","v":"珠海市"},{"$f":"VLOOKUP(B817,'[1]002'!B:M,7,0)","v":"郭林飞"},{"$f":"VLOOKUP(B817,'[1]002'!B:M,8,0)","v":"珠海市金湾区第一小学"},{"$f":"VLOOKUP(B817,'[1]002'!B:M,11,0)","v":"-"},{"$f":"VLOOKUP(B817,'[1]002'!B:M,12,0)","v":"-"}]
[816,"P306119079415","各种各样的花","小学组","新媒体新技术教学应用课例","三等奖",{"$f":"RIGHT(LEFT(VLOOKUP(B818,'[1]002'!B:M,3,0),7),3)","v":"珠海市"},{"$f":"VLOOKUP(B818,'[1]002'!B:M,7,0)","v":"张文君"},{"$f":"VLOOKUP(B818,'[1]002'!B:M,8,0)","v":"珠海市三灶镇鱼林小学"},{"$f":"VLOOKUP(B818,'[1]002'!B:M,11,0)","v":"-"},{"$f":"VLOOKUP(B818,'[1]002'!B:M,12,0)","v":"-"}]
[817,"P306119087284","Unit 2 整合复习课","小学组","新媒体新技术教学应用课例","三等奖",{"$f":"RIGHT(LEFT(VLOOKUP(B819,'[1]002'!B:M,3,0),7),3)","v":"珠海市"},{"$f":"VLOOKUP(B819,'[1]002'!B:M,7,0)","v":"梁玉霞"},{"$f":"VLOOKUP(B819,'[1]002'!B:M,8,0)","v":"珠海市金湾区第一小学"},{"$f":"VLOOKUP(B819,'[1]002'!B:M,11,0)","v":"-"},{"$f":"VLOOKUP(B819,'[1]002'!B:M,12,0)","v":"-"}]
[818,"P306119091990","探究方与圆的关系","小学组","新媒体新技术教学应用课例","三等奖",{"$f":"RIGHT(LEFT(VLOOKUP(B820,'[1]002'!B:M,3,0),7),3)","v":"汕头市"},{"$f":"VLOOKUP(B820,'[1]002'!B:M,7,0)","v":"陈卓锋"},{"$f":"VLOOKUP(B820,'[1]002'!B:M,8,0)","v":"汕头市澄海汇璟实验小学"},{"$f":"VLOOKUP(B820,'[1]002'!B:M,11,0)","v":"-"},{"$f":"VLOOKUP(B820,'[1]002'!B:M,12,0)","v":"-"}]
[819,"P306119091988","比的意义","小学组","新媒体新技术教学应用课例","三等奖",{"$f":"RIGHT(LEFT(VLOOKUP(B821,'[1]002'!B:M,3,0),7),3)","v":"汕头市"},{"$f":"VLOOKUP(B821,'[1]002'!B:M,7,0)","v":"林淑明"},{"$f":"VLOOKUP(B821,'[1]002'!B:M,8,0)","v":"汕头市澄海城南小学"},{"$f":"VLOOKUP(B821,'[1]002'!B:M,11,0)","v":"-"},{"$f":"VLOOKUP(B821,'[1]002'!B:M,12,0)","v":"-"}]
[820,"P306119091993","认识梯形","小学组","新媒体新技术教学应用课例","三等奖",{"$f":"RIGHT(LEFT(VLOOKUP(B822,'[1]002'!B:M,3,0),7),3)","v":"汕头市"},{"$f":"VLOOKUP(B822,'[1]002'!B:M,7,0)","v":"黄文婷"},{"$f":"VLOOKUP(B822,'[1]002'!B:M,8,0)","v":"汕头市澄海广益小学"},{"$f":"VLOOKUP(B822,'[1]002'!B:M,11,0)","v":"-"},{"$f":"VLOOKUP(B822,'[1]002'!B:M,12,0)","v":"-"}]
[821,"P306119091989","长方体和正方体的体积","小学组","新媒体新技术教学应用课例","三等奖",{"$f":"RIGHT(LEFT(VLOOKUP(B823,'[1]002'!B:M,3,0),7),3)","v":"汕头市"},{"$f":"VLOOKUP(B823,'[1]002'!B:M,7,0)","v":"陈韩芸"},{"$f":"VLOOKUP(B823,'[1]002'!B:M,8,0)","v":"汕头市澄海汇璟实验小学"},{"$f":"VLOOKUP(B823,'[1]002'!B:M,11,0)","v":"-"},{"$f":"VLOOKUP(B823,'[1]002'!B:M,12,0)","v":"-"}]
[822,"P306119091992","有余数的除法","小学组","新媒体新技术教学应用课例","三等奖",{"$f":"RIGHT(LEFT(VLOOKUP(B824,'[1]002'!B:M,3,0),7),3)","v":"汕头市"},{"$f":"VLOOKUP(B824,'[1]002'!B:M,7,0)","v":"郑冬纯"},{"$f":"VLOOKUP(B824,'[1]002'!B:M,8,0)","v":"汕头市澄海广益小学"},{"$f":"VLOOKUP(B824,'[1]002'!B:M,11,0)","v":"-"},{"$f":"VLOOKUP(B824,'[1]002'!B:M,12,0)","v":"-"}]
[823,"P306119091986","圆锥的体积","小学组","新媒体新技术教学应用课例","三等奖",{"$f":"RIGHT(LEFT(VLOOKUP(B825,'[1]002'!B:M,3,0),7),3)","v":"汕头市"},{"$f":"VLOOKUP(B825,'[1]002'!B:M,7,0)","v":"蔡晓纯"},{"$f":"VLOOKUP(B825,'[1]002'!B:M,8,0)","v":"汕头市澄海岭亭小学"},{"$f":"VLOOKUP(B825,'[1]002'!B:M,11,0)","v":"-"},{"$f":"VLOOKUP(B825,'[1]002'!B:M,12,0)","v":"-"}]
[824,"P306119091995","100以内数的读写","小学组","新媒体新技术教学应用课例","三等奖",{"$f":"RIGHT(LEFT(VLOOKUP(B826,'[1]002'!B:M,3,0),7),3)","v":"汕头市"},{"$f":"VLOOKUP(B826,'[1]002'!B:M,7,0)","v":"黄少娜"},{"$f":"VLOOKUP(B826,'[1]002'!B:M,8,0)","v":"汕头市澄海实验高级中学"},{"$f":"VLOOKUP(B826,'[1]002'!B:M,11,0)","v":"-"},{"$f":"VLOOKUP(B826,'[1]002'!B:M,12,0)","v":"-"}]
[825,"P306119091994","长方体和正方体的体积计算公式","小学组","新媒体新技术教学应用课例","三等奖",{"$f":"RIGHT(LEFT(VLOOKUP(B827,'[1]002'!B:M,3,0),7),3)","v":"汕头市"},{"$f":"VLOOKUP(B827,'[1]002'!B:M,7,0)","v":"蔡逸榆"},{"$f":"VLOOKUP(B827,'[1]002'!B:M,8,0)","v":"汕头市澄海澄华小学"},{"$f":"VLOOKUP(B827,'[1]002'!B:M,11,0)","v":"王燕娜"},{"$f":"VLOOKUP(B827,'[1]002'!B:M,12,0)","v":"汕头市澄海澄华小学"}]
[826,"P306119090730","谁和谁好","小学组","新媒体新技术教学应用课例","三等奖",{"$f":"RIGHT(LEFT(VLOOKUP(B828,'[1]002'!B:M,3,0),7),3)","v":"佛山市"},{"$f":"VLOOKUP(B828,'[1]002'!B:M,7,0)","v":"曾彩华"},{"$f":"VLOOKUP(B828,'[1]002'!B:M,8,0)","v":"佛山市高明区沧江中学附属小学"},{"$f":"VLOOKUP(B828,'[1]002'!B:M,11,0)","v":"-"},{"$f":"VLOOKUP(B828,'[1]002'!B:M,12,0)","v":"-"}]
[827,"P306119090761","彩色的梦","小学组","新媒体新技术教学应用课例","三等奖",{"$f":"RIGHT(LEFT(VLOOKUP(B829,'[1]002'!B:M,3,0),7),3)","v":"佛山市"},{"$f":"VLOOKUP(B829,'[1]002'!B:M,7,0)","v":"梁秋达"},{"$f":"VLOOKUP(B829,'[1]002'!B:M,8,0)","v":"佛山市顺德区龙江城区中心小学"},{"$f":"VLOOKUP(B829,'[1]002'!B:M,11,0)","v":"-"},{"$f":"VLOOKUP(B829,'[1]002'!B:M,12,0)","v":"-"}]
[828,"P306119090776","圆圆被抢劫了","小学组","新媒体新技术教学应用课例","三等奖",{"$f":"RIGHT(LEFT(VLOOKUP(B830,'[1]002'!B:M,3,0),7),3)","v":"佛山市"},{"$f":"VLOOKUP(B830,'[1]002'!B:M,7,0)","v":"朱月月"},{"$f":"VLOOKUP(B830,'[1]002'!B:M,8,0)","v":"佛山市顺德德胜小学"},{"$f":"VLOOKUP(B830,'[1]002'!B:M,11,0)","v":"-"},{"$f":"VLOOKUP(B830,'[1]002'!B:M,12,0)","v":"-"}]
[829,"P306119090769","万花筒","小学组","新媒体新技术教学应用课例","三等奖",{"$f":"RIGHT(LEFT(VLOOKUP(B831,'[1]002'!B:M,3,0),7),3)","v":"佛山市"},{"$f":"VLOOKUP(B831,'[1]002'!B:M,7,0)","v":"张兴贵"},{"$f":"VLOOKUP(B831,'[1]002'!B:M,8,0)","v":"佛山市顺德区北滘高村小学"},{"$f":"VLOOKUP(B831,'[1]002'!B:M,11,0)","v":"李瑞娇"},{"$f":"VLOOKUP(B831,'[1]002'!B:M,12,0)","v":"佛山市顺德区北滘高村小学"}]
[830,"P306119090762","接苹果","小学组","新媒体新技术教学应用课例","三等奖",{"$f":"RIGHT(LEFT(VLOOKUP(B832,'[1]002'!B:M,3,0),7),3)","v":"佛山市"},{"$f":"VLOOKUP(B832,'[1]002'!B:M,7,0)","v":"崔伟锋"},{"$f":"VLOOKUP(B832,'[1]002'!B:M,8,0)","v":"佛山市顺德区勒流育贤实验学校小学部"},{"$f":"VLOOKUP(B832,'[1]002'!B:M,11,0)","v":"-"},{"$f":"VLOOKUP(B832,'[1]002'!B:M,12,0)","v":"-"}]
[831,"P306119090771","红包滚滚来Scratch编程游戏制作","小学组","新媒体新技术教学应用课例","三等奖",{"$f":"RIGHT(LEFT(VLOOKUP(B833,'[1]002'!B:M,3,0),7),3)","v":"佛山市"},{"$f":"VLOOKUP(B833,'[1]002'!B:M,7,0)","v":"陈金宇"},{"$f":"VLOOKUP(B833,'[1]002'!B:M,8,0)","v":"佛山市顺德区李介甫小学"},{"$f":"VLOOKUP(B833,'[1]002'!B:M,11,0)","v":"-"},{"$f":"VLOOKUP(B833,'[1]002'!B:M,12,0)","v":"-"}]
[832,"P306119090747","找规律","小学组","新媒体新技术教学应用课例","三等奖",{"$f":"RIGHT(LEFT(VLOOKUP(B834,'[1]002'!B:M,3,0),7),3)","v":"佛山市"},{"$f":"VLOOKUP(B834,'[1]002'!B:M,7,0)","v":"吴艳艳"},{"$f":"VLOOKUP(B834,'[1]002'!B:M,8,0)","v":"佛山市南海区桂城街道桂江小学"},{"$f":"VLOOKUP(B834,'[1]002'!B:M,11,0)","v":"-"},{"$f":"VLOOKUP(B834,'[1]002'!B:M,12,0)","v":"-"}]
[833,"P306119090748","棉花姑娘","小学组","新媒体新技术教学应用课例","三等奖",{"$f":"RIGHT(LEFT(VLOOKUP(B835,'[1]002'!B:M,3,0),7),3)","v":"佛山市"},{"$f":"VLOOKUP(B835,'[1]002'!B:M,7,0)","v":"邓金清"},{"$f":"VLOOKUP(B835,'[1]002'!B:M,8,0)","v":"佛山市南海区丹灶镇罗行小学"},{"$f":"VLOOKUP(B835,'[1]002'!B:M,11,0)","v":"-"},{"$f":"VLOOKUP(B835,'[1]002'!B:M,12,0)","v":"-"}]
[834,"P306119090770","鹿角和鹿腿","小学组","新媒体新技术教学应用课例","三等奖",{"$f":"RIGHT(LEFT(VLOOKUP(B836,'[1]002'!B:M,3,0),7),3)","v":"佛山市"},{"$f":"VLOOKUP(B836,'[1]002'!B:M,7,0)","v":"黄静"},{"$f":"VLOOKUP(B836,'[1]002'!B:M,8,0)","v":"佛山市顺德区大良实验小学"},{"$f":"VLOOKUP(B836,'[1]002'!B:M,11,0)","v":"张敬强"},{"$f":"VLOOKUP(B836,'[1]002'!B:M,12,0)","v":"佛山市顺德区大良实验小学"}]
[835,"P306119090772","慈母情深","小学组","新媒体新技术教学应用课例","三等奖",{"$f":"RIGHT(LEFT(VLOOKUP(B837,'[1]002'!B:M,3,0),7),3)","v":"佛山市"},{"$f":"VLOOKUP(B837,'[1]002'!B:M,7,0)","v":"郭武松"},{"$f":"VLOOKUP(B837,'[1]002'!B:M,8,0)","v":"佛山市顺德区大良实验小学"},{"$f":"VLOOKUP(B837,'[1]002'!B:M,11,0)","v":"沈国华"},{"$f":"VLOOKUP(B837,'[1]002'!B:M,12,0)","v":"佛山市顺德区大良实验小学"}]
[836,"P306119090775","威尼斯的小艇","小学组","新媒体新技术教学应用课例","三等奖",{"$f":"RIGHT(LEFT(VLOOKUP(B838,'[1]002'!B:M,3,0),7),3)","v":"佛山市"},{"$f":"VLOOKUP(B838,'[1]002'!B:M,7,0)","v":"苏倩兴"},{"$f":"VLOOKUP(B838,'[1]002'!B:M,8,0)","v":"佛山市顺德区北滘高村小学"},{"$f":"VLOOKUP(B838,'[1]002'!B:M,11,0)","v":"-"},{"$f":"VLOOKUP(B838,'[1]002'!B:M,12,0)","v":"-"}]
[837,"P306119090731","邮票中的数学问题","小学组","新媒体新技术教学应用课例","三等奖",{"$f":"RIGHT(LEFT(VLOOKUP(B839,'[1]002'!B:M,3,0),7),3)","v":"佛山市"},{"$f":"VLOOKUP(B839,'[1]002'!B:M,7,0)","v":"罗允仪"},{"$f":"VLOOKUP(B839,'[1]002'!B:M,8,0)","v":"佛山市高明区荷城街道德信实验学校"},{"$f":"VLOOKUP(B839,'[1]002'!B:M,11,0)","v":"-"},{"$f":"VLOOKUP(B839,'[1]002'!B:M,12,0)","v":"-"}]
[838,"P306119090750","与众乐乐","小学组","新媒体新技术教学应用课例","三等奖",{"$f":"RIGHT(LEFT(VLOOKUP(B840,'[1]002'!B:M,3,0),7),3)","v":"佛山市"},{"$f":"VLOOKUP(B840,'[1]002'!B:M,7,0)","v":"陆嘉琳"},{"$f":"VLOOKUP(B840,'[1]002'!B:M,8,0)","v":"佛山市城南小学"},{"$f":"VLOOKUP(B840,'[1]002'!B:M,11,0)","v":"-"},{"$f":"VLOOKUP(B840,'[1]002'!B:M,12,0)","v":"-"}]
[839,"P306119090763","Unit_4_At_the_farm_B_read_and_write","小学组","新媒体新技术教学应用课例","三等奖",{"$f":"RIGHT(LEFT(VLOOKUP(B841,'[1]002'!B:M,3,0),7),3)","v":"佛山市"},{"$f":"VLOOKUP(B841,'[1]002'!B:M,7,0)","v":"刘韵君"},{"$f":"VLOOKUP(B841,'[1]002'!B:M,8,0)","v":"佛山市顺德区北滘镇承德小学"},{"$f":"VLOOKUP(B841,'[1]002'!B:M,11,0)","v":"苏明涛"},{"$f":"VLOOKUP(B841,'[1]002'!B:M,12,0)","v":"佛山市顺德区北滘镇承德小学"}]
[840,"P306119090752","跨越海峡的生命桥","小学组","新媒体新技术教学应用课例","三等奖",{"$f":"RIGHT(LEFT(VLOOKUP(B842,'[1]002'!B:M,3,0),7),3)","v":"佛山市"},{"$f":"VLOOKUP(B842,'[1]002'!B:M,7,0)","v":"刘敏华"},{"$f":"VLOOKUP(B842,'[1]002'!B:M,8,0)","v":"佛山市同济小学"},{"$f":"VLOOKUP(B842,'[1]002'!B:M,11,0)","v":"-"},{"$f":"VLOOKUP(B842,'[1]002'!B:M,12,0)","v":"-"}]
[841,"P306119089579","好吃的水果","小学组","新媒体新技术教学应用课例","三等奖",{"$f":"RIGHT(LEFT(VLOOKUP(B843,'[1]002'!B:M,3,0),7),3)","v":"韶关市"},{"$f":"VLOOKUP(B843,'[1]002'!B:M,7,0)","v":"黄聪"},{"$f":"VLOOKUP(B843,'[1]002'!B:M,8,0)","v":"仁化县第二小学"},{"$f":"VLOOKUP(B843,'[1]002'!B:M,11,0)","v":"邓毅萍"},{"$f":"VLOOKUP(B843,'[1]002'!B:M,12,0)","v":"仁化县第二小学"}]
[842,"P306119088642","体积与容积","小学组","新媒体新技术教学应用课例","三等奖",{"$f":"RIGHT(LEFT(VLOOKUP(B844,'[1]002'!B:M,3,0),7),3)","v":"韶关市"},{"$f":"VLOOKUP(B844,'[1]002'!B:M,7,0)","v":"潘华办"},{"$f":"VLOOKUP(B844,'[1]002'!B:M,8,0)","v":"新丰县实验小学"},{"$f":"VLOOKUP(B844,'[1]002'!B:M,11,0)","v":"-"},{"$f":"VLOOKUP(B844,'[1]002'!B:M,12,0)","v":"-"}]
[843,"P306119089198","MothersDay","小学组","新媒体新技术教学应用课例","三等奖",{"$f":"RIGHT(LEFT(VLOOKUP(B845,'[1]002'!B:M,3,0),7),3)","v":"韶关市"},{"$f":"VLOOKUP(B845,'[1]002'!B:M,7,0)","v":"陈玉玲"},{"$f":"VLOOKUP(B845,'[1]002'!B:M,8,0)","v":"韶关市浈江区执信小学"},{"$f":"VLOOKUP(B845,'[1]002'!B:M,11,0)","v":"-"},{"$f":"VLOOKUP(B845,'[1]002'!B:M,12,0)","v":"-"}]
[844,"P306119090150","拼音王国大闯关","小学组","新媒体新技术教学应用课例","三等奖",{"$f":"RIGHT(LEFT(VLOOKUP(B846,'[1]002'!B:M,3,0),7),3)","v":"韶关市"},{"$f":"VLOOKUP(B846,'[1]002'!B:M,7,0)","v":"范桂丽"},{"$f":"VLOOKUP(B846,'[1]002'!B:M,8,0)","v":"韶关市武江区田家炳沙湖绿洲小学"},{"$f":"VLOOKUP(B846,'[1]002'!B:M,11,0)","v":"蔡慧良"},{"$f":"VLOOKUP(B846,'[1]002'!B:M,12,0)","v":"韶关市武江区田家炳沙湖绿洲小学"}]
[845,"P306119090200","大嘴怪","小学组","新媒体新技术教学应用课例","三等奖",{"$f":"RIGHT(LEFT(VLOOKUP(B847,'[1]002'!B:M,3,0),7),3)","v":"韶关市"},{"$f":"VLOOKUP(B847,'[1]002'!B:M,7,0)","v":"何婷婷"},{"$f":"VLOOKUP(B847,'[1]002'!B:M,8,0)","v":"韶关市武江区华泰小学"},{"$f":"VLOOKUP(B847,'[1]002'!B:M,11,0)","v":"吴颖妍"},{"$f":"VLOOKUP(B847,'[1]002'!B:M,12,0)","v":"韶关市武江区华泰小学"}]
[846,"P306119088888","捕鱼达人","小学组","新媒体新技术教学应用课例","三等奖",{"$f":"RIGHT(LEFT(VLOOKUP(B848,'[1]002'!B:M,3,0),7),3)","v":"韶关市"},{"$f":"VLOOKUP(B848,'[1]002'!B:M,7,0)","v":"吴颖妍"},{"$f":"VLOOKUP(B848,'[1]002'!B:M,8,0)","v":"韶关市武江区华泰小学"},{"$f":"VLOOKUP(B848,'[1]002'!B:M,11,0)","v":"郭圣兴"},{"$f":"VLOOKUP(B848,'[1]002'!B:M,12,0)","v":"韶关市武江区华泰小学"}]
[847,"P306119080546","16零点五分","小学组","新媒体新技术教学应用课例","三等奖",{"$f":"RIGHT(LEFT(VLOOKUP(B849,'[1]002'!B:M,3,0),7),3)","v":"韶关市"},{"$f":"VLOOKUP(B849,'[1]002'!B:M,7,0)","v":"徐文艳"},{"$f":"VLOOKUP(B849,'[1]002'!B:M,8,0)","v":"始兴县马市镇中心小学"},{"$f":"VLOOKUP(B849,'[1]002'!B:M,11,0)","v":"-"},{"$f":"VLOOKUP(B849,'[1]002'!B:M,12,0)","v":"-"}]
[848,"P306119088927","笔的演变","小学组","新媒体新技术教学应用课例","三等奖",{"$f":"RIGHT(LEFT(VLOOKUP(B850,'[1]002'!B:M,3,0),7),3)","v":"韶关市"},{"$f":"VLOOKUP(B850,'[1]002'!B:M,7,0)","v":"杨馥菲"},{"$f":"VLOOKUP(B850,'[1]002'!B:M,8,0)","v":"韶关市武江区田家炳沙湖绿洲小学"},{"$f":"VLOOKUP(B850,'[1]002'!B:M,11,0)","v":"蔡慧良"},{"$f":"VLOOKUP(B850,'[1]002'!B:M,12,0)","v":"韶关市武江区田家炳沙湖绿洲小学"}]
[849,"P306119093476","认识我们灵活多变的手","小学组","新媒体新技术教学应用课例","三等奖",{"$f":"RIGHT(LEFT(VLOOKUP(B851,'[1]002'!B:M,3,0),7),3)","v":"河源市"},{"$f":"VLOOKUP(B851,'[1]002'!B:M,7,0)","v":"邹穗"},{"$f":"VLOOKUP(B851,'[1]002'!B:M,8,0)","v":"老隆镇第三小学"},{"$f":"VLOOKUP(B851,'[1]002'!B:M,11,0)","v":"-"},{"$f":"VLOOKUP(B851,'[1]002'!B:M,12,0)","v":"-"}]
[850,"P306119089428","建桥梁","小学组","新媒体新技术教学应用课例","三等奖",{"$f":"RIGHT(LEFT(VLOOKUP(B852,'[1]002'!B:M,3,0),7),3)","v":"梅州市"},{"$f":"VLOOKUP(B852,'[1]002'!B:M,7,0)","v":"黄文斌"},{"$f":"VLOOKUP(B852,'[1]002'!B:M,8,0)","v":"梅州市梅县区新城中心小学"},{"$f":"VLOOKUP(B852,'[1]002'!B:M,11,0)","v":"-"},{"$f":"VLOOKUP(B852,'[1]002'!B:M,12,0)","v":"-"}]
[851,"P306119079773","2和5的倍数的特征","小学组","新媒体新技术教学应用课例","三等奖",{"$f":"RIGHT(LEFT(VLOOKUP(B853,'[1]002'!B:M,3,0),7),3)","v":"梅州市"},{"$f":"VLOOKUP(B853,'[1]002'!B:M,7,0)","v":"廖子金"},{"$f":"VLOOKUP(B853,'[1]002'!B:M,8,0)","v":"梅州市梅江区五洲小学"},{"$f":"VLOOKUP(B853,'[1]002'!B:M,11,0)","v":"-"},{"$f":"VLOOKUP(B853,'[1]002'!B:M,12,0)","v":"-"}]
[852,"P306119092805","三角形","小学组","新媒体新技术教学应用课例","三等奖",{"$f":"RIGHT(LEFT(VLOOKUP(B854,'[1]002'!B:M,3,0),7),3)","v":"东莞市"},{"$f":"VLOOKUP(B854,'[1]002'!B:M,7,0)","v":"何棋珍"},{"$f":"VLOOKUP(B854,'[1]002'!B:M,8,0)","v":"东莞市大朗镇三星小学"},{"$f":"VLOOKUP(B854,'[1]002'!B:M,11,0)","v":"欧燕华"},{"$f":"VLOOKUP(B854,'[1]002'!B:M,12,0)","v":"东莞市大朗镇三星小学"}]
[853,"P306119092423","洋娃娃和小熊跳舞","小学组","新媒体新技术教学应用课例","三等奖",{"$f":"RIGHT(LEFT(VLOOKUP(B855,'[1]002'!B:M,3,0),7),3)","v":"东莞市"},{"$f":"VLOOKUP(B855,'[1]002'!B:M,7,0)","v":"马丽"},{"$f":"VLOOKUP(B855,'[1]002'!B:M,8,0)","v":"东莞市南城区阳光第二小学"},{"$f":"VLOOKUP(B855,'[1]002'!B:M,11,0)","v":"-"},{"$f":"VLOOKUP(B855,'[1]002'!B:M,12,0)","v":"-"}]
[854,"P306119092419","WhatAnimalIsIt","小学组","新媒体新技术教学应用课例","三等奖",{"$f":"RIGHT(LEFT(VLOOKUP(B856,'[1]002'!B:M,3,0),7),3)","v":"东莞市"},{"$f":"VLOOKUP(B856,'[1]002'!B:M,7,0)","v":"何棋珍"},{"$f":"VLOOKUP(B856,'[1]002'!B:M,8,0)","v":"东莞市大朗镇三星小学"},{"$f":"VLOOKUP(B856,'[1]002'!B:M,11,0)","v":"冯艺尧"},{"$f":"VLOOKUP(B856,'[1]002'!B:M,12,0)","v":"东莞市大朗镇三星小学"}]
[855,"P306119092422","青蛙卖泥塘","小学组","新媒体新技术教学应用课例","三等奖",{"$f":"RIGHT(LEFT(VLOOKUP(B857,'[1]002'!B:M,3,0),7),3)","v":"东莞市"},{"$f":"VLOOKUP(B857,'[1]002'!B:M,7,0)","v":"李贤慧"},{"$f":"VLOOKUP(B857,'[1]002'!B:M,8,0)","v":"东莞市南城中心小学"},{"$f":"VLOOKUP(B857,'[1]002'!B:M,11,0)","v":"-"},{"$f":"VLOOKUP(B857,'[1]002'!B:M,12,0)","v":"-"}]
[856,"P306119092421","有趣的汉字","小学组","新媒体新技术教学应用课例","三等奖",{"$f":"RIGHT(LEFT(VLOOKUP(B858,'[1]002'!B:M,3,0),7),3)","v":"东莞市"},{"$f":"VLOOKUP(B858,'[1]002'!B:M,7,0)","v":"陈子伟"},{"$f":"VLOOKUP(B858,'[1]002'!B:M,8,0)","v":"东莞市麻涌镇大步小学"},{"$f":"VLOOKUP(B858,'[1]002'!B:M,11,0)","v":"-"},{"$f":"VLOOKUP(B858,'[1]002'!B:M,12,0)","v":"-"}]
[857,"P306119092425","青山不老","小学组","新媒体新技术教学应用课例","三等奖",{"$f":"RIGHT(LEFT(VLOOKUP(B859,'[1]002'!B:M,3,0),7),3)","v":"东莞市"},{"$f":"VLOOKUP(B859,'[1]002'!B:M,7,0)","v":"李洁兴"},{"$f":"VLOOKUP(B859,'[1]002'!B:M,8,0)","v":"东莞市麻涌镇大盛小学"},{"$f":"VLOOKUP(B859,'[1]002'!B:M,11,0)","v":"-"},{"$f":"VLOOKUP(B859,'[1]002'!B:M,12,0)","v":"-"}]
[858,"P306119092426","5动物儿歌","小学组","新媒体新技术教学应用课例","三等奖",{"$f":"RIGHT(LEFT(VLOOKUP(B860,'[1]002'!B:M,3,0),7),3)","v":"东莞市"},{"$f":"VLOOKUP(B860,'[1]002'!B:M,7,0)","v":"吴慧花"},{"$f":"VLOOKUP(B860,'[1]002'!B:M,8,0)","v":"东莞市南城区阳光第六小学"},{"$f":"VLOOKUP(B860,'[1]002'!B:M,11,0)","v":"王静文"},{"$f":"VLOOKUP(B860,'[1]002'!B:M,12,0)","v":"东莞市南城区阳光第六小学"}]
[859,"P306119092428","我的植物朋友","小学组","新媒体新技术教学应用课例","三等奖",{"$f":"RIGHT(LEFT(VLOOKUP(B861,'[1]002'!B:M,3,0),7),3)","v":"东莞市"},{"$f":"VLOOKUP(B861,'[1]002'!B:M,7,0)","v":"吴敏娥"},{"$f":"VLOOKUP(B861,'[1]002'!B:M,8,0)","v":"东莞市横沥镇中心小学"},{"$f":"VLOOKUP(B861,'[1]002'!B:M,11,0)","v":"-"},{"$f":"VLOOKUP(B861,'[1]002'!B:M,12,0)","v":"-"}]
[860,"P306119092417","ThreeFish","小学组","新媒体新技术教学应用课例","三等奖",{"$f":"RIGHT(LEFT(VLOOKUP(B862,'[1]002'!B:M,3,0),7),3)","v":"东莞市"},{"$f":"VLOOKUP(B862,'[1]002'!B:M,7,0)","v":"欧阳玉芬"},{"$f":"VLOOKUP(B862,'[1]002'!B:M,8,0)","v":"东莞市南城中心小学"},{"$f":"VLOOKUP(B862,'[1]002'!B:M,11,0)","v":"-"},{"$f":"VLOOKUP(B862,'[1]002'!B:M,12,0)","v":"-"}]
[861,"P306119092424","PEP四下Unit3WeatherBLetstalk","小学组","新媒体新技术教学应用课例","三等奖",{"$f":"RIGHT(LEFT(VLOOKUP(B863,'[1]002'!B:M,3,0),7),3)","v":"东莞市"},{"$f":"VLOOKUP(B863,'[1]002'!B:M,7,0)","v":"龙自欢"},{"$f":"VLOOKUP(B863,'[1]002'!B:M,8,0)","v":"东莞市东城虎英小学"},{"$f":"VLOOKUP(B863,'[1]002'!B:M,11,0)","v":"刘淑君"},{"$f":"VLOOKUP(B863,'[1]002'!B:M,12,0)","v":"东莞市东城虎英小学"}]
[862,"P306119088740","老水牛角弯弯","小学组","新媒体新技术教学应用课例","三等奖",{"$f":"RIGHT(LEFT(VLOOKUP(B864,'[1]002'!B:M,3,0),7),3)","v":"中山市"},{"$f":"VLOOKUP(B864,'[1]002'!B:M,7,0)","v":"谢淑怡"},{"$f":"VLOOKUP(B864,'[1]002'!B:M,8,0)","v":"中山市东凤镇凤鸣小学"},{"$f":"VLOOKUP(B864,'[1]002'!B:M,11,0)","v":"-"},{"$f":"VLOOKUP(B864,'[1]002'!B:M,12,0)","v":"-"}]
[863,"P306119089215","倍的认识","小学组","新媒体新技术教学应用课例","三等奖",{"$f":"RIGHT(LEFT(VLOOKUP(B865,'[1]002'!B:M,3,0),7),3)","v":"中山市"},{"$f":"VLOOKUP(B865,'[1]002'!B:M,7,0)","v":"黄敏珊"},{"$f":"VLOOKUP(B865,'[1]002'!B:M,8,0)","v":"中山火炬高技术产业开发区香晖园小学"},{"$f":"VLOOKUP(B865,'[1]002'!B:M,11,0)","v":"翟伟钰"},{"$f":"VLOOKUP(B865,'[1]002'!B:M,12,0)","v":"中山火炬高技术产业开发区香晖园小学"}]
[864,"P306119088227","吹泡泡","小学组","新媒体新技术教学应用课例","三等奖",{"$f":"RIGHT(LEFT(VLOOKUP(B866,'[1]002'!B:M,3,0),7),3)","v":"中山市"},{"$f":"VLOOKUP(B866,'[1]002'!B:M,7,0)","v":"林漫青"},{"$f":"VLOOKUP(B866,'[1]002'!B:M,8,0)","v":"中山市西区沙朗小学"},{"$f":"VLOOKUP(B866,'[1]002'!B:M,11,0)","v":"严禄星"},{"$f":"VLOOKUP(B866,'[1]002'!B:M,12,0)","v":"中山市西区沙朗小学"}]
[865,"P306119089554","我们建个群吧","小学组","新媒体新技术教学应用课例","三等奖",{"$f":"RIGHT(LEFT(VLOOKUP(B867,'[1]002'!B:M,3,0),7),3)","v":"中山市"},{"$f":"VLOOKUP(B867,'[1]002'!B:M,7,0)","v":"徐铭侃"},{"$f":"VLOOKUP(B867,'[1]002'!B:M,8,0)","v":"中山市实验小学"},{"$f":"VLOOKUP(B867,'[1]002'!B:M,11,0)","v":"-"},{"$f":"VLOOKUP(B867,'[1]002'!B:M,12,0)","v":"-"}]
[866,"P306119088270","Our Clothes","小学组","新媒体新技术教学应用课例","三等奖",{"$f":"RIGHT(LEFT(VLOOKUP(B868,'[1]002'!B:M,3,0),7),3)","v":"中山市"},{"$f":"VLOOKUP(B868,'[1]002'!B:M,7,0)","v":"胡雅"},{"$f":"VLOOKUP(B868,'[1]002'!B:M,8,0)","v":"中山市西区铁城小学"},{"$f":"VLOOKUP(B868,'[1]002'!B:M,11,0)","v":"-"},{"$f":"VLOOKUP(B868,'[1]002'!B:M,12,0)","v":"-"}]
[867,"P306119088785","Book 3 Unit 6 Toys","小学组","新媒体新技术教学应用课例","三等奖",{"$f":"RIGHT(LEFT(VLOOKUP(B869,'[1]002'!B:M,3,0),7),3)","v":"中山市"},{"$f":"VLOOKUP(B869,'[1]002'!B:M,7,0)","v":"曹新竹"},{"$f":"VLOOKUP(B869,'[1]002'!B:M,8,0)","v":"中山市石岐中心小学"},{"$f":"VLOOKUP(B869,'[1]002'!B:M,11,0)","v":"-"},{"$f":"VLOOKUP(B869,'[1]002'!B:M,12,0)","v":"-"}]
[868,"P306119090300","Unit3Animals","小学组","新媒体新技术教学应用课例","三等奖",{"$f":"RIGHT(LEFT(VLOOKUP(B870,'[1]002'!B:M,3,0),7),3)","v":"中山市"},{"$f":"VLOOKUP(B870,'[1]002'!B:M,7,0)","v":"陈水玲"},{"$f":"VLOOKUP(B870,'[1]002'!B:M,8,0)","v":"中山市西区中心小学"},{"$f":"VLOOKUP(B870,'[1]002'!B:M,11,0)","v":"-"},{"$f":"VLOOKUP(B870,'[1]002'!B:M,12,0)","v":"-"}]
[869,"P306119089358","语文园地八","小学组","新媒体新技术教学应用课例","三等奖",{"$f":"RIGHT(LEFT(VLOOKUP(B871,'[1]002'!B:M,3,0),7),3)","v":"中山市"},{"$f":"VLOOKUP(B871,'[1]002'!B:M,7,0)","v":"林丽奋"},{"$f":"VLOOKUP(B871,'[1]002'!B:M,8,0)","v":"中山市沙溪镇龙瑞小学"},{"$f":"VLOOKUP(B871,'[1]002'!B:M,11,0)","v":"-"},{"$f":"VLOOKUP(B871,'[1]002'!B:M,12,0)","v":"-"}]
[870,"P306119089113","Unit5 A Circus in the park ( Story）","小学组","新媒体新技术教学应用课例","三等奖",{"$f":"RIGHT(LEFT(VLOOKUP(B872,'[1]002'!B:M,3,0),7),3)","v":"中山市"},{"$f":"VLOOKUP(B872,'[1]002'!B:M,7,0)","v":"林苑梅"},{"$f":"VLOOKUP(B872,'[1]002'!B:M,8,0)","v":"中山市沙溪镇中心小学"},{"$f":"VLOOKUP(B872,'[1]002'!B:M,11,0)","v":"-"},{"$f":"VLOOKUP(B872,'[1]002'!B:M,12,0)","v":"-"}]
[871,"P306119089823","葫芦丝打音学习乐曲苗家姑娘过山来","小学组","新媒体新技术教学应用课例","三等奖",{"$f":"RIGHT(LEFT(VLOOKUP(B873,'[1]002'!B:M,3,0),7),3)","v":"中山市"},{"$f":"VLOOKUP(B873,'[1]002'!B:M,7,0)","v":"蓝旭雯"},{"$f":"VLOOKUP(B873,'[1]002'!B:M,8,0)","v":"中山市阜沙镇牛角小学"},{"$f":"VLOOKUP(B873,'[1]002'!B:M,11,0)","v":"任思"},{"$f":"VLOOKUP(B873,'[1]002'!B:M,12,0)","v":"中山市阜沙镇牛角小学"}]
[872,"P306119088538","Scratch JR 火箭发射升空","小学组","新媒体新技术教学应用课例","三等奖",{"$f":"RIGHT(LEFT(VLOOKUP(B874,'[1]002'!B:M,3,0),7),3)","v":"中山市"},{"$f":"VLOOKUP(B874,'[1]002'!B:M,7,0)","v":"郑启立"},{"$f":"VLOOKUP(B874,'[1]002'!B:M,8,0)","v":"中山市石岐杨仙逸小学"},{"$f":"VLOOKUP(B874,'[1]002'!B:M,11,0)","v":"-"},{"$f":"VLOOKUP(B874,'[1]002'!B:M,12,0)","v":"-"}]
[873,"P306119091841","Going Outing","小学组","新媒体新技术教学应用课例","三等奖",{"$f":"RIGHT(LEFT(VLOOKUP(B875,'[1]002'!B:M,3,0),7),3)","v":"江门市"},{"$f":"VLOOKUP(B875,'[1]002'!B:M,7,0)","v":"林小云"},{"$f":"VLOOKUP(B875,'[1]002'!B:M,8,0)","v":"外海银泉小学"},{"$f":"VLOOKUP(B875,'[1]002'!B:M,11,0)","v":"-"},{"$f":"VLOOKUP(B875,'[1]002'!B:M,12,0)","v":"-"}]
[874,"P306119092350","口算乘法","小学组","新媒体新技术教学应用课例","三等奖",{"$f":"RIGHT(LEFT(VLOOKUP(B876,'[1]002'!B:M,3,0),7),3)","v":"江门市"},{"$f":"VLOOKUP(B876,'[1]002'!B:M,7,0)","v":"李文清"},{"$f":"VLOOKUP(B876,'[1]002'!B:M,8,0)","v":"台山市新宁小学"},{"$f":"VLOOKUP(B876,'[1]002'!B:M,11,0)","v":"-"},{"$f":"VLOOKUP(B876,'[1]002'!B:M,12,0)","v":"-"}]
[875,"P306119091838","漂浮的画","小学组","新媒体新技术教学应用课例","三等奖",{"$f":"RIGHT(LEFT(VLOOKUP(B877,'[1]002'!B:M,3,0),7),3)","v":"江门市"},{"$f":"VLOOKUP(B877,'[1]002'!B:M,7,0)","v":"陈淑贤"},{"$f":"VLOOKUP(B877,'[1]002'!B:M,8,0)","v":"外海中心小学"},{"$f":"VLOOKUP(B877,'[1]002'!B:M,11,0)","v":"-"},{"$f":"VLOOKUP(B877,'[1]002'!B:M,12,0)","v":"-"}]
[876,"P306119091294","图形的旋转一","小学组","新媒体新技术教学应用课例","三等奖",{"$f":"RIGHT(LEFT(VLOOKUP(B878,'[1]002'!B:M,3,0),7),3)","v":"茂名市"},{"$f":"VLOOKUP(B878,'[1]002'!B:M,7,0)","v":"朱飞飞"},{"$f":"VLOOKUP(B878,'[1]002'!B:M,8,0)","v":"茂名市方兴小学"},{"$f":"VLOOKUP(B878,'[1]002'!B:M,11,0)","v":"-"},{"$f":"VLOOKUP(B878,'[1]002'!B:M,12,0)","v":"-"}]
[877,"P306119091361","咕咚","小学组","新媒体新技术教学应用课例","三等奖",{"$f":"RIGHT(LEFT(VLOOKUP(B879,'[1]002'!B:M,3,0),7),3)","v":"茂名市"},{"$f":"VLOOKUP(B879,'[1]002'!B:M,7,0)","v":"陈秀燕"},{"$f":"VLOOKUP(B879,'[1]002'!B:M,8,0)","v":"茂名市福华小学"},{"$f":"VLOOKUP(B879,'[1]002'!B:M,11,0)","v":"-"},{"$f":"VLOOKUP(B879,'[1]002'!B:M,12,0)","v":"-"}]
[878,"P306119091358","仙人掌国画","小学组","新媒体新技术教学应用课例","三等奖",{"$f":"RIGHT(LEFT(VLOOKUP(B880,'[1]002'!B:M,3,0),7),3)","v":"茂名市"},{"$f":"VLOOKUP(B880,'[1]002'!B:M,7,0)","v":"梁翠媚"},{"$f":"VLOOKUP(B880,'[1]002'!B:M,8,0)","v":"茂名市第三小学"},{"$f":"VLOOKUP(B880,'[1]002'!B:M,11,0)","v":"-"},{"$f":"VLOOKUP(B880,'[1]002'!B:M,12,0)","v":"-"}]
[879,"P306119090215","两数之和的奇偶性","小学组","新媒体新技术教学应用课例","三等奖",{"$f":"RIGHT(LEFT(VLOOKUP(B881,'[1]002'!B:M,3,0),7),3)","v":"肇庆市"},{"$f":"VLOOKUP(B881,'[1]002'!B:M,7,0)","v":"黄万鹏"},{"$f":"VLOOKUP(B881,'[1]002'!B:M,8,0)","v":"肇庆市第四小学"},{"$f":"VLOOKUP(B881,'[1]002'!B:M,11,0)","v":"-"},{"$f":"VLOOKUP(B881,'[1]002'!B:M,12,0)","v":"-"}]
[880,"P306119091281","年月日","小学组","新媒体新技术教学应用课例","三等奖",{"$f":"RIGHT(LEFT(VLOOKUP(B882,'[1]002'!B:M,3,0),7),3)","v":"肇庆市"},{"$f":"VLOOKUP(B882,'[1]002'!B:M,7,0)","v":"龙海兰"},{"$f":"VLOOKUP(B882,'[1]002'!B:M,8,0)","v":"怀集县怀城镇第二小学"},{"$f":"VLOOKUP(B882,'[1]002'!B:M,11,0)","v":"-"},{"$f":"VLOOKUP(B882,'[1]002'!B:M,12,0)","v":"-"}]
[881,"P306119090214","七月的天山","小学组","新媒体新技术教学应用课例","三等奖",{"$f":"RIGHT(LEFT(VLOOKUP(B883,'[1]002'!B:M,3,0),7),3)","v":"肇庆市"},{"$f":"VLOOKUP(B883,'[1]002'!B:M,7,0)","v":"冯妍"},{"$f":"VLOOKUP(B883,'[1]002'!B:M,8,0)","v":"肇庆市第四小学"},{"$f":"VLOOKUP(B883,'[1]002'!B:M,11,0)","v":"-"},{"$f":"VLOOKUP(B883,'[1]002'!B:M,12,0)","v":"-"}]
[882,"P306119091189","藏戏","小学组","新媒体新技术教学应用课例","三等奖",{"$f":"RIGHT(LEFT(VLOOKUP(B884,'[1]002'!B:M,3,0),7),3)","v":"肇庆市"},{"$f":"VLOOKUP(B884,'[1]002'!B:M,7,0)","v":"李少波"},{"$f":"VLOOKUP(B884,'[1]002'!B:M,8,0)","v":"鼎湖逸夫小学"},{"$f":"VLOOKUP(B884,'[1]002'!B:M,11,0)","v":"-"},{"$f":"VLOOKUP(B884,'[1]002'!B:M,12,0)","v":"-"}]
[883,"P306119091686","两小儿辩日","小学组","新媒体新技术教学应用课例","三等奖",{"$f":"RIGHT(LEFT(VLOOKUP(B885,'[1]002'!B:M,3,0),7),3)","v":"清远市"},{"$f":"VLOOKUP(B885,'[1]002'!B:M,7,0)","v":"吴春丽"},{"$f":"VLOOKUP(B885,'[1]002'!B:M,8,0)","v":"英德市第一小学"},{"$f":"VLOOKUP(B885,'[1]002'!B:M,11,0)","v":"-"},{"$f":"VLOOKUP(B885,'[1]002'!B:M,12,0)","v":"-"}]
[884,"P306119079906","三角形的认识","小学组","新媒体新技术教学应用课例","三等奖",{"$f":"RIGHT(LEFT(VLOOKUP(B886,'[1]002'!B:M,3,0),7),3)","v":"云浮市"},{"$f":"VLOOKUP(B886,'[1]002'!B:M,7,0)","v":"乐天威"},{"$f":"VLOOKUP(B886,'[1]002'!B:M,8,0)","v":"罗定第一小学"},{"$f":"VLOOKUP(B886,'[1]002'!B:M,11,0)","v":"-"},{"$f":"VLOOKUP(B886,'[1]002'!B:M,12,0)","v":"-"}]
[885,"P306119090439","认识面积","小学组","新媒体新技术教学应用课例","三等奖",{"$f":"RIGHT(LEFT(VLOOKUP(B887,'[1]002'!B:M,3,0),7),3)","v":"云浮市"},{"$f":"VLOOKUP(B887,'[1]002'!B:M,7,0)","v":"黎水莹"},{"$f":"VLOOKUP(B887,'[1]002'!B:M,8,0)","v":"罗定第一小学"},{"$f":"VLOOKUP(B887,'[1]002'!B:M,11,0)","v":"-"},{"$f":"VLOOKUP(B887,'[1]002'!B:M,12,0)","v":"-"}]
[886,"P306119082924","Unit4Readandwrite","小学组","新媒体新技术教学应用课例","三等奖",{"$f":"RIGHT(LEFT(VLOOKUP(B888,'[1]002'!B:M,3,0),7),3)","v":"云浮市"},{"$f":"VLOOKUP(B888,'[1]002'!B:M,7,0)","v":"刘少涛"},{"$f":"VLOOKUP(B888,'[1]002'!B:M,8,0)","v":"云浮市第一小学"},{"$f":"VLOOKUP(B888,'[1]002'!B:M,11,0)","v":"-"},{"$f":"VLOOKUP(B888,'[1]002'!B:M,12,0)","v":"-"}]
[887,"P306119084985","两位数乘两位数不进位的乘法笔算","小学组","新媒体新技术教学应用课例","三等奖",{"$f":"RIGHT(LEFT(VLOOKUP(B889,'[1]002'!B:M,3,0),7),3)","v":"云浮市"},{"$f":"VLOOKUP(B889,'[1]002'!B:M,7,0)","v":"李连桂"},{"$f":"VLOOKUP(B889,'[1]002'!B:M,8,0)","v":"新兴县大江镇梭郎小学"},{"$f":"VLOOKUP(B889,'[1]002'!B:M,11,0)","v":"-"},{"$f":"VLOOKUP(B889,'[1]002'!B:M,12,0)","v":"-"}]
[888,"P302119090727","课间十分钟","小学组","教育资源应用案例_项目单位","三等奖","佛山市",{"$f":"VLOOKUP(B890,'[1]002'!B:M,7,0)","v":"陈嘉欣"},{"$f":"VLOOKUP(B890,'[1]002'!B:M,8,0)","v":"禅城区东鄱小学"},{"$f":"VLOOKUP(B890,'[1]002'!B:M,11,0)","v":"-"},{"$f":"VLOOKUP(B890,'[1]002'!B:M,12,0)","v":"-"}]
[889,"P302119090728","蜜蜂+单元习作《我做了一项小实验》单元整合","小学组","教育资源应用案例_项目单位","三等奖","佛山市",{"$f":"VLOOKUP(B891,'[1]002'!B:M,7,0)","v":"蔡 捷"},{"$f":"VLOOKUP(B891,'[1]002'!B:M,8,0)","v":"佛山市同济小学"},{"$f":"VLOOKUP(B891,'[1]002'!B:M,11,0)","v":"-"},{"$f":"VLOOKUP(B891,'[1]002'!B:M,12,0)","v":"-"}]
[890,"P303219093203","信息与信息技术 学习系统","初中组","课件","一等奖","广州市",{"$f":"VLOOKUP(B892,'[1]002'!B:M,7,0)","v":"张光怡"},{"$f":"VLOOKUP(B892,'[1]002'!B:M,8,0)","v":"广州市荔湾区花地中学"},{"$f":"VLOOKUP(B892,'[1]002'!B:M,11,0)","v":"-"},{"$f":"VLOOKUP(B892,'[1]002'!B:M,12,0)","v":"-"}]
[891,"P303219092760","趣味镶嵌","初中组","课件","一等奖","深圳市",{"$f":"VLOOKUP(B893,'[1]002'!B:M,7,0)","v":"林采露"},{"$f":"VLOOKUP(B893,'[1]002'!B:M,8,0)","v":"深圳市光明区楼村小学"},{"$f":"VLOOKUP(B893,'[1]002'!B:M,11,0)","v":"-"},{"$f":"VLOOKUP(B893,'[1]002'!B:M,12,0)","v":"-"}]
[892,"P303219090392","澳大利亚","初中组","课件","一等奖","珠海市",{"$f":"VLOOKUP(B894,'[1]002'!B:M,7,0)","v":"陈晓佳"},{"$f":"VLOOKUP(B894,'[1]002'!B:M,8,0)","v":"珠海市第九中学"},{"$f":"VLOOKUP(B894,'[1]002'!B:M,11,0)","v":"-"},{"$f":"VLOOKUP(B894,'[1]002'!B:M,12,0)","v":"-"}]
[893,"P303219091071","探究中国的气候","初中组","课件","一等奖","佛山市",{"$f":"VLOOKUP(B895,'[1]002'!B:M,7,0)","v":"李贵庭"},{"$f":"VLOOKUP(B895,'[1]002'!B:M,8,0)","v":"佛山市顺德区梁开初级中学"},"张炽","佛山市顺德区教育发展中心"]
[894,"P303219091074","爸爸去哪儿新疆篇","初中组","课件","一等奖","佛山市",{"$f":"VLOOKUP(B896,'[1]002'!B:M,7,0)","v":"麦艳娴"},{"$f":"VLOOKUP(B896,'[1]002'!B:M,8,0)","v":"佛山市顺德区梁开初级中学"},{"$f":"VLOOKUP(B896,'[1]002'!B:M,11,0)","v":"-"},{"$f":"VLOOKUP(B896,'[1]002'!B:M,12,0)","v":"-"}]
[895,"P303219091070","PBL视角下的光的折射专题学习","初中组","课件","一等奖","佛山市",{"$f":"VLOOKUP(B897,'[1]002'!B:M,7,0)","v":"陈桂华"},{"$f":"VLOOKUP(B897,'[1]002'!B:M,8,0)","v":"佛山市顺德区梁开初级中学"},{"$f":"VLOOKUP(B897,'[1]002'!B:M,11,0)","v":"张炽"},{"$f":"VLOOKUP(B897,'[1]002'!B:M,12,0)","v":"佛山市顺德区教育发展中心"}]
[896,"P303219091069","木兰诗","初中组","课件","一等奖","佛山市",{"$f":"VLOOKUP(B898,'[1]002'!B:M,7,0)","v":"刘上玲"},{"$f":"VLOOKUP(B898,'[1]002'!B:M,8,0)","v":"佛山市顺德区西山小学高新区学校"},{"$f":"VLOOKUP(B898,'[1]002'!B:M,11,0)","v":"郑宏彬"},{"$f":"VLOOKUP(B898,'[1]002'!B:M,12,0)","v":"佛山市顺德区北滘中心小学"}]
[897,"P303219088306","岳阳楼记","初中组","课件","一等奖","韶关市",{"$f":"VLOOKUP(B899,'[1]002'!B:M,7,0)","v":"周志英"},{"$f":"VLOOKUP(B899,'[1]002'!B:M,8,0)","v":"始兴县马市中学"},"刘国威","始兴县逸夫小学"]
[898,"P303219090542","勾股定理","初中组","课件","一等奖","韶关市",{"$f":"VLOOKUP(B900,'[1]002'!B:M,7,0)","v":"黄琨"},{"$f":"VLOOKUP(B900,'[1]002'!B:M,8,0)","v":"韶关市曲江初级中学"},{"$f":"VLOOKUP(B900,'[1]002'!B:M,11,0)","v":"-"},{"$f":"VLOOKUP(B900,'[1]002'!B:M,12,0)","v":"-"}]
[899,"P303219089069","Do you like bananas？","初中组","课件","一等奖","韶关市",{"$f":"VLOOKUP(B901,'[1]002'!B:M,7,0)","v":"黄德洁"},{"$f":"VLOOKUP(B901,'[1]002'!B:M,8,0)","v":"韶关市第九中学"},{"$f":"VLOOKUP(B901,'[1]002'!B:M,11,0)","v":"潘高峰"},{"$f":"VLOOKUP(B901,'[1]002'!B:M,12,0)","v":"韶关市第九中学"}]
[900,"P303219093353","Unit5Whydoyoulikepandas","初中组","课件","一等奖","河源市",{"$f":"VLOOKUP(B902,'[1]002'!B:M,7,0)","v":"罗素珊"},{"$f":"VLOOKUP(B902,'[1]002'!B:M,8,0)","v":"河源市源城区宝源学校"},{"$f":"VLOOKUP(B902,'[1]002'!B:M,11,0)","v":"-"},{"$f":"VLOOKUP(B902,'[1]002'!B:M,12,0)","v":"-"}]
[901,"P303219092486","望岳","初中组","课件","一等奖","东莞市",{"$f":"VLOOKUP(B903,'[1]002'!B:M,7,0)","v":"萧伟豪"},{"$f":"VLOOKUP(B903,'[1]002'!B:M,8,0)","v":"东莞市石碣东风实验学校"},{"$f":"VLOOKUP(B903,'[1]002'!B:M,11,0)","v":"毛安世"},{"$f":"VLOOKUP(B903,'[1]002'!B:M,12,0)","v":"东莞市石碣东风实验学校"}]
[902,"P303219089205","Family and friends 读写综合","初中组","课件","一等奖","中山市",{"$f":"VLOOKUP(B904,'[1]002'!B:M,7,0)","v":"唐莹"},{"$f":"VLOOKUP(B904,'[1]002'!B:M,8,0)","v":"中山市五桂山学校"},{"$f":"VLOOKUP(B904,'[1]002'!B:M,11,0)","v":"-"},{"$f":"VLOOKUP(B904,'[1]002'!B:M,12,0)","v":"-"}]
[903,"P303219091759","Photoshop图层蒙版","初中组","课件","一等奖","江门市",{"$f":"VLOOKUP(B905,'[1]002'!B:M,7,0)","v":"韩双凤"},{"$f":"VLOOKUP(B905,'[1]002'!B:M,8,0)","v":"江门市蓬江区荷塘中学"},{"$f":"VLOOKUP(B905,'[1]002'!B:M,11,0)","v":"朱应伟"},{"$f":"VLOOKUP(B905,'[1]002'!B:M,12,0)","v":"江门市蓬江区荷塘中学"}]
[904,"P303219092952","缓解压力写作课课件","初中组","课件","一等奖","湛江市",{"$f":"VLOOKUP(B906,'[1]002'!B:M,7,0)","v":"彭丽群"},{"$f":"VLOOKUP(B906,'[1]002'!B:M,8,0)","v":"岭南师范学院附属中学"},{"$f":"VLOOKUP(B906,'[1]002'!B:M,11,0)","v":"-"},{"$f":"VLOOKUP(B906,'[1]002'!B:M,12,0)","v":"-"}]
[905,"P303219092948","陋室铭","初中组","课件","一等奖","湛江市",{"$f":"VLOOKUP(B907,'[1]002'!B:M,7,0)","v":"黄婷"},{"$f":"VLOOKUP(B907,'[1]002'!B:M,8,0)","v":"岭南师范学院附属中学"},{"$f":"VLOOKUP(B907,'[1]002'!B:M,11,0)","v":"-"},{"$f":"VLOOKUP(B907,'[1]002'!B:M,12,0)","v":"-"}]
[906,"P305219093230","The Canton Tower is calling","初中组","微课","一等奖","广州市",{"$f":"VLOOKUP(B908,'[1]002'!B:M,7,0)","v":"黄琦"},{"$f":"VLOOKUP(B908,'[1]002'!B:M,8,0)","v":"广州市培英中学"},{"$f":"VLOOKUP(B908,'[1]002'!B:M,11,0)","v":"-"},{"$f":"VLOOKUP(B908,'[1]002'!B:M,12,0)","v":"-"}]
[907,"P305219093235","潮虫、鼠妇、卷甲虫一一傻傻不分的老鼠好朋友们","初中组","微课","一等奖","广州市",{"$f":"VLOOKUP(B909,'[1]002'!B:M,7,0)","v":"郑思东"},{"$f":"VLOOKUP(B909,'[1]002'!B:M,8,0)","v":"广州市真光中学"},{"$f":"VLOOKUP(B909,'[1]002'!B:M,11,0)","v":"崔楚颖"},{"$f":"VLOOKUP(B909,'[1]002'!B:M,12,0)","v":"广州市荔湾区真光中英文小学"}]
[908,"P305219093233","肖像描写方法指导","初中组","微课","一等奖","广州市",{"$f":"VLOOKUP(B910,'[1]002'!B:M,7,0)","v":"阳玉莹"},{"$f":"VLOOKUP(B910,'[1]002'!B:M,8,0)","v":"广州市第十六中学"},{"$f":"VLOOKUP(B910,'[1]002'!B:M,11,0)","v":"-"},{"$f":"VLOOKUP(B910,'[1]002'!B:M,12,0)","v":"-"}]
[909,"P305219092684","在欢乐谷学祈使句","初中组","微课","一等奖","深圳市",{"$f":"VLOOKUP(B911,'[1]002'!B:M,7,0)","v":"杨婷婷"},{"$f":"VLOOKUP(B911,'[1]002'!B:M,8,0)","v":"深圳市龙华区大浪实验学校"},{"$f":"VLOOKUP(B911,'[1]002'!B:M,11,0)","v":"-"},{"$f":"VLOOKUP(B911,'[1]002'!B:M,12,0)","v":"-"}]
[910,"P305219092683","PS图层蒙版","初中组","微课","一等奖","深圳市",{"$f":"VLOOKUP(B912,'[1]002'!B:M,7,0)","v":"黄晓媚"},{"$f":"VLOOKUP(B912,'[1]002'!B:M,8,0)","v":"深圳市龙华区同胜学校"},{"$f":"VLOOKUP(B912,'[1]002'!B:M,11,0)","v":"-"},{"$f":"VLOOKUP(B912,'[1]002'!B:M,12,0)","v":"-"}]
[911,"P305219092686","过去分词作宾语补足语","初中组","微课","一等奖","深圳市",{"$f":"VLOOKUP(B913,'[1]002'!B:M,7,0)","v":"刘静"},{"$f":"VLOOKUP(B913,'[1]002'!B:M,8,0)","v":"龙岗区布吉贤义外国语学校"},{"$f":"VLOOKUP(B913,'[1]002'!B:M,11,0)","v":"-"},{"$f":"VLOOKUP(B913,'[1]002'!B:M,12,0)","v":"-"}]
[912,"P305219092690","神奇的硬币","初中组","微课","一等奖","深圳市",{"$f":"VLOOKUP(B914,'[1]002'!B:M,7,0)","v":"陈耿炎"},{"$f":"VLOOKUP(B914,'[1]002'!B:M,8,0)","v":"横岗街道中心学校"},{"$f":"VLOOKUP(B914,'[1]002'!B:M,11,0)","v":"张惠瑶"},{"$f":"VLOOKUP(B914,'[1]002'!B:M,12,0)","v":"南湾街道下李朗小学"}]
[913,"P305219091885","how far，how soon， how long，how often词义辨析","初中组","微课","一等奖","汕头市",{"$f":"VLOOKUP(B915,'[1]002'!B:M,7,0)","v":"张　洁"},{"$f":"VLOOKUP(B915,'[1]002'!B:M,8,0)","v":"汕头市金园实验中学"},{"$f":"VLOOKUP(B915,'[1]002'!B:M,11,0)","v":"-"},{"$f":"VLOOKUP(B915,'[1]002'!B:M,12,0)","v":"-"}]
[914,"P305219090465","地球和地球仪","初中组","微课","一等奖","韶关市",{"$f":"VLOOKUP(B916,'[1]002'!B:M,7,0)","v":"黄凤容"},{"$f":"VLOOKUP(B916,'[1]002'!B:M,8,0)","v":"韶关市曲江区樟市中学"},{"$f":"VLOOKUP(B916,'[1]002'!B:M,11,0)","v":"-"},{"$f":"VLOOKUP(B916,'[1]002'!B:M,12,0)","v":"-"}]
[915,"P305219089514","被动语态在一般过去时中的运用","初中组","微课","一等奖","韶关市",{"$f":"VLOOKUP(B917,'[1]002'!B:M,7,0)","v":"尹玲"},{"$f":"VLOOKUP(B917,'[1]002'!B:M,8,0)","v":"仁化县第一中学"},{"$f":"VLOOKUP(B917,'[1]002'!B:M,11,0)","v":"-"},{"$f":"VLOOKUP(B917,'[1]002'!B:M,12,0)","v":"-"}]
[916,"P305219088583","待定系数法求一次函数解析式","初中组","微课","一等奖","韶关市",{"$f":"VLOOKUP(B918,'[1]002'!B:M,7,0)","v":"张桃红"},{"$f":"VLOOKUP(B918,'[1]002'!B:M,8,0)","v":"韶关市第八中学"},{"$f":"VLOOKUP(B918,'[1]002'!B:M,11,0)","v":"-"},{"$f":"VLOOKUP(B918,'[1]002'!B:M,12,0)","v":"-"}]
[917,"P305219092122","认识压强","初中组","微课","一等奖","惠州市",{"$f":"VLOOKUP(B919,'[1]002'!B:M,7,0)","v":"谢国强"},{"$f":"VLOOKUP(B919,'[1]002'!B:M,8,0)","v":"博罗县福田中学"},{"$f":"VLOOKUP(B919,'[1]002'!B:M,11,0)","v":"-"},{"$f":"VLOOKUP(B919,'[1]002'!B:M,12,0)","v":"-"}]
[918,"P305219092581","多图层的动画","初中组","微课","一等奖","东莞市",{"$f":"VLOOKUP(B920,'[1]002'!B:M,7,0)","v":"陆泽娜"},{"$f":"VLOOKUP(B920,'[1]002'!B:M,8,0)","v":"东莞市厚街湖景中学"},{"$f":"VLOOKUP(B920,'[1]002'!B:M,11,0)","v":"谢昭丰"},{"$f":"VLOOKUP(B920,'[1]002'!B:M,12,0)","v":"东莞市厚街湖景中学"}]
[919,"P305219092576","质量守恒定律","初中组","微课","一等奖","东莞市",{"$f":"VLOOKUP(B921,'[1]002'!B:M,7,0)","v":"钟文婷"},{"$f":"VLOOKUP(B921,'[1]002'!B:M,8,0)","v":"东莞市松山湖实验中学"},{"$f":"VLOOKUP(B921,'[1]002'!B:M,11,0)","v":"-"},{"$f":"VLOOKUP(B921,'[1]002'!B:M,12,0)","v":"-"}]
[920,"P305219092572","安全用电","初中组","微课","一等奖","东莞市",{"$f":"VLOOKUP(B922,'[1]002'!B:M,7,0)","v":"廖浩铭"},{"$f":"VLOOKUP(B922,'[1]002'!B:M,8,0)","v":"东莞市可园中学"},{"$f":"VLOOKUP(B922,'[1]002'!B:M,11,0)","v":"-"},{"$f":"VLOOKUP(B922,'[1]002'!B:M,12,0)","v":"-"}]
[921,"P305219092578","认识内能","初中组","微课","一等奖","东莞市",{"$f":"VLOOKUP(B923,'[1]002'!B:M,7,0)","v":"廖浩铭"},{"$f":"VLOOKUP(B923,'[1]002'!B:M,8,0)","v":"东莞市可园中学"},{"$f":"VLOOKUP(B923,'[1]002'!B:M,11,0)","v":"-"},{"$f":"VLOOKUP(B923,'[1]002'!B:M,12,0)","v":"-"}]
[922,"P305219089667","VB程序设计的过程_交通信号灯","初中组","微课","一等奖","中山市",{"$f":"VLOOKUP(B924,'[1]002'!B:M,7,0)","v":"谭鹏"},{"$f":"VLOOKUP(B924,'[1]002'!B:M,8,0)","v":"中山市东区远洋学校"},{"$f":"VLOOKUP(B924,'[1]002'!B:M,11,0)","v":"赵奇伟"},{"$f":"VLOOKUP(B924,'[1]002'!B:M,12,0)","v":"中山市东区远洋学校"}]
[923,"P305219091409","物理君你好","初中组","微课","一等奖","茂名市",{"$f":"VLOOKUP(B925,'[1]002'!B:M,7,0)","v":"李华新"},{"$f":"VLOOKUP(B925,'[1]002'!B:M,8,0)","v":"茂名市启源中学"},{"$f":"VLOOKUP(B925,'[1]002'!B:M,11,0)","v":"-"},{"$f":"VLOOKUP(B925,'[1]002'!B:M,12,0)","v":"-"}]
[924,"P305219091407","视觉中的红屋顶","初中组","微课","一等奖","茂名市",{"$f":"VLOOKUP(B926,'[1]002'!B:M,7,0)","v":"王舒华"},{"$f":"VLOOKUP(B926,'[1]002'!B:M,8,0)","v":"茂名市龙岭学校"},{"$f":"VLOOKUP(B926,'[1]002'!B:M,11,0)","v":"-"},{"$f":"VLOOKUP(B926,'[1]002'!B:M,12,0)","v":"-"}]
[925,"P305219091640","三角形的中位线","初中组","微课","一等奖","清远市",{"$f":"VLOOKUP(B927,'[1]002'!B:M,7,0)","v":"朱光睿"},{"$f":"VLOOKUP(B927,'[1]002'!B:M,8,0)","v":"英德市第一小学"},{"$f":"VLOOKUP(B927,'[1]002'!B:M,11,0)","v":"-"},{"$f":"VLOOKUP(B927,'[1]002'!B:M,12,0)","v":"-"}]
[926,"P305219085742","加热高锰酸钾制取氧气","初中组","微课","一等奖","潮州市",{"$f":"VLOOKUP(B928,'[1]002'!B:M,7,0)","v":"苏培成"},"潮州市潮安区凤塘镇智勇中学",{"$f":"VLOOKUP(B928,'[1]002'!B:M,11,0)","v":"-"},{"$f":"VLOOKUP(B928,'[1]002'!B:M,12,0)","v":"-"}]
[927,"P307219092828","信息平台下初中英语课外阅读混合式教学模式实践案例","初中组","信息技术创新教学案例","一等奖","东莞市",{"$f":"VLOOKUP(B929,'[1]002'!B:M,7,0)","v":"谢迎春"},{"$f":"VLOOKUP(B929,'[1]002'!B:M,8,0)","v":"东莞市松山湖实验中学"},{"$f":"VLOOKUP(B929,'[1]002'!B:M,11,0)","v":"李晶"},{"$f":"VLOOKUP(B929,'[1]002'!B:M,12,0)","v":"东莞市松山湖实验中学"}]
[928,"P301219087643","未来已来","初中组","教师网络空间应用案例","一等奖","梅州市",{"$f":"VLOOKUP(B930,'[1]002'!B:M,7,0)","v":"葛小英"},{"$f":"VLOOKUP(B930,'[1]002'!B:M,8,0)","v":"广东梅县外国语学校"},{"$f":"VLOOKUP(B930,'[1]002'!B:M,11,0)","v":"-"},{"$f":"VLOOKUP(B930,'[1]002'!B:M,12,0)","v":"-"}]
[929,"P304219092846","助眠香薰蜡的设计与制作","初中组","跨学科项目式学习教学案例","一等奖","东莞市",{"$f":"VLOOKUP(B931,'[1]002'!B:M,7,0)","v":"叶敏仪"},{"$f":"VLOOKUP(B931,'[1]002'!B:M,8,0)","v":"东莞市松山湖实验中学"},{"$f":"VLOOKUP(B931,'[1]002'!B:M,11,0)","v":"-"},{"$f":"VLOOKUP(B931,'[1]002'!B:M,12,0)","v":"-"}]
[930,"P306219093217","沙画艺术美丽的广州","初中组","新媒体新技术教学应用课例","一等奖",{"$f":"RIGHT(LEFT(VLOOKUP(B932,'[1]002'!B:M,3,0),7),3)","v":"广州市"},{"$f":"VLOOKUP(B932,'[1]002'!B:M,7,0)","v":"陈良玉"},{"$f":"VLOOKUP(B932,'[1]002'!B:M,8,0)","v":"广州市花都区圆玄中学"},{"$f":"VLOOKUP(B932,'[1]002'!B:M,11,0)","v":"-"},{"$f":"VLOOKUP(B932,'[1]002'!B:M,12,0)","v":"-"}]
[931,"P306219093218","正方形","初中组","新媒体新技术教学应用课例","一等奖",{"$f":"RIGHT(LEFT(VLOOKUP(B933,'[1]002'!B:M,3,0),7),3)","v":"广州市"},{"$f":"VLOOKUP(B933,'[1]002'!B:M,7,0)","v":"苏国东"},{"$f":"VLOOKUP(B933,'[1]002'!B:M,8,0)","v":"广州市真光中学"},{"$f":"VLOOKUP(B933,'[1]002'!B:M,11,0)","v":"-"},{"$f":"VLOOKUP(B933,'[1]002'!B:M,12,0)","v":"-"}]
[932,"P306219092665","图形联想创意","初中组","新媒体新技术教学应用课例","一等奖",{"$f":"RIGHT(LEFT(VLOOKUP(B934,'[1]002'!B:M,3,0),7),3)","v":"深圳市"},{"$f":"VLOOKUP(B934,'[1]002'!B:M,7,0)","v":"刘晟"},{"$f":"VLOOKUP(B934,'[1]002'!B:M,8,0)","v":"深圳市福田区上步中学"},{"$f":"VLOOKUP(B934,'[1]002'!B:M,11,0)","v":"-"},{"$f":"VLOOKUP(B934,'[1]002'!B:M,12,0)","v":"-"}]
[933,"P306219092664","利用三角形全等测距离","初中组","新媒体新技术教学应用课例","一等奖",{"$f":"RIGHT(LEFT(VLOOKUP(B935,'[1]002'!B:M,3,0),7),3)","v":"深圳市"},{"$f":"VLOOKUP(B935,'[1]002'!B:M,7,0)","v":"王海霞"},{"$f":"VLOOKUP(B935,'[1]002'!B:M,8,0)","v":"深圳市田东中学"},{"$f":"VLOOKUP(B935,'[1]002'!B:M,11,0)","v":"-"},{"$f":"VLOOKUP(B935,'[1]002'!B:M,12,0)","v":"-"}]
[934,"P306219088782","粤创乐美","初中组","新媒体新技术教学应用课例","一等奖",{"$f":"RIGHT(LEFT(VLOOKUP(B936,'[1]002'!B:M,3,0),7),3)","v":"珠海市"},{"$f":"VLOOKUP(B936,'[1]002'!B:M,7,0)","v":"李誉"},{"$f":"VLOOKUP(B936,'[1]002'!B:M,8,0)","v":"珠海市第九中学"},{"$f":"VLOOKUP(B936,'[1]002'!B:M,11,0)","v":"汤黎黎"},{"$f":"VLOOKUP(B936,'[1]002'!B:M,12,0)","v":"珠海市第九中学"}]
[935,"P307219085941","VR云互动同课同构课例心脏","初中组","新媒体新技术教学应用课例","一等奖",{"$f":"RIGHT(LEFT(VLOOKUP(B937,'[1]002'!B:M,3,0),7),3)","v":"珠海市"},{"$f":"VLOOKUP(B937,'[1]002'!B:M,7,0)","v":"林艳"},{"$f":"VLOOKUP(B937,'[1]002'!B:M,8,0)","v":"珠海市文园中学"},{"$f":"VLOOKUP(B937,'[1]002'!B:M,11,0)","v":"易秦"},{"$f":"VLOOKUP(B937,'[1]002'!B:M,12,0)","v":"珠海市第十一中学"}]
[936,"P302219087988","声音的特性","初中组","新媒体新技术教学应用课例","一等奖",{"$f":"RIGHT(LEFT(VLOOKUP(B938,'[1]002'!B:M,3,0),7),3)","v":"珠海市"},{"$f":"VLOOKUP(B938,'[1]002'!B:M,7,0)","v":"王薇"},{"$f":"VLOOKUP(B938,'[1]002'!B:M,8,0)","v":"珠海市前山中学"},{"$f":"VLOOKUP(B938,'[1]002'!B:M,11,0)","v":"-"},{"$f":"VLOOKUP(B938,'[1]002'!B:M,12,0)","v":"-"}]
[937,"P306219090362","就英法联军远征中国致巴特勒上尉的信","初中组","新媒体新技术教学应用课例","一等奖",{"$f":"RIGHT(LEFT(VLOOKUP(B939,'[1]002'!B:M,3,0),7),3)","v":"珠海市"},{"$f":"VLOOKUP(B939,'[1]002'!B:M,7,0)","v":"刘娟娟"},{"$f":"VLOOKUP(B939,'[1]002'!B:M,8,0)","v":"珠海市第五中学"},{"$f":"VLOOKUP(B939,'[1]002'!B:M,11,0)","v":"-"},{"$f":"VLOOKUP(B939,'[1]002'!B:M,12,0)","v":"-"}]
[938,"P306219089725","人教版九年级Unit13","初中组","新媒体新技术教学应用课例","一等奖",{"$f":"RIGHT(LEFT(VLOOKUP(B940,'[1]002'!B:M,3,0),7),3)","v":"珠海市"},{"$f":"VLOOKUP(B940,'[1]002'!B:M,7,0)","v":"张凡"},{"$f":"VLOOKUP(B940,'[1]002'!B:M,8,0)","v":"珠海市第五中学"},{"$f":"VLOOKUP(B940,'[1]002'!B:M,11,0)","v":"-"},{"$f":"VLOOKUP(B940,'[1]002'!B:M,12,0)","v":"-"}]
[939,"P306219091040","己亥杂诗","初中组","新媒体新技术教学应用课例","一等奖",{"$f":"RIGHT(LEFT(VLOOKUP(B941,'[1]002'!B:M,3,0),7),3)","v":"佛山市"},{"$f":"VLOOKUP(B941,'[1]002'!B:M,7,0)","v":"欧敏华"},{"$f":"VLOOKUP(B941,'[1]002'!B:M,8,0)","v":"佛山市三水区三水中学附属初中"},{"$f":"VLOOKUP(B941,'[1]002'!B:M,11,0)","v":"王作为"},{"$f":"VLOOKUP(B941,'[1]002'!B:M,12,0)","v":"佛山市三水区三水中学附属初中"}]
[940,"P306219089700","英语升中备考复习课之话题复习九Plans and Arrangements","初中组","新媒体新技术教学应用课例","一等奖",{"$f":"RIGHT(LEFT(VLOOKUP(B942,'[1]002'!B:M,3,0),7),3)","v":"韶关市"},{"$f":"VLOOKUP(B942,'[1]002'!B:M,7,0)","v":"祝卓昕"},{"$f":"VLOOKUP(B942,'[1]002'!B:M,8,0)","v":"韶关市韶钢实验学校"},{"$f":"VLOOKUP(B942,'[1]002'!B:M,11,0)","v":"-"},{"$f":"VLOOKUP(B942,'[1]002'!B:M,12,0)","v":"-"}]
[941,"P306219092430","课外阅读FindJoyinFinland","初中组","新媒体新技术教学应用课例","一等奖",{"$f":"RIGHT(LEFT(VLOOKUP(B943,'[1]002'!B:M,3,0),7),3)","v":"东莞市"},{"$f":"VLOOKUP(B943,'[1]002'!B:M,7,0)","v":"林卓容"},{"$f":"VLOOKUP(B943,'[1]002'!B:M,8,0)","v":"东莞市松山湖实验中学"},{"$f":"VLOOKUP(B943,'[1]002'!B:M,11,0)","v":"-"},{"$f":"VLOOKUP(B943,'[1]002'!B:M,12,0)","v":"-"}]
[942,"P306219092437","中国区域地理之河流专题复习","初中组","新媒体新技术教学应用课例","一等奖",{"$f":"RIGHT(LEFT(VLOOKUP(B944,'[1]002'!B:M,3,0),7),3)","v":"东莞市"},{"$f":"VLOOKUP(B944,'[1]002'!B:M,7,0)","v":"郭振维"},{"$f":"VLOOKUP(B944,'[1]002'!B:M,8,0)","v":"东莞市松山湖实验中学"},{"$f":"VLOOKUP(B944,'[1]002'!B:M,11,0)","v":"-"},{"$f":"VLOOKUP(B944,'[1]002'!B:M,12,0)","v":"-"}]
[943,"P306219089024","Unit 7 Do you think you will have your own robot","初中组","新媒体新技术教学应用课例","一等奖",{"$f":"RIGHT(LEFT(VLOOKUP(B945,'[1]002'!B:M,3,0),7),3)","v":"中山市"},{"$f":"VLOOKUP(B945,'[1]002'!B:M,7,0)","v":"刘敏"},{"$f":"VLOOKUP(B945,'[1]002'!B:M,8,0)","v":"中山市沙溪初级中学"},{"$f":"VLOOKUP(B945,'[1]002'!B:M,11,0)","v":"-"},{"$f":"VLOOKUP(B945,'[1]002'!B:M,12,0)","v":"-"}]
[944,"P306219088903","侠客秋景行——运用修辞让作文更生动（互评互改课）","初中组","新媒体新技术教学应用课例","一等奖",{"$f":"RIGHT(LEFT(VLOOKUP(B946,'[1]002'!B:M,3,0),7),3)","v":"中山市"},{"$f":"VLOOKUP(B946,'[1]002'!B:M,7,0)","v":"王然"},{"$f":"VLOOKUP(B946,'[1]002'!B:M,8,0)","v":"中山市沙溪初级中学"},{"$f":"VLOOKUP(B946,'[1]002'!B:M,11,0)","v":"-"},{"$f":"VLOOKUP(B946,'[1]002'!B:M,12,0)","v":"-"}]
[945,"P303219092757","我的坦克我做主","初中组","课件","二等奖","深圳市",{"$f":"VLOOKUP(B947,'[1]002'!B:M,7,0)","v":"龙西仔"},{"$f":"VLOOKUP(B947,'[1]002'!B:M,8,0)","v":"深圳市田东中学"},{"$f":"VLOOKUP(B947,'[1]002'!B:M,11,0)","v":"-"},{"$f":"VLOOKUP(B947,'[1]002'!B:M,12,0)","v":"-"}]
[946,"P303219091561","地形和地势第二课时中国的地势特征","初中组","课件","二等奖","珠海市",{"$f":"VLOOKUP(B948,'[1]002'!B:M,7,0)","v":"夏艳华"},{"$f":"VLOOKUP(B948,'[1]002'!B:M,8,0)","v":"珠海市第九中学"},{"$f":"VLOOKUP(B948,'[1]002'!B:M,11,0)","v":"-"},{"$f":"VLOOKUP(B948,'[1]002'!B:M,12,0)","v":"-"}]
[947,"P303219090355","畅游美国","初中组","课件","二等奖","珠海市",{"$f":"VLOOKUP(B949,'[1]002'!B:M,7,0)","v":"马诗妍"},{"$f":"VLOOKUP(B949,'[1]002'!B:M,8,0)","v":"珠海市第九中学"},{"$f":"VLOOKUP(B949,'[1]002'!B:M,11,0)","v":"-"},{"$f":"VLOOKUP(B949,'[1]002'!B:M,12,0)","v":"-"}]
[948,"P303219089943","unit10 I‘d like some noodles- Section A","初中组","课件","二等奖","珠海市",{"$f":"VLOOKUP(B950,'[1]002'!B:M,7,0)","v":"余信毅"},{"$f":"VLOOKUP(B950,'[1]002'!B:M,8,0)","v":"珠海市第九中学"},{"$f":"VLOOKUP(B950,'[1]002'!B:M,11,0)","v":"-"},{"$f":"VLOOKUP(B950,'[1]002'!B:M,12,0)","v":"-"}]
[949,"P303219089201","美国希沃白板课件","初中组","课件","二等奖","珠海市",{"$f":"VLOOKUP(B951,'[1]002'!B:M,7,0)","v":"崔贵妮"},{"$f":"VLOOKUP(B951,'[1]002'!B:M,8,0)","v":"珠海市第九中学"},{"$f":"VLOOKUP(B951,'[1]002'!B:M,11,0)","v":"-"},{"$f":"VLOOKUP(B951,'[1]002'!B:M,12,0)","v":"-"}]
[950,"P303219091908","北魏政治和北方民族大交融","初中组","课件","二等奖","汕头市",{"$f":"VLOOKUP(B952,'[1]002'!B:M,7,0)","v":"林文伟"},{"$f":"VLOOKUP(B952,'[1]002'!B:M,8,0)","v":"汕头市达濠第三中学"},{"$f":"VLOOKUP(B952,'[1]002'!B:M,11,0)","v":"王丽珊"},{"$f":"VLOOKUP(B952,'[1]002'!B:M,12,0)","v":"汕头市达濠第三中学"}]
[951,"P303219092658","潮汕文化主题PPT制作指引","初中组","课件","二等奖","汕头市",{"$f":"VLOOKUP(B953,'[1]002'!B:M,7,0)","v":"陈海琪"},{"$f":"VLOOKUP(B953,'[1]002'!B:M,8,0)","v":"汕头市澄海中学"},{"$f":"VLOOKUP(B953,'[1]002'!B:M,11,0)","v":"-"},{"$f":"VLOOKUP(B953,'[1]002'!B:M,12,0)","v":"-"}]
[952,"P303219091901","八年级数学下册18.2.2菱形课件","初中组","课件","二等奖","汕头市",{"$f":"VLOOKUP(B954,'[1]002'!B:M,7,0)","v":"林穗娜"},{"$f":"VLOOKUP(B954,'[1]002'!B:M,8,0)","v":"汕头市澄海苏湾中学"},{"$f":"VLOOKUP(B954,'[1]002'!B:M,11,0)","v":"-"},{"$f":"VLOOKUP(B954,'[1]002'!B:M,12,0)","v":"-"}]
[953,"P303219091900","Unit3SectionBPeriod1","初中组","课件","二等奖","汕头市",{"$f":"VLOOKUP(B955,'[1]002'!B:M,7,0)","v":"李云"},{"$f":"VLOOKUP(B955,'[1]002'!B:M,8,0)","v":"汕头市澄海茂南中学"},{"$f":"VLOOKUP(B955,'[1]002'!B:M,11,0)","v":"-"},{"$f":"VLOOKUP(B955,'[1]002'!B:M,12,0)","v":"-"}]
[954,"P303219091907","28.1.3特殊角的三角函数值","初中组","课件","二等奖","汕头市",{"$f":"VLOOKUP(B956,'[1]002'!B:M,7,0)","v":"陈业进"},{"$f":"VLOOKUP(B956,'[1]002'!B:M,8,0)","v":"汕头市潮南区司马浦溪美朱初级中学"},{"$f":"VLOOKUP(B956,'[1]002'!B:M,11,0)","v":"-"},{"$f":"VLOOKUP(B956,'[1]002'!B:M,12,0)","v":"-"}]
[955,"P303219091905","Dragon Boat Festival in China and in the US","初中组","课件","二等奖","汕头市",{"$f":"VLOOKUP(B957,'[1]002'!B:M,7,0)","v":"高潇萱"},{"$f":"VLOOKUP(B957,'[1]002'!B:M,8,0)","v":"汕头市澄海实验高级中学"},{"$f":"VLOOKUP(B957,'[1]002'!B:M,11,0)","v":"-"},{"$f":"VLOOKUP(B957,'[1]002'!B:M,12,0)","v":"-"}]
[956,"P303219091049","我的母亲","初中组","课件","二等奖","佛山市",{"$f":"VLOOKUP(B958,'[1]002'!B:M,7,0)","v":"王艳珍"},{"$f":"VLOOKUP(B958,'[1]002'!B:M,8,0)","v":"佛山市外国语学校"},{"$f":"VLOOKUP(B958,'[1]002'!B:M,11,0)","v":"-"},{"$f":"VLOOKUP(B958,'[1]002'!B:M,12,0)","v":"-"}]
[957,"P303219091054","第14课海峡两岸的交往","初中组","课件","二等奖","佛山市",{"$f":"VLOOKUP(B959,'[1]002'!B:M,7,0)","v":"黄桂香"},{"$f":"VLOOKUP(B959,'[1]002'!B:M,8,0)","v":"佛山市南海石门实验中学"},{"$f":"VLOOKUP(B959,'[1]002'!B:M,11,0)","v":"-"},{"$f":"VLOOKUP(B959,'[1]002'!B:M,12,0)","v":"-"}]
[958,"P303219091046","西班牙语数字0到20的挑战学习","初中组","课件","二等奖","佛山市",{"$f":"VLOOKUP(B960,'[1]002'!B:M,7,0)","v":"黄婧"},{"$f":"VLOOKUP(B960,'[1]002'!B:M,8,0)","v":"佛山市外国语学校"},{"$f":"VLOOKUP(B960,'[1]002'!B:M,11,0)","v":"-"},{"$f":"VLOOKUP(B960,'[1]002'!B:M,12,0)","v":"-"}]
[959,"P303219091057","宋元时期的都市和文化","初中组","课件","二等奖","佛山市",{"$f":"VLOOKUP(B961,'[1]002'!B:M,7,0)","v":"陈兰仙"},{"$f":"VLOOKUP(B961,'[1]002'!B:M,8,0)","v":"佛山市南海区里水镇和顺第一初级中学"},{"$f":"VLOOKUP(B961,'[1]002'!B:M,11,0)","v":"-"},{"$f":"VLOOKUP(B961,'[1]002'!B:M,12,0)","v":"-"}]
[960,"P303219091058","Module9Unit2","初中组","课件","二等奖","佛山市",{"$f":"VLOOKUP(B962,'[1]002'!B:M,7,0)","v":"陈燕峰"},{"$f":"VLOOKUP(B962,'[1]002'!B:M,8,0)","v":"佛山市南海区桂城街道文翰中学"},{"$f":"VLOOKUP(B962,'[1]002'!B:M,11,0)","v":"-"},{"$f":"VLOOKUP(B962,'[1]002'!B:M,12,0)","v":"-"}]
[961,"P303219091065","第20课清朝君主专制的强化","初中组","课件","二等奖","佛山市",{"$f":"VLOOKUP(B963,'[1]002'!B:M,7,0)","v":"廖丹萍"},{"$f":"VLOOKUP(B963,'[1]002'!B:M,8,0)","v":"佛山市禅城区张槎中学"},{"$f":"VLOOKUP(B963,'[1]002'!B:M,11,0)","v":"-"},{"$f":"VLOOKUP(B963,'[1]002'!B:M,12,0)","v":"-"}]
[962,"P303219088343","空城计","初中组","课件","二等奖","韶关市",{"$f":"VLOOKUP(B964,'[1]002'!B:M,7,0)","v":"钟礼斌"},{"$f":"VLOOKUP(B964,'[1]002'!B:M,8,0)","v":"始兴县马市中学"},{"$f":"VLOOKUP(B964,'[1]002'!B:M,11,0)","v":"-"},{"$f":"VLOOKUP(B964,'[1]002'!B:M,12,0)","v":"-"}]
[963,"P303219090453","国画","初中组","课件","二等奖","韶关市",{"$f":"VLOOKUP(B965,'[1]002'!B:M,7,0)","v":"杨宝林"},{"$f":"VLOOKUP(B965,'[1]002'!B:M,8,0)","v":"仁化县第一中学"},{"$f":"VLOOKUP(B965,'[1]002'!B:M,11,0)","v":"-"},{"$f":"VLOOKUP(B965,'[1]002'!B:M,12,0)","v":"-"}]
[964,"P303219089109","Where did you go on vacation","初中组","课件","二等奖","韶关市",{"$f":"VLOOKUP(B966,'[1]002'!B:M,7,0)","v":"熊丽萍"},{"$f":"VLOOKUP(B966,'[1]002'!B:M,8,0)","v":"仁化县周田中学"},{"$f":"VLOOKUP(B966,'[1]002'!B:M,11,0)","v":"-"},{"$f":"VLOOKUP(B966,'[1]002'!B:M,12,0)","v":"-"}]
[965,"P303219087784","It is raining","初中组","课件","二等奖","韶关市",{"$f":"VLOOKUP(B967,'[1]002'!B:M,7,0)","v":"余立宇"},{"$f":"VLOOKUP(B967,'[1]002'!B:M,8,0)","v":"韶关市第十五中学"},{"$f":"VLOOKUP(B967,'[1]002'!B:M,11,0)","v":"黎文娟"},{"$f":"VLOOKUP(B967,'[1]002'!B:M,12,0)","v":"韶关市第十五中学"}]
[966,"P303219087909","第三课制作动作补间动画","初中组","课件","二等奖","韶关市",{"$f":"VLOOKUP(B968,'[1]002'!B:M,7,0)","v":"张  璟"},{"$f":"VLOOKUP(B968,'[1]002'!B:M,8,0)","v":"广东北江实验学校"},{"$f":"VLOOKUP(B968,'[1]002'!B:M,11,0)","v":"-"},{"$f":"VLOOKUP(B968,'[1]002'!B:M,12,0)","v":"-"}]
[967,"P303219093346","flash课件之ps名片设计","初中组","课件","二等奖","河源市",{"$f":"VLOOKUP(B969,'[1]002'!B:M,7,0)","v":"罗旭婵"},{"$f":"VLOOKUP(B969,'[1]002'!B:M,8,0)","v":"河源市源城外国语学校"},{"$f":"VLOOKUP(B969,'[1]002'!B:M,11,0)","v":"-"},{"$f":"VLOOKUP(B969,'[1]002'!B:M,12,0)","v":"-"}]
[968,"P303219093364","如何拯救大象","初中组","课件","二等奖","河源市",{"$f":"VLOOKUP(B970,'[1]002'!B:M,7,0)","v":"李艳"},{"$f":"VLOOKUP(B970,'[1]002'!B:M,8,0)","v":"河源市北大附属德爱国际学校"},{"$f":"VLOOKUP(B970,'[1]002'!B:M,11,0)","v":"-"},{"$f":"VLOOKUP(B970,'[1]002'!B:M,12,0)","v":"-"}]
[969,"P303219093355","天下兴亡匹夫有责","初中组","课件","二等奖","河源市",{"$f":"VLOOKUP(B971,'[1]002'!B:M,7,0)","v":"曾灵销"},{"$f":"VLOOKUP(B971,'[1]002'!B:M,8,0)","v":"河源市第一中学"},{"$f":"VLOOKUP(B971,'[1]002'!B:M,11,0)","v":"-"},{"$f":"VLOOKUP(B971,'[1]002'!B:M,12,0)","v":"-"}]
[970,"P303219092204","中国石拱桥","初中组","课件","二等奖","惠州市",{"$f":"VLOOKUP(B972,'[1]002'!B:M,7,0)","v":"朱伟文"},{"$f":"VLOOKUP(B972,'[1]002'!B:M,8,0)","v":"惠州大亚湾经济技术开发区第三中学"},{"$f":"VLOOKUP(B972,'[1]002'!B:M,11,0)","v":"-"},{"$f":"VLOOKUP(B972,'[1]002'!B:M,12,0)","v":"-"}]
[971,"P303219092492","带条件的函数","初中组","课件","二等奖","东莞市",{"$f":"VLOOKUP(B973,'[1]002'!B:M,7,0)","v":"周艳"},{"$f":"VLOOKUP(B973,'[1]002'!B:M,8,0)","v":"东莞市樟木头中学"},{"$f":"VLOOKUP(B973,'[1]002'!B:M,11,0)","v":"-"},{"$f":"VLOOKUP(B973,'[1]002'!B:M,12,0)","v":"-"}]
[972,"P303219092488","黄河颂","初中组","课件","二等奖","东莞市",{"$f":"VLOOKUP(B974,'[1]002'!B:M,7,0)","v":"刘玉华"},{"$f":"VLOOKUP(B974,'[1]002'!B:M,8,0)","v":"东莞市石碣中学"},{"$f":"VLOOKUP(B974,'[1]002'!B:M,11,0)","v":"-"},{"$f":"VLOOKUP(B974,'[1]002'!B:M,12,0)","v":"-"}]
[973,"P303219092490","图像合成","初中组","课件","二等奖","东莞市",{"$f":"VLOOKUP(B975,'[1]002'!B:M,7,0)","v":"傅顺文"},{"$f":"VLOOKUP(B975,'[1]002'!B:M,8,0)","v":"东莞市南城阳光实验中学"},{"$f":"VLOOKUP(B975,'[1]002'!B:M,11,0)","v":"-"},{"$f":"VLOOKUP(B975,'[1]002'!B:M,12,0)","v":"-"}]
[974,"P303219092491","杨辉三角探究课课件","初中组","课件","二等奖","东莞市",{"$f":"VLOOKUP(B976,'[1]002'!B:M,7,0)","v":"梁锡林"},{"$f":"VLOOKUP(B976,'[1]002'!B:M,8,0)","v":"东莞市松山湖实验中学"},{"$f":"VLOOKUP(B976,'[1]002'!B:M,11,0)","v":"-"},{"$f":"VLOOKUP(B976,'[1]002'!B:M,12,0)","v":"-"}]
[975,"P303219092496","敬畏生命","初中组","课件","二等奖","东莞市",{"$f":"VLOOKUP(B977,'[1]002'!B:M,7,0)","v":"冯任夷"},{"$f":"VLOOKUP(B977,'[1]002'!B:M,8,0)","v":"东莞市石碣东风实验学校"},{"$f":"VLOOKUP(B977,'[1]002'!B:M,11,0)","v":"-"},{"$f":"VLOOKUP(B977,'[1]002'!B:M,12,0)","v":"-"}]
[976,"P303219092497","想象的汽车","初中组","课件","二等奖","东莞市",{"$f":"VLOOKUP(B978,'[1]002'!B:M,7,0)","v":"蔡惠玲"},{"$f":"VLOOKUP(B978,'[1]002'!B:M,8,0)","v":"东莞市松山湖实验中学"},{"$f":"VLOOKUP(B978,'[1]002'!B:M,11,0)","v":"-"},{"$f":"VLOOKUP(B978,'[1]002'!B:M,12,0)","v":"-"}]
[977,"P303219092489","等高线地形图的判读","初中组","课件","二等奖","东莞市",{"$f":"VLOOKUP(B979,'[1]002'!B:M,7,0)","v":"邱丽云"},{"$f":"VLOOKUP(B979,'[1]002'!B:M,8,0)","v":"东莞市松山湖实验中学"},{"$f":"VLOOKUP(B979,'[1]002'!B:M,11,0)","v":"-"},{"$f":"VLOOKUP(B979,'[1]002'!B:M,12,0)","v":"-"}]
[978,"P303219092493","春望","初中组","课件","二等奖","东莞市",{"$f":"VLOOKUP(B980,'[1]002'!B:M,7,0)","v":"刘玉华"},{"$f":"VLOOKUP(B980,'[1]002'!B:M,8,0)","v":"东莞市石碣中学"},{"$f":"VLOOKUP(B980,'[1]002'!B:M,11,0)","v":"-"},{"$f":"VLOOKUP(B980,'[1]002'!B:M,12,0)","v":"-"}]
[979,"P303119089053","轴对称","初中组","课件","二等奖","中山市",{"$f":"VLOOKUP(B981,'[1]002'!B:M,7,0)","v":"徐旭辉"},{"$f":"VLOOKUP(B981,'[1]002'!B:M,8,0)","v":"中山市西区中心小学"},{"$f":"VLOOKUP(B981,'[1]002'!B:M,11,0)","v":"黄剑锋"},{"$f":"VLOOKUP(B981,'[1]002'!B:M,12,0)","v":"中山市实验小学"}]
[980,"P303219088413","热机","初中组","课件","二等奖","中山市",{"$f":"VLOOKUP(B982,'[1]002'!B:M,7,0)","v":"危光明"},{"$f":"VLOOKUP(B982,'[1]002'!B:M,8,0)","v":"中山市东区松苑中学"},{"$f":"VLOOKUP(B982,'[1]002'!B:M,11,0)","v":"-"},{"$f":"VLOOKUP(B982,'[1]002'!B:M,12,0)","v":"-"}]
[981,"P303219091764","俄罗斯","初中组","课件","二等奖","江门市",{"$f":"VLOOKUP(B983,'[1]002'!B:M,7,0)","v":"黎秀云"},{"$f":"VLOOKUP(B983,'[1]002'!B:M,8,0)","v":"江门市棠下初级中学"},{"$f":"VLOOKUP(B983,'[1]002'!B:M,11,0)","v":"-"},{"$f":"VLOOKUP(B983,'[1]002'!B:M,12,0)","v":"-"}]
[982,"P303219091766","制作引导线动画","初中组","课件","二等奖","江门市",{"$f":"VLOOKUP(B984,'[1]002'!B:M,7,0)","v":"韦雪萍"},{"$f":"VLOOKUP(B984,'[1]002'!B:M,8,0)","v":"江门市培英初级中学"},{"$f":"VLOOKUP(B984,'[1]002'!B:M,11,0)","v":"-"},{"$f":"VLOOKUP(B984,'[1]002'!B:M,12,0)","v":"-"}]
[983,"P303219091366","天上的街市","初中组","课件","二等奖","茂名市",{"$f":"VLOOKUP(B985,'[1]002'!B:M,7,0)","v":"车远"},{"$f":"VLOOKUP(B985,'[1]002'!B:M,8,0)","v":"茂名市启源中学"},{"$f":"VLOOKUP(B985,'[1]002'!B:M,11,0)","v":"-"},{"$f":"VLOOKUP(B985,'[1]002'!B:M,12,0)","v":"-"}]
[984,"P303219091327","初中英语课外阅读MovingElephants","初中组","课件","二等奖","茂名市",{"$f":"VLOOKUP(B986,'[1]002'!B:M,7,0)","v":"冯媛焕"},{"$f":"VLOOKUP(B986,'[1]002'!B:M,8,0)","v":"茂名市龙岭学校"},{"$f":"VLOOKUP(B986,'[1]002'!B:M,11,0)","v":"-"},{"$f":"VLOOKUP(B986,'[1]002'!B:M,12,0)","v":"-"}]
[985,"P303219091368","青春的情绪","初中组","课件","二等奖","茂名市",{"$f":"VLOOKUP(B987,'[1]002'!B:M,7,0)","v":"黄子君"},{"$f":"VLOOKUP(B987,'[1]002'!B:M,8,0)","v":"茂名市育才学校"},{"$f":"VLOOKUP(B987,'[1]002'!B:M,11,0)","v":"-"},{"$f":"VLOOKUP(B987,'[1]002'!B:M,12,0)","v":"-"}]
[986,"P303219091437","外研版八年级下册M3U1","初中组","课件","二等奖","茂名市",{"$f":"VLOOKUP(B988,'[1]002'!B:M,7,0)","v":"陈海莲"},{"$f":"VLOOKUP(B988,'[1]002'!B:M,8,0)","v":"茂名市行知中学"},{"$f":"VLOOKUP(B988,'[1]002'!B:M,11,0)","v":"-"},{"$f":"VLOOKUP(B988,'[1]002'!B:M,12,0)","v":"-"}]
[987,"P303219090278","反比例函数图象与性质","初中组","课件","二等奖","肇庆市",{"$f":"VLOOKUP(B989,'[1]002'!B:M,7,0)","v":"杨春晓"},{"$f":"VLOOKUP(B989,'[1]002'!B:M,8,0)","v":"德庆县九市中学"},{"$f":"VLOOKUP(B989,'[1]002'!B:M,11,0)","v":"-"},{"$f":"VLOOKUP(B989,'[1]002'!B:M,12,0)","v":"-"}]
[988,"P303219091208","第一节疆域和行政区划","初中组","课件","二等奖","肇庆市",{"$f":"VLOOKUP(B990,'[1]002'!B:M,7,0)","v":"张丽"},{"$f":"VLOOKUP(B990,'[1]002'!B:M,8,0)","v":"鼎湖区沙浦镇初级中学"},{"$f":"VLOOKUP(B990,'[1]002'!B:M,11,0)","v":"-"},{"$f":"VLOOKUP(B990,'[1]002'!B:M,12,0)","v":"-"}]
[989,"P303219091594","仁爱版七年级上册第四单元Topic3SectionC读写训练","初中组","课件","二等奖","清远市",{"$f":"VLOOKUP(B991,'[1]002'!B:M,7,0)","v":"罗婉君"},{"$f":"VLOOKUP(B991,'[1]002'!B:M,8,0)","v":"清远市清城区清城中学"},{"$f":"VLOOKUP(B991,'[1]002'!B:M,11,0)","v":"-"},{"$f":"VLOOKUP(B991,'[1]002'!B:M,12,0)","v":"-"}]
[990,"P303219091593","中考话题作文训练","初中组","课件","二等奖","清远市",{"$f":"VLOOKUP(B992,'[1]002'!B:M,7,0)","v":"罗婉君"},{"$f":"VLOOKUP(B992,'[1]002'!B:M,8,0)","v":"清远市清城区清城中学"},{"$f":"VLOOKUP(B992,'[1]002'!B:M,11,0)","v":"-"},{"$f":"VLOOKUP(B992,'[1]002'!B:M,12,0)","v":"-"}]
[991,"P303219084444","七年级英语上册Unit4Topic1SectionA","初中组","课件","二等奖","云浮市",{"$f":"VLOOKUP(B993,'[1]002'!B:M,7,0)","v":"潘慧"},{"$f":"VLOOKUP(B993,'[1]002'!B:M,8,0)","v":"新兴县六祖镇集成中学"},{"$f":"VLOOKUP(B993,'[1]002'!B:M,11,0)","v":"-"},{"$f":"VLOOKUP(B993,'[1]002'!B:M,12,0)","v":"-"}]
[992,"P305219093229","利用App控制开关灯","初中组","微课","二等奖","广州市",{"$f":"VLOOKUP(B994,'[1]002'!B:M,7,0)","v":"陆桂华"},{"$f":"VLOOKUP(B994,'[1]002'!B:M,8,0)","v":"广州市第一中学"},{"$f":"VLOOKUP(B994,'[1]002'!B:M,11,0)","v":"-"},{"$f":"VLOOKUP(B994,'[1]002'!B:M,12,0)","v":"-"}]
[993,"P305219093231","过去进行时","初中组","微课","二等奖","广州市",{"$f":"VLOOKUP(B995,'[1]002'!B:M,7,0)","v":"李婷婷"},{"$f":"VLOOKUP(B995,'[1]002'!B:M,8,0)","v":"广州市南国学校"},{"$f":"VLOOKUP(B995,'[1]002'!B:M,11,0)","v":"-"},{"$f":"VLOOKUP(B995,'[1]002'!B:M,12,0)","v":"-"}]
[994,"P305219093227","凸透镜成像规律","初中组","微课","二等奖","广州市",{"$f":"VLOOKUP(B996,'[1]002'!B:M,7,0)","v":"何敏怡"},{"$f":"VLOOKUP(B996,'[1]002'!B:M,8,0)","v":"广州市第四中学"},{"$f":"VLOOKUP(B996,'[1]002'!B:M,11,0)","v":"-"},{"$f":"VLOOKUP(B996,'[1]002'!B:M,12,0)","v":"-"}]
[995,"P305219093232","23.1图形的旋转（性质的探究）","初中组","微课","二等奖","广州市",{"$f":"VLOOKUP(B997,'[1]002'!B:M,7,0)","v":"陈银荣"},{"$f":"VLOOKUP(B997,'[1]002'!B:M,8,0)","v":"广州市荔湾区立贤学校"},{"$f":"VLOOKUP(B997,'[1]002'!B:M,11,0)","v":"-"},{"$f":"VLOOKUP(B997,'[1]002'!B:M,12,0)","v":"-"}]
[996,"P305219092678","求你了写作不要再用那几个词","初中组","微课","二等奖","深圳市",{"$f":"VLOOKUP(B998,'[1]002'!B:M,7,0)","v":"邵贤婷"},{"$f":"VLOOKUP(B998,'[1]002'!B:M,8,0)","v":"深圳市田东中学"},{"$f":"VLOOKUP(B998,'[1]002'!B:M,11,0)","v":"-"},{"$f":"VLOOKUP(B998,'[1]002'!B:M,12,0)","v":"-"}]
[997,"P305219092679","情境剪纸之双喜","初中组","微课","二等奖","深圳市",{"$f":"VLOOKUP(B999,'[1]002'!B:M,7,0)","v":"丁慧"},{"$f":"VLOOKUP(B999,'[1]002'!B:M,8,0)","v":"深圳市福田区劳动技术教育中心"},{"$f":"VLOOKUP(B999,'[1]002'!B:M,11,0)","v":"-"},{"$f":"VLOOKUP(B999,'[1]002'!B:M,12,0)","v":"-"}]
[998,"P305219092689","二力平衡","初中组","微课","二等奖","深圳市",{"$f":"VLOOKUP(B1000,'[1]002'!B:M,7,0)","v":"程晓龙"},{"$f":"VLOOKUP(B1000,'[1]002'!B:M,8,0)","v":"深圳市龙华区外国语学校"},{"$f":"VLOOKUP(B1000,'[1]002'!B:M,11,0)","v":"-"},{"$f":"VLOOKUP(B1000,'[1]002'!B:M,12,0)","v":"-"}]
[999,"P305219092693","3分钟学习故事写作的策略","初中组","微课","二等奖","深圳市",{"$f":"VLOOKUP(B1001,'[1]002'!B:M,7,0)","v":"程江"},{"$f":"VLOOKUP(B1001,'[1]002'!B:M,8,0)","v":"深圳市新华中学"},{"$f":"VLOOKUP(B1001,'[1]002'!B:M,11,0)","v":"-"},{"$f":"VLOOKUP(B1001,'[1]002'!B:M,12,0)","v":"-"}]
[1000,"P305219092691","磁生电","初中组","微课","二等奖","深圳市",{"$f":"VLOOKUP(B1002,'[1]002'!B:M,7,0)","v":"蔡丹洁"},{"$f":"VLOOKUP(B1002,'[1]002'!B:M,8,0)","v":"深圳市南山区桃源中学"},{"$f":"VLOOKUP(B1002,'[1]002'!B:M,11,0)","v":"-"},{"$f":"VLOOKUP(B1002,'[1]002'!B:M,12,0)","v":"-"}]
[1001,"P305219092680","电生磁和磁生电","初中组","微课","二等奖","深圳市",{"$f":"VLOOKUP(B1003,'[1]002'!B:M,7,0)","v":"赖洁璇"},{"$f":"VLOOKUP(B1003,'[1]002'!B:M,8,0)","v":"坪山区坪山中学"},{"$f":"VLOOKUP(B1003,'[1]002'!B:M,11,0)","v":"冯志雯"},{"$f":"VLOOKUP(B1003,'[1]002'!B:M,12,0)","v":"坪山区坪山实验学校"}]
[1002,"P305219090356","在极地地区地图上判断方向","初中组","微课","二等奖","珠海市",{"$f":"VLOOKUP(B1004,'[1]002'!B:M,7,0)","v":"马诗妍"},{"$f":"VLOOKUP(B1004,'[1]002'!B:M,8,0)","v":"珠海市第九中学"},{"$f":"VLOOKUP(B1004,'[1]002'!B:M,11,0)","v":"-"},{"$f":"VLOOKUP(B1004,'[1]002'!B:M,12,0)","v":"-"}]
[1003,"P305219087239","平方根","初中组","微课","二等奖","珠海市",{"$f":"VLOOKUP(B1005,'[1]002'!B:M,7,0)","v":"范婷婷"},{"$f":"VLOOKUP(B1005,'[1]002'!B:M,8,0)","v":"珠海市小林中学"},{"$f":"VLOOKUP(B1005,'[1]002'!B:M,11,0)","v":"-"},{"$f":"VLOOKUP(B1005,'[1]002'!B:M,12,0)","v":"-"}]
[1004,"P305219087985","连通器原理","初中组","微课","二等奖","珠海市",{"$f":"VLOOKUP(B1006,'[1]002'!B:M,7,0)","v":"王薇"},{"$f":"VLOOKUP(B1006,'[1]002'!B:M,8,0)","v":"珠海市前山中学"},{"$f":"VLOOKUP(B1006,'[1]002'!B:M,11,0)","v":"-"},{"$f":"VLOOKUP(B1006,'[1]002'!B:M,12,0)","v":"-"}]
[1005,"P305219088077","液体压强的公式推导","初中组","微课","二等奖","珠海市",{"$f":"VLOOKUP(B1007,'[1]002'!B:M,7,0)","v":"严剑辉"},{"$f":"VLOOKUP(B1007,'[1]002'!B:M,8,0)","v":"珠海市前山中学"},{"$f":"VLOOKUP(B1007,'[1]002'!B:M,11,0)","v":"-"},{"$f":"VLOOKUP(B1007,'[1]002'!B:M,12,0)","v":"-"}]
[1006,"P305219091884","学习借景抒情的方法","初中组","微课","二等奖","汕头市",{"$f":"VLOOKUP(B1008,'[1]002'!B:M,7,0)","v":"李三春"},{"$f":"VLOOKUP(B1008,'[1]002'!B:M,8,0)","v":"汕头市滨海中学"},{"$f":"VLOOKUP(B1008,'[1]002'!B:M,11,0)","v":"-"},{"$f":"VLOOKUP(B1008,'[1]002'!B:M,12,0)","v":"-"}]
[1007,"P305219091880","初中英语易混词语用法辨析other, the other等","初中组","微课","二等奖","汕头市",{"$f":"VLOOKUP(B1009,'[1]002'!B:M,7,0)","v":"康毅"},{"$f":"VLOOKUP(B1009,'[1]002'!B:M,8,0)","v":"汕头市东厦中学"},{"$f":"VLOOKUP(B1009,'[1]002'!B:M,11,0)","v":"-"},{"$f":"VLOOKUP(B1009,'[1]002'!B:M,12,0)","v":"-"}]
[1008,"P305219091887","情景式微课之some time等词义辨析","初中组","微课","二等奖","汕头市",{"$f":"VLOOKUP(B1010,'[1]002'!B:M,7,0)","v":"张  晓"},{"$f":"VLOOKUP(B1010,'[1]002'!B:M,8,0)","v":"汕头市金园实验中学"},{"$f":"VLOOKUP(B1010,'[1]002'!B:M,11,0)","v":"-"},{"$f":"VLOOKUP(B1010,'[1]002'!B:M,12,0)","v":"-"}]
[1009,"P305219091876","如何正确使用介词in on at表述时间","初中组","微课","二等奖","汕头市",{"$f":"VLOOKUP(B1011,'[1]002'!B:M,7,0)","v":"彭曼青"},{"$f":"VLOOKUP(B1011,'[1]002'!B:M,8,0)","v":"汕头市世贸实验学校"},{"$f":"VLOOKUP(B1011,'[1]002'!B:M,11,0)","v":"-"},{"$f":"VLOOKUP(B1011,'[1]002'!B:M,12,0)","v":"-"}]
[1010,"P305219091889","二次函数y=ax2的图象和性质","初中组","微课","二等奖","汕头市",{"$f":"VLOOKUP(B1012,'[1]002'!B:M,7,0)","v":"郑霓"},{"$f":"VLOOKUP(B1012,'[1]002'!B:M,8,0)","v":"汕头市潮南区陇田东波学校"},{"$f":"VLOOKUP(B1012,'[1]002'!B:M,11,0)","v":"-"},{"$f":"VLOOKUP(B1012,'[1]002'!B:M,12,0)","v":"-"}]
[1011,"P305219091875","探究杠杆的平衡条件","初中组","微课","二等奖","汕头市",{"$f":"VLOOKUP(B1013,'[1]002'!B:M,7,0)","v":"周树君"},{"$f":"VLOOKUP(B1013,'[1]002'!B:M,8,0)","v":"汕头市新溪中学"},{"$f":"VLOOKUP(B1013,'[1]002'!B:M,11,0)","v":"-"},{"$f":"VLOOKUP(B1013,'[1]002'!B:M,12,0)","v":"-"}]
[1012,"P305219091877","甲状腺激素对蝌蚪生长发育的影响","初中组","微课","二等奖","汕头市",{"$f":"VLOOKUP(B1014,'[1]002'!B:M,7,0)","v":"陈木雄"},{"$f":"VLOOKUP(B1014,'[1]002'!B:M,8,0)","v":"汕头市金禧中学"},{"$f":"VLOOKUP(B1014,'[1]002'!B:M,11,0)","v":"-"},{"$f":"VLOOKUP(B1014,'[1]002'!B:M,12,0)","v":"-"}]
[1013,"P305219091878","测量铝块的密度","初中组","微课","二等奖","汕头市",{"$f":"VLOOKUP(B1015,'[1]002'!B:M,7,0)","v":"林琳"},{"$f":"VLOOKUP(B1015,'[1]002'!B:M,8,0)","v":"广东第二师范学院龙湖附属中学"},{"$f":"VLOOKUP(B1015,'[1]002'!B:M,11,0)","v":"-"},{"$f":"VLOOKUP(B1015,'[1]002'!B:M,12,0)","v":"-"}]
[1014,"P305219091886","酸的化学性质","初中组","微课","二等奖","汕头市",{"$f":"VLOOKUP(B1016,'[1]002'!B:M,7,0)","v":"陈彤"},{"$f":"VLOOKUP(B1016,'[1]002'!B:M,8,0)","v":"汕头市滨海中学"},{"$f":"VLOOKUP(B1016,'[1]002'!B:M,11,0)","v":"-"},{"$f":"VLOOKUP(B1016,'[1]002'!B:M,12,0)","v":"-"}]
[1015,"P305219091872","探究浮力大小与物体排开液体体积的关系","初中组","微课","二等奖","汕头市",{"$f":"VLOOKUP(B1017,'[1]002'!B:M,7,0)","v":"王育涛"},{"$f":"VLOOKUP(B1017,'[1]002'!B:M,8,0)","v":"汕头市新溪中学"},{"$f":"VLOOKUP(B1017,'[1]002'!B:M,11,0)","v":"-"},{"$f":"VLOOKUP(B1017,'[1]002'!B:M,12,0)","v":"-"}]
[1016,"P305219091891","蹲踞式跳远——腾空步技术动作学习","初中组","微课","二等奖","汕头市",{"$f":"VLOOKUP(B1018,'[1]002'!B:M,7,0)","v":"芮炜鑫"},{"$f":"VLOOKUP(B1018,'[1]002'!B:M,8,0)","v":"汕头市谢易初中学"},{"$f":"VLOOKUP(B1018,'[1]002'!B:M,11,0)","v":"-"},{"$f":"VLOOKUP(B1018,'[1]002'!B:M,12,0)","v":"-"}]
[1017,"P305219091873","探究平面镜成像时像与物的关系","初中组","微课","二等奖","汕头市",{"$f":"VLOOKUP(B1019,'[1]002'!B:M,7,0)","v":"纪泽娜"},{"$f":"VLOOKUP(B1019,'[1]002'!B:M,8,0)","v":"汕头市新溪中学"},{"$f":"VLOOKUP(B1019,'[1]002'!B:M,11,0)","v":"-"},{"$f":"VLOOKUP(B1019,'[1]002'!B:M,12,0)","v":"-"}]
[1018,"P305219091874","测量铝块的密度","初中组","微课","二等奖","汕头市",{"$f":"VLOOKUP(B1020,'[1]002'!B:M,7,0)","v":"黄庆虹"},{"$f":"VLOOKUP(B1020,'[1]002'!B:M,8,0)","v":"汕头市新溪中学"},{"$f":"VLOOKUP(B1020,'[1]002'!B:M,11,0)","v":"-"},{"$f":"VLOOKUP(B1020,'[1]002'!B:M,12,0)","v":"-"}]
[1019,"P305219091008","分式的通分","初中组","微课","二等奖","佛山市",{"$f":"VLOOKUP(B1021,'[1]002'!B:M,7,0)","v":"邝洪胜"},{"$f":"VLOOKUP(B1021,'[1]002'!B:M,8,0)","v":"佛山市顺德区容桂四基初级中学"},{"$f":"VLOOKUP(B1021,'[1]002'!B:M,11,0)","v":"-"},{"$f":"VLOOKUP(B1021,'[1]002'!B:M,12,0)","v":"-"}]
[1020,"P305219091006","光沿直线传播","初中组","微课","二等奖","佛山市",{"$f":"VLOOKUP(B1022,'[1]002'!B:M,7,0)","v":"郑丽冰"},{"$f":"VLOOKUP(B1022,'[1]002'!B:M,8,0)","v":"佛山市顺德区均安建安初级中学"},{"$f":"VLOOKUP(B1022,'[1]002'!B:M,11,0)","v":"张丹颖"},{"$f":"VLOOKUP(B1022,'[1]002'!B:M,12,0)","v":"佛山市顺德区均安建安初级中学"}]
[1021,"P305219091007","光的色散","初中组","微课","二等奖","佛山市",{"$f":"VLOOKUP(B1023,'[1]002'!B:M,7,0)","v":"林邦惜"},{"$f":"VLOOKUP(B1023,'[1]002'!B:M,8,0)","v":"佛山市顺德区均安建安初级中学"},{"$f":"VLOOKUP(B1023,'[1]002'!B:M,11,0)","v":"张丹颖"},{"$f":"VLOOKUP(B1023,'[1]002'!B:M,12,0)","v":"佛山市顺德区均安建安初级中学"}]
[1022,"P305219090975","突破冠词易错点泛指和特指","初中组","微课","二等奖","佛山市",{"$f":"VLOOKUP(B1024,'[1]002'!B:M,7,0)","v":"敖雪琼"},{"$f":"VLOOKUP(B1024,'[1]002'!B:M,8,0)","v":"佛山市城北中学"},{"$f":"VLOOKUP(B1024,'[1]002'!B:M,11,0)","v":"-"},{"$f":"VLOOKUP(B1024,'[1]002'!B:M,12,0)","v":"-"}]
[1023,"P305219091005","磁现象与磁感线","初中组","微课","二等奖","佛山市",{"$f":"VLOOKUP(B1025,'[1]002'!B:M,7,0)","v":"郑丽冰"},{"$f":"VLOOKUP(B1025,'[1]002'!B:M,8,0)","v":"佛山市顺德区均安建安初级中学"},{"$f":"VLOOKUP(B1025,'[1]002'!B:M,11,0)","v":"张丹颖"},{"$f":"VLOOKUP(B1025,'[1]002'!B:M,12,0)","v":"佛山市顺德区均安建安初级中学"}]
[1024,"P305219090980","使用Excel函数制作比赛自动评分表","初中组","微课","二等奖","佛山市",{"$f":"VLOOKUP(B1026,'[1]002'!B:M,7,0)","v":"黄韶君"},{"$f":"VLOOKUP(B1026,'[1]002'!B:M,8,0)","v":"佛山市第十四中学"},{"$f":"VLOOKUP(B1026,'[1]002'!B:M,11,0)","v":"-"},{"$f":"VLOOKUP(B1026,'[1]002'!B:M,12,0)","v":"-"}]
[1025,"P305219090978","膈肌运动与呼吸的关系","初中组","微课","二等奖","佛山市",{"$f":"VLOOKUP(B1027,'[1]002'!B:M,7,0)","v":"何丽燕"},{"$f":"VLOOKUP(B1027,'[1]002'!B:M,8,0)","v":"佛山市外国语学校"},{"$f":"VLOOKUP(B1027,'[1]002'!B:M,11,0)","v":"-"},{"$f":"VLOOKUP(B1027,'[1]002'!B:M,12,0)","v":"-"}]
[1026,"P305219090052","最短路径问题--将军饮马","初中组","微课","二等奖","韶关市",{"$f":"VLOOKUP(B1028,'[1]002'!B:M,7,0)","v":"卢荣平"},{"$f":"VLOOKUP(B1028,'[1]002'!B:M,8,0)","v":"仁化县第一中学"},{"$f":"VLOOKUP(B1028,'[1]002'!B:M,11,0)","v":"-"},{"$f":"VLOOKUP(B1028,'[1]002'!B:M,12,0)","v":"-"}]
[1027,"P305219088842","循环程序","初中组","微课","二等奖","韶关市",{"$f":"VLOOKUP(B1029,'[1]002'!B:M,7,0)","v":"刘小丽"},{"$f":"VLOOKUP(B1029,'[1]002'!B:M,8,0)","v":"广东北江实验学校"},{"$f":"VLOOKUP(B1029,'[1]002'!B:M,11,0)","v":"-"},{"$f":"VLOOKUP(B1029,'[1]002'!B:M,12,0)","v":"-"}]
[1028,"P305219090454","滚动的球体","初中组","微课","二等奖","韶关市",{"$f":"VLOOKUP(B1030,'[1]002'!B:M,7,0)","v":"杨宝林"},{"$f":"VLOOKUP(B1030,'[1]002'!B:M,8,0)","v":"仁化县第一中学"},{"$f":"VLOOKUP(B1030,'[1]002'!B:M,11,0)","v":"-"},{"$f":"VLOOKUP(B1030,'[1]002'!B:M,12,0)","v":"-"}]
[1029,"P305219088394","空气中氧气含量的测定","初中组","微课","二等奖","韶关市",{"$f":"VLOOKUP(B1031,'[1]002'!B:M,7,0)","v":"黄夏"},{"$f":"VLOOKUP(B1031,'[1]002'!B:M,8,0)","v":"韶关市第九中学"},{"$f":"VLOOKUP(B1031,'[1]002'!B:M,11,0)","v":"潘高峰"},{"$f":"VLOOKUP(B1031,'[1]002'!B:M,12,0)","v":"韶关市第九中学"}]
[1030,"P305219088665","力学中的功","初中组","微课","二等奖","韶关市",{"$f":"VLOOKUP(B1032,'[1]002'!B:M,7,0)","v":"张福珍"},{"$f":"VLOOKUP(B1032,'[1]002'!B:M,8,0)","v":"翁源县龙仙中学"},{"$f":"VLOOKUP(B1032,'[1]002'!B:M,11,0)","v":"-"},{"$f":"VLOOKUP(B1032,'[1]002'!B:M,12,0)","v":"-"}]
[1031,"P305219087920","密度与社会生活","初中组","微课","二等奖","韶关市",{"$f":"VLOOKUP(B1033,'[1]002'!B:M,7,0)","v":"马晓虹"},{"$f":"VLOOKUP(B1033,'[1]002'!B:M,8,0)","v":"韶关一中实验学校"},{"$f":"VLOOKUP(B1033,'[1]002'!B:M,11,0)","v":"-"},{"$f":"VLOOKUP(B1033,'[1]002'!B:M,12,0)","v":"-"}]
[1032,"P305219088695","叶表皮气孔的观察","初中组","微课","二等奖","韶关市",{"$f":"VLOOKUP(B1034,'[1]002'!B:M,7,0)","v":"王燕娟"},{"$f":"VLOOKUP(B1034,'[1]002'!B:M,8,0)","v":"韶关市第十一中学"},{"$f":"VLOOKUP(B1034,'[1]002'!B:M,11,0)","v":"潘高峰"},{"$f":"VLOOKUP(B1034,'[1]002'!B:M,12,0)","v":"韶关市第九中学"}]
[1033,"P305219093387","人教新目标初中英语八年级上册Unit8Howtomakeabananamilkshake","初中组","微课","二等奖","河源市",{"$f":"VLOOKUP(B1035,'[1]002'!B:M,7,0)","v":"艾施连"},{"$f":"VLOOKUP(B1035,'[1]002'!B:M,8,0)","v":"河源市北大附属德爱国际学校"},{"$f":"VLOOKUP(B1035,'[1]002'!B:M,11,0)","v":"-"},{"$f":"VLOOKUP(B1035,'[1]002'!B:M,12,0)","v":"-"}]
[1034,"P305219093377","人教新目标初中英语八年级上册HowToMakeAcceptOrDeclineAnInvitation","初中组","微课","二等奖","河源市",{"$f":"VLOOKUP(B1036,'[1]002'!B:M,7,0)","v":"张  琪"},{"$f":"VLOOKUP(B1036,'[1]002'!B:M,8,0)","v":"河源市北大附属德爱国际学校"},{"$f":"VLOOKUP(B1036,'[1]002'!B:M,11,0)","v":"-"},{"$f":"VLOOKUP(B1036,'[1]002'!B:M,12,0)","v":"-"}]
[1035,"P305219093376","探究鸟适于飞行的特点","初中组","微课","二等奖","河源市",{"$f":"VLOOKUP(B1037,'[1]002'!B:M,7,0)","v":"戴海霞"},{"$f":"VLOOKUP(B1037,'[1]002'!B:M,8,0)","v":"东源县崇文学校"},{"$f":"VLOOKUP(B1037,'[1]002'!B:M,11,0)","v":"-"},{"$f":"VLOOKUP(B1037,'[1]002'!B:M,12,0)","v":"-"}]
[1036,"P305219079183","CO2与水反应的探究","初中组","微课","二等奖","梅州市",{"$f":"VLOOKUP(B1038,'[1]002'!B:M,7,0)","v":"陈丹妮"},{"$f":"VLOOKUP(B1038,'[1]002'!B:M,8,0)","v":"梅州市学艺中学"},{"$f":"VLOOKUP(B1038,'[1]002'!B:M,11,0)","v":"-"},{"$f":"VLOOKUP(B1038,'[1]002'!B:M,12,0)","v":"-"}]
[1037,"P305219092123","感叹句微课","初中组","微课","二等奖","惠州市",{"$f":"VLOOKUP(B1039,'[1]002'!B:M,7,0)","v":"高裕玲"},{"$f":"VLOOKUP(B1039,'[1]002'!B:M,8,0)","v":"博罗县三乡中学"},{"$f":"VLOOKUP(B1039,'[1]002'!B:M,11,0)","v":"-"},{"$f":"VLOOKUP(B1039,'[1]002'!B:M,12,0)","v":"-"}]
[1038,"P305219092384","物质的变化","初中组","微课","二等奖","汕尾市",{"$f":"VLOOKUP(B1040,'[1]002'!B:M,7,0)","v":"翁映芬"},{"$f":"VLOOKUP(B1040,'[1]002'!B:M,8,0)","v":"陆河县螺溪中学"},{"$f":"VLOOKUP(B1040,'[1]002'!B:M,11,0)","v":"-"},{"$f":"VLOOKUP(B1040,'[1]002'!B:M,12,0)","v":"-"}]
[1039,"P305219092580","如何写明信片","初中组","微课","二等奖","东莞市",{"$f":"VLOOKUP(B1041,'[1]002'!B:M,7,0)","v":"钟浩然"},{"$f":"VLOOKUP(B1041,'[1]002'!B:M,8,0)","v":"东莞市厚街湖景中学"},{"$f":"VLOOKUP(B1041,'[1]002'!B:M,11,0)","v":"钟珊珊"},{"$f":"VLOOKUP(B1041,'[1]002'!B:M,12,0)","v":"东莞市塘厦中学"}]
[1040,"P305219088882","等高线地形图的绘制","初中组","微课","二等奖","中山市",{"$f":"VLOOKUP(B1042,'[1]002'!B:M,7,0)","v":"杨晓茗"},{"$f":"VLOOKUP(B1042,'[1]002'!B:M,8,0)","v":"中山市五桂山学校"},{"$f":"VLOOKUP(B1042,'[1]002'!B:M,11,0)","v":"-"},{"$f":"VLOOKUP(B1042,'[1]002'!B:M,12,0)","v":"-"}]
[1041,"P305219088696","三级跳远---第一跳单足跳","初中组","微课","二等奖","中山市",{"$f":"VLOOKUP(B1043,'[1]002'!B:M,7,0)","v":"郭州杰"},{"$f":"VLOOKUP(B1043,'[1]002'!B:M,8,0)","v":"中山市沙溪初级中学"},{"$f":"VLOOKUP(B1043,'[1]002'!B:M,11,0)","v":"钟卫兵"},{"$f":"VLOOKUP(B1043,'[1]002'!B:M,12,0)","v":"中山市沙溪初级中学"}]
[1042,"P305219088418","双控灯电路的设计","初中组","微课","二等奖","中山市",{"$f":"VLOOKUP(B1044,'[1]002'!B:M,7,0)","v":"危光明"},{"$f":"VLOOKUP(B1044,'[1]002'!B:M,8,0)","v":"中山市东区松苑中学"},{"$f":"VLOOKUP(B1044,'[1]002'!B:M,11,0)","v":"-"},{"$f":"VLOOKUP(B1044,'[1]002'!B:M,12,0)","v":"-"}]
[1043,"P305219092007","制作遮罩动画","初中组","微课","二等奖","江门市",{"$f":"VLOOKUP(B1045,'[1]002'!B:M,7,0)","v":"周裕德"},{"$f":"VLOOKUP(B1045,'[1]002'!B:M,8,0)","v":"开平市东河中学"},{"$f":"VLOOKUP(B1045,'[1]002'!B:M,11,0)","v":"-"},{"$f":"VLOOKUP(B1045,'[1]002'!B:M,12,0)","v":"-"}]
[1044,"P305219091770","垂直于弦的直径","初中组","微课","二等奖","江门市",{"$f":"VLOOKUP(B1046,'[1]002'!B:M,7,0)","v":"陈铭波"},{"$f":"VLOOKUP(B1046,'[1]002'!B:M,8,0)","v":"江门市实验中学"},{"$f":"VLOOKUP(B1046,'[1]002'!B:M,11,0)","v":"-"},{"$f":"VLOOKUP(B1046,'[1]002'!B:M,12,0)","v":"-"}]
[1045,"P305219091772","勇闯游戏关卡熟练驾御二次函数图像和性质","初中组","微课","二等奖","江门市",{"$f":"VLOOKUP(B1047,'[1]002'!B:M,7,0)","v":"黄晓莺"},{"$f":"VLOOKUP(B1047,'[1]002'!B:M,8,0)","v":"江门市怡福中学"},{"$f":"VLOOKUP(B1047,'[1]002'!B:M,11,0)","v":"-"},{"$f":"VLOOKUP(B1047,'[1]002'!B:M,12,0)","v":"-"}]
[1046,"P305219092329","现在完成时","初中组","微课","二等奖","江门市",{"$f":"VLOOKUP(B1048,'[1]002'!B:M,7,0)","v":"林安怡"},{"$f":"VLOOKUP(B1048,'[1]002'!B:M,8,0)","v":"江门市第九中学"},{"$f":"VLOOKUP(B1048,'[1]002'!B:M,11,0)","v":"-"},{"$f":"VLOOKUP(B1048,'[1]002'!B:M,12,0)","v":"-"}]
[1047,"P305219091820","高锰酸钾制取氧气的操作过程","初中组","微课","二等奖","江门市",{"$f":"VLOOKUP(B1049,'[1]002'!B:M,7,0)","v":"林秋燕"},{"$f":"VLOOKUP(B1049,'[1]002'!B:M,8,0)","v":"江门市第十一中学"},{"$f":"VLOOKUP(B1049,'[1]002'!B:M,11,0)","v":"-"},{"$f":"VLOOKUP(B1049,'[1]002'!B:M,12,0)","v":"-"}]
[1048,"P305219092954","探究骨的成分与物理特性","初中组","微课","二等奖","湛江市",{"$f":"VLOOKUP(B1050,'[1]002'!B:M,7,0)","v":"吴小艳"},{"$f":"VLOOKUP(B1050,'[1]002'!B:M,8,0)","v":"湛江市坡头区第一中学"},{"$f":"VLOOKUP(B1050,'[1]002'!B:M,11,0)","v":"罗球安"},{"$f":"VLOOKUP(B1050,'[1]002'!B:M,12,0)","v":"湛江市坡头区第一中学"}]
[1049,"P305219091410","宾语从句","初中组","微课","二等奖","茂名市",{"$f":"VLOOKUP(B1051,'[1]002'!B:M,7,0)","v":"戴敏思"},{"$f":"VLOOKUP(B1051,'[1]002'!B:M,8,0)","v":"茂名市行知中学"},{"$f":"VLOOKUP(B1051,'[1]002'!B:M,11,0)","v":"-"},{"$f":"VLOOKUP(B1051,'[1]002'!B:M,12,0)","v":"-"}]
[1050,"P305219091403","巧说文言虚词而","初中组","微课","二等奖","茂名市",{"$f":"VLOOKUP(B1052,'[1]002'!B:M,7,0)","v":"黄彩金"},{"$f":"VLOOKUP(B1052,'[1]002'!B:M,8,0)","v":"茂名市博雅中学"},{"$f":"VLOOKUP(B1052,'[1]002'!B:M,11,0)","v":"-"},{"$f":"VLOOKUP(B1052,'[1]002'!B:M,12,0)","v":"-"}]
[1051,"P305219091405","认识flash时间轴","初中组","微课","二等奖","茂名市",{"$f":"VLOOKUP(B1053,'[1]002'!B:M,7,0)","v":"杨晓婷"},{"$f":"VLOOKUP(B1053,'[1]002'!B:M,8,0)","v":"茂名市博雅中学"},{"$f":"VLOOKUP(B1053,'[1]002'!B:M,11,0)","v":"-"},{"$f":"VLOOKUP(B1053,'[1]002'!B:M,12,0)","v":"-"}]
[1052,"P305219091207","家庭电路","初中组","微课","二等奖","肇庆市",{"$f":"VLOOKUP(B1054,'[1]002'!B:M,7,0)","v":"李惠娟"},{"$f":"VLOOKUP(B1054,'[1]002'!B:M,8,0)","v":"鼎湖区广利街道办事处广利初级中学"},{"$f":"VLOOKUP(B1054,'[1]002'!B:M,11,0)","v":"-"},{"$f":"VLOOKUP(B1054,'[1]002'!B:M,12,0)","v":"-"}]
[1053,"P305219091642","Unit6Topic1Howtosay在树上inEnglish","初中组","微课","二等奖","清远市",{"$f":"VLOOKUP(B1055,'[1]002'!B:M,7,0)","v":"江伟霞"},{"$f":"VLOOKUP(B1055,'[1]002'!B:M,8,0)","v":"清远市清城区松岗中学"},{"$f":"VLOOKUP(B1055,'[1]002'!B:M,11,0)","v":"-"},{"$f":"VLOOKUP(B1055,'[1]002'!B:M,12,0)","v":"-"}]
[1054,"P305219091648","种子植物","初中组","微课","二等奖","清远市",{"$f":"VLOOKUP(B1056,'[1]002'!B:M,7,0)","v":"李志可"},{"$f":"VLOOKUP(B1056,'[1]002'!B:M,8,0)","v":"清远市清新区何黄玉湘中学"},{"$f":"VLOOKUP(B1056,'[1]002'!B:M,11,0)","v":"-"},{"$f":"VLOOKUP(B1056,'[1]002'!B:M,12,0)","v":"-"}]
[1055,"P305219091639","形容词的比较等级","初中组","微课","二等奖","清远市",{"$f":"VLOOKUP(B1057,'[1]002'!B:M,7,0)","v":"苏琴"},{"$f":"VLOOKUP(B1057,'[1]002'!B:M,8,0)","v":"石潭镇第一初级中学"},{"$f":"VLOOKUP(B1057,'[1]002'!B:M,11,0)","v":"-"},{"$f":"VLOOKUP(B1057,'[1]002'!B:M,12,0)","v":"-"}]
[1056,"P305219091646","一般现在时","初中组","微课","二等奖","清远市",{"$f":"VLOOKUP(B1058,'[1]002'!B:M,7,0)","v":"张丽萍"},{"$f":"VLOOKUP(B1058,'[1]002'!B:M,8,0)","v":"清远市源潭中学"},{"$f":"VLOOKUP(B1058,'[1]002'!B:M,11,0)","v":"-"},{"$f":"VLOOKUP(B1058,'[1]002'!B:M,12,0)","v":"-"}]
[1057,"P305219085746","燃烧和灭火","初中组","微课","二等奖","潮州市",{"$f":"VLOOKUP(B1059,'[1]002'!B:M,7,0)","v":"苏培成"},{"$f":"VLOOKUP(B1059,'[1]002'!B:M,8,0)","v":"潮州市潮安区金石镇仙都初级中学"},{"$f":"VLOOKUP(B1059,'[1]002'!B:M,11,0)","v":"-"},{"$f":"VLOOKUP(B1059,'[1]002'!B:M,12,0)","v":"-"}]
[1058,"P305219087222","串联和并联","初中组","微课","二等奖","云浮市",{"$f":"VLOOKUP(B1060,'[1]002'!B:M,7,0)","v":"陈慧"},{"$f":"VLOOKUP(B1060,'[1]002'!B:M,8,0)","v":"云浮市云安区白石镇中学"},{"$f":"VLOOKUP(B1060,'[1]002'!B:M,11,0)","v":"-"},{"$f":"VLOOKUP(B1060,'[1]002'!B:M,12,0)","v":"-"}]
[1059,"P305219087117","功","初中组","微课","二等奖","云浮市",{"$f":"VLOOKUP(B1061,'[1]002'!B:M,7,0)","v":"陈慧"},{"$f":"VLOOKUP(B1061,'[1]002'!B:M,8,0)","v":"云浮市云安区白石镇中学"},{"$f":"VLOOKUP(B1061,'[1]002'!B:M,11,0)","v":"-"},{"$f":"VLOOKUP(B1061,'[1]002'!B:M,12,0)","v":"-"}]
[1060,"P305219079451","色彩的冷暖","初中组","微课","二等奖","云浮市",{"$f":"VLOOKUP(B1062,'[1]002'!B:M,7,0)","v":"吴沛玲"},{"$f":"VLOOKUP(B1062,'[1]002'!B:M,8,0)","v":"云浮市第一中学"},{"$f":"VLOOKUP(B1062,'[1]002'!B:M,11,0)","v":"-"},{"$f":"VLOOKUP(B1062,'[1]002'!B:M,12,0)","v":"-"}]
[1061,"P305219088953","燃烧条件的探究","初中组","微课","二等奖","云浮市",{"$f":"VLOOKUP(B1063,'[1]002'!B:M,7,0)","v":"吕雪平"},{"$f":"VLOOKUP(B1063,'[1]002'!B:M,8,0)","v":"新兴县簕竹镇初级中学"},{"$f":"VLOOKUP(B1063,'[1]002'!B:M,11,0)","v":"-"},{"$f":"VLOOKUP(B1063,'[1]002'!B:M,12,0)","v":"-"}]
[1062,"P307219093247","初中数学“双反馈三阶段”翻转课堂 教学模型的实践研究","初中组","信息技术创新教学案例","二等奖","广州市",{"$f":"VLOOKUP(B1064,'[1]002'!B:M,7,0)","v":"王智君"},{"$f":"VLOOKUP(B1064,'[1]002'!B:M,8,0)","v":"广州市东晓中学"},{"$f":"VLOOKUP(B1064,'[1]002'!B:M,11,0)","v":"-"},{"$f":"VLOOKUP(B1064,'[1]002'!B:M,12,0)","v":"-"}]
[1063,"P307219092675","聪明的送餐机器人","初中组","信息技术创新教学案例","二等奖","深圳市",{"$f":"VLOOKUP(B1065,'[1]002'!B:M,7,0)","v":"龙西仔"},{"$f":"VLOOKUP(B1065,'[1]002'!B:M,8,0)","v":"深圳市田东中学"},{"$f":"VLOOKUP(B1065,'[1]002'!B:M,11,0)","v":"马瑞"},{"$f":"VLOOKUP(B1065,'[1]002'!B:M,12,0)","v":"-"}]
[1064,"P307219092674","失明的声控灯","初中组","信息技术创新教学案例","二等奖","深圳市",{"$f":"VLOOKUP(B1066,'[1]002'!B:M,7,0)","v":"吴永豪"},{"$f":"VLOOKUP(B1066,'[1]002'!B:M,8,0)","v":"深圳市光明区外国语学校"},{"$f":"VLOOKUP(B1066,'[1]002'!B:M,11,0)","v":"-"},{"$f":"VLOOKUP(B1066,'[1]002'!B:M,12,0)","v":"-"}]
[1065,"P307219089597","面向创客教育的初中AppInventor课程开发与实践研究","初中组","信息技术创新教学案例","二等奖","珠海市",{"$f":"VLOOKUP(B1067,'[1]002'!B:M,7,0)","v":"李誉"},{"$f":"VLOOKUP(B1067,'[1]002'!B:M,8,0)","v":"珠海市第九中学"},{"$f":"VLOOKUP(B1067,'[1]002'!B:M,11,0)","v":"-"},{"$f":"VLOOKUP(B1067,'[1]002'!B:M,12,0)","v":"-"}]
[1066,"P307219092830","基于云平台和学习软件探索初中英语O2O教学模式","初中组","信息技术创新教学案例","二等奖","东莞市",{"$f":"VLOOKUP(B1068,'[1]002'!B:M,7,0)","v":"吴文芳"},{"$f":"VLOOKUP(B1068,'[1]002'!B:M,8,0)","v":"东莞市竹溪中学"},{"$f":"VLOOKUP(B1068,'[1]002'!B:M,11,0)","v":"赖容花"},{"$f":"VLOOKUP(B1068,'[1]002'!B:M,12,0)","v":"东莞市竹溪中学"}]
[1067,"P307219088754","制取氧气","初中组","信息技术创新教学案例","二等奖","中山市",{"$f":"VLOOKUP(B1069,'[1]002'!B:M,7,0)","v":"郑婷月"},{"$f":"VLOOKUP(B1069,'[1]002'!B:M,8,0)","v":"中山市西区铁城初级中学"},{"$f":"VLOOKUP(B1069,'[1]002'!B:M,11,0)","v":"苏敏坚"},{"$f":"VLOOKUP(B1069,'[1]002'!B:M,12,0)","v":"中山市西区铁城初级中学"}]
[1068,"P307219091435","Module7 Unit2 It is still read and loved","初中组","信息技术创新教学案例","二等奖","茂名市",{"$f":"VLOOKUP(B1070,'[1]002'!B:M,7,0)","v":"陈玉梅"},{"$f":"VLOOKUP(B1070,'[1]002'!B:M,8,0)","v":"茂名市龙岭学校"},{"$f":"VLOOKUP(B1070,'[1]002'!B:M,11,0)","v":"-"},{"$f":"VLOOKUP(B1070,'[1]002'!B:M,12,0)","v":"-"}]
[1069,"P301219089592","微型网络社区促进学生整体阅读名著西游记","初中组","教师网络空间应用案例","二等奖","珠海市",{"$f":"VLOOKUP(B1071,'[1]002'!B:M,7,0)","v":"孙北平"},{"$f":"VLOOKUP(B1071,'[1]002'!B:M,8,0)","v":"珠海市第五中学"},{"$f":"VLOOKUP(B1071,'[1]002'!B:M,11,0)","v":"-"},{"$f":"VLOOKUP(B1071,'[1]002'!B:M,12,0)","v":"-"}]
[1070,"P301219093373","网络学习空间支持的初中帮带协同教学模式实践应用案例","初中组","教师网络空间应用案例","二等奖","河源市",{"$f":"VLOOKUP(B1072,'[1]002'!B:M,7,0)","v":"李淑玲"},{"$f":"VLOOKUP(B1072,'[1]002'!B:M,8,0)","v":"东源县崇文学校"},{"$f":"VLOOKUP(B1072,'[1]002'!B:M,11,0)","v":"江龙"},{"$f":"VLOOKUP(B1072,'[1]002'!B:M,12,0)","v":"东源县崇文学校"}]
[1071,"P301219089502","溢彩化学，五光十色","初中组","教师网络空间应用案例","二等奖","中山市",{"$f":"VLOOKUP(B1073,'[1]002'!B:M,7,0)","v":"赵国华"},{"$f":"VLOOKUP(B1073,'[1]002'!B:M,8,0)","v":"中山市石岐中学"},{"$f":"VLOOKUP(B1073,'[1]002'!B:M,11,0)","v":"-"},{"$f":"VLOOKUP(B1073,'[1]002'!B:M,12,0)","v":"-"}]
[1072,"P301219089377","跨越多彩空间遇见精彩数学","初中组","教师网络空间应用案例","二等奖","中山市",{"$f":"VLOOKUP(B1074,'[1]002'!B:M,7,0)","v":"余凯健"},{"$f":"VLOOKUP(B1074,'[1]002'!B:M,8,0)","v":"中山市石岐中学"},{"$f":"VLOOKUP(B1074,'[1]002'!B:M,11,0)","v":"-"},{"$f":"VLOOKUP(B1074,'[1]002'!B:M,12,0)","v":"-"}]
[1073,"P304219089598","网络微数据库_成语接龙APP","初中组","跨学科项目式学习教学案例","二等奖","珠海市",{"$f":"VLOOKUP(B1075,'[1]002'!B:M,7,0)","v":"朱志"},{"$f":"VLOOKUP(B1075,'[1]002'!B:M,8,0)","v":"珠海市第九中学"},{"$f":"VLOOKUP(B1075,'[1]002'!B:M,11,0)","v":"-"},{"$f":"VLOOKUP(B1075,'[1]002'!B:M,12,0)","v":"-"}]
[1074,"P304219093375","科创和STEM教育理念下项目式学习创新课程初中数学科实践课之哪个地方夏天更热哪个地方冬天更冷","初中组","跨学科项目式学习教学案例","二等奖","河源市",{"$f":"VLOOKUP(B1076,'[1]002'!B:M,7,0)","v":"黄贵梅"},{"$f":"VLOOKUP(B1076,'[1]002'!B:M,8,0)","v":"河源市第一中学"},{"$f":"VLOOKUP(B1076,'[1]002'!B:M,11,0)","v":"-"},{"$f":"VLOOKUP(B1076,'[1]002'!B:M,12,0)","v":"-"}]
[1075,"P304219088669","基于信息技术下地震灾害预警项目的实践","初中组","跨学科项目式学习教学案例","二等奖","中山市",{"$f":"VLOOKUP(B1077,'[1]002'!B:M,7,0)","v":"苏敏坚"},{"$f":"VLOOKUP(B1077,'[1]002'!B:M,8,0)","v":"中山市西区铁城初级中学"},{"$f":"VLOOKUP(B1077,'[1]002'!B:M,11,0)","v":"陈秋菊"},{"$f":"VLOOKUP(B1077,'[1]002'!B:M,12,0)","v":"中山市西区铁城初级中学"}]
[1076,"P304219090108","信息技术支撑下的STEM与语文阅读教学","初中组","跨学科项目式学习教学案例","二等奖","云浮市",{"$f":"VLOOKUP(B1078,'[1]002'!B:M,7,0)","v":"何志雄"},{"$f":"VLOOKUP(B1078,'[1]002'!B:M,8,0)","v":"云浮市云安区石城镇石城中学"},{"$f":"VLOOKUP(B1078,'[1]002'!B:M,11,0)","v":"莫秋玲"},{"$f":"VLOOKUP(B1078,'[1]002'!B:M,12,0)","v":"云浮市云安区石城镇石城中学"}]
[1077,"P306219093267","智慧课堂八年级上册U4形容词语法教学","初中组","新媒体新技术教学应用课例","二等奖",{"$f":"RIGHT(LEFT(VLOOKUP(B1079,'[1]002'!B:M,3,0),7),3)","v":"广州市"},{"$f":"VLOOKUP(B1079,'[1]002'!B:M,7,0)","v":"洪薇"},{"$f":"VLOOKUP(B1079,'[1]002'!B:M,8,0)","v":"广州市白云区桃园中学"},{"$f":"VLOOKUP(B1079,'[1]002'!B:M,11,0)","v":"-"},{"$f":"VLOOKUP(B1079,'[1]002'!B:M,12,0)","v":"-"}]
[1078,"P306219093214","中考作文审题立意升格指导","初中组","新媒体新技术教学应用课例","二等奖",{"$f":"RIGHT(LEFT(VLOOKUP(B1080,'[1]002'!B:M,3,0),7),3)","v":"广州市"},{"$f":"VLOOKUP(B1080,'[1]002'!B:M,7,0)","v":"江慧琼"},{"$f":"VLOOKUP(B1080,'[1]002'!B:M,8,0)","v":"广州市南海中学"},{"$f":"VLOOKUP(B1080,'[1]002'!B:M,11,0)","v":"-"},{"$f":"VLOOKUP(B1080,'[1]002'!B:M,12,0)","v":"-"}]
[1079,"P306219092662","图形的旋转","初中组","新媒体新技术教学应用课例","二等奖",{"$f":"RIGHT(LEFT(VLOOKUP(B1081,'[1]002'!B:M,3,0),7),3)","v":"深圳市"},{"$f":"VLOOKUP(B1081,'[1]002'!B:M,7,0)","v":"艾明红"},{"$f":"VLOOKUP(B1081,'[1]002'!B:M,8,0)","v":"深圳市福田区红岭中学"},{"$f":"VLOOKUP(B1081,'[1]002'!B:M,11,0)","v":"-"},{"$f":"VLOOKUP(B1081,'[1]002'!B:M,12,0)","v":"-"}]
[1080,"P306219089483","描述人的外貌","初中组","新媒体新技术教学应用课例","二等奖",{"$f":"RIGHT(LEFT(VLOOKUP(B1082,'[1]002'!B:M,3,0),7),3)","v":"珠海市"},{"$f":"VLOOKUP(B1082,'[1]002'!B:M,7,0)","v":"刘莉"},{"$f":"VLOOKUP(B1082,'[1]002'!B:M,8,0)","v":"珠海市第五中学"},{"$f":"VLOOKUP(B1082,'[1]002'!B:M,11,0)","v":"-"},{"$f":"VLOOKUP(B1082,'[1]002'!B:M,12,0)","v":"-"}]
[1081,"P307219089585","网络微数据库_成语接龙APP","初中组","新媒体新技术教学应用课例","二等奖",{"$f":"RIGHT(LEFT(VLOOKUP(B1083,'[1]002'!B:M,3,0),7),3)","v":"珠海市"},{"$f":"VLOOKUP(B1083,'[1]002'!B:M,7,0)","v":"朱志"},{"$f":"VLOOKUP(B1083,'[1]002'!B:M,8,0)","v":"珠海市第九中学"},{"$f":"VLOOKUP(B1083,'[1]002'!B:M,11,0)","v":"-"},{"$f":"VLOOKUP(B1083,'[1]002'!B:M,12,0)","v":"-"}]
[1082,"P306219092100","钢铁是怎样炼成的","初中组","新媒体新技术教学应用课例","二等奖",{"$f":"RIGHT(LEFT(VLOOKUP(B1084,'[1]002'!B:M,3,0),7),3)","v":"珠海市"},{"$f":"VLOOKUP(B1084,'[1]002'!B:M,7,0)","v":"蓝倩"},{"$f":"VLOOKUP(B1084,'[1]002'!B:M,8,0)","v":"珠海市平沙镇第三中学"},{"$f":"VLOOKUP(B1084,'[1]002'!B:M,11,0)","v":"-"},{"$f":"VLOOKUP(B1084,'[1]002'!B:M,12,0)","v":"-"}]
[1083,"P306219091010","八年级上册Module6Unit2","初中组","新媒体新技术教学应用课例","二等奖",{"$f":"RIGHT(LEFT(VLOOKUP(B1085,'[1]002'!B:M,3,0),7),3)","v":"佛山市"},{"$f":"VLOOKUP(B1085,'[1]002'!B:M,7,0)","v":"谭蕴贤"},{"$f":"VLOOKUP(B1085,'[1]002'!B:M,8,0)","v":"佛山市高明区沧江中学"},{"$f":"VLOOKUP(B1085,'[1]002'!B:M,11,0)","v":"-"},{"$f":"VLOOKUP(B1085,'[1]002'!B:M,12,0)","v":"-"}]
[1084,"P306219091038","八年级上册Module10写作与评价","初中组","新媒体新技术教学应用课例","二等奖",{"$f":"RIGHT(LEFT(VLOOKUP(B1086,'[1]002'!B:M,3,0),7),3)","v":"佛山市"},{"$f":"VLOOKUP(B1086,'[1]002'!B:M,7,0)","v":"陈翠梅"},{"$f":"VLOOKUP(B1086,'[1]002'!B:M,8,0)","v":"佛山市三水区西南街道健力宝中学"},{"$f":"VLOOKUP(B1086,'[1]002'!B:M,11,0)","v":"-"},{"$f":"VLOOKUP(B1086,'[1]002'!B:M,12,0)","v":"-"}]
[1085,"P306219091031","美好生活需要法律","初中组","新媒体新技术教学应用课例","二等奖",{"$f":"RIGHT(LEFT(VLOOKUP(B1087,'[1]002'!B:M,3,0),7),3)","v":"佛山市"},{"$f":"VLOOKUP(B1087,'[1]002'!B:M,7,0)","v":"林丽斯"},{"$f":"VLOOKUP(B1087,'[1]002'!B:M,8,0)","v":"佛山市顺德区梁开初级中学"},{"$f":"VLOOKUP(B1087,'[1]002'!B:M,11,0)","v":"-"},{"$f":"VLOOKUP(B1087,'[1]002'!B:M,12,0)","v":"-"}]
[1086,"P306219091026","因式分解复习课","初中组","新媒体新技术教学应用课例","二等奖",{"$f":"RIGHT(LEFT(VLOOKUP(B1088,'[1]002'!B:M,3,0),7),3)","v":"佛山市"},{"$f":"VLOOKUP(B1088,'[1]002'!B:M,7,0)","v":"李志颖"},{"$f":"VLOOKUP(B1088,'[1]002'!B:M,8,0)","v":"佛山市南海区丹灶镇初级中学"},{"$f":"VLOOKUP(B1088,'[1]002'!B:M,11,0)","v":"-"},{"$f":"VLOOKUP(B1088,'[1]002'!B:M,12,0)","v":"-"}]
[1087,"P306219091030","统计图的选择","初中组","新媒体新技术教学应用课例","二等奖",{"$f":"RIGHT(LEFT(VLOOKUP(B1089,'[1]002'!B:M,3,0),7),3)","v":"佛山市"},{"$f":"VLOOKUP(B1089,'[1]002'!B:M,7,0)","v":"黄启勇"},{"$f":"VLOOKUP(B1089,'[1]002'!B:M,8,0)","v":"佛山市顺德区梁开初级中学"},{"$f":"VLOOKUP(B1089,'[1]002'!B:M,11,0)","v":"-"},{"$f":"VLOOKUP(B1089,'[1]002'!B:M,12,0)","v":"-"}]
[1088,"P306219091025","传染病及其预防","初中组","新媒体新技术教学应用课例","二等奖",{"$f":"RIGHT(LEFT(VLOOKUP(B1090,'[1]002'!B:M,3,0),7),3)","v":"佛山市"},{"$f":"VLOOKUP(B1090,'[1]002'!B:M,7,0)","v":"吴俏燕"},{"$f":"VLOOKUP(B1090,'[1]002'!B:M,8,0)","v":"佛山市南海石门实验中学"},{"$f":"VLOOKUP(B1090,'[1]002'!B:M,11,0)","v":"-"},{"$f":"VLOOKUP(B1090,'[1]002'!B:M,12,0)","v":"-"}]
[1089,"P306219092433","Myschoollife话题写作课","初中组","新媒体新技术教学应用课例","二等奖",{"$f":"RIGHT(LEFT(VLOOKUP(B1091,'[1]002'!B:M,3,0),7),3)","v":"东莞市"},{"$f":"VLOOKUP(B1091,'[1]002'!B:M,7,0)","v":"李晶"},{"$f":"VLOOKUP(B1091,'[1]002'!B:M,8,0)","v":"东莞市松山湖实验中学"},{"$f":"VLOOKUP(B1091,'[1]002'!B:M,11,0)","v":"-"},{"$f":"VLOOKUP(B1091,'[1]002'!B:M,12,0)","v":"-"}]
[1090,"P306219092429","让直观想象展翅飞翔","初中组","新媒体新技术教学应用课例","二等奖",{"$f":"RIGHT(LEFT(VLOOKUP(B1092,'[1]002'!B:M,3,0),7),3)","v":"东莞市"},{"$f":"VLOOKUP(B1092,'[1]002'!B:M,7,0)","v":"陈晓辉"},{"$f":"VLOOKUP(B1092,'[1]002'!B:M,8,0)","v":"东莞市松山湖实验中学"},{"$f":"VLOOKUP(B1092,'[1]002'!B:M,11,0)","v":"梁锡林"},{"$f":"VLOOKUP(B1092,'[1]002'!B:M,12,0)","v":"东莞市松山湖实验中学"}]
[1091,"P306219089588","Festivals and celebrations","初中组","新媒体新技术教学应用课例","二等奖",{"$f":"RIGHT(LEFT(VLOOKUP(B1093,'[1]002'!B:M,3,0),7),3)","v":"中山市"},{"$f":"VLOOKUP(B1093,'[1]002'!B:M,7,0)","v":"谭雁群"},{"$f":"VLOOKUP(B1093,'[1]002'!B:M,8,0)","v":"中山市石岐中学"},{"$f":"VLOOKUP(B1093,'[1]002'!B:M,11,0)","v":"-"},{"$f":"VLOOKUP(B1093,'[1]002'!B:M,12,0)","v":"-"}]
[1092,"P306219088376","圆周角","初中组","新媒体新技术教学应用课例","二等奖",{"$f":"RIGHT(LEFT(VLOOKUP(B1094,'[1]002'!B:M,3,0),7),3)","v":"中山市"},{"$f":"VLOOKUP(B1094,'[1]002'!B:M,7,0)","v":"刘瑞祥"},{"$f":"VLOOKUP(B1094,'[1]002'!B:M,8,0)","v":"中山市北区中学"},{"$f":"VLOOKUP(B1094,'[1]002'!B:M,11,0)","v":"-"},{"$f":"VLOOKUP(B1094,'[1]002'!B:M,12,0)","v":"-"}]
[1093,"P306219088177","串、并联电路电流规律","初中组","新媒体新技术教学应用课例","二等奖",{"$f":"RIGHT(LEFT(VLOOKUP(B1095,'[1]002'!B:M,3,0),7),3)","v":"中山市"},{"$f":"VLOOKUP(B1095,'[1]002'!B:M,7,0)","v":"周志良"},{"$f":"VLOOKUP(B1095,'[1]002'!B:M,8,0)","v":"中山市实验中学"},{"$f":"VLOOKUP(B1095,'[1]002'!B:M,11,0)","v":"-"},{"$f":"VLOOKUP(B1095,'[1]002'!B:M,12,0)","v":"-"}]
[1094,"P306219088403","国家行政机关","初中组","新媒体新技术教学应用课例","二等奖",{"$f":"RIGHT(LEFT(VLOOKUP(B1096,'[1]002'!B:M,3,0),7),3)","v":"中山市"},{"$f":"VLOOKUP(B1096,'[1]002'!B:M,7,0)","v":"萧嘉铭"},{"$f":"VLOOKUP(B1096,'[1]002'!B:M,8,0)","v":"中山市石岐中学"},{"$f":"VLOOKUP(B1096,'[1]002'!B:M,11,0)","v":"-"},{"$f":"VLOOKUP(B1096,'[1]002'!B:M,12,0)","v":"-"}]
[1095,"P306219092036","一元一次方程的解法（复习）","初中组","新媒体新技术教学应用课例","二等奖",{"$f":"RIGHT(LEFT(VLOOKUP(B1097,'[1]002'!B:M,3,0),7),3)","v":"江门市"},{"$f":"VLOOKUP(B1097,'[1]002'!B:M,7,0)","v":"陈智勇"},{"$f":"VLOOKUP(B1097,'[1]002'!B:M,8,0)","v":"台山市新宁中学"},{"$f":"VLOOKUP(B1097,'[1]002'!B:M,11,0)","v":"-"},{"$f":"VLOOKUP(B1097,'[1]002'!B:M,12,0)","v":"-"}]
[1096,"P306219092964","摩擦力","初中组","新媒体新技术教学应用课例","二等奖",{"$f":"RIGHT(LEFT(VLOOKUP(B1098,'[1]002'!B:M,3,0),7),3)","v":"湛江市"},{"$f":"VLOOKUP(B1098,'[1]002'!B:M,7,0)","v":"高玲英"},{"$f":"VLOOKUP(B1098,'[1]002'!B:M,8,0)","v":"湛江一中培才学校"},{"$f":"VLOOKUP(B1098,'[1]002'!B:M,11,0)","v":"-"},{"$f":"VLOOKUP(B1098,'[1]002'!B:M,12,0)","v":"-"}]
[1097,"P306219092963","验证中和反应的发生","初中组","新媒体新技术教学应用课例","二等奖",{"$f":"RIGHT(LEFT(VLOOKUP(B1099,'[1]002'!B:M,3,0),7),3)","v":"湛江市"},{"$f":"VLOOKUP(B1099,'[1]002'!B:M,7,0)","v":"何萍"},{"$f":"VLOOKUP(B1099,'[1]002'!B:M,8,0)","v":"湛江市二中海东中学"},{"$f":"VLOOKUP(B1099,'[1]002'!B:M,11,0)","v":"-"},{"$f":"VLOOKUP(B1099,'[1]002'!B:M,12,0)","v":"-"}]
[1098,"P306219091375","课题1 常见的酸和碱——酸的化学性质","初中组","新媒体新技术教学应用课例","二等奖",{"$f":"RIGHT(LEFT(VLOOKUP(B1100,'[1]002'!B:M,3,0),7),3)","v":"茂名市"},{"$f":"VLOOKUP(B1100,'[1]002'!B:M,7,0)","v":"余晓云"},{"$f":"VLOOKUP(B1100,'[1]002'!B:M,8,0)","v":"茂名市龙岭学校"},{"$f":"VLOOKUP(B1100,'[1]002'!B:M,11,0)","v":"-"},{"$f":"VLOOKUP(B1100,'[1]002'!B:M,12,0)","v":"-"}]
[1099,"P303219093204","初中英语被动语态交互式课件","初中组","课件","三等奖","广州市",{"$f":"VLOOKUP(B1101,'[1]002'!B:M,7,0)","v":"谢全胜"},{"$f":"VLOOKUP(B1101,'[1]002'!B:M,8,0)","v":"广州市育才中学"},{"$f":"VLOOKUP(B1101,'[1]002'!B:M,11,0)","v":"-"},{"$f":"VLOOKUP(B1101,'[1]002'!B:M,12,0)","v":"-"}]
[1100,"P303219092759","二氧化碳和一氧化碳","初中组","课件","三等奖","深圳市",{"$f":"VLOOKUP(B1102,'[1]002'!B:M,7,0)","v":"黄  玲"},{"$f":"VLOOKUP(B1102,'[1]002'!B:M,8,0)","v":"深圳市南山区桃苑学校"},{"$f":"VLOOKUP(B1102,'[1]002'!B:M,11,0)","v":"-"},{"$f":"VLOOKUP(B1102,'[1]002'!B:M,12,0)","v":"-"}]
[1101,"P303219092756","集体生活邀请我","初中组","课件","三等奖","深圳市",{"$f":"VLOOKUP(B1103,'[1]002'!B:M,7,0)","v":"伍艺娜"},{"$f":"VLOOKUP(B1103,'[1]002'!B:M,8,0)","v":"深圳市龙岗区宝龙学校"},{"$f":"VLOOKUP(B1103,'[1]002'!B:M,11,0)","v":"-"},{"$f":"VLOOKUP(B1103,'[1]002'!B:M,12,0)","v":"-"}]
[1102,"P303219088799","用坐标表示地理位置","初中组","课件","三等奖","珠海市",{"$f":"VLOOKUP(B1104,'[1]002'!B:M,7,0)","v":"向乾华"},{"$f":"VLOOKUP(B1104,'[1]002'!B:M,8,0)","v":"珠海市第九中学"},{"$f":"VLOOKUP(B1104,'[1]002'!B:M,11,0)","v":"-"},{"$f":"VLOOKUP(B1104,'[1]002'!B:M,12,0)","v":"-"}]
[1103,"P303219090364","Pnonics Learning","初中组","课件","三等奖","珠海市",{"$f":"VLOOKUP(B1105,'[1]002'!B:M,7,0)","v":"徐小莹"},{"$f":"VLOOKUP(B1105,'[1]002'!B:M,8,0)","v":"珠海市第五中学"},{"$f":"VLOOKUP(B1105,'[1]002'!B:M,11,0)","v":"-"},{"$f":"VLOOKUP(B1105,'[1]002'!B:M,12,0)","v":"-"}]
[1104,"P303219087980","声音的特性","初中组","课件","三等奖","珠海市",{"$f":"VLOOKUP(B1106,'[1]002'!B:M,7,0)","v":"王薇"},{"$f":"VLOOKUP(B1106,'[1]002'!B:M,8,0)","v":"珠海市前山中学"},{"$f":"VLOOKUP(B1106,'[1]002'!B:M,11,0)","v":"-"},{"$f":"VLOOKUP(B1106,'[1]002'!B:M,12,0)","v":"-"}]
[1105,"P303219089246","金刚石石墨和C60","初中组","课件","三等奖","珠海市",{"$f":"VLOOKUP(B1107,'[1]002'!B:M,7,0)","v":"魏明红"},{"$f":"VLOOKUP(B1107,'[1]002'!B:M,8,0)","v":"珠海市第五中学"},{"$f":"VLOOKUP(B1107,'[1]002'!B:M,11,0)","v":"-"},{"$f":"VLOOKUP(B1107,'[1]002'!B:M,12,0)","v":"-"}]
[1106,"P303219089702","粤创乐美","初中组","课件","三等奖","珠海市",{"$f":"VLOOKUP(B1108,'[1]002'!B:M,7,0)","v":"李誉"},{"$f":"VLOOKUP(B1108,'[1]002'!B:M,8,0)","v":"珠海市第九中学"},{"$f":"VLOOKUP(B1108,'[1]002'!B:M,11,0)","v":"汤黎黎"},{"$f":"VLOOKUP(B1108,'[1]002'!B:M,12,0)","v":"珠海市第九中学"}]
[1107,"P303219089253","声音的特性","初中组","课件","三等奖","珠海市",{"$f":"VLOOKUP(B1109,'[1]002'!B:M,7,0)","v":"张银"},{"$f":"VLOOKUP(B1109,'[1]002'!B:M,8,0)","v":"珠海市前山中学"},{"$f":"VLOOKUP(B1109,'[1]002'!B:M,11,0)","v":"-"},{"$f":"VLOOKUP(B1109,'[1]002'!B:M,12,0)","v":"-"}]
[1108,"P303219090358","就英法联军远征中国致巴特勒上尉的信","初中组","课件","三等奖","珠海市",{"$f":"VLOOKUP(B1110,'[1]002'!B:M,7,0)","v":"刘娟娟"},{"$f":"VLOOKUP(B1110,'[1]002'!B:M,8,0)","v":"珠海市第五中学"},{"$f":"VLOOKUP(B1110,'[1]002'!B:M,11,0)","v":"-"},{"$f":"VLOOKUP(B1110,'[1]002'!B:M,12,0)","v":"-"}]
[1109,"P303219088211","电磁学作图复习","初中组","课件","三等奖","珠海市",{"$f":"VLOOKUP(B1111,'[1]002'!B:M,7,0)","v":"严剑辉"},{"$f":"VLOOKUP(B1111,'[1]002'!B:M,8,0)","v":"珠海市前山中学"},{"$f":"VLOOKUP(B1111,'[1]002'!B:M,11,0)","v":"-"},{"$f":"VLOOKUP(B1111,'[1]002'!B:M,12,0)","v":"-"}]
[1110,"P303219089226","记承天寺夜游","初中组","课件","三等奖","珠海市",{"$f":"VLOOKUP(B1112,'[1]002'!B:M,7,0)","v":"曾小娜"},{"$f":"VLOOKUP(B1112,'[1]002'!B:M,8,0)","v":"珠海市前山中学"},{"$f":"VLOOKUP(B1112,'[1]002'!B:M,11,0)","v":"-"},{"$f":"VLOOKUP(B1112,'[1]002'!B:M,12,0)","v":"-"}]
[1111,"P303219091909","Python画正多边形","初中组","课件","三等奖","汕头市",{"$f":"VLOOKUP(B1113,'[1]002'!B:M,7,0)","v":"萧雯琳"},{"$f":"VLOOKUP(B1113,'[1]002'!B:M,8,0)","v":"汕头市濠江区澳头学校"},{"$f":"VLOOKUP(B1113,'[1]002'!B:M,11,0)","v":"-"},{"$f":"VLOOKUP(B1113,'[1]002'!B:M,12,0)","v":"-"}]
[1112,"P303219091902","二元一次方程组","初中组","课件","三等奖","汕头市",{"$f":"VLOOKUP(B1114,'[1]002'!B:M,7,0)","v":"肖岱芸"},{"$f":"VLOOKUP(B1114,'[1]002'!B:M,8,0)","v":"汕头市澄海实验高级中学"},{"$f":"VLOOKUP(B1114,'[1]002'!B:M,11,0)","v":"庄彦玲"},{"$f":"VLOOKUP(B1114,'[1]002'!B:M,12,0)","v":"汕头市澄海实验高级中学"}]
[1113,"P303219091903","河中石兽","初中组","课件","三等奖","汕头市",{"$f":"VLOOKUP(B1115,'[1]002'!B:M,7,0)","v":"金晓瑾"},{"$f":"VLOOKUP(B1115,'[1]002'!B:M,8,0)","v":"汕头市澄海实验高级中学"},{"$f":"VLOOKUP(B1115,'[1]002'!B:M,11,0)","v":"潘瑞琪"},{"$f":"VLOOKUP(B1115,'[1]002'!B:M,12,0)","v":"汕头市澄海实验高级中学"}]
[1114,"P303219091904","Can you play the guitar?","初中组","课件","三等奖","汕头市",{"$f":"VLOOKUP(B1116,'[1]002'!B:M,7,0)","v":"林少煌"},{"$f":"VLOOKUP(B1116,'[1]002'!B:M,8,0)","v":"汕头市澄海实验高级中学"},{"$f":"VLOOKUP(B1116,'[1]002'!B:M,11,0)","v":"-"},{"$f":"VLOOKUP(B1116,'[1]002'!B:M,12,0)","v":"-"}]
[1115,"P303219091899","制作多媒体演示作品","初中组","课件","三等奖","汕头市",{"$f":"VLOOKUP(B1117,'[1]002'!B:M,7,0)","v":"罗莎"},{"$f":"VLOOKUP(B1117,'[1]002'!B:M,8,0)","v":"汕头市潮南区博雅实验学校"},{"$f":"VLOOKUP(B1117,'[1]002'!B:M,11,0)","v":"-"},{"$f":"VLOOKUP(B1117,'[1]002'!B:M,12,0)","v":"-"}]
[1116,"P303219091912","第二节 植株的生长","初中组","课件","三等奖","汕头市",{"$f":"VLOOKUP(B1118,'[1]002'!B:M,7,0)","v":"游秀清"},{"$f":"VLOOKUP(B1118,'[1]002'!B:M,8,0)","v":"汕头市玉新中学"},{"$f":"VLOOKUP(B1118,'[1]002'!B:M,11,0)","v":"-"},{"$f":"VLOOKUP(B1118,'[1]002'!B:M,12,0)","v":"-"}]
[1117,"P303219091906","钢铁长城","初中组","课件","三等奖","汕头市",{"$f":"VLOOKUP(B1119,'[1]002'!B:M,7,0)","v":"杨秋霞"},{"$f":"VLOOKUP(B1119,'[1]002'!B:M,8,0)","v":"汕头市达濠第三中学"},{"$f":"VLOOKUP(B1119,'[1]002'!B:M,11,0)","v":"-"},{"$f":"VLOOKUP(B1119,'[1]002'!B:M,12,0)","v":"-"}]
[1118,"P303219091072","C语言程序设计之if语句","初中组","课件","三等奖","佛山市",{"$f":"VLOOKUP(B1120,'[1]002'!B:M,7,0)","v":"邬弘"},{"$f":"VLOOKUP(B1120,'[1]002'!B:M,8,0)","v":"佛山市顺德区大良南江中学"},{"$f":"VLOOKUP(B1120,'[1]002'!B:M,11,0)","v":"肖镱膑"},{"$f":"VLOOKUP(B1120,'[1]002'!B:M,12,0)","v":"陆河外国语学校"}]
[1119,"P303219091073","分布式拒绝服务攻击","初中组","课件","三等奖","佛山市",{"$f":"VLOOKUP(B1121,'[1]002'!B:M,7,0)","v":"邬弘"},{"$f":"VLOOKUP(B1121,'[1]002'!B:M,8,0)","v":"佛山市顺德区大良南江中学"},{"$f":"VLOOKUP(B1121,'[1]002'!B:M,11,0)","v":"林秋圆"},{"$f":"VLOOKUP(B1121,'[1]002'!B:M,12,0)","v":"佛山市顺德区大良南江中学"}]
[1120,"P303219091052","电磁铁","初中组","课件","三等奖","佛山市",{"$f":"VLOOKUP(B1122,'[1]002'!B:M,7,0)","v":"翁观容"},{"$f":"VLOOKUP(B1122,'[1]002'!B:M,8,0)","v":"佛山市南海区桂城街道文翰中学"},{"$f":"VLOOKUP(B1122,'[1]002'!B:M,11,0)","v":"-"},{"$f":"VLOOKUP(B1122,'[1]002'!B:M,12,0)","v":"-"}]
[1121,"P303219091060","浮力","初中组","课件","三等奖","佛山市",{"$f":"VLOOKUP(B1123,'[1]002'!B:M,7,0)","v":"梁嘉乐"},{"$f":"VLOOKUP(B1123,'[1]002'!B:M,8,0)","v":"佛山市外国语学校"},{"$f":"VLOOKUP(B1123,'[1]002'!B:M,11,0)","v":"-"},{"$f":"VLOOKUP(B1123,'[1]002'!B:M,12,0)","v":"-"}]
[1122,"P303219091051","昆虫的生殖和发育","初中组","课件","三等奖","佛山市",{"$f":"VLOOKUP(B1124,'[1]002'!B:M,7,0)","v":"吴俏燕"},{"$f":"VLOOKUP(B1124,'[1]002'!B:M,8,0)","v":"佛山市南海石门实验中学"},{"$f":"VLOOKUP(B1124,'[1]002'!B:M,11,0)","v":"-"},{"$f":"VLOOKUP(B1124,'[1]002'!B:M,12,0)","v":"-"}]
[1123,"P303219091075","光学复习","初中组","课件","三等奖","佛山市",{"$f":"VLOOKUP(B1125,'[1]002'!B:M,7,0)","v":"林邦惜"},{"$f":"VLOOKUP(B1125,'[1]002'!B:M,8,0)","v":"佛山市顺德区均安建安初级中学"},{"$f":"VLOOKUP(B1125,'[1]002'!B:M,11,0)","v":"张丹颖"},{"$f":"VLOOKUP(B1125,'[1]002'!B:M,12,0)","v":"佛山市顺德区均安建安初级中学"}]
[1124,"P303219091047","外研版九年级上册Moudule4Unit1","初中组","课件","三等奖","佛山市",{"$f":"VLOOKUP(B1126,'[1]002'!B:M,7,0)","v":"孙婷婷"},{"$f":"VLOOKUP(B1126,'[1]002'!B:M,8,0)","v":"佛山市外国语学校"},{"$f":"VLOOKUP(B1126,'[1]002'!B:M,11,0)","v":"-"},{"$f":"VLOOKUP(B1126,'[1]002'!B:M,12,0)","v":"-"}]
[1125,"P303219091076","散步","初中组","课件","三等奖","佛山市",{"$f":"VLOOKUP(B1127,'[1]002'!B:M,7,0)","v":"黄碧婷"},{"$f":"VLOOKUP(B1127,'[1]002'!B:M,8,0)","v":"佛山市三水区西南中学"},{"$f":"VLOOKUP(B1127,'[1]002'!B:M,11,0)","v":"-"},{"$f":"VLOOKUP(B1127,'[1]002'!B:M,12,0)","v":"-"}]
[1126,"P303219091043","使用Excel函数制作比赛自动评分表","初中组","课件","三等奖","佛山市",{"$f":"VLOOKUP(B1128,'[1]002'!B:M,7,0)","v":"黄韶君"},{"$f":"VLOOKUP(B1128,'[1]002'!B:M,8,0)","v":"佛山市第十四中学"},{"$f":"VLOOKUP(B1128,'[1]002'!B:M,11,0)","v":"-"},{"$f":"VLOOKUP(B1128,'[1]002'!B:M,12,0)","v":"-"}]
[1127,"P303219091044","显微镜的结构和使用","初中组","课件","三等奖","佛山市",{"$f":"VLOOKUP(B1129,'[1]002'!B:M,7,0)","v":"康绮嫦"},{"$f":"VLOOKUP(B1129,'[1]002'!B:M,8,0)","v":"佛山市外国语学校"},{"$f":"VLOOKUP(B1129,'[1]002'!B:M,11,0)","v":"-"},{"$f":"VLOOKUP(B1129,'[1]002'!B:M,12,0)","v":"-"}]
[1128,"P303219091078","金刚石石墨C60","初中组","课件","三等奖","佛山市",{"$f":"VLOOKUP(B1130,'[1]002'!B:M,7,0)","v":"禤玉霞"},{"$f":"VLOOKUP(B1130,'[1]002'!B:M,8,0)","v":"佛山市三水区西南街道健力宝中学"},{"$f":"VLOOKUP(B1130,'[1]002'!B:M,11,0)","v":"-"},{"$f":"VLOOKUP(B1130,'[1]002'!B:M,12,0)","v":"-"}]
[1129,"P303219088697","Safety and first aid","初中组","课件","三等奖","韶关市",{"$f":"VLOOKUP(B1131,'[1]002'!B:M,7,0)","v":"郭成燕"},{"$f":"VLOOKUP(B1131,'[1]002'!B:M,8,0)","v":"韶关市第九中学"},{"$f":"VLOOKUP(B1131,'[1]002'!B:M,11,0)","v":"潘高峰"},{"$f":"VLOOKUP(B1131,'[1]002'!B:M,12,0)","v":"韶关市第九中学"}]
[1130,"P303219089000","爱莲说","初中组","课件","三等奖","韶关市",{"$f":"VLOOKUP(B1132,'[1]002'!B:M,7,0)","v":"刘璐"},{"$f":"VLOOKUP(B1132,'[1]002'!B:M,8,0)","v":"始兴县九龄中学"},{"$f":"VLOOKUP(B1132,'[1]002'!B:M,11,0)","v":"-"},{"$f":"VLOOKUP(B1132,'[1]002'!B:M,12,0)","v":"-"}]
[1131,"P303219089593","数据计算公式和函数","初中组","课件","三等奖","韶关市",{"$f":"VLOOKUP(B1133,'[1]002'!B:M,7,0)","v":"谭富盛"},{"$f":"VLOOKUP(B1133,'[1]002'!B:M,8,0)","v":"仁化县董塘中学"},{"$f":"VLOOKUP(B1133,'[1]002'!B:M,11,0)","v":"-"},{"$f":"VLOOKUP(B1133,'[1]002'!B:M,12,0)","v":"-"}]
[1132,"P303219088685","燃烧和灭火","初中组","课件","三等奖","韶关市",{"$f":"VLOOKUP(B1134,'[1]002'!B:M,7,0)","v":"黄夏"},{"$f":"VLOOKUP(B1134,'[1]002'!B:M,8,0)","v":"韶关市第九中学"},{"$f":"VLOOKUP(B1134,'[1]002'!B:M,11,0)","v":"潘高峰"},{"$f":"VLOOKUP(B1134,'[1]002'!B:M,12,0)","v":"韶关市第九中学"}]
[1133,"P303219088692","不等式的性质","初中组","课件","三等奖","韶关市",{"$f":"VLOOKUP(B1135,'[1]002'!B:M,7,0)","v":"李桂秀"},{"$f":"VLOOKUP(B1135,'[1]002'!B:M,8,0)","v":"始兴县九龄中学"},{"$f":"VLOOKUP(B1135,'[1]002'!B:M,11,0)","v":"-"},{"$f":"VLOOKUP(B1135,'[1]002'!B:M,12,0)","v":"-"}]
[1134,"P303219088998","马说","初中组","课件","三等奖","韶关市",{"$f":"VLOOKUP(B1136,'[1]002'!B:M,7,0)","v":"刘龙伟"},{"$f":"VLOOKUP(B1136,'[1]002'!B:M,8,0)","v":"始兴县逸夫小学"},{"$f":"VLOOKUP(B1136,'[1]002'!B:M,11,0)","v":"-"},{"$f":"VLOOKUP(B1136,'[1]002'!B:M,12,0)","v":"-"}]
[1135,"P303219088341","月食","初中组","课件","三等奖","韶关市",{"$f":"VLOOKUP(B1137,'[1]002'!B:M,7,0)","v":"李光星"},{"$f":"VLOOKUP(B1137,'[1]002'!B:M,8,0)","v":"仁化县实验学校"},{"$f":"VLOOKUP(B1137,'[1]002'!B:M,11,0)","v":"-"},{"$f":"VLOOKUP(B1137,'[1]002'!B:M,12,0)","v":"-"}]
[1136,"P303219089968","我与集体共成长","初中组","课件","三等奖","韶关市",{"$f":"VLOOKUP(B1138,'[1]002'!B:M,7,0)","v":"刘定东"},{"$f":"VLOOKUP(B1138,'[1]002'!B:M,8,0)","v":"仁化县周田中学"},{"$f":"VLOOKUP(B1138,'[1]002'!B:M,11,0)","v":"-"},{"$f":"VLOOKUP(B1138,'[1]002'!B:M,12,0)","v":"-"}]
[1137,"P303219093357","人教版九年级Unit13SectionA读写综合课","初中组","课件","三等奖","河源市",{"$f":"VLOOKUP(B1139,'[1]002'!B:M,7,0)","v":"刘妮艳"},{"$f":"VLOOKUP(B1139,'[1]002'!B:M,8,0)","v":"河源市第一中学"},{"$f":"VLOOKUP(B1139,'[1]002'!B:M,11,0)","v":"-"},{"$f":"VLOOKUP(B1139,'[1]002'!B:M,12,0)","v":"-"}]
[1138,"P303219093356","等边三角形的判定","初中组","课件","三等奖","河源市",{"$f":"VLOOKUP(B1140,'[1]002'!B:M,7,0)","v":"杨利红"},{"$f":"VLOOKUP(B1140,'[1]002'!B:M,8,0)","v":"河源市第一中学"},{"$f":"VLOOKUP(B1140,'[1]002'!B:M,11,0)","v":"-"},{"$f":"VLOOKUP(B1140,'[1]002'!B:M,12,0)","v":"-"}]
[1139,"P303219093362","人教版初中英语八年级下册Unit4SectionB第四课时","初中组","课件","三等奖","河源市",{"$f":"VLOOKUP(B1141,'[1]002'!B:M,7,0)","v":"黎  敏"},{"$f":"VLOOKUP(B1141,'[1]002'!B:M,8,0)","v":"河源市北大附属德爱国际学校"},{"$f":"VLOOKUP(B1141,'[1]002'!B:M,11,0)","v":"-"},{"$f":"VLOOKUP(B1141,'[1]002'!B:M,12,0)","v":"-"}]
[1140,"P303219093358","Unit7Howmucharethesesocks","初中组","课件","三等奖","河源市",{"$f":"VLOOKUP(B1142,'[1]002'!B:M,7,0)","v":"翟玉凤"},{"$f":"VLOOKUP(B1142,'[1]002'!B:M,8,0)","v":"河源市第二中学"},{"$f":"VLOOKUP(B1142,'[1]002'!B:M,11,0)","v":"-"},{"$f":"VLOOKUP(B1142,'[1]002'!B:M,12,0)","v":"-"}]
[1141,"P303219093361","人教新目标初中英语八年级下册Unit3SectionA第一课时","初中组","课件","三等奖","河源市",{"$f":"VLOOKUP(B1143,'[1]002'!B:M,7,0)","v":"张  琪"},{"$f":"VLOOKUP(B1143,'[1]002'!B:M,8,0)","v":"河源市北大附属德爱国际学校"},{"$f":"VLOOKUP(B1143,'[1]002'!B:M,11,0)","v":"-"},{"$f":"VLOOKUP(B1143,'[1]002'!B:M,12,0)","v":"-"}]
[1142,"P303219093348","Unit6Doyoulikebananas","初中组","课件","三等奖","河源市",{"$f":"VLOOKUP(B1144,'[1]002'!B:M,7,0)","v":"陈小燕"},{"$f":"VLOOKUP(B1144,'[1]002'!B:M,8,0)","v":"河源市第二中学"},{"$f":"VLOOKUP(B1144,'[1]002'!B:M,11,0)","v":"-"},{"$f":"VLOOKUP(B1144,'[1]002'!B:M,12,0)","v":"-"}]
[1143,"P303219093365","线段射线直线","初中组","课件","三等奖","河源市",{"$f":"VLOOKUP(B1145,'[1]002'!B:M,7,0)","v":"王柱暖"},{"$f":"VLOOKUP(B1145,'[1]002'!B:M,8,0)","v":"紫金县临江第二中学"},{"$f":"VLOOKUP(B1145,'[1]002'!B:M,11,0)","v":"-"},{"$f":"VLOOKUP(B1145,'[1]002'!B:M,12,0)","v":"-"}]
[1144,"P303219093343","元朝的建立及统治","初中组","课件","三等奖","河源市",{"$f":"VLOOKUP(B1146,'[1]002'!B:M,7,0)","v":"邱慧良"},{"$f":"VLOOKUP(B1146,'[1]002'!B:M,8,0)","v":"河源市第一中学"},{"$f":"VLOOKUP(B1146,'[1]002'!B:M,11,0)","v":"-"},{"$f":"VLOOKUP(B1146,'[1]002'!B:M,12,0)","v":"-"}]
[1145,"P303219093359","维护秩序","初中组","课件","三等奖","河源市",{"$f":"VLOOKUP(B1147,'[1]002'!B:M,7,0)","v":"何丽芳"},{"$f":"VLOOKUP(B1147,'[1]002'!B:M,8,0)","v":"东源县崇文学校"},{"$f":"VLOOKUP(B1147,'[1]002'!B:M,11,0)","v":"-"},{"$f":"VLOOKUP(B1147,'[1]002'!B:M,12,0)","v":"-"}]
[1146,"P303219093360","中考复习光学作图专题","初中组","课件","三等奖","河源市",{"$f":"VLOOKUP(B1148,'[1]002'!B:M,7,0)","v":"叶小林"},{"$f":"VLOOKUP(B1148,'[1]002'!B:M,8,0)","v":"河源市源城区宝源学校"},{"$f":"VLOOKUP(B1148,'[1]002'!B:M,11,0)","v":"-"},{"$f":"VLOOKUP(B1148,'[1]002'!B:M,12,0)","v":"-"}]
[1147,"P303219093366","元素","初中组","课件","三等奖","河源市",{"$f":"VLOOKUP(B1149,'[1]002'!B:M,7,0)","v":"叶智华"},{"$f":"VLOOKUP(B1149,'[1]002'!B:M,8,0)","v":"连平县第二初级中学"},{"$f":"VLOOKUP(B1149,'[1]002'!B:M,11,0)","v":"-"},{"$f":"VLOOKUP(B1149,'[1]002'!B:M,12,0)","v":"-"}]
[1148,"P303219093347","北宋的政治","初中组","课件","三等奖","河源市",{"$f":"VLOOKUP(B1150,'[1]002'!B:M,7,0)","v":"李敏娜"},{"$f":"VLOOKUP(B1150,'[1]002'!B:M,8,0)","v":"河源市第一中学"},{"$f":"VLOOKUP(B1150,'[1]002'!B:M,11,0)","v":"-"},{"$f":"VLOOKUP(B1150,'[1]002'!B:M,12,0)","v":"-"}]
[1149,"P303219093351","液体压强与流速关系课件","初中组","课件","三等奖","河源市",{"$f":"VLOOKUP(B1151,'[1]002'!B:M,7,0)","v":"黄宝国"},{"$f":"VLOOKUP(B1151,'[1]002'!B:M,8,0)","v":"东源县黄田中学"},{"$f":"VLOOKUP(B1151,'[1]002'!B:M,11,0)","v":"-"},{"$f":"VLOOKUP(B1151,'[1]002'!B:M,12,0)","v":"-"}]
[1150,"P303219093363","古诗苑漫步","初中组","课件","三等奖","河源市",{"$f":"VLOOKUP(B1152,'[1]002'!B:M,7,0)","v":"廖春红"},{"$f":"VLOOKUP(B1152,'[1]002'!B:M,8,0)","v":"河源市北大附属德爱国际学校"},{"$f":"VLOOKUP(B1152,'[1]002'!B:M,11,0)","v":"-"},{"$f":"VLOOKUP(B1152,'[1]002'!B:M,12,0)","v":"-"}]
[1151,"P303219087674","人教版八年级英语下 Unit 9  (Section B 2b Reading)","初中组","课件","三等奖","梅州市",{"$f":"VLOOKUP(B1153,'[1]002'!B:M,7,0)","v":"丘琴"},{"$f":"VLOOKUP(B1153,'[1]002'!B:M,8,0)","v":"广东梅县外国语学校"},{"$f":"VLOOKUP(B1153,'[1]002'!B:M,11,0)","v":"-"},{"$f":"VLOOKUP(B1153,'[1]002'!B:M,12,0)","v":"-"}]
[1152,"P303219092129","平行线的性质","初中组","课件","三等奖","惠州市",{"$f":"VLOOKUP(B1154,'[1]002'!B:M,7,0)","v":"马伟荣"},{"$f":"VLOOKUP(B1154,'[1]002'!B:M,8,0)","v":"博罗县龙溪第二中学"},{"$f":"VLOOKUP(B1154,'[1]002'!B:M,11,0)","v":"-"},{"$f":"VLOOKUP(B1154,'[1]002'!B:M,12,0)","v":"-"}]
[1153,"P303219092357","珠江三角洲自然环境","初中组","课件","三等奖","汕尾市",{"$f":"VLOOKUP(B1155,'[1]002'!B:M,7,0)","v":"林丽娜"},{"$f":"VLOOKUP(B1155,'[1]002'!B:M,8,0)","v":"汕尾市城区新城中学"},{"$f":"VLOOKUP(B1155,'[1]002'!B:M,11,0)","v":"-"},{"$f":"VLOOKUP(B1155,'[1]002'!B:M,12,0)","v":"-"}]
[1154,"P303219092358","探究分子的性质","初中组","课件","三等奖","汕尾市",{"$f":"VLOOKUP(B1156,'[1]002'!B:M,7,0)","v":"罗仿金"},{"$f":"VLOOKUP(B1156,'[1]002'!B:M,8,0)","v":"陆河县螺溪中学"},{"$f":"VLOOKUP(B1156,'[1]002'!B:M,11,0)","v":"-"},{"$f":"VLOOKUP(B1156,'[1]002'!B:M,12,0)","v":"-"}]
[1155,"P303219092495","不等式及其解集","初中组","课件","三等奖","东莞市",{"$f":"VLOOKUP(B1157,'[1]002'!B:M,7,0)","v":"付金娜"},{"$f":"VLOOKUP(B1157,'[1]002'!B:M,8,0)","v":"东莞市长安振安初级中学"},{"$f":"VLOOKUP(B1157,'[1]002'!B:M,11,0)","v":"彭小勇"},{"$f":"VLOOKUP(B1157,'[1]002'!B:M,12,0)","v":"东莞市长安振安初级中学"}]
[1156,"P303219088328","瓶子中有多少豆子","初中组","课件","三等奖","中山市",{"$f":"VLOOKUP(B1158,'[1]002'!B:M,7,0)","v":"李锋"},{"$f":"VLOOKUP(B1158,'[1]002'!B:M,8,0)","v":"中山市溪角初级中学"},{"$f":"VLOOKUP(B1158,'[1]002'!B:M,11,0)","v":"-"},{"$f":"VLOOKUP(B1158,'[1]002'!B:M,12,0)","v":"-"}]
[1157,"P303219088635","沂蒙山小调","初中组","课件","三等奖","中山市",{"$f":"VLOOKUP(B1159,'[1]002'!B:M,7,0)","v":"吴炘"},{"$f":"VLOOKUP(B1159,'[1]002'!B:M,8,0)","v":"中山市西区铁城初级中学"},{"$f":"VLOOKUP(B1159,'[1]002'!B:M,11,0)","v":"苏敏坚"},{"$f":"VLOOKUP(B1159,'[1]002'!B:M,12,0)","v":"中山市西区铁城初级中学"}]
[1158,"P303219088645","罗斯福新政","初中组","课件","三等奖","中山市",{"$f":"VLOOKUP(B1160,'[1]002'!B:M,7,0)","v":"刘瑞"},{"$f":"VLOOKUP(B1160,'[1]002'!B:M,8,0)","v":"中山市沙溪初级中学"},{"$f":"VLOOKUP(B1160,'[1]002'!B:M,11,0)","v":"吴宝颖"},{"$f":"VLOOKUP(B1160,'[1]002'!B:M,12,0)","v":"中山市沙溪初级中学"}]
[1159,"P303219091760","比心（输送血液的泵——心脏课件）","初中组","课件","三等奖","江门市",{"$f":"VLOOKUP(B1161,'[1]002'!B:M,7,0)","v":"苏绮雯"},{"$f":"VLOOKUP(B1161,'[1]002'!B:M,8,0)","v":"江门市广德实验学校"},{"$f":"VLOOKUP(B1161,'[1]002'!B:M,11,0)","v":"-"},{"$f":"VLOOKUP(B1161,'[1]002'!B:M,12,0)","v":"-"}]
[1160,"P303219092002","Flash逐帧动画","初中组","课件","三等奖","江门市",{"$f":"VLOOKUP(B1162,'[1]002'!B:M,7,0)","v":"周裕德"},{"$f":"VLOOKUP(B1162,'[1]002'!B:M,8,0)","v":"开平市东河中学"},{"$f":"VLOOKUP(B1162,'[1]002'!B:M,11,0)","v":"-"},{"$f":"VLOOKUP(B1162,'[1]002'!B:M,12,0)","v":"-"}]
[1161,"P303219091763","魅力图层让动画更精彩","初中组","课件","三等奖","江门市",{"$f":"VLOOKUP(B1163,'[1]002'!B:M,7,0)","v":"杨坤"},{"$f":"VLOOKUP(B1163,'[1]002'!B:M,8,0)","v":"江门市蓬江区杜阮镇楼山初级中学"},{"$f":"VLOOKUP(B1163,'[1]002'!B:M,11,0)","v":"彭雳娜"},{"$f":"VLOOKUP(B1163,'[1]002'!B:M,12,0)","v":"江门市陈白沙小学"}]
[1162,"P303219091822","沃尔塔瓦河","初中组","课件","三等奖","江门市",{"$f":"VLOOKUP(B1164,'[1]002'!B:M,7,0)","v":"袁晶"},{"$f":"VLOOKUP(B1164,'[1]002'!B:M,8,0)","v":"江海区外海中学"},{"$f":"VLOOKUP(B1164,'[1]002'!B:M,11,0)","v":"-"},{"$f":"VLOOKUP(B1164,'[1]002'!B:M,12,0)","v":"-"}]
[1163,"P303219091762","美化生活的肌理","初中组","课件","三等奖","江门市",{"$f":"VLOOKUP(B1165,'[1]002'!B:M,7,0)","v":"黄瑞爱"},{"$f":"VLOOKUP(B1165,'[1]002'!B:M,8,0)","v":"江门市蓬江区杜阮镇楼山初级中学"},{"$f":"VLOOKUP(B1165,'[1]002'!B:M,11,0)","v":"-"},{"$f":"VLOOKUP(B1165,'[1]002'!B:M,12,0)","v":"-"}]
[1164,"P303219092054","人体对外界环境的感知","初中组","课件","三等奖","江门市",{"$f":"VLOOKUP(B1166,'[1]002'!B:M,7,0)","v":"吴桂枝"},{"$f":"VLOOKUP(B1166,'[1]002'!B:M,8,0)","v":"鹤山市桃源中学"},{"$f":"VLOOKUP(B1166,'[1]002'!B:M,11,0)","v":"-"},{"$f":"VLOOKUP(B1166,'[1]002'!B:M,12,0)","v":"-"}]
[1165,"P303219092037","力","初中组","课件","三等奖","江门市",{"$f":"VLOOKUP(B1167,'[1]002'!B:M,7,0)","v":"吴剑云"},{"$f":"VLOOKUP(B1167,'[1]002'!B:M,8,0)","v":"台山市任远中学"},{"$f":"VLOOKUP(B1167,'[1]002'!B:M,11,0)","v":"-"},{"$f":"VLOOKUP(B1167,'[1]002'!B:M,12,0)","v":"-"}]
[1166,"P303219092951","轴对称","初中组","课件","三等奖","湛江市",{"$f":"VLOOKUP(B1168,'[1]002'!B:M,7,0)","v":"陈羽萍"},{"$f":"VLOOKUP(B1168,'[1]002'!B:M,8,0)","v":"湛江市初级实验中学"},{"$f":"VLOOKUP(B1168,'[1]002'!B:M,11,0)","v":"-"},{"$f":"VLOOKUP(B1168,'[1]002'!B:M,12,0)","v":"-"}]
[1167,"P303219092945","血液运输之血管","初中组","课件","三等奖","湛江市",{"$f":"VLOOKUP(B1169,'[1]002'!B:M,7,0)","v":"陈家清"},{"$f":"VLOOKUP(B1169,'[1]002'!B:M,8,0)","v":"湛江市第十七中学"},{"$f":"VLOOKUP(B1169,'[1]002'!B:M,11,0)","v":"-"},{"$f":"VLOOKUP(B1169,'[1]002'!B:M,12,0)","v":"-"}]
[1168,"P303219092946","人体细胞获得氧气的过程","初中组","课件","三等奖","湛江市",{"$f":"VLOOKUP(B1170,'[1]002'!B:M,7,0)","v":"陈家清"},{"$f":"VLOOKUP(B1170,'[1]002'!B:M,8,0)","v":"湛江市第十七中学"},{"$f":"VLOOKUP(B1170,'[1]002'!B:M,11,0)","v":"-"},{"$f":"VLOOKUP(B1170,'[1]002'!B:M,12,0)","v":"-"}]
[1169,"P303219092953","绪言/化学使世界变得更加绚丽多彩","初中组","课件","三等奖","湛江市",{"$f":"VLOOKUP(B1171,'[1]002'!B:M,7,0)","v":"李应育"},{"$f":"VLOOKUP(B1171,'[1]002'!B:M,8,0)","v":"岭南师范学院附属中学"},{"$f":"VLOOKUP(B1171,'[1]002'!B:M,11,0)","v":"-"},{"$f":"VLOOKUP(B1171,'[1]002'!B:M,12,0)","v":"-"}]
[1170,"P303219091365","平行四边形的性质","初中组","课件","三等奖","茂名市",{"$f":"VLOOKUP(B1172,'[1]002'!B:M,7,0)","v":"吴汉媚"},{"$f":"VLOOKUP(B1172,'[1]002'!B:M,8,0)","v":"茂名市博雅中学"},{"$f":"VLOOKUP(B1172,'[1]002'!B:M,11,0)","v":"-"},{"$f":"VLOOKUP(B1172,'[1]002'!B:M,12,0)","v":"-"}]
[1171,"P303219091544","乡愁","初中组","课件","三等奖","茂名市",{"$f":"VLOOKUP(B1173,'[1]002'!B:M,7,0)","v":"刘小霞"},{"$f":"VLOOKUP(B1173,'[1]002'!B:M,8,0)","v":"茂名市新世纪学校"},{"$f":"VLOOKUP(B1173,'[1]002'!B:M,11,0)","v":"-"},{"$f":"VLOOKUP(B1173,'[1]002'!B:M,12,0)","v":"-"}]
[1172,"P303219091440","八年级下册M3U1","初中组","课件","三等奖","茂名市",{"$f":"VLOOKUP(B1174,'[1]002'!B:M,7,0)","v":"戴敏思"},{"$f":"VLOOKUP(B1174,'[1]002'!B:M,8,0)","v":"茂名市行知中学"},{"$f":"VLOOKUP(B1174,'[1]002'!B:M,11,0)","v":"-"},{"$f":"VLOOKUP(B1174,'[1]002'!B:M,12,0)","v":"-"}]
[1173,"P303219091326","平均数","初中组","课件","三等奖","茂名市",{"$f":"VLOOKUP(B1175,'[1]002'!B:M,7,0)","v":"陈兴海"},{"$f":"VLOOKUP(B1175,'[1]002'!B:M,8,0)","v":"茂名市新世纪学校"},{"$f":"VLOOKUP(B1175,'[1]002'!B:M,11,0)","v":"-"},{"$f":"VLOOKUP(B1175,'[1]002'!B:M,12,0)","v":"-"}]
[1174,"P303219091438","广东省人口变化与城市发展","初中组","课件","三等奖","茂名市",{"$f":"VLOOKUP(B1176,'[1]002'!B:M,7,0)","v":"黄越"},{"$f":"VLOOKUP(B1176,'[1]002'!B:M,8,0)","v":"茂名市行知中学"},{"$f":"VLOOKUP(B1176,'[1]002'!B:M,11,0)","v":"-"},{"$f":"VLOOKUP(B1176,'[1]002'!B:M,12,0)","v":"-"}]
[1175,"P303219090223","香港回归","初中组","课件","三等奖","肇庆市",{"$f":"VLOOKUP(B1177,'[1]002'!B:M,7,0)","v":"黄静"},{"$f":"VLOOKUP(B1177,'[1]002'!B:M,8,0)","v":"肇庆市第五中学"},{"$f":"VLOOKUP(B1177,'[1]002'!B:M,11,0)","v":"-"},{"$f":"VLOOKUP(B1177,'[1]002'!B:M,12,0)","v":"-"}]
[1176,"P303219090224","从永磁体谈起","初中组","课件","三等奖","肇庆市",{"$f":"VLOOKUP(B1178,'[1]002'!B:M,7,0)","v":"陈军"},{"$f":"VLOOKUP(B1178,'[1]002'!B:M,8,0)","v":"肇庆市第五中学"},{"$f":"VLOOKUP(B1178,'[1]002'!B:M,11,0)","v":"-"},{"$f":"VLOOKUP(B1178,'[1]002'!B:M,12,0)","v":"-"}]
[1177,"P303219092224","人体的神经调节","初中组","课件","三等奖","肇庆市",{"$f":"VLOOKUP(B1179,'[1]002'!B:M,7,0)","v":"吴清连"},{"$f":"VLOOKUP(B1179,'[1]002'!B:M,8,0)","v":"封开县封川中学"},{"$f":"VLOOKUP(B1179,'[1]002'!B:M,11,0)","v":"-"},{"$f":"VLOOKUP(B1179,'[1]002'!B:M,12,0)","v":"-"}]
[1178,"P303219091626","仁爱版八年级下册Unit7Topic1SectionB教学课件","初中组","课件","三等奖","清远市",{"$f":"VLOOKUP(B1180,'[1]002'!B:M,7,0)","v":"江伟霞"},{"$f":"VLOOKUP(B1180,'[1]002'!B:M,8,0)","v":"清远市清城区松岗中学"},{"$f":"VLOOKUP(B1180,'[1]002'!B:M,11,0)","v":"-"},{"$f":"VLOOKUP(B1180,'[1]002'!B:M,12,0)","v":"-"}]
[1179,"P303219091605","仁爱版七年级英语下册Unit6Topic2SectionB","初中组","课件","三等奖","清远市",{"$f":"VLOOKUP(B1181,'[1]002'!B:M,7,0)","v":"钱美静"},{"$f":"VLOOKUP(B1181,'[1]002'!B:M,8,0)","v":"清新区禾云中学"},{"$f":"VLOOKUP(B1181,'[1]002'!B:M,11,0)","v":"-"},{"$f":"VLOOKUP(B1181,'[1]002'!B:M,12,0)","v":"-"}]
[1180,"P303219091595","二次函数的图象与性质","初中组","课件","三等奖","清远市",{"$f":"VLOOKUP(B1182,'[1]002'!B:M,7,0)","v":"徐贵玉"},{"$f":"VLOOKUP(B1182,'[1]002'!B:M,8,0)","v":"英德市英德中学"},{"$f":"VLOOKUP(B1182,'[1]002'!B:M,11,0)","v":"-"},{"$f":"VLOOKUP(B1182,'[1]002'!B:M,12,0)","v":"-"}]
[1181,"P303219086847","燃烧和灭火","初中组","课件","三等奖","潮州市",{"$f":"VLOOKUP(B1183,'[1]002'!B:M,7,0)","v":"苏培成"},{"$f":"VLOOKUP(B1183,'[1]002'!B:M,8,0)","v":"潮州市潮安区金石镇仙都初级中学"},{"$f":"VLOOKUP(B1183,'[1]002'!B:M,11,0)","v":"-"},{"$f":"VLOOKUP(B1183,'[1]002'!B:M,12,0)","v":"-"}]
[1182,"P303219079692","学校生活中考复习指导","初中组","课件","三等奖","云浮市",{"$f":"VLOOKUP(B1184,'[1]002'!B:M,7,0)","v":"黄宇明"},{"$f":"VLOOKUP(B1184,'[1]002'!B:M,8,0)","v":"罗定市廷锴纪念中学"},{"$f":"VLOOKUP(B1184,'[1]002'!B:M,11,0)","v":"-"},{"$f":"VLOOKUP(B1184,'[1]002'!B:M,12,0)","v":"-"}]
[1183,"P303219084389","Unit7Topic2SectionB","初中组","课件","三等奖","云浮市",{"$f":"VLOOKUP(B1185,'[1]002'!B:M,7,0)","v":"吴婉玲"},{"$f":"VLOOKUP(B1185,'[1]002'!B:M,8,0)","v":"新兴县六祖镇集成中学"},{"$f":"VLOOKUP(B1185,'[1]002'!B:M,11,0)","v":"-"},{"$f":"VLOOKUP(B1185,'[1]002'!B:M,12,0)","v":"-"}]
[1184,"P305219093236","文章不厌百回改一一记叙文的修改润色","初中组","微课","三等奖","广州市",{"$f":"VLOOKUP(B1186,'[1]002'!B:M,7,0)","v":"卢灼杭"},{"$f":"VLOOKUP(B1186,'[1]002'!B:M,8,0)","v":"广州市白云区平沙培英学校"},{"$f":"VLOOKUP(B1186,'[1]002'!B:M,11,0)","v":"-"},{"$f":"VLOOKUP(B1186,'[1]002'!B:M,12,0)","v":"-"}]
[1185,"P305219093234","读书方法之圈点批注法指导","初中组","微课","三等奖","广州市",{"$f":"VLOOKUP(B1187,'[1]002'!B:M,7,0)","v":"阳玉莹"},{"$f":"VLOOKUP(B1187,'[1]002'!B:M,8,0)","v":"广州市第十六中学"},{"$f":"VLOOKUP(B1187,'[1]002'!B:M,11,0)","v":"-"},{"$f":"VLOOKUP(B1187,'[1]002'!B:M,12,0)","v":"-"}]
[1186,"P305219092692","英语书面表达提升策略","初中组","微课","三等奖","深圳市",{"$f":"VLOOKUP(B1188,'[1]002'!B:M,7,0)","v":"阮敏凤"},{"$f":"VLOOKUP(B1188,'[1]002'!B:M,8,0)","v":"深圳市大鹏新区葵涌中学"},{"$f":"VLOOKUP(B1188,'[1]002'!B:M,11,0)","v":"-"},{"$f":"VLOOKUP(B1188,'[1]002'!B:M,12,0)","v":"-"}]
[1187,"P305219090294","有人落水救还是不救","初中组","微课","三等奖","珠海市",{"$f":"VLOOKUP(B1189,'[1]002'!B:M,7,0)","v":"曾晓琴"},{"$f":"VLOOKUP(B1189,'[1]002'!B:M,8,0)","v":"珠海市紫荆中学"},{"$f":"VLOOKUP(B1189,'[1]002'!B:M,11,0)","v":"-"},{"$f":"VLOOKUP(B1189,'[1]002'!B:M,12,0)","v":"-"}]
[1188,"P305219088664","物质变化的基本类型","初中组","微课","三等奖","珠海市",{"$f":"VLOOKUP(B1190,'[1]002'!B:M,7,0)","v":"谢思"},{"$f":"VLOOKUP(B1190,'[1]002'!B:M,8,0)","v":"珠海市前山中学"},{"$f":"VLOOKUP(B1190,'[1]002'!B:M,11,0)","v":"-"},{"$f":"VLOOKUP(B1190,'[1]002'!B:M,12,0)","v":"-"}]
[1189,"P305219091897","竹里馆","初中组","微课","三等奖","汕头市",{"$f":"VLOOKUP(B1191,'[1]002'!B:M,7,0)","v":"赖丽玲"},{"$f":"VLOOKUP(B1191,'[1]002'!B:M,8,0)","v":"汕头市玉新中学"},{"$f":"VLOOKUP(B1191,'[1]002'!B:M,11,0)","v":"-"},{"$f":"VLOOKUP(B1191,'[1]002'!B:M,12,0)","v":"-"}]
[1190,"P305219091881","探究流体压强与流速的关系","初中组","微课","三等奖","汕头市",{"$f":"VLOOKUP(B1192,'[1]002'!B:M,7,0)","v":"刘芝航"},{"$f":"VLOOKUP(B1192,'[1]002'!B:M,8,0)","v":"汕头市谢易初中学"},{"$f":"VLOOKUP(B1192,'[1]002'!B:M,11,0)","v":"-"},{"$f":"VLOOKUP(B1192,'[1]002'!B:M,12,0)","v":"-"}]
[1191,"P305219091883","修辞手法之比喻","初中组","微课","三等奖","汕头市",{"$f":"VLOOKUP(B1193,'[1]002'!B:M,7,0)","v":"杨鸿东"},{"$f":"VLOOKUP(B1193,'[1]002'!B:M,8,0)","v":"汕头市广澳学校"},{"$f":"VLOOKUP(B1193,'[1]002'!B:M,11,0)","v":"-"},{"$f":"VLOOKUP(B1193,'[1]002'!B:M,12,0)","v":"-"}]
[1192,"P305219091882","测量铝块的密度","初中组","微课","三等奖","汕头市",{"$f":"VLOOKUP(B1194,'[1]002'!B:M,7,0)","v":"刘芝航"},{"$f":"VLOOKUP(B1194,'[1]002'!B:M,8,0)","v":"汕头市谢易初中学"},{"$f":"VLOOKUP(B1194,'[1]002'!B:M,11,0)","v":"-"},{"$f":"VLOOKUP(B1194,'[1]002'!B:M,12,0)","v":"-"}]
[1193,"P305219091896","让证明动起来--勾股定理的六种证明方法演示","初中组","微课","三等奖","汕头市",{"$f":"VLOOKUP(B1195,'[1]002'!B:M,7,0)","v":"林青"},{"$f":"VLOOKUP(B1195,'[1]002'!B:M,8,0)","v":"汕头金山中学南区学校"},{"$f":"VLOOKUP(B1195,'[1]002'!B:M,11,0)","v":"-"},{"$f":"VLOOKUP(B1195,'[1]002'!B:M,12,0)","v":"-"}]
[1194,"P305219091000","阿基米德原理之死海不死的秘密","初中组","微课","三等奖","佛山市",{"$f":"VLOOKUP(B1196,'[1]002'!B:M,7,0)","v":"陈春颖"},{"$f":"VLOOKUP(B1196,'[1]002'!B:M,8,0)","v":"佛山市顺德区均安镇文田初级中学"},{"$f":"VLOOKUP(B1196,'[1]002'!B:M,11,0)","v":"-"},{"$f":"VLOOKUP(B1196,'[1]002'!B:M,12,0)","v":"-"}]
[1195,"P305219090986","亲社会行为","初中组","微课","三等奖","佛山市",{"$f":"VLOOKUP(B1197,'[1]002'!B:M,7,0)","v":"潘燕芳"},{"$f":"VLOOKUP(B1197,'[1]002'!B:M,8,0)","v":"佛山市南海区西樵镇樵北初级中学"},{"$f":"VLOOKUP(B1197,'[1]002'!B:M,11,0)","v":"-"},{"$f":"VLOOKUP(B1197,'[1]002'!B:M,12,0)","v":"-"}]
[1196,"P305219090983","外研版七年级下册第四模块写作指导课","初中组","微课","三等奖","佛山市",{"$f":"VLOOKUP(B1198,'[1]002'!B:M,7,0)","v":"郑主均"},{"$f":"VLOOKUP(B1198,'[1]002'!B:M,8,0)","v":"佛山市南海区丹灶镇金沙中学"},{"$f":"VLOOKUP(B1198,'[1]002'!B:M,11,0)","v":"-"},{"$f":"VLOOKUP(B1198,'[1]002'!B:M,12,0)","v":"-"}]
[1197,"P305219090998","璀璨星空","初中组","微课","三等奖","佛山市",{"$f":"VLOOKUP(B1199,'[1]002'!B:M,7,0)","v":"张惠姗"},{"$f":"VLOOKUP(B1199,'[1]002'!B:M,8,0)","v":"佛山市顺德区容桂四基初级中学"},{"$f":"VLOOKUP(B1199,'[1]002'!B:M,11,0)","v":"-"},{"$f":"VLOOKUP(B1199,'[1]002'!B:M,12,0)","v":"-"}]
[1198,"P305219090984","光的反射","初中组","微课","三等奖","佛山市",{"$f":"VLOOKUP(B1200,'[1]002'!B:M,7,0)","v":"翁观容"},{"$f":"VLOOKUP(B1200,'[1]002'!B:M,8,0)","v":"佛山市南海区桂城街道文翰中学"},{"$f":"VLOOKUP(B1200,'[1]002'!B:M,11,0)","v":"-"},{"$f":"VLOOKUP(B1200,'[1]002'!B:M,12,0)","v":"-"}]
[1199,"P305219090987","大气压强","初中组","微课","三等奖","佛山市",{"$f":"VLOOKUP(B1201,'[1]002'!B:M,7,0)","v":"吴春梅"},{"$f":"VLOOKUP(B1201,'[1]002'!B:M,8,0)","v":"佛山市南海区里水镇和顺第一初级中学"},{"$f":"VLOOKUP(B1201,'[1]002'!B:M,11,0)","v":"-"},{"$f":"VLOOKUP(B1201,'[1]002'!B:M,12,0)","v":"-"}]
[1200,"P305219090997","二进制与十六进制之间的转换","初中组","微课","三等奖","佛山市",{"$f":"VLOOKUP(B1202,'[1]002'!B:M,7,0)","v":"张惠姗"},{"$f":"VLOOKUP(B1202,'[1]002'!B:M,8,0)","v":"佛山市顺德区容桂四基初级中学"},{"$f":"VLOOKUP(B1202,'[1]002'!B:M,11,0)","v":"-"},{"$f":"VLOOKUP(B1202,'[1]002'!B:M,12,0)","v":"-"}]
[1201,"P305219090999","Excel之Vlookup查找函数","初中组","微课","三等奖","佛山市",{"$f":"VLOOKUP(B1203,'[1]002'!B:M,7,0)","v":"李贵庭"},{"$f":"VLOOKUP(B1203,'[1]002'!B:M,8,0)","v":"佛山市顺德区梁开初级中学"},{"$f":"VLOOKUP(B1203,'[1]002'!B:M,11,0)","v":"-"},{"$f":"VLOOKUP(B1203,'[1]002'!B:M,12,0)","v":"-"}]
[1202,"P305219090990","问路与指路","初中组","微课","三等奖","佛山市",{"$f":"VLOOKUP(B1204,'[1]002'!B:M,7,0)","v":"苏佩玲"},{"$f":"VLOOKUP(B1204,'[1]002'!B:M,8,0)","v":"佛山市南海区九江镇初级中学"},{"$f":"VLOOKUP(B1204,'[1]002'!B:M,11,0)","v":"-"},{"$f":"VLOOKUP(B1204,'[1]002'!B:M,12,0)","v":"-"}]
[1203,"P305219090981","制作倒计时动画","初中组","微课","三等奖","佛山市",{"$f":"VLOOKUP(B1205,'[1]002'!B:M,7,0)","v":"黄韶君"},{"$f":"VLOOKUP(B1205,'[1]002'!B:M,8,0)","v":"佛山市第十四中学"},{"$f":"VLOOKUP(B1205,'[1]002'!B:M,11,0)","v":"-"},{"$f":"VLOOKUP(B1205,'[1]002'!B:M,12,0)","v":"-"}]
[1204,"P305219090996","小明哪去了等高线地形图判读","初中组","微课","三等奖","佛山市",{"$f":"VLOOKUP(B1206,'[1]002'!B:M,7,0)","v":"赖丽容"},{"$f":"VLOOKUP(B1206,'[1]002'!B:M,8,0)","v":"佛山市顺德区乐从沙滘初级中学"},{"$f":"VLOOKUP(B1206,'[1]002'!B:M,11,0)","v":"-"},{"$f":"VLOOKUP(B1206,'[1]002'!B:M,12,0)","v":"-"}]
[1205,"P305219090976","DIY手工陶艺小花盆","初中组","微课","三等奖","佛山市",{"$f":"VLOOKUP(B1207,'[1]002'!B:M,7,0)","v":"罗欢喜"},{"$f":"VLOOKUP(B1207,'[1]002'!B:M,8,0)","v":"佛山市汾江中学"},{"$f":"VLOOKUP(B1207,'[1]002'!B:M,11,0)","v":"-"},{"$f":"VLOOKUP(B1207,'[1]002'!B:M,12,0)","v":"-"}]
[1206,"P305219091003","情绪ABC理论","初中组","微课","三等奖","佛山市",{"$f":"VLOOKUP(B1208,'[1]002'!B:M,7,0)","v":"陈露"},{"$f":"VLOOKUP(B1208,'[1]002'!B:M,8,0)","v":"佛山市顺德区梁开初级中学"},{"$f":"VLOOKUP(B1208,'[1]002'!B:M,11,0)","v":"-"},{"$f":"VLOOKUP(B1208,'[1]002'!B:M,12,0)","v":"-"}]
[1207,"P305219090994","分式的乘除法","初中组","微课","三等奖","佛山市",{"$f":"VLOOKUP(B1209,'[1]002'!B:M,7,0)","v":"刘焕贞"},{"$f":"VLOOKUP(B1209,'[1]002'!B:M,8,0)","v":"佛山市禅城区张槎中学"},{"$f":"VLOOKUP(B1209,'[1]002'!B:M,11,0)","v":"-"},{"$f":"VLOOKUP(B1209,'[1]002'!B:M,12,0)","v":"-"}]
[1208,"P305219090973","利用控制变量法探究燃烧的条件","初中组","微课","三等奖","佛山市",{"$f":"VLOOKUP(B1210,'[1]002'!B:M,7,0)","v":"廖文凤"},{"$f":"VLOOKUP(B1210,'[1]002'!B:M,8,0)","v":"佛山市高明区荷城街道荷城中学"},{"$f":"VLOOKUP(B1210,'[1]002'!B:M,11,0)","v":"-"},{"$f":"VLOOKUP(B1210,'[1]002'!B:M,12,0)","v":"-"}]
[1209,"P305219090995","八年级数学微课探索勾股定理","初中组","微课","三等奖","佛山市",{"$f":"VLOOKUP(B1211,'[1]002'!B:M,7,0)","v":"黄金雄"},{"$f":"VLOOKUP(B1211,'[1]002'!B:M,8,0)","v":"佛山市顺德区乐从沙滘初级中学"},{"$f":"VLOOKUP(B1211,'[1]002'!B:M,11,0)","v":"-"},{"$f":"VLOOKUP(B1211,'[1]002'!B:M,12,0)","v":"-"}]
[1210,"P305219089911","SUMIF函数格式二的具体用法","初中组","微课","三等奖","韶关市",{"$f":"VLOOKUP(B1212,'[1]002'!B:M,7,0)","v":"石彩云"},{"$f":"VLOOKUP(B1212,'[1]002'!B:M,8,0)","v":"韶关市曲江区罗坑学校"},{"$f":"VLOOKUP(B1212,'[1]002'!B:M,11,0)","v":"-"},{"$f":"VLOOKUP(B1212,'[1]002'!B:M,12,0)","v":"-"}]
[1211,"P305219090207","质量守恒定律","初中组","微课","三等奖","韶关市",{"$f":"VLOOKUP(B1213,'[1]002'!B:M,7,0)","v":"范梦珍"},{"$f":"VLOOKUP(B1213,'[1]002'!B:M,8,0)","v":"韶关市曲江初级中学"},{"$f":"VLOOKUP(B1213,'[1]002'!B:M,11,0)","v":"-"},{"$f":"VLOOKUP(B1213,'[1]002'!B:M,12,0)","v":"-"}]
[1212,"P305219087343","人称代词与物主代词","初中组","微课","三等奖","韶关市",{"$f":"VLOOKUP(B1214,'[1]002'!B:M,7,0)","v":"张靖岚"},{"$f":"VLOOKUP(B1214,'[1]002'!B:M,8,0)","v":"韶关市武江区龙归中学"},{"$f":"VLOOKUP(B1214,'[1]002'!B:M,11,0)","v":"潘高峰"},{"$f":"VLOOKUP(B1214,'[1]002'!B:M,12,0)","v":"韶关市第九中学"}]
[1213,"P305219090507","心脏的结构","初中组","微课","三等奖","韶关市",{"$f":"VLOOKUP(B1215,'[1]002'!B:M,7,0)","v":"叶月梅"},{"$f":"VLOOKUP(B1215,'[1]002'!B:M,8,0)","v":"韶关市曲江初级中学"},{"$f":"VLOOKUP(B1215,'[1]002'!B:M,11,0)","v":"-"},{"$f":"VLOOKUP(B1215,'[1]002'!B:M,12,0)","v":"-"}]
[1214,"P305219088425","溶液的形成","初中组","微课","三等奖","韶关市",{"$f":"VLOOKUP(B1216,'[1]002'!B:M,7,0)","v":"邱耀华"},{"$f":"VLOOKUP(B1216,'[1]002'!B:M,8,0)","v":"始兴县墨江中学"},{"$f":"VLOOKUP(B1216,'[1]002'!B:M,11,0)","v":"-"},{"$f":"VLOOKUP(B1216,'[1]002'!B:M,12,0)","v":"-"}]
[1215,"P305219087969","微课：绝对值","初中组","微课","三等奖","韶关市",{"$f":"VLOOKUP(B1217,'[1]002'!B:M,7,0)","v":"钟艳琴"},{"$f":"VLOOKUP(B1217,'[1]002'!B:M,8,0)","v":"韶关市第十四中学"},{"$f":"VLOOKUP(B1217,'[1]002'!B:M,11,0)","v":"-"},{"$f":"VLOOKUP(B1217,'[1]002'!B:M,12,0)","v":"-"}]
[1216,"P305219093382","VLOOKUP与HLOOKUP函数","初中组","微课","三等奖","河源市",{"$f":"VLOOKUP(B1218,'[1]002'!B:M,7,0)","v":"罗端娥"},{"$f":"VLOOKUP(B1218,'[1]002'!B:M,8,0)","v":"河源市第一中学"},{"$f":"VLOOKUP(B1218,'[1]002'!B:M,11,0)","v":"-"},{"$f":"VLOOKUP(B1218,'[1]002'!B:M,12,0)","v":"-"}]
[1217,"P305219093388","小火箭3D建模教学","初中组","微课","三等奖","河源市",{"$f":"VLOOKUP(B1219,'[1]002'!B:M,7,0)","v":"韩旭"},{"$f":"VLOOKUP(B1219,'[1]002'!B:M,8,0)","v":"河源市北大附属德爱国际学校"},{"$f":"VLOOKUP(B1219,'[1]002'!B:M,11,0)","v":"-"},{"$f":"VLOOKUP(B1219,'[1]002'!B:M,12,0)","v":"-"}]
[1218,"P305219093381","三角形的中线","初中组","微课","三等奖","河源市",{"$f":"VLOOKUP(B1220,'[1]002'!B:M,7,0)","v":"谢小丽"},{"$f":"VLOOKUP(B1220,'[1]002'!B:M,8,0)","v":"连平县绣缎中学"},{"$f":"VLOOKUP(B1220,'[1]002'!B:M,11,0)","v":"-"},{"$f":"VLOOKUP(B1220,'[1]002'!B:M,12,0)","v":"-"}]
[1219,"P305219093386","洋务运动的评价","初中组","微课","三等奖","河源市",{"$f":"VLOOKUP(B1221,'[1]002'!B:M,7,0)","v":"李淑玲"},{"$f":"VLOOKUP(B1221,'[1]002'!B:M,8,0)","v":"东源县崇文学校"},{"$f":"VLOOKUP(B1221,'[1]002'!B:M,11,0)","v":"江龙"},{"$f":"VLOOKUP(B1221,'[1]002'!B:M,12,0)","v":"东源县崇文学校"}]
[1220,"P305219080379","多情自古伤离别之谈古诗词送别意象","初中组","微课","三等奖","梅州市",{"$f":"VLOOKUP(B1222,'[1]002'!B:M,7,0)","v":"钟兰梅"},{"$f":"VLOOKUP(B1222,'[1]002'!B:M,8,0)","v":"梅州市学艺中学"},{"$f":"VLOOKUP(B1222,'[1]002'!B:M,11,0)","v":"-"},{"$f":"VLOOKUP(B1222,'[1]002'!B:M,12,0)","v":"-"}]
[1221,"P305219092127","滑动变阻器","初中组","微课","三等奖","惠州市",{"$f":"VLOOKUP(B1223,'[1]002'!B:M,7,0)","v":"叶盛枝"},{"$f":"VLOOKUP(B1223,'[1]002'!B:M,8,0)","v":"博罗县园洲中学"},{"$f":"VLOOKUP(B1223,'[1]002'!B:M,11,0)","v":"-"},{"$f":"VLOOKUP(B1223,'[1]002'!B:M,12,0)","v":"-"}]
[1222,"P305219092125","家庭电路","初中组","微课","三等奖","惠州市",{"$f":"VLOOKUP(B1224,'[1]002'!B:M,7,0)","v":"梁毅胜"},{"$f":"VLOOKUP(B1224,'[1]002'!B:M,8,0)","v":"博罗县园洲中学"},{"$f":"VLOOKUP(B1224,'[1]002'!B:M,11,0)","v":"-"},{"$f":"VLOOKUP(B1224,'[1]002'!B:M,12,0)","v":"-"}]
[1223,"P305219092237","七年级下册信息高效课堂总复习","初中组","微课","三等奖","惠州市",{"$f":"VLOOKUP(B1225,'[1]002'!B:M,7,0)","v":"刘范广"},{"$f":"VLOOKUP(B1225,'[1]002'!B:M,8,0)","v":"惠州市光正实验学校"},{"$f":"VLOOKUP(B1225,'[1]002'!B:M,11,0)","v":"-"},{"$f":"VLOOKUP(B1225,'[1]002'!B:M,12,0)","v":"-"}]
[1224,"P305219092238","表格的设计与制作","初中组","微课","三等奖","惠州市",{"$f":"VLOOKUP(B1226,'[1]002'!B:M,7,0)","v":"王志云"},{"$f":"VLOOKUP(B1226,'[1]002'!B:M,8,0)","v":"惠州市光正实验学校"},{"$f":"VLOOKUP(B1226,'[1]002'!B:M,11,0)","v":"-"},{"$f":"VLOOKUP(B1226,'[1]002'!B:M,12,0)","v":"-"}]
[1225,"P305219092382","化学方程式的配平方法最小公倍数法","初中组","微课","三等奖","汕尾市",{"$f":"VLOOKUP(B1227,'[1]002'!B:M,7,0)","v":"翁映芬"},{"$f":"VLOOKUP(B1227,'[1]002'!B:M,8,0)","v":"陆河县螺溪中学"},{"$f":"VLOOKUP(B1227,'[1]002'!B:M,11,0)","v":"-"},{"$f":"VLOOKUP(B1227,'[1]002'!B:M,12,0)","v":"-"}]
[1226,"P305219088640","摩擦力","初中组","微课","三等奖","中山市",{"$f":"VLOOKUP(B1228,'[1]002'!B:M,7,0)","v":"万来和"},{"$f":"VLOOKUP(B1228,'[1]002'!B:M,8,0)","v":"中山市石岐中学"},{"$f":"VLOOKUP(B1228,'[1]002'!B:M,11,0)","v":"-"},{"$f":"VLOOKUP(B1228,'[1]002'!B:M,12,0)","v":"-"}]
[1227,"P305219088872","图层的概念和应用","初中组","微课","三等奖","中山市",{"$f":"VLOOKUP(B1229,'[1]002'!B:M,7,0)","v":"王怡涵"},{"$f":"VLOOKUP(B1229,'[1]002'!B:M,8,0)","v":"中山市坦洲实验中学"},{"$f":"VLOOKUP(B1229,'[1]002'!B:M,11,0)","v":"李思静"},{"$f":"VLOOKUP(B1229,'[1]002'!B:M,12,0)","v":"中山市坦洲中学"}]
[1228,"P305219088657","观察叶片的结构","初中组","微课","三等奖","中山市",{"$f":"VLOOKUP(B1230,'[1]002'!B:M,7,0)","v":"梁朝文"},{"$f":"VLOOKUP(B1230,'[1]002'!B:M,8,0)","v":"中山市西区铁城初级中学"},{"$f":"VLOOKUP(B1230,'[1]002'!B:M,11,0)","v":"苏敏坚"},{"$f":"VLOOKUP(B1230,'[1]002'!B:M,12,0)","v":"中山市西区铁城初级中学"}]
[1229,"P305219088275","程序的循环结构","初中组","微课","三等奖","中山市",{"$f":"VLOOKUP(B1231,'[1]002'!B:M,7,0)","v":"方琴"},{"$f":"VLOOKUP(B1231,'[1]002'!B:M,8,0)","v":"中山市北区中学"},{"$f":"VLOOKUP(B1231,'[1]002'!B:M,11,0)","v":"-"},{"$f":"VLOOKUP(B1231,'[1]002'!B:M,12,0)","v":"-"}]
[1230,"P305219090124","赏析孔乙己形象之矛盾性","初中组","微课","三等奖","中山市",{"$f":"VLOOKUP(B1232,'[1]002'!B:M,7,0)","v":"李松龄"},{"$f":"VLOOKUP(B1232,'[1]002'!B:M,8,0)","v":"中山市沙溪初级中学"},{"$f":"VLOOKUP(B1232,'[1]002'!B:M,11,0)","v":"-"},{"$f":"VLOOKUP(B1232,'[1]002'!B:M,12,0)","v":"-"}]
[1231,"P305219091819","形容词的比较级与最高级","初中组","微课","三等奖","江门市",{"$f":"VLOOKUP(B1233,'[1]002'!B:M,7,0)","v":"陈妙玲"},{"$f":"VLOOKUP(B1233,'[1]002'!B:M,8,0)","v":"江海区外海中学"},{"$f":"VLOOKUP(B1233,'[1]002'!B:M,11,0)","v":"-"},{"$f":"VLOOKUP(B1233,'[1]002'!B:M,12,0)","v":"-"}]
[1232,"P305219092072","How的感叹句","初中组","微课","三等奖","江门市",{"$f":"VLOOKUP(B1234,'[1]002'!B:M,7,0)","v":"胡锦清"},{"$f":"VLOOKUP(B1234,'[1]002'!B:M,8,0)","v":"江门市新会区沙堆镇梅阁学校"},{"$f":"VLOOKUP(B1234,'[1]002'!B:M,11,0)","v":"-"},{"$f":"VLOOKUP(B1234,'[1]002'!B:M,12,0)","v":"-"}]
[1233,"P305219092051","天气的表达","初中组","微课","三等奖","江门市",{"$f":"VLOOKUP(B1235,'[1]002'!B:M,7,0)","v":"罗丹"},{"$f":"VLOOKUP(B1235,'[1]002'!B:M,8,0)","v":"鹤山市桃源中学"},{"$f":"VLOOKUP(B1235,'[1]002'!B:M,11,0)","v":"-"},{"$f":"VLOOKUP(B1235,'[1]002'!B:M,12,0)","v":"-"}]
[1234,"P305219092073","质量守恒定律","初中组","微课","三等奖","江门市",{"$f":"VLOOKUP(B1236,'[1]002'!B:M,7,0)","v":"陈国荣"},{"$f":"VLOOKUP(B1236,'[1]002'!B:M,8,0)","v":"江门市新会区沙堆镇沙西初级中学"},{"$f":"VLOOKUP(B1236,'[1]002'!B:M,11,0)","v":"-"},{"$f":"VLOOKUP(B1236,'[1]002'!B:M,12,0)","v":"-"}]
[1235,"P305219092006","制作逐帧动画","初中组","微课","三等奖","江门市",{"$f":"VLOOKUP(B1237,'[1]002'!B:M,7,0)","v":"周裕德"},{"$f":"VLOOKUP(B1237,'[1]002'!B:M,8,0)","v":"开平市东河中学"},{"$f":"VLOOKUP(B1237,'[1]002'!B:M,11,0)","v":"张亦梁"},{"$f":"VLOOKUP(B1237,'[1]002'!B:M,12,0)","v":"开平市东河中学"}]
[1236,"P305219091774","电子相册","初中组","微课","三等奖","江门市",{"$f":"VLOOKUP(B1238,'[1]002'!B:M,7,0)","v":"杨坤"},{"$f":"VLOOKUP(B1238,'[1]002'!B:M,8,0)","v":"江门市蓬江区杜阮镇楼山初级中学"},{"$f":"VLOOKUP(B1238,'[1]002'!B:M,11,0)","v":"-"},{"$f":"VLOOKUP(B1238,'[1]002'!B:M,12,0)","v":"-"}]
[1237,"P305219092052","点的坐标特点易错题专题","初中组","微课","三等奖","江门市",{"$f":"VLOOKUP(B1239,'[1]002'!B:M,7,0)","v":"邓小军"},{"$f":"VLOOKUP(B1239,'[1]002'!B:M,8,0)","v":"鹤山市桃源中学"},{"$f":"VLOOKUP(B1239,'[1]002'!B:M,11,0)","v":"-"},{"$f":"VLOOKUP(B1239,'[1]002'!B:M,12,0)","v":"-"}]
[1238,"P305219092956","多功能瓶的使用","初中组","微课","三等奖","湛江市",{"$f":"VLOOKUP(B1240,'[1]002'!B:M,7,0)","v":"李应育"},{"$f":"VLOOKUP(B1240,'[1]002'!B:M,8,0)","v":"岭南师范学院附属中学"},{"$f":"VLOOKUP(B1240,'[1]002'!B:M,11,0)","v":"-"},{"$f":"VLOOKUP(B1240,'[1]002'!B:M,12,0)","v":"-"}]
[1239,"P305219092957","全等三角形","初中组","微课","三等奖","湛江市",{"$f":"VLOOKUP(B1241,'[1]002'!B:M,7,0)","v":"祝大兴"},{"$f":"VLOOKUP(B1241,'[1]002'!B:M,8,0)","v":"徐闻县锦和中学"},{"$f":"VLOOKUP(B1241,'[1]002'!B:M,11,0)","v":"-"},{"$f":"VLOOKUP(B1241,'[1]002'!B:M,12,0)","v":"-"}]
[1240,"P305219092955","用创新装置探究可燃物燃烧的条件","初中组","微课","三等奖","湛江市",{"$f":"VLOOKUP(B1242,'[1]002'!B:M,7,0)","v":"陈英珠"},{"$f":"VLOOKUP(B1242,'[1]002'!B:M,8,0)","v":"徐闻县西连中学"},{"$f":"VLOOKUP(B1242,'[1]002'!B:M,11,0)","v":"-"},{"$f":"VLOOKUP(B1242,'[1]002'!B:M,12,0)","v":"-"}]
[1241,"P305219092962","英语不定代词辨析another other the others","初中组","微课","三等奖","湛江市",{"$f":"VLOOKUP(B1243,'[1]002'!B:M,7,0)","v":"高筱婉"},{"$f":"VLOOKUP(B1243,'[1]002'!B:M,8,0)","v":"湛江市二中海东中学"},{"$f":"VLOOKUP(B1243,'[1]002'!B:M,11,0)","v":"-"},{"$f":"VLOOKUP(B1243,'[1]002'!B:M,12,0)","v":"-"}]
[1242,"P305219092958","一般现在时","初中组","微课","三等奖","湛江市",{"$f":"VLOOKUP(B1244,'[1]002'!B:M,7,0)","v":"周雯静"},{"$f":"VLOOKUP(B1244,'[1]002'!B:M,8,0)","v":"湛江市二中海东中学"},{"$f":"VLOOKUP(B1244,'[1]002'!B:M,11,0)","v":"-"},{"$f":"VLOOKUP(B1244,'[1]002'!B:M,12,0)","v":"-"}]
[1243,"P305219091406","现在完成时have been与have gone的区别","初中组","微课","三等奖","茂名市",{"$f":"VLOOKUP(B1245,'[1]002'!B:M,7,0)","v":"余夏竹"},{"$f":"VLOOKUP(B1245,'[1]002'!B:M,8,0)","v":"茂名市启源中学"},{"$f":"VLOOKUP(B1245,'[1]002'!B:M,11,0)","v":"-"},{"$f":"VLOOKUP(B1245,'[1]002'!B:M,12,0)","v":"-"}]
[1244,"P305219091304","二氧化碳实验室制取装置的研究","初中组","微课","三等奖","茂名市",{"$f":"VLOOKUP(B1246,'[1]002'!B:M,7,0)","v":"梁明珠"},{"$f":"VLOOKUP(B1246,'[1]002'!B:M,8,0)","v":"茂名市新世纪学校"},{"$f":"VLOOKUP(B1246,'[1]002'!B:M,11,0)","v":"-"},{"$f":"VLOOKUP(B1246,'[1]002'!B:M,12,0)","v":"-"}]
[1245,"P305219091305","正确认识性别角色","初中组","微课","三等奖","茂名市",{"$f":"VLOOKUP(B1247,'[1]002'!B:M,7,0)","v":"颜芸"},{"$f":"VLOOKUP(B1247,'[1]002'!B:M,8,0)","v":"茂名市博雅中学"},{"$f":"VLOOKUP(B1247,'[1]002'!B:M,11,0)","v":"-"},{"$f":"VLOOKUP(B1247,'[1]002'!B:M,12,0)","v":"-"}]
[1246,"P305219091537","PPT特效字的制作","初中组","微课","三等奖","茂名市",{"$f":"VLOOKUP(B1248,'[1]002'!B:M,7,0)","v":"莫柳咏"},{"$f":"VLOOKUP(B1248,'[1]002'!B:M,8,0)","v":"茂名市第十中学"},{"$f":"VLOOKUP(B1248,'[1]002'!B:M,11,0)","v":"柯宇媚"},{"$f":"VLOOKUP(B1248,'[1]002'!B:M,12,0)","v":"化州市中垌镇杨充小学"}]
[1247,"P305219091206","用电能表测量电功","初中组","微课","三等奖","肇庆市",{"$f":"VLOOKUP(B1249,'[1]002'!B:M,7,0)","v":"王永贵"},{"$f":"VLOOKUP(B1249,'[1]002'!B:M,8,0)","v":"鼎湖区广利街道办事处广利初级中学"},{"$f":"VLOOKUP(B1249,'[1]002'!B:M,11,0)","v":"-"},{"$f":"VLOOKUP(B1249,'[1]002'!B:M,12,0)","v":"-"}]
[1248,"P305219089862","DNA的家庭简易粗提取","初中组","微课","三等奖","肇庆市",{"$f":"VLOOKUP(B1250,'[1]002'!B:M,7,0)","v":"陈梅生"},{"$f":"VLOOKUP(B1250,'[1]002'!B:M,8,0)","v":"肇庆高新技术产业开发区大旺中学"},{"$f":"VLOOKUP(B1250,'[1]002'!B:M,11,0)","v":"-"},{"$f":"VLOOKUP(B1250,'[1]002'!B:M,12,0)","v":"-"}]
[1249,"P305219091643","一次函数的性质之增减性","初中组","微课","三等奖","清远市",{"$f":"VLOOKUP(B1251,'[1]002'!B:M,7,0)","v":"朱光睿"},{"$f":"VLOOKUP(B1251,'[1]002'!B:M,8,0)","v":"英德市第一小学"},{"$f":"VLOOKUP(B1251,'[1]002'!B:M,11,0)","v":"-"},{"$f":"VLOOKUP(B1251,'[1]002'!B:M,12,0)","v":"-"}]
[1250,"P305219091641","仁爱七年级英语There_be句型微课","初中组","微课","三等奖","清远市",{"$f":"VLOOKUP(B1252,'[1]002'!B:M,7,0)","v":"吴丽芳"},{"$f":"VLOOKUP(B1252,'[1]002'!B:M,8,0)","v":"连州市北山中学"},{"$f":"VLOOKUP(B1252,'[1]002'!B:M,11,0)","v":"-"},{"$f":"VLOOKUP(B1252,'[1]002'!B:M,12,0)","v":"-"}]
[1251,"P305219091644","用flash软件画画之几何造型法","初中组","微课","三等奖","清远市",{"$f":"VLOOKUP(B1253,'[1]002'!B:M,7,0)","v":"熊华英"},{"$f":"VLOOKUP(B1253,'[1]002'!B:M,8,0)","v":"连州市北山中学"},{"$f":"VLOOKUP(B1253,'[1]002'!B:M,11,0)","v":"-"},{"$f":"VLOOKUP(B1253,'[1]002'!B:M,12,0)","v":"-"}]
[1252,"P305219091647","For循环语句画多边形","初中组","微课","三等奖","清远市",{"$f":"VLOOKUP(B1254,'[1]002'!B:M,7,0)","v":"欧少平"},{"$f":"VLOOKUP(B1254,'[1]002'!B:M,8,0)","v":"连州市慧光中学"},{"$f":"VLOOKUP(B1254,'[1]002'!B:M,11,0)","v":"-"},{"$f":"VLOOKUP(B1254,'[1]002'!B:M,12,0)","v":"-"}]
[1253,"P305219079876","元素周期表","初中组","微课","三等奖","潮州市",{"$f":"VLOOKUP(B1255,'[1]002'!B:M,7,0)","v":"洪彦芬"},{"$f":"VLOOKUP(B1255,'[1]002'!B:M,8,0)","v":"潮州市枫溪区云光中学"},{"$f":"VLOOKUP(B1255,'[1]002'!B:M,11,0)","v":"-"},{"$f":"VLOOKUP(B1255,'[1]002'!B:M,12,0)","v":"-"}]
[1254,"P305219079501","复分解反应","初中组","微课","三等奖","潮州市",{"$f":"VLOOKUP(B1256,'[1]002'!B:M,7,0)","v":"韦泽文"},{"$f":"VLOOKUP(B1256,'[1]002'!B:M,8,0)","v":"潮州市湘桥区开元初级中学"},{"$f":"VLOOKUP(B1256,'[1]002'!B:M,11,0)","v":"-"},{"$f":"VLOOKUP(B1256,'[1]002'!B:M,12,0)","v":"-"}]
[1255,"P305219080213","青春的情绪","初中组","微课","三等奖","潮州市",{"$f":"VLOOKUP(B1257,'[1]002'!B:M,7,0)","v":"蔡玫苹"},{"$f":"VLOOKUP(B1257,'[1]002'!B:M,8,0)","v":"龙溪中学"},{"$f":"VLOOKUP(B1257,'[1]002'!B:M,11,0)","v":"-"},{"$f":"VLOOKUP(B1257,'[1]002'!B:M,12,0)","v":"-"}]
[1256,"P305219088887","体操—前滚翻","初中组","微课","三等奖","云浮市",{"$f":"VLOOKUP(B1258,'[1]002'!B:M,7,0)","v":"陈金海"},{"$f":"VLOOKUP(B1258,'[1]002'!B:M,8,0)","v":"云浮市云安区白石镇中学"},{"$f":"VLOOKUP(B1258,'[1]002'!B:M,11,0)","v":"-"},{"$f":"VLOOKUP(B1258,'[1]002'!B:M,12,0)","v":"-"}]
[1257,"P305219081087","心脏结构模式图","初中组","微课","三等奖","云浮市",{"$f":"VLOOKUP(B1259,'[1]002'!B:M,7,0)","v":"龙智良"},{"$f":"VLOOKUP(B1259,'[1]002'!B:M,8,0)","v":"新兴县蚕岗中学"},{"$f":"VLOOKUP(B1259,'[1]002'!B:M,11,0)","v":"-"},{"$f":"VLOOKUP(B1259,'[1]002'!B:M,12,0)","v":"-"}]
[1258,"P305219079801","着装礼仪","初中组","微课","三等奖","云浮市",{"$f":"VLOOKUP(B1260,'[1]002'!B:M,7,0)","v":"黄宇明"},{"$f":"VLOOKUP(B1260,'[1]002'!B:M,8,0)","v":"罗定市廷锴纪念中学"},{"$f":"VLOOKUP(B1260,'[1]002'!B:M,11,0)","v":"-"},{"$f":"VLOOKUP(B1260,'[1]002'!B:M,12,0)","v":"-"}]
[1259,"P305219080011","练习制取酸碱指示剂","初中组","微课","三等奖","云浮市",{"$f":"VLOOKUP(B1261,'[1]002'!B:M,7,0)","v":"欧东海"},{"$f":"VLOOKUP(B1261,'[1]002'!B:M,8,0)","v":"新兴县六祖镇集成中学"},{"$f":"VLOOKUP(B1261,'[1]002'!B:M,11,0)","v":"陈小云"},{"$f":"VLOOKUP(B1261,'[1]002'!B:M,12,0)","v":"新兴县六祖镇集成中学"}]
[1260,"P307219092671","幽默智慧的漫画","初中组","信息技术创新教学案例","三等奖","深圳市",{"$f":"VLOOKUP(B1262,'[1]002'!B:M,7,0)","v":"罗晓倩"},{"$f":"VLOOKUP(B1262,'[1]002'!B:M,8,0)","v":"深圳市光明区李松蓢学校"},{"$f":"VLOOKUP(B1262,'[1]002'!B:M,11,0)","v":"-"},{"$f":"VLOOKUP(B1262,'[1]002'!B:M,12,0)","v":"-"}]
[1261,"P307219092673","制作楼道自动感应灯","初中组","信息技术创新教学案例","三等奖","深圳市",{"$f":"VLOOKUP(B1263,'[1]002'!B:M,7,0)","v":"张鸿斌"},{"$f":"VLOOKUP(B1263,'[1]002'!B:M,8,0)","v":"坪山区坪山中学"},{"$f":"VLOOKUP(B1263,'[1]002'!B:M,11,0)","v":"-"},{"$f":"VLOOKUP(B1263,'[1]002'!B:M,12,0)","v":"-"}]
[1262,"P307219089601","寻找站牌","初中组","信息技术创新教学案例","三等奖","珠海市",{"$f":"VLOOKUP(B1264,'[1]002'!B:M,7,0)","v":"朱志"},{"$f":"VLOOKUP(B1264,'[1]002'!B:M,8,0)","v":"珠海市第九中学"},{"$f":"VLOOKUP(B1264,'[1]002'!B:M,11,0)","v":"-"},{"$f":"VLOOKUP(B1264,'[1]002'!B:M,12,0)","v":"-"}]
[1263,"P307219090970","打造自己的LED屏","初中组","信息技术创新教学案例","三等奖","佛山市",{"$f":"VLOOKUP(B1265,'[1]002'!B:M,7,0)","v":"伍贵强"},{"$f":"VLOOKUP(B1265,'[1]002'!B:M,8,0)","v":"佛山市顺德区杏坛梁銶琚初级中学"},{"$f":"VLOOKUP(B1265,'[1]002'!B:M,11,0)","v":"林达春"},{"$f":"VLOOKUP(B1265,'[1]002'!B:M,12,0)","v":"佛山市顺德区杏坛梁銶琚初级中学"}]
[1264,"P307219090964","滚水珠","初中组","信息技术创新教学案例","三等奖","佛山市",{"$f":"VLOOKUP(B1266,'[1]002'!B:M,7,0)","v":"杨观明"},{"$f":"VLOOKUP(B1266,'[1]002'!B:M,8,0)","v":"佛山市顺德区伦教周君令中学"},{"$f":"VLOOKUP(B1266,'[1]002'!B:M,11,0)","v":"-"},{"$f":"VLOOKUP(B1266,'[1]002'!B:M,12,0)","v":"-"}]
[1265,"P307219090963","人人都是产品经理","初中组","信息技术创新教学案例","三等奖","佛山市",{"$f":"VLOOKUP(B1267,'[1]002'!B:M,7,0)","v":"张勇"},{"$f":"VLOOKUP(B1267,'[1]002'!B:M,8,0)","v":"佛山市顺德区乐从大墩初级中学"},{"$f":"VLOOKUP(B1267,'[1]002'!B:M,11,0)","v":"-"},{"$f":"VLOOKUP(B1267,'[1]002'!B:M,12,0)","v":"-"}]
[1266,"P307219090969","利用三角形全等测距离","初中组","信息技术创新教学案例","三等奖","佛山市",{"$f":"VLOOKUP(B1268,'[1]002'!B:M,7,0)","v":"陈波"},{"$f":"VLOOKUP(B1268,'[1]002'!B:M,8,0)","v":"佛山市顺德区容桂兴华初级中学"},{"$f":"VLOOKUP(B1268,'[1]002'!B:M,11,0)","v":"张焜懿"},{"$f":"VLOOKUP(B1268,'[1]002'!B:M,12,0)","v":"佛山市顺德区容桂兴华初级中学"}]
[1267,"P307219093374","微课在初中信息技术教学中有效运用的案例研究信息","初中组","信息技术创新教学案例","三等奖","河源市",{"$f":"VLOOKUP(B1269,'[1]002'!B:M,7,0)","v":"张蓉"},{"$f":"VLOOKUP(B1269,'[1]002'!B:M,8,0)","v":"东源县崇文学校"},{"$f":"VLOOKUP(B1269,'[1]002'!B:M,11,0)","v":"-"},{"$f":"VLOOKUP(B1269,'[1]002'!B:M,12,0)","v":"-"}]
[1268,"P307219092831","信息技术八年级下册第六课设计图案","初中组","信息技术创新教学案例","三等奖","东莞市",{"$f":"VLOOKUP(B1270,'[1]002'!B:M,7,0)","v":"梁雪梅"},{"$f":"VLOOKUP(B1270,'[1]002'!B:M,8,0)","v":"东莞市南城阳光实验中学"},{"$f":"VLOOKUP(B1270,'[1]002'!B:M,11,0)","v":"-"},{"$f":"VLOOKUP(B1270,'[1]002'!B:M,12,0)","v":"-"}]
[1269,"P307219092829","AR演绎中国的地形地势","初中组","信息技术创新教学案例","三等奖","东莞市",{"$f":"VLOOKUP(B1271,'[1]002'!B:M,7,0)","v":"邱丽云"},{"$f":"VLOOKUP(B1271,'[1]002'!B:M,8,0)","v":"东莞市松山湖实验中学"},{"$f":"VLOOKUP(B1271,'[1]002'!B:M,11,0)","v":"-"},{"$f":"VLOOKUP(B1271,'[1]002'!B:M,12,0)","v":"-"}]
[1270,"P307219088204","超声波测距","初中组","信息技术创新教学案例","三等奖","中山市",{"$f":"VLOOKUP(B1272,'[1]002'!B:M,7,0)","v":"邱亚辉"},{"$f":"VLOOKUP(B1272,'[1]002'!B:M,8,0)","v":"中山市东凤中学"},{"$f":"VLOOKUP(B1272,'[1]002'!B:M,11,0)","v":"-"},{"$f":"VLOOKUP(B1272,'[1]002'!B:M,12,0)","v":"-"}]
[1271,"P307219090391","智慧校园之初中在线数学","初中组","教师网络空间应用案例","三等奖","珠海市",{"$f":"VLOOKUP(B1273,'[1]002'!B:M,7,0)","v":"姚敏"},{"$f":"VLOOKUP(B1273,'[1]002'!B:M,8,0)","v":"珠海市第九中学"},{"$f":"VLOOKUP(B1273,'[1]002'!B:M,11,0)","v":"-"},{"$f":"VLOOKUP(B1273,'[1]002'!B:M,12,0)","v":"-"}]
[1272,"P301219091913","智慧实验云","初中组","教师网络空间应用案例","三等奖","汕头市",{"$f":"VLOOKUP(B1274,'[1]002'!B:M,7,0)","v":"陈俊雄"},{"$f":"VLOOKUP(B1274,'[1]002'!B:M,8,0)","v":"汕头市潮南区司马浦大布初级中学"},{"$f":"VLOOKUP(B1274,'[1]002'!B:M,11,0)","v":"-"},{"$f":"VLOOKUP(B1274,'[1]002'!B:M,12,0)","v":"-"}]
[1273,"P301219092837","自媒体下的湖景微信公众平台运行及教育教学效果探究","初中组","教师网络空间应用案例","三等奖","东莞市",{"$f":"VLOOKUP(B1275,'[1]002'!B:M,7,0)","v":"钟浩然"},{"$f":"VLOOKUP(B1275,'[1]002'!B:M,8,0)","v":"东莞市厚街湖景中学"},{"$f":"VLOOKUP(B1275,'[1]002'!B:M,11,0)","v":"曾维贵"},{"$f":"VLOOKUP(B1275,'[1]002'!B:M,12,0)","v":"东莞市厚街湖景中学"}]
[1274,"P301219090145","舞动群文穿越时空","初中组","教师网络空间应用案例","三等奖","中山市",{"$f":"VLOOKUP(B1276,'[1]002'!B:M,7,0)","v":"曾蓉蓉"},{"$f":"VLOOKUP(B1276,'[1]002'!B:M,8,0)","v":"中山市石岐中学"},{"$f":"VLOOKUP(B1276,'[1]002'!B:M,11,0)","v":"-"},{"$f":"VLOOKUP(B1276,'[1]002'!B:M,12,0)","v":"-"}]
[1275,"P304219091871","知遇沙盘以文绘心森林奇遇记","初中组","跨学科项目式学习教学案例","三等奖","汕头市",{"$f":"VLOOKUP(B1277,'[1]002'!B:M,7,0)","v":"李飞龙"},{"$f":"VLOOKUP(B1277,'[1]002'!B:M,8,0)","v":"汕头市达濠第二中学"},{"$f":"VLOOKUP(B1277,'[1]002'!B:M,11,0)","v":"-"},{"$f":"VLOOKUP(B1277,'[1]002'!B:M,12,0)","v":"-"}]
[1276,"P304219092847","基于信息化平台的初中天文科普综合实践活动","初中组","跨学科项目式学习教学案例","三等奖","东莞市",{"$f":"VLOOKUP(B1278,'[1]002'!B:M,7,0)","v":"郭振维"},{"$f":"VLOOKUP(B1278,'[1]002'!B:M,8,0)","v":"东莞市松山湖实验中学"},{"$f":"VLOOKUP(B1278,'[1]002'!B:M,11,0)","v":"-"},{"$f":"VLOOKUP(B1278,'[1]002'!B:M,12,0)","v":"-"}]
[1277,"P304219093051","体会母爱，体验真情--用PowerPoint制作MV","初中组","跨学科项目式学习教学案例","三等奖","湛江市",{"$f":"VLOOKUP(B1279,'[1]002'!B:M,7,0)","v":"杨海娟　"},{"$f":"VLOOKUP(B1279,'[1]002'!B:M,8,0)","v":"湛江一中培才学校"},{"$f":"VLOOKUP(B1279,'[1]002'!B:M,11,0)","v":"-"},{"$f":"VLOOKUP(B1279,'[1]002'!B:M,12,0)","v":"-"}]
[1278,"P306219093215","重力","初中组","新媒体新技术教学应用课例","三等奖",{"$f":"RIGHT(LEFT(VLOOKUP(B1280,'[1]002'!B:M,3,0),7),3)","v":"广州市"},{"$f":"VLOOKUP(B1280,'[1]002'!B:M,7,0)","v":"李丹虹"},{"$f":"VLOOKUP(B1280,'[1]002'!B:M,8,0)","v":"华南理工大学附属实验学校"},{"$f":"VLOOKUP(B1280,'[1]002'!B:M,11,0)","v":"-"},{"$f":"VLOOKUP(B1280,'[1]002'!B:M,12,0)","v":"-"}]
[1279,"P306219093219","认识多媒体","初中组","新媒体新技术教学应用课例","三等奖",{"$f":"RIGHT(LEFT(VLOOKUP(B1281,'[1]002'!B:M,3,0),7),3)","v":"广州市"},{"$f":"VLOOKUP(B1281,'[1]002'!B:M,7,0)","v":"罗淑枚"},{"$f":"VLOOKUP(B1281,'[1]002'!B:M,8,0)","v":"广州市花都区新华街培新学校"},{"$f":"VLOOKUP(B1281,'[1]002'!B:M,11,0)","v":"-"},{"$f":"VLOOKUP(B1281,'[1]002'!B:M,12,0)","v":"-"}]
[1280,"P306219093216","特洛伊木马阅读鉴赏课","初中组","新媒体新技术教学应用课例","三等奖",{"$f":"RIGHT(LEFT(VLOOKUP(B1282,'[1]002'!B:M,3,0),7),3)","v":"广州市"},{"$f":"VLOOKUP(B1282,'[1]002'!B:M,7,0)","v":"谢全胜"},{"$f":"VLOOKUP(B1282,'[1]002'!B:M,8,0)","v":"广州市育才中学"},{"$f":"VLOOKUP(B1282,'[1]002'!B:M,11,0)","v":"-"},{"$f":"VLOOKUP(B1282,'[1]002'!B:M,12,0)","v":"-"}]
[1281,"P306219092661","一元一次方程小结与复习","初中组","新媒体新技术教学应用课例","三等奖",{"$f":"RIGHT(LEFT(VLOOKUP(B1283,'[1]002'!B:M,3,0),7),3)","v":"深圳市"},{"$f":"VLOOKUP(B1283,'[1]002'!B:M,7,0)","v":"李小鹏"},{"$f":"VLOOKUP(B1283,'[1]002'!B:M,8,0)","v":"深圳市田东中学"},{"$f":"VLOOKUP(B1283,'[1]002'!B:M,11,0)","v":"-"},{"$f":"VLOOKUP(B1283,'[1]002'!B:M,12,0)","v":"-"}]
[1282,"P306219092663","凸透镜成像的规律","初中组","新媒体新技术教学应用课例","三等奖",{"$f":"RIGHT(LEFT(VLOOKUP(B1284,'[1]002'!B:M,3,0),7),3)","v":"深圳市"},{"$f":"VLOOKUP(B1284,'[1]002'!B:M,7,0)","v":"雷珊珊"},{"$f":"VLOOKUP(B1284,'[1]002'!B:M,8,0)","v":"深圳市罗湖外语学校"},{"$f":"VLOOKUP(B1284,'[1]002'!B:M,11,0)","v":"-"},{"$f":"VLOOKUP(B1284,'[1]002'!B:M,12,0)","v":"-"}]
[1283,"P306219089211","小小说两篇小巷","初中组","新媒体新技术教学应用课例","三等奖",{"$f":"RIGHT(LEFT(VLOOKUP(B1285,'[1]002'!B:M,3,0),7),3)","v":"珠海市"},{"$f":"VLOOKUP(B1285,'[1]002'!B:M,7,0)","v":"曾小娜"},{"$f":"VLOOKUP(B1285,'[1]002'!B:M,8,0)","v":"珠海市前山中学"},{"$f":"VLOOKUP(B1285,'[1]002'!B:M,11,0)","v":"-"},{"$f":"VLOOKUP(B1285,'[1]002'!B:M,12,0)","v":"-"}]
[1284,"P306219089440","记承天寺夜游","初中组","新媒体新技术教学应用课例","三等奖",{"$f":"RIGHT(LEFT(VLOOKUP(B1286,'[1]002'!B:M,3,0),7),3)","v":"珠海市"},{"$f":"VLOOKUP(B1286,'[1]002'!B:M,7,0)","v":"孙北平"},{"$f":"VLOOKUP(B1286,'[1]002'!B:M,8,0)","v":"珠海市第五中学"},{"$f":"VLOOKUP(B1286,'[1]002'!B:M,11,0)","v":"-"},{"$f":"VLOOKUP(B1286,'[1]002'!B:M,12,0)","v":"-"}]
[1285,"P306219091533","地形和地势第二课时中国的地势特征","初中组","新媒体新技术教学应用课例","三等奖",{"$f":"RIGHT(LEFT(VLOOKUP(B1287,'[1]002'!B:M,3,0),7),3)","v":"珠海市"},{"$f":"VLOOKUP(B1287,'[1]002'!B:M,7,0)","v":"夏艳华"},{"$f":"VLOOKUP(B1287,'[1]002'!B:M,8,0)","v":"珠海市第九中学"},{"$f":"VLOOKUP(B1287,'[1]002'!B:M,11,0)","v":"-"},{"$f":"VLOOKUP(B1287,'[1]002'!B:M,12,0)","v":"-"}]
[1286,"P307219088652","物质的变化和性质","初中组","新媒体新技术教学应用课例","三等奖",{"$f":"RIGHT(LEFT(VLOOKUP(B1288,'[1]002'!B:M,3,0),7),3)","v":"珠海市"},{"$f":"VLOOKUP(B1288,'[1]002'!B:M,7,0)","v":"谢思"},{"$f":"VLOOKUP(B1288,'[1]002'!B:M,8,0)","v":"珠海市前山中学"},{"$f":"VLOOKUP(B1288,'[1]002'!B:M,11,0)","v":"-"},{"$f":"VLOOKUP(B1288,'[1]002'!B:M,12,0)","v":"-"}]
[1287,"P306219089310","反比例函数的图象和性质  第1课时","初中组","新媒体新技术教学应用课例","三等奖",{"$f":"RIGHT(LEFT(VLOOKUP(B1289,'[1]002'!B:M,3,0),7),3)","v":"珠海市"},{"$f":"VLOOKUP(B1289,'[1]002'!B:M,7,0)","v":"沈达"},{"$f":"VLOOKUP(B1289,'[1]002'!B:M,8,0)","v":"珠海市第五中学"},{"$f":"VLOOKUP(B1289,'[1]002'!B:M,11,0)","v":"-"},{"$f":"VLOOKUP(B1289,'[1]002'!B:M,12,0)","v":"-"}]
[1288,"P305219087785","压强","初中组","新媒体新技术教学应用课例","三等奖",{"$f":"RIGHT(LEFT(VLOOKUP(B1290,'[1]002'!B:M,3,0),7),3)","v":"珠海市"},{"$f":"VLOOKUP(B1290,'[1]002'!B:M,7,0)","v":"严剑辉"},{"$f":"VLOOKUP(B1290,'[1]002'!B:M,8,0)","v":"珠海市前山中学"},{"$f":"VLOOKUP(B1290,'[1]002'!B:M,11,0)","v":"-"},{"$f":"VLOOKUP(B1290,'[1]002'!B:M,12,0)","v":"-"}]
[1289,"P306219088487","图像专题复习","初中组","新媒体新技术教学应用课例","三等奖",{"$f":"RIGHT(LEFT(VLOOKUP(B1291,'[1]002'!B:M,3,0),7),3)","v":"珠海市"},{"$f":"VLOOKUP(B1291,'[1]002'!B:M,7,0)","v":"严剑辉"},{"$f":"VLOOKUP(B1291,'[1]002'!B:M,8,0)","v":"珠海市前山中学"},{"$f":"VLOOKUP(B1291,'[1]002'!B:M,11,0)","v":"张银"},{"$f":"VLOOKUP(B1291,'[1]002'!B:M,12,0)","v":"珠海市前山中学"}]
[1290,"P306219092610","多边形的外角和","初中组","新媒体新技术教学应用课例","三等奖",{"$f":"RIGHT(LEFT(VLOOKUP(B1292,'[1]002'!B:M,3,0),7),3)","v":"珠海市"},{"$f":"VLOOKUP(B1292,'[1]002'!B:M,7,0)","v":"谢金宁"},{"$f":"VLOOKUP(B1292,'[1]002'!B:M,8,0)","v":"珠海市第五中学"},{"$f":"VLOOKUP(B1292,'[1]002'!B:M,11,0)","v":"-"},{"$f":"VLOOKUP(B1292,'[1]002'!B:M,12,0)","v":"-"}]
[1291,"P306219090393","在线课堂之A型图的探究","初中组","新媒体新技术教学应用课例","三等奖",{"$f":"RIGHT(LEFT(VLOOKUP(B1293,'[1]002'!B:M,3,0),7),3)","v":"珠海市"},{"$f":"VLOOKUP(B1293,'[1]002'!B:M,7,0)","v":"王丽杰"},{"$f":"VLOOKUP(B1293,'[1]002'!B:M,8,0)","v":"珠海市第九中学"},{"$f":"VLOOKUP(B1293,'[1]002'!B:M,11,0)","v":"-"},{"$f":"VLOOKUP(B1293,'[1]002'!B:M,12,0)","v":"-"}]
[1292,"P302219089761","以礼待人","初中组","新媒体新技术教学应用课例","三等奖",{"$f":"RIGHT(LEFT(VLOOKUP(B1294,'[1]002'!B:M,3,0),7),3)","v":"珠海市"},{"$f":"VLOOKUP(B1294,'[1]002'!B:M,7,0)","v":"张凤"},{"$f":"VLOOKUP(B1294,'[1]002'!B:M,8,0)","v":"珠海市前山中学"},{"$f":"VLOOKUP(B1294,'[1]002'!B:M,11,0)","v":"-"},{"$f":"VLOOKUP(B1294,'[1]002'!B:M,12,0)","v":"-"}]
[1293,"P306219088738","Starter Unit 1 Good morning! 4a-4d","初中组","新媒体新技术教学应用课例","三等奖",{"$f":"RIGHT(LEFT(VLOOKUP(B1295,'[1]002'!B:M,3,0),7),3)","v":"珠海市"},{"$f":"VLOOKUP(B1295,'[1]002'!B:M,7,0)","v":"马颖新"},{"$f":"VLOOKUP(B1295,'[1]002'!B:M,8,0)","v":"珠海市前山中学"},{"$f":"VLOOKUP(B1295,'[1]002'!B:M,11,0)","v":"-"},{"$f":"VLOOKUP(B1295,'[1]002'!B:M,12,0)","v":"-"}]
[1294,"P307219089772","憧憬美好集体","初中组","新媒体新技术教学应用课例","三等奖",{"$f":"RIGHT(LEFT(VLOOKUP(B1296,'[1]002'!B:M,3,0),7),3)","v":"珠海市"},{"$f":"VLOOKUP(B1296,'[1]002'!B:M,7,0)","v":"张凤"},{"$f":"VLOOKUP(B1296,'[1]002'!B:M,8,0)","v":"珠海市前山中学"},{"$f":"VLOOKUP(B1296,'[1]002'!B:M,11,0)","v":"-"},{"$f":"VLOOKUP(B1296,'[1]002'!B:M,12,0)","v":"-"}]
[1295,"P306219089016","牛顿第一定律","初中组","新媒体新技术教学应用课例","三等奖",{"$f":"RIGHT(LEFT(VLOOKUP(B1297,'[1]002'!B:M,3,0),7),3)","v":"珠海市"},{"$f":"VLOOKUP(B1297,'[1]002'!B:M,7,0)","v":"张银"},{"$f":"VLOOKUP(B1297,'[1]002'!B:M,8,0)","v":"珠海市前山中学"},{"$f":"VLOOKUP(B1297,'[1]002'!B:M,11,0)","v":"-"},{"$f":"VLOOKUP(B1297,'[1]002'!B:M,12,0)","v":"-"}]
[1296,"P306219091018","生活环境的巨大变化","初中组","新媒体新技术教学应用课例","三等奖",{"$f":"RIGHT(LEFT(VLOOKUP(B1298,'[1]002'!B:M,3,0),7),3)","v":"佛山市"},{"$f":"VLOOKUP(B1298,'[1]002'!B:M,7,0)","v":"黄静芸"},{"$f":"VLOOKUP(B1298,'[1]002'!B:M,8,0)","v":"禅城区南庄镇第三中学"},{"$f":"VLOOKUP(B1298,'[1]002'!B:M,11,0)","v":"-"},{"$f":"VLOOKUP(B1298,'[1]002'!B:M,12,0)","v":"-"}]
[1297,"P306219091036","认识三角形","初中组","新媒体新技术教学应用课例","三等奖",{"$f":"RIGHT(LEFT(VLOOKUP(B1299,'[1]002'!B:M,3,0),7),3)","v":"佛山市"},{"$f":"VLOOKUP(B1299,'[1]002'!B:M,7,0)","v":"张虹"},{"$f":"VLOOKUP(B1299,'[1]002'!B:M,8,0)","v":"佛山市顺德区梁开初级中学"},{"$f":"VLOOKUP(B1299,'[1]002'!B:M,11,0)","v":"-"},{"$f":"VLOOKUP(B1299,'[1]002'!B:M,12,0)","v":"-"}]
[1298,"P306219091013","三角形全等专题复习","初中组","新媒体新技术教学应用课例","三等奖",{"$f":"RIGHT(LEFT(VLOOKUP(B1300,'[1]002'!B:M,3,0),7),3)","v":"佛山市"},{"$f":"VLOOKUP(B1300,'[1]002'!B:M,7,0)","v":"黄振聪"},{"$f":"VLOOKUP(B1300,'[1]002'!B:M,8,0)","v":"佛山市第三中学初中部"},{"$f":"VLOOKUP(B1300,'[1]002'!B:M,11,0)","v":"-"},{"$f":"VLOOKUP(B1300,'[1]002'!B:M,12,0)","v":"-"}]
[1299,"P306219091033","物联网应用教学遥控灯","初中组","新媒体新技术教学应用课例","三等奖",{"$f":"RIGHT(LEFT(VLOOKUP(B1301,'[1]002'!B:M,3,0),7),3)","v":"佛山市"},{"$f":"VLOOKUP(B1301,'[1]002'!B:M,7,0)","v":"曾科华"},{"$f":"VLOOKUP(B1301,'[1]002'!B:M,8,0)","v":"佛山市顺德区大良顺峰初级中学"},{"$f":"VLOOKUP(B1301,'[1]002'!B:M,11,0)","v":"朱海燕"},{"$f":"VLOOKUP(B1301,'[1]002'!B:M,12,0)","v":"佛山市顺德区大良顺峰初级中学"}]
[1300,"P306219091024","定时器的使用第二课时","初中组","新媒体新技术教学应用课例","三等奖",{"$f":"RIGHT(LEFT(VLOOKUP(B1302,'[1]002'!B:M,3,0),7),3)","v":"佛山市"},{"$f":"VLOOKUP(B1302,'[1]002'!B:M,7,0)","v":"李国豪"},{"$f":"VLOOKUP(B1302,'[1]002'!B:M,8,0)","v":"佛山市南海区石门实验学校"},{"$f":"VLOOKUP(B1302,'[1]002'!B:M,11,0)","v":"-"},{"$f":"VLOOKUP(B1302,'[1]002'!B:M,12,0)","v":"-"}]
[1301,"P306219091012","Module8Unit1","初中组","新媒体新技术教学应用课例","三等奖",{"$f":"RIGHT(LEFT(VLOOKUP(B1303,'[1]002'!B:M,3,0),7),3)","v":"佛山市"},{"$f":"VLOOKUP(B1303,'[1]002'!B:M,7,0)","v":"柳敏"},{"$f":"VLOOKUP(B1303,'[1]002'!B:M,8,0)","v":"佛山市高明区沧江中学"},{"$f":"VLOOKUP(B1303,'[1]002'!B:M,11,0)","v":"-"},{"$f":"VLOOKUP(B1303,'[1]002'!B:M,12,0)","v":"-"}]
[1302,"P306119090205","皇帝的新装","初中组","新媒体新技术教学应用课例","三等奖","佛山市","林志云","佛山市禅城区南庄镇第三中学","-","-"]
[1303,"P306219091035","宋元时期的都市和文化","初中组","新媒体新技术教学应用课例","三等奖",{"$f":"RIGHT(LEFT(VLOOKUP(B1305,'[1]002'!B:M,3,0),7),3)","v":"佛山市"},{"$f":"VLOOKUP(B1305,'[1]002'!B:M,7,0)","v":"黄敏"},{"$f":"VLOOKUP(B1305,'[1]002'!B:M,8,0)","v":"佛山市顺德区容桂兴华初级中学"},{"$f":"VLOOKUP(B1305,'[1]002'!B:M,11,0)","v":"张焜懿"},{"$f":"VLOOKUP(B1305,'[1]002'!B:M,12,0)","v":"佛山市顺德区容桂兴华初级中学"}]
[1304,"P306219091027","中考时态复习","初中组","新媒体新技术教学应用课例","三等奖",{"$f":"RIGHT(LEFT(VLOOKUP(B1306,'[1]002'!B:M,3,0),7),3)","v":"佛山市"},{"$f":"VLOOKUP(B1306,'[1]002'!B:M,7,0)","v":"陈思圆"},{"$f":"VLOOKUP(B1306,'[1]002'!B:M,8,0)","v":"佛山市第三中学初中部"},{"$f":"VLOOKUP(B1306,'[1]002'!B:M,11,0)","v":"-"},{"$f":"VLOOKUP(B1306,'[1]002'!B:M,12,0)","v":"-"}]
[1305,"P306219091023","测量小灯泡的电阻","初中组","新媒体新技术教学应用课例","三等奖",{"$f":"RIGHT(LEFT(VLOOKUP(B1307,'[1]002'!B:M,3,0),7),3)","v":"佛山市"},{"$f":"VLOOKUP(B1307,'[1]002'!B:M,7,0)","v":"黄镇鹏"},{"$f":"VLOOKUP(B1307,'[1]002'!B:M,8,0)","v":"佛山市南海石门实验中学"},{"$f":"VLOOKUP(B1307,'[1]002'!B:M,11,0)","v":"-"},{"$f":"VLOOKUP(B1307,'[1]002'!B:M,12,0)","v":"-"}]
[1306,"P306119090199","长株潭城市群的内部差异与联系","初中组","新媒体新技术教学应用课例","三等奖","佛山市","高嘉敏","佛山市禅城区南庄镇第三中学","-","-"]
[1307,"P306119090201","因式分解专题复习","初中组","新媒体新技术教学应用课例","三等奖","佛山市","利莹莹","佛山市禅城区南庄镇第三中学","-","-"]
[1308,"P306219091011","七年级生物下册第四单元第四章第四节输血与血型","初中组","新媒体新技术教学应用课例","三等奖",{"$f":"RIGHT(LEFT(VLOOKUP(B1310,'[1]002'!B:M,3,0),7),3)","v":"佛山市"},{"$f":"VLOOKUP(B1310,'[1]002'!B:M,7,0)","v":"何惠玲"},{"$f":"VLOOKUP(B1310,'[1]002'!B:M,8,0)","v":"佛山市高明区沧江中学"},{"$f":"VLOOKUP(B1310,'[1]002'!B:M,11,0)","v":"-"},{"$f":"VLOOKUP(B1310,'[1]002'!B:M,12,0)","v":"-"}]
[1309,"P306219091029","用按钮控制呼吸灯的位置移动","初中组","新媒体新技术教学应用课例","三等奖",{"$f":"RIGHT(LEFT(VLOOKUP(B1311,'[1]002'!B:M,3,0),7),3)","v":"佛山市"},{"$f":"VLOOKUP(B1311,'[1]002'!B:M,7,0)","v":"刘常森"},{"$f":"VLOOKUP(B1311,'[1]002'!B:M,8,0)","v":"佛山市顺德区均安建安初级中学"},{"$f":"VLOOKUP(B1311,'[1]002'!B:M,11,0)","v":"-"},{"$f":"VLOOKUP(B1311,'[1]002'!B:M,12,0)","v":"-"}]
[1310,"P306119090197","合理营养和食品安全","初中组","新媒体新技术教学应用课例","三等奖","佛山市","胡伟平","佛山市禅城区南庄镇第三中学","-","-"]
[1311,"P306119090203","Unit 1 He is the boy who won the photo competition last year.","初中组","新媒体新技术教学应用课例","三等奖","佛山市","肖淳芳","佛山市禅城区南庄镇第三中学","-","-"]
[1312,"P306219091019","青藏地区","初中组","新媒体新技术教学应用课例","三等奖",{"$f":"RIGHT(LEFT(VLOOKUP(B1314,'[1]002'!B:M,3,0),7),3)","v":"佛山市"},{"$f":"VLOOKUP(B1314,'[1]002'!B:M,7,0)","v":"蔡耀纯"},{"$f":"VLOOKUP(B1314,'[1]002'!B:M,8,0)","v":"佛山市南海区丹灶镇金沙中学"},{"$f":"VLOOKUP(B1314,'[1]002'!B:M,11,0)","v":"-"},{"$f":"VLOOKUP(B1314,'[1]002'!B:M,12,0)","v":"-"}]
[1313,"P306219088384","How do you get to school?","初中组","新媒体新技术教学应用课例","三等奖",{"$f":"RIGHT(LEFT(VLOOKUP(B1315,'[1]002'!B:M,3,0),7),3)","v":"韶关市"},{"$f":"VLOOKUP(B1315,'[1]002'!B:M,7,0)","v":"郭成燕"},{"$f":"VLOOKUP(B1315,'[1]002'!B:M,8,0)","v":"韶关市第九中学"},{"$f":"VLOOKUP(B1315,'[1]002'!B:M,11,0)","v":"潘高峰"},{"$f":"VLOOKUP(B1315,'[1]002'!B:M,12,0)","v":"韶关市第九中学"}]
[1314,"P306219088388","生肖的联想","初中组","新媒体新技术教学应用课例","三等奖",{"$f":"RIGHT(LEFT(VLOOKUP(B1316,'[1]002'!B:M,3,0),7),3)","v":"韶关市"},{"$f":"VLOOKUP(B1316,'[1]002'!B:M,7,0)","v":"高龄玲"},{"$f":"VLOOKUP(B1316,'[1]002'!B:M,8,0)","v":"韶关市第九中学"},{"$f":"VLOOKUP(B1316,'[1]002'!B:M,11,0)","v":"潘高峰"},{"$f":"VLOOKUP(B1316,'[1]002'!B:M,12,0)","v":"韶关市第九中学"}]
[1315,"P306219088378","聚落","初中组","新媒体新技术教学应用课例","三等奖",{"$f":"RIGHT(LEFT(VLOOKUP(B1317,'[1]002'!B:M,3,0),7),3)","v":"韶关市"},{"$f":"VLOOKUP(B1317,'[1]002'!B:M,7,0)","v":"黄安丽"},{"$f":"VLOOKUP(B1317,'[1]002'!B:M,8,0)","v":"韶关市第十四中学"},{"$f":"VLOOKUP(B1317,'[1]002'!B:M,11,0)","v":"-"},{"$f":"VLOOKUP(B1317,'[1]002'!B:M,12,0)","v":"-"}]
[1316,"P306219093369","Rainboweating","初中组","新媒体新技术教学应用课例","三等奖",{"$f":"RIGHT(LEFT(VLOOKUP(B1318,'[1]002'!B:M,3,0),7),3)","v":"河源市"},{"$f":"VLOOKUP(B1318,'[1]002'!B:M,7,0)","v":"刘小蓉"},{"$f":"VLOOKUP(B1318,'[1]002'!B:M,8,0)","v":"东源县实验中学"},{"$f":"VLOOKUP(B1318,'[1]002'!B:M,11,0)","v":"-"},{"$f":"VLOOKUP(B1318,'[1]002'!B:M,12,0)","v":"-"}]
[1317,"P306219092241","用电子表格检索数据","初中组","新媒体新技术教学应用课例","三等奖",{"$f":"RIGHT(LEFT(VLOOKUP(B1319,'[1]002'!B:M,3,0),7),3)","v":"惠州市"},{"$f":"VLOOKUP(B1319,'[1]002'!B:M,7,0)","v":"王志云"},{"$f":"VLOOKUP(B1319,'[1]002'!B:M,8,0)","v":"惠州市光正实验学校"},{"$f":"VLOOKUP(B1319,'[1]002'!B:M,11,0)","v":"-"},{"$f":"VLOOKUP(B1319,'[1]002'!B:M,12,0)","v":"-"}]
[1318,"P306219092440","松山湖实验中学杨山青Elephant课外阅读","初中组","新媒体新技术教学应用课例","三等奖",{"$f":"RIGHT(LEFT(VLOOKUP(B1320,'[1]002'!B:M,3,0),7),3)","v":"东莞市"},{"$f":"VLOOKUP(B1320,'[1]002'!B:M,7,0)","v":"杨山青"},{"$f":"VLOOKUP(B1320,'[1]002'!B:M,8,0)","v":"东莞市东华初级中学"},{"$f":"VLOOKUP(B1320,'[1]002'!B:M,11,0)","v":"-"},{"$f":"VLOOKUP(B1320,'[1]002'!B:M,12,0)","v":"-"}]
[1319,"P306219092434","正视发展挑战","初中组","新媒体新技术教学应用课例","三等奖",{"$f":"RIGHT(LEFT(VLOOKUP(B1321,'[1]002'!B:M,3,0),7),3)","v":"东莞市"},{"$f":"VLOOKUP(B1321,'[1]002'!B:M,7,0)","v":"丁梦蕾"},{"$f":"VLOOKUP(B1321,'[1]002'!B:M,8,0)","v":"东莞市松山湖实验中学"},{"$f":"VLOOKUP(B1321,'[1]002'!B:M,11,0)","v":"-"},{"$f":"VLOOKUP(B1321,'[1]002'!B:M,12,0)","v":"-"}]
[1320,"P306219092436","孙悟空三性一体人物形象分析教学课例","初中组","新媒体新技术教学应用课例","三等奖",{"$f":"RIGHT(LEFT(VLOOKUP(B1322,'[1]002'!B:M,3,0),7),3)","v":"东莞市"},{"$f":"VLOOKUP(B1322,'[1]002'!B:M,7,0)","v":"刘秋云"},{"$f":"VLOOKUP(B1322,'[1]002'!B:M,8,0)","v":"东莞市低涌中学"},{"$f":"VLOOKUP(B1322,'[1]002'!B:M,11,0)","v":"-"},{"$f":"VLOOKUP(B1322,'[1]002'!B:M,12,0)","v":"-"}]
[1321,"P306219092431","法不可违","初中组","新媒体新技术教学应用课例","三等奖",{"$f":"RIGHT(LEFT(VLOOKUP(B1323,'[1]002'!B:M,3,0),7),3)","v":"东莞市"},{"$f":"VLOOKUP(B1323,'[1]002'!B:M,7,0)","v":"林倩琪"},{"$f":"VLOOKUP(B1323,'[1]002'!B:M,8,0)","v":"东莞市松山湖实验中学"},{"$f":"VLOOKUP(B1323,'[1]002'!B:M,11,0)","v":"-"},{"$f":"VLOOKUP(B1323,'[1]002'!B:M,12,0)","v":"-"}]
[1322,"P306219092439","初中生物创新教学以病毒一课为例","初中组","新媒体新技术教学应用课例","三等奖",{"$f":"RIGHT(LEFT(VLOOKUP(B1324,'[1]002'!B:M,3,0),7),3)","v":"东莞市"},{"$f":"VLOOKUP(B1324,'[1]002'!B:M,7,0)","v":"卢嘉欣"},{"$f":"VLOOKUP(B1324,'[1]002'!B:M,8,0)","v":"东莞市松山湖实验中学"},{"$f":"VLOOKUP(B1324,'[1]002'!B:M,11,0)","v":"-"},{"$f":"VLOOKUP(B1324,'[1]002'!B:M,12,0)","v":"-"}]
[1323,"P306219092442","欧姆定律","初中组","新媒体新技术教学应用课例","三等奖",{"$f":"RIGHT(LEFT(VLOOKUP(B1325,'[1]002'!B:M,3,0),7),3)","v":"东莞市"},{"$f":"VLOOKUP(B1325,'[1]002'!B:M,7,0)","v":"廖浩铭"},{"$f":"VLOOKUP(B1325,'[1]002'!B:M,8,0)","v":"东莞市可园中学"},{"$f":"VLOOKUP(B1325,'[1]002'!B:M,11,0)","v":"-"},{"$f":"VLOOKUP(B1325,'[1]002'!B:M,12,0)","v":"-"}]
[1324,"P306219088958","图层应用","初中组","新媒体新技术教学应用课例","三等奖",{"$f":"RIGHT(LEFT(VLOOKUP(B1326,'[1]002'!B:M,3,0),7),3)","v":"中山市"},{"$f":"VLOOKUP(B1326,'[1]002'!B:M,7,0)","v":"王怡涵"},{"$f":"VLOOKUP(B1326,'[1]002'!B:M,8,0)","v":"中山市坦洲实验中学"},{"$f":"VLOOKUP(B1326,'[1]002'!B:M,11,0)","v":"-"},{"$f":"VLOOKUP(B1326,'[1]002'!B:M,12,0)","v":"-"}]
[1325,"P307219090352","一次函数与二元一次方程组","初中组","新媒体新技术教学应用课例","三等奖",{"$f":"RIGHT(LEFT(VLOOKUP(B1327,'[1]002'!B:M,3,0),7),3)","v":"中山市"},{"$f":"VLOOKUP(B1327,'[1]002'!B:M,7,0)","v":"邓婷"},{"$f":"VLOOKUP(B1327,'[1]002'!B:M,8,0)","v":"中山市东区远洋学校"},{"$f":"VLOOKUP(B1327,'[1]002'!B:M,11,0)","v":"王安平"},{"$f":"VLOOKUP(B1327,'[1]002'!B:M,12,0)","v":"中山市东区远洋学校"}]
[1326,"P306219089135","使用Photoshop合成端午节海报","初中组","新媒体新技术教学应用课例","三等奖",{"$f":"RIGHT(LEFT(VLOOKUP(B1328,'[1]002'!B:M,3,0),7),3)","v":"中山市"},{"$f":"VLOOKUP(B1328,'[1]002'!B:M,7,0)","v":"李思静"},{"$f":"VLOOKUP(B1328,'[1]002'!B:M,8,0)","v":"中山市坦洲中学"},{"$f":"VLOOKUP(B1328,'[1]002'!B:M,11,0)","v":"-"},{"$f":"VLOOKUP(B1328,'[1]002'!B:M,12,0)","v":"-"}]
[1327,"P306219088948","神奇的魔法师——利用滤镜制作图像特效","初中组","新媒体新技术教学应用课例","三等奖",{"$f":"RIGHT(LEFT(VLOOKUP(B1329,'[1]002'!B:M,3,0),7),3)","v":"中山市"},{"$f":"VLOOKUP(B1329,'[1]002'!B:M,7,0)","v":"刘小娜"},{"$f":"VLOOKUP(B1329,'[1]002'!B:M,8,0)","v":"中山市坦洲实验中学"},{"$f":"VLOOKUP(B1329,'[1]002'!B:M,11,0)","v":"-"},{"$f":"VLOOKUP(B1329,'[1]002'!B:M,12,0)","v":"-"}]
[1328,"P306219088712","赏析景物描写作用","初中组","新媒体新技术教学应用课例","三等奖",{"$f":"RIGHT(LEFT(VLOOKUP(B1330,'[1]002'!B:M,3,0),7),3)","v":"中山市"},{"$f":"VLOOKUP(B1330,'[1]002'!B:M,7,0)","v":"饶龙霞"},{"$f":"VLOOKUP(B1330,'[1]002'!B:M,8,0)","v":"中山市西区铁城初级中学"},{"$f":"VLOOKUP(B1330,'[1]002'!B:M,11,0)","v":"苏敏坚"},{"$f":"VLOOKUP(B1330,'[1]002'!B:M,12,0)","v":"中山市西区铁城初级中学"}]
[1329,"P306219089228","酸碱盐的复习（第1课时）","初中组","新媒体新技术教学应用课例","三等奖",{"$f":"RIGHT(LEFT(VLOOKUP(B1331,'[1]002'!B:M,3,0),7),3)","v":"中山市"},{"$f":"VLOOKUP(B1331,'[1]002'!B:M,7,0)","v":"黄海萍"},{"$f":"VLOOKUP(B1331,'[1]002'!B:M,8,0)","v":"中山市石岐中学"},{"$f":"VLOOKUP(B1331,'[1]002'!B:M,11,0)","v":"-"},{"$f":"VLOOKUP(B1331,'[1]002'!B:M,12,0)","v":"-"}]
[1330,"P306219088616","Unit 6 I’m going to study computer science.","初中组","新媒体新技术教学应用课例","三等奖",{"$f":"RIGHT(LEFT(VLOOKUP(B1332,'[1]002'!B:M,3,0),7),3)","v":"中山市"},{"$f":"VLOOKUP(B1332,'[1]002'!B:M,7,0)","v":"张平怡"},{"$f":"VLOOKUP(B1332,'[1]002'!B:M,8,0)","v":"中山市溪角初级中学"},{"$f":"VLOOKUP(B1332,'[1]002'!B:M,11,0)","v":"-"},{"$f":"VLOOKUP(B1332,'[1]002'!B:M,12,0)","v":"-"}]
[1331,"P306219089101","小石潭记复习","初中组","新媒体新技术教学应用课例","三等奖",{"$f":"RIGHT(LEFT(VLOOKUP(B1333,'[1]002'!B:M,3,0),7),3)","v":"中山市"},{"$f":"VLOOKUP(B1333,'[1]002'!B:M,7,0)","v":"林英"},{"$f":"VLOOKUP(B1333,'[1]002'!B:M,8,0)","v":"中山市北区中学"},{"$f":"VLOOKUP(B1333,'[1]002'!B:M,11,0)","v":"-"},{"$f":"VLOOKUP(B1333,'[1]002'!B:M,12,0)","v":"-"}]
[1332,"P306219092784","北魏政治和北方民族大交融","初中组","新媒体新技术教学应用课例","三等奖",{"$f":"RIGHT(LEFT(VLOOKUP(B1334,'[1]002'!B:M,3,0),7),3)","v":"江门市"},{"$f":"VLOOKUP(B1334,'[1]002'!B:M,7,0)","v":"唐新成"},{"$f":"VLOOKUP(B1334,'[1]002'!B:M,8,0)","v":"台山市新宁中学"},{"$f":"VLOOKUP(B1334,'[1]002'!B:M,11,0)","v":"-"},{"$f":"VLOOKUP(B1334,'[1]002'!B:M,12,0)","v":"-"}]
[1333,"P306219092034","应用电子书包技术优化英语课堂教学","初中组","新媒体新技术教学应用课例","三等奖",{"$f":"RIGHT(LEFT(VLOOKUP(B1335,'[1]002'!B:M,3,0),7),3)","v":"江门市"},{"$f":"VLOOKUP(B1335,'[1]002'!B:M,7,0)","v":"谭巧珍"},{"$f":"VLOOKUP(B1335,'[1]002'!B:M,8,0)","v":"台山市新宁中学"},{"$f":"VLOOKUP(B1335,'[1]002'!B:M,11,0)","v":"-"},{"$f":"VLOOKUP(B1335,'[1]002'!B:M,12,0)","v":"-"}]
[1334,"P306219091997","19.2.3一次函数与方程、不等式（1）","初中组","新媒体新技术教学应用课例","三等奖",{"$f":"RIGHT(LEFT(VLOOKUP(B1336,'[1]002'!B:M,3,0),7),3)","v":"江门市"},{"$f":"VLOOKUP(B1336,'[1]002'!B:M,7,0)","v":"谈健安"},{"$f":"VLOOKUP(B1336,'[1]002'!B:M,8,0)","v":"开平市金山中学"},{"$f":"VLOOKUP(B1336,'[1]002'!B:M,11,0)","v":"-"},{"$f":"VLOOKUP(B1336,'[1]002'!B:M,12,0)","v":"-"}]
[1335,"P306219092075","Module11Unit1BodyLanguage","初中组","新媒体新技术教学应用课例","三等奖",{"$f":"RIGHT(LEFT(VLOOKUP(B1337,'[1]002'!B:M,3,0),7),3)","v":"江门市"},{"$f":"VLOOKUP(B1337,'[1]002'!B:M,7,0)","v":"杨惠娟"},{"$f":"VLOOKUP(B1337,'[1]002'!B:M,8,0)","v":"江门市新会葵城中学"},{"$f":"VLOOKUP(B1337,'[1]002'!B:M,11,0)","v":"-"},{"$f":"VLOOKUP(B1337,'[1]002'!B:M,12,0)","v":"-"}]
[1336,"P306219091821","菱形的判定","初中组","新媒体新技术教学应用课例","三等奖",{"$f":"RIGHT(LEFT(VLOOKUP(B1338,'[1]002'!B:M,3,0),7),3)","v":"江门市"},{"$f":"VLOOKUP(B1338,'[1]002'!B:M,7,0)","v":"林兆强"},{"$f":"VLOOKUP(B1338,'[1]002'!B:M,8,0)","v":"江门市第十一中学"},{"$f":"VLOOKUP(B1338,'[1]002'!B:M,11,0)","v":"-"},{"$f":"VLOOKUP(B1338,'[1]002'!B:M,12,0)","v":"-"}]
[1337,"P306219091789","人类对细菌和真菌的利用","初中组","新媒体新技术教学应用课例","三等奖",{"$f":"RIGHT(LEFT(VLOOKUP(B1339,'[1]002'!B:M,3,0),7),3)","v":"江门市"},{"$f":"VLOOKUP(B1339,'[1]002'!B:M,7,0)","v":"李  明"},{"$f":"VLOOKUP(B1339,'[1]002'!B:M,8,0)","v":"江门市第九中学"},{"$f":"VLOOKUP(B1339,'[1]002'!B:M,11,0)","v":"-"},{"$f":"VLOOKUP(B1339,'[1]002'!B:M,12,0)","v":"-"}]
[1338,"P306219091378","用计算机做科学实验","初中组","新媒体新技术教学应用课例","三等奖",{"$f":"RIGHT(LEFT(VLOOKUP(B1340,'[1]002'!B:M,3,0),7),3)","v":"茂名市"},{"$f":"VLOOKUP(B1340,'[1]002'!B:M,7,0)","v":"陈文政"},{"$f":"VLOOKUP(B1340,'[1]002'!B:M,8,0)","v":"茂名市第七中学"},{"$f":"VLOOKUP(B1340,'[1]002'!B:M,11,0)","v":"-"},{"$f":"VLOOKUP(B1340,'[1]002'!B:M,12,0)","v":"-"}]
[1339,"P306219091302","因式分解复习课","初中组","新媒体新技术教学应用课例","三等奖",{"$f":"RIGHT(LEFT(VLOOKUP(B1341,'[1]002'!B:M,3,0),7),3)","v":"茂名市"},{"$f":"VLOOKUP(B1341,'[1]002'!B:M,7,0)","v":"吴丹媚"},{"$f":"VLOOKUP(B1341,'[1]002'!B:M,8,0)","v":"茂名市博雅中学"},{"$f":"VLOOKUP(B1341,'[1]002'!B:M,11,0)","v":"-"},{"$f":"VLOOKUP(B1341,'[1]002'!B:M,12,0)","v":"-"}]
[1340,"P306219091430","分式的加减法1","初中组","新媒体新技术教学应用课例","三等奖",{"$f":"RIGHT(LEFT(VLOOKUP(B1342,'[1]002'!B:M,3,0),7),3)","v":"茂名市"},{"$f":"VLOOKUP(B1342,'[1]002'!B:M,7,0)","v":"郑夏玲"},{"$f":"VLOOKUP(B1342,'[1]002'!B:M,8,0)","v":"茂名市博雅中学"},{"$f":"VLOOKUP(B1342,'[1]002'!B:M,11,0)","v":"-"},{"$f":"VLOOKUP(B1342,'[1]002'!B:M,12,0)","v":"-"}]
[1341,"P306219091376","M3Unit2 Thhis year we are training more carefully.","初中组","新媒体新技术教学应用课例","三等奖",{"$f":"RIGHT(LEFT(VLOOKUP(B1343,'[1]002'!B:M,3,0),7),3)","v":"茂名市"},{"$f":"VLOOKUP(B1343,'[1]002'!B:M,7,0)","v":"黄小莲"},{"$f":"VLOOKUP(B1343,'[1]002'!B:M,8,0)","v":"茂名市愉园中学"},{"$f":"VLOOKUP(B1343,'[1]002'!B:M,11,0)","v":"-"},{"$f":"VLOOKUP(B1343,'[1]002'!B:M,12,0)","v":"-"}]
[1342,"P306219091431","外交事业的发展","初中组","新媒体新技术教学应用课例","三等奖",{"$f":"RIGHT(LEFT(VLOOKUP(B1344,'[1]002'!B:M,3,0),7),3)","v":"茂名市"},{"$f":"VLOOKUP(B1344,'[1]002'!B:M,7,0)","v":"张乔君"},{"$f":"VLOOKUP(B1344,'[1]002'!B:M,8,0)","v":"茂名市启源中学"},{"$f":"VLOOKUP(B1344,'[1]002'!B:M,11,0)","v":"-"},{"$f":"VLOOKUP(B1344,'[1]002'!B:M,12,0)","v":"-"}]
[1343,"P306219091555","蚊子和狮子","初中组","新媒体新技术教学应用课例","三等奖",{"$f":"RIGHT(LEFT(VLOOKUP(B1345,'[1]002'!B:M,3,0),7),3)","v":"茂名市"},{"$f":"VLOOKUP(B1345,'[1]002'!B:M,7,0)","v":"柯嘉敏"},{"$f":"VLOOKUP(B1345,'[1]002'!B:M,8,0)","v":"茂名市新世纪学校"},{"$f":"VLOOKUP(B1345,'[1]002'!B:M,11,0)","v":"柯宇媚"},{"$f":"VLOOKUP(B1345,'[1]002'!B:M,12,0)","v":"化州市中垌镇杨充小学"}]
[1344,"P306219091301","病句的辨析与修改","初中组","新媒体新技术教学应用课例","三等奖",{"$f":"RIGHT(LEFT(VLOOKUP(B1346,'[1]002'!B:M,3,0),7),3)","v":"茂名市"},{"$f":"VLOOKUP(B1346,'[1]002'!B:M,7,0)","v":"邹金兰"},{"$f":"VLOOKUP(B1346,'[1]002'!B:M,8,0)","v":"高州市镇江中学"},{"$f":"VLOOKUP(B1346,'[1]002'!B:M,11,0)","v":"-"},{"$f":"VLOOKUP(B1346,'[1]002'!B:M,12,0)","v":"-"}]
[1345,"P306219091429","夯实法治基石","初中组","新媒体新技术教学应用课例","三等奖",{"$f":"RIGHT(LEFT(VLOOKUP(B1347,'[1]002'!B:M,3,0),7),3)","v":"茂名市"},{"$f":"VLOOKUP(B1347,'[1]002'!B:M,7,0)","v":"许田金"},{"$f":"VLOOKUP(B1347,'[1]002'!B:M,8,0)","v":"茂名市博雅中学"},{"$f":"VLOOKUP(B1347,'[1]002'!B:M,11,0)","v":"-"},{"$f":"VLOOKUP(B1347,'[1]002'!B:M,12,0)","v":"-"}]
[1346,"P306219091204","一次函数的图像和性质","初中组","新媒体新技术教学应用课例","三等奖",{"$f":"RIGHT(LEFT(VLOOKUP(B1348,'[1]002'!B:M,3,0),7),3)","v":"肇庆市"},{"$f":"VLOOKUP(B1348,'[1]002'!B:M,7,0)","v":"欧文杰"},{"$f":"VLOOKUP(B1348,'[1]002'!B:M,8,0)","v":"鼎湖区永安镇初级中学"},{"$f":"VLOOKUP(B1348,'[1]002'!B:M,11,0)","v":"-"},{"$f":"VLOOKUP(B1348,'[1]002'!B:M,12,0)","v":"-"}]
[1347,"P306219091691","何时获得最大利润","初中组","新媒体新技术教学应用课例","三等奖",{"$f":"RIGHT(LEFT(VLOOKUP(B1349,'[1]002'!B:M,3,0),7),3)","v":"清远市"},{"$f":"VLOOKUP(B1349,'[1]002'!B:M,7,0)","v":"李丽丹"},{"$f":"VLOOKUP(B1349,'[1]002'!B:M,8,0)","v":"英德市第八中学"},{"$f":"VLOOKUP(B1349,'[1]002'!B:M,11,0)","v":"-"},{"$f":"VLOOKUP(B1349,'[1]002'!B:M,12,0)","v":"-"}]
[1348,"P306219091698","仁爱英语七年级下册第6单元第二个话题第2课","初中组","新媒体新技术教学应用课例","三等奖",{"$f":"RIGHT(LEFT(VLOOKUP(B1350,'[1]002'!B:M,3,0),7),3)","v":"清远市"},{"$f":"VLOOKUP(B1350,'[1]002'!B:M,7,0)","v":"卢会玲"},{"$f":"VLOOKUP(B1350,'[1]002'!B:M,8,0)","v":"清远市博爱学校"},{"$f":"VLOOKUP(B1350,'[1]002'!B:M,11,0)","v":"-"},{"$f":"VLOOKUP(B1350,'[1]002'!B:M,12,0)","v":"-"}]
[1349,"P306219087285","6.4探究滑动摩擦力","初中组","新媒体新技术教学应用课例","三等奖",{"$f":"RIGHT(LEFT(VLOOKUP(B1351,'[1]002'!B:M,3,0),7),3)","v":"潮州市"},{"$f":"VLOOKUP(B1351,'[1]002'!B:M,7,0)","v":"许绿垒"},{"$f":"VLOOKUP(B1351,'[1]002'!B:M,8,0)","v":"潮州市湘桥区城南实验中学"},{"$f":"VLOOKUP(B1351,'[1]002'!B:M,11,0)","v":"-"},{"$f":"VLOOKUP(B1351,'[1]002'!B:M,12,0)","v":"-"}]
[1350,"P302219091080","酸和碱的中和反应","初中组","教育资源应用案例_项目单位","三等奖","佛山市",{"$f":"VLOOKUP(B1352,'[1]002'!B:M,7,0)","v":"陈蕴"},{"$f":"VLOOKUP(B1352,'[1]002'!B:M,8,0)","v":"佛山市三水区西南街道健力宝中学"},{"$f":"VLOOKUP(B1352,'[1]002'!B:M,11,0)","v":"-"},{"$f":"VLOOKUP(B1352,'[1]002'!B:M,12,0)","v":"-"}]
[1351,"P302219091372","提公因式法分解因式","初中组","教育资源应用案例_项目单位","三等奖","茂名市",{"$f":"VLOOKUP(B1353,'[1]002'!B:M,7,0)","v":"吴秀萍"},{"$f":"VLOOKUP(B1353,'[1]002'!B:M,8,0)","v":"茂名市第九中学"},{"$f":"VLOOKUP(B1353,'[1]002'!B:M,11,0)","v":"-"},{"$f":"VLOOKUP(B1353,'[1]002'!B:M,12,0)","v":"-"}]
[1352,"P302219081067","北师大2011版七年级下册第13章第一节健康及其条件","初中组","教育资源应用案例_项目单位","三等奖","云浮市",{"$f":"VLOOKUP(B1354,'[1]002'!B:M,7,0)","v":"龙智良"},{"$f":"VLOOKUP(B1354,'[1]002'!B:M,8,0)","v":"新兴县蚕岗中学"},{"$f":"VLOOKUP(B1354,'[1]002'!B:M,11,0)","v":"-"},{"$f":"VLOOKUP(B1354,'[1]002'!B:M,12,0)","v":"-"}]
[1353,"P303319093213","生活中的圆周运动","高中组","课件","一等奖","广州市",{"$f":"VLOOKUP(B1355,'[1]002'!B:M,7,0)","v":"何少娜"},{"$f":"VLOOKUP(B1355,'[1]002'!B:M,8,0)","v":"广州彭加木纪念中学"},{"$f":"VLOOKUP(B1355,'[1]002'!B:M,11,0)","v":"-"},{"$f":"VLOOKUP(B1355,'[1]002'!B:M,12,0)","v":"-"}]
[1354,"P303319093208","发现摆线之美","高中组","课件","一等奖","广州市",{"$f":"VLOOKUP(B1356,'[1]002'!B:M,7,0)","v":"侯锦标"},{"$f":"VLOOKUP(B1356,'[1]002'!B:M,8,0)","v":"广州市第四中学"},{"$f":"VLOOKUP(B1356,'[1]002'!B:M,11,0)","v":"-"},{"$f":"VLOOKUP(B1356,'[1]002'!B:M,12,0)","v":"-"}]
[1355,"P303319093207","球面距离","高中组","课件","一等奖","广州市",{"$f":"VLOOKUP(B1357,'[1]002'!B:M,7,0)","v":"侯锦标"},{"$f":"VLOOKUP(B1357,'[1]002'!B:M,8,0)","v":"广州市第四中学"},{"$f":"VLOOKUP(B1357,'[1]002'!B:M,11,0)","v":"蔡睿"},{"$f":"VLOOKUP(B1357,'[1]002'!B:M,12,0)","v":"广州市第四中学"}]
[1356,"P303319092272","洋流","高中组","课件","一等奖","汕头市",{"$f":"VLOOKUP(B1358,'[1]002'!B:M,7,0)","v":"杨洁彤"},{"$f":"VLOOKUP(B1358,'[1]002'!B:M,8,0)","v":"汕头市东厦中学"},{"$f":"VLOOKUP(B1358,'[1]002'!B:M,11,0)","v":"文及溢"},{"$f":"VLOOKUP(B1358,'[1]002'!B:M,12,0)","v":"汕头市第四中学"}]
[1357,"P303319092270","几种常见的磁场（第一课时）","高中组","课件","一等奖","汕头市",{"$f":"VLOOKUP(B1359,'[1]002'!B:M,7,0)","v":"叶枫"},{"$f":"VLOOKUP(B1359,'[1]002'!B:M,8,0)","v":"汕头市金山中学"},{"$f":"VLOOKUP(B1359,'[1]002'!B:M,11,0)","v":"-"},{"$f":"VLOOKUP(B1359,'[1]002'!B:M,12,0)","v":"-"}]
[1358,"P303319092280","汉字与书法","高中组","课件","一等奖","汕头市",{"$f":"VLOOKUP(B1360,'[1]002'!B:M,7,0)","v":"张秋鸿"},{"$f":"VLOOKUP(B1360,'[1]002'!B:M,8,0)","v":"汕头市澄海苏北中学"},{"$f":"VLOOKUP(B1360,'[1]002'!B:M,11,0)","v":"-"},{"$f":"VLOOKUP(B1360,'[1]002'!B:M,12,0)","v":"-"}]
[1359,"P303319092286","价值的创造与实现","高中组","课件","一等奖","汕头市",{"$f":"VLOOKUP(B1361,'[1]002'!B:M,7,0)","v":"李楚恋"},{"$f":"VLOOKUP(B1361,'[1]002'!B:M,8,0)","v":"汕头市达濠华侨中学"},{"$f":"VLOOKUP(B1361,'[1]002'!B:M,11,0)","v":"-"},{"$f":"VLOOKUP(B1361,'[1]002'!B:M,12,0)","v":"-"}]
[1360,"P303319092274","人的认识从何而来","高中组","课件","一等奖","汕头市",{"$f":"VLOOKUP(B1362,'[1]002'!B:M,7,0)","v":"钟彤"},{"$f":"VLOOKUP(B1362,'[1]002'!B:M,8,0)","v":"汕头市东厦中学"},{"$f":"VLOOKUP(B1362,'[1]002'!B:M,11,0)","v":"-"},{"$f":"VLOOKUP(B1362,'[1]002'!B:M,12,0)","v":"-"}]
[1361,"P303319092271","区域经济和重心的南移","高中组","课件","一等奖","汕头市",{"$f":"VLOOKUP(B1363,'[1]002'!B:M,7,0)","v":"李远飞"},{"$f":"VLOOKUP(B1363,'[1]002'!B:M,8,0)","v":"汕头市澄海苏湾中学"},{"$f":"VLOOKUP(B1363,'[1]002'!B:M,11,0)","v":"-"},{"$f":"VLOOKUP(B1363,'[1]002'!B:M,12,0)","v":"-"}]
[1362,"P303319090635","探究安培力","高中组","课件","一等奖","佛山市",{"$f":"VLOOKUP(B1364,'[1]002'!B:M,7,0)","v":"黄宗毅"},{"$f":"VLOOKUP(B1364,'[1]002'!B:M,8,0)","v":"佛山市顺德区乐从沙滘初级中学"},{"$f":"VLOOKUP(B1364,'[1]002'!B:M,11,0)","v":"-"},{"$f":"VLOOKUP(B1364,'[1]002'!B:M,12,0)","v":"-"}]
[1363,"P303319093389","新时代的劳动者","高中组","课件","一等奖","河源市",{"$f":"VLOOKUP(B1365,'[1]002'!B:M,7,0)","v":"叶胜蓉"},{"$f":"VLOOKUP(B1365,'[1]002'!B:M,8,0)","v":"广东省紫金中学"},{"$f":"VLOOKUP(B1365,'[1]002'!B:M,11,0)","v":"钱发飞"},{"$f":"VLOOKUP(B1365,'[1]002'!B:M,12,0)","v":"紫金县职业技术学校"}]
[1364,"P303319092256","高中物理flash课件","高中组","课件","一等奖","惠州市",{"$f":"VLOOKUP(B1366,'[1]002'!B:M,7,0)","v":"路嘉瑜"},{"$f":"VLOOKUP(B1366,'[1]002'!B:M,8,0)","v":"惠州市光正实验学校"},"叶粉娥","佛山市顺德区容桂上佳市小学"]
[1365,"P303319092498","信息安全","高中组","课件","一等奖","东莞市",{"$f":"VLOOKUP(B1367,'[1]002'!B:M,7,0)","v":"郑旭淳"},{"$f":"VLOOKUP(B1367,'[1]002'!B:M,8,0)","v":"东莞市第六高级中学"},{"$f":"VLOOKUP(B1367,'[1]002'!B:M,11,0)","v":"黎清万"},{"$f":"VLOOKUP(B1367,'[1]002'!B:M,12,0)","v":"东莞市第六高级中学"}]
[1366,"P303319092499","通过神经系统的调节","高中组","课件","一等奖","东莞市",{"$f":"VLOOKUP(B1368,'[1]002'!B:M,7,0)","v":"蔡欢慈"},{"$f":"VLOOKUP(B1368,'[1]002'!B:M,8,0)","v":"东莞市东城第一中学"},{"$f":"VLOOKUP(B1368,'[1]002'!B:M,11,0)","v":"-"},{"$f":"VLOOKUP(B1368,'[1]002'!B:M,12,0)","v":"-"}]
[1367,"P303319093017","第二节动能势能","高中组","课件","一等奖","湛江市",{"$f":"VLOOKUP(B1369,'[1]002'!B:M,7,0)","v":"吴蜜"},{"$f":"VLOOKUP(B1369,'[1]002'!B:M,8,0)","v":"湛江经济技术开发区觉民中学"},{"$f":"VLOOKUP(B1369,'[1]002'!B:M,11,0)","v":"-"},{"$f":"VLOOKUP(B1369,'[1]002'!B:M,12,0)","v":"-"}]
[1368,"P303319093044","主谓一致","高中组","课件","一等奖","湛江市",{"$f":"VLOOKUP(B1370,'[1]002'!B:M,7,0)","v":"王思婷"},{"$f":"VLOOKUP(B1370,'[1]002'!B:M,8,0)","v":"岭南师范学院附属中学"},{"$f":"VLOOKUP(B1370,'[1]002'!B:M,11,0)","v":"-"},{"$f":"VLOOKUP(B1370,'[1]002'!B:M,12,0)","v":"-"}]
[1369,"P303319093049","爱进制","高中组","课件","一等奖","湛江市",{"$f":"VLOOKUP(B1371,'[1]002'!B:M,7,0)","v":"曹红丽"},{"$f":"VLOOKUP(B1371,'[1]002'!B:M,8,0)","v":"湛江市爱周高级中学"},{"$f":"VLOOKUP(B1371,'[1]002'!B:M,11,0)","v":"-"},{"$f":"VLOOKUP(B1371,'[1]002'!B:M,12,0)","v":"-"}]
[1370,"P303319087831","影视音乐","高中组","课件","一等奖","云浮市",{"$f":"VLOOKUP(B1372,'[1]002'!B:M,7,0)","v":"廖国灿"},{"$f":"VLOOKUP(B1372,'[1]002'!B:M,8,0)","v":"罗定中学"},{"$f":"VLOOKUP(B1372,'[1]002'!B:M,11,0)","v":"韦建强"},{"$f":"VLOOKUP(B1372,'[1]002'!B:M,12,0)","v":"罗定中学"}]
[1371,"P305319093237","探究钠与水反应","高中组","微课","一等奖","广州市",{"$f":"VLOOKUP(B1373,'[1]002'!B:M,7,0)","v":"曾显林"},{"$f":"VLOOKUP(B1373,'[1]002'!B:M,8,0)","v":"广东广雅中学"},{"$f":"VLOOKUP(B1373,'[1]002'!B:M,11,0)","v":"-"},{"$f":"VLOOKUP(B1373,'[1]002'!B:M,12,0)","v":"-"}]
[1372,"P305319092700","实业救国","高中组","微课","一等奖","深圳市",{"$f":"VLOOKUP(B1374,'[1]002'!B:M,7,0)","v":"温娜"},{"$f":"VLOOKUP(B1374,'[1]002'!B:M,8,0)","v":"深圳市罗湖外语学校"},{"$f":"VLOOKUP(B1374,'[1]002'!B:M,11,0)","v":"-"},{"$f":"VLOOKUP(B1374,'[1]002'!B:M,12,0)","v":"-"}]
[1373,"P305319092299","英语听说考试速记微技能指导","高中组","微课","一等奖","汕头市",{"$f":"VLOOKUP(B1375,'[1]002'!B:M,7,0)","v":"吴怡文"},{"$f":"VLOOKUP(B1375,'[1]002'!B:M,8,0)","v":"汕头市聿怀中学"},{"$f":"VLOOKUP(B1375,'[1]002'!B:M,11,0)","v":"-"},{"$f":"VLOOKUP(B1375,'[1]002'!B:M,12,0)","v":"-"}]
[1374,"P305319092301","如何提高文章的内在美","高中组","微课","一等奖","汕头市",{"$f":"VLOOKUP(B1376,'[1]002'!B:M,7,0)","v":"黄晓为"},{"$f":"VLOOKUP(B1376,'[1]002'!B:M,8,0)","v":"汕头市达濠华侨中学"},{"$f":"VLOOKUP(B1376,'[1]002'!B:M,11,0)","v":"-"},{"$f":"VLOOKUP(B1376,'[1]002'!B:M,12,0)","v":"-"}]
[1375,"P305319092294","步步为营之球截面性质的简单应用","高中组","微课","一等奖","汕头市",{"$f":"VLOOKUP(B1377,'[1]002'!B:M,7,0)","v":"许秋妍"},{"$f":"VLOOKUP(B1377,'[1]002'!B:M,8,0)","v":"汕头市第一中学"},{"$f":"VLOOKUP(B1377,'[1]002'!B:M,11,0)","v":"-"},{"$f":"VLOOKUP(B1377,'[1]002'!B:M,12,0)","v":"-"}]
[1376,"P305319092311","扩散现象","高中组","微课","一等奖","汕头市",{"$f":"VLOOKUP(B1378,'[1]002'!B:M,7,0)","v":"黄晓琼"},{"$f":"VLOOKUP(B1378,'[1]002'!B:M,8,0)","v":"汕头市河浦中学"},{"$f":"VLOOKUP(B1378,'[1]002'!B:M,11,0)","v":"-"},{"$f":"VLOOKUP(B1378,'[1]002'!B:M,12,0)","v":"-"}]
[1377,"P305319092309","逐帧动画与视觉暂留","高中组","微课","一等奖","汕头市",{"$f":"VLOOKUP(B1379,'[1]002'!B:M,7,0)","v":"王霞"},{"$f":"VLOOKUP(B1379,'[1]002'!B:M,8,0)","v":"汕头市聿怀中学"},{"$f":"VLOOKUP(B1379,'[1]002'!B:M,11,0)","v":"-"},{"$f":"VLOOKUP(B1379,'[1]002'!B:M,12,0)","v":"-"}]
[1378,"P305319090657","乙醇的催化氧化反应","高中组","微课","一等奖","佛山市",{"$f":"VLOOKUP(B1380,'[1]002'!B:M,7,0)","v":"赵丽珍"},{"$f":"VLOOKUP(B1380,'[1]002'!B:M,8,0)","v":"佛山市南海区九江中学"},{"$f":"VLOOKUP(B1380,'[1]002'!B:M,11,0)","v":"-"},{"$f":"VLOOKUP(B1380,'[1]002'!B:M,12,0)","v":"-"}]
[1379,"P305319092208","利用insert函数向列表中添加新元素","高中组","微课","一等奖","惠州市",{"$f":"VLOOKUP(B1381,'[1]002'!B:M,7,0)","v":"刘送娥"},{"$f":"VLOOKUP(B1381,'[1]002'!B:M,8,0)","v":"华南师范大学附属惠阳学校"},{"$f":"VLOOKUP(B1381,'[1]002'!B:M,11,0)","v":"-"},{"$f":"VLOOKUP(B1381,'[1]002'!B:M,12,0)","v":"-"}]
[1380,"P305319092985","创意无处不在——有趣的条形码","高中组","微课","一等奖","湛江市",{"$f":"VLOOKUP(B1382,'[1]002'!B:M,7,0)","v":"李琳"},{"$f":"VLOOKUP(B1382,'[1]002'!B:M,8,0)","v":"湛江二中港城中学"},{"$f":"VLOOKUP(B1382,'[1]002'!B:M,11,0)","v":"-"},{"$f":"VLOOKUP(B1382,'[1]002'!B:M,12,0)","v":"-"}]
[1381,"P305319092987","使用Camtasia软件制作微课-测定溶液酸碱性","高中组","微课","一等奖","湛江市",{"$f":"VLOOKUP(B1383,'[1]002'!B:M,7,0)","v":"杜晓华"},{"$f":"VLOOKUP(B1383,'[1]002'!B:M,8,0)","v":"岭南师范学院附属中学"},{"$f":"VLOOKUP(B1383,'[1]002'!B:M,11,0)","v":"-"},{"$f":"VLOOKUP(B1383,'[1]002'!B:M,12,0)","v":"-"}]
[1382,"P305319091794","风化作用与风力侵蚀作用","高中组","微课","一等奖","茂名市",{"$f":"VLOOKUP(B1384,'[1]002'!B:M,7,0)","v":"何杰"},{"$f":"VLOOKUP(B1384,'[1]002'!B:M,8,0)","v":"广东高州中学"},{"$f":"VLOOKUP(B1384,'[1]002'!B:M,11,0)","v":"-"},{"$f":"VLOOKUP(B1384,'[1]002'!B:M,12,0)","v":"-"}]
[1383,"P307319092677","信息技术助力数学探究","高中组","信息技术创新教学案例","一等奖","深圳市",{"$f":"VLOOKUP(B1385,'[1]002'!B:M,7,0)","v":"张红红"},{"$f":"VLOOKUP(B1385,'[1]002'!B:M,8,0)","v":"人大附中深圳学校"},{"$f":"VLOOKUP(B1385,'[1]002'!B:M,11,0)","v":"-"},{"$f":"VLOOKUP(B1385,'[1]002'!B:M,12,0)","v":"-"}]
[1384,"P307319090608","倒车智能提醒项目教学案例","高中组","信息技术创新教学案例","一等奖","佛山市",{"$f":"VLOOKUP(B1386,'[1]002'!B:M,7,0)","v":"曾俏华"},{"$f":"VLOOKUP(B1386,'[1]002'!B:M,8,0)","v":"佛山市顺德区青云中学"},{"$f":"VLOOKUP(B1386,'[1]002'!B:M,11,0)","v":"陈仲光"},{"$f":"VLOOKUP(B1386,'[1]002'!B:M,12,0)","v":"佛山市顺德区青云中学"}]
[1385,"P307319090605","中学机器人课程分层教学案例","高中组","信息技术创新教学案例","一等奖","佛山市",{"$f":"VLOOKUP(B1387,'[1]002'!B:M,7,0)","v":"胡楚佳"},{"$f":"VLOOKUP(B1387,'[1]002'!B:M,8,0)","v":"佛山市顺德区罗定邦中学"},{"$f":"VLOOKUP(B1387,'[1]002'!B:M,11,0)","v":"-"},{"$f":"VLOOKUP(B1387,'[1]002'!B:M,12,0)","v":"-"}]
[1386,"P301319092764","Python中常见数据集合：列表、元组及字典","高中组","教师网络空间应用案例","一等奖","深圳市",{"$f":"VLOOKUP(B1388,'[1]002'!B:M,7,0)","v":"于欢"},{"$f":"VLOOKUP(B1388,'[1]002'!B:M,8,0)","v":"龙华高级中学"},{"$f":"VLOOKUP(B1388,'[1]002'!B:M,11,0)","v":"-"},{"$f":"VLOOKUP(B1388,'[1]002'!B:M,12,0)","v":"-"}]
[1387,"P304319092320","潮汕传统文化艺术设计跨学科项目学习教学案例","高中组","跨学科项目式学习教学案例","一等奖","汕头市",{"$f":"VLOOKUP(B1389,'[1]002'!B:M,7,0)","v":"林晗"},{"$f":"VLOOKUP(B1389,'[1]002'!B:M,8,0)","v":"汕头市澄海实验高级中学"},{"$f":"VLOOKUP(B1389,'[1]002'!B:M,11,0)","v":"蔡晓环"},{"$f":"VLOOKUP(B1389,'[1]002'!B:M,12,0)","v":"汕头市澄海实验高级中学"}]
[1388,"P306319093225","苏轼在岭南微信公众号推文写作与交流","高中组","新媒体新技术教学应用课例","一等奖",{"$f":"RIGHT(LEFT(VLOOKUP(B1390,'[1]002'!B:M,3,0),7),3)","v":"广州市"},{"$f":"VLOOKUP(B1390,'[1]002'!B:M,7,0)","v":"帅晨晨"},{"$f":"VLOOKUP(B1390,'[1]002'!B:M,8,0)","v":"广东实验中学越秀学校"},{"$f":"VLOOKUP(B1390,'[1]002'!B:M,11,0)","v":"-"},{"$f":"VLOOKUP(B1390,'[1]002'!B:M,12,0)","v":"-"}]
[1389,"P306319091930","囚绿记","高中组","新媒体新技术教学应用课例","一等奖",{"$f":"RIGHT(LEFT(VLOOKUP(B1391,'[1]002'!B:M,3,0),7),3)","v":"江门市"},{"$f":"VLOOKUP(B1391,'[1]002'!B:M,7,0)","v":"唐科升"},{"$f":"VLOOKUP(B1391,'[1]002'!B:M,8,0)","v":"开平市长师中学"},{"$f":"VLOOKUP(B1391,'[1]002'!B:M,11,0)","v":"-"},{"$f":"VLOOKUP(B1391,'[1]002'!B:M,12,0)","v":"-"}]
[1390,"P303319093206","分子与细胞核心知识手册","高中组","课件","二等奖","广州市",{"$f":"VLOOKUP(B1392,'[1]002'!B:M,7,0)","v":"裴文梅"},{"$f":"VLOOKUP(B1392,'[1]002'!B:M,8,0)","v":"广州市南海中学"},{"$f":"VLOOKUP(B1392,'[1]002'!B:M,11,0)","v":"-"},{"$f":"VLOOKUP(B1392,'[1]002'!B:M,12,0)","v":"-"}]
[1391,"P303319093211","2.4正态分布","高中组","课件","二等奖","广州市",{"$f":"VLOOKUP(B1393,'[1]002'!B:M,7,0)","v":"郑瑞萍"},{"$f":"VLOOKUP(B1393,'[1]002'!B:M,8,0)","v":"广州市西关培英中学"},{"$f":"VLOOKUP(B1393,'[1]002'!B:M,11,0)","v":"-"},{"$f":"VLOOKUP(B1393,'[1]002'!B:M,12,0)","v":"-"}]
[1392,"P303319093209","原电池","高中组","课件","二等奖","广州市",{"$f":"VLOOKUP(B1394,'[1]002'!B:M,7,0)","v":"王绍红"},{"$f":"VLOOKUP(B1394,'[1]002'!B:M,8,0)","v":"广州市南沙第一中学"},{"$f":"VLOOKUP(B1394,'[1]002'!B:M,11,0)","v":"-"},{"$f":"VLOOKUP(B1394,'[1]002'!B:M,12,0)","v":"-"}]
[1393,"P303319092279","蝶恋花","高中组","课件","二等奖","汕头市",{"$f":"VLOOKUP(B1395,'[1]002'!B:M,7,0)","v":"陈梓盼"},{"$f":"VLOOKUP(B1395,'[1]002'!B:M,8,0)","v":"汕头市澄海实验高级中学"},{"$f":"VLOOKUP(B1395,'[1]002'!B:M,11,0)","v":"-"},{"$f":"VLOOKUP(B1395,'[1]002'!B:M,12,0)","v":"-"}]
[1394,"P303319092281","1.5 函数y＝Asin(ωx＋φ)的图象","高中组","课件","二等奖","汕头市",{"$f":"VLOOKUP(B1396,'[1]002'!B:M,7,0)","v":"黄晓瑜"},{"$f":"VLOOKUP(B1396,'[1]002'!B:M,8,0)","v":"汕头市达濠第二中学"},{"$f":"VLOOKUP(B1396,'[1]002'!B:M,11,0)","v":"-"},{"$f":"VLOOKUP(B1396,'[1]002'!B:M,12,0)","v":"-"}]
[1395,"P303319092276","降低化学反应活化能的酶","高中组","课件","二等奖","汕头市",{"$f":"VLOOKUP(B1397,'[1]002'!B:M,7,0)","v":"莫妙之"},{"$f":"VLOOKUP(B1397,'[1]002'!B:M,8,0)","v":"汕头市澄海东里中学"},{"$f":"VLOOKUP(B1397,'[1]002'!B:M,11,0)","v":"-"},{"$f":"VLOOKUP(B1397,'[1]002'!B:M,12,0)","v":"-"}]
[1396,"P303319092285","篮球三步上篮","高中组","课件","二等奖","汕头市",{"$f":"VLOOKUP(B1398,'[1]002'!B:M,7,0)","v":"陈惠儿"},{"$f":"VLOOKUP(B1398,'[1]002'!B:M,8,0)","v":"汕头市实验学校"},{"$f":"VLOOKUP(B1398,'[1]002'!B:M,11,0)","v":"林泽婉"},{"$f":"VLOOKUP(B1398,'[1]002'!B:M,12,0)","v":"汕头市实验学校"}]
[1397,"P303319092278","诗歌鉴赏之形象分析","高中组","课件","二等奖","汕头市",{"$f":"VLOOKUP(B1399,'[1]002'!B:M,7,0)","v":"林苗芳"},{"$f":"VLOOKUP(B1399,'[1]002'!B:M,8,0)","v":"汕头市澄海实验高级中学"},{"$f":"VLOOKUP(B1399,'[1]002'!B:M,11,0)","v":"-"},{"$f":"VLOOKUP(B1399,'[1]002'!B:M,12,0)","v":"-"}]
[1398,"P303319092277","青玉案元夕","高中组","课件","二等奖","汕头市",{"$f":"VLOOKUP(B1400,'[1]002'!B:M,7,0)","v":"李瑞屏"},{"$f":"VLOOKUP(B1400,'[1]002'!B:M,8,0)","v":"汕头市澄海东里中学"},{"$f":"VLOOKUP(B1400,'[1]002'!B:M,11,0)","v":"-"},{"$f":"VLOOKUP(B1400,'[1]002'!B:M,12,0)","v":"-"}]
[1399,"P303319092284","熟悉的陌生人—氧气","高中组","课件","二等奖","汕头市",{"$f":"VLOOKUP(B1401,'[1]002'!B:M,7,0)","v":"林静纯"},{"$f":"VLOOKUP(B1401,'[1]002'!B:M,8,0)","v":"汕头市达濠华侨中学"},{"$f":"VLOOKUP(B1401,'[1]002'!B:M,11,0)","v":"-"},{"$f":"VLOOKUP(B1401,'[1]002'!B:M,12,0)","v":"-"}]
[1400,"P303319092269","树立创新意识是唯物辩证法的要求","高中组","课件","二等奖","汕头市",{"$f":"VLOOKUP(B1402,'[1]002'!B:M,7,0)","v":"丁丹英"},{"$f":"VLOOKUP(B1402,'[1]002'!B:M,8,0)","v":"汕头市澄海中学"},{"$f":"VLOOKUP(B1402,'[1]002'!B:M,11,0)","v":"-"},{"$f":"VLOOKUP(B1402,'[1]002'!B:M,12,0)","v":"-"}]
[1401,"P303319090633","电子商务与网络安全","高中组","课件","二等奖","佛山市",{"$f":"VLOOKUP(B1403,'[1]002'!B:M,7,0)","v":"胡楚佳"},{"$f":"VLOOKUP(B1403,'[1]002'!B:M,8,0)","v":"佛山市顺德区罗定邦中学"},{"$f":"VLOOKUP(B1403,'[1]002'!B:M,11,0)","v":"-"},{"$f":"VLOOKUP(B1403,'[1]002'!B:M,12,0)","v":"-"}]
[1402,"P303319090636","杠杆","高中组","课件","二等奖","佛山市",{"$f":"VLOOKUP(B1404,'[1]002'!B:M,7,0)","v":"姚淑仪"},{"$f":"VLOOKUP(B1404,'[1]002'!B:M,8,0)","v":"佛山市顺德区北滘中学"},{"$f":"VLOOKUP(B1404,'[1]002'!B:M,11,0)","v":"-"},{"$f":"VLOOKUP(B1404,'[1]002'!B:M,12,0)","v":"-"}]
[1403,"P303319090632","坚持党的全面领导","高中组","课件","二等奖","佛山市",{"$f":"VLOOKUP(B1405,'[1]002'!B:M,7,0)","v":"谭晓冬"},{"$f":"VLOOKUP(B1405,'[1]002'!B:M,8,0)","v":"佛山市第三中学"},{"$f":"VLOOKUP(B1405,'[1]002'!B:M,11,0)","v":"-"},{"$f":"VLOOKUP(B1405,'[1]002'!B:M,12,0)","v":"-"}]
[1404,"P303319090627","被动语态的复习与运用","高中组","课件","二等奖","佛山市",{"$f":"VLOOKUP(B1406,'[1]002'!B:M,7,0)","v":"冯小静"},{"$f":"VLOOKUP(B1406,'[1]002'!B:M,8,0)","v":"佛山巿南海区西樵高级中学"},{"$f":"VLOOKUP(B1406,'[1]002'!B:M,11,0)","v":"-"},{"$f":"VLOOKUP(B1406,'[1]002'!B:M,12,0)","v":"-"}]
[1405,"P303319089548","细胞的能量通货ATP","高中组","课件","二等奖","韶关市",{"$f":"VLOOKUP(B1407,'[1]002'!B:M,7,0)","v":"雷珍珠"},{"$f":"VLOOKUP(B1407,'[1]002'!B:M,8,0)","v":"仁化县第一中学"},{"$f":"VLOOKUP(B1407,'[1]002'!B:M,11,0)","v":"-"},{"$f":"VLOOKUP(B1407,'[1]002'!B:M,12,0)","v":"-"}]
[1406,"P303319093390","人工固氮技术合成氨","高中组","课件","二等奖","河源市",{"$f":"VLOOKUP(B1408,'[1]002'!B:M,7,0)","v":"魏晓萍"},{"$f":"VLOOKUP(B1408,'[1]002'!B:M,8,0)","v":"龙川县田家炳中学"},{"$f":"VLOOKUP(B1408,'[1]002'!B:M,11,0)","v":"-"},{"$f":"VLOOKUP(B1408,'[1]002'!B:M,12,0)","v":"-"}]
[1407,"P303319092502","用智能工具处理信息","高中组","课件","二等奖","东莞市",{"$f":"VLOOKUP(B1409,'[1]002'!B:M,7,0)","v":"殷小凤"},{"$f":"VLOOKUP(B1409,'[1]002'!B:M,8,0)","v":"东莞市石龙中学"},{"$f":"VLOOKUP(B1409,'[1]002'!B:M,11,0)","v":"-"},{"$f":"VLOOKUP(B1409,'[1]002'!B:M,12,0)","v":"-"}]
[1408,"P303319089367","基因指导蛋白质的合成","高中组","课件","二等奖","中山市",{"$f":"VLOOKUP(B1410,'[1]002'!B:M,7,0)","v":"杜倩"},{"$f":"VLOOKUP(B1410,'[1]002'!B:M,8,0)","v":"中山市小榄中学（中山市外国语学校）"},{"$f":"VLOOKUP(B1410,'[1]002'!B:M,11,0)","v":"-"},{"$f":"VLOOKUP(B1410,'[1]002'!B:M,12,0)","v":"-"}]
[1409,"P303319088267","电磁感应之双棒模型","高中组","课件","二等奖","中山市",{"$f":"VLOOKUP(B1411,'[1]002'!B:M,7,0)","v":"肖云剑"},{"$f":"VLOOKUP(B1411,'[1]002'!B:M,8,0)","v":"中山市华侨中学"},{"$f":"VLOOKUP(B1411,'[1]002'!B:M,11,0)","v":"-"},{"$f":"VLOOKUP(B1411,'[1]002'!B:M,12,0)","v":"-"}]
[1410,"P303319092096","4.1营造地表形态的力量","高中组","课件","二等奖","江门市",{"$f":"VLOOKUP(B1412,'[1]002'!B:M,7,0)","v":"钟少娟"},{"$f":"VLOOKUP(B1412,'[1]002'!B:M,8,0)","v":"江门市新会第一中学"},{"$f":"VLOOKUP(B1412,'[1]002'!B:M,11,0)","v":"-"},{"$f":"VLOOKUP(B1412,'[1]002'!B:M,12,0)","v":"-"}]
[1411,"P303319092656","降低化学反应活化能的酶","高中组","课件","二等奖","江门市",{"$f":"VLOOKUP(B1413,'[1]002'!B:M,7,0)","v":"刘锦昌"},{"$f":"VLOOKUP(B1413,'[1]002'!B:M,8,0)","v":"江门市新会第一中学"},{"$f":"VLOOKUP(B1413,'[1]002'!B:M,11,0)","v":"-"},{"$f":"VLOOKUP(B1413,'[1]002'!B:M,12,0)","v":"-"}]
[1412,"P303319093016","走近京剧-迎来春色换人间","高中组","课件","二等奖","湛江市",{"$f":"VLOOKUP(B1414,'[1]002'!B:M,7,0)","v":"邓冬梅"},{"$f":"VLOOKUP(B1414,'[1]002'!B:M,8,0)","v":"湛江市坡头区第一中学"},{"$f":"VLOOKUP(B1414,'[1]002'!B:M,11,0)","v":"-"},{"$f":"VLOOKUP(B1414,'[1]002'!B:M,12,0)","v":"-"}]
[1413,"P303319093025","基于python的选择排序实现","高中组","课件","二等奖","湛江市",{"$f":"VLOOKUP(B1415,'[1]002'!B:M,7,0)","v":"陈怡"},{"$f":"VLOOKUP(B1415,'[1]002'!B:M,8,0)","v":"湛江市第二中学"},{"$f":"VLOOKUP(B1415,'[1]002'!B:M,11,0)","v":"-"},{"$f":"VLOOKUP(B1415,'[1]002'!B:M,12,0)","v":"-"}]
[1414,"P303319093040","高中英语必修二 Unit4 Wildlife Protection","高中组","课件","二等奖","湛江市",{"$f":"VLOOKUP(B1416,'[1]002'!B:M,7,0)","v":"宁国平"},{"$f":"VLOOKUP(B1416,'[1]002'!B:M,8,0)","v":"湛江市爱周高级中学"},{"$f":"VLOOKUP(B1416,'[1]002'!B:M,11,0)","v":"-"},{"$f":"VLOOKUP(B1416,'[1]002'!B:M,12,0)","v":"-"}]
[1415,"P303319093022","函数y=Asin(ωx+φ)的图象","高中组","课件","二等奖","湛江市",{"$f":"VLOOKUP(B1417,'[1]002'!B:M,7,0)","v":"李翔"},{"$f":"VLOOKUP(B1417,'[1]002'!B:M,8,0)","v":"岭南师范学院附属中学"},{"$f":"VLOOKUP(B1417,'[1]002'!B:M,11,0)","v":"-"},{"$f":"VLOOKUP(B1417,'[1]002'!B:M,12,0)","v":"-"}]
[1416,"P303319093036","鸦片战争","高中组","课件","二等奖","湛江市",{"$f":"VLOOKUP(B1418,'[1]002'!B:M,7,0)","v":"郭玢"},{"$f":"VLOOKUP(B1418,'[1]002'!B:M,8,0)","v":"湛江经济技术开发区第一中学"},{"$f":"VLOOKUP(B1418,'[1]002'!B:M,11,0)","v":"-"},{"$f":"VLOOKUP(B1418,'[1]002'!B:M,12,0)","v":"-"}]
[1417,"P303319093019","做好就业与自主创业的准备","高中组","课件","二等奖","湛江市",{"$f":"VLOOKUP(B1419,'[1]002'!B:M,7,0)","v":"林珊"},{"$f":"VLOOKUP(B1419,'[1]002'!B:M,8,0)","v":"湛江市坡头区第一中学"},{"$f":"VLOOKUP(B1419,'[1]002'!B:M,11,0)","v":"-"},{"$f":"VLOOKUP(B1419,'[1]002'!B:M,12,0)","v":"-"}]
[1418,"P303319093018","钠的重要化合物","高中组","课件","二等奖","湛江市",{"$f":"VLOOKUP(B1420,'[1]002'!B:M,7,0)","v":"陆艺"},{"$f":"VLOOKUP(B1420,'[1]002'!B:M,8,0)","v":"湛江市坡头区第一中学"},{"$f":"VLOOKUP(B1420,'[1]002'!B:M,11,0)","v":"-"},{"$f":"VLOOKUP(B1420,'[1]002'!B:M,12,0)","v":"-"}]
[1419,"P303319091609","光合作用","高中组","课件","二等奖","清远市",{"$f":"VLOOKUP(B1421,'[1]002'!B:M,7,0)","v":"饶猛兵"},{"$f":"VLOOKUP(B1421,'[1]002'!B:M,8,0)","v":"连南县民族高级中学"},{"$f":"VLOOKUP(B1421,'[1]002'!B:M,11,0)","v":"-"},{"$f":"VLOOKUP(B1421,'[1]002'!B:M,12,0)","v":"-"}]
[1420,"P303319091613","语法填空之动词的解题技巧","高中组","课件","二等奖","清远市",{"$f":"VLOOKUP(B1422,'[1]002'!B:M,7,0)","v":"张丽萍"},{"$f":"VLOOKUP(B1422,'[1]002'!B:M,8,0)","v":"清远市源潭中学"},{"$f":"VLOOKUP(B1422,'[1]002'!B:M,11,0)","v":"-"},{"$f":"VLOOKUP(B1422,'[1]002'!B:M,12,0)","v":"-"}]
[1421,"P303319090093","世界地理之欧洲西部","高中组","课件","二等奖","潮州市",{"$f":"VLOOKUP(B1423,'[1]002'!B:M,7,0)","v":"谢婉"},{"$f":"VLOOKUP(B1423,'[1]002'!B:M,8,0)","v":"潮州市绵德中学"},{"$f":"VLOOKUP(B1423,'[1]002'!B:M,11,0)","v":"-"},{"$f":"VLOOKUP(B1423,'[1]002'!B:M,12,0)","v":"-"}]
[1422,"P303319087836","DNA分子的结构","高中组","课件","二等奖","云浮市",{"$f":"VLOOKUP(B1424,'[1]002'!B:M,7,0)","v":"刘剑锋"},{"$f":"VLOOKUP(B1424,'[1]002'!B:M,8,0)","v":"新兴县惠能中学"},{"$f":"VLOOKUP(B1424,'[1]002'!B:M,11,0)","v":"-"},{"$f":"VLOOKUP(B1424,'[1]002'!B:M,12,0)","v":"-"}]
[1423,"P303319087842","人口的空间变化","高中组","课件","二等奖","云浮市",{"$f":"VLOOKUP(B1425,'[1]002'!B:M,7,0)","v":"刘剑锋"},{"$f":"VLOOKUP(B1425,'[1]002'!B:M,8,0)","v":"新兴县惠能中学"},{"$f":"VLOOKUP(B1425,'[1]002'!B:M,11,0)","v":"-"},{"$f":"VLOOKUP(B1425,'[1]002'!B:M,12,0)","v":"-"}]
[1424,"P305319093241","类比让物理如此精彩---- 电源和电流","高中组","微课","二等奖","广州市",{"$f":"VLOOKUP(B1426,'[1]002'!B:M,7,0)","v":"孔莉林"},{"$f":"VLOOKUP(B1426,'[1]002'!B:M,8,0)","v":"广州中学"},{"$f":"VLOOKUP(B1426,'[1]002'!B:M,11,0)","v":"-"},{"$f":"VLOOKUP(B1426,'[1]002'!B:M,12,0)","v":"-"}]
[1425,"P305319093240","电烙铁焊接方法","高中组","微课","二等奖","广州市",{"$f":"VLOOKUP(B1427,'[1]002'!B:M,7,0)","v":"肖国锋"},{"$f":"VLOOKUP(B1427,'[1]002'!B:M,8,0)","v":"广东第二师范学院番禺附属中学"},{"$f":"VLOOKUP(B1427,'[1]002'!B:M,11,0)","v":"-"},{"$f":"VLOOKUP(B1427,'[1]002'!B:M,12,0)","v":"-"}]
[1426,"P305319093242","生物与地理环境","高中组","微课","二等奖","广州市",{"$f":"VLOOKUP(B1428,'[1]002'!B:M,7,0)","v":"杨建瑜"},{"$f":"VLOOKUP(B1428,'[1]002'!B:M,8,0)","v":"广州市南武中学"},{"$f":"VLOOKUP(B1428,'[1]002'!B:M,11,0)","v":"-"},{"$f":"VLOOKUP(B1428,'[1]002'!B:M,12,0)","v":"-"}]
[1427,"P305319090450","智能灯光控制系统","高中组","微课","二等奖","珠海市",{"$f":"VLOOKUP(B1429,'[1]002'!B:M,7,0)","v":"陈声坤"},{"$f":"VLOOKUP(B1429,'[1]002'!B:M,8,0)","v":"北京师范大学珠海附属高级中学"},{"$f":"VLOOKUP(B1429,'[1]002'!B:M,11,0)","v":"-"},{"$f":"VLOOKUP(B1429,'[1]002'!B:M,12,0)","v":"-"}]
[1428,"P305319090451","抢答器模拟制作","高中组","微课","二等奖","珠海市",{"$f":"VLOOKUP(B1430,'[1]002'!B:M,7,0)","v":"陈声坤"},{"$f":"VLOOKUP(B1430,'[1]002'!B:M,8,0)","v":"北京师范大学珠海附属高级中学"},{"$f":"VLOOKUP(B1430,'[1]002'!B:M,11,0)","v":"-"},{"$f":"VLOOKUP(B1430,'[1]002'!B:M,12,0)","v":"-"}]
[1429,"P305319092317","复合函数的定义域","高中组","微课","二等奖","汕头市",{"$f":"VLOOKUP(B1431,'[1]002'!B:M,7,0)","v":"黄晓瑜"},{"$f":"VLOOKUP(B1431,'[1]002'!B:M,8,0)","v":"汕头市达濠第二中学"},{"$f":"VLOOKUP(B1431,'[1]002'!B:M,11,0)","v":"-"},{"$f":"VLOOKUP(B1431,'[1]002'!B:M,12,0)","v":"-"}]
[1430,"P305319092292","解三角形之正、余弦定理、面积公式的应用","高中组","微课","二等奖","汕头市",{"$f":"VLOOKUP(B1432,'[1]002'!B:M,7,0)","v":"林丽芳"},{"$f":"VLOOKUP(B1432,'[1]002'!B:M,8,0)","v":"汕头市潮阳区金堡中学"},{"$f":"VLOOKUP(B1432,'[1]002'!B:M,11,0)","v":"-"},{"$f":"VLOOKUP(B1432,'[1]002'!B:M,12,0)","v":"-"}]
[1431,"P305319092319","Premiere键控抠像","高中组","微课","二等奖","汕头市",{"$f":"VLOOKUP(B1433,'[1]002'!B:M,7,0)","v":"李冬妮"},{"$f":"VLOOKUP(B1433,'[1]002'!B:M,8,0)","v":"汕头市河浦中学"},{"$f":"VLOOKUP(B1433,'[1]002'!B:M,11,0)","v":"林哲群"},{"$f":"VLOOKUP(B1433,'[1]002'!B:M,12,0)","v":"汕头市河浦中学"}]
[1432,"P305319092293","巧用二面角解决球内接问题","高中组","微课","二等奖","汕头市",{"$f":"VLOOKUP(B1434,'[1]002'!B:M,7,0)","v":"蔡洁瑜"},{"$f":"VLOOKUP(B1434,'[1]002'!B:M,8,0)","v":"汕头市第一中学"},{"$f":"VLOOKUP(B1434,'[1]002'!B:M,11,0)","v":"-"},{"$f":"VLOOKUP(B1434,'[1]002'!B:M,12,0)","v":"-"}]
[1433,"P305319090660","液体的表面张力","高中组","微课","二等奖","佛山市",{"$f":"VLOOKUP(B1435,'[1]002'!B:M,7,0)","v":"何妹才"},{"$f":"VLOOKUP(B1435,'[1]002'!B:M,8,0)","v":"佛山市顺德区罗定邦中学"},{"$f":"VLOOKUP(B1435,'[1]002'!B:M,11,0)","v":"-"},{"$f":"VLOOKUP(B1435,'[1]002'!B:M,12,0)","v":"-"}]
[1434,"P305319090658","什么是美","高中组","微课","二等奖","佛山市",{"$f":"VLOOKUP(B1436,'[1]002'!B:M,7,0)","v":"陈维维"},{"$f":"VLOOKUP(B1436,'[1]002'!B:M,8,0)","v":"佛山市顺德区青云中学"},{"$f":"VLOOKUP(B1436,'[1]002'!B:M,11,0)","v":"夏颖"},{"$f":"VLOOKUP(B1436,'[1]002'!B:M,12,0)","v":"佛山市顺德区青云中学"}]
[1435,"P305319090661","经济大危机","高中组","微课","二等奖","佛山市",{"$f":"VLOOKUP(B1437,'[1]002'!B:M,7,0)","v":"郑莹春"},{"$f":"VLOOKUP(B1437,'[1]002'!B:M,8,0)","v":"佛山市顺德区青云中学"},{"$f":"VLOOKUP(B1437,'[1]002'!B:M,11,0)","v":"-"},{"$f":"VLOOKUP(B1437,'[1]002'!B:M,12,0)","v":"-"}]
[1436,"P305319090663","杠杆及其平衡原理","高中组","微课","二等奖","佛山市",{"$f":"VLOOKUP(B1438,'[1]002'!B:M,7,0)","v":"姚淑仪"},{"$f":"VLOOKUP(B1438,'[1]002'!B:M,8,0)","v":"佛山市顺德区北滘中学"},{"$f":"VLOOKUP(B1438,'[1]002'!B:M,11,0)","v":"-"},{"$f":"VLOOKUP(B1438,'[1]002'!B:M,12,0)","v":"-"}]
[1437,"P305319090655","三庭五眼绘动画人物正脸","高中组","微课","二等奖","佛山市",{"$f":"VLOOKUP(B1439,'[1]002'!B:M,7,0)","v":"顾丽贤"},{"$f":"VLOOKUP(B1439,'[1]002'!B:M,8,0)","v":"佛山市南海区第一中学"},{"$f":"VLOOKUP(B1439,'[1]002'!B:M,11,0)","v":"-"},{"$f":"VLOOKUP(B1439,'[1]002'!B:M,12,0)","v":"-"}]
[1438,"P305319090653","社会历史的主体","高中组","微课","二等奖","佛山市",{"$f":"VLOOKUP(B1440,'[1]002'!B:M,7,0)","v":"金阿宁"},{"$f":"VLOOKUP(B1440,'[1]002'!B:M,8,0)","v":"佛山市南海区执信中学"},{"$f":"VLOOKUP(B1440,'[1]002'!B:M,11,0)","v":"-"},{"$f":"VLOOKUP(B1440,'[1]002'!B:M,12,0)","v":"-"}]
[1439,"P305319090647","苯的结构","高中组","微课","二等奖","佛山市",{"$f":"VLOOKUP(B1441,'[1]002'!B:M,7,0)","v":"吴倩"},{"$f":"VLOOKUP(B1441,'[1]002'!B:M,8,0)","v":"佛山巿南海区西樵高级中学"},{"$f":"VLOOKUP(B1441,'[1]002'!B:M,11,0)","v":"-"},{"$f":"VLOOKUP(B1441,'[1]002'!B:M,12,0)","v":"-"}]
[1440,"P305319090649","音的分组","高中组","微课","二等奖","佛山市",{"$f":"VLOOKUP(B1442,'[1]002'!B:M,7,0)","v":"吴志锋"},{"$f":"VLOOKUP(B1442,'[1]002'!B:M,8,0)","v":"佛山市南海区第一中学"},{"$f":"VLOOKUP(B1442,'[1]002'!B:M,11,0)","v":"-"},{"$f":"VLOOKUP(B1442,'[1]002'!B:M,12,0)","v":"-"}]
[1441,"P305319090643","地球的圈层结构","高中组","微课","二等奖","佛山市",{"$f":"VLOOKUP(B1443,'[1]002'!B:M,7,0)","v":"钟如光"},{"$f":"VLOOKUP(B1443,'[1]002'!B:M,8,0)","v":"佛山市南海区桂城中学"},{"$f":"VLOOKUP(B1443,'[1]002'!B:M,11,0)","v":"-"},{"$f":"VLOOKUP(B1443,'[1]002'!B:M,12,0)","v":"-"}]
[1442,"P305319090651","罗斯福新政","高中组","微课","二等奖","佛山市",{"$f":"VLOOKUP(B1444,'[1]002'!B:M,7,0)","v":"潘丽芬"},{"$f":"VLOOKUP(B1444,'[1]002'!B:M,8,0)","v":"佛山市南海区罗村高级中学"},{"$f":"VLOOKUP(B1444,'[1]002'!B:M,11,0)","v":"-"},{"$f":"VLOOKUP(B1444,'[1]002'!B:M,12,0)","v":"-"}]
[1443,"P305319088890","向量的加法","高中组","微课","二等奖","韶关市",{"$f":"VLOOKUP(B1445,'[1]002'!B:M,7,0)","v":"刘雨昀"},{"$f":"VLOOKUP(B1445,'[1]002'!B:M,8,0)","v":"仁化县仁化中学"},{"$f":"VLOOKUP(B1445,'[1]002'!B:M,11,0)","v":"尹杰杰"},{"$f":"VLOOKUP(B1445,'[1]002'!B:M,12,0)","v":"仁化县仁化中学"}]
[1444,"P305319079690","对校园暴力说不","高中组","微课","二等奖","梅州市",{"$f":"VLOOKUP(B1446,'[1]002'!B:M,7,0)","v":"余雪芬"},{"$f":"VLOOKUP(B1446,'[1]002'!B:M,8,0)","v":"梅州市梅江区嘉应中学"},{"$f":"VLOOKUP(B1446,'[1]002'!B:M,11,0)","v":"-"},{"$f":"VLOOKUP(B1446,'[1]002'!B:M,12,0)","v":"-"}]
[1445,"P305319092398","如何制作白醋电池","高中组","微课","二等奖","汕尾市",{"$f":"VLOOKUP(B1447,'[1]002'!B:M,7,0)","v":"彭津"},{"$f":"VLOOKUP(B1447,'[1]002'!B:M,8,0)","v":"陆河县陆河中学"},{"$f":"VLOOKUP(B1447,'[1]002'!B:M,11,0)","v":"-"},{"$f":"VLOOKUP(B1447,'[1]002'!B:M,12,0)","v":"-"}]
[1446,"P305319092592","保卫我的wifi之防止别人蹭wifi","高中组","微课","二等奖","东莞市",{"$f":"VLOOKUP(B1448,'[1]002'!B:M,7,0)","v":"颜兰"},{"$f":"VLOOKUP(B1448,'[1]002'!B:M,8,0)","v":"东莞市第六高级中学"},{"$f":"VLOOKUP(B1448,'[1]002'!B:M,11,0)","v":"郑旭淳"},{"$f":"VLOOKUP(B1448,'[1]002'!B:M,12,0)","v":"东莞市第六高级中学"}]
[1447,"P305319092584","超重与失重","高中组","微课","二等奖","东莞市",{"$f":"VLOOKUP(B1449,'[1]002'!B:M,7,0)","v":"李鑫"},{"$f":"VLOOKUP(B1449,'[1]002'!B:M,8,0)","v":"东莞市第二高级中学"},{"$f":"VLOOKUP(B1449,'[1]002'!B:M,11,0)","v":"-"},{"$f":"VLOOKUP(B1449,'[1]002'!B:M,12,0)","v":"-"}]
[1448,"P305319092593","自由落体运动的性质","高中组","微课","二等奖","东莞市",{"$f":"VLOOKUP(B1450,'[1]002'!B:M,7,0)","v":"李鑫"},{"$f":"VLOOKUP(B1450,'[1]002'!B:M,8,0)","v":"东莞市第二高级中学"},{"$f":"VLOOKUP(B1450,'[1]002'!B:M,11,0)","v":"-"},{"$f":"VLOOKUP(B1450,'[1]002'!B:M,12,0)","v":"-"}]
[1449,"P305319089508","四种命题间的相互关系","高中组","微课","二等奖","中山市",{"$f":"VLOOKUP(B1451,'[1]002'!B:M,7,0)","v":"卜宪江"},{"$f":"VLOOKUP(B1451,'[1]002'!B:M,8,0)","v":"中山市小榄中学（中山市外国语学校）"},{"$f":"VLOOKUP(B1451,'[1]002'!B:M,11,0)","v":"-"},{"$f":"VLOOKUP(B1451,'[1]002'!B:M,12,0)","v":"-"}]
[1450,"P305319089711","日语时间节点之语法辨析","高中组","微课","二等奖","中山市",{"$f":"VLOOKUP(B1452,'[1]002'!B:M,7,0)","v":"孟希桐"},{"$f":"VLOOKUP(B1452,'[1]002'!B:M,8,0)","v":"中山市东区中学"},{"$f":"VLOOKUP(B1452,'[1]002'!B:M,11,0)","v":"-"},{"$f":"VLOOKUP(B1452,'[1]002'!B:M,12,0)","v":"-"}]
[1451,"P305319088398","概念教学之基因的定义","高中组","微课","二等奖","中山市",{"$f":"VLOOKUP(B1453,'[1]002'!B:M,7,0)","v":"梁旭欣"},{"$f":"VLOOKUP(B1453,'[1]002'!B:M,8,0)","v":"中山市龙山中学"},{"$f":"VLOOKUP(B1453,'[1]002'!B:M,11,0)","v":"-"},{"$f":"VLOOKUP(B1453,'[1]002'!B:M,12,0)","v":"-"}]
[1452,"P305319092028","资本主义经济危机的原因","高中组","微课","二等奖","江门市",{"$f":"VLOOKUP(B1454,'[1]002'!B:M,7,0)","v":"韩方程"},{"$f":"VLOOKUP(B1454,'[1]002'!B:M,8,0)","v":"台山市第一中学"},{"$f":"VLOOKUP(B1454,'[1]002'!B:M,11,0)","v":"-"},{"$f":"VLOOKUP(B1454,'[1]002'!B:M,12,0)","v":"-"}]
[1453,"P305319092977","网络域名探秘","高中组","微课","二等奖","湛江市",{"$f":"VLOOKUP(B1455,'[1]002'!B:M,7,0)","v":"尉刚"},{"$f":"VLOOKUP(B1455,'[1]002'!B:M,8,0)","v":"湛江市第二中学"},{"$f":"VLOOKUP(B1455,'[1]002'!B:M,11,0)","v":"-"},{"$f":"VLOOKUP(B1455,'[1]002'!B:M,12,0)","v":"-"}]
[1454,"P305319091425","农业的区位选择","高中组","微课","二等奖","茂名市",{"$f":"VLOOKUP(B1456,'[1]002'!B:M,7,0)","v":"冯健"},{"$f":"VLOOKUP(B1456,'[1]002'!B:M,8,0)","v":"高州市分界中学"},{"$f":"VLOOKUP(B1456,'[1]002'!B:M,11,0)","v":"-"},{"$f":"VLOOKUP(B1456,'[1]002'!B:M,12,0)","v":"-"}]
[1455,"P305319090204","图片和声音的存储空间","高中组","微课","二等奖","肇庆市",{"$f":"VLOOKUP(B1457,'[1]002'!B:M,7,0)","v":"孔沛念"},{"$f":"VLOOKUP(B1457,'[1]002'!B:M,8,0)","v":"肇庆高新技术产业开发区大旺中学"},{"$f":"VLOOKUP(B1457,'[1]002'!B:M,11,0)","v":"-"},{"$f":"VLOOKUP(B1457,'[1]002'!B:M,12,0)","v":"-"}]
[1456,"P305319091658","定语从句关系代词that和which的用法","高中组","微课","二等奖","清远市",{"$f":"VLOOKUP(B1458,'[1]002'!B:M,7,0)","v":"张丽萍"},{"$f":"VLOOKUP(B1458,'[1]002'!B:M,8,0)","v":"清远市源潭中学"},{"$f":"VLOOKUP(B1458,'[1]002'!B:M,11,0)","v":"-"},{"$f":"VLOOKUP(B1458,'[1]002'!B:M,12,0)","v":"-"}]
[1457,"P305319091653","圆的标准方程","高中组","微课","二等奖","清远市",{"$f":"VLOOKUP(B1459,'[1]002'!B:M,7,0)","v":"付贵"},{"$f":"VLOOKUP(B1459,'[1]002'!B:M,8,0)","v":"清远市第三中学"},{"$f":"VLOOKUP(B1459,'[1]002'!B:M,11,0)","v":"-"},{"$f":"VLOOKUP(B1459,'[1]002'!B:M,12,0)","v":"-"}]
[1458,"P305319091663","分清场合巧妙用语","高中组","微课","二等奖","清远市",{"$f":"VLOOKUP(B1460,'[1]002'!B:M,7,0)","v":"卢建华"},{"$f":"VLOOKUP(B1460,'[1]002'!B:M,8,0)","v":"清远市源潭中学"},{"$f":"VLOOKUP(B1460,'[1]002'!B:M,11,0)","v":"-"},{"$f":"VLOOKUP(B1460,'[1]002'!B:M,12,0)","v":"-"}]
[1459,"P305319091661","定语从句关系副词","高中组","微课","二等奖","清远市",{"$f":"VLOOKUP(B1461,'[1]002'!B:M,7,0)","v":"冯带娣"},{"$f":"VLOOKUP(B1461,'[1]002'!B:M,8,0)","v":"清远市源潭中学"},{"$f":"VLOOKUP(B1461,'[1]002'!B:M,11,0)","v":"-"},{"$f":"VLOOKUP(B1461,'[1]002'!B:M,12,0)","v":"-"}]
[1460,"P305319091650","探究光照强度对光合作用强度的影响","高中组","微课","二等奖","清远市",{"$f":"VLOOKUP(B1462,'[1]002'!B:M,7,0)","v":"陈迪"},{"$f":"VLOOKUP(B1462,'[1]002'!B:M,8,0)","v":"清远市第一中学"},{"$f":"VLOOKUP(B1462,'[1]002'!B:M,11,0)","v":"-"},{"$f":"VLOOKUP(B1462,'[1]002'!B:M,12,0)","v":"-"}]
[1461,"P305319091656","力的分解","高中组","微课","二等奖","清远市",{"$f":"VLOOKUP(B1463,'[1]002'!B:M,7,0)","v":"温雯露"},{"$f":"VLOOKUP(B1463,'[1]002'!B:M,8,0)","v":"清远市第三中学"},{"$f":"VLOOKUP(B1463,'[1]002'!B:M,11,0)","v":"-"},{"$f":"VLOOKUP(B1463,'[1]002'!B:M,12,0)","v":"-"}]
[1462,"P305319080863","幂函数的图象与性质","高中组","微课","二等奖","潮州市",{"$f":"VLOOKUP(B1464,'[1]002'!B:M,7,0)","v":"林佳燕"},{"$f":"VLOOKUP(B1464,'[1]002'!B:M,8,0)","v":"龙溪中学"},{"$f":"VLOOKUP(B1464,'[1]002'!B:M,11,0)","v":"-"},{"$f":"VLOOKUP(B1464,'[1]002'!B:M,12,0)","v":"-"}]
[1463,"P305319079667","高中英语语法强调句微课教学","高中组","微课","二等奖","潮州市",{"$f":"VLOOKUP(B1465,'[1]002'!B:M,7,0)","v":"赖梨凤"},{"$f":"VLOOKUP(B1465,'[1]002'!B:M,8,0)","v":"潮州市华侨中学"},{"$f":"VLOOKUP(B1465,'[1]002'!B:M,11,0)","v":"-"},{"$f":"VLOOKUP(B1465,'[1]002'!B:M,12,0)","v":"-"}]
[1464,"P305319079429","糖类","高中组","微课","二等奖","潮州市",{"$f":"VLOOKUP(B1466,'[1]002'!B:M,7,0)","v":"蔡晓多"},{"$f":"VLOOKUP(B1466,'[1]002'!B:M,8,0)","v":"潮州市华侨中学"},{"$f":"VLOOKUP(B1466,'[1]002'!B:M,11,0)","v":"-"},{"$f":"VLOOKUP(B1466,'[1]002'!B:M,12,0)","v":"-"}]
[1465,"P305319091137","三角函数图像的应用","高中组","微课","二等奖","云浮市",{"$f":"VLOOKUP(B1467,'[1]002'!B:M,7,0)","v":"周肖馨"},{"$f":"VLOOKUP(B1467,'[1]002'!B:M,8,0)","v":"新兴县惠能中学"},{"$f":"VLOOKUP(B1467,'[1]002'!B:M,11,0)","v":"-"},{"$f":"VLOOKUP(B1467,'[1]002'!B:M,12,0)","v":"-"}]
[1466,"P305319090388","Photoshop图层蒙版","高中组","微课","二等奖","云浮市",{"$f":"VLOOKUP(B1468,'[1]002'!B:M,7,0)","v":"廖锐光"},{"$f":"VLOOKUP(B1468,'[1]002'!B:M,8,0)","v":"罗定中学城东学校"},{"$f":"VLOOKUP(B1468,'[1]002'!B:M,11,0)","v":"-"},{"$f":"VLOOKUP(B1468,'[1]002'!B:M,12,0)","v":"-"}]
[1467,"P307319093246","中学生财商教育实践活动加互联网研究","高中组","信息技术创新教学案例","二等奖","广州市",{"$f":"VLOOKUP(B1469,'[1]002'!B:M,7,0)","v":"周雅莉"},{"$f":"VLOOKUP(B1469,'[1]002'!B:M,8,0)","v":"广州市第十六中学"},{"$f":"VLOOKUP(B1469,'[1]002'!B:M,11,0)","v":"-"},{"$f":"VLOOKUP(B1469,'[1]002'!B:M,12,0)","v":"-"}]
[1468,"P307319090606","基于定邦教育云系统的1加1主体建构课堂英语教学案例","高中组","信息技术创新教学案例","二等奖","佛山市",{"$f":"VLOOKUP(B1470,'[1]002'!B:M,7,0)","v":"桂偲佳"},{"$f":"VLOOKUP(B1470,'[1]002'!B:M,8,0)","v":"佛山市顺德区罗定邦中学"},{"$f":"VLOOKUP(B1470,'[1]002'!B:M,11,0)","v":"-"},{"$f":"VLOOKUP(B1470,'[1]002'!B:M,12,0)","v":"-"}]
[1469,"P307319092826","基于云端数据下的深度情景式英语听说课探究","高中组","信息技术创新教学案例","二等奖","东莞市",{"$f":"VLOOKUP(B1471,'[1]002'!B:M,7,0)","v":"钟浩然"},{"$f":"VLOOKUP(B1471,'[1]002'!B:M,8,0)","v":"东莞市厚街湖景中学"},{"$f":"VLOOKUP(B1471,'[1]002'!B:M,11,0)","v":"卢祉君"},{"$f":"VLOOKUP(B1471,'[1]002'!B:M,12,0)","v":"东莞市厚街湖景中学"}]
[1470,"P307319092827","App移动编程创客课程","高中组","信息技术创新教学案例","二等奖","东莞市",{"$f":"VLOOKUP(B1472,'[1]002'!B:M,7,0)","v":"黎清万"},{"$f":"VLOOKUP(B1472,'[1]002'!B:M,8,0)","v":"东莞市第六高级中学"},{"$f":"VLOOKUP(B1472,'[1]002'!B:M,11,0)","v":"郑旭淳"},{"$f":"VLOOKUP(B1472,'[1]002'!B:M,12,0)","v":"东莞市第六高级中学"}]
[1471,"P307319079588","图像的加工之背景图的制作教学案例","高中组","信息技术创新教学案例","二等奖","云浮市",{"$f":"VLOOKUP(B1473,'[1]002'!B:M,7,0)","v":"叶金海"},{"$f":"VLOOKUP(B1473,'[1]002'!B:M,8,0)","v":"罗定中学"},{"$f":"VLOOKUP(B1473,'[1]002'!B:M,11,0)","v":"-"},{"$f":"VLOOKUP(B1473,'[1]002'!B:M,12,0)","v":"-"}]
[1472,"P304319086831","乡村振兴中传统文化的传承","高中组","跨学科项目式学习教学案例","二等奖","云浮市",{"$f":"VLOOKUP(B1474,'[1]002'!B:M,7,0)","v":"苏志英"},{"$f":"VLOOKUP(B1474,'[1]002'!B:M,8,0)","v":"新兴县惠能中学"},{"$f":"VLOOKUP(B1474,'[1]002'!B:M,11,0)","v":"-"},{"$f":"VLOOKUP(B1474,'[1]002'!B:M,12,0)","v":"-"}]
[1473,"P304319089459","神奇的植物色素","高中组","跨学科项目式学习教学案例","二等奖","云浮市",{"$f":"VLOOKUP(B1475,'[1]002'!B:M,7,0)","v":"区晓嫦"},{"$f":"VLOOKUP(B1475,'[1]002'!B:M,8,0)","v":"罗定中学"},{"$f":"VLOOKUP(B1475,'[1]002'!B:M,11,0)","v":"吴金群"},{"$f":"VLOOKUP(B1475,'[1]002'!B:M,12,0)","v":"罗定中学"}]
[1474,"P306319093224","高二物理案例《探究感应电流的产生条件》","高中组","新媒体新技术教学应用课例","二等奖",{"$f":"RIGHT(LEFT(VLOOKUP(B1476,'[1]002'!B:M,3,0),7),3)","v":"广州市"},{"$f":"VLOOKUP(B1476,'[1]002'!B:M,7,0)","v":"朱碧凡"},{"$f":"VLOOKUP(B1476,'[1]002'!B:M,8,0)","v":"广州市增城区郑中钧中学"},{"$f":"VLOOKUP(B1476,'[1]002'!B:M,11,0)","v":"-"},{"$f":"VLOOKUP(B1476,'[1]002'!B:M,12,0)","v":"-"}]
[1475,"P306319093220","化学平衡移动复习","高中组","新媒体新技术教学应用课例","二等奖",{"$f":"RIGHT(LEFT(VLOOKUP(B1477,'[1]002'!B:M,3,0),7),3)","v":"广州市"},{"$f":"VLOOKUP(B1477,'[1]002'!B:M,7,0)","v":"孙旭波"},{"$f":"VLOOKUP(B1477,'[1]002'!B:M,8,0)","v":"广州中学"},{"$f":"VLOOKUP(B1477,'[1]002'!B:M,11,0)","v":"-"},{"$f":"VLOOKUP(B1477,'[1]002'!B:M,12,0)","v":"-"}]
[1476,"P306319093221","到新闻视窗亮相","高中组","新媒体新技术教学应用课例","二等奖",{"$f":"RIGHT(LEFT(VLOOKUP(B1478,'[1]002'!B:M,3,0),7),3)","v":"广州市"},{"$f":"VLOOKUP(B1478,'[1]002'!B:M,7,0)","v":"刘虹"},{"$f":"VLOOKUP(B1478,'[1]002'!B:M,8,0)","v":"广州市第十六中学"},{"$f":"VLOOKUP(B1478,'[1]002'!B:M,11,0)","v":"-"},{"$f":"VLOOKUP(B1478,'[1]002'!B:M,12,0)","v":"-"}]
[1477,"P306319092746","几类不同增长的函数模型","高中组","新媒体新技术教学应用课例","二等奖",{"$f":"RIGHT(LEFT(VLOOKUP(B1479,'[1]002'!B:M,3,0),7),3)","v":"深圳市"},{"$f":"VLOOKUP(B1479,'[1]002'!B:M,7,0)","v":"周后来"},{"$f":"VLOOKUP(B1479,'[1]002'!B:M,8,0)","v":"深圳大学师范学院附属中学"},{"$f":"VLOOKUP(B1479,'[1]002'!B:M,11,0)","v":"-"},{"$f":"VLOOKUP(B1479,'[1]002'!B:M,12,0)","v":"-"}]
[1478,"P306319092748","基于虚拟现实（VR）技术的细胞器-系统内的分工合作（第一课时）","高中组","新媒体新技术教学应用课例","二等奖",{"$f":"RIGHT(LEFT(VLOOKUP(B1480,'[1]002'!B:M,3,0),7),3)","v":"深圳市"},{"$f":"VLOOKUP(B1480,'[1]002'!B:M,7,0)","v":"何金妹"},{"$f":"VLOOKUP(B1480,'[1]002'!B:M,8,0)","v":"深圳市第三高级中学"},{"$f":"VLOOKUP(B1480,'[1]002'!B:M,11,0)","v":"-"},{"$f":"VLOOKUP(B1480,'[1]002'!B:M,12,0)","v":"-"}]
[1479,"P306319092264","永恒的中华民族精神","高中组","新媒体新技术教学应用课例","二等奖",{"$f":"RIGHT(LEFT(VLOOKUP(B1481,'[1]002'!B:M,3,0),7),3)","v":"汕头市"},{"$f":"VLOOKUP(B1481,'[1]002'!B:M,7,0)","v":"沈晓娴"},{"$f":"VLOOKUP(B1481,'[1]002'!B:M,8,0)","v":"汕头市澄海实验高级中学"},{"$f":"VLOOKUP(B1481,'[1]002'!B:M,11,0)","v":"-"},{"$f":"VLOOKUP(B1481,'[1]002'!B:M,12,0)","v":"-"}]
[1480,"P306319092265","二项式定理","高中组","新媒体新技术教学应用课例","二等奖",{"$f":"RIGHT(LEFT(VLOOKUP(B1482,'[1]002'!B:M,3,0),7),3)","v":"汕头市"},{"$f":"VLOOKUP(B1482,'[1]002'!B:M,7,0)","v":"曾颖嘉"},{"$f":"VLOOKUP(B1482,'[1]002'!B:M,8,0)","v":"汕头市澄海实验高级中学"},{"$f":"VLOOKUP(B1482,'[1]002'!B:M,11,0)","v":"-"},{"$f":"VLOOKUP(B1482,'[1]002'!B:M,12,0)","v":"-"}]
[1481,"P306319090612","多角度看中国古代抑商","高中组","新媒体新技术教学应用课例","二等奖",{"$f":"RIGHT(LEFT(VLOOKUP(B1483,'[1]002'!B:M,3,0),7),3)","v":"佛山市"},{"$f":"VLOOKUP(B1483,'[1]002'!B:M,7,0)","v":"吴凯琪"},{"$f":"VLOOKUP(B1483,'[1]002'!B:M,8,0)","v":"佛山巿南海区西樵高级中学"},{"$f":"VLOOKUP(B1483,'[1]002'!B:M,11,0)","v":"-"},{"$f":"VLOOKUP(B1483,'[1]002'!B:M,12,0)","v":"-"}]
[1482,"P306319090617","人类遗传病","高中组","新媒体新技术教学应用课例","二等奖",{"$f":"RIGHT(LEFT(VLOOKUP(B1484,'[1]002'!B:M,3,0),7),3)","v":"佛山市"},{"$f":"VLOOKUP(B1484,'[1]002'!B:M,7,0)","v":"邹德乐"},{"$f":"VLOOKUP(B1484,'[1]002'!B:M,8,0)","v":"佛山市顺德区罗定邦中学"},{"$f":"VLOOKUP(B1484,'[1]002'!B:M,11,0)","v":"-"},{"$f":"VLOOKUP(B1484,'[1]002'!B:M,12,0)","v":"-"}]
[1483,"P306319090620","金属钠的化学性质","高中组","新媒体新技术教学应用课例","二等奖",{"$f":"RIGHT(LEFT(VLOOKUP(B1485,'[1]002'!B:M,3,0),7),3)","v":"佛山市"},{"$f":"VLOOKUP(B1485,'[1]002'!B:M,7,0)","v":"陈凯淇"},{"$f":"VLOOKUP(B1485,'[1]002'!B:M,8,0)","v":"佛山市顺德区罗定邦中学"},{"$f":"VLOOKUP(B1485,'[1]002'!B:M,11,0)","v":"-"},{"$f":"VLOOKUP(B1485,'[1]002'!B:M,12,0)","v":"-"}]
[1484,"P306319090616","祝福人物形象分析","高中组","新媒体新技术教学应用课例","二等奖",{"$f":"RIGHT(LEFT(VLOOKUP(B1486,'[1]002'!B:M,3,0),7),3)","v":"佛山市"},{"$f":"VLOOKUP(B1486,'[1]002'!B:M,7,0)","v":"林素"},{"$f":"VLOOKUP(B1486,'[1]002'!B:M,8,0)","v":"佛山巿南海区西樵高级中学"},{"$f":"VLOOKUP(B1486,'[1]002'!B:M,11,0)","v":"-"},{"$f":"VLOOKUP(B1486,'[1]002'!B:M,12,0)","v":"-"}]
[1485,"P306319093014","网上资源检索——搜索引擎","高中组","新媒体新技术教学应用课例","二等奖",{"$f":"RIGHT(LEFT(VLOOKUP(B1487,'[1]002'!B:M,3,0),7),3)","v":"湛江市"},{"$f":"VLOOKUP(B1487,'[1]002'!B:M,7,0)","v":"曹红丽"},{"$f":"VLOOKUP(B1487,'[1]002'!B:M,8,0)","v":"湛江市爱周高级中学"},{"$f":"VLOOKUP(B1487,'[1]002'!B:M,11,0)","v":"白果"},{"$f":"VLOOKUP(B1487,'[1]002'!B:M,12,0)","v":"湛江市爱周高级中学"}]
[1486,"P306319093005","平面与平面垂直的判定","高中组","新媒体新技术教学应用课例","二等奖",{"$f":"RIGHT(LEFT(VLOOKUP(B1488,'[1]002'!B:M,3,0),7),3)","v":"湛江市"},{"$f":"VLOOKUP(B1488,'[1]002'!B:M,7,0)","v":"李翔"},{"$f":"VLOOKUP(B1488,'[1]002'!B:M,8,0)","v":"岭南师范学院附属中学"},{"$f":"VLOOKUP(B1488,'[1]002'!B:M,11,0)","v":"-"},{"$f":"VLOOKUP(B1488,'[1]002'!B:M,12,0)","v":"-"}]
[1487,"P306319089930","社会历史的主体","高中组","新媒体新技术教学应用课例","二等奖",{"$f":"RIGHT(LEFT(VLOOKUP(B1489,'[1]002'!B:M,3,0),7),3)","v":"云浮市"},{"$f":"VLOOKUP(B1489,'[1]002'!B:M,7,0)","v":"龚苑媛"},{"$f":"VLOOKUP(B1489,'[1]002'!B:M,8,0)","v":"云浮市云浮中学"},{"$f":"VLOOKUP(B1489,'[1]002'!B:M,11,0)","v":"-"},{"$f":"VLOOKUP(B1489,'[1]002'!B:M,12,0)","v":"-"}]
[1488,"P306319089791","声声慢","高中组","新媒体新技术教学应用课例","二等奖",{"$f":"RIGHT(LEFT(VLOOKUP(B1490,'[1]002'!B:M,3,0),7),3)","v":"云浮市"},{"$f":"VLOOKUP(B1490,'[1]002'!B:M,7,0)","v":"卢宇"},{"$f":"VLOOKUP(B1490,'[1]002'!B:M,8,0)","v":"罗定中学"},{"$f":"VLOOKUP(B1490,'[1]002'!B:M,11,0)","v":"-"},{"$f":"VLOOKUP(B1490,'[1]002'!B:M,12,0)","v":"-"}]
[1489,"P302319092965","6.1努力做遵纪守法的好公民","高中组","教育资源应用案例_项目单位","二等奖","湛江市",{"$f":"VLOOKUP(B1491,'[1]002'!B:M,7,0)","v":"罗谷花　"},{"$f":"VLOOKUP(B1491,'[1]002'!B:M,8,0)","v":"湛江市爱周高级中学"},{"$f":"VLOOKUP(B1491,'[1]002'!B:M,11,0)","v":"-"},{"$f":"VLOOKUP(B1491,'[1]002'!B:M,12,0)","v":"-"}]
[1490,"P302319092967","作用力与反作用力","高中组","教育资源应用案例_项目单位","二等奖","湛江市",{"$f":"VLOOKUP(B1492,'[1]002'!B:M,7,0)","v":"杨敏丹"},{"$f":"VLOOKUP(B1492,'[1]002'!B:M,8,0)","v":"湛江市爱周高级中学"},{"$f":"VLOOKUP(B1492,'[1]002'!B:M,11,0)","v":"-"},{"$f":"VLOOKUP(B1492,'[1]002'!B:M,12,0)","v":"-"}]
[1491,"P303319093212","第三章第一节自然界的水循环","高中组","课件","三等奖","广州市",{"$f":"VLOOKUP(B1493,'[1]002'!B:M,7,0)","v":"陈冰"},{"$f":"VLOOKUP(B1493,'[1]002'!B:M,8,0)","v":"广州市南海中学"},{"$f":"VLOOKUP(B1493,'[1]002'!B:M,11,0)","v":"-"},{"$f":"VLOOKUP(B1493,'[1]002'!B:M,12,0)","v":"-"}]
[1492,"P303319092761","光电效应与波粒二象性","高中组","课件","三等奖","深圳市",{"$f":"VLOOKUP(B1494,'[1]002'!B:M,7,0)","v":"赵刚"},{"$f":"VLOOKUP(B1494,'[1]002'!B:M,8,0)","v":"深圳市福田区红岭中学"},{"$f":"VLOOKUP(B1494,'[1]002'!B:M,11,0)","v":"-"},{"$f":"VLOOKUP(B1494,'[1]002'!B:M,12,0)","v":"-"}]
[1493,"P303319092762","城市内部空间结构","高中组","课件","三等奖","深圳市",{"$f":"VLOOKUP(B1495,'[1]002'!B:M,7,0)","v":"王伟亚"},{"$f":"VLOOKUP(B1495,'[1]002'!B:M,8,0)","v":"深圳市福田外国语高级中学"},{"$f":"VLOOKUP(B1495,'[1]002'!B:M,11,0)","v":"-"},{"$f":"VLOOKUP(B1495,'[1]002'!B:M,12,0)","v":"-"}]
[1494,"P303319092275","两个基本计数原理","高中组","课件","三等奖","汕头市",{"$f":"VLOOKUP(B1496,'[1]002'!B:M,7,0)","v":"张壮群"},{"$f":"VLOOKUP(B1496,'[1]002'!B:M,8,0)","v":"汕头市达濠华侨中学"},{"$f":"VLOOKUP(B1496,'[1]002'!B:M,11,0)","v":"-"},{"$f":"VLOOKUP(B1496,'[1]002'!B:M,12,0)","v":"-"}]
[1495,"P303319092282","现在完成进行时","高中组","课件","三等奖","汕头市",{"$f":"VLOOKUP(B1497,'[1]002'!B:M,7,0)","v":"陈淑姿"},{"$f":"VLOOKUP(B1497,'[1]002'!B:M,8,0)","v":"汕头市达濠第二中学"},{"$f":"VLOOKUP(B1497,'[1]002'!B:M,11,0)","v":"-"},{"$f":"VLOOKUP(B1497,'[1]002'!B:M,12,0)","v":"-"}]
[1496,"P303319092283","文言文特殊句式•倒装句","高中组","课件","三等奖","汕头市",{"$f":"VLOOKUP(B1498,'[1]002'!B:M,7,0)","v":"苏映珊"},{"$f":"VLOOKUP(B1498,'[1]002'!B:M,8,0)","v":"汕头市河浦中学"},{"$f":"VLOOKUP(B1498,'[1]002'!B:M,11,0)","v":"-"},{"$f":"VLOOKUP(B1498,'[1]002'!B:M,12,0)","v":"-"}]
[1497,"P303319090626","两条直线平行与垂直的判定","高中组","课件","三等奖","佛山市",{"$f":"VLOOKUP(B1499,'[1]002'!B:M,7,0)","v":"梁灵慧"},{"$f":"VLOOKUP(B1499,'[1]002'!B:M,8,0)","v":"佛山市南海区桂华中学"},{"$f":"VLOOKUP(B1499,'[1]002'!B:M,11,0)","v":"-"},{"$f":"VLOOKUP(B1499,'[1]002'!B:M,12,0)","v":"-"}]
[1498,"P303319090624","Unit5RhythmLesson2BeijingOpera","高中组","课件","三等奖","佛山市",{"$f":"VLOOKUP(B1500,'[1]002'!B:M,7,0)","v":"卢昌梅"},{"$f":"VLOOKUP(B1500,'[1]002'!B:M,8,0)","v":"佛山巿南海区西樵高级中学"},{"$f":"VLOOKUP(B1500,'[1]002'!B:M,11,0)","v":"-"},{"$f":"VLOOKUP(B1500,'[1]002'!B:M,12,0)","v":"-"}]
[1499,"P303319090631","工业地域的形成","高中组","课件","三等奖","佛山市",{"$f":"VLOOKUP(B1501,'[1]002'!B:M,7,0)","v":"郭祖科"},{"$f":"VLOOKUP(B1501,'[1]002'!B:M,8,0)","v":"佛山巿南海区西樵高级中学"},{"$f":"VLOOKUP(B1501,'[1]002'!B:M,11,0)","v":"-"},{"$f":"VLOOKUP(B1501,'[1]002'!B:M,12,0)","v":"-"}]
[1500,"P303319090629","交通运输方式和布局","高中组","课件","三等奖","佛山市",{"$f":"VLOOKUP(B1502,'[1]002'!B:M,7,0)","v":"邱婉屏"},{"$f":"VLOOKUP(B1502,'[1]002'!B:M,8,0)","v":"佛山市南海区桂华中学"},{"$f":"VLOOKUP(B1502,'[1]002'!B:M,11,0)","v":"-"},{"$f":"VLOOKUP(B1502,'[1]002'!B:M,12,0)","v":"-"}]
[1501,"P303319090622","全球气候变化","高中组","课件","三等奖","佛山市",{"$f":"VLOOKUP(B1503,'[1]002'!B:M,7,0)","v":"邱婉屏"},{"$f":"VLOOKUP(B1503,'[1]002'!B:M,8,0)","v":"佛山市南海区桂华中学"},{"$f":"VLOOKUP(B1503,'[1]002'!B:M,11,0)","v":"-"},{"$f":"VLOOKUP(B1503,'[1]002'!B:M,12,0)","v":"-"}]
[1502,"P303319090621","农业的区位选择","高中组","课件","三等奖","佛山市",{"$f":"VLOOKUP(B1504,'[1]002'!B:M,7,0)","v":"胡继兰"},{"$f":"VLOOKUP(B1504,'[1]002'!B:M,8,0)","v":"佛山市第一中学"},{"$f":"VLOOKUP(B1504,'[1]002'!B:M,11,0)","v":"-"},{"$f":"VLOOKUP(B1504,'[1]002'!B:M,12,0)","v":"-"}]
[1503,"P303319090637","食品添加剂","高中组","课件","三等奖","佛山市",{"$f":"VLOOKUP(B1505,'[1]002'!B:M,7,0)","v":"洪生锋"},{"$f":"VLOOKUP(B1505,'[1]002'!B:M,8,0)","v":"佛山市顺德区罗定邦中学"},{"$f":"VLOOKUP(B1505,'[1]002'!B:M,11,0)","v":"胡楚佳"},{"$f":"VLOOKUP(B1505,'[1]002'!B:M,12,0)","v":"佛山市顺德区罗定邦中学"}]
[1504,"P303319090030","雷雨","高中组","课件","三等奖","韶关市",{"$f":"VLOOKUP(B1506,'[1]002'!B:M,7,0)","v":"周小宁"},{"$f":"VLOOKUP(B1506,'[1]002'!B:M,8,0)","v":"仁化县第一中学"},{"$f":"VLOOKUP(B1506,'[1]002'!B:M,11,0)","v":"-"},{"$f":"VLOOKUP(B1506,'[1]002'!B:M,12,0)","v":"-"}]
[1505,"P303319090057","禁毒禁烟主题班会","高中组","课件","三等奖","韶关市",{"$f":"VLOOKUP(B1507,'[1]002'!B:M,7,0)","v":"罗伟强"},{"$f":"VLOOKUP(B1507,'[1]002'!B:M,8,0)","v":"仁化县第一中学"},{"$f":"VLOOKUP(B1507,'[1]002'!B:M,11,0)","v":"-"},{"$f":"VLOOKUP(B1507,'[1]002'!B:M,12,0)","v":"-"}]
[1506,"P303319087827","农业区位因素","高中组","课件","三等奖","韶关市",{"$f":"VLOOKUP(B1508,'[1]002'!B:M,7,0)","v":"郭丽君"},{"$f":"VLOOKUP(B1508,'[1]002'!B:M,8,0)","v":"仁化县仁化中学"},{"$f":"VLOOKUP(B1508,'[1]002'!B:M,11,0)","v":"-"},{"$f":"VLOOKUP(B1508,'[1]002'!B:M,12,0)","v":"-"}]
[1507,"P303319092202","人教版高中英语必修一第四单元阅读课 课件","高中组","课件","三等奖","惠州市",{"$f":"VLOOKUP(B1509,'[1]002'!B:M,7,0)","v":"曾卫平"},{"$f":"VLOOKUP(B1509,'[1]002'!B:M,8,0)","v":"惠东县惠东荣超中学"},{"$f":"VLOOKUP(B1509,'[1]002'!B:M,11,0)","v":"-"},{"$f":"VLOOKUP(B1509,'[1]002'!B:M,12,0)","v":"-"}]
[1508,"P303319092503","红楼梦赏析教学网站之第一回","高中组","课件","三等奖","东莞市",{"$f":"VLOOKUP(B1510,'[1]002'!B:M,7,0)","v":"黎清万"},{"$f":"VLOOKUP(B1510,'[1]002'!B:M,8,0)","v":"东莞市第六高级中学"},{"$f":"VLOOKUP(B1510,'[1]002'!B:M,11,0)","v":"颜兰"},{"$f":"VLOOKUP(B1510,'[1]002'!B:M,12,0)","v":"东莞市第六高级中学"}]
[1509,"P303319092505","议题式教学东莞的前世今生之走进东莞转型","高中组","课件","三等奖","东莞市",{"$f":"VLOOKUP(B1511,'[1]002'!B:M,7,0)","v":"赖肖芬"},{"$f":"VLOOKUP(B1511,'[1]002'!B:M,8,0)","v":"东莞高级中学"},{"$f":"VLOOKUP(B1511,'[1]002'!B:M,11,0)","v":"-"},{"$f":"VLOOKUP(B1511,'[1]002'!B:M,12,0)","v":"-"}]
[1510,"P303319092506","血糖平衡的调节","高中组","课件","三等奖","东莞市",{"$f":"VLOOKUP(B1512,'[1]002'!B:M,7,0)","v":"辛如"},{"$f":"VLOOKUP(B1512,'[1]002'!B:M,8,0)","v":"东莞市大岭山中学"},{"$f":"VLOOKUP(B1512,'[1]002'!B:M,11,0)","v":"-"},{"$f":"VLOOKUP(B1512,'[1]002'!B:M,12,0)","v":"-"}]
[1511,"P303319089138","分散系及其分类","高中组","课件","三等奖","中山市",{"$f":"VLOOKUP(B1513,'[1]002'!B:M,7,0)","v":"刘洁嫦"},{"$f":"VLOOKUP(B1513,'[1]002'!B:M,8,0)","v":"中山市龙山中学"},{"$f":"VLOOKUP(B1513,'[1]002'!B:M,11,0)","v":"-"},{"$f":"VLOOKUP(B1513,'[1]002'!B:M,12,0)","v":"-"}]
[1512,"P303319089438","北大是我美丽羞涩的梦","高中组","课件","三等奖","中山市",{"$f":"VLOOKUP(B1514,'[1]002'!B:M,7,0)","v":"许纯丽"},{"$f":"VLOOKUP(B1514,'[1]002'!B:M,8,0)","v":"中山市杨仙逸中学"},{"$f":"VLOOKUP(B1514,'[1]002'!B:M,11,0)","v":"-"},{"$f":"VLOOKUP(B1514,'[1]002'!B:M,12,0)","v":"-"}]
[1513,"P303319088293","文化在继承中发展","高中组","课件","三等奖","中山市",{"$f":"VLOOKUP(B1515,'[1]002'!B:M,7,0)","v":"陈婷婷"},{"$f":"VLOOKUP(B1515,'[1]002'!B:M,8,0)","v":"中山市杨仙逸中学"},{"$f":"VLOOKUP(B1515,'[1]002'!B:M,11,0)","v":"-"},{"$f":"VLOOKUP(B1515,'[1]002'!B:M,12,0)","v":"-"}]
[1514,"P303319089780","热力环流和大气水平运动","高中组","课件","三等奖","中山市",{"$f":"VLOOKUP(B1516,'[1]002'!B:M,7,0)","v":"王波"},{"$f":"VLOOKUP(B1516,'[1]002'!B:M,8,0)","v":"中山市龙山中学"},{"$f":"VLOOKUP(B1516,'[1]002'!B:M,11,0)","v":"冯树涛"},{"$f":"VLOOKUP(B1516,'[1]002'!B:M,12,0)","v":"中山市龙山中学"}]
[1515,"P303319089685","千年红木话沧桑——以中山大涌红木家具为例探讨工业复习","高中组","课件","三等奖","中山市",{"$f":"VLOOKUP(B1517,'[1]002'!B:M,7,0)","v":"冯树涛"},{"$f":"VLOOKUP(B1517,'[1]002'!B:M,8,0)","v":"中山市龙山中学"},{"$f":"VLOOKUP(B1517,'[1]002'!B:M,11,0)","v":"王波"},{"$f":"VLOOKUP(B1517,'[1]002'!B:M,12,0)","v":"中山市龙山中学"}]
[1516,"P303319092033","从战时共产主义到斯大林模式","高中组","课件","三等奖","江门市",{"$f":"VLOOKUP(B1518,'[1]002'!B:M,7,0)","v":"吕洁"},{"$f":"VLOOKUP(B1518,'[1]002'!B:M,8,0)","v":"台山市第一中学"},{"$f":"VLOOKUP(B1518,'[1]002'!B:M,11,0)","v":"-"},{"$f":"VLOOKUP(B1518,'[1]002'!B:M,12,0)","v":"-"}]
[1517,"P303319092032","生态系统的物质循环","高中组","课件","三等奖","江门市",{"$f":"VLOOKUP(B1519,'[1]002'!B:M,7,0)","v":"王明燕"},{"$f":"VLOOKUP(B1519,'[1]002'!B:M,8,0)","v":"台山市鹏权中学"},{"$f":"VLOOKUP(B1519,'[1]002'!B:M,11,0)","v":"-"},{"$f":"VLOOKUP(B1519,'[1]002'!B:M,12,0)","v":"-"}]
[1518,"P303319091849","第二单元赞美祖国","高中组","课件","三等奖","江门市",{"$f":"VLOOKUP(B1520,'[1]002'!B:M,7,0)","v":"方芳"},{"$f":"VLOOKUP(B1520,'[1]002'!B:M,8,0)","v":"江海区外海中学"},{"$f":"VLOOKUP(B1520,'[1]002'!B:M,11,0)","v":"-"},{"$f":"VLOOKUP(B1520,'[1]002'!B:M,12,0)","v":"-"}]
[1519,"P303319093030","Book3Unit5同位语从句","高中组","课件","三等奖","湛江市",{"$f":"VLOOKUP(B1521,'[1]002'!B:M,7,0)","v":"金华晶"},{"$f":"VLOOKUP(B1521,'[1]002'!B:M,8,0)","v":"湛江经济技术开发区觉民中学"},{"$f":"VLOOKUP(B1521,'[1]002'!B:M,11,0)","v":"-"},{"$f":"VLOOKUP(B1521,'[1]002'!B:M,12,0)","v":"-"}]
[1520,"P303319093048","电路基本教学","高中组","课件","三等奖","湛江市",{"$f":"VLOOKUP(B1522,'[1]002'!B:M,7,0)","v":"曹红丽"},{"$f":"VLOOKUP(B1522,'[1]002'!B:M,8,0)","v":"湛江市爱周高级中学"},{"$f":"VLOOKUP(B1522,'[1]002'!B:M,11,0)","v":"-"},{"$f":"VLOOKUP(B1522,'[1]002'!B:M,12,0)","v":"-"}]
[1521,"P303319093033","日常文本信息的加工与表达","高中组","课件","三等奖","湛江市",{"$f":"VLOOKUP(B1523,'[1]002'!B:M,7,0)","v":"李琳"},{"$f":"VLOOKUP(B1523,'[1]002'!B:M,8,0)","v":"湛江二中港城中学"},{"$f":"VLOOKUP(B1523,'[1]002'!B:M,11,0)","v":"-"},{"$f":"VLOOKUP(B1523,'[1]002'!B:M,12,0)","v":"-"}]
[1522,"P303319093041","家用电器的基本元件","高中组","课件","三等奖","湛江市",{"$f":"VLOOKUP(B1524,'[1]002'!B:M,7,0)","v":"陈墨源"},{"$f":"VLOOKUP(B1524,'[1]002'!B:M,8,0)","v":"湛江市爱周高级中学"},{"$f":"VLOOKUP(B1524,'[1]002'!B:M,11,0)","v":"-"},{"$f":"VLOOKUP(B1524,'[1]002'!B:M,12,0)","v":"-"}]
[1523,"P303319093043","函数y=Asin(ωx+φ)的图象（第一课时）","高中组","课件","三等奖","湛江市",{"$f":"VLOOKUP(B1525,'[1]002'!B:M,7,0)","v":"孙媛媛"},{"$f":"VLOOKUP(B1525,'[1]002'!B:M,8,0)","v":"岭南师范学院附属中学"},{"$f":"VLOOKUP(B1525,'[1]002'!B:M,11,0)","v":"-"},{"$f":"VLOOKUP(B1525,'[1]002'!B:M,12,0)","v":"-"}]
[1524,"P303319093021","恻隐之心仁之端也","高中组","课件","三等奖","湛江市",{"$f":"VLOOKUP(B1526,'[1]002'!B:M,7,0)","v":"项佳佳"},{"$f":"VLOOKUP(B1526,'[1]002'!B:M,8,0)","v":"岭南师范学院附属中学"},{"$f":"VLOOKUP(B1526,'[1]002'!B:M,11,0)","v":"-"},{"$f":"VLOOKUP(B1526,'[1]002'!B:M,12,0)","v":"-"}]
[1525,"P303319093032","正弦函数、余弦函数的图像","高中组","课件","三等奖","湛江市",{"$f":"VLOOKUP(B1527,'[1]002'!B:M,7,0)","v":"蔡蕖"},{"$f":"VLOOKUP(B1527,'[1]002'!B:M,8,0)","v":"湛江经济技术开发区第一中学"},{"$f":"VLOOKUP(B1527,'[1]002'!B:M,11,0)","v":"-"},{"$f":"VLOOKUP(B1527,'[1]002'!B:M,12,0)","v":"-"}]
[1526,"P303319093023","网络信息安全与网络隐私保护","高中组","课件","三等奖","湛江市",{"$f":"VLOOKUP(B1528,'[1]002'!B:M,7,0)","v":"贺李彬"},{"$f":"VLOOKUP(B1528,'[1]002'!B:M,8,0)","v":"湛江市第二中学"},{"$f":"VLOOKUP(B1528,'[1]002'!B:M,11,0)","v":"-"},{"$f":"VLOOKUP(B1528,'[1]002'!B:M,12,0)","v":"-"}]
[1527,"P303319093024","唯物主义和唯心主义","高中组","课件","三等奖","湛江市",{"$f":"VLOOKUP(B1529,'[1]002'!B:M,7,0)","v":"刘姗姗"},{"$f":"VLOOKUP(B1529,'[1]002'!B:M,8,0)","v":"遂溪县第一中学"},{"$f":"VLOOKUP(B1529,'[1]002'!B:M,11,0)","v":"-"},{"$f":"VLOOKUP(B1529,'[1]002'!B:M,12,0)","v":"-"}]
[1528,"P303319093027","捕获光能的色素和结构","高中组","课件","三等奖","湛江市",{"$f":"VLOOKUP(B1530,'[1]002'!B:M,7,0)","v":"徐爽"},{"$f":"VLOOKUP(B1530,'[1]002'!B:M,8,0)","v":"湛江二中港城中学"},{"$f":"VLOOKUP(B1530,'[1]002'!B:M,11,0)","v":"-"},{"$f":"VLOOKUP(B1530,'[1]002'!B:M,12,0)","v":"-"}]
[1529,"P303319093037","原电池的构成","高中组","课件","三等奖","湛江市",{"$f":"VLOOKUP(B1531,'[1]002'!B:M,7,0)","v":"蔡行雯"},{"$f":"VLOOKUP(B1531,'[1]002'!B:M,8,0)","v":"湛江市坡头区第一中学"},{"$f":"VLOOKUP(B1531,'[1]002'!B:M,11,0)","v":"-"},{"$f":"VLOOKUP(B1531,'[1]002'!B:M,12,0)","v":"-"}]
[1530,"P303319093029","二项式定理","高中组","课件","三等奖","湛江市",{"$f":"VLOOKUP(B1532,'[1]002'!B:M,7,0)","v":"卢丽冰"},{"$f":"VLOOKUP(B1532,'[1]002'!B:M,8,0)","v":"湛江市第二中学"},{"$f":"VLOOKUP(B1532,'[1]002'!B:M,11,0)","v":"-"},{"$f":"VLOOKUP(B1532,'[1]002'!B:M,12,0)","v":"-"}]
[1531,"P303319090241","PS剪贴蒙版的使用","高中组","课件","三等奖","肇庆市",{"$f":"VLOOKUP(B1533,'[1]002'!B:M,7,0)","v":"唐金萍"},{"$f":"VLOOKUP(B1533,'[1]002'!B:M,8,0)","v":"肇庆市实验中学"},{"$f":"VLOOKUP(B1533,'[1]002'!B:M,11,0)","v":"-"},{"$f":"VLOOKUP(B1533,'[1]002'!B:M,12,0)","v":"-"}]
[1532,"P303319092225","篮球原地交叉步持球突破","高中组","课件","三等奖","肇庆市",{"$f":"VLOOKUP(B1534,'[1]002'!B:M,7,0)","v":"李燕"},{"$f":"VLOOKUP(B1534,'[1]002'!B:M,8,0)","v":"封开县江口中学"},{"$f":"VLOOKUP(B1534,'[1]002'!B:M,11,0)","v":"-"},{"$f":"VLOOKUP(B1534,'[1]002'!B:M,12,0)","v":"-"}]
[1533,"P303319091218","苯酚","高中组","课件","三等奖","肇庆市",{"$f":"VLOOKUP(B1535,'[1]002'!B:M,7,0)","v":"闻莹莹"},{"$f":"VLOOKUP(B1535,'[1]002'!B:M,8,0)","v":"四会市华侨中学"},{"$f":"VLOOKUP(B1535,'[1]002'!B:M,11,0)","v":"-"},{"$f":"VLOOKUP(B1535,'[1]002'!B:M,12,0)","v":"-"}]
[1534,"P303319090234","两角差的余弦公式","高中组","课件","三等奖","肇庆市",{"$f":"VLOOKUP(B1536,'[1]002'!B:M,7,0)","v":"何正文"},{"$f":"VLOOKUP(B1536,'[1]002'!B:M,8,0)","v":"肇庆市百花中学"},{"$f":"VLOOKUP(B1536,'[1]002'!B:M,11,0)","v":"-"},{"$f":"VLOOKUP(B1536,'[1]002'!B:M,12,0)","v":"-"}]
[1535,"P303319091219","铁的重要化合物","高中组","课件","三等奖","肇庆市",{"$f":"VLOOKUP(B1537,'[1]002'!B:M,7,0)","v":"毛超旭"},{"$f":"VLOOKUP(B1537,'[1]002'!B:M,8,0)","v":"四会市华侨中学"},{"$f":"VLOOKUP(B1537,'[1]002'!B:M,11,0)","v":"-"},{"$f":"VLOOKUP(B1537,'[1]002'!B:M,12,0)","v":"-"}]
[1536,"P303319091607","宾语从句之连接词的用法","高中组","课件","三等奖","清远市",{"$f":"VLOOKUP(B1538,'[1]002'!B:M,7,0)","v":"张丽萍"},{"$f":"VLOOKUP(B1538,'[1]002'!B:M,8,0)","v":"清远市源潭中学"},{"$f":"VLOOKUP(B1538,'[1]002'!B:M,11,0)","v":"-"},{"$f":"VLOOKUP(B1538,'[1]002'!B:M,12,0)","v":"-"}]
[1537,"P303319091608","化学能与热能","高中组","课件","三等奖","清远市",{"$f":"VLOOKUP(B1539,'[1]002'!B:M,7,0)","v":"刘清环"},{"$f":"VLOOKUP(B1539,'[1]002'!B:M,8,0)","v":"清远市源潭中学"},{"$f":"VLOOKUP(B1539,'[1]002'!B:M,11,0)","v":"-"},{"$f":"VLOOKUP(B1539,'[1]002'!B:M,12,0)","v":"-"}]
[1538,"P303319091610","随机事件的概率第一课时","高中组","课件","三等奖","清远市",{"$f":"VLOOKUP(B1540,'[1]002'!B:M,7,0)","v":"叶新群"},{"$f":"VLOOKUP(B1540,'[1]002'!B:M,8,0)","v":"清远市源潭中学"},{"$f":"VLOOKUP(B1540,'[1]002'!B:M,11,0)","v":"-"},{"$f":"VLOOKUP(B1540,'[1]002'!B:M,12,0)","v":"-"}]
[1539,"P303319091611","对数函数及其性质","高中组","课件","三等奖","清远市",{"$f":"VLOOKUP(B1541,'[1]002'!B:M,7,0)","v":"黄凤玲"},{"$f":"VLOOKUP(B1541,'[1]002'!B:M,8,0)","v":"清远市源潭中学"},{"$f":"VLOOKUP(B1541,'[1]002'!B:M,11,0)","v":"-"},{"$f":"VLOOKUP(B1541,'[1]002'!B:M,12,0)","v":"-"}]
[1540,"P303319079744","分子的热运动","高中组","课件","三等奖","潮州市",{"$f":"VLOOKUP(B1542,'[1]002'!B:M,7,0)","v":"陈伟贤"},{"$f":"VLOOKUP(B1542,'[1]002'!B:M,8,0)","v":"潮州市绵德中学"},{"$f":"VLOOKUP(B1542,'[1]002'!B:M,11,0)","v":"-"},{"$f":"VLOOKUP(B1542,'[1]002'!B:M,12,0)","v":"-"}]
[1541,"P303319078962","新人教版高中历史必修一第13课辛亥革命课件","高中组","课件","三等奖","潮州市",{"$f":"VLOOKUP(B1543,'[1]002'!B:M,7,0)","v":"陈绚"},{"$f":"VLOOKUP(B1543,'[1]002'!B:M,8,0)","v":"潮州市金山中学"},{"$f":"VLOOKUP(B1543,'[1]002'!B:M,11,0)","v":"-"},{"$f":"VLOOKUP(B1543,'[1]002'!B:M,12,0)","v":"-"}]
[1542,"P303319090490","制作逐帧动画之表情包","高中组","课件","三等奖","云浮市",{"$f":"VLOOKUP(B1544,'[1]002'!B:M,7,0)","v":"徐梅丽"},{"$f":"VLOOKUP(B1544,'[1]002'!B:M,8,0)","v":"罗定中学城东学校"},{"$f":"VLOOKUP(B1544,'[1]002'!B:M,11,0)","v":"-"},{"$f":"VLOOKUP(B1544,'[1]002'!B:M,12,0)","v":"-"}]
[1543,"P303319090491","功","高中组","课件","三等奖","云浮市",{"$f":"VLOOKUP(B1545,'[1]002'!B:M,7,0)","v":"蓝庆全"},{"$f":"VLOOKUP(B1545,'[1]002'!B:M,8,0)","v":"罗定中学城东学校"},{"$f":"VLOOKUP(B1545,'[1]002'!B:M,11,0)","v":"-"},{"$f":"VLOOKUP(B1545,'[1]002'!B:M,12,0)","v":"-"}]
[1544,"P303319090486","二项式定理","高中组","课件","三等奖","云浮市",{"$f":"VLOOKUP(B1546,'[1]002'!B:M,7,0)","v":"李姣琴"},{"$f":"VLOOKUP(B1546,'[1]002'!B:M,8,0)","v":"郁南县西江中学"},{"$f":"VLOOKUP(B1546,'[1]002'!B:M,11,0)","v":"-"},{"$f":"VLOOKUP(B1546,'[1]002'!B:M,12,0)","v":"-"}]
[1545,"P303319090495","报刊类文本信息的加工与表达","高中组","课件","三等奖","云浮市",{"$f":"VLOOKUP(B1547,'[1]002'!B:M,7,0)","v":"王建梅"},{"$f":"VLOOKUP(B1547,'[1]002'!B:M,8,0)","v":"罗定中学城东学校"},{"$f":"VLOOKUP(B1547,'[1]002'!B:M,11,0)","v":"-"},{"$f":"VLOOKUP(B1547,'[1]002'!B:M,12,0)","v":"-"}]
[1546,"P303319089977","工业的区位选择","高中组","课件","三等奖","云浮市",{"$f":"VLOOKUP(B1548,'[1]002'!B:M,7,0)","v":"李秋莲"},{"$f":"VLOOKUP(B1548,'[1]002'!B:M,8,0)","v":"郁南县连滩中学"},{"$f":"VLOOKUP(B1548,'[1]002'!B:M,11,0)","v":"-"},{"$f":"VLOOKUP(B1548,'[1]002'!B:M,12,0)","v":"-"}]
[1547,"P305319093243","传感器的信息加工与处理","高中组","微课","三等奖","广州市",{"$f":"VLOOKUP(B1549,'[1]002'!B:M,7,0)","v":"关梦勋"},{"$f":"VLOOKUP(B1549,'[1]002'!B:M,8,0)","v":"广州市天河外国语学校"},{"$f":"VLOOKUP(B1549,'[1]002'!B:M,11,0)","v":"-"},{"$f":"VLOOKUP(B1549,'[1]002'!B:M,12,0)","v":"-"}]
[1548,"P305319093244","正弦定理的证明","高中组","微课","三等奖","广州市",{"$f":"VLOOKUP(B1550,'[1]002'!B:M,7,0)","v":"章志光"},{"$f":"VLOOKUP(B1550,'[1]002'!B:M,8,0)","v":"广州市花都区圆玄中学"},{"$f":"VLOOKUP(B1550,'[1]002'!B:M,11,0)","v":"-"},{"$f":"VLOOKUP(B1550,'[1]002'!B:M,12,0)","v":"-"}]
[1549,"P305319093239","利用导数求曲线的切线方程","高中组","微课","三等奖","广州市",{"$f":"VLOOKUP(B1551,'[1]002'!B:M,7,0)","v":"曾子斌"},{"$f":"VLOOKUP(B1551,'[1]002'!B:M,8,0)","v":"广州市花都区圆玄中学"},{"$f":"VLOOKUP(B1551,'[1]002'!B:M,11,0)","v":"-"},{"$f":"VLOOKUP(B1551,'[1]002'!B:M,12,0)","v":"-"}]
[1550,"P305319092701","爵士乐器与布鲁斯音阶","高中组","微课","三等奖","深圳市",{"$f":"VLOOKUP(B1552,'[1]002'!B:M,7,0)","v":"张滋"},{"$f":"VLOOKUP(B1552,'[1]002'!B:M,8,0)","v":"坪山区坪山高级中学"},{"$f":"VLOOKUP(B1552,'[1]002'!B:M,11,0)","v":"-"},{"$f":"VLOOKUP(B1552,'[1]002'!B:M,12,0)","v":"-"}]
[1551,"P305319092702","技术试验与科学实验的区别与联系","高中组","微课","三等奖","深圳市",{"$f":"VLOOKUP(B1553,'[1]002'!B:M,7,0)","v":"王支勇"},{"$f":"VLOOKUP(B1553,'[1]002'!B:M,8,0)","v":"坪山区坪山高级中学"},{"$f":"VLOOKUP(B1553,'[1]002'!B:M,11,0)","v":"张婷婷"},{"$f":"VLOOKUP(B1553,'[1]002'!B:M,12,0)","v":"坪山区坪山高级中学"}]
[1552,"P305319092695","新航路开辟的影响","高中组","微课","三等奖","深圳市",{"$f":"VLOOKUP(B1554,'[1]002'!B:M,7,0)","v":"甘兰"},{"$f":"VLOOKUP(B1554,'[1]002'!B:M,8,0)","v":"深圳大学师范学院附属中学"},{"$f":"VLOOKUP(B1554,'[1]002'!B:M,11,0)","v":"-"},{"$f":"VLOOKUP(B1554,'[1]002'!B:M,12,0)","v":"-"}]
[1553,"P305319092699","双曲线及其标准方程","高中组","微课","三等奖","深圳市",{"$f":"VLOOKUP(B1555,'[1]002'!B:M,7,0)","v":"张晓华"},{"$f":"VLOOKUP(B1555,'[1]002'!B:M,8,0)","v":"人大附中深圳学校"},{"$f":"VLOOKUP(B1555,'[1]002'!B:M,11,0)","v":"-"},{"$f":"VLOOKUP(B1555,'[1]002'!B:M,12,0)","v":"-"}]
[1554,"P305319089675","直接法求曲线的轨迹方程几何画板演示","高中组","微课","三等奖","珠海市",{"$f":"VLOOKUP(B1556,'[1]002'!B:M,7,0)","v":"李凯"},{"$f":"VLOOKUP(B1556,'[1]002'!B:M,8,0)","v":"珠海市斗门第一中学"},{"$f":"VLOOKUP(B1556,'[1]002'!B:M,11,0)","v":"-"},{"$f":"VLOOKUP(B1556,'[1]002'!B:M,12,0)","v":"-"}]
[1555,"P305319092314","边城里的爱情","高中组","微课","三等奖","汕头市",{"$f":"VLOOKUP(B1557,'[1]002'!B:M,7,0)","v":"苏映珊"},{"$f":"VLOOKUP(B1557,'[1]002'!B:M,8,0)","v":"汕头市河浦中学"},{"$f":"VLOOKUP(B1557,'[1]002'!B:M,11,0)","v":"吕海娜"},{"$f":"VLOOKUP(B1557,'[1]002'!B:M,12,0)","v":"汕头市河浦中学"}]
[1556,"P305319092312","名词性从句之主语从句","高中组","微课","三等奖","汕头市",{"$f":"VLOOKUP(B1558,'[1]002'!B:M,7,0)","v":"陈衡"},{"$f":"VLOOKUP(B1558,'[1]002'!B:M,8,0)","v":"汕头市河浦中学"},{"$f":"VLOOKUP(B1558,'[1]002'!B:M,11,0)","v":"林哲群"},{"$f":"VLOOKUP(B1558,'[1]002'!B:M,12,0)","v":"汕头市河浦中学"}]
[1557,"P305319092300","It作形式主语（复习课）","高中组","微课","三等奖","汕头市",{"$f":"VLOOKUP(B1559,'[1]002'!B:M,7,0)","v":"吴晓纯"},{"$f":"VLOOKUP(B1559,'[1]002'!B:M,8,0)","v":"汕头市第一中学"},{"$f":"VLOOKUP(B1559,'[1]002'!B:M,11,0)","v":"-"},{"$f":"VLOOKUP(B1559,'[1]002'!B:M,12,0)","v":"-"}]
[1558,"P305319092316","分散系及其分类","高中组","微课","三等奖","汕头市",{"$f":"VLOOKUP(B1560,'[1]002'!B:M,7,0)","v":"魏佳丽"},{"$f":"VLOOKUP(B1560,'[1]002'!B:M,8,0)","v":"汕头市潮南区司马浦中学"},{"$f":"VLOOKUP(B1560,'[1]002'!B:M,11,0)","v":"-"},{"$f":"VLOOKUP(B1560,'[1]002'!B:M,12,0)","v":"-"}]
[1559,"P305319092289","Meetingyourancesotrs","高中组","微课","三等奖","汕头市",{"$f":"VLOOKUP(B1561,'[1]002'!B:M,7,0)","v":"李晓洁"},{"$f":"VLOOKUP(B1561,'[1]002'!B:M,8,0)","v":"汕头市金山中学"},{"$f":"VLOOKUP(B1561,'[1]002'!B:M,11,0)","v":"谢思苹"},{"$f":"VLOOKUP(B1561,'[1]002'!B:M,12,0)","v":"汕头市第一中学"}]
[1560,"P305319092305","分泌蛋白的合成和运输","高中组","微课","三等奖","汕头市",{"$f":"VLOOKUP(B1562,'[1]002'!B:M,7,0)","v":"许佳萦"},{"$f":"VLOOKUP(B1562,'[1]002'!B:M,8,0)","v":"汕头市第二中学"},{"$f":"VLOOKUP(B1562,'[1]002'!B:M,11,0)","v":"-"},{"$f":"VLOOKUP(B1562,'[1]002'!B:M,12,0)","v":"-"}]
[1561,"P305319092296","现在分词作状语","高中组","微课","三等奖","汕头市",{"$f":"VLOOKUP(B1563,'[1]002'!B:M,7,0)","v":"许嘉虹"},{"$f":"VLOOKUP(B1563,'[1]002'!B:M,8,0)","v":"汕头市聿怀中学"},{"$f":"VLOOKUP(B1563,'[1]002'!B:M,11,0)","v":"-"},{"$f":"VLOOKUP(B1563,'[1]002'!B:M,12,0)","v":"-"}]
[1562,"P305319092308","名词性从句之表语从句","高中组","微课","三等奖","汕头市",{"$f":"VLOOKUP(B1564,'[1]002'!B:M,7,0)","v":"林燕娥"},{"$f":"VLOOKUP(B1564,'[1]002'!B:M,8,0)","v":"汕头市河浦中学"},{"$f":"VLOOKUP(B1564,'[1]002'!B:M,11,0)","v":"-"},{"$f":"VLOOKUP(B1564,'[1]002'!B:M,12,0)","v":"-"}]
[1563,"P305319092313","主语从句之连接词的使用","高中组","微课","三等奖","汕头市",{"$f":"VLOOKUP(B1565,'[1]002'!B:M,7,0)","v":"陈衡"},{"$f":"VLOOKUP(B1565,'[1]002'!B:M,8,0)","v":"汕头市河浦中学"},{"$f":"VLOOKUP(B1565,'[1]002'!B:M,11,0)","v":"林哲群"},{"$f":"VLOOKUP(B1565,'[1]002'!B:M,12,0)","v":"汕头市河浦中学"}]
[1564,"P305319092307","if虚拟条件句的应用教学案例","高中组","微课","三等奖","汕头市",{"$f":"VLOOKUP(B1566,'[1]002'!B:M,7,0)","v":"苏庆虹"},{"$f":"VLOOKUP(B1566,'[1]002'!B:M,8,0)","v":"汕头市第一中学"},{"$f":"VLOOKUP(B1566,'[1]002'!B:M,11,0)","v":"-"},{"$f":"VLOOKUP(B1566,'[1]002'!B:M,12,0)","v":"-"}]
[1565,"P305319092297","宾语从句it作形式宾语的结构","高中组","微课","三等奖","汕头市",{"$f":"VLOOKUP(B1567,'[1]002'!B:M,7,0)","v":"章楚真"},{"$f":"VLOOKUP(B1567,'[1]002'!B:M,8,0)","v":"南澳县南澳中学"},{"$f":"VLOOKUP(B1567,'[1]002'!B:M,11,0)","v":"-"},{"$f":"VLOOKUP(B1567,'[1]002'!B:M,12,0)","v":"-"}]
[1566,"P305319090642","椭圆的简单几何性质","高中组","微课","三等奖","佛山市",{"$f":"VLOOKUP(B1568,'[1]002'!B:M,7,0)","v":"伍艳芳"},{"$f":"VLOOKUP(B1568,'[1]002'!B:M,8,0)","v":"佛山巿南海区西樵高级中学"},{"$f":"VLOOKUP(B1568,'[1]002'!B:M,11,0)","v":"-"},{"$f":"VLOOKUP(B1568,'[1]002'!B:M,12,0)","v":"-"}]
[1567,"P305319090650","探究碳酸钠与碳酸氢钠的性质","高中组","微课","三等奖","佛山市",{"$f":"VLOOKUP(B1569,'[1]002'!B:M,7,0)","v":"吴倩"},{"$f":"VLOOKUP(B1569,'[1]002'!B:M,8,0)","v":"佛山巿南海区西樵高级中学"},{"$f":"VLOOKUP(B1569,'[1]002'!B:M,11,0)","v":"-"},{"$f":"VLOOKUP(B1569,'[1]002'!B:M,12,0)","v":"-"}]
[1568,"P305319090659","苏轼的定风波赏析","高中组","微课","三等奖","佛山市",{"$f":"VLOOKUP(B1570,'[1]002'!B:M,7,0)","v":"陶霞"},{"$f":"VLOOKUP(B1570,'[1]002'!B:M,8,0)","v":"佛山市顺德区青云中学"},{"$f":"VLOOKUP(B1570,'[1]002'!B:M,11,0)","v":"曾俏华"},{"$f":"VLOOKUP(B1570,'[1]002'!B:M,12,0)","v":"佛山市顺德区青云中学"}]
[1569,"P305319090664","乙醇的催化氧化","高中组","微课","三等奖","佛山市",{"$f":"VLOOKUP(B1571,'[1]002'!B:M,7,0)","v":"洪生锋"},{"$f":"VLOOKUP(B1571,'[1]002'!B:M,8,0)","v":"佛山市顺德区罗定邦中学"},{"$f":"VLOOKUP(B1571,'[1]002'!B:M,11,0)","v":"-"},{"$f":"VLOOKUP(B1571,'[1]002'!B:M,12,0)","v":"-"}]
[1570,"P305319090652","摄像机的构造","高中组","微课","三等奖","佛山市",{"$f":"VLOOKUP(B1572,'[1]002'!B:M,7,0)","v":"顾丽贤"},{"$f":"VLOOKUP(B1572,'[1]002'!B:M,8,0)","v":"佛山市南海区第一中学"},{"$f":"VLOOKUP(B1572,'[1]002'!B:M,11,0)","v":"-"},{"$f":"VLOOKUP(B1572,'[1]002'!B:M,12,0)","v":"-"}]
[1571,"P305319090645","晶体和非晶体","高中组","微课","三等奖","佛山市",{"$f":"VLOOKUP(B1573,'[1]002'!B:M,7,0)","v":"方红德"},{"$f":"VLOOKUP(B1573,'[1]002'!B:M,8,0)","v":"佛山巿南海区西樵高级中学"},{"$f":"VLOOKUP(B1573,'[1]002'!B:M,11,0)","v":"-"},{"$f":"VLOOKUP(B1573,'[1]002'!B:M,12,0)","v":"-"}]
[1572,"P305319090644","岩石圈的物质循环","高中组","微课","三等奖","佛山市",{"$f":"VLOOKUP(B1574,'[1]002'!B:M,7,0)","v":"梁绮云"},{"$f":"VLOOKUP(B1574,'[1]002'!B:M,8,0)","v":"佛山巿南海区西樵高级中学"},{"$f":"VLOOKUP(B1574,'[1]002'!B:M,11,0)","v":"-"},{"$f":"VLOOKUP(B1574,'[1]002'!B:M,12,0)","v":"-"}]
[1573,"P305319090656","民主监督的难点","高中组","微课","三等奖","佛山市",{"$f":"VLOOKUP(B1575,'[1]002'!B:M,7,0)","v":"谭晓冬"},{"$f":"VLOOKUP(B1575,'[1]002'!B:M,8,0)","v":"佛山市第三中学"},{"$f":"VLOOKUP(B1575,'[1]002'!B:M,11,0)","v":"-"},{"$f":"VLOOKUP(B1575,'[1]002'!B:M,12,0)","v":"-"}]
[1574,"P305319090638","偷税","高中组","微课","三等奖","佛山市",{"$f":"VLOOKUP(B1576,'[1]002'!B:M,7,0)","v":"谢同心"},{"$f":"VLOOKUP(B1576,'[1]002'!B:M,8,0)","v":"佛山市高明区教育科研培训中心"},{"$f":"VLOOKUP(B1576,'[1]002'!B:M,11,0)","v":"-"},{"$f":"VLOOKUP(B1576,'[1]002'!B:M,12,0)","v":"-"}]
[1575,"P305319093396","认识土壤","高中组","微课","三等奖","河源市",{"$f":"VLOOKUP(B1577,'[1]002'!B:M,7,0)","v":"谢巧珍"},{"$f":"VLOOKUP(B1577,'[1]002'!B:M,8,0)","v":"河源市田家炳实验中学"},{"$f":"VLOOKUP(B1577,'[1]002'!B:M,11,0)","v":"-"},{"$f":"VLOOKUP(B1577,'[1]002'!B:M,12,0)","v":"-"}]
[1576,"P305319093394","阿克苏糖心苹果的蜜密","高中组","微课","三等奖","河源市",{"$f":"VLOOKUP(B1578,'[1]002'!B:M,7,0)","v":"何丽莎"},{"$f":"VLOOKUP(B1578,'[1]002'!B:M,8,0)","v":"河源市田家炳实验中学"},{"$f":"VLOOKUP(B1578,'[1]002'!B:M,11,0)","v":"-"},{"$f":"VLOOKUP(B1578,'[1]002'!B:M,12,0)","v":"-"}]
[1577,"P305319092128","微课《气候类型的判读》","高中组","微课","三等奖","惠州市",{"$f":"VLOOKUP(B1579,'[1]002'!B:M,7,0)","v":"温凤婷"},{"$f":"VLOOKUP(B1579,'[1]002'!B:M,8,0)","v":"博罗县三乡中学"},{"$f":"VLOOKUP(B1579,'[1]002'!B:M,11,0)","v":"-"},{"$f":"VLOOKUP(B1579,'[1]002'!B:M,12,0)","v":"-"}]
[1578,"P305319092401","电解质溶液图像专题探究","高中组","微课","三等奖","汕尾市",{"$f":"VLOOKUP(B1580,'[1]002'!B:M,7,0)","v":"彭津"},{"$f":"VLOOKUP(B1580,'[1]002'!B:M,8,0)","v":"陆河县陆河中学"},{"$f":"VLOOKUP(B1580,'[1]002'!B:M,11,0)","v":"-"},{"$f":"VLOOKUP(B1580,'[1]002'!B:M,12,0)","v":"-"}]
[1579,"P305319092402","必修二Unit5Reading文本框架梳理","高中组","微课","三等奖","汕尾市",{"$f":"VLOOKUP(B1581,'[1]002'!B:M,7,0)","v":"徐凤菊"},{"$f":"VLOOKUP(B1581,'[1]002'!B:M,8,0)","v":"汕尾市城区汕尾中学"},{"$f":"VLOOKUP(B1581,'[1]002'!B:M,11,0)","v":"-"},{"$f":"VLOOKUP(B1581,'[1]002'!B:M,12,0)","v":"-"}]
[1580,"P305319092399","门基乐队背景知识介绍","高中组","微课","三等奖","汕尾市",{"$f":"VLOOKUP(B1582,'[1]002'!B:M,7,0)","v":"陈春色"},{"$f":"VLOOKUP(B1582,'[1]002'!B:M,8,0)","v":"汕尾市城区汕尾中学"},{"$f":"VLOOKUP(B1582,'[1]002'!B:M,11,0)","v":"-"},{"$f":"VLOOKUP(B1582,'[1]002'!B:M,12,0)","v":"-"}]
[1581,"P305319092585","常见的天气系统","高中组","微课","三等奖","东莞市",{"$f":"VLOOKUP(B1583,'[1]002'!B:M,7,0)","v":"张峰铭"},{"$f":"VLOOKUP(B1583,'[1]002'!B:M,8,0)","v":"东莞实验中学"},{"$f":"VLOOKUP(B1583,'[1]002'!B:M,11,0)","v":"-"},{"$f":"VLOOKUP(B1583,'[1]002'!B:M,12,0)","v":"-"}]
[1582,"P305319092591","现代旅游业对区域发展的意义","高中组","微课","三等奖","东莞市",{"$f":"VLOOKUP(B1584,'[1]002'!B:M,7,0)","v":"邓威"},{"$f":"VLOOKUP(B1584,'[1]002'!B:M,8,0)","v":"东莞市光正实验学校"},{"$f":"VLOOKUP(B1584,'[1]002'!B:M,11,0)","v":"-"},{"$f":"VLOOKUP(B1584,'[1]002'!B:M,12,0)","v":"-"}]
[1583,"P305319088218","3D创意与设计","高中组","微课","三等奖","中山市",{"$f":"VLOOKUP(B1585,'[1]002'!B:M,7,0)","v":"任懿娜"},{"$f":"VLOOKUP(B1585,'[1]002'!B:M,8,0)","v":"中山市华侨中学"},{"$f":"VLOOKUP(B1585,'[1]002'!B:M,11,0)","v":"-"},{"$f":"VLOOKUP(B1585,'[1]002'!B:M,12,0)","v":"-"}]
[1584,"P305319091966","思维导图技巧：不要短句，要关键词！","高中组","微课","三等奖","江门市",{"$f":"VLOOKUP(B1586,'[1]002'!B:M,7,0)","v":"张晓玲"},{"$f":"VLOOKUP(B1586,'[1]002'!B:M,8,0)","v":"开平市开侨中学"},{"$f":"VLOOKUP(B1586,'[1]002'!B:M,11,0)","v":"-"},{"$f":"VLOOKUP(B1586,'[1]002'!B:M,12,0)","v":"-"}]
[1585,"P305319091964","我的机器人会踢球","高中组","微课","三等奖","江门市",{"$f":"VLOOKUP(B1587,'[1]002'!B:M,7,0)","v":"胡博旋"},{"$f":"VLOOKUP(B1587,'[1]002'!B:M,8,0)","v":"开平市第一中学"},{"$f":"VLOOKUP(B1587,'[1]002'!B:M,11,0)","v":"-"},{"$f":"VLOOKUP(B1587,'[1]002'!B:M,12,0)","v":"-"}]
[1586,"P305319092030","农业的区位选择","高中组","微课","三等奖","江门市",{"$f":"VLOOKUP(B1588,'[1]002'!B:M,7,0)","v":"黄健仪"},{"$f":"VLOOKUP(B1588,'[1]002'!B:M,8,0)","v":"台山市华侨中学"},{"$f":"VLOOKUP(B1588,'[1]002'!B:M,11,0)","v":"-"},{"$f":"VLOOKUP(B1588,'[1]002'!B:M,12,0)","v":"-"}]
[1587,"P305319092094","宋朝的地方制度","高中组","微课","三等奖","江门市",{"$f":"VLOOKUP(B1589,'[1]002'!B:M,7,0)","v":"林玉合"},{"$f":"VLOOKUP(B1589,'[1]002'!B:M,8,0)","v":"江门市新会第一中学"},{"$f":"VLOOKUP(B1589,'[1]002'!B:M,11,0)","v":"-"},{"$f":"VLOOKUP(B1589,'[1]002'!B:M,12,0)","v":"-"}]
[1588,"P305319092990","液体表面张力","高中组","微课","三等奖","湛江市",{"$f":"VLOOKUP(B1590,'[1]002'!B:M,7,0)","v":"陈墨源"},{"$f":"VLOOKUP(B1590,'[1]002'!B:M,8,0)","v":"湛江市爱周高级中学"},{"$f":"VLOOKUP(B1590,'[1]002'!B:M,11,0)","v":"-"},{"$f":"VLOOKUP(B1590,'[1]002'!B:M,12,0)","v":"-"}]
[1589,"P305319092975","细胞大小与物质扩散的关系","高中组","微课","三等奖","湛江市",{"$f":"VLOOKUP(B1591,'[1]002'!B:M,7,0)","v":"刘春燕"},{"$f":"VLOOKUP(B1591,'[1]002'!B:M,8,0)","v":"岭南师范学院附属中学"},{"$f":"VLOOKUP(B1591,'[1]002'!B:M,11,0)","v":"-"},{"$f":"VLOOKUP(B1591,'[1]002'!B:M,12,0)","v":"-"}]
[1590,"P305319092999","跑的专项训练","高中组","微课","三等奖","湛江市",{"$f":"VLOOKUP(B1592,'[1]002'!B:M,7,0)","v":"钟楼"},{"$f":"VLOOKUP(B1592,'[1]002'!B:M,8,0)","v":"湛江市坡头区第一中学"},{"$f":"VLOOKUP(B1592,'[1]002'!B:M,11,0)","v":"-"},{"$f":"VLOOKUP(B1592,'[1]002'!B:M,12,0)","v":"-"}]
[1591,"P305319092988","感谢信","高中组","微课","三等奖","湛江市",{"$f":"VLOOKUP(B1593,'[1]002'!B:M,7,0)","v":"施小平"},{"$f":"VLOOKUP(B1593,'[1]002'!B:M,8,0)","v":"湛江市坡头区第一中学"},{"$f":"VLOOKUP(B1593,'[1]002'!B:M,11,0)","v":"-"},{"$f":"VLOOKUP(B1593,'[1]002'!B:M,12,0)","v":"-"}]
[1592,"P305319092986","数据的传输过程","高中组","微课","三等奖","湛江市",{"$f":"VLOOKUP(B1594,'[1]002'!B:M,7,0)","v":"黎招准"},{"$f":"VLOOKUP(B1594,'[1]002'!B:M,8,0)","v":"岭南师范学院附属中学"},{"$f":"VLOOKUP(B1594,'[1]002'!B:M,11,0)","v":"-"},{"$f":"VLOOKUP(B1594,'[1]002'!B:M,12,0)","v":"-"}]
[1593,"P305319092997","原电池的工作原理","高中组","微课","三等奖","湛江市",{"$f":"VLOOKUP(B1595,'[1]002'!B:M,7,0)","v":"杨观月"},{"$f":"VLOOKUP(B1595,'[1]002'!B:M,8,0)","v":"湛江市爱周高级中学"},{"$f":"VLOOKUP(B1595,'[1]002'!B:M,11,0)","v":"-"},{"$f":"VLOOKUP(B1595,'[1]002'!B:M,12,0)","v":"-"}]
[1594,"P305319092989","艰难的法兰西共和之路","高中组","微课","三等奖","湛江市",{"$f":"VLOOKUP(B1596,'[1]002'!B:M,7,0)","v":"罗琳"},{"$f":"VLOOKUP(B1596,'[1]002'!B:M,8,0)","v":"湛江经济技术开发区第一中学"},{"$f":"VLOOKUP(B1596,'[1]002'!B:M,11,0)","v":"-"},{"$f":"VLOOKUP(B1596,'[1]002'!B:M,12,0)","v":"-"}]
[1595,"P305319093000","“蔗”里看崇左","高中组","微课","三等奖","湛江市",{"$f":"VLOOKUP(B1597,'[1]002'!B:M,7,0)","v":"刘意"},{"$f":"VLOOKUP(B1597,'[1]002'!B:M,8,0)","v":"湛江经济技术开发区第一中学"},{"$f":"VLOOKUP(B1597,'[1]002'!B:M,11,0)","v":"-"},{"$f":"VLOOKUP(B1597,'[1]002'!B:M,12,0)","v":"-"}]
[1596,"P305319092970","报纸人物摆件制作","高中组","微课","三等奖","湛江市",{"$f":"VLOOKUP(B1598,'[1]002'!B:M,7,0)","v":"孟磊"},{"$f":"VLOOKUP(B1598,'[1]002'!B:M,8,0)","v":"湛江市二中海东中学"},{"$f":"VLOOKUP(B1598,'[1]002'!B:M,11,0)","v":"-"},{"$f":"VLOOKUP(B1598,'[1]002'!B:M,12,0)","v":"-"}]
[1597,"P305319092995","需求曲线","高中组","微课","三等奖","湛江市",{"$f":"VLOOKUP(B1599,'[1]002'!B:M,7,0)","v":"黄知远"},{"$f":"VLOOKUP(B1599,'[1]002'!B:M,8,0)","v":"湛江经济技术开发区第一中学"},{"$f":"VLOOKUP(B1599,'[1]002'!B:M,11,0)","v":"-"},{"$f":"VLOOKUP(B1599,'[1]002'!B:M,12,0)","v":"-"}]
[1598,"P305319090243","图形图像的加工之抠图","高中组","微课","三等奖","肇庆市",{"$f":"VLOOKUP(B1600,'[1]002'!B:M,7,0)","v":"陈维欣"},{"$f":"VLOOKUP(B1600,'[1]002'!B:M,8,0)","v":"肇庆市实验中学"},{"$f":"VLOOKUP(B1600,'[1]002'!B:M,11,0)","v":"-"},{"$f":"VLOOKUP(B1600,'[1]002'!B:M,12,0)","v":"-"}]
[1599,"P305319091657","主谓一致之意义一致原则","高中组","微课","三等奖","清远市",{"$f":"VLOOKUP(B1601,'[1]002'!B:M,7,0)","v":"雷艳芳"},{"$f":"VLOOKUP(B1601,'[1]002'!B:M,8,0)","v":"清远市源潭中学"},{"$f":"VLOOKUP(B1601,'[1]002'!B:M,11,0)","v":"-"},{"$f":"VLOOKUP(B1601,'[1]002'!B:M,12,0)","v":"-"}]
[1600,"P305319091654","语法填空之谓语动词的解题技巧","高中组","微课","三等奖","清远市",{"$f":"VLOOKUP(B1602,'[1]002'!B:M,7,0)","v":"郑晓芬"},{"$f":"VLOOKUP(B1602,'[1]002'!B:M,8,0)","v":"清远市源潭中学"},{"$f":"VLOOKUP(B1602,'[1]002'!B:M,11,0)","v":"-"},{"$f":"VLOOKUP(B1602,'[1]002'!B:M,12,0)","v":"-"}]
[1601,"P305319091659","生态系统的信息传递","高中组","微课","三等奖","清远市",{"$f":"VLOOKUP(B1603,'[1]002'!B:M,7,0)","v":"李官星"},{"$f":"VLOOKUP(B1603,'[1]002'!B:M,8,0)","v":"英德市英德中学"},{"$f":"VLOOKUP(B1603,'[1]002'!B:M,11,0)","v":"-"},{"$f":"VLOOKUP(B1603,'[1]002'!B:M,12,0)","v":"-"}]
[1602,"P305319091662","不规则动词的过去式及其变化规则","高中组","微课","三等奖","清远市",{"$f":"VLOOKUP(B1604,'[1]002'!B:M,7,0)","v":"李淑新"},{"$f":"VLOOKUP(B1604,'[1]002'!B:M,8,0)","v":"清远市源潭中学"},{"$f":"VLOOKUP(B1604,'[1]002'!B:M,11,0)","v":"-"},{"$f":"VLOOKUP(B1604,'[1]002'!B:M,12,0)","v":"-"}]
[1603,"P305319079771","车轮的谜","高中组","微课","三等奖","潮州市",{"$f":"VLOOKUP(B1605,'[1]002'!B:M,7,0)","v":"杨玮佳"},{"$f":"VLOOKUP(B1605,'[1]002'!B:M,8,0)","v":"潮州市金山中学"},{"$f":"VLOOKUP(B1605,'[1]002'!B:M,11,0)","v":"-"},{"$f":"VLOOKUP(B1605,'[1]002'!B:M,12,0)","v":"-"}]
[1604,"P305319079285","ei你会ai了吗","高中组","微课","三等奖","潮州市",{"$f":"VLOOKUP(B1606,'[1]002'!B:M,7,0)","v":"陈坍梓"},{"$f":"VLOOKUP(B1606,'[1]002'!B:M,8,0)","v":"潮州市华侨中学"},{"$f":"VLOOKUP(B1606,'[1]002'!B:M,11,0)","v":"-"},{"$f":"VLOOKUP(B1606,'[1]002'!B:M,12,0)","v":"-"}]
[1605,"P305319079435","民族资本主义的曲折发展与最终归宿","高中组","微课","三等奖","云浮市",{"$f":"VLOOKUP(B1607,'[1]002'!B:M,7,0)","v":"李涛"},{"$f":"VLOOKUP(B1607,'[1]002'!B:M,8,0)","v":"云浮市云安区云安中学"},{"$f":"VLOOKUP(B1607,'[1]002'!B:M,11,0)","v":"-"},{"$f":"VLOOKUP(B1607,'[1]002'!B:M,12,0)","v":"-"}]
[1606,"P305319079503","主语从句语法讲解之形式主语","高中组","微课","三等奖","云浮市",{"$f":"VLOOKUP(B1608,'[1]002'!B:M,7,0)","v":"李勤敏"},{"$f":"VLOOKUP(B1608,'[1]002'!B:M,8,0)","v":"云浮市第一中学"},{"$f":"VLOOKUP(B1608,'[1]002'!B:M,11,0)","v":"-"},{"$f":"VLOOKUP(B1608,'[1]002'!B:M,12,0)","v":"-"}]
[1607,"P305319090372","图表型主观题的解答方法","高中组","微课","三等奖","云浮市",{"$f":"VLOOKUP(B1609,'[1]002'!B:M,7,0)","v":"杨国甫"},{"$f":"VLOOKUP(B1609,'[1]002'!B:M,8,0)","v":"罗定中学"},{"$f":"VLOOKUP(B1609,'[1]002'!B:M,11,0)","v":"-"},{"$f":"VLOOKUP(B1609,'[1]002'!B:M,12,0)","v":"-"}]
[1608,"P307319092676","平板电脑走进高一英语课堂辅助英语词汇学习","高中组","信息技术创新教学案例","三等奖","深圳市",{"$f":"VLOOKUP(B1610,'[1]002'!B:M,7,0)","v":"范晶"},{"$f":"VLOOKUP(B1610,'[1]002'!B:M,8,0)","v":"深圳市罗湖外语学校"},{"$f":"VLOOKUP(B1610,'[1]002'!B:M,11,0)","v":"-"},{"$f":"VLOOKUP(B1610,'[1]002'!B:M,12,0)","v":"-"}]
[1609,"P307319090607","热带云雾林","高中组","信息技术创新教学案例","三等奖","佛山市",{"$f":"VLOOKUP(B1611,'[1]002'!B:M,7,0)","v":"王畅"},{"$f":"VLOOKUP(B1611,'[1]002'!B:M,8,0)","v":"佛山市顺德区第一中学"},{"$f":"VLOOKUP(B1611,'[1]002'!B:M,11,0)","v":"-"},{"$f":"VLOOKUP(B1611,'[1]002'!B:M,12,0)","v":"-"}]
[1610,"P307319093402","人教版高一化学必修二第三章第二节乙醇创新教学案例","高中组","信息技术创新教学案例","三等奖","河源市",{"$f":"VLOOKUP(B1612,'[1]002'!B:M,7,0)","v":"王美丽"},{"$f":"VLOOKUP(B1612,'[1]002'!B:M,8,0)","v":"和平县和平中学"},{"$f":"VLOOKUP(B1612,'[1]002'!B:M,11,0)","v":"-"},{"$f":"VLOOKUP(B1612,'[1]002'!B:M,12,0)","v":"-"}]
[1611,"P307319078996","人教模块三Unit5CanadaTheTrueNorth词汇短语新授及应用","高中组","信息技术创新教学案例","三等奖","梅州市",{"$f":"VLOOKUP(B1613,'[1]002'!B:M,7,0)","v":"陈永福"},{"$f":"VLOOKUP(B1613,'[1]002'!B:M,8,0)","v":"蕉岭县蕉岭中学"},{"$f":"VLOOKUP(B1613,'[1]002'!B:M,11,0)","v":"-"},{"$f":"VLOOKUP(B1613,'[1]002'!B:M,12,0)","v":"-"}]
[1612,"P307319088214","基于项目学习的Arduino初探","高中组","信息技术创新教学案例","三等奖","中山市",{"$f":"VLOOKUP(B1614,'[1]002'!B:M,7,0)","v":"张封"},{"$f":"VLOOKUP(B1614,'[1]002'!B:M,8,0)","v":"中山市华侨中学"},{"$f":"VLOOKUP(B1614,'[1]002'!B:M,11,0)","v":"任懿娜"},{"$f":"VLOOKUP(B1614,'[1]002'!B:M,12,0)","v":"中山市华侨中学"}]
[1613,"P307319092968","攻克易错不规则动词","高中组","信息技术创新教学案例","三等奖","湛江市",{"$f":"VLOOKUP(B1615,'[1]002'!B:M,7,0)","v":"谈国栋"},{"$f":"VLOOKUP(B1615,'[1]002'!B:M,8,0)","v":"湛江市第二中学"},{"$f":"VLOOKUP(B1615,'[1]002'!B:M,11,0)","v":"-"},{"$f":"VLOOKUP(B1615,'[1]002'!B:M,12,0)","v":"-"}]
[1614,"P307319091737","系统分析的基本方法","高中组","信息技术创新教学案例","三等奖","清远市",{"$f":"VLOOKUP(B1616,'[1]002'!B:M,7,0)","v":"余宇宙"},{"$f":"VLOOKUP(B1616,'[1]002'!B:M,8,0)","v":"清远市华侨中学"},{"$f":"VLOOKUP(B1616,'[1]002'!B:M,11,0)","v":"-"},{"$f":"VLOOKUP(B1616,'[1]002'!B:M,12,0)","v":"-"}]
[1615,"P301319093392","计算机编程解决问题网络空间教学应用","高中组","教师网络空间应用案例","三等奖","河源市",{"$f":"VLOOKUP(B1617,'[1]002'!B:M,7,0)","v":"黄帅"},{"$f":"VLOOKUP(B1617,'[1]002'!B:M,8,0)","v":"和平县和平中学"},{"$f":"VLOOKUP(B1617,'[1]002'!B:M,11,0)","v":"-"},{"$f":"VLOOKUP(B1617,'[1]002'!B:M,12,0)","v":"-"}]
[1616,"P301319093393","表格信息的加工与表达","高中组","教师网络空间应用案例","三等奖","河源市",{"$f":"VLOOKUP(B1618,'[1]002'!B:M,7,0)","v":"陈伟聪"},{"$f":"VLOOKUP(B1618,'[1]002'!B:M,8,0)","v":"和平县和平中学"},{"$f":"VLOOKUP(B1618,'[1]002'!B:M,11,0)","v":"-"},{"$f":"VLOOKUP(B1618,'[1]002'!B:M,12,0)","v":"-"}]
[1617,"P304319079915","滑翔机的制作","高中组","跨学科项目式学习教学案例","三等奖","珠海市",{"$f":"VLOOKUP(B1619,'[1]002'!B:M,7,0)","v":"樊秋平"},{"$f":"VLOOKUP(B1619,'[1]002'!B:M,8,0)","v":"珠海市斗门区和风中学"},{"$f":"VLOOKUP(B1619,'[1]002'!B:M,11,0)","v":"胡红云"},{"$f":"VLOOKUP(B1619,'[1]002'!B:M,12,0)","v":"珠海市斗门区和风中学"}]
[1618,"P304319093405","多媒体信息的加工与表达之利用PPT进行素材加工","高中组","跨学科项目式学习教学案例","三等奖","河源市",{"$f":"VLOOKUP(B1620,'[1]002'!B:M,7,0)","v":"黄小姣"},{"$f":"VLOOKUP(B1620,'[1]002'!B:M,8,0)","v":"和平县和平中学"},{"$f":"VLOOKUP(B1620,'[1]002'!B:M,11,0)","v":"-"},{"$f":"VLOOKUP(B1620,'[1]002'!B:M,12,0)","v":"-"}]
[1619,"P306319093226","西方绘画艺术简史","高中组","新媒体新技术教学应用课例","三等奖",{"$f":"RIGHT(LEFT(VLOOKUP(B1621,'[1]002'!B:M,3,0),7),3)","v":"广州市"},{"$f":"VLOOKUP(B1621,'[1]002'!B:M,7,0)","v":"叶丽莎"},{"$f":"VLOOKUP(B1621,'[1]002'!B:M,8,0)","v":"广东实验中学越秀学校"},{"$f":"VLOOKUP(B1621,'[1]002'!B:M,11,0)","v":"-"},{"$f":"VLOOKUP(B1621,'[1]002'!B:M,12,0)","v":"-"}]
[1620,"P306319093222","揭开人工智能的神秘面纱","高中组","新媒体新技术教学应用课例","三等奖",{"$f":"RIGHT(LEFT(VLOOKUP(B1622,'[1]002'!B:M,3,0),7),3)","v":"广州市"},{"$f":"VLOOKUP(B1622,'[1]002'!B:M,7,0)","v":"冯洁卿"},{"$f":"VLOOKUP(B1622,'[1]002'!B:M,8,0)","v":"广州市南沙第一中学"},{"$f":"VLOOKUP(B1622,'[1]002'!B:M,11,0)","v":"罗启龙"},{"$f":"VLOOKUP(B1622,'[1]002'!B:M,12,0)","v":"广州市南沙第一中学"}]
[1621,"P306319093223","血糖平衡调节","高中组","新媒体新技术教学应用课例","三等奖",{"$f":"RIGHT(LEFT(VLOOKUP(B1623,'[1]002'!B:M,3,0),7),3)","v":"广州市"},{"$f":"VLOOKUP(B1623,'[1]002'!B:M,7,0)","v":"余岳萍"},{"$f":"VLOOKUP(B1623,'[1]002'!B:M,8,0)","v":"广州市岭南画派纪念中学"},{"$f":"VLOOKUP(B1623,'[1]002'!B:M,11,0)","v":"-"},{"$f":"VLOOKUP(B1623,'[1]002'!B:M,12,0)","v":"-"}]
[1622,"P306319092266","实验：探究功与速度变化的关系","高中组","新媒体新技术教学应用课例","三等奖",{"$f":"RIGHT(LEFT(VLOOKUP(B1624,'[1]002'!B:M,3,0),7),3)","v":"汕头市"},{"$f":"VLOOKUP(B1624,'[1]002'!B:M,7,0)","v":"周沐奎"},{"$f":"VLOOKUP(B1624,'[1]002'!B:M,8,0)","v":"汕头市实验学校"},{"$f":"VLOOKUP(B1624,'[1]002'!B:M,11,0)","v":"-"},{"$f":"VLOOKUP(B1624,'[1]002'!B:M,12,0)","v":"-"}]
[1623,"P306319090618","免疫调节第一课时","高中组","新媒体新技术教学应用课例","三等奖",{"$f":"RIGHT(LEFT(VLOOKUP(B1625,'[1]002'!B:M,3,0),7),3)","v":"佛山市"},{"$f":"VLOOKUP(B1625,'[1]002'!B:M,7,0)","v":"孙小川"},{"$f":"VLOOKUP(B1625,'[1]002'!B:M,8,0)","v":"佛山市顺德区罗定邦中学"},{"$f":"VLOOKUP(B1625,'[1]002'!B:M,11,0)","v":"-"},{"$f":"VLOOKUP(B1625,'[1]002'!B:M,12,0)","v":"-"}]
[1624,"P306319090613","向量的加法及其几何意义","高中组","新媒体新技术教学应用课例","三等奖",{"$f":"RIGHT(LEFT(VLOOKUP(B1626,'[1]002'!B:M,3,0),7),3)","v":"佛山市"},{"$f":"VLOOKUP(B1626,'[1]002'!B:M,7,0)","v":"梁灵慧"},{"$f":"VLOOKUP(B1626,'[1]002'!B:M,8,0)","v":"佛山市南海区桂华中学"},{"$f":"VLOOKUP(B1626,'[1]002'!B:M,11,0)","v":"-"},{"$f":"VLOOKUP(B1626,'[1]002'!B:M,12,0)","v":"-"}]
[1625,"P306319090619","氧化还原反应第2课时","高中组","新媒体新技术教学应用课例","三等奖",{"$f":"RIGHT(LEFT(VLOOKUP(B1627,'[1]002'!B:M,3,0),7),3)","v":"佛山市"},{"$f":"VLOOKUP(B1627,'[1]002'!B:M,7,0)","v":"廖伟梁"},{"$f":"VLOOKUP(B1627,'[1]002'!B:M,8,0)","v":"佛山市顺德区第一中学"},{"$f":"VLOOKUP(B1627,'[1]002'!B:M,11,0)","v":"-"},{"$f":"VLOOKUP(B1627,'[1]002'!B:M,12,0)","v":"-"}]
[1626,"P306319090615","跨学科视域下英国工业革命兴衰启示录","高中组","新媒体新技术教学应用课例","三等奖",{"$f":"RIGHT(LEFT(VLOOKUP(B1628,'[1]002'!B:M,3,0),7),3)","v":"佛山市"},{"$f":"VLOOKUP(B1628,'[1]002'!B:M,7,0)","v":"吴凯琪"},{"$f":"VLOOKUP(B1628,'[1]002'!B:M,8,0)","v":"佛山巿南海区西樵高级中学"},{"$f":"VLOOKUP(B1628,'[1]002'!B:M,11,0)","v":"-"},{"$f":"VLOOKUP(B1628,'[1]002'!B:M,12,0)","v":"-"}]
[1627,"P306319090609","复习运用定语从句丰富口头表达方式","高中组","新媒体新技术教学应用课例","三等奖",{"$f":"RIGHT(LEFT(VLOOKUP(B1629,'[1]002'!B:M,3,0),7),3)","v":"佛山市"},{"$f":"VLOOKUP(B1629,'[1]002'!B:M,7,0)","v":"陆珊珊"},{"$f":"VLOOKUP(B1629,'[1]002'!B:M,8,0)","v":"佛山市高明区教育科研培训中心"},{"$f":"VLOOKUP(B1629,'[1]002'!B:M,11,0)","v":"-"},{"$f":"VLOOKUP(B1629,'[1]002'!B:M,12,0)","v":"-"}]
[1628,"P306319090614","跨学科视域下英国工业革命启示录","高中组","新媒体新技术教学应用课例","三等奖",{"$f":"RIGHT(LEFT(VLOOKUP(B1630,'[1]002'!B:M,3,0),7),3)","v":"佛山市"},{"$f":"VLOOKUP(B1630,'[1]002'!B:M,7,0)","v":"冼泳聪"},{"$f":"VLOOKUP(B1630,'[1]002'!B:M,8,0)","v":"佛山市南海区罗村高级中学"},{"$f":"VLOOKUP(B1630,'[1]002'!B:M,11,0)","v":"-"},{"$f":"VLOOKUP(B1630,'[1]002'!B:M,12,0)","v":"-"}]
[1629,"P306319087897","程序算法初体验","高中组","新媒体新技术教学应用课例","三等奖",{"$f":"RIGHT(LEFT(VLOOKUP(B1631,'[1]002'!B:M,3,0),7),3)","v":"韶关市"},{"$f":"VLOOKUP(B1631,'[1]002'!B:M,7,0)","v":"邱霞"},{"$f":"VLOOKUP(B1631,'[1]002'!B:M,8,0)","v":"韶关市九龄高级中学"},{"$f":"VLOOKUP(B1631,'[1]002'!B:M,11,0)","v":"潘跃云"},{"$f":"VLOOKUP(B1631,'[1]002'!B:M,12,0)","v":"韶关市九龄高级中学"}]
[1630,"P306319093400","价格变动的影响","高中组","新媒体新技术教学应用课例","三等奖",{"$f":"RIGHT(LEFT(VLOOKUP(B1632,'[1]002'!B:M,3,0),7),3)","v":"河源市"},{"$f":"VLOOKUP(B1632,'[1]002'!B:M,7,0)","v":"孙燕香"},{"$f":"VLOOKUP(B1632,'[1]002'!B:M,8,0)","v":"河源市田家炳实验中学"},{"$f":"VLOOKUP(B1632,'[1]002'!B:M,11,0)","v":"-"},{"$f":"VLOOKUP(B1632,'[1]002'!B:M,12,0)","v":"-"}]
[1631,"P306319092443","Python中for循环结构的应用","高中组","新媒体新技术教学应用课例","三等奖",{"$f":"RIGHT(LEFT(VLOOKUP(B1633,'[1]002'!B:M,3,0),7),3)","v":"东莞市"},{"$f":"VLOOKUP(B1633,'[1]002'!B:M,7,0)","v":"黎清万"},{"$f":"VLOOKUP(B1633,'[1]002'!B:M,8,0)","v":"东莞市第六高级中学"},{"$f":"VLOOKUP(B1633,'[1]002'!B:M,11,0)","v":"-"},{"$f":"VLOOKUP(B1633,'[1]002'!B:M,12,0)","v":"-"}]
[1632,"P306319092446","世界那么大我要学python之有趣的程序设计","高中组","新媒体新技术教学应用课例","三等奖",{"$f":"RIGHT(LEFT(VLOOKUP(B1634,'[1]002'!B:M,3,0),7),3)","v":"东莞市"},{"$f":"VLOOKUP(B1634,'[1]002'!B:M,7,0)","v":"颜兰"},{"$f":"VLOOKUP(B1634,'[1]002'!B:M,8,0)","v":"东莞市第六高级中学"},{"$f":"VLOOKUP(B1634,'[1]002'!B:M,11,0)","v":"黎清万"},{"$f":"VLOOKUP(B1634,'[1]002'!B:M,12,0)","v":"东莞市第六高级中学"}]
[1633,"P306319092445","探秘有趣的程序世界之初识Python语言","高中组","新媒体新技术教学应用课例","三等奖",{"$f":"RIGHT(LEFT(VLOOKUP(B1635,'[1]002'!B:M,3,0),7),3)","v":"东莞市"},{"$f":"VLOOKUP(B1635,'[1]002'!B:M,7,0)","v":"郑旭淳"},{"$f":"VLOOKUP(B1635,'[1]002'!B:M,8,0)","v":"东莞市第六高级中学"},{"$f":"VLOOKUP(B1635,'[1]002'!B:M,11,0)","v":"颜兰"},{"$f":"VLOOKUP(B1635,'[1]002'!B:M,12,0)","v":"东莞市第六高级中学"}]
[1634,"P306319092447","语言表达连贯之语句复位解题技巧","高中组","新媒体新技术教学应用课例","三等奖",{"$f":"RIGHT(LEFT(VLOOKUP(B1636,'[1]002'!B:M,3,0),7),3)","v":"东莞市"},{"$f":"VLOOKUP(B1636,'[1]002'!B:M,7,0)","v":"单文娜"},{"$f":"VLOOKUP(B1636,'[1]002'!B:M,8,0)","v":"东莞市第六高级中学"},{"$f":"VLOOKUP(B1636,'[1]002'!B:M,11,0)","v":"黎清万"},{"$f":"VLOOKUP(B1636,'[1]002'!B:M,12,0)","v":"东莞市第六高级中学"}]
[1635,"P306319089552","颜体楷书—横与竖的书写运用","高中组","新媒体新技术教学应用课例","三等奖",{"$f":"RIGHT(LEFT(VLOOKUP(B1637,'[1]002'!B:M,3,0),7),3)","v":"中山市"},{"$f":"VLOOKUP(B1637,'[1]002'!B:M,7,0)","v":"刘更聪"},{"$f":"VLOOKUP(B1637,'[1]002'!B:M,8,0)","v":"中山市杨仙逸中学"},{"$f":"VLOOKUP(B1637,'[1]002'!B:M,11,0)","v":"-"},{"$f":"VLOOKUP(B1637,'[1]002'!B:M,12,0)","v":"-"}]
[1636,"P306319088913","「～ている」と「～てある」——补助动词专项讲练","高中组","新媒体新技术教学应用课例","三等奖",{"$f":"RIGHT(LEFT(VLOOKUP(B1638,'[1]002'!B:M,3,0),7),3)","v":"中山市"},{"$f":"VLOOKUP(B1638,'[1]002'!B:M,7,0)","v":"梁可盈"},{"$f":"VLOOKUP(B1638,'[1]002'!B:M,8,0)","v":"中山市东区中学"},{"$f":"VLOOKUP(B1638,'[1]002'!B:M,11,0)","v":"-"},{"$f":"VLOOKUP(B1638,'[1]002'!B:M,12,0)","v":"-"}]
[1637,"P306319089731","标准日本语第七课翻转课堂之语法运用","高中组","新媒体新技术教学应用课例","三等奖",{"$f":"RIGHT(LEFT(VLOOKUP(B1639,'[1]002'!B:M,3,0),7),3)","v":"中山市"},{"$f":"VLOOKUP(B1639,'[1]002'!B:M,7,0)","v":"孟希桐"},{"$f":"VLOOKUP(B1639,'[1]002'!B:M,8,0)","v":"中山市东区中学"},{"$f":"VLOOKUP(B1639,'[1]002'!B:M,11,0)","v":"-"},{"$f":"VLOOKUP(B1639,'[1]002'!B:M,12,0)","v":"-"}]
[1638,"P306319088266","合成高分子化合物的基本方法","高中组","新媒体新技术教学应用课例","三等奖",{"$f":"RIGHT(LEFT(VLOOKUP(B1640,'[1]002'!B:M,3,0),7),3)","v":"中山市"},{"$f":"VLOOKUP(B1640,'[1]002'!B:M,7,0)","v":"王晓霞"},{"$f":"VLOOKUP(B1640,'[1]002'!B:M,8,0)","v":"中山市龙山中学"},{"$f":"VLOOKUP(B1640,'[1]002'!B:M,11,0)","v":"-"},{"$f":"VLOOKUP(B1640,'[1]002'!B:M,12,0)","v":"-"}]
[1639,"P306319092092","乙酸","高中组","新媒体新技术教学应用课例","三等奖",{"$f":"RIGHT(LEFT(VLOOKUP(B1641,'[1]002'!B:M,3,0),7),3)","v":"江门市"},{"$f":"VLOOKUP(B1641,'[1]002'!B:M,7,0)","v":"詹素妹"},{"$f":"VLOOKUP(B1641,'[1]002'!B:M,8,0)","v":"江门市新会梁启超纪念中学"},{"$f":"VLOOKUP(B1641,'[1]002'!B:M,11,0)","v":"-"},{"$f":"VLOOKUP(B1641,'[1]002'!B:M,12,0)","v":"-"}]
[1640,"P306319093003","基因在染色体上","高中组","新媒体新技术教学应用课例","三等奖",{"$f":"RIGHT(LEFT(VLOOKUP(B1642,'[1]002'!B:M,3,0),7),3)","v":"湛江市"},{"$f":"VLOOKUP(B1642,'[1]002'!B:M,7,0)","v":"王琳"},{"$f":"VLOOKUP(B1642,'[1]002'!B:M,8,0)","v":"湛江市坡头区第一中学"},{"$f":"VLOOKUP(B1642,'[1]002'!B:M,11,0)","v":"-"},{"$f":"VLOOKUP(B1642,'[1]002'!B:M,12,0)","v":"-"}]
[1641,"P306319093002","恻隐之心仁之端也","高中组","新媒体新技术教学应用课例","三等奖",{"$f":"RIGHT(LEFT(VLOOKUP(B1643,'[1]002'!B:M,3,0),7),3)","v":"湛江市"},{"$f":"VLOOKUP(B1643,'[1]002'!B:M,7,0)","v":"项佳佳"},{"$f":"VLOOKUP(B1643,'[1]002'!B:M,8,0)","v":"岭南师范学院附属中学"},{"$f":"VLOOKUP(B1643,'[1]002'!B:M,11,0)","v":"-"},{"$f":"VLOOKUP(B1643,'[1]002'!B:M,12,0)","v":"-"}]
[1642,"P306319091710","学考复习用3DOne找点线面关系以17年学考立几题为例","高中组","新媒体新技术教学应用课例","三等奖",{"$f":"RIGHT(LEFT(VLOOKUP(B1644,'[1]002'!B:M,3,0),7),3)","v":"清远市"},{"$f":"VLOOKUP(B1644,'[1]002'!B:M,7,0)","v":"叶新群"},{"$f":"VLOOKUP(B1644,'[1]002'!B:M,8,0)","v":"清远市源潭中学"},{"$f":"VLOOKUP(B1644,'[1]002'!B:M,11,0)","v":"-"},{"$f":"VLOOKUP(B1644,'[1]002'!B:M,12,0)","v":"-"}]
[1643,"P302319092966","希沃5在高中化学化学能与热能课堂中的应用","高中组","教育资源应用案例_项目单位","三等奖","湛江市",{"$f":"VLOOKUP(B1645,'[1]002'!B:M,7,0)","v":"杜晓华"},{"$f":"VLOOKUP(B1645,'[1]002'!B:M,8,0)","v":"岭南师范学院附属中学"},{"$f":"VLOOKUP(B1645,'[1]002'!B:M,11,0)","v":"-"},{"$f":"VLOOKUP(B1645,'[1]002'!B:M,12,0)","v":"-"}]
[1644,"P302319091706","现在完成时","高中组","教育资源应用案例_项目单位","三等奖","清远市",{"$f":"VLOOKUP(B1646,'[1]002'!B:M,7,0)","v":"吴媚莎"},{"$f":"VLOOKUP(B1646,'[1]002'!B:M,8,0)","v":"清远市源潭中学"},{"$f":"VLOOKUP(B1646,'[1]002'!B:M,11,0)","v":"-"},{"$f":"VLOOKUP(B1646,'[1]002'!B:M,12,0)","v":"-"}]
[1645,"P302319089621","新媒体新技术教学应用课例","高中组","教育资源应用案例_项目单位","三等奖","云浮市",{"$f":"VLOOKUP(B1647,'[1]002'!B:M,7,0)","v":"何媚丽"},"广东省罗定中学",{"$f":"VLOOKUP(B1647,'[1]002'!B:M,11,0)","v":"-"},{"$f":"VLOOKUP(B1647,'[1]002'!B:M,12,0)","v":"-"}]
[1646,"P302019093064","大班阅读活动《春茶》","幼教组","课件","一等奖","广州市",{"$f":"VLOOKUP(B1648,'[1]002'!B:M,7,0)","v":"陈燕燕"},{"$f":"VLOOKUP(B1648,'[1]002'!B:M,8,0)","v":"广州市越秀区中六幼儿园"},{"$f":"VLOOKUP(B1648,'[1]002'!B:M,11,0)","v":"-"},{"$f":"VLOOKUP(B1648,'[1]002'!B:M,12,0)","v":"-"}]
[1647,"P302019093059","小壁虎借尾巴","幼教组","课件","一等奖","广州市",{"$f":"VLOOKUP(B1649,'[1]002'!B:M,7,0)","v":"许铭峰"},{"$f":"VLOOKUP(B1649,'[1]002'!B:M,8,0)","v":"广州市番禺区北城幼儿园"},{"$f":"VLOOKUP(B1649,'[1]002'!B:M,11,0)","v":"袁宇"},{"$f":"VLOOKUP(B1649,'[1]002'!B:M,12,0)","v":"广州市番禺区北城幼儿园"}]
[1648,"P302019093061","中班科学活动《奇妙的昆虫世界》","幼教组","课件","一等奖","广州市",{"$f":"VLOOKUP(B1650,'[1]002'!B:M,7,0)","v":"刘曼华"},{"$f":"VLOOKUP(B1650,'[1]002'!B:M,8,0)","v":"广州市越秀区中六幼儿园"},{"$f":"VLOOKUP(B1650,'[1]002'!B:M,11,0)","v":"-"},{"$f":"VLOOKUP(B1650,'[1]002'!B:M,12,0)","v":"-"}]
[1649,"P302019093066","小小消防员","幼教组","课件","一等奖","广州市",{"$f":"VLOOKUP(B1651,'[1]002'!B:M,7,0)","v":"黄成"},{"$f":"VLOOKUP(B1651,'[1]002'!B:M,8,0)","v":"广州市番禺区直属机关幼儿园"},{"$f":"VLOOKUP(B1651,'[1]002'!B:M,11,0)","v":"李子密"},{"$f":"VLOOKUP(B1651,'[1]002'!B:M,12,0)","v":"广州市番禺区直属机关幼儿园"}]
[1650,"P302019093060","中班社会活动《我会保护自己》","幼教组","课件","一等奖","广州市",{"$f":"VLOOKUP(B1652,'[1]002'!B:M,7,0)","v":"邱美凤"},{"$f":"VLOOKUP(B1652,'[1]002'!B:M,8,0)","v":"广州市越秀区中六幼儿园"},{"$f":"VLOOKUP(B1652,'[1]002'!B:M,11,0)","v":"-"},{"$f":"VLOOKUP(B1652,'[1]002'!B:M,12,0)","v":"-"}]
[1651,"P302019093068","爱音乐的马可","幼教组","课件","一等奖","广州市",{"$f":"VLOOKUP(B1653,'[1]002'!B:M,7,0)","v":"梁瀚彦"},{"$f":"VLOOKUP(B1653,'[1]002'!B:M,8,0)","v":"广州市番禺区直属机关幼儿园"},{"$f":"VLOOKUP(B1653,'[1]002'!B:M,11,0)","v":"韩晓志"},{"$f":"VLOOKUP(B1653,'[1]002'!B:M,12,0)","v":"广州市番禺区直属机关幼儿园"}]
[1652,"P302019093063","耵聍的旅行","幼教组","课件","一等奖","广州市",{"$f":"VLOOKUP(B1654,'[1]002'!B:M,7,0)","v":"刘小圆"},{"$f":"VLOOKUP(B1654,'[1]002'!B:M,8,0)","v":"广州市荔湾区协和幼儿园"},{"$f":"VLOOKUP(B1654,'[1]002'!B:M,11,0)","v":"卢燕坤"},{"$f":"VLOOKUP(B1654,'[1]002'!B:M,12,0)","v":"广州市荔湾区协和幼儿园"}]
[1653,"P302019093067","小猪变形记","幼教组","课件","一等奖","广州市",{"$f":"VLOOKUP(B1655,'[1]002'!B:M,7,0)","v":"彭贵冰"},{"$f":"VLOOKUP(B1655,'[1]002'!B:M,8,0)","v":"广州市番禺区直属机关幼儿园"},{"$f":"VLOOKUP(B1655,'[1]002'!B:M,11,0)","v":"-"},{"$f":"VLOOKUP(B1655,'[1]002'!B:M,12,0)","v":"-"}]
[1654,"P302019093058","我喜爱的海洋动物","幼教组","课件","一等奖","广州市",{"$f":"VLOOKUP(B1656,'[1]002'!B:M,7,0)","v":"钟漫华"},{"$f":"VLOOKUP(B1656,'[1]002'!B:M,8,0)","v":"广州市番禺区东城幼儿园"},{"$f":"VLOOKUP(B1656,'[1]002'!B:M,11,0)","v":"曾文佳"},{"$f":"VLOOKUP(B1656,'[1]002'!B:M,12,0)","v":"广州市番禺区东城幼儿园"}]
[1655,"P302019091469","老虎的汽车公司","幼教组","课件","一等奖","佛山市",{"$f":"VLOOKUP(B1657,'[1]002'!B:M,7,0)","v":"翁敏仪"},{"$f":"VLOOKUP(B1657,'[1]002'!B:M,8,0)","v":"佛山市南海区狮山松岗中心幼儿园"},{"$f":"VLOOKUP(B1657,'[1]002'!B:M,11,0)","v":"李诗媛"},{"$f":"VLOOKUP(B1657,'[1]002'!B:M,12,0)","v":"佛山市南海区狮山松岗中心幼儿园"}]
[1656,"P302019091496","垃圾分类soeasy","幼教组","课件","一等奖","佛山市",{"$f":"VLOOKUP(B1658,'[1]002'!B:M,7,0)","v":"邓妍芳"},{"$f":"VLOOKUP(B1658,'[1]002'!B:M,8,0)","v":"佛山市三水区中心幼儿园"},{"$f":"VLOOKUP(B1658,'[1]002'!B:M,11,0)","v":"蔡晓吟"},{"$f":"VLOOKUP(B1658,'[1]002'!B:M,12,0)","v":"佛山市三水区中心幼儿园"}]
[1657,"P303019093079","神奇的画笔","幼教组","微课","一等奖","广州市",{"$f":"VLOOKUP(B1659,'[1]002'!B:M,7,0)","v":"罗嘉仪"},{"$f":"VLOOKUP(B1659,'[1]002'!B:M,8,0)","v":"广州市天河区新陶幼儿园"},{"$f":"VLOOKUP(B1659,'[1]002'!B:M,11,0)","v":"陈佩叶"},{"$f":"VLOOKUP(B1659,'[1]002'!B:M,12,0)","v":"广州市天河区新陶幼儿园"}]
[1658,"P303019093070","小松鼠的大尾巴","幼教组","微课","一等奖","广州市",{"$f":"VLOOKUP(B1660,'[1]002'!B:M,7,0)","v":"赵丽萍"},{"$f":"VLOOKUP(B1660,'[1]002'!B:M,8,0)","v":"广州市番禺区东城幼儿园"},{"$f":"VLOOKUP(B1660,'[1]002'!B:M,11,0)","v":"郑晓丹"},{"$f":"VLOOKUP(B1660,'[1]002'!B:M,12,0)","v":"广州市番禺区东城幼儿园"}]
[1659,"P303019093071","大班科学活动彩色的影子","幼教组","微课","一等奖","广州市",{"$f":"VLOOKUP(B1661,'[1]002'!B:M,7,0)","v":"马学琴"},{"$f":"VLOOKUP(B1661,'[1]002'!B:M,8,0)","v":"广州市越秀区东山教工幼儿园"},{"$f":"VLOOKUP(B1661,'[1]002'!B:M,11,0)","v":"-"},{"$f":"VLOOKUP(B1661,'[1]002'!B:M,12,0)","v":"-"}]
[1660,"P303019093074","撕纸添画","幼教组","微课","一等奖","广州市",{"$f":"VLOOKUP(B1662,'[1]002'!B:M,7,0)","v":"吴依"},{"$f":"VLOOKUP(B1662,'[1]002'!B:M,8,0)","v":"广州市天河区清荷幼儿园"},{"$f":"VLOOKUP(B1662,'[1]002'!B:M,11,0)","v":"蔡晓君"},{"$f":"VLOOKUP(B1662,'[1]002'!B:M,12,0)","v":"广州市天河区清荷幼儿园"}]
[1661,"P303019091870","王大爷的蔬果店","幼教组","微课","一等奖","汕头市",{"$f":"VLOOKUP(B1663,'[1]002'!B:M,7,0)","v":"柯璇珠"},{"$f":"VLOOKUP(B1663,'[1]002'!B:M,8,0)","v":"汕头市中山幼儿园"},{"$f":"VLOOKUP(B1663,'[1]002'!B:M,11,0)","v":"-"},{"$f":"VLOOKUP(B1663,'[1]002'!B:M,12,0)","v":"-"}]
[1662,"P303019091860","能干的手","幼教组","微课","一等奖","汕头市",{"$f":"VLOOKUP(B1664,'[1]002'!B:M,7,0)","v":"翁素兰"},{"$f":"VLOOKUP(B1664,'[1]002'!B:M,8,0)","v":"汕头市中山第二幼儿园"},{"$f":"VLOOKUP(B1664,'[1]002'!B:M,11,0)","v":"-"},{"$f":"VLOOKUP(B1664,'[1]002'!B:M,12,0)","v":"-"}]
[1663,"P303019091096","好玩的磁泥","幼教组","微课","一等奖","佛山市",{"$f":"VLOOKUP(B1665,'[1]002'!B:M,7,0)","v":"邵掌霞"},{"$f":"VLOOKUP(B1665,'[1]002'!B:M,8,0)","v":"佛山市南海区丹灶中心幼儿园"},{"$f":"VLOOKUP(B1665,'[1]002'!B:M,11,0)","v":"邓绮霞"},{"$f":"VLOOKUP(B1665,'[1]002'!B:M,12,0)","v":"佛山市南海区丹灶中心幼儿园"}]
[1664,"P303019091085","小班科学小海绵本领大","幼教组","微课","一等奖","佛山市",{"$f":"VLOOKUP(B1666,'[1]002'!B:M,7,0)","v":"何敏芬"},{"$f":"VLOOKUP(B1666,'[1]002'!B:M,8,0)","v":"佛山市高明区机关幼儿园"},{"$f":"VLOOKUP(B1666,'[1]002'!B:M,11,0)","v":"黄剑雯"},{"$f":"VLOOKUP(B1666,'[1]002'!B:M,12,0)","v":"佛山市高明区机关幼儿园"}]
[1665,"P303019091099","WOW磁悬浮","幼教组","微课","一等奖","佛山市",{"$f":"VLOOKUP(B1667,'[1]002'!B:M,7,0)","v":"何玉琴"},{"$f":"VLOOKUP(B1667,'[1]002'!B:M,8,0)","v":"佛山市南海区西樵镇中心幼儿园"},{"$f":"VLOOKUP(B1667,'[1]002'!B:M,11,0)","v":"陈月枝"},{"$f":"VLOOKUP(B1667,'[1]002'!B:M,12,0)","v":"佛山市南海区西樵镇中心幼儿园"}]
[1666,"P303019091098","比一比谁快","幼教组","微课","一等奖","佛山市",{"$f":"VLOOKUP(B1668,'[1]002'!B:M,7,0)","v":"黄丽霞"},{"$f":"VLOOKUP(B1668,'[1]002'!B:M,8,0)","v":"佛山市南海区狮山松岗中心幼儿园"},{"$f":"VLOOKUP(B1668,'[1]002'!B:M,11,0)","v":"朱颖芬"},{"$f":"VLOOKUP(B1668,'[1]002'!B:M,12,0)","v":"佛山市南海区狮山松岗中心幼儿园"}]
[1667,"P303019091100","神奇的指纹","幼教组","微课","一等奖","佛山市",{"$f":"VLOOKUP(B1669,'[1]002'!B:M,7,0)","v":"何淑萍"},{"$f":"VLOOKUP(B1669,'[1]002'!B:M,8,0)","v":"佛山市南海区丹灶中心幼儿园"},{"$f":"VLOOKUP(B1669,'[1]002'!B:M,11,0)","v":"罗敏玲"},{"$f":"VLOOKUP(B1669,'[1]002'!B:M,12,0)","v":"佛山市南海区丹灶中心幼儿园"}]
[1668,"P303019091097","声音从哪儿来","幼教组","微课","一等奖","佛山市",{"$f":"VLOOKUP(B1670,'[1]002'!B:M,7,0)","v":"麦雪仪"},{"$f":"VLOOKUP(B1670,'[1]002'!B:M,8,0)","v":"佛山市南海区桂城平洲中心幼儿园"},{"$f":"VLOOKUP(B1670,'[1]002'!B:M,11,0)","v":"邓嘉敏"},{"$f":"VLOOKUP(B1670,'[1]002'!B:M,12,0)","v":"佛山市南海区桂城平洲中心幼儿园"}]
[1669,"P303019091110","小鳄鱼","幼教组","微课","一等奖","佛山市",{"$f":"VLOOKUP(B1671,'[1]002'!B:M,7,0)","v":"梁绮丽"},{"$f":"VLOOKUP(B1671,'[1]002'!B:M,8,0)","v":"禅城区明珠幼儿园"},{"$f":"VLOOKUP(B1671,'[1]002'!B:M,11,0)","v":"张巧明"},{"$f":"VLOOKUP(B1671,'[1]002'!B:M,12,0)","v":"禅城区明珠幼儿园"}]
[1670,"P303019092553","蒙德里安的色彩","幼教组","微课","一等奖","东莞市",{"$f":"VLOOKUP(B1672,'[1]002'!B:M,7,0)","v":"肖子娥"},{"$f":"VLOOKUP(B1672,'[1]002'!B:M,8,0)","v":"东莞市虎门镇中心幼儿园"},{"$f":"VLOOKUP(B1672,'[1]002'!B:M,11,0)","v":"-"},{"$f":"VLOOKUP(B1672,'[1]002'!B:M,12,0)","v":"-"}]
[1671,"P303019091156","幼儿园大班美术活动 橙子变变变","幼教组","微课","一等奖","肇庆市",{"$f":"VLOOKUP(B1673,'[1]002'!B:M,7,0)","v":"陈肇芳"},{"$f":"VLOOKUP(B1673,'[1]002'!B:M,8,0)","v":"肇庆市直属机关第二幼儿园"},{"$f":"VLOOKUP(B1673,'[1]002'!B:M,11,0)","v":"盘伟洁"},{"$f":"VLOOKUP(B1673,'[1]002'!B:M,12,0)","v":"肇庆市直属机关第二幼儿园"}]
[1672,"P304019091504","特别的我","幼教组","新媒体新技术教学应用课例","一等奖",{"$f":"RIGHT(LEFT(VLOOKUP(B1674,'[1]002'!B:M,3,0),7),3)","v":"佛山市"},{"$f":"VLOOKUP(B1674,'[1]002'!B:M,7,0)","v":"陆丽媚"},{"$f":"VLOOKUP(B1674,'[1]002'!B:M,8,0)","v":"佛山市南海区丹灶中心幼儿园"},{"$f":"VLOOKUP(B1674,'[1]002'!B:M,11,0)","v":"罗敏玲"},{"$f":"VLOOKUP(B1674,'[1]002'!B:M,12,0)","v":"佛山市南海区丹灶中心幼儿园"}]
[1673,"P304019091519","垃圾分类我能行","幼教组","新媒体新技术教学应用课例","一等奖",{"$f":"RIGHT(LEFT(VLOOKUP(B1675,'[1]002'!B:M,3,0),7),3)","v":"佛山市"},{"$f":"VLOOKUP(B1675,'[1]002'!B:M,7,0)","v":"蔡晓吟"},{"$f":"VLOOKUP(B1675,'[1]002'!B:M,8,0)","v":"佛山市三水区中心幼儿园"},{"$f":"VLOOKUP(B1675,'[1]002'!B:M,11,0)","v":"邓妍芳"},{"$f":"VLOOKUP(B1675,'[1]002'!B:M,12,0)","v":"佛山市三水区中心幼儿园"}]
[1674,"P302019091477","有趣的尾巴","幼教组","课件","二等奖","佛山市",{"$f":"VLOOKUP(B1676,'[1]002'!B:M,7,0)","v":"王桂群"},{"$f":"VLOOKUP(B1676,'[1]002'!B:M,8,0)","v":"佛山市南海区桂城平洲中心幼儿园"},{"$f":"VLOOKUP(B1676,'[1]002'!B:M,11,0)","v":"黎绮华"},{"$f":"VLOOKUP(B1676,'[1]002'!B:M,12,0)","v":"佛山市南海区桂城平洲中心幼儿园"}]
[1675,"P302019091465","小班语言最大的动物","幼教组","课件","二等奖","佛山市",{"$f":"VLOOKUP(B1677,'[1]002'!B:M,7,0)","v":"何敏芬"},{"$f":"VLOOKUP(B1677,'[1]002'!B:M,8,0)","v":"佛山市高明区机关幼儿园"},{"$f":"VLOOKUP(B1677,'[1]002'!B:M,11,0)","v":"-"},{"$f":"VLOOKUP(B1677,'[1]002'!B:M,12,0)","v":"-"}]
[1676,"P302019091478","认识日历","幼教组","课件","二等奖","佛山市",{"$f":"VLOOKUP(B1678,'[1]002'!B:M,7,0)","v":"谭国妹"},{"$f":"VLOOKUP(B1678,'[1]002'!B:M,8,0)","v":"佛山市南海区丹灶中心幼儿园"},{"$f":"VLOOKUP(B1678,'[1]002'!B:M,11,0)","v":"-"},{"$f":"VLOOKUP(B1678,'[1]002'!B:M,12,0)","v":"-"}]
[1677,"P302019091479","水果切切切","幼教组","课件","二等奖","佛山市",{"$f":"VLOOKUP(B1679,'[1]002'!B:M,7,0)","v":"张琴"},{"$f":"VLOOKUP(B1679,'[1]002'!B:M,8,0)","v":"佛山市南海区丹灶中心幼儿园"},{"$f":"VLOOKUP(B1679,'[1]002'!B:M,11,0)","v":"潘俊玲"},{"$f":"VLOOKUP(B1679,'[1]002'!B:M,12,0)","v":"佛山市南海区丹灶中心幼儿园"}]
[1678,"P302019091495","防拐安全教育","幼教组","课件","二等奖","佛山市",{"$f":"VLOOKUP(B1680,'[1]002'!B:M,7,0)","v":"刘聪兰"},{"$f":"VLOOKUP(B1680,'[1]002'!B:M,8,0)","v":"佛山市三水区中心幼儿园"},{"$f":"VLOOKUP(B1680,'[1]002'!B:M,11,0)","v":"华建茜"},{"$f":"VLOOKUP(B1680,'[1]002'!B:M,12,0)","v":"佛山市三水区中心幼儿园"}]
[1679,"P302019091474","爱","幼教组","课件","二等奖","佛山市",{"$f":"VLOOKUP(B1681,'[1]002'!B:M,7,0)","v":"李佩仪"},{"$f":"VLOOKUP(B1681,'[1]002'!B:M,8,0)","v":"佛山市南海区狮山松岗中心幼儿园"},{"$f":"VLOOKUP(B1681,'[1]002'!B:M,11,0)","v":"郑静"},{"$f":"VLOOKUP(B1681,'[1]002'!B:M,12,0)","v":"佛山市南海区狮山松岗中心幼儿园"}]
[1680,"P302019088193","营养","幼教组","课件","二等奖","韶关市",{"$f":"VLOOKUP(B1682,'[1]002'!B:M,7,0)","v":"陈亮"},{"$f":"VLOOKUP(B1682,'[1]002'!B:M,8,0)","v":"韶关市浈江区花坪镇中心幼儿园"},{"$f":"VLOOKUP(B1682,'[1]002'!B:M,11,0)","v":"-"},{"$f":"VLOOKUP(B1682,'[1]002'!B:M,12,0)","v":"-"}]
[1681,"P302019088163","求救电话","幼教组","课件","二等奖","韶关市",{"$f":"VLOOKUP(B1683,'[1]002'!B:M,7,0)","v":"陈亮"},{"$f":"VLOOKUP(B1683,'[1]002'!B:M,8,0)","v":"韶关市浈江区花坪镇中心幼儿园"},{"$f":"VLOOKUP(B1683,'[1]002'!B:M,11,0)","v":"-"},{"$f":"VLOOKUP(B1683,'[1]002'!B:M,12,0)","v":"-"}]
[1682,"P302019088969","夏天里的小动物","幼教组","课件","二等奖","韶关市",{"$f":"VLOOKUP(B1684,'[1]002'!B:M,7,0)","v":"张廷东"},{"$f":"VLOOKUP(B1684,'[1]002'!B:M,8,0)","v":"新丰县第四幼儿园"},{"$f":"VLOOKUP(B1684,'[1]002'!B:M,11,0)","v":"-"},{"$f":"VLOOKUP(B1684,'[1]002'!B:M,12,0)","v":"-"}]
[1683,"P302019088952","树","幼教组","课件","二等奖","韶关市",{"$f":"VLOOKUP(B1685,'[1]002'!B:M,7,0)","v":"龙双凤"},{"$f":"VLOOKUP(B1685,'[1]002'!B:M,8,0)","v":"新丰县第四幼儿园"},{"$f":"VLOOKUP(B1685,'[1]002'!B:M,11,0)","v":"潘新洁"},{"$f":"VLOOKUP(B1685,'[1]002'!B:M,12,0)","v":"新丰县第四幼儿园"}]
[1684,"P302019092457","天气安全知识我知道","幼教组","课件","二等奖","东莞市",{"$f":"VLOOKUP(B1686,'[1]002'!B:M,7,0)","v":"黄玩玲"},{"$f":"VLOOKUP(B1686,'[1]002'!B:M,8,0)","v":"东莞市大岭山镇实验幼儿园"},{"$f":"VLOOKUP(B1686,'[1]002'!B:M,11,0)","v":"-"},{"$f":"VLOOKUP(B1686,'[1]002'!B:M,12,0)","v":"-"}]
[1685,"P302019092451","地震来了","幼教组","课件","二等奖","东莞市",{"$f":"VLOOKUP(B1687,'[1]002'!B:M,7,0)","v":"陈银慧"},{"$f":"VLOOKUP(B1687,'[1]002'!B:M,8,0)","v":"东莞市南城中心幼儿园"},{"$f":"VLOOKUP(B1687,'[1]002'!B:M,11,0)","v":"张楚玉"},{"$f":"VLOOKUP(B1687,'[1]002'!B:M,12,0)","v":"东莞市南城中心幼儿园"}]
[1686,"P302019092449","中班数学神奇的数守恒","幼教组","课件","二等奖","东莞市",{"$f":"VLOOKUP(B1688,'[1]002'!B:M,7,0)","v":"陈雪贞"},{"$f":"VLOOKUP(B1688,'[1]002'!B:M,8,0)","v":"东莞市南城中心幼儿园"},{"$f":"VLOOKUP(B1688,'[1]002'!B:M,11,0)","v":"钱栩洁"},{"$f":"VLOOKUP(B1688,'[1]002'!B:M,12,0)","v":"东莞市南城中心幼儿园"}]
[1687,"P302019092332","有趣的排序","幼教组","课件","二等奖","江门市",{"$f":"VLOOKUP(B1689,'[1]002'!B:M,7,0)","v":"邓秀华"},{"$f":"VLOOKUP(B1689,'[1]002'!B:M,8,0)","v":"江门市蓓蕾幼儿园"},{"$f":"VLOOKUP(B1689,'[1]002'!B:M,11,0)","v":"-"},{"$f":"VLOOKUP(B1689,'[1]002'!B:M,12,0)","v":"-"}]
[1688,"P302019092017","配对","幼教组","课件","二等奖","江门市",{"$f":"VLOOKUP(B1690,'[1]002'!B:M,7,0)","v":"梁凯欣"},{"$f":"VLOOKUP(B1690,'[1]002'!B:M,8,0)","v":"开平市三埠长沙幼儿园"},{"$f":"VLOOKUP(B1690,'[1]002'!B:M,11,0)","v":"-"},{"$f":"VLOOKUP(B1690,'[1]002'!B:M,12,0)","v":"-"}]
[1689,"P302019091622","安全用药","幼教组","课件","二等奖","清远市",{"$f":"VLOOKUP(B1691,'[1]002'!B:M,7,0)","v":"黄凤宜"},{"$f":"VLOOKUP(B1691,'[1]002'!B:M,8,0)","v":"佛冈县青云路幼儿园"},{"$f":"VLOOKUP(B1691,'[1]002'!B:M,11,0)","v":"-"},{"$f":"VLOOKUP(B1691,'[1]002'!B:M,12,0)","v":"-"}]
[1690,"P302019089156","变脸游戏","幼教组","课件","二等奖","潮州市",{"$f":"VLOOKUP(B1692,'[1]002'!B:M,7,0)","v":"蔡佳年"},{"$f":"VLOOKUP(B1692,'[1]002'!B:M,8,0)","v":"潮州市中心幼儿园"},{"$f":"VLOOKUP(B1692,'[1]002'!B:M,11,0)","v":"林伟君"},{"$f":"VLOOKUP(B1692,'[1]002'!B:M,12,0)","v":"潮州市中心幼儿园"}]
[1691,"P303019093078","好玩的气球动力车","幼教组","微课","二等奖","广州市",{"$f":"VLOOKUP(B1693,'[1]002'!B:M,7,0)","v":"黄圆文"},{"$f":"VLOOKUP(B1693,'[1]002'!B:M,8,0)","v":"广州市花都区第一幼儿园"},{"$f":"VLOOKUP(B1693,'[1]002'!B:M,11,0)","v":"柯春燕"},{"$f":"VLOOKUP(B1693,'[1]002'!B:M,12,0)","v":"广州市花都区第一幼儿园"}]
[1692,"P303019093075","美丽的石头鱼","幼教组","微课","二等奖","广州市",{"$f":"VLOOKUP(B1694,'[1]002'!B:M,7,0)","v":"陈剑鸣"},{"$f":"VLOOKUP(B1694,'[1]002'!B:M,8,0)","v":"广州市荔湾区芳村幼儿园"},{"$f":"VLOOKUP(B1694,'[1]002'!B:M,11,0)","v":"谢佩珊"},{"$f":"VLOOKUP(B1694,'[1]002'!B:M,12,0)","v":"广州市荔湾区芳村幼儿园"}]
[1693,"P303019093072","图形拼拼乐","幼教组","微课","二等奖","广州市",{"$f":"VLOOKUP(B1695,'[1]002'!B:M,7,0)","v":"刘秋然"},{"$f":"VLOOKUP(B1695,'[1]002'!B:M,8,0)","v":"广州市荔湾区协和幼儿园"},{"$f":"VLOOKUP(B1695,'[1]002'!B:M,11,0)","v":"关敏娟"},{"$f":"VLOOKUP(B1695,'[1]002'!B:M,12,0)","v":"广州市荔湾区协和幼儿园"}]
[1694,"P303019093076","神奇的表面张力","幼教组","微课","二等奖","广州市",{"$f":"VLOOKUP(B1696,'[1]002'!B:M,7,0)","v":"郑永梅"},{"$f":"VLOOKUP(B1696,'[1]002'!B:M,8,0)","v":"广州市番禺区直属机关幼儿园"},{"$f":"VLOOKUP(B1696,'[1]002'!B:M,11,0)","v":"梁志海"},{"$f":"VLOOKUP(B1696,'[1]002'!B:M,12,0)","v":"广州市番禺区直属机关幼儿园"}]
[1695,"P303019093077","垃圾分类","幼教组","微课","二等奖","广州市",{"$f":"VLOOKUP(B1697,'[1]002'!B:M,7,0)","v":"刘冬雪"},{"$f":"VLOOKUP(B1697,'[1]002'!B:M,8,0)","v":"广州市越秀区真光幼儿园"},{"$f":"VLOOKUP(B1697,'[1]002'!B:M,11,0)","v":"陈晓颖"},{"$f":"VLOOKUP(B1697,'[1]002'!B:M,12,0)","v":"广州市越秀区真光幼儿园"}]
[1696,"P303019091862","小蜘蛛","幼教组","微课","二等奖","汕头市",{"$f":"VLOOKUP(B1698,'[1]002'!B:M,7,0)","v":"陈静"},{"$f":"VLOOKUP(B1698,'[1]002'!B:M,8,0)","v":"汕头市中山幼儿园（新）"},{"$f":"VLOOKUP(B1698,'[1]002'!B:M,11,0)","v":"-"},{"$f":"VLOOKUP(B1698,'[1]002'!B:M,12,0)","v":"-"}]
[1697,"P303019091864","彩虹挂饰","幼教组","微课","二等奖","汕头市",{"$f":"VLOOKUP(B1699,'[1]002'!B:M,7,0)","v":"陈斯纳"},{"$f":"VLOOKUP(B1699,'[1]002'!B:M,8,0)","v":"汕头市中山第二幼儿园"},{"$f":"VLOOKUP(B1699,'[1]002'!B:M,11,0)","v":"-"},{"$f":"VLOOKUP(B1699,'[1]002'!B:M,12,0)","v":"-"}]
[1698,"P303019091867","小蚂蚁的昆虫朋友","幼教组","微课","二等奖","汕头市",{"$f":"VLOOKUP(B1700,'[1]002'!B:M,7,0)","v":"陈珊莉"},{"$f":"VLOOKUP(B1700,'[1]002'!B:M,8,0)","v":"汕头市中山第二幼儿园"},{"$f":"VLOOKUP(B1700,'[1]002'!B:M,11,0)","v":"-"},{"$f":"VLOOKUP(B1700,'[1]002'!B:M,12,0)","v":"-"}]
[1699,"P303019091090","有趣的胶带画","幼教组","微课","二等奖","佛山市",{"$f":"VLOOKUP(B1701,'[1]002'!B:M,7,0)","v":"王桂群"},{"$f":"VLOOKUP(B1701,'[1]002'!B:M,8,0)","v":"佛山市南海区桂城平洲中心幼儿园"},{"$f":"VLOOKUP(B1701,'[1]002'!B:M,11,0)","v":"郭梓扬"},{"$f":"VLOOKUP(B1701,'[1]002'!B:M,12,0)","v":"佛山市南海区桂城平洲中心幼儿园"}]
[1700,"P303019091115","火山爆发","幼教组","微课","二等奖","佛山市",{"$f":"VLOOKUP(B1702,'[1]002'!B:M,7,0)","v":"余少尔"},{"$f":"VLOOKUP(B1702,'[1]002'!B:M,8,0)","v":"北滘镇第二幼儿园"},{"$f":"VLOOKUP(B1702,'[1]002'!B:M,11,0)","v":"-"},{"$f":"VLOOKUP(B1702,'[1]002'!B:M,12,0)","v":"-"}]
[1701,"P303019091548","会动的小泥车","幼教组","微课","二等奖","佛山市",{"$f":"VLOOKUP(B1703,'[1]002'!B:M,7,0)","v":"李丽嫦"},{"$f":"VLOOKUP(B1703,'[1]002'!B:M,8,0)","v":"佛山市南海区丹灶金沙幼儿园"},{"$f":"VLOOKUP(B1703,'[1]002'!B:M,11,0)","v":"张子晴"},{"$f":"VLOOKUP(B1703,'[1]002'!B:M,12,0)","v":"佛山市南海区丹灶金沙幼儿园"}]
[1702,"P303019091082","水果发电","幼教组","微课","二等奖","佛山市",{"$f":"VLOOKUP(B1704,'[1]002'!B:M,7,0)","v":"张燕芬"},{"$f":"VLOOKUP(B1704,'[1]002'!B:M,8,0)","v":"佛山市高明区财贸幼儿园"},{"$f":"VLOOKUP(B1704,'[1]002'!B:M,11,0)","v":"-"},{"$f":"VLOOKUP(B1704,'[1]002'!B:M,12,0)","v":"-"}]
[1703,"P303019091116","大班科学区域小实验","幼教组","微课","二等奖","佛山市",{"$f":"VLOOKUP(B1705,'[1]002'!B:M,7,0)","v":"张志红"},{"$f":"VLOOKUP(B1705,'[1]002'!B:M,8,0)","v":"顺德区机关幼儿园"},{"$f":"VLOOKUP(B1705,'[1]002'!B:M,11,0)","v":"-"},{"$f":"VLOOKUP(B1705,'[1]002'!B:M,12,0)","v":"-"}]
[1704,"P303019091086","纸的秘密","幼教组","微课","二等奖","佛山市",{"$f":"VLOOKUP(B1706,'[1]002'!B:M,7,0)","v":"梁俨丽"},{"$f":"VLOOKUP(B1706,'[1]002'!B:M,8,0)","v":"佛山市禅城区中心幼儿园"},{"$f":"VLOOKUP(B1706,'[1]002'!B:M,11,0)","v":"-"},{"$f":"VLOOKUP(B1706,'[1]002'!B:M,12,0)","v":"-"}]
[1705,"P303019091118","不插嘴有礼貌","幼教组","微课","二等奖","佛山市",{"$f":"VLOOKUP(B1707,'[1]002'!B:M,7,0)","v":"李思华"},{"$f":"VLOOKUP(B1707,'[1]002'!B:M,8,0)","v":"佛山市三水区中心幼儿园"},{"$f":"VLOOKUP(B1707,'[1]002'!B:M,11,0)","v":"-"},{"$f":"VLOOKUP(B1707,'[1]002'!B:M,12,0)","v":"-"}]
[1706,"P303019091104","预防溺水从我做起","幼教组","微课","二等奖","佛山市",{"$f":"VLOOKUP(B1708,'[1]002'!B:M,7,0)","v":"罗敏玲"},{"$f":"VLOOKUP(B1708,'[1]002'!B:M,8,0)","v":"佛山市南海区丹灶中心幼儿园"},{"$f":"VLOOKUP(B1708,'[1]002'!B:M,11,0)","v":"罗佩玲"},{"$f":"VLOOKUP(B1708,'[1]002'!B:M,12,0)","v":"佛山市南海区丹灶中心幼儿园"}]
[1707,"P303019091091","梦幻彩影","幼教组","微课","二等奖","佛山市",{"$f":"VLOOKUP(B1709,'[1]002'!B:M,7,0)","v":"何雄丽"},{"$f":"VLOOKUP(B1709,'[1]002'!B:M,8,0)","v":"佛山市南海区桂城平洲中心幼儿园"},{"$f":"VLOOKUP(B1709,'[1]002'!B:M,11,0)","v":"黎淑芬"},{"$f":"VLOOKUP(B1709,'[1]002'!B:M,12,0)","v":"佛山市南海区桂城平洲中心幼儿园"}]
[1708,"P303019089136","小鼹鼠的故事","幼教组","微课","二等奖","韶关市",{"$f":"VLOOKUP(B1710,'[1]002'!B:M,7,0)","v":"丘敬松"},{"$f":"VLOOKUP(B1710,'[1]002'!B:M,8,0)","v":"新丰县第一幼儿园"},{"$f":"VLOOKUP(B1710,'[1]002'!B:M,11,0)","v":"-"},{"$f":"VLOOKUP(B1710,'[1]002'!B:M,12,0)","v":"-"}]
[1709,"P303019089967","蝌蚪水中游","幼教组","微课","二等奖","韶关市",{"$f":"VLOOKUP(B1711,'[1]002'!B:M,7,0)","v":"沈华芬"},{"$f":"VLOOKUP(B1711,'[1]002'!B:M,8,0)","v":"韶关市曲江区第一幼儿园"},{"$f":"VLOOKUP(B1711,'[1]002'!B:M,11,0)","v":"-"},{"$f":"VLOOKUP(B1711,'[1]002'!B:M,12,0)","v":"-"}]
[1710,"P303019093320","我能整理小书包","幼教组","微课","二等奖","河源市",{"$f":"VLOOKUP(B1712,'[1]002'!B:M,7,0)","v":"巫金秋"},{"$f":"VLOOKUP(B1712,'[1]002'!B:M,8,0)","v":"河源市源城区机关第二幼儿园"},{"$f":"VLOOKUP(B1712,'[1]002'!B:M,11,0)","v":"-"},{"$f":"VLOOKUP(B1712,'[1]002'!B:M,12,0)","v":"-"}]
[1711,"P303019093321","认识奥尔夫乐器","幼教组","微课","二等奖","河源市",{"$f":"VLOOKUP(B1713,'[1]002'!B:M,7,0)","v":"黄婷"},{"$f":"VLOOKUP(B1713,'[1]002'!B:M,8,0)","v":"河源市直属机关幼儿园"},{"$f":"VLOOKUP(B1713,'[1]002'!B:M,11,0)","v":"吴胜红"},{"$f":"VLOOKUP(B1713,'[1]002'!B:M,12,0)","v":"河源市直属机关幼儿园"}]
[1712,"P303019088912","漂亮的纸拖鞋","幼教组","微课","二等奖","梅州市",{"$f":"VLOOKUP(B1714,'[1]002'!B:M,7,0)","v":"杨艳华"},{"$f":"VLOOKUP(B1714,'[1]002'!B:M,8,0)","v":"平远县第二幼儿园"},{"$f":"VLOOKUP(B1714,'[1]002'!B:M,11,0)","v":"-"},{"$f":"VLOOKUP(B1714,'[1]002'!B:M,12,0)","v":"-"}]
[1713,"P303019092543","跳舞的女孩","幼教组","微课","二等奖","东莞市",{"$f":"VLOOKUP(B1715,'[1]002'!B:M,7,0)","v":"钟莉君"},{"$f":"VLOOKUP(B1715,'[1]002'!B:M,8,0)","v":"东莞市大岭山镇实验幼儿园"},{"$f":"VLOOKUP(B1715,'[1]002'!B:M,11,0)","v":"-"},{"$f":"VLOOKUP(B1715,'[1]002'!B:M,12,0)","v":"-"}]
[1714,"P303019092548","趣味手工皂","幼教组","微课","二等奖","东莞市",{"$f":"VLOOKUP(B1716,'[1]002'!B:M,7,0)","v":"林丹媛"},{"$f":"VLOOKUP(B1716,'[1]002'!B:M,8,0)","v":"东莞市大岭山镇实验幼儿园"},{"$f":"VLOOKUP(B1716,'[1]002'!B:M,11,0)","v":"-"},{"$f":"VLOOKUP(B1716,'[1]002'!B:M,12,0)","v":"-"}]
[1715,"P303019092547","中班数学5以内数的守恒","幼教组","微课","二等奖","东莞市",{"$f":"VLOOKUP(B1717,'[1]002'!B:M,7,0)","v":"陈雪贞"},{"$f":"VLOOKUP(B1717,'[1]002'!B:M,8,0)","v":"东莞市南城中心幼儿园"},{"$f":"VLOOKUP(B1717,'[1]002'!B:M,11,0)","v":"钱栩洁"},{"$f":"VLOOKUP(B1717,'[1]002'!B:M,12,0)","v":"东莞市南城中心幼儿园"}]
[1716,"P303019091140","小蓝和小黄","幼教组","微课","二等奖","肇庆市",{"$f":"VLOOKUP(B1718,'[1]002'!B:M,7,0)","v":"蔡銮青"},{"$f":"VLOOKUP(B1718,'[1]002'!B:M,8,0)","v":"肇庆市直属机关第二幼儿园"},{"$f":"VLOOKUP(B1718,'[1]002'!B:M,11,0)","v":"王红红"},{"$f":"VLOOKUP(B1718,'[1]002'!B:M,12,0)","v":"肇庆市直属机关第二幼儿园"}]
[1717,"P303019091665","毛线编织","幼教组","微课","二等奖","清远市",{"$f":"VLOOKUP(B1719,'[1]002'!B:M,7,0)","v":"黄玉瑜"},{"$f":"VLOOKUP(B1719,'[1]002'!B:M,8,0)","v":"阳山县碧桂园幼儿园"},{"$f":"VLOOKUP(B1719,'[1]002'!B:M,11,0)","v":"肖燕霞"},{"$f":"VLOOKUP(B1719,'[1]002'!B:M,12,0)","v":"阳山县碧桂园幼儿园"}]
[1718,"P303019091666","虾趣","幼教组","微课","二等奖","清远市",{"$f":"VLOOKUP(B1720,'[1]002'!B:M,7,0)","v":"黄海芳"},{"$f":"VLOOKUP(B1720,'[1]002'!B:M,8,0)","v":"阳山县第三幼儿园"},{"$f":"VLOOKUP(B1720,'[1]002'!B:M,11,0)","v":"-"},{"$f":"VLOOKUP(B1720,'[1]002'!B:M,12,0)","v":"-"}]
[1719,"P303019091667","可爱的小羊","幼教组","微课","二等奖","清远市",{"$f":"VLOOKUP(B1721,'[1]002'!B:M,7,0)","v":"梁洁芳"},{"$f":"VLOOKUP(B1721,'[1]002'!B:M,8,0)","v":"阳山县第三幼儿园"},{"$f":"VLOOKUP(B1721,'[1]002'!B:M,11,0)","v":"-"},{"$f":"VLOOKUP(B1721,'[1]002'!B:M,12,0)","v":"-"}]
[1720,"P303019091270","制作小灯笼","幼教组","微课","二等奖","潮州市",{"$f":"VLOOKUP(B1722,'[1]002'!B:M,7,0)","v":"郑泽芬"},{"$f":"VLOOKUP(B1722,'[1]002'!B:M,8,0)","v":"饶平县中心幼儿园"},{"$f":"VLOOKUP(B1722,'[1]002'!B:M,11,0)","v":"-"},{"$f":"VLOOKUP(B1722,'[1]002'!B:M,12,0)","v":"-"}]
[1721,"P305019093080","幼儿园体验式微型图书馆游戏案例","幼教组","信息技术创新教学案例","二等奖","广州市",{"$f":"VLOOKUP(B1723,'[1]002'!B:M,7,0)","v":"叶慧蔚"},{"$f":"VLOOKUP(B1723,'[1]002'!B:M,8,0)","v":"广州市幼儿师范学校附属海珠幼儿园"},{"$f":"VLOOKUP(B1723,'[1]002'!B:M,11,0)","v":"周燕"},{"$f":"VLOOKUP(B1723,'[1]002'!B:M,12,0)","v":"广州市幼儿师范学校附属海珠幼儿园"}]
[1722,"P305019091521","赶跑牙虫保护牙齿","幼教组","信息技术创新教学案例","二等奖","佛山市",{"$f":"VLOOKUP(B1724,'[1]002'!B:M,7,0)","v":"孔渐醒"},{"$f":"VLOOKUP(B1724,'[1]002'!B:M,8,0)","v":"佛山市南海区狮山松岗中心幼儿园"},{"$f":"VLOOKUP(B1724,'[1]002'!B:M,11,0)","v":"黄丽霞"},{"$f":"VLOOKUP(B1724,'[1]002'!B:M,12,0)","v":"佛山市南海区狮山松岗中心幼儿园"}]
[1723,"P304019093052","说唱脸谱","幼教组","新媒体新技术教学应用课例","二等奖",{"$f":"RIGHT(LEFT(VLOOKUP(B1725,'[1]002'!B:M,3,0),7),3)","v":"广州市"},{"$f":"VLOOKUP(B1725,'[1]002'!B:M,7,0)","v":"贺柳平"},{"$f":"VLOOKUP(B1725,'[1]002'!B:M,8,0)","v":"广州市增城区凤凰城中英文幼儿园"},{"$f":"VLOOKUP(B1725,'[1]002'!B:M,11,0)","v":"-"},{"$f":"VLOOKUP(B1725,'[1]002'!B:M,12,0)","v":"-"}]
[1724,"P304019091520","小小考古家","幼教组","新媒体新技术教学应用课例","二等奖",{"$f":"RIGHT(LEFT(VLOOKUP(B1726,'[1]002'!B:M,3,0),7),3)","v":"佛山市"},{"$f":"VLOOKUP(B1726,'[1]002'!B:M,7,0)","v":"邓妍芳"},{"$f":"VLOOKUP(B1726,'[1]002'!B:M,8,0)","v":"佛山市三水区中心幼儿园"},{"$f":"VLOOKUP(B1726,'[1]002'!B:M,11,0)","v":"钟晓芬"},{"$f":"VLOOKUP(B1726,'[1]002'!B:M,12,0)","v":"佛山市三水区中心幼儿园"}]
[1725,"P304019091509","是与不是认识与计数","幼教组","新媒体新技术教学应用课例","二等奖",{"$f":"RIGHT(LEFT(VLOOKUP(B1727,'[1]002'!B:M,3,0),7),3)","v":"佛山市"},{"$f":"VLOOKUP(B1727,'[1]002'!B:M,7,0)","v":"谭妲娜"},{"$f":"VLOOKUP(B1727,'[1]002'!B:M,8,0)","v":"禅城区明珠幼儿园"},{"$f":"VLOOKUP(B1727,'[1]002'!B:M,11,0)","v":"-"},{"$f":"VLOOKUP(B1727,'[1]002'!B:M,12,0)","v":"-"}]
[1726,"P304019091516","元宵节","幼教组","新媒体新技术教学应用课例","二等奖",{"$f":"RIGHT(LEFT(VLOOKUP(B1728,'[1]002'!B:M,3,0),7),3)","v":"佛山市"},{"$f":"VLOOKUP(B1728,'[1]002'!B:M,7,0)","v":"钟岸英"},{"$f":"VLOOKUP(B1728,'[1]002'!B:M,8,0)","v":"北滘镇第二幼儿园"},{"$f":"VLOOKUP(B1728,'[1]002'!B:M,11,0)","v":"-"},{"$f":"VLOOKUP(B1728,'[1]002'!B:M,12,0)","v":"-"}]
[1727,"P304019091497","图形王国大冒险","幼教组","新媒体新技术教学应用课例","二等奖",{"$f":"RIGHT(LEFT(VLOOKUP(B1729,'[1]002'!B:M,3,0),7),3)","v":"佛山市"},{"$f":"VLOOKUP(B1729,'[1]002'!B:M,7,0)","v":"龙春燕"},{"$f":"VLOOKUP(B1729,'[1]002'!B:M,8,0)","v":"佛山市禅城区中心幼儿园"},{"$f":"VLOOKUP(B1729,'[1]002'!B:M,11,0)","v":"-"},{"$f":"VLOOKUP(B1729,'[1]002'!B:M,12,0)","v":"-"}]
[1728,"P304019091505","新版小红帽","幼教组","新媒体新技术教学应用课例","二等奖",{"$f":"RIGHT(LEFT(VLOOKUP(B1730,'[1]002'!B:M,3,0),7),3)","v":"佛山市"},{"$f":"VLOOKUP(B1730,'[1]002'!B:M,7,0)","v":"张肖梅"},{"$f":"VLOOKUP(B1730,'[1]002'!B:M,8,0)","v":"佛山市南海区丹灶中心幼儿园"},{"$f":"VLOOKUP(B1730,'[1]002'!B:M,11,0)","v":"罗敏玲"},{"$f":"VLOOKUP(B1730,'[1]002'!B:M,12,0)","v":"佛山市南海区丹灶中心幼儿园"}]
[1729,"P304019091503","制作玩具汽车","幼教组","新媒体新技术教学应用课例","二等奖",{"$f":"RIGHT(LEFT(VLOOKUP(B1731,'[1]002'!B:M,3,0),7),3)","v":"佛山市"},{"$f":"VLOOKUP(B1731,'[1]002'!B:M,7,0)","v":"吴泳佳"},{"$f":"VLOOKUP(B1731,'[1]002'!B:M,8,0)","v":"佛山市南海区丹灶金沙幼儿园"},{"$f":"VLOOKUP(B1731,'[1]002'!B:M,11,0)","v":"杨就心"},{"$f":"VLOOKUP(B1731,'[1]002'!B:M,12,0)","v":"佛山市南海区丹灶金沙幼儿园"}]
[1730,"P304019091501","热闹的广场","幼教组","新媒体新技术教学应用课例","二等奖",{"$f":"RIGHT(LEFT(VLOOKUP(B1732,'[1]002'!B:M,3,0),7),3)","v":"佛山市"},{"$f":"VLOOKUP(B1732,'[1]002'!B:M,7,0)","v":"陆荣欣"},{"$f":"VLOOKUP(B1732,'[1]002'!B:M,8,0)","v":"佛山市南海区机关幼儿园"},{"$f":"VLOOKUP(B1732,'[1]002'!B:M,11,0)","v":"杜翠菊"},{"$f":"VLOOKUP(B1732,'[1]002'!B:M,12,0)","v":"佛山市南海区机关幼儿园"}]
[1731,"P304019091515","IGOBY","幼教组","新媒体新技术教学应用课例","二等奖",{"$f":"RIGHT(LEFT(VLOOKUP(B1733,'[1]002'!B:M,3,0),7),3)","v":"佛山市"},{"$f":"VLOOKUP(B1733,'[1]002'!B:M,7,0)","v":"张秀平"},{"$f":"VLOOKUP(B1733,'[1]002'!B:M,8,0)","v":"北滘镇第二幼儿园"},{"$f":"VLOOKUP(B1733,'[1]002'!B:M,11,0)","v":"-"},{"$f":"VLOOKUP(B1733,'[1]002'!B:M,12,0)","v":"-"}]
[1732,"P302019093065","爱跳舞的小草","幼教组","课件","三等奖","广州市",{"$f":"VLOOKUP(B1734,'[1]002'!B:M,7,0)","v":"陈赛琼"},{"$f":"VLOOKUP(B1734,'[1]002'!B:M,8,0)","v":"广州市萝岗区天鹿幼儿园"},{"$f":"VLOOKUP(B1734,'[1]002'!B:M,11,0)","v":"冯春梅"},{"$f":"VLOOKUP(B1734,'[1]002'!B:M,12,0)","v":"广州市萝岗区天鹿幼儿园"}]
[1733,"P302019093057","大树的医生","幼教组","课件","三等奖","广州市",{"$f":"VLOOKUP(B1735,'[1]002'!B:M,7,0)","v":"梁宝欣"},{"$f":"VLOOKUP(B1735,'[1]002'!B:M,8,0)","v":"广州市白云区江高镇幼儿园"},{"$f":"VLOOKUP(B1735,'[1]002'!B:M,11,0)","v":"-"},{"$f":"VLOOKUP(B1735,'[1]002'!B:M,12,0)","v":"-"}]
[1734,"P302019093062","美丽的清洁工","幼教组","课件","三等奖","广州市",{"$f":"VLOOKUP(B1736,'[1]002'!B:M,7,0)","v":"马昕"},{"$f":"VLOOKUP(B1736,'[1]002'!B:M,8,0)","v":"广州市越秀区云台里幼儿园"},{"$f":"VLOOKUP(B1736,'[1]002'!B:M,11,0)","v":"吴智妮"},{"$f":"VLOOKUP(B1736,'[1]002'!B:M,12,0)","v":"广州市越秀区云台里幼儿园"}]
[1735,"P302019093069","小班语言活动：鳄鱼怕怕牙医怕怕","幼教组","课件","三等奖","广州市",{"$f":"VLOOKUP(B1737,'[1]002'!B:M,7,0)","v":"宋苑彤"},{"$f":"VLOOKUP(B1737,'[1]002'!B:M,8,0)","v":"广州市花都区幼林培英幼儿园"},{"$f":"VLOOKUP(B1737,'[1]002'!B:M,11,0)","v":"刘娟娟"},{"$f":"VLOOKUP(B1737,'[1]002'!B:M,12,0)","v":"广州市花都区幼林培英幼儿园"}]
[1736,"P302019091470","多角度分类","幼教组","课件","三等奖","佛山市",{"$f":"VLOOKUP(B1738,'[1]002'!B:M,7,0)","v":"徐曼芳"},{"$f":"VLOOKUP(B1738,'[1]002'!B:M,8,0)","v":"佛山市南海区丹灶金沙幼儿园"},{"$f":"VLOOKUP(B1738,'[1]002'!B:M,11,0)","v":"-"},{"$f":"VLOOKUP(B1738,'[1]002'!B:M,12,0)","v":"-"}]
[1737,"P302019091476","咬一口","幼教组","课件","三等奖","佛山市",{"$f":"VLOOKUP(B1739,'[1]002'!B:M,7,0)","v":"黄少琼"},{"$f":"VLOOKUP(B1739,'[1]002'!B:M,8,0)","v":"佛山市南海区丹灶金沙幼儿园"},{"$f":"VLOOKUP(B1739,'[1]002'!B:M,11,0)","v":"陈洁惠"},{"$f":"VLOOKUP(B1739,'[1]002'!B:M,12,0)","v":"佛山市南海区丹灶金沙幼儿园"}]
[1738,"P302019091475","我和龙龙捉迷藏","幼教组","课件","三等奖","佛山市",{"$f":"VLOOKUP(B1740,'[1]002'!B:M,7,0)","v":"石嘉恩"},{"$f":"VLOOKUP(B1740,'[1]002'!B:M,8,0)","v":"佛山市南海区狮山松岗中心幼儿园"},{"$f":"VLOOKUP(B1740,'[1]002'!B:M,11,0)","v":"杨淑英"},{"$f":"VLOOKUP(B1740,'[1]002'!B:M,12,0)","v":"佛山市南海区狮山松岗中心幼儿园"}]
[1739,"P302019091491","数字游戏","幼教组","课件","三等奖","佛山市",{"$f":"VLOOKUP(B1741,'[1]002'!B:M,7,0)","v":"欧阳素芬"},{"$f":"VLOOKUP(B1741,'[1]002'!B:M,8,0)","v":"佛山市顺德区均安镇中心幼儿园"},{"$f":"VLOOKUP(B1741,'[1]002'!B:M,11,0)","v":"-"},{"$f":"VLOOKUP(B1741,'[1]002'!B:M,12,0)","v":"-"}]
[1740,"P302019091484","各具特色的民族服饰","幼教组","课件","三等奖","佛山市",{"$f":"VLOOKUP(B1742,'[1]002'!B:M,7,0)","v":"李阳"},{"$f":"VLOOKUP(B1742,'[1]002'!B:M,8,0)","v":"禅城区机关第一幼儿园"},{"$f":"VLOOKUP(B1742,'[1]002'!B:M,11,0)","v":"-"},{"$f":"VLOOKUP(B1742,'[1]002'!B:M,12,0)","v":"-"}]
[1741,"P302019091490","彩虹世界","幼教组","课件","三等奖","佛山市",{"$f":"VLOOKUP(B1743,'[1]002'!B:M,7,0)","v":"刘思娜"},{"$f":"VLOOKUP(B1743,'[1]002'!B:M,8,0)","v":"佛山市机关幼儿园"},{"$f":"VLOOKUP(B1743,'[1]002'!B:M,11,0)","v":"-"},{"$f":"VLOOKUP(B1743,'[1]002'!B:M,12,0)","v":"-"}]
[1742,"P302019089698","9的组成","幼教组","课件","三等奖","韶关市",{"$f":"VLOOKUP(B1744,'[1]002'!B:M,7,0)","v":"蒋伟玲"},{"$f":"VLOOKUP(B1744,'[1]002'!B:M,8,0)","v":"仁化县董塘镇中心幼儿园"},{"$f":"VLOOKUP(B1744,'[1]002'!B:M,11,0)","v":"-"},{"$f":"VLOOKUP(B1744,'[1]002'!B:M,12,0)","v":"-"}]
[1743,"P302019089013","小狐狸画春天","幼教组","课件","三等奖","韶关市",{"$f":"VLOOKUP(B1745,'[1]002'!B:M,7,0)","v":"黄惠玲"},{"$f":"VLOOKUP(B1745,'[1]002'!B:M,8,0)","v":"新丰县第四幼儿园"},{"$f":"VLOOKUP(B1745,'[1]002'!B:M,11,0)","v":"丘慧敏"},{"$f":"VLOOKUP(B1745,'[1]002'!B:M,12,0)","v":"新丰县第四幼儿园"}]
[1744,"P302019089055","蝌蚪变青蛙","幼教组","课件","三等奖","韶关市",{"$f":"VLOOKUP(B1746,'[1]002'!B:M,7,0)","v":"李丹丹"},{"$f":"VLOOKUP(B1746,'[1]002'!B:M,8,0)","v":"新丰县第四幼儿园"},{"$f":"VLOOKUP(B1746,'[1]002'!B:M,11,0)","v":"冯锦英"},{"$f":"VLOOKUP(B1746,'[1]002'!B:M,12,0)","v":"新丰县第四幼儿园"}]
[1745,"P302019089628","买年货过新年","幼教组","课件","三等奖","韶关市",{"$f":"VLOOKUP(B1747,'[1]002'!B:M,7,0)","v":"陈文燕"},{"$f":"VLOOKUP(B1747,'[1]002'!B:M,8,0)","v":"新丰县第一幼儿园"},{"$f":"VLOOKUP(B1747,'[1]002'!B:M,11,0)","v":"-"},{"$f":"VLOOKUP(B1747,'[1]002'!B:M,12,0)","v":"-"}]
[1746,"P302019088972","小壁虎借尾巴","幼教组","课件","三等奖","韶关市",{"$f":"VLOOKUP(B1748,'[1]002'!B:M,7,0)","v":"丘敏娜"},{"$f":"VLOOKUP(B1748,'[1]002'!B:M,8,0)","v":"新丰县第四幼儿园"},{"$f":"VLOOKUP(B1748,'[1]002'!B:M,11,0)","v":"李秀娟"},{"$f":"VLOOKUP(B1748,'[1]002'!B:M,12,0)","v":"新丰县第四幼儿园"}]
[1747,"P302019093301","益虫和害虫","幼教组","课件","三等奖","河源市",{"$f":"VLOOKUP(B1749,'[1]002'!B:M,7,0)","v":"梁雪萍"},{"$f":"VLOOKUP(B1749,'[1]002'!B:M,8,0)","v":"河源市直属机关幼儿园"},{"$f":"VLOOKUP(B1749,'[1]002'!B:M,11,0)","v":"李频"},{"$f":"VLOOKUP(B1749,'[1]002'!B:M,12,0)","v":"河源市直属机关幼儿园"}]
[1748,"P302019093305","保护牙齿","幼教组","课件","三等奖","河源市",{"$f":"VLOOKUP(B1750,'[1]002'!B:M,7,0)","v":"唐丽添"},{"$f":"VLOOKUP(B1750,'[1]002'!B:M,8,0)","v":"县直属机关幼儿园"},{"$f":"VLOOKUP(B1750,'[1]002'!B:M,11,0)","v":"赖欢欢"},{"$f":"VLOOKUP(B1750,'[1]002'!B:M,12,0)","v":"县直属机关幼儿园"}]
[1749,"P302019092455","保护牙齿","幼教组","课件","三等奖","东莞市",{"$f":"VLOOKUP(B1751,'[1]002'!B:M,7,0)","v":"甘斌"},{"$f":"VLOOKUP(B1751,'[1]002'!B:M,8,0)","v":"东莞市塘厦镇中心幼儿园"},{"$f":"VLOOKUP(B1751,'[1]002'!B:M,11,0)","v":"李丽云"},{"$f":"VLOOKUP(B1751,'[1]002'!B:M,12,0)","v":"东莞市塘厦镇中心幼儿园"}]
[1750,"P302019092458","如何养成良好卫生饮食习惯","幼教组","课件","三等奖","东莞市",{"$f":"VLOOKUP(B1752,'[1]002'!B:M,7,0)","v":"何焕贞"},{"$f":"VLOOKUP(B1752,'[1]002'!B:M,8,0)","v":"东莞市石碣镇中心幼儿园"},{"$f":"VLOOKUP(B1752,'[1]002'!B:M,11,0)","v":"-"},{"$f":"VLOOKUP(B1752,'[1]002'!B:M,12,0)","v":"-"}]
[1751,"P302019092459","金鱼","幼教组","课件","三等奖","东莞市",{"$f":"VLOOKUP(B1753,'[1]002'!B:M,7,0)","v":"钟凰玮"},{"$f":"VLOOKUP(B1753,'[1]002'!B:M,8,0)","v":"东莞市樟木头南天理想幼儿园"},{"$f":"VLOOKUP(B1753,'[1]002'!B:M,11,0)","v":"温春风"},{"$f":"VLOOKUP(B1753,'[1]002'!B:M,12,0)","v":"东莞市樟木头南天理想幼儿园"}]
[1752,"P302019092452","森林英雄","幼教组","课件","三等奖","东莞市",{"$f":"VLOOKUP(B1754,'[1]002'!B:M,7,0)","v":"曾晓淋"},{"$f":"VLOOKUP(B1754,'[1]002'!B:M,8,0)","v":"东莞市樟木头华仁幼儿园"},{"$f":"VLOOKUP(B1754,'[1]002'!B:M,11,0)","v":"-"},{"$f":"VLOOKUP(B1754,'[1]002'!B:M,12,0)","v":"-"}]
[1753,"P302019092351","我会保护自己","幼教组","课件","三等奖","江门市",{"$f":"VLOOKUP(B1755,'[1]002'!B:M,7,0)","v":"梁清梅"},{"$f":"VLOOKUP(B1755,'[1]002'!B:M,8,0)","v":"江门市蓓蕾幼儿园"},{"$f":"VLOOKUP(B1755,'[1]002'!B:M,11,0)","v":"黄洁敏"},{"$f":"VLOOKUP(B1755,'[1]002'!B:M,12,0)","v":"蓓蕾幼儿园"}]
[1754,"P302019092065","认识时钟","幼教组","课件","三等奖","江门市",{"$f":"VLOOKUP(B1756,'[1]002'!B:M,7,0)","v":"冯小红"},{"$f":"VLOOKUP(B1756,'[1]002'!B:M,8,0)","v":"鹤山市建委幼儿园"},{"$f":"VLOOKUP(B1756,'[1]002'!B:M,11,0)","v":"-"},{"$f":"VLOOKUP(B1756,'[1]002'!B:M,12,0)","v":"-"}]
[1755,"P302019092018","安全教育","幼教组","课件","三等奖","江门市",{"$f":"VLOOKUP(B1757,'[1]002'!B:M,7,0)","v":"洪慧星"},{"$f":"VLOOKUP(B1757,'[1]002'!B:M,8,0)","v":"开平市三埠新昌幼儿园"},{"$f":"VLOOKUP(B1757,'[1]002'!B:M,11,0)","v":"-"},{"$f":"VLOOKUP(B1757,'[1]002'!B:M,12,0)","v":"-"}]
[1756,"P302019092068","中班安全教育消防安全在心中","幼教组","课件","三等奖","江门市",{"$f":"VLOOKUP(B1758,'[1]002'!B:M,7,0)","v":"余碧莹"},{"$f":"VLOOKUP(B1758,'[1]002'!B:M,8,0)","v":"鹤山市财贸幼儿园"},{"$f":"VLOOKUP(B1758,'[1]002'!B:M,11,0)","v":"-"},{"$f":"VLOOKUP(B1758,'[1]002'!B:M,12,0)","v":"-"}]
[1757,"P302019092070","衣服的小秘密","幼教组","课件","三等奖","江门市",{"$f":"VLOOKUP(B1759,'[1]002'!B:M,7,0)","v":"廖瑞明"},{"$f":"VLOOKUP(B1759,'[1]002'!B:M,8,0)","v":"鹤山市建委幼儿园"},{"$f":"VLOOKUP(B1759,'[1]002'!B:M,11,0)","v":"-"},{"$f":"VLOOKUP(B1759,'[1]002'!B:M,12,0)","v":"-"}]
[1758,"P302019092869","小红帽","幼教组","课件","三等奖","湛江市",{"$f":"VLOOKUP(B1760,'[1]002'!B:M,7,0)","v":"邓秋华"},{"$f":"VLOOKUP(B1760,'[1]002'!B:M,8,0)","v":"徐闻县第一幼儿园"},{"$f":"VLOOKUP(B1760,'[1]002'!B:M,11,0)","v":"-"},{"$f":"VLOOKUP(B1760,'[1]002'!B:M,12,0)","v":"-"}]
[1759,"P302019091170","认识时间","幼教组","课件","三等奖","肇庆市",{"$f":"VLOOKUP(B1761,'[1]002'!B:M,7,0)","v":"金世英"},{"$f":"VLOOKUP(B1761,'[1]002'!B:M,8,0)","v":"肇庆市直属机关第一幼儿园"},{"$f":"VLOOKUP(B1761,'[1]002'!B:M,11,0)","v":"-"},{"$f":"VLOOKUP(B1761,'[1]002'!B:M,12,0)","v":"-"}]
[1760,"P303019093073","会游的小鱼","幼教组","微课","三等奖","广州市",{"$f":"VLOOKUP(B1762,'[1]002'!B:M,7,0)","v":"戴灵"},{"$f":"VLOOKUP(B1762,'[1]002'!B:M,8,0)","v":"广州市荔湾区协和幼儿园"},{"$f":"VLOOKUP(B1762,'[1]002'!B:M,11,0)","v":"关敏娟"},{"$f":"VLOOKUP(B1762,'[1]002'!B:M,12,0)","v":"广州市荔湾区协和幼儿园"}]
[1761,"P303019091865","樱花","幼教组","微课","三等奖","汕头市",{"$f":"VLOOKUP(B1763,'[1]002'!B:M,7,0)","v":"蔡晓欢"},{"$f":"VLOOKUP(B1763,'[1]002'!B:M,8,0)","v":"汕头市中山第二幼儿园"},{"$f":"VLOOKUP(B1763,'[1]002'!B:M,11,0)","v":"-"},{"$f":"VLOOKUP(B1763,'[1]002'!B:M,12,0)","v":"-"}]
[1762,"P303019091869","我会叠衣服","幼教组","微课","三等奖","汕头市",{"$f":"VLOOKUP(B1764,'[1]002'!B:M,7,0)","v":"张洁琳"},{"$f":"VLOOKUP(B1764,'[1]002'!B:M,8,0)","v":"汕头市中山幼儿园"},{"$f":"VLOOKUP(B1764,'[1]002'!B:M,11,0)","v":"-"},{"$f":"VLOOKUP(B1764,'[1]002'!B:M,12,0)","v":"-"}]
[1763,"P303019091107","剪纸微课小兔","幼教组","微课","三等奖","佛山市",{"$f":"VLOOKUP(B1765,'[1]002'!B:M,7,0)","v":"曹佳萍"},{"$f":"VLOOKUP(B1765,'[1]002'!B:M,8,0)","v":"禅城区张槎中心幼儿园"},{"$f":"VLOOKUP(B1765,'[1]002'!B:M,11,0)","v":"-"},{"$f":"VLOOKUP(B1765,'[1]002'!B:M,12,0)","v":"-"}]
[1764,"P303019091092","你能看到声音吗","幼教组","微课","三等奖","佛山市",{"$f":"VLOOKUP(B1766,'[1]002'!B:M,7,0)","v":"张婉华"},{"$f":"VLOOKUP(B1766,'[1]002'!B:M,8,0)","v":"佛山市南海区狮山官窑中心幼儿园"},{"$f":"VLOOKUP(B1766,'[1]002'!B:M,11,0)","v":"陈子淇"},{"$f":"VLOOKUP(B1766,'[1]002'!B:M,12,0)","v":"佛山市南海区狮山官窑中心幼儿园"}]
[1765,"P303019091120","影子的秘密","幼教组","微课","三等奖","佛山市",{"$f":"VLOOKUP(B1767,'[1]002'!B:M,7,0)","v":"黎芷珊"},{"$f":"VLOOKUP(B1767,'[1]002'!B:M,8,0)","v":"佛山市三水区中心幼儿园"},{"$f":"VLOOKUP(B1767,'[1]002'!B:M,11,0)","v":"甘婉红"},{"$f":"VLOOKUP(B1767,'[1]002'!B:M,12,0)","v":"佛山市三水区中心幼儿园"}]
[1766,"P303019091088","垃圾分类小达人","幼教组","微课","三等奖","佛山市",{"$f":"VLOOKUP(B1768,'[1]002'!B:M,7,0)","v":"梁燕洲"},{"$f":"VLOOKUP(B1768,'[1]002'!B:M,8,0)","v":"禅城区卡尔加里幼儿园"},{"$f":"VLOOKUP(B1768,'[1]002'!B:M,11,0)","v":"-"},{"$f":"VLOOKUP(B1768,'[1]002'!B:M,12,0)","v":"-"}]
[1767,"P303019091103","3D打印面具","幼教组","微课","三等奖","佛山市",{"$f":"VLOOKUP(B1769,'[1]002'!B:M,7,0)","v":"劳碧华"},{"$f":"VLOOKUP(B1769,'[1]002'!B:M,8,0)","v":"佛山市南海区丹灶金沙幼儿园"},{"$f":"VLOOKUP(B1769,'[1]002'!B:M,11,0)","v":"余少琦"},{"$f":"VLOOKUP(B1769,'[1]002'!B:M,12,0)","v":"佛山市南海区丹灶金沙幼儿园"}]
[1768,"P303019091108","桃心发夹","幼教组","微课","三等奖","佛山市",{"$f":"VLOOKUP(B1770,'[1]002'!B:M,7,0)","v":"梁敏娜"},{"$f":"VLOOKUP(B1770,'[1]002'!B:M,8,0)","v":"禅城区机关第一幼儿园"},{"$f":"VLOOKUP(B1770,'[1]002'!B:M,11,0)","v":"-"},{"$f":"VLOOKUP(B1770,'[1]002'!B:M,12,0)","v":"-"}]
[1769,"P303019091083","有趣的表情","幼教组","微课","三等奖","佛山市",{"$f":"VLOOKUP(B1771,'[1]002'!B:M,7,0)","v":"林里梨"},{"$f":"VLOOKUP(B1771,'[1]002'!B:M,8,0)","v":"佛山市高明区机关幼儿园"},{"$f":"VLOOKUP(B1771,'[1]002'!B:M,11,0)","v":"-"},{"$f":"VLOOKUP(B1771,'[1]002'!B:M,12,0)","v":"-"}]
[1770,"P303019091114","职业大不同","幼教组","微课","三等奖","佛山市",{"$f":"VLOOKUP(B1772,'[1]002'!B:M,7,0)","v":"吴嘉琪"},{"$f":"VLOOKUP(B1772,'[1]002'!B:M,8,0)","v":"佛山市顺德区北滘镇雅正幼儿园"},{"$f":"VLOOKUP(B1772,'[1]002'!B:M,11,0)","v":"-"},{"$f":"VLOOKUP(B1772,'[1]002'!B:M,12,0)","v":"-"}]
[1771,"P303019091093","讲卫生的好宝宝","幼教组","微课","三等奖","佛山市",{"$f":"VLOOKUP(B1773,'[1]002'!B:M,7,0)","v":"杨就心"},{"$f":"VLOOKUP(B1773,'[1]002'!B:M,8,0)","v":"佛山市南海区丹灶金沙幼儿园"},{"$f":"VLOOKUP(B1773,'[1]002'!B:M,11,0)","v":"梁彩云"},{"$f":"VLOOKUP(B1773,'[1]002'!B:M,12,0)","v":"佛山市南海区丹灶金沙幼儿园"}]
[1772,"P303019091113","和手机交朋友","幼教组","微课","三等奖","佛山市",{"$f":"VLOOKUP(B1774,'[1]002'!B:M,7,0)","v":"肖平平"},{"$f":"VLOOKUP(B1774,'[1]002'!B:M,8,0)","v":"佛山市顺德区北滘镇雅正幼儿园"},{"$f":"VLOOKUP(B1774,'[1]002'!B:M,11,0)","v":"麦梓朋"},{"$f":"VLOOKUP(B1774,'[1]002'!B:M,12,0)","v":"佛山市顺德区北滘碧江小学"}]
[1773,"P303019091122","防拐安全教育","幼教组","微课","三等奖","佛山市",{"$f":"VLOOKUP(B1775,'[1]002'!B:M,7,0)","v":"刘聪兰"},{"$f":"VLOOKUP(B1775,'[1]002'!B:M,8,0)","v":"佛山市三水区中心幼儿园"},{"$f":"VLOOKUP(B1775,'[1]002'!B:M,11,0)","v":"华建茜"},{"$f":"VLOOKUP(B1775,'[1]002'!B:M,12,0)","v":"佛山市三水区中心幼儿园"}]
[1774,"P303019091123","图形宝宝逛超市","幼教组","微课","三等奖","佛山市",{"$f":"VLOOKUP(B1776,'[1]002'!B:M,7,0)","v":"王洁莹"},{"$f":"VLOOKUP(B1776,'[1]002'!B:M,8,0)","v":"佛山市三水区中心幼儿园"},{"$f":"VLOOKUP(B1776,'[1]002'!B:M,11,0)","v":"钟晓芬"},{"$f":"VLOOKUP(B1776,'[1]002'!B:M,12,0)","v":"佛山市三水区中心幼儿园"}]
[1775,"P303019089692","薰衣草","幼教组","微课","三等奖","韶关市",{"$f":"VLOOKUP(B1777,'[1]002'!B:M,7,0)","v":"蒋伟玲"},{"$f":"VLOOKUP(B1777,'[1]002'!B:M,8,0)","v":"仁化县董塘镇中心幼儿园"},{"$f":"VLOOKUP(B1777,'[1]002'!B:M,11,0)","v":"-"},{"$f":"VLOOKUP(B1777,'[1]002'!B:M,12,0)","v":"-"}]
[1776,"P303019089575","祖国我爱你","幼教组","微课","三等奖","韶关市",{"$f":"VLOOKUP(B1778,'[1]002'!B:M,7,0)","v":"吴茵"},{"$f":"VLOOKUP(B1778,'[1]002'!B:M,8,0)","v":"韶关市浈江区建国幼儿园"},{"$f":"VLOOKUP(B1778,'[1]002'!B:M,11,0)","v":"-"},{"$f":"VLOOKUP(B1778,'[1]002'!B:M,12,0)","v":"-"}]
[1777,"P303019088188","疯狂的头发","幼教组","微课","三等奖","韶关市",{"$f":"VLOOKUP(B1779,'[1]002'!B:M,7,0)","v":"陈亮"},{"$f":"VLOOKUP(B1779,'[1]002'!B:M,8,0)","v":"韶关市浈江区花坪镇中心幼儿园"},{"$f":"VLOOKUP(B1779,'[1]002'!B:M,11,0)","v":"-"},{"$f":"VLOOKUP(B1779,'[1]002'!B:M,12,0)","v":"-"}]
[1778,"P303419089961","蚕的一生","幼教组","微课","三等奖","韶关市",{"$f":"VLOOKUP(B1780,'[1]002'!B:M,7,0)","v":"沈华芬"},{"$f":"VLOOKUP(B1780,'[1]002'!B:M,8,0)","v":"韶关市曲江区第一幼儿园"},{"$f":"VLOOKUP(B1780,'[1]002'!B:M,11,0)","v":"李净"},{"$f":"VLOOKUP(B1780,'[1]002'!B:M,12,0)","v":"韶关市曲江区第一幼儿园"}]
[1779,"P303019093324","吹画梅花","幼教组","微课","三等奖","河源市",{"$f":"VLOOKUP(B1781,'[1]002'!B:M,7,0)","v":"李立欢"},{"$f":"VLOOKUP(B1781,'[1]002'!B:M,8,0)","v":"东源县第一幼儿园"},{"$f":"VLOOKUP(B1781,'[1]002'!B:M,11,0)","v":"-"},{"$f":"VLOOKUP(B1781,'[1]002'!B:M,12,0)","v":"-"}]
[1780,"P303019093322","交通标志","幼教组","微课","三等奖","河源市",{"$f":"VLOOKUP(B1782,'[1]002'!B:M,7,0)","v":"罗婷"},{"$f":"VLOOKUP(B1782,'[1]002'!B:M,8,0)","v":"河源市直属机关幼儿园"},{"$f":"VLOOKUP(B1782,'[1]002'!B:M,11,0)","v":"陈都"},{"$f":"VLOOKUP(B1782,'[1]002'!B:M,12,0)","v":"河源市直属机关幼儿园"}]
[1781,"P303019093323","细胞流体画","幼教组","微课","三等奖","河源市",{"$f":"VLOOKUP(B1783,'[1]002'!B:M,7,0)","v":"林丽君"},{"$f":"VLOOKUP(B1783,'[1]002'!B:M,8,0)","v":"河源市直属机关幼儿园"},{"$f":"VLOOKUP(B1783,'[1]002'!B:M,11,0)","v":"邹少芬"},{"$f":"VLOOKUP(B1783,'[1]002'!B:M,12,0)","v":"河源市直属机关幼儿园"}]
[1782,"P303019092254","找规律","幼教组","微课","三等奖","惠州市",{"$f":"VLOOKUP(B1784,'[1]002'!B:M,7,0)","v":"罗婷婷"},{"$f":"VLOOKUP(B1784,'[1]002'!B:M,8,0)","v":"惠州市光正实验学校"},{"$f":"VLOOKUP(B1784,'[1]002'!B:M,11,0)","v":"-"},{"$f":"VLOOKUP(B1784,'[1]002'!B:M,12,0)","v":"-"}]
[1783,"P303019092130","火山爆发小实验","幼教组","微课","三等奖","惠州市",{"$f":"VLOOKUP(B1785,'[1]002'!B:M,7,0)","v":"魏怡霞"},{"$f":"VLOOKUP(B1785,'[1]002'!B:M,8,0)","v":"惠州大亚湾经济技术开发区西区中心幼儿园"},{"$f":"VLOOKUP(B1785,'[1]002'!B:M,11,0)","v":"-"},{"$f":"VLOOKUP(B1785,'[1]002'!B:M,12,0)","v":"-"}]
[1784,"P303019092253","认识符号","幼教组","微课","三等奖","惠州市",{"$f":"VLOOKUP(B1786,'[1]002'!B:M,7,0)","v":"袁木英"},{"$f":"VLOOKUP(B1786,'[1]002'!B:M,8,0)","v":"惠州市光正实验学校"},{"$f":"VLOOKUP(B1786,'[1]002'!B:M,11,0)","v":"-"},{"$f":"VLOOKUP(B1786,'[1]002'!B:M,12,0)","v":"-"}]
[1785,"P303019092554","会跳舞的泡泡","幼教组","微课","三等奖","东莞市",{"$f":"VLOOKUP(B1787,'[1]002'!B:M,7,0)","v":"赖余良"},{"$f":"VLOOKUP(B1787,'[1]002'!B:M,8,0)","v":"东莞市樟木头凯斯幼儿园"},{"$f":"VLOOKUP(B1787,'[1]002'!B:M,11,0)","v":"-"},{"$f":"VLOOKUP(B1787,'[1]002'!B:M,12,0)","v":"-"}]
[1786,"P303019092545","神奇的手电筒","幼教组","微课","三等奖","东莞市",{"$f":"VLOOKUP(B1788,'[1]002'!B:M,7,0)","v":"谢路缘"},{"$f":"VLOOKUP(B1788,'[1]002'!B:M,8,0)","v":"东莞市大岭山镇实验幼儿园"},{"$f":"VLOOKUP(B1788,'[1]002'!B:M,11,0)","v":"-"},{"$f":"VLOOKUP(B1788,'[1]002'!B:M,12,0)","v":"-"}]
[1787,"P303019092541","樟城麒麟说","幼教组","微课","三等奖","东莞市",{"$f":"VLOOKUP(B1789,'[1]002'!B:M,7,0)","v":"帅梦"},{"$f":"VLOOKUP(B1789,'[1]002'!B:M,8,0)","v":"东莞市樟木头镇实验幼儿园"},{"$f":"VLOOKUP(B1789,'[1]002'!B:M,11,0)","v":"龚莉"},{"$f":"VLOOKUP(B1789,'[1]002'!B:M,12,0)","v":"东莞市樟木头镇实验幼儿园"}]
[1788,"P303019092551","我不挑食","幼教组","微课","三等奖","东莞市",{"$f":"VLOOKUP(B1790,'[1]002'!B:M,7,0)","v":"林运媚"},{"$f":"VLOOKUP(B1790,'[1]002'!B:M,8,0)","v":"东莞市大朗翔凤幼儿园"},{"$f":"VLOOKUP(B1790,'[1]002'!B:M,11,0)","v":"-"},{"$f":"VLOOKUP(B1790,'[1]002'!B:M,12,0)","v":"-"}]
[1789,"P303019092546","漂亮的窗花","幼教组","微课","三等奖","东莞市",{"$f":"VLOOKUP(B1791,'[1]002'!B:M,7,0)","v":"陈罗亚"},{"$f":"VLOOKUP(B1791,'[1]002'!B:M,8,0)","v":"东莞市大岭山镇中心幼儿园"},{"$f":"VLOOKUP(B1791,'[1]002'!B:M,11,0)","v":"-"},{"$f":"VLOOKUP(B1791,'[1]002'!B:M,12,0)","v":"-"}]
[1790,"P303019092331","认识5以内的序数","幼教组","微课","三等奖","江门市",{"$f":"VLOOKUP(B1792,'[1]002'!B:M,7,0)","v":"谭艳雅"},{"$f":"VLOOKUP(B1792,'[1]002'!B:M,8,0)","v":"蓓蕾幼儿园"},{"$f":"VLOOKUP(B1792,'[1]002'!B:M,11,0)","v":"-"},{"$f":"VLOOKUP(B1792,'[1]002'!B:M,12,0)","v":"-"}]
[1791,"P303019091338","垃圾分类，我知道","幼教组","微课","三等奖","茂名市",{"$f":"VLOOKUP(B1793,'[1]002'!B:M,7,0)","v":"李欣玲"},{"$f":"VLOOKUP(B1793,'[1]002'!B:M,8,0)","v":"茂名市第二幼儿园"},{"$f":"VLOOKUP(B1793,'[1]002'!B:M,11,0)","v":"-"},{"$f":"VLOOKUP(B1793,'[1]002'!B:M,12,0)","v":"-"}]
[1792,"P303019091138","小水滴旅行记","幼教组","微课","三等奖","肇庆市",{"$f":"VLOOKUP(B1794,'[1]002'!B:M,7,0)","v":"林玛丽"},{"$f":"VLOOKUP(B1794,'[1]002'!B:M,8,0)","v":"肇庆市直属机关第一幼儿园"},{"$f":"VLOOKUP(B1794,'[1]002'!B:M,11,0)","v":"-"},{"$f":"VLOOKUP(B1794,'[1]002'!B:M,12,0)","v":"-"}]
[1793,"P303019090283","找尾巴","幼教组","微课","三等奖","肇庆市",{"$f":"VLOOKUP(B1795,'[1]002'!B:M,7,0)","v":"黄玉艳"},{"$f":"VLOOKUP(B1795,'[1]002'!B:M,8,0)","v":"肇庆市高要区明珠华之光幼儿园"},{"$f":"VLOOKUP(B1795,'[1]002'!B:M,11,0)","v":"-"},{"$f":"VLOOKUP(B1795,'[1]002'!B:M,12,0)","v":"-"}]
[1794,"P303019091141","幼儿园大班数学活动自然测量","幼教组","微课","三等奖","肇庆市",{"$f":"VLOOKUP(B1796,'[1]002'!B:M,7,0)","v":"李燕好"},{"$f":"VLOOKUP(B1796,'[1]002'!B:M,8,0)","v":"肇庆市直属机关第二幼儿园"},{"$f":"VLOOKUP(B1796,'[1]002'!B:M,11,0)","v":"刘润枝"},{"$f":"VLOOKUP(B1796,'[1]002'!B:M,12,0)","v":"肇庆市直属机关第二幼儿园"}]
[1795,"P303019091155","幼儿园中班语言活动纸箱妙妙妙","幼教组","微课","三等奖","肇庆市",{"$f":"VLOOKUP(B1797,'[1]002'!B:M,7,0)","v":"陈书耘"},{"$f":"VLOOKUP(B1797,'[1]002'!B:M,8,0)","v":"肇庆市直属机关第二幼儿园"},{"$f":"VLOOKUP(B1797,'[1]002'!B:M,11,0)","v":"王威"},{"$f":"VLOOKUP(B1797,'[1]002'!B:M,12,0)","v":"肇庆市直属机关第二幼儿园"}]
[1796,"P303019091164","弟子规《凡是人  皆需爱》","幼教组","微课","三等奖","肇庆市",{"$f":"VLOOKUP(B1798,'[1]002'!B:M,7,0)","v":"韩克静"},{"$f":"VLOOKUP(B1798,'[1]002'!B:M,8,0)","v":"肇庆市直属机关第二幼儿园"},{"$f":"VLOOKUP(B1798,'[1]002'!B:M,11,0)","v":"吴迪"},{"$f":"VLOOKUP(B1798,'[1]002'!B:M,12,0)","v":"肇庆市直属机关第二幼儿园"}]
[1797,"P303019091160","幼儿园大班健康教育活动吃安全健康的食品","幼教组","微课","三等奖","肇庆市",{"$f":"VLOOKUP(B1799,'[1]002'!B:M,7,0)","v":"林妮"},{"$f":"VLOOKUP(B1799,'[1]002'!B:M,8,0)","v":"肇庆市直属机关第二幼儿园"},{"$f":"VLOOKUP(B1799,'[1]002'!B:M,11,0)","v":"邓颖"},{"$f":"VLOOKUP(B1799,'[1]002'!B:M,12,0)","v":"肇庆市直属机关第二幼儿园"}]
[1798,"P303019091147","幼儿园中班数学活动形状王国","幼教组","微课","三等奖","肇庆市",{"$f":"VLOOKUP(B1800,'[1]002'!B:M,7,0)","v":"陈玉琴"},{"$f":"VLOOKUP(B1800,'[1]002'!B:M,8,0)","v":"肇庆市外贸幼儿园"},{"$f":"VLOOKUP(B1800,'[1]002'!B:M,11,0)","v":"-"},{"$f":"VLOOKUP(B1800,'[1]002'!B:M,12,0)","v":"-"}]
[1799,"P303019091154","漂亮的五彩鱼","幼教组","微课","三等奖","肇庆市",{"$f":"VLOOKUP(B1801,'[1]002'!B:M,7,0)","v":"区靖妍"},{"$f":"VLOOKUP(B1801,'[1]002'!B:M,8,0)","v":"肇庆市外贸幼儿园"},{"$f":"VLOOKUP(B1801,'[1]002'!B:M,11,0)","v":"-"},{"$f":"VLOOKUP(B1801,'[1]002'!B:M,12,0)","v":"-"}]
[1800,"P303019091162","科学活动美丽的蝴蝶","幼教组","微课","三等奖","肇庆市",{"$f":"VLOOKUP(B1802,'[1]002'!B:M,7,0)","v":"何靖"},{"$f":"VLOOKUP(B1802,'[1]002'!B:M,8,0)","v":"肇庆市直属机关第一幼儿园"},{"$f":"VLOOKUP(B1802,'[1]002'!B:M,11,0)","v":"-"},{"$f":"VLOOKUP(B1802,'[1]002'!B:M,12,0)","v":"-"}]
[1801,"P303019091143","大班科学活动四色桶","幼教组","微课","三等奖","肇庆市",{"$f":"VLOOKUP(B1803,'[1]002'!B:M,7,0)","v":"林永红"},{"$f":"VLOOKUP(B1803,'[1]002'!B:M,8,0)","v":"肇庆市直属机关第二幼儿园"},{"$f":"VLOOKUP(B1803,'[1]002'!B:M,11,0)","v":"杨桂"},{"$f":"VLOOKUP(B1803,'[1]002'!B:M,12,0)","v":"肇庆市直属机关第二幼儿园"}]
[1802,"P303019091158","小班科学活动美丽的动物","幼教组","微课","三等奖","肇庆市",{"$f":"VLOOKUP(B1804,'[1]002'!B:M,7,0)","v":"张玲玲"},{"$f":"VLOOKUP(B1804,'[1]002'!B:M,8,0)","v":"肇庆市直属机关第二幼儿园"},{"$f":"VLOOKUP(B1804,'[1]002'!B:M,11,0)","v":"王杏玲"},{"$f":"VLOOKUP(B1804,'[1]002'!B:M,12,0)","v":"肇庆市直属机关第二幼儿园"}]
[1803,"P303019090318","小树叶找妈妈","幼教组","微课","三等奖","潮州市",{"$f":"VLOOKUP(B1805,'[1]002'!B:M,7,0)","v":"余晓静"},{"$f":"VLOOKUP(B1805,'[1]002'!B:M,8,0)","v":"饶平县中心幼儿园"},{"$f":"VLOOKUP(B1805,'[1]002'!B:M,11,0)","v":"-"},{"$f":"VLOOKUP(B1805,'[1]002'!B:M,12,0)","v":"-"}]
[1804,"P305019086079","爱护母亲河净塑护梅江","幼教组","信息技术创新教学案例","三等奖","梅州市",{"$f":"VLOOKUP(B1806,'[1]002'!B:M,7,0)","v":"王玉燕"},{"$f":"VLOOKUP(B1806,'[1]002'!B:M,8,0)","v":"梅江区实验幼儿园"},{"$f":"VLOOKUP(B1806,'[1]002'!B:M,11,0)","v":"-"},{"$f":"VLOOKUP(B1806,'[1]002'!B:M,12,0)","v":"-"}]
[1805,"P304019093055","乐在抱团中","幼教组","新媒体新技术教学应用课例","三等奖",{"$f":"RIGHT(LEFT(VLOOKUP(B1807,'[1]002'!B:M,3,0),7),3)","v":"广州市"},{"$f":"VLOOKUP(B1807,'[1]002'!B:M,7,0)","v":"郑旖旎"},{"$f":"VLOOKUP(B1807,'[1]002'!B:M,8,0)","v":"广州市荔湾区协和幼儿园"},{"$f":"VLOOKUP(B1807,'[1]002'!B:M,11,0)","v":"卢燕坤"},{"$f":"VLOOKUP(B1807,'[1]002'!B:M,12,0)","v":"广州市荔湾区协和幼儿园"}]
[1806,"P304019093056","玩转水的表面张力","幼教组","新媒体新技术教学应用课例","三等奖",{"$f":"RIGHT(LEFT(VLOOKUP(B1808,'[1]002'!B:M,3,0),7),3)","v":"广州市"},{"$f":"VLOOKUP(B1808,'[1]002'!B:M,7,0)","v":"郑永梅"},{"$f":"VLOOKUP(B1808,'[1]002'!B:M,8,0)","v":"广州市番禺区直属机关幼儿园"},{"$f":"VLOOKUP(B1808,'[1]002'!B:M,11,0)","v":"-"},{"$f":"VLOOKUP(B1808,'[1]002'!B:M,12,0)","v":"-"}]
[1807,"P304019092766","蜘蛛和糖果店","幼教组","新媒体新技术教学应用课例","三等奖",{"$f":"RIGHT(LEFT(VLOOKUP(B1809,'[1]002'!B:M,3,0),7),3)","v":"深圳市"},{"$f":"VLOOKUP(B1809,'[1]002'!B:M,7,0)","v":"刘思佳"},{"$f":"VLOOKUP(B1809,'[1]002'!B:M,8,0)","v":"深圳市大鹏新区大鹏实验幼儿园"},{"$f":"VLOOKUP(B1809,'[1]002'!B:M,11,0)","v":"-"},{"$f":"VLOOKUP(B1809,'[1]002'!B:M,12,0)","v":"-"}]
[1808,"P304019091502","5以内的点数","幼教组","新媒体新技术教学应用课例","三等奖",{"$f":"RIGHT(LEFT(VLOOKUP(B1810,'[1]002'!B:M,3,0),7),3)","v":"佛山市"},{"$f":"VLOOKUP(B1810,'[1]002'!B:M,7,0)","v":"林敏仪"},{"$f":"VLOOKUP(B1810,'[1]002'!B:M,8,0)","v":"佛山市南海区丹灶金沙幼儿园"},{"$f":"VLOOKUP(B1810,'[1]002'!B:M,11,0)","v":"邹高薇"},{"$f":"VLOOKUP(B1810,'[1]002'!B:M,12,0)","v":"佛山市南海区丹灶金沙幼儿园"}]
[1809,"P304019091500","垃圾分一分家园美十分","幼教组","新媒体新技术教学应用课例","三等奖",{"$f":"RIGHT(LEFT(VLOOKUP(B1811,'[1]002'!B:M,3,0),7),3)","v":"佛山市"},{"$f":"VLOOKUP(B1811,'[1]002'!B:M,7,0)","v":"马伟萍"},{"$f":"VLOOKUP(B1811,'[1]002'!B:M,8,0)","v":"佛山市南海区桂城平洲中心幼儿园"},{"$f":"VLOOKUP(B1811,'[1]002'!B:M,11,0)","v":"张颖嫦"},{"$f":"VLOOKUP(B1811,'[1]002'!B:M,12,0)","v":"佛山市南海区桂城平洲中心幼儿园"}]
[1810,"P304019091514","狂欢的鳄鱼","幼教组","新媒体新技术教学应用课例","三等奖",{"$f":"RIGHT(LEFT(VLOOKUP(B1812,'[1]002'!B:M,3,0),7),3)","v":"佛山市"},{"$f":"VLOOKUP(B1812,'[1]002'!B:M,7,0)","v":"蔡兴梅"},{"$f":"VLOOKUP(B1812,'[1]002'!B:M,8,0)","v":"佛山市顺德区北滘君兰幼儿园"},{"$f":"VLOOKUP(B1812,'[1]002'!B:M,11,0)","v":"-"},{"$f":"VLOOKUP(B1812,'[1]002'!B:M,12,0)","v":"-"}]
[1811,"P304019091518","食物的旅行","幼教组","新媒体新技术教学应用课例","三等奖",{"$f":"RIGHT(LEFT(VLOOKUP(B1813,'[1]002'!B:M,3,0),7),3)","v":"佛山市"},{"$f":"VLOOKUP(B1813,'[1]002'!B:M,7,0)","v":"姚梦婷"},{"$f":"VLOOKUP(B1813,'[1]002'!B:M,8,0)","v":"佛山市顺德区乐从中心幼儿园"},{"$f":"VLOOKUP(B1813,'[1]002'!B:M,11,0)","v":"劳楚琦"},{"$f":"VLOOKUP(B1813,'[1]002'!B:M,12,0)","v":"佛山市顺德区乐从中心幼儿园"}]
[1812,"P304019089955","排一排","幼教组","新媒体新技术教学应用课例","三等奖",{"$f":"RIGHT(LEFT(VLOOKUP(B1814,'[1]002'!B:M,3,0),7),3)","v":"韶关市"},{"$f":"VLOOKUP(B1814,'[1]002'!B:M,7,0)","v":"沈华芬"},{"$f":"VLOOKUP(B1814,'[1]002'!B:M,8,0)","v":"韶关市曲江区第一幼儿园"},{"$f":"VLOOKUP(B1814,'[1]002'!B:M,11,0)","v":"-"},{"$f":"VLOOKUP(B1814,'[1]002'!B:M,12,0)","v":"-"}]
[1813,"P304019088810","光影魔术师","幼教组","新媒体新技术教学应用课例","三等奖",{"$f":"RIGHT(LEFT(VLOOKUP(B1815,'[1]002'!B:M,3,0),7),3)","v":"韶关市"},{"$f":"VLOOKUP(B1815,'[1]002'!B:M,7,0)","v":"唐慧琳"},{"$f":"VLOOKUP(B1815,'[1]002'!B:M,8,0)","v":"韶关市浈江区执信幼儿园"},{"$f":"VLOOKUP(B1815,'[1]002'!B:M,11,0)","v":"-"},{"$f":"VLOOKUP(B1815,'[1]002'!B:M,12,0)","v":"-"}]
[1814,"P304019093316","快乐的时钟","幼教组","新媒体新技术教学应用课例","三等奖",{"$f":"RIGHT(LEFT(VLOOKUP(B1816,'[1]002'!B:M,3,0),7),3)","v":"河源市"},{"$f":"VLOOKUP(B1816,'[1]002'!B:M,7,0)","v":"余惠群"},{"$f":"VLOOKUP(B1816,'[1]002'!B:M,8,0)","v":"河源市直属机关幼儿园"},{"$f":"VLOOKUP(B1816,'[1]002'!B:M,11,0)","v":"林丽君"},{"$f":"VLOOKUP(B1816,'[1]002'!B:M,12,0)","v":"河源市直属机关幼儿园"}]
[1815,"P304019093317","盐去哪里了","幼教组","新媒体新技术教学应用课例","三等奖",{"$f":"RIGHT(LEFT(VLOOKUP(B1817,'[1]002'!B:M,3,0),7),3)","v":"河源市"},{"$f":"VLOOKUP(B1817,'[1]002'!B:M,7,0)","v":"谢笑笑"},{"$f":"VLOOKUP(B1817,'[1]002'!B:M,8,0)","v":"和平县阳明中心幼儿园"},{"$f":"VLOOKUP(B1817,'[1]002'!B:M,11,0)","v":"徐卓群"},{"$f":"VLOOKUP(B1817,'[1]002'!B:M,12,0)","v":"和平县阳明中心幼儿园"}]
[1816,"P304019092333","有趣的排序","幼教组","新媒体新技术教学应用课例","三等奖",{"$f":"RIGHT(LEFT(VLOOKUP(B1818,'[1]002'!B:M,3,0),7),3)","v":"江门市"},{"$f":"VLOOKUP(B1818,'[1]002'!B:M,7,0)","v":"邓秀华"},{"$f":"VLOOKUP(B1818,'[1]002'!B:M,8,0)","v":"江门市蓓蕾幼儿园"},{"$f":"VLOOKUP(B1818,'[1]002'!B:M,11,0)","v":"-"},{"$f":"VLOOKUP(B1818,'[1]002'!B:M,12,0)","v":"-"}]
[1817,"P304019091388","过生日","幼教组","新媒体新技术教学应用课例","三等奖",{"$f":"RIGHT(LEFT(VLOOKUP(B1819,'[1]002'!B:M,3,0),7),3)","v":"茂名市"},{"$f":"VLOOKUP(B1819,'[1]002'!B:M,7,0)","v":"张雪"},{"$f":"VLOOKUP(B1819,'[1]002'!B:M,8,0)","v":"信宜市幼儿园"},{"$f":"VLOOKUP(B1819,'[1]002'!B:M,11,0)","v":"-"},{"$f":"VLOOKUP(B1819,'[1]002'!B:M,12,0)","v":"-"}]
[1818,"P307219090353","它们吸水吗","幼教组","新媒体新技术教学应用课例","三等奖","茂名市","江锡彪","茂名市第一幼儿园","-","-"]
[1819,"P304019091712","桃花朵朵开","幼教组","新媒体新技术教学应用课例","三等奖",{"$f":"RIGHT(LEFT(VLOOKUP(B1821,'[1]002'!B:M,3,0),7),3)","v":"清远市"},{"$f":"VLOOKUP(B1821,'[1]002'!B:M,7,0)","v":"罗先限"},{"$f":"VLOOKUP(B1821,'[1]002'!B:M,8,0)","v":"佛冈县建设路幼儿园"},{"$f":"VLOOKUP(B1821,'[1]002'!B:M,11,0)","v":"-"},{"$f":"VLOOKUP(B1821,'[1]002'!B:M,12,0)","v":"-"}]
[1820,"P304019091720","三个强盗","幼教组","新媒体新技术教学应用课例","三等奖",{"$f":"RIGHT(LEFT(VLOOKUP(B1822,'[1]002'!B:M,3,0),7),3)","v":"清远市"},{"$f":"VLOOKUP(B1822,'[1]002'!B:M,7,0)","v":"陈妹桂"},{"$f":"VLOOKUP(B1822,'[1]002'!B:M,8,0)","v":"阳山县碧桂园幼儿园"},{"$f":"VLOOKUP(B1822,'[1]002'!B:M,11,0)","v":"毛伟丽"},{"$f":"VLOOKUP(B1822,'[1]002'!B:M,12,0)","v":"阳山县碧桂园幼儿园"}]
[1821,"P304019091721","甜甜的棒棒糖","幼教组","新媒体新技术教学应用课例","三等奖",{"$f":"RIGHT(LEFT(VLOOKUP(B1823,'[1]002'!B:M,3,0),7),3)","v":"清远市"},{"$f":"VLOOKUP(B1823,'[1]002'!B:M,7,0)","v":"陈妹桂"},{"$f":"VLOOKUP(B1823,'[1]002'!B:M,8,0)","v":"阳山县碧桂园幼儿园"},{"$f":"VLOOKUP(B1823,'[1]002'!B:M,11,0)","v":"-"},{"$f":"VLOOKUP(B1823,'[1]002'!B:M,12,0)","v":"-"}]
[1822,"P302419092781","大小多少","特教组","课件","一等奖","深圳市",{"$f":"VLOOKUP(B1824,'[1]002'!B:M,7,0)","v":"陈方圆"},{"$f":"VLOOKUP(B1824,'[1]002'!B:M,8,0)","v":"深圳元平特殊教育学校"},{"$f":"VLOOKUP(B1824,'[1]002'!B:M,11,0)","v":"-"},{"$f":"VLOOKUP(B1824,'[1]002'!B:M,12,0)","v":"-"}]
[1823,"P302419092779","一寸虫测量   认识测量规则","特教组","课件","一等奖","深圳市",{"$f":"VLOOKUP(B1825,'[1]002'!B:M,7,0)","v":"吴姝静"},{"$f":"VLOOKUP(B1825,'[1]002'!B:M,8,0)","v":"深圳元平特殊教育学校"},{"$f":"VLOOKUP(B1825,'[1]002'!B:M,11,0)","v":"-"},{"$f":"VLOOKUP(B1825,'[1]002'!B:M,12,0)","v":"-"}]
[1824,"P302419084267","邮件合并","特教组","课件","一等奖","珠海市",{"$f":"VLOOKUP(B1826,'[1]002'!B:M,7,0)","v":"陈文"},{"$f":"VLOOKUP(B1826,'[1]002'!B:M,8,0)","v":"珠海市特殊教育学校"},{"$f":"VLOOKUP(B1826,'[1]002'!B:M,11,0)","v":"-"},{"$f":"VLOOKUP(B1826,'[1]002'!B:M,12,0)","v":"-"}]
[1825,"P302419079048","我会看医生","特教组","课件","一等奖","珠海市",{"$f":"VLOOKUP(B1827,'[1]002'!B:M,7,0)","v":"梁雯英"},{"$f":"VLOOKUP(B1827,'[1]002'!B:M,8,0)","v":"珠海市特殊教育学校"},{"$f":"VLOOKUP(B1827,'[1]002'!B:M,11,0)","v":"-"},{"$f":"VLOOKUP(B1827,'[1]002'!B:M,12,0)","v":"-"}]
[1826,"P302419091551","色彩世界","特教组","课件","一等奖","佛山市",{"$f":"VLOOKUP(B1828,'[1]002'!B:M,7,0)","v":"李建辉"},{"$f":"VLOOKUP(B1828,'[1]002'!B:M,8,0)","v":"佛山市南海区星辉学校"},{"$f":"VLOOKUP(B1828,'[1]002'!B:M,11,0)","v":"-"},{"$f":"VLOOKUP(B1828,'[1]002'!B:M,12,0)","v":"-"}]
[1827,"P302419092235","元素周期表","特教组","课件","一等奖","惠州市",{"$f":"VLOOKUP(B1829,'[1]002'!B:M,7,0)","v":"吴翠翠"},{"$f":"VLOOKUP(B1829,'[1]002'!B:M,8,0)","v":"市特殊学校"},{"$f":"VLOOKUP(B1829,'[1]002'!B:M,11,0)","v":"黄润梅"},{"$f":"VLOOKUP(B1829,'[1]002'!B:M,12,0)","v":"惠州中学"}]
[1828,"P302419092476","立定跳远","特教组","课件","一等奖","东莞市",{"$f":"VLOOKUP(B1830,'[1]002'!B:M,7,0)","v":"吴永锋"},{"$f":"VLOOKUP(B1830,'[1]002'!B:M,8,0)","v":"东莞启智学校"},{"$f":"VLOOKUP(B1830,'[1]002'!B:M,11,0)","v":"-"},{"$f":"VLOOKUP(B1830,'[1]002'!B:M,12,0)","v":"-"}]
[1829,"P302419086100","认识职业","特教组","课件","一等奖","中山市",{"$f":"VLOOKUP(B1831,'[1]002'!B:M,7,0)","v":"熊文娟"},{"$f":"VLOOKUP(B1831,'[1]002'!B:M,8,0)","v":"中山市特殊教育学校"},{"$f":"VLOOKUP(B1831,'[1]002'!B:M,11,0)","v":"-"},{"$f":"VLOOKUP(B1831,'[1]002'!B:M,12,0)","v":"-"}]
[1830,"P303419092744","质点振动与波的传播方向的关系","特教组","微课","一等奖","深圳市",{"$f":"VLOOKUP(B1832,'[1]002'!B:M,7,0)","v":"王太华"},{"$f":"VLOOKUP(B1832,'[1]002'!B:M,8,0)","v":"深圳元平特殊教育学校"},{"$f":"VLOOKUP(B1832,'[1]002'!B:M,11,0)","v":"-"},{"$f":"VLOOKUP(B1832,'[1]002'!B:M,12,0)","v":"-"}]
[1831,"P303419092231","汉字的演变","特教组","微课","一等奖","惠州市",{"$f":"VLOOKUP(B1833,'[1]002'!B:M,7,0)","v":"邱麟"},"惠州市特殊学校",{"$f":"VLOOKUP(B1833,'[1]002'!B:M,11,0)","v":"熊瑶"},"惠州市特殊学校"]
[1832,"P303419092528","康乃馨纸花制作","特教组","微课","一等奖","东莞市",{"$f":"VLOOKUP(B1834,'[1]002'!B:M,7,0)","v":"黄政颖"},{"$f":"VLOOKUP(B1834,'[1]002'!B:M,8,0)","v":"东莞启智学校"},{"$f":"VLOOKUP(B1834,'[1]002'!B:M,11,0)","v":"张红霞"},{"$f":"VLOOKUP(B1834,'[1]002'!B:M,12,0)","v":"东莞启智学校"}]
[1833,"P303419092531","青春期智障女学生如何使用卫生巾","特教组","微课","一等奖","东莞市",{"$f":"VLOOKUP(B1835,'[1]002'!B:M,7,0)","v":"林美伶"},{"$f":"VLOOKUP(B1835,'[1]002'!B:M,8,0)","v":"东莞市康复实验学校"},{"$f":"VLOOKUP(B1835,'[1]002'!B:M,11,0)","v":"-"},{"$f":"VLOOKUP(B1835,'[1]002'!B:M,12,0)","v":"-"}]
[1834,"P303419088749","会变魔法的画","特教组","微课","一等奖","中山市",{"$f":"VLOOKUP(B1836,'[1]002'!B:M,7,0)","v":"石坚"},{"$f":"VLOOKUP(B1836,'[1]002'!B:M,8,0)","v":"中山市特殊教育学校"},{"$f":"VLOOKUP(B1836,'[1]002'!B:M,11,0)","v":"-"},{"$f":"VLOOKUP(B1836,'[1]002'!B:M,12,0)","v":"-"}]
[1835,"P303419086096","小雨沙沙","特教组","微课","一等奖","中山市",{"$f":"VLOOKUP(B1837,'[1]002'!B:M,7,0)","v":"朱晓键"},{"$f":"VLOOKUP(B1837,'[1]002'!B:M,8,0)","v":"中山市特殊教育学校"},{"$f":"VLOOKUP(B1837,'[1]002'!B:M,11,0)","v":"丛子伟"},{"$f":"VLOOKUP(B1837,'[1]002'!B:M,12,0)","v":"中山市特殊教育学校"}]
[1836,"P303419087426","系鞋带","特教组","微课","一等奖","云浮市",{"$f":"VLOOKUP(B1838,'[1]002'!B:M,7,0)","v":"张艳萍"},{"$f":"VLOOKUP(B1838,'[1]002'!B:M,8,0)","v":"新兴县特殊教育学校"},{"$f":"VLOOKUP(B1838,'[1]002'!B:M,11,0)","v":"-"},{"$f":"VLOOKUP(B1838,'[1]002'!B:M,12,0)","v":"-"}]
[1837,"P303419088990","反问句转换为陈述句","特教组","微课","一等奖","云浮市",{"$f":"VLOOKUP(B1839,'[1]002'!B:M,7,0)","v":"陆妙杨"},{"$f":"VLOOKUP(B1839,'[1]002'!B:M,8,0)","v":"云浮市特殊教育学校"},{"$f":"VLOOKUP(B1839,'[1]002'!B:M,11,0)","v":"-"},{"$f":"VLOOKUP(B1839,'[1]002'!B:M,12,0)","v":"-"}]
[1838,"P305419093263","我们一起来运动","特教组","信息技术创新教学案例","一等奖","广州市",{"$f":"VLOOKUP(B1840,'[1]002'!B:M,7,0)","v":"梁玉萍"},{"$f":"VLOOKUP(B1840,'[1]002'!B:M,8,0)","v":"广州市增城区荔城街致明学校"},{"$f":"VLOOKUP(B1840,'[1]002'!B:M,11,0)","v":"-"},{"$f":"VLOOKUP(B1840,'[1]002'!B:M,12,0)","v":"-"}]
[1839,"P304419092751","秋天的图画","特教组","新媒体新技术教学应用课例","一等奖",{"$f":"RIGHT(LEFT(VLOOKUP(B1841,'[1]002'!B:M,3,0),7),3)","v":"深圳市"},{"$f":"VLOOKUP(B1841,'[1]002'!B:M,7,0)","v":"高超"},{"$f":"VLOOKUP(B1841,'[1]002'!B:M,8,0)","v":"深圳元平特殊教育学校"},{"$f":"VLOOKUP(B1841,'[1]002'!B:M,11,0)","v":"-"},{"$f":"VLOOKUP(B1841,'[1]002'!B:M,12,0)","v":"-"}]
[1840,"P304419092750","里程表一","特教组","新媒体新技术教学应用课例","一等奖",{"$f":"RIGHT(LEFT(VLOOKUP(B1842,'[1]002'!B:M,3,0),7),3)","v":"深圳市"},{"$f":"VLOOKUP(B1842,'[1]002'!B:M,7,0)","v":"刘艳清"},{"$f":"VLOOKUP(B1842,'[1]002'!B:M,8,0)","v":"深圳元平特殊教育学校"},{"$f":"VLOOKUP(B1842,'[1]002'!B:M,11,0)","v":"-"},{"$f":"VLOOKUP(B1842,'[1]002'!B:M,12,0)","v":"-"}]
[1841,"P302419092780","温度与温度计","特教组","课件","二等奖","深圳市",{"$f":"VLOOKUP(B1843,'[1]002'!B:M,7,0)","v":"沈晴琛"},{"$f":"VLOOKUP(B1843,'[1]002'!B:M,8,0)","v":"深圳元平特殊教育学校"},{"$f":"VLOOKUP(B1843,'[1]002'!B:M,11,0)","v":"-"},{"$f":"VLOOKUP(B1843,'[1]002'!B:M,12,0)","v":"-"}]
[1842,"P302419092778","春之探索--勒杜鹃花","特教组","课件","二等奖","深圳市",{"$f":"VLOOKUP(B1844,'[1]002'!B:M,7,0)","v":"陈嘉慧"},{"$f":"VLOOKUP(B1844,'[1]002'!B:M,8,0)","v":"深圳市罗湖区星园学校"},{"$f":"VLOOKUP(B1844,'[1]002'!B:M,11,0)","v":"-"},{"$f":"VLOOKUP(B1844,'[1]002'!B:M,12,0)","v":"-"}]
[1843,"P302419085668","新年到","特教组","课件","二等奖","珠海市",{"$f":"VLOOKUP(B1845,'[1]002'!B:M,7,0)","v":"谭宇云"},{"$f":"VLOOKUP(B1845,'[1]002'!B:M,8,0)","v":"珠海市特殊教育学校"},{"$f":"VLOOKUP(B1845,'[1]002'!B:M,11,0)","v":"-"},{"$f":"VLOOKUP(B1845,'[1]002'!B:M,12,0)","v":"-"}]
[1844,"P302419093342","冬天来了","特教组","课件","二等奖","河源市",{"$f":"VLOOKUP(B1846,'[1]002'!B:M,7,0)","v":"贾慧婷"},{"$f":"VLOOKUP(B1846,'[1]002'!B:M,8,0)","v":"和平县特殊教育学校"},{"$f":"VLOOKUP(B1846,'[1]002'!B:M,11,0)","v":"-"},{"$f":"VLOOKUP(B1846,'[1]002'!B:M,12,0)","v":"-"}]
[1845,"P302419092236","视障学生Adobe Audition音频处理软件基础","特教组","课件","二等奖","惠州市",{"$f":"VLOOKUP(B1847,'[1]002'!B:M,7,0)","v":"林秋明"},{"$f":"VLOOKUP(B1847,'[1]002'!B:M,8,0)","v":"市特殊学校"},{"$f":"VLOOKUP(B1847,'[1]002'!B:M,11,0)","v":"李艳庆"},{"$f":"VLOOKUP(B1847,'[1]002'!B:M,12,0)","v":"市特殊学校"}]
[1846,"P302419092475","Food","特教组","课件","二等奖","东莞市",{"$f":"VLOOKUP(B1848,'[1]002'!B:M,7,0)","v":"吴慧青"},{"$f":"VLOOKUP(B1848,'[1]002'!B:M,8,0)","v":"东莞启智学校"},{"$f":"VLOOKUP(B1848,'[1]002'!B:M,11,0)","v":"-"},{"$f":"VLOOKUP(B1848,'[1]002'!B:M,12,0)","v":"-"}]
[1847,"P302419092478","乌鸦喝水","特教组","课件","二等奖","东莞市",{"$f":"VLOOKUP(B1849,'[1]002'!B:M,7,0)","v":"张琳"},{"$f":"VLOOKUP(B1849,'[1]002'!B:M,8,0)","v":"东莞启智学校"},{"$f":"VLOOKUP(B1849,'[1]002'!B:M,11,0)","v":"-"},{"$f":"VLOOKUP(B1849,'[1]002'!B:M,12,0)","v":"-"}]
[1848,"P302419092474","看病","特教组","课件","二等奖","东莞市",{"$f":"VLOOKUP(B1850,'[1]002'!B:M,7,0)","v":"田林"},{"$f":"VLOOKUP(B1850,'[1]002'!B:M,8,0)","v":"东莞启智学校"},{"$f":"VLOOKUP(B1850,'[1]002'!B:M,11,0)","v":"-"},{"$f":"VLOOKUP(B1850,'[1]002'!B:M,12,0)","v":"-"}]
[1849,"P302419092477","得数是5的加法","特教组","课件","二等奖","东莞市",{"$f":"VLOOKUP(B1851,'[1]002'!B:M,7,0)","v":"周志新"},{"$f":"VLOOKUP(B1851,'[1]002'!B:M,8,0)","v":"东莞启智学校"},{"$f":"VLOOKUP(B1851,'[1]002'!B:M,11,0)","v":"-"},{"$f":"VLOOKUP(B1851,'[1]002'!B:M,12,0)","v":"-"}]
[1850,"P302419092480","蝌蚪找妈妈","特教组","课件","二等奖","东莞市",{"$f":"VLOOKUP(B1852,'[1]002'!B:M,7,0)","v":"梁领章"},{"$f":"VLOOKUP(B1852,'[1]002'!B:M,8,0)","v":"东莞启智学校"},{"$f":"VLOOKUP(B1852,'[1]002'!B:M,11,0)","v":"-"},{"$f":"VLOOKUP(B1852,'[1]002'!B:M,12,0)","v":"-"}]
[1851,"P302419092473","清明","特教组","课件","二等奖","东莞市",{"$f":"VLOOKUP(B1853,'[1]002'!B:M,7,0)","v":"尹沛茹"},{"$f":"VLOOKUP(B1853,'[1]002'!B:M,8,0)","v":"东莞启智学校"},{"$f":"VLOOKUP(B1853,'[1]002'!B:M,11,0)","v":"-"},{"$f":"VLOOKUP(B1853,'[1]002'!B:M,12,0)","v":"-"}]
[1852,"P302419088156","整时的认识","特教组","课件","二等奖","中山市",{"$f":"VLOOKUP(B1854,'[1]002'!B:M,7,0)","v":"张瑛"},{"$f":"VLOOKUP(B1854,'[1]002'!B:M,8,0)","v":"中山市特殊教育学校"},{"$f":"VLOOKUP(B1854,'[1]002'!B:M,11,0)","v":"-"},{"$f":"VLOOKUP(B1854,'[1]002'!B:M,12,0)","v":"-"}]
[1853,"P302419092867","认识五官","特教组","课件","二等奖","湛江市",{"$f":"VLOOKUP(B1855,'[1]002'!B:M,7,0)","v":"陈丽娟"},{"$f":"VLOOKUP(B1855,'[1]002'!B:M,8,0)","v":"湛江市霞山区培智学校"},{"$f":"VLOOKUP(B1855,'[1]002'!B:M,11,0)","v":"-"},{"$f":"VLOOKUP(B1855,'[1]002'!B:M,12,0)","v":"-"}]
[1854,"P302419092866","认识黄色","特教组","课件","二等奖","湛江市",{"$f":"VLOOKUP(B1856,'[1]002'!B:M,7,0)","v":"陈德江"},{"$f":"VLOOKUP(B1856,'[1]002'!B:M,8,0)","v":"湛江市特殊教育学校"},{"$f":"VLOOKUP(B1856,'[1]002'!B:M,11,0)","v":"-"},{"$f":"VLOOKUP(B1856,'[1]002'!B:M,12,0)","v":"-"}]
[1855,"P302419088758","圆的面积","特教组","课件","二等奖","云浮市",{"$f":"VLOOKUP(B1857,'[1]002'!B:M,7,0)","v":"李志勤"},{"$f":"VLOOKUP(B1857,'[1]002'!B:M,8,0)","v":"云浮市特殊教育学校"},{"$f":"VLOOKUP(B1857,'[1]002'!B:M,11,0)","v":"-"},{"$f":"VLOOKUP(B1857,'[1]002'!B:M,12,0)","v":"-"}]
[1856,"P302419088335","假如","特教组","课件","二等奖","云浮市",{"$f":"VLOOKUP(B1858,'[1]002'!B:M,7,0)","v":"白爽"},{"$f":"VLOOKUP(B1858,'[1]002'!B:M,8,0)","v":"云浮市特殊教育学校"},{"$f":"VLOOKUP(B1858,'[1]002'!B:M,11,0)","v":"-"},{"$f":"VLOOKUP(B1858,'[1]002'!B:M,12,0)","v":"-"}]
[1857,"P303419093261","垃圾分类各归各位","特教组","微课","二等奖","广州市",{"$f":"VLOOKUP(B1859,'[1]002'!B:M,7,0)","v":"黄穗芬"},{"$f":"VLOOKUP(B1859,'[1]002'!B:M,8,0)","v":"广州市番禺区培智学校"},{"$f":"VLOOKUP(B1859,'[1]002'!B:M,11,0)","v":"-"},{"$f":"VLOOKUP(B1859,'[1]002'!B:M,12,0)","v":"-"}]
[1858,"P303419093262","学习声母b、p、m、f","特教组","微课","二等奖","广州市",{"$f":"VLOOKUP(B1860,'[1]002'!B:M,7,0)","v":"苏慧明"},{"$f":"VLOOKUP(B1860,'[1]002'!B:M,8,0)","v":"广州市启明学校"},{"$f":"VLOOKUP(B1860,'[1]002'!B:M,11,0)","v":"-"},{"$f":"VLOOKUP(B1860,'[1]002'!B:M,12,0)","v":"-"}]
[1859,"P303419092745","洗手","特教组","微课","二等奖","深圳市",{"$f":"VLOOKUP(B1861,'[1]002'!B:M,7,0)","v":"高燕玲"},{"$f":"VLOOKUP(B1861,'[1]002'!B:M,8,0)","v":"宝安区特殊教育学校"},{"$f":"VLOOKUP(B1861,'[1]002'!B:M,11,0)","v":"-"},{"$f":"VLOOKUP(B1861,'[1]002'!B:M,12,0)","v":"-"}]
[1860,"P303419092741","认识月","特教组","微课","二等奖","深圳市",{"$f":"VLOOKUP(B1862,'[1]002'!B:M,7,0)","v":"罗满丽"},{"$f":"VLOOKUP(B1862,'[1]002'!B:M,8,0)","v":"深圳市福田区竹香学校"},{"$f":"VLOOKUP(B1862,'[1]002'!B:M,11,0)","v":"-"},{"$f":"VLOOKUP(B1862,'[1]002'!B:M,12,0)","v":"-"}]
[1861,"P303419089238","用削皮器削苹果","特教组","微课","二等奖","珠海市",{"$f":"VLOOKUP(B1863,'[1]002'!B:M,7,0)","v":"朱莉莎"},{"$f":"VLOOKUP(B1863,'[1]002'!B:M,8,0)","v":"珠海市特殊教育学校"},{"$f":"VLOOKUP(B1863,'[1]002'!B:M,11,0)","v":"蓝灿欣"},{"$f":"VLOOKUP(B1863,'[1]002'!B:M,12,0)","v":"珠海市特殊教育学校"}]
[1862,"P303419091549","微信付钱","特教组","微课","二等奖","佛山市",{"$f":"VLOOKUP(B1864,'[1]002'!B:M,7,0)","v":"吴奕佳"},{"$f":"VLOOKUP(B1864,'[1]002'!B:M,8,0)","v":"佛山市南海区桂城街道桂江第三小学"},{"$f":"VLOOKUP(B1864,'[1]002'!B:M,11,0)","v":"-"},{"$f":"VLOOKUP(B1864,'[1]002'!B:M,12,0)","v":"-"}]
[1863,"P303419088896","部首三点水和两点水的区别","特教组","微课","二等奖","韶关市",{"$f":"VLOOKUP(B1865,'[1]002'!B:M,7,0)","v":"麦芷欣"},{"$f":"VLOOKUP(B1865,'[1]002'!B:M,8,0)","v":"韶关市特殊教育学校"},{"$f":"VLOOKUP(B1865,'[1]002'!B:M,11,0)","v":"-"},{"$f":"VLOOKUP(B1865,'[1]002'!B:M,12,0)","v":"-"}]
[1864,"P303419093329","贝壳画树","特教组","微课","二等奖","河源市",{"$f":"VLOOKUP(B1866,'[1]002'!B:M,7,0)","v":"余梦"},{"$f":"VLOOKUP(B1866,'[1]002'!B:M,8,0)","v":"连平县仁爱学校"},{"$f":"VLOOKUP(B1866,'[1]002'!B:M,11,0)","v":"-"},{"$f":"VLOOKUP(B1866,'[1]002'!B:M,12,0)","v":"-"}]
[1865,"P303419092232","分数的基本性质","特教组","微课","二等奖","惠州市",{"$f":"VLOOKUP(B1867,'[1]002'!B:M,7,0)","v":"涂丹"},{"$f":"VLOOKUP(B1867,'[1]002'!B:M,8,0)","v":"市特殊学校"},{"$f":"VLOOKUP(B1867,'[1]002'!B:M,11,0)","v":"罗淑婷"},{"$f":"VLOOKUP(B1867,'[1]002'!B:M,12,0)","v":"市特殊学校"}]
[1866,"P303419092529","我从哪里来","特教组","微课","二等奖","东莞市",{"$f":"VLOOKUP(B1868,'[1]002'!B:M,7,0)","v":"谢慧敏"},{"$f":"VLOOKUP(B1868,'[1]002'!B:M,8,0)","v":"东莞启智学校"},{"$f":"VLOOKUP(B1868,'[1]002'!B:M,11,0)","v":"-"},{"$f":"VLOOKUP(B1868,'[1]002'!B:M,12,0)","v":"-"}]
[1867,"P303419092522","我去坐地铁","特教组","微课","二等奖","东莞市",{"$f":"VLOOKUP(B1869,'[1]002'!B:M,7,0)","v":"刘静仪"},{"$f":"VLOOKUP(B1869,'[1]002'!B:M,8,0)","v":"东莞启智学校"},{"$f":"VLOOKUP(B1869,'[1]002'!B:M,11,0)","v":"-"},{"$f":"VLOOKUP(B1869,'[1]002'!B:M,12,0)","v":"-"}]
[1868,"P303419088195","巧手衍纸画之眼形卷的制作","特教组","微课","二等奖","中山市",{"$f":"VLOOKUP(B1870,'[1]002'!B:M,7,0)","v":"朱建美"},{"$f":"VLOOKUP(B1870,'[1]002'!B:M,8,0)","v":"中山市特殊教育学校"},{"$f":"VLOOKUP(B1870,'[1]002'!B:M,11,0)","v":"-"},{"$f":"VLOOKUP(B1870,'[1]002'!B:M,12,0)","v":"-"}]
[1869,"P303419088471","学吹葫芦丝——玛丽有只小羊羔","特教组","微课","二等奖","中山市",{"$f":"VLOOKUP(B1871,'[1]002'!B:M,7,0)","v":"赵飞云"},{"$f":"VLOOKUP(B1871,'[1]002'!B:M,8,0)","v":"中山市特殊教育学校"},{"$f":"VLOOKUP(B1871,'[1]002'!B:M,11,0)","v":"冯燕婷"},{"$f":"VLOOKUP(B1871,'[1]002'!B:M,12,0)","v":"中山市特殊教育学校"}]
[1870,"P303419092863","橡皮创意图章","特教组","微课","二等奖","湛江市",{"$f":"VLOOKUP(B1872,'[1]002'!B:M,7,0)","v":"赖柏霖"},{"$f":"VLOOKUP(B1872,'[1]002'!B:M,8,0)","v":"湛江市特殊教育学校"},{"$f":"VLOOKUP(B1872,'[1]002'!B:M,11,0)","v":"-"},{"$f":"VLOOKUP(B1872,'[1]002'!B:M,12,0)","v":"-"}]
[1871,"P303419091672","蘑菇的制作方法","特教组","微课","二等奖","清远市",{"$f":"VLOOKUP(B1873,'[1]002'!B:M,7,0)","v":"张悦"},{"$f":"VLOOKUP(B1873,'[1]002'!B:M,8,0)","v":"清远市特殊教育学校"},{"$f":"VLOOKUP(B1873,'[1]002'!B:M,11,0)","v":"-"},{"$f":"VLOOKUP(B1873,'[1]002'!B:M,12,0)","v":"-"}]
[1872,"P303419079619","十几减九","特教组","微课","二等奖","云浮市",{"$f":"VLOOKUP(B1874,'[1]002'!B:M,7,0)","v":"孙婷"},{"$f":"VLOOKUP(B1874,'[1]002'!B:M,8,0)","v":"云浮市特殊教育学校"},{"$f":"VLOOKUP(B1874,'[1]002'!B:M,11,0)","v":"-"},{"$f":"VLOOKUP(B1874,'[1]002'!B:M,12,0)","v":"-"}]
[1873,"P305019092782","电影院","特教组","信息技术创新教学案例","二等奖","深圳市",{"$f":"VLOOKUP(B1875,'[1]002'!B:M,7,0)","v":"曹思思"},{"$f":"VLOOKUP(B1875,'[1]002'!B:M,8,0)","v":"深圳元平特殊教育学校"},{"$f":"VLOOKUP(B1875,'[1]002'!B:M,11,0)","v":"-"},{"$f":"VLOOKUP(B1875,'[1]002'!B:M,12,0)","v":"-"}]
[1874,"P305419092819","基于图形操作的特殊教育课堂教学实践案例","特教组","信息技术创新教学案例","二等奖","东莞市",{"$f":"VLOOKUP(B1876,'[1]002'!B:M,7,0)","v":"刘太祥"},{"$f":"VLOOKUP(B1876,'[1]002'!B:M,8,0)","v":"东莞启智学校"},{"$f":"VLOOKUP(B1876,'[1]002'!B:M,11,0)","v":"田林"},{"$f":"VLOOKUP(B1876,'[1]002'!B:M,12,0)","v":"东莞启智学校"}]
[1875,"P304419093254","不要随便亲我","特教组","新媒体新技术教学应用课例","二等奖",{"$f":"RIGHT(LEFT(VLOOKUP(B1877,'[1]002'!B:M,3,0),7),3)","v":"广州市"},{"$f":"VLOOKUP(B1877,'[1]002'!B:M,7,0)","v":"陈晖"},{"$f":"VLOOKUP(B1877,'[1]002'!B:M,8,0)","v":"广州市天河区启慧学校"},{"$f":"VLOOKUP(B1877,'[1]002'!B:M,11,0)","v":"-"},{"$f":"VLOOKUP(B1877,'[1]002'!B:M,12,0)","v":"-"}]
[1876,"P304419092752","二十四节气","特教组","新媒体新技术教学应用课例","二等奖",{"$f":"RIGHT(LEFT(VLOOKUP(B1878,'[1]002'!B:M,3,0),7),3)","v":"深圳市"},{"$f":"VLOOKUP(B1878,'[1]002'!B:M,7,0)","v":"邓景秀"},{"$f":"VLOOKUP(B1878,'[1]002'!B:M,8,0)","v":"深圳元平特殊教育学校"},{"$f":"VLOOKUP(B1878,'[1]002'!B:M,11,0)","v":"-"},{"$f":"VLOOKUP(B1878,'[1]002'!B:M,12,0)","v":"-"}]
[1877,"P304419092753","魔力“点点点”","特教组","新媒体新技术教学应用课例","二等奖",{"$f":"RIGHT(LEFT(VLOOKUP(B1879,'[1]002'!B:M,3,0),7),3)","v":"深圳市"},{"$f":"VLOOKUP(B1879,'[1]002'!B:M,7,0)","v":"叶萍果"},{"$f":"VLOOKUP(B1879,'[1]002'!B:M,8,0)","v":"深圳元平特殊教育学校"},{"$f":"VLOOKUP(B1879,'[1]002'!B:M,11,0)","v":"-"},{"$f":"VLOOKUP(B1879,'[1]002'!B:M,12,0)","v":"-"}]
[1878,"P304419092749","比较粗细","特教组","新媒体新技术教学应用课例","二等奖",{"$f":"RIGHT(LEFT(VLOOKUP(B1880,'[1]002'!B:M,3,0),7),3)","v":"深圳市"},{"$f":"VLOOKUP(B1880,'[1]002'!B:M,7,0)","v":"阮惠雅"},{"$f":"VLOOKUP(B1880,'[1]002'!B:M,8,0)","v":"深圳市罗湖区星园学校"},{"$f":"VLOOKUP(B1880,'[1]002'!B:M,11,0)","v":"-"},{"$f":"VLOOKUP(B1880,'[1]002'!B:M,12,0)","v":"-"}]
[1879,"P304419093334","苹果香蕉","特教组","新媒体新技术教学应用课例","二等奖",{"$f":"RIGHT(LEFT(VLOOKUP(B1881,'[1]002'!B:M,3,0),7),3)","v":"河源市"},{"$f":"VLOOKUP(B1881,'[1]002'!B:M,7,0)","v":"曹丽霞"},{"$f":"VLOOKUP(B1881,'[1]002'!B:M,8,0)","v":"和平县特殊教育学校"},{"$f":"VLOOKUP(B1881,'[1]002'!B:M,11,0)","v":"张洪源"},{"$f":"VLOOKUP(B1881,'[1]002'!B:M,12,0)","v":"和平县特殊教育学校"}]
[1880,"P304419092240","识字火","特教组","新媒体新技术教学应用课例","二等奖",{"$f":"RIGHT(LEFT(VLOOKUP(B1882,'[1]002'!B:M,3,0),7),3)","v":"惠州市"},{"$f":"VLOOKUP(B1882,'[1]002'!B:M,7,0)","v":"陈培娟"},{"$f":"VLOOKUP(B1882,'[1]002'!B:M,8,0)","v":"市特殊学校"},{"$f":"VLOOKUP(B1882,'[1]002'!B:M,11,0)","v":"范海源"},{"$f":"VLOOKUP(B1882,'[1]002'!B:M,12,0)","v":"市特殊学校"}]
[1881,"P304419092406","认识水果","特教组","新媒体新技术教学应用课例","二等奖",{"$f":"RIGHT(LEFT(VLOOKUP(B1883,'[1]002'!B:M,3,0),7),3)","v":"东莞市"},{"$f":"VLOOKUP(B1883,'[1]002'!B:M,7,0)","v":"黄丽娟"},{"$f":"VLOOKUP(B1883,'[1]002'!B:M,8,0)","v":"东莞启智学校"},{"$f":"VLOOKUP(B1883,'[1]002'!B:M,11,0)","v":"-"},{"$f":"VLOOKUP(B1883,'[1]002'!B:M,12,0)","v":"-"}]
[1882,"P304419092410","美团外卖","特教组","新媒体新技术教学应用课例","二等奖",{"$f":"RIGHT(LEFT(VLOOKUP(B1884,'[1]002'!B:M,3,0),7),3)","v":"东莞市"},{"$f":"VLOOKUP(B1884,'[1]002'!B:M,7,0)","v":"罗润旺"},{"$f":"VLOOKUP(B1884,'[1]002'!B:M,8,0)","v":"东莞市康复实验学校"},{"$f":"VLOOKUP(B1884,'[1]002'!B:M,11,0)","v":"-"},{"$f":"VLOOKUP(B1884,'[1]002'!B:M,12,0)","v":"-"}]
[1883,"P304419091816","想吃苹果的鼠小弟","特教组","新媒体新技术教学应用课例","二等奖",{"$f":"RIGHT(LEFT(VLOOKUP(B1885,'[1]002'!B:M,3,0),7),3)","v":"江门市"},{"$f":"VLOOKUP(B1885,'[1]002'!B:M,7,0)","v":"梁晓清"},{"$f":"VLOOKUP(B1885,'[1]002'!B:M,8,0)","v":"江门市特殊教育学校"},{"$f":"VLOOKUP(B1885,'[1]002'!B:M,11,0)","v":"-"},{"$f":"VLOOKUP(B1885,'[1]002'!B:M,12,0)","v":"-"}]
[1884,"P302419093248","认识圆形","特教组","课件","三等奖","广州市",{"$f":"VLOOKUP(B1886,'[1]002'!B:M,7,0)","v":"何之韬"},{"$f":"VLOOKUP(B1886,'[1]002'!B:M,8,0)","v":"广州市康纳学校"},{"$f":"VLOOKUP(B1886,'[1]002'!B:M,11,0)","v":"-"},{"$f":"VLOOKUP(B1886,'[1]002'!B:M,12,0)","v":"-"}]
[1885,"P302419093251","在菜市场买蔬菜","特教组","课件","三等奖","广州市",{"$f":"VLOOKUP(B1887,'[1]002'!B:M,7,0)","v":"伍珍珍"},{"$f":"VLOOKUP(B1887,'[1]002'!B:M,8,0)","v":"广州市番禺区培智学校"},{"$f":"VLOOKUP(B1887,'[1]002'!B:M,11,0)","v":"-"},{"$f":"VLOOKUP(B1887,'[1]002'!B:M,12,0)","v":"-"}]
[1886,"P302419091854","牢记核心价值观，争当文明小学生","特教组","课件","三等奖","汕头市",{"$f":"VLOOKUP(B1888,'[1]002'!B:M,7,0)","v":"许怡平"},{"$f":"VLOOKUP(B1888,'[1]002'!B:M,8,0)","v":"汕头市聋哑学校"},{"$f":"VLOOKUP(B1888,'[1]002'!B:M,11,0)","v":"-"},{"$f":"VLOOKUP(B1888,'[1]002'!B:M,12,0)","v":"-"}]
[1887,"P302419091856","咏鹅","特教组","课件","三等奖","汕头市",{"$f":"VLOOKUP(B1889,'[1]002'!B:M,7,0)","v":"狄海洋"},{"$f":"VLOOKUP(B1889,'[1]002'!B:M,8,0)","v":"汕头市特殊教育学校"},{"$f":"VLOOKUP(B1889,'[1]002'!B:M,11,0)","v":"-"},{"$f":"VLOOKUP(B1889,'[1]002'!B:M,12,0)","v":"-"}]
[1888,"P302019090675","单手拧","特教组","课件","三等奖","佛山市",{"$f":"VLOOKUP(B1890,'[1]002'!B:M,7,0)","v":"李娇芬"},{"$f":"VLOOKUP(B1890,'[1]002'!B:M,8,0)","v":"佛山市三水区启智学校"},{"$f":"VLOOKUP(B1890,'[1]002'!B:M,11,0)","v":"-"},{"$f":"VLOOKUP(B1890,'[1]002'!B:M,12,0)","v":"-"}]
[1889,"P302019090676","认识整时","特教组","课件","三等奖","佛山市",{"$f":"VLOOKUP(B1891,'[1]002'!B:M,7,0)","v":"曾萍"},{"$f":"VLOOKUP(B1891,'[1]002'!B:M,8,0)","v":"佛山市三水区启智学校"},{"$f":"VLOOKUP(B1891,'[1]002'!B:M,11,0)","v":"-"},{"$f":"VLOOKUP(B1891,'[1]002'!B:M,12,0)","v":"-"}]
[1890,"P302419091550","奇妙的昆虫世界","特教组","课件","三等奖","佛山市",{"$f":"VLOOKUP(B1892,'[1]002'!B:M,7,0)","v":"李丽生"},"佛山市南海区桂城街道桂江第三小学",{"$f":"VLOOKUP(B1892,'[1]002'!B:M,11,0)","v":"-"},{"$f":"VLOOKUP(B1892,'[1]002'!B:M,12,0)","v":"-"}]
[1891,"P302419093341","桂林山水","特教组","课件","三等奖","河源市",{"$f":"VLOOKUP(B1893,'[1]002'!B:M,7,0)","v":"张红"},{"$f":"VLOOKUP(B1893,'[1]002'!B:M,8,0)","v":"河源市博爱学校"},{"$f":"VLOOKUP(B1893,'[1]002'!B:M,11,0)","v":"-"},{"$f":"VLOOKUP(B1893,'[1]002'!B:M,12,0)","v":"-"}]
[1892,"P302419093337","禽类","特教组","课件","三等奖","河源市",{"$f":"VLOOKUP(B1894,'[1]002'!B:M,7,0)","v":"贺湘丽"},{"$f":"VLOOKUP(B1894,'[1]002'!B:M,8,0)","v":"和平县特殊教育学校"},{"$f":"VLOOKUP(B1894,'[1]002'!B:M,11,0)","v":"-"},{"$f":"VLOOKUP(B1894,'[1]002'!B:M,12,0)","v":"-"}]
[1893,"P302419093340","认识圆形","特教组","课件","三等奖","河源市",{"$f":"VLOOKUP(B1895,'[1]002'!B:M,7,0)","v":"李楚玲"},{"$f":"VLOOKUP(B1895,'[1]002'!B:M,8,0)","v":"河源市博爱学校"},{"$f":"VLOOKUP(B1895,'[1]002'!B:M,11,0)","v":"-"},{"$f":"VLOOKUP(B1895,'[1]002'!B:M,12,0)","v":"-"}]
[1894,"P302419092234","创意拼图","特教组","课件","三等奖","惠州市",{"$f":"VLOOKUP(B1896,'[1]002'!B:M,7,0)","v":"邱麟"},{"$f":"VLOOKUP(B1896,'[1]002'!B:M,8,0)","v":"市特殊学校"},{"$f":"VLOOKUP(B1896,'[1]002'!B:M,11,0)","v":"陈燕"},{"$f":"VLOOKUP(B1896,'[1]002'!B:M,12,0)","v":"市特殊学校"}]
[1895,"P302419092479","认识红绿灯","特教组","课件","三等奖","东莞市",{"$f":"VLOOKUP(B1897,'[1]002'!B:M,7,0)","v":"张彩芬"},{"$f":"VLOOKUP(B1897,'[1]002'!B:M,8,0)","v":"东莞启智学校"},{"$f":"VLOOKUP(B1897,'[1]002'!B:M,11,0)","v":"-"},{"$f":"VLOOKUP(B1897,'[1]002'!B:M,12,0)","v":"-"}]
[1896,"P302419092481","认识数字5","特教组","课件","三等奖","东莞市",{"$f":"VLOOKUP(B1898,'[1]002'!B:M,7,0)","v":"胡旺升"},{"$f":"VLOOKUP(B1898,'[1]002'!B:M,8,0)","v":"东莞启智学校"},{"$f":"VLOOKUP(B1898,'[1]002'!B:M,11,0)","v":"-"},{"$f":"VLOOKUP(B1898,'[1]002'!B:M,12,0)","v":"-"}]
[1897,"P302419092482","一周的认识","特教组","课件","三等奖","东莞市",{"$f":"VLOOKUP(B1899,'[1]002'!B:M,7,0)","v":"尹肖梅"},{"$f":"VLOOKUP(B1899,'[1]002'!B:M,8,0)","v":"东莞启智学校"},{"$f":"VLOOKUP(B1899,'[1]002'!B:M,11,0)","v":"-"},{"$f":"VLOOKUP(B1899,'[1]002'!B:M,12,0)","v":"-"}]
[1898,"P302419088263","比尾巴","特教组","课件","三等奖","中山市",{"$f":"VLOOKUP(B1900,'[1]002'!B:M,7,0)","v":"李盼盼"},{"$f":"VLOOKUP(B1900,'[1]002'!B:M,8,0)","v":"中山市特殊教育学校"},{"$f":"VLOOKUP(B1900,'[1]002'!B:M,11,0)","v":"史金俏"},{"$f":"VLOOKUP(B1900,'[1]002'!B:M,12,0)","v":"中山市特殊教育学校"}]
[1899,"P302419088262","小书包","特教组","课件","三等奖","中山市",{"$f":"VLOOKUP(B1901,'[1]002'!B:M,7,0)","v":"黄海珊"},{"$f":"VLOOKUP(B1901,'[1]002'!B:M,8,0)","v":"中山市特殊教育学校"},{"$f":"VLOOKUP(B1901,'[1]002'!B:M,11,0)","v":"-"},{"$f":"VLOOKUP(B1901,'[1]002'!B:M,12,0)","v":"-"}]
[1900,"P302419089050","认识整时","特教组","课件","三等奖","中山市",{"$f":"VLOOKUP(B1902,'[1]002'!B:M,7,0)","v":"黄玉燕"},{"$f":"VLOOKUP(B1902,'[1]002'!B:M,8,0)","v":"中山市特殊教育学校"},{"$f":"VLOOKUP(B1902,'[1]002'!B:M,11,0)","v":"芮露"},{"$f":"VLOOKUP(B1902,'[1]002'!B:M,12,0)","v":"中山市特殊教育学校"}]
[1901,"P302419089289","快乐厨房之凉拌青瓜","特教组","课件","三等奖","中山市",{"$f":"VLOOKUP(B1903,'[1]002'!B:M,7,0)","v":"潘月英"},{"$f":"VLOOKUP(B1903,'[1]002'!B:M,8,0)","v":"中山市特殊教育学校"},{"$f":"VLOOKUP(B1903,'[1]002'!B:M,11,0)","v":"黄玉燕"},{"$f":"VLOOKUP(B1903,'[1]002'!B:M,12,0)","v":"中山市特殊教育学校"}]
[1902,"P302419091813","森林探险之旅-2、3、4的相邻数","特教组","课件","三等奖","江门市",{"$f":"VLOOKUP(B1904,'[1]002'!B:M,7,0)","v":"刘爱婷"},{"$f":"VLOOKUP(B1904,'[1]002'!B:M,8,0)","v":"江门市特殊教育学校"},{"$f":"VLOOKUP(B1904,'[1]002'!B:M,11,0)","v":"-"},{"$f":"VLOOKUP(B1904,'[1]002'!B:M,12,0)","v":"-"}]
[1903,"P302419091814","茉莉的压条繁殖","特教组","课件","三等奖","江门市",{"$f":"VLOOKUP(B1905,'[1]002'!B:M,7,0)","v":"周秀文"},{"$f":"VLOOKUP(B1905,'[1]002'!B:M,8,0)","v":"江门市特殊教育学校"},{"$f":"VLOOKUP(B1905,'[1]002'!B:M,11,0)","v":"-"},{"$f":"VLOOKUP(B1905,'[1]002'!B:M,12,0)","v":"-"}]
[1904,"P302419091216","夏天到了","特教组","课件","三等奖","肇庆市",{"$f":"VLOOKUP(B1906,'[1]002'!B:M,7,0)","v":"颜皓月"},{"$f":"VLOOKUP(B1906,'[1]002'!B:M,8,0)","v":"四会市特殊教育学校"},{"$f":"VLOOKUP(B1906,'[1]002'!B:M,11,0)","v":"-"},{"$f":"VLOOKUP(B1906,'[1]002'!B:M,12,0)","v":"-"}]
[1905,"P302419091212","20以内的进位加法","特教组","课件","三等奖","肇庆市",{"$f":"VLOOKUP(B1907,'[1]002'!B:M,7,0)","v":"李玉凤"},{"$f":"VLOOKUP(B1907,'[1]002'!B:M,8,0)","v":"四会市特殊教育学校"},{"$f":"VLOOKUP(B1907,'[1]002'!B:M,11,0)","v":"-"},{"$f":"VLOOKUP(B1907,'[1]002'!B:M,12,0)","v":"-"}]
[1906,"P302419090199","九月九日忆山东兄弟","特教组","课件","三等奖","云浮市",{"$f":"VLOOKUP(B1908,'[1]002'!B:M,7,0)","v":"陆妙杨"},{"$f":"VLOOKUP(B1908,'[1]002'!B:M,8,0)","v":"云浮市特殊教育学校"},{"$f":"VLOOKUP(B1908,'[1]002'!B:M,11,0)","v":"-"},{"$f":"VLOOKUP(B1908,'[1]002'!B:M,12,0)","v":"-"}]
[1907,"P303419093258","我会在取票机上取电影票","特教组","微课","三等奖","广州市",{"$f":"VLOOKUP(B1909,'[1]002'!B:M,7,0)","v":"王永慧"},{"$f":"VLOOKUP(B1909,'[1]002'!B:M,8,0)","v":"广州市番禺区培智学校"},{"$f":"VLOOKUP(B1909,'[1]002'!B:M,11,0)","v":"-"},{"$f":"VLOOKUP(B1909,'[1]002'!B:M,12,0)","v":"-"}]
[1908,"P303419091857","早发白帝城","特教组","微课","三等奖","汕头市",{"$f":"VLOOKUP(B1910,'[1]002'!B:M,7,0)","v":"林秀金"},{"$f":"VLOOKUP(B1910,'[1]002'!B:M,8,0)","v":"汕头市聋哑学校"},{"$f":"VLOOKUP(B1910,'[1]002'!B:M,11,0)","v":"-"},{"$f":"VLOOKUP(B1910,'[1]002'!B:M,12,0)","v":"-"}]
[1909,"P303419091858","六点盲文定位法的使用","特教组","微课","三等奖","汕头市",{"$f":"VLOOKUP(B1911,'[1]002'!B:M,7,0)","v":"纪璐"},{"$f":"VLOOKUP(B1911,'[1]002'!B:M,8,0)","v":"汕头市特殊教育学校"},{"$f":"VLOOKUP(B1911,'[1]002'!B:M,11,0)","v":"-"},{"$f":"VLOOKUP(B1911,'[1]002'!B:M,12,0)","v":"-"}]
[1910,"P303019090678","认识三角形","特教组","微课","三等奖","佛山市",{"$f":"VLOOKUP(B1912,'[1]002'!B:M,7,0)","v":"邓惠僮"},{"$f":"VLOOKUP(B1912,'[1]002'!B:M,8,0)","v":"佛山市高明区启慧学校"},{"$f":"VLOOKUP(B1912,'[1]002'!B:M,11,0)","v":"-"},{"$f":"VLOOKUP(B1912,'[1]002'!B:M,12,0)","v":"-"}]
[1911,"P303019090680","使用电饭煲煮饭","特教组","微课","三等奖","佛山市",{"$f":"VLOOKUP(B1913,'[1]002'!B:M,7,0)","v":"林春琴"},{"$f":"VLOOKUP(B1913,'[1]002'!B:M,8,0)","v":"佛山市高明区启慧学校"},{"$f":"VLOOKUP(B1913,'[1]002'!B:M,11,0)","v":"-"},{"$f":"VLOOKUP(B1913,'[1]002'!B:M,12,0)","v":"-"}]
[1912,"P303019090681","梅花","特教组","微课","三等奖","佛山市",{"$f":"VLOOKUP(B1914,'[1]002'!B:M,7,0)","v":"崔玉倩"},{"$f":"VLOOKUP(B1914,'[1]002'!B:M,8,0)","v":"佛山市三水区启智学校"},{"$f":"VLOOKUP(B1914,'[1]002'!B:M,11,0)","v":"-"},{"$f":"VLOOKUP(B1914,'[1]002'!B:M,12,0)","v":"-"}]
[1913,"P303019090679","培智学校生活化课程蛋炒饭","特教组","微课","三等奖","佛山市",{"$f":"VLOOKUP(B1915,'[1]002'!B:M,7,0)","v":"王翔宇"},{"$f":"VLOOKUP(B1915,'[1]002'!B:M,8,0)","v":"佛山市高明区启慧学校"},{"$f":"VLOOKUP(B1915,'[1]002'!B:M,11,0)","v":"-"},{"$f":"VLOOKUP(B1915,'[1]002'!B:M,12,0)","v":"-"}]
[1914,"P303019090682","找规律","特教组","微课","三等奖","佛山市",{"$f":"VLOOKUP(B1916,'[1]002'!B:M,7,0)","v":"聂金程"},{"$f":"VLOOKUP(B1916,'[1]002'!B:M,8,0)","v":"佛山市三水区启智学校"},{"$f":"VLOOKUP(B1916,'[1]002'!B:M,11,0)","v":"-"},{"$f":"VLOOKUP(B1916,'[1]002'!B:M,12,0)","v":"-"}]
[1915,"P303419093332","夏天的衣物及用品","特教组","微课","三等奖","河源市",{"$f":"VLOOKUP(B1917,'[1]002'!B:M,7,0)","v":"颜凯红"},{"$f":"VLOOKUP(B1917,'[1]002'!B:M,8,0)","v":"和平县特殊教育学校"},{"$f":"VLOOKUP(B1917,'[1]002'!B:M,11,0)","v":"-"},{"$f":"VLOOKUP(B1917,'[1]002'!B:M,12,0)","v":"-"}]
[1916,"P303419092233","人物的外貌描写","特教组","微课","三等奖","惠州市",{"$f":"VLOOKUP(B1918,'[1]002'!B:M,7,0)","v":"黄少华"},{"$f":"VLOOKUP(B1918,'[1]002'!B:M,8,0)","v":"市特殊学校"},{"$f":"VLOOKUP(B1918,'[1]002'!B:M,11,0)","v":"林浩培"},{"$f":"VLOOKUP(B1918,'[1]002'!B:M,12,0)","v":"市特殊学校"}]
[1917,"P303419092533","百度地图","特教组","微课","三等奖","东莞市",{"$f":"VLOOKUP(B1919,'[1]002'!B:M,7,0)","v":"罗润旺"},{"$f":"VLOOKUP(B1919,'[1]002'!B:M,8,0)","v":"东莞市康复实验学校"},{"$f":"VLOOKUP(B1919,'[1]002'!B:M,11,0)","v":"安红妍"},{"$f":"VLOOKUP(B1919,'[1]002'!B:M,12,0)","v":"东莞市康复实验学校"}]
[1918,"P303419092523","我会洗碗","特教组","微课","三等奖","东莞市",{"$f":"VLOOKUP(B1920,'[1]002'!B:M,7,0)","v":"高梦洁"},{"$f":"VLOOKUP(B1920,'[1]002'!B:M,8,0)","v":"东莞启智学校"},{"$f":"VLOOKUP(B1920,'[1]002'!B:M,11,0)","v":"-"},{"$f":"VLOOKUP(B1920,'[1]002'!B:M,12,0)","v":"-"}]
[1919,"P303419092524","立定跳远","特教组","微课","三等奖","东莞市",{"$f":"VLOOKUP(B1921,'[1]002'!B:M,7,0)","v":"吴永锋"},{"$f":"VLOOKUP(B1921,'[1]002'!B:M,8,0)","v":"东莞启智学校"},{"$f":"VLOOKUP(B1921,'[1]002'!B:M,11,0)","v":"-"},{"$f":"VLOOKUP(B1921,'[1]002'!B:M,12,0)","v":"-"}]
[1920,"P303419092535","雷雨天气安全教育","特教组","微课","三等奖","东莞市",{"$f":"VLOOKUP(B1922,'[1]002'!B:M,7,0)","v":"王燱芝"},{"$f":"VLOOKUP(B1922,'[1]002'!B:M,8,0)","v":"东莞启智学校"},{"$f":"VLOOKUP(B1922,'[1]002'!B:M,11,0)","v":"-"},{"$f":"VLOOKUP(B1922,'[1]002'!B:M,12,0)","v":"-"}]
[1921,"P303419092521","勤洗手讲卫生","特教组","微课","三等奖","东莞市",{"$f":"VLOOKUP(B1923,'[1]002'!B:M,7,0)","v":"唐晓燕"},{"$f":"VLOOKUP(B1923,'[1]002'!B:M,8,0)","v":"东莞启智学校"},{"$f":"VLOOKUP(B1923,'[1]002'!B:M,11,0)","v":"-"},{"$f":"VLOOKUP(B1923,'[1]002'!B:M,12,0)","v":"-"}]
[1922,"P303419088147","整时的认识","特教组","微课","三等奖","中山市",{"$f":"VLOOKUP(B1924,'[1]002'!B:M,7,0)","v":"赵娜"},{"$f":"VLOOKUP(B1924,'[1]002'!B:M,8,0)","v":"中山市特殊教育学校"},{"$f":"VLOOKUP(B1924,'[1]002'!B:M,11,0)","v":"-"},{"$f":"VLOOKUP(B1924,'[1]002'!B:M,12,0)","v":"-"}]
[1923,"P303419091808","交集和并集","特教组","微课","三等奖","江门市",{"$f":"VLOOKUP(B1925,'[1]002'!B:M,7,0)","v":"王蕾"},{"$f":"VLOOKUP(B1925,'[1]002'!B:M,8,0)","v":"江门市特殊教育学校"},{"$f":"VLOOKUP(B1925,'[1]002'!B:M,11,0)","v":"-"},{"$f":"VLOOKUP(B1925,'[1]002'!B:M,12,0)","v":"-"}]
[1924,"P303419092859","湛江特色美食木叶夹","特教组","微课","三等奖","湛江市",{"$f":"VLOOKUP(B1926,'[1]002'!B:M,7,0)","v":"李燕"},{"$f":"VLOOKUP(B1926,'[1]002'!B:M,8,0)","v":"湛江市特殊教育学校"},{"$f":"VLOOKUP(B1926,'[1]002'!B:M,11,0)","v":"-"},{"$f":"VLOOKUP(B1926,'[1]002'!B:M,12,0)","v":"-"}]
[1925,"P303419091673","康奈尔笔记法","特教组","微课","三等奖","清远市",{"$f":"VLOOKUP(B1927,'[1]002'!B:M,7,0)","v":"邬飞"},{"$f":"VLOOKUP(B1927,'[1]002'!B:M,8,0)","v":"清远市特殊教育学校"},{"$f":"VLOOKUP(B1927,'[1]002'!B:M,11,0)","v":"王春艳"},{"$f":"VLOOKUP(B1927,'[1]002'!B:M,12,0)","v":"清远市特殊教育学校"}]
[1926,"P303419091670","家常煎饼","特教组","微课","三等奖","清远市",{"$f":"VLOOKUP(B1928,'[1]002'!B:M,7,0)","v":"黄钰文"},{"$f":"VLOOKUP(B1928,'[1]002'!B:M,8,0)","v":"清远市特殊学校"},{"$f":"VLOOKUP(B1928,'[1]002'!B:M,11,0)","v":"-"},{"$f":"VLOOKUP(B1928,'[1]002'!B:M,12,0)","v":"-"}]
[1927,"P305119080336","摩擦产生静电","特教组","微课","三等奖","云浮市",{"$f":"VLOOKUP(B1929,'[1]002'!B:M,7,0)","v":"谢冰玲"},{"$f":"VLOOKUP(B1929,'[1]002'!B:M,8,0)","v":"云浮市特殊教育学校"},{"$f":"VLOOKUP(B1929,'[1]002'!B:M,11,0)","v":"-"},{"$f":"VLOOKUP(B1929,'[1]002'!B:M,12,0)","v":"-"}]
[1928,"P303419086884","叠衣服","特教组","微课","三等奖","云浮市",{"$f":"VLOOKUP(B1930,'[1]002'!B:M,7,0)","v":"范茂森"},{"$f":"VLOOKUP(B1930,'[1]002'!B:M,8,0)","v":"新兴县特殊教育学校"},{"$f":"VLOOKUP(B1930,'[1]002'!B:M,11,0)","v":"-"},{"$f":"VLOOKUP(B1930,'[1]002'!B:M,12,0)","v":"-"}]
[1929,"P303419087019","衍纸艺术基础造型","特教组","微课","三等奖","云浮市",{"$f":"VLOOKUP(B1931,'[1]002'!B:M,7,0)","v":"赵婧雅"},{"$f":"VLOOKUP(B1931,'[1]002'!B:M,8,0)","v":"新兴县特殊教育学校"},{"$f":"VLOOKUP(B1931,'[1]002'!B:M,11,0)","v":"-"},{"$f":"VLOOKUP(B1931,'[1]002'!B:M,12,0)","v":"-"}]
[1930,"P305419092820","红军三军会宁大会师","特教组","信息技术创新教学案例","三等奖","东莞市",{"$f":"VLOOKUP(B1932,'[1]002'!B:M,7,0)","v":"曹胜蓝"},{"$f":"VLOOKUP(B1932,'[1]002'!B:M,8,0)","v":"东莞启智学校"},{"$f":"VLOOKUP(B1932,'[1]002'!B:M,11,0)","v":"-"},{"$f":"VLOOKUP(B1932,'[1]002'!B:M,12,0)","v":"-"}]
[1931,"P304419093255","有趣的6","特教组","新媒体新技术教学应用课例","三等奖",{"$f":"RIGHT(LEFT(VLOOKUP(B1933,'[1]002'!B:M,3,0),7),3)","v":"广州市"},{"$f":"VLOOKUP(B1933,'[1]002'!B:M,7,0)","v":"陈嘉梁"},{"$f":"VLOOKUP(B1933,'[1]002'!B:M,8,0)","v":"广州市越秀区培智学校"},{"$f":"VLOOKUP(B1933,'[1]002'!B:M,11,0)","v":"曹慧洁"},{"$f":"VLOOKUP(B1933,'[1]002'!B:M,12,0)","v":"广州市越秀区培智学校"}]
[1932,"P304419093256","早餐早餐在哪里","特教组","新媒体新技术教学应用课例","三等奖",{"$f":"RIGHT(LEFT(VLOOKUP(B1934,'[1]002'!B:M,3,0),7),3)","v":"广州市"},{"$f":"VLOOKUP(B1934,'[1]002'!B:M,7,0)","v":"张洋"},{"$f":"VLOOKUP(B1934,'[1]002'!B:M,8,0)","v":"广州市越秀区培智学校"},{"$f":"VLOOKUP(B1934,'[1]002'!B:M,11,0)","v":"闫冬媚"},{"$f":"VLOOKUP(B1934,'[1]002'!B:M,12,0)","v":"广州市越秀区培智学校"}]
[1933,"P304419092754","葡萄是酸的","特教组","新媒体新技术教学应用课例","三等奖",{"$f":"RIGHT(LEFT(VLOOKUP(B1935,'[1]002'!B:M,3,0),7),3)","v":"深圳市"},{"$f":"VLOOKUP(B1935,'[1]002'!B:M,7,0)","v":"胡海平"},{"$f":"VLOOKUP(B1935,'[1]002'!B:M,8,0)","v":"深圳元平特殊教育学校"},{"$f":"VLOOKUP(B1935,'[1]002'!B:M,11,0)","v":"-"},{"$f":"VLOOKUP(B1935,'[1]002'!B:M,12,0)","v":"-"}]
[1934,"P304419089216","端午粽","特教组","新媒体新技术教学应用课例","三等奖",{"$f":"RIGHT(LEFT(VLOOKUP(B1936,'[1]002'!B:M,3,0),7),3)","v":"珠海市"},{"$f":"VLOOKUP(B1936,'[1]002'!B:M,7,0)","v":"蒋艳"},{"$f":"VLOOKUP(B1936,'[1]002'!B:M,8,0)","v":"珠海市特殊教育学校"},{"$f":"VLOOKUP(B1936,'[1]002'!B:M,11,0)","v":"-"},{"$f":"VLOOKUP(B1936,'[1]002'!B:M,12,0)","v":"-"}]
[1935,"P304419091553","居家用电安全预防触电事故","特教组","新媒体新技术教学应用课例","三等奖",{"$f":"RIGHT(LEFT(VLOOKUP(B1937,'[1]002'!B:M,3,0),7),3)","v":"佛山市"},{"$f":"VLOOKUP(B1937,'[1]002'!B:M,7,0)","v":"吴文钟"},{"$f":"VLOOKUP(B1937,'[1]002'!B:M,8,0)","v":"佛山市南海区大沥镇城区小学"},{"$f":"VLOOKUP(B1937,'[1]002'!B:M,11,0)","v":"-"},{"$f":"VLOOKUP(B1937,'[1]002'!B:M,12,0)","v":"-"}]
[1936,"P304419089305","打电话","特教组","新媒体新技术教学应用课例","三等奖",{"$f":"RIGHT(LEFT(VLOOKUP(B1938,'[1]002'!B:M,3,0),7),3)","v":"韶关市"},{"$f":"VLOOKUP(B1938,'[1]002'!B:M,7,0)","v":"崔嘉华"},{"$f":"VLOOKUP(B1938,'[1]002'!B:M,8,0)","v":"韶关市特殊教育学校"},{"$f":"VLOOKUP(B1938,'[1]002'!B:M,11,0)","v":"-"},{"$f":"VLOOKUP(B1938,'[1]002'!B:M,12,0)","v":"-"}]
[1937,"P304419093333","神奇的五官","特教组","新媒体新技术教学应用课例","三等奖",{"$f":"RIGHT(LEFT(VLOOKUP(B1939,'[1]002'!B:M,3,0),7),3)","v":"河源市"},{"$f":"VLOOKUP(B1939,'[1]002'!B:M,7,0)","v":"杨倩"},{"$f":"VLOOKUP(B1939,'[1]002'!B:M,8,0)","v":"河源市博爱学校"},{"$f":"VLOOKUP(B1939,'[1]002'!B:M,11,0)","v":"-"},{"$f":"VLOOKUP(B1939,'[1]002'!B:M,12,0)","v":"-"}]
[1938,"P304419093335","10以内的连加","特教组","新媒体新技术教学应用课例","三等奖",{"$f":"RIGHT(LEFT(VLOOKUP(B1940,'[1]002'!B:M,3,0),7),3)","v":"河源市"},{"$f":"VLOOKUP(B1940,'[1]002'!B:M,7,0)","v":"高瑞争"},{"$f":"VLOOKUP(B1940,'[1]002'!B:M,8,0)","v":"和平县特殊教育学校"},{"$f":"VLOOKUP(B1940,'[1]002'!B:M,11,0)","v":"梁平琪"},{"$f":"VLOOKUP(B1940,'[1]002'!B:M,12,0)","v":"和平县特殊教育学校"}]
[1939,"P304419092409","茄子西红柿","特教组","新媒体新技术教学应用课例","三等奖",{"$f":"RIGHT(LEFT(VLOOKUP(B1941,'[1]002'!B:M,3,0),7),3)","v":"东莞市"},{"$f":"VLOOKUP(B1941,'[1]002'!B:M,7,0)","v":"谢慧敏"},{"$f":"VLOOKUP(B1941,'[1]002'!B:M,8,0)","v":"东莞启智学校"},{"$f":"VLOOKUP(B1941,'[1]002'!B:M,11,0)","v":"-"},{"$f":"VLOOKUP(B1941,'[1]002'!B:M,12,0)","v":"-"}]
[1940,"P304419092407","生活数学使用计算器两位数的加法2","特教组","新媒体新技术教学应用课例","三等奖",{"$f":"RIGHT(LEFT(VLOOKUP(B1942,'[1]002'!B:M,3,0),7),3)","v":"东莞市"},{"$f":"VLOOKUP(B1942,'[1]002'!B:M,7,0)","v":"熊润仪"},{"$f":"VLOOKUP(B1942,'[1]002'!B:M,8,0)","v":"东莞市康复实验学校"},{"$f":"VLOOKUP(B1942,'[1]002'!B:M,11,0)","v":"-"},{"$f":"VLOOKUP(B1942,'[1]002'!B:M,12,0)","v":"-"}]
[1941,"P304419092414","万以内人民币的认识","特教组","新媒体新技术教学应用课例","三等奖",{"$f":"RIGHT(LEFT(VLOOKUP(B1943,'[1]002'!B:M,3,0),7),3)","v":"东莞市"},{"$f":"VLOOKUP(B1943,'[1]002'!B:M,7,0)","v":"侯立峰"},{"$f":"VLOOKUP(B1943,'[1]002'!B:M,8,0)","v":"东莞启智学校"},{"$f":"VLOOKUP(B1943,'[1]002'!B:M,11,0)","v":"-"},{"$f":"VLOOKUP(B1943,'[1]002'!B:M,12,0)","v":"-"}]
[1942,"P304419092413","讲文明排好队","特教组","新媒体新技术教学应用课例","三等奖",{"$f":"RIGHT(LEFT(VLOOKUP(B1944,'[1]002'!B:M,3,0),7),3)","v":"东莞市"},{"$f":"VLOOKUP(B1944,'[1]002'!B:M,7,0)","v":"张彩芬"},{"$f":"VLOOKUP(B1944,'[1]002'!B:M,8,0)","v":"东莞启智学校"},{"$f":"VLOOKUP(B1944,'[1]002'!B:M,11,0)","v":"-"},{"$f":"VLOOKUP(B1944,'[1]002'!B:M,12,0)","v":"-"}]
[1943,"P304419092404","小金鱼","特教组","新媒体新技术教学应用课例","三等奖",{"$f":"RIGHT(LEFT(VLOOKUP(B1945,'[1]002'!B:M,3,0),7),3)","v":"东莞市"},{"$f":"VLOOKUP(B1945,'[1]002'!B:M,7,0)","v":"李卉"},{"$f":"VLOOKUP(B1945,'[1]002'!B:M,8,0)","v":"东莞市康复实验学校"},{"$f":"VLOOKUP(B1945,'[1]002'!B:M,11,0)","v":"-"},{"$f":"VLOOKUP(B1945,'[1]002'!B:M,12,0)","v":"-"}]
[1944,"P304419092408","漂亮的彩蛋","特教组","新媒体新技术教学应用课例","三等奖",{"$f":"RIGHT(LEFT(VLOOKUP(B1946,'[1]002'!B:M,3,0),7),3)","v":"东莞市"},{"$f":"VLOOKUP(B1946,'[1]002'!B:M,7,0)","v":"肖晓慧"},{"$f":"VLOOKUP(B1946,'[1]002'!B:M,8,0)","v":"东莞启智学校"},{"$f":"VLOOKUP(B1946,'[1]002'!B:M,11,0)","v":"-"},{"$f":"VLOOKUP(B1946,'[1]002'!B:M,12,0)","v":"-"}]
[1945,"P304419092412","认识长方形","特教组","新媒体新技术教学应用课例","三等奖",{"$f":"RIGHT(LEFT(VLOOKUP(B1947,'[1]002'!B:M,3,0),7),3)","v":"东莞市"},{"$f":"VLOOKUP(B1947,'[1]002'!B:M,7,0)","v":"霍博龙"},{"$f":"VLOOKUP(B1947,'[1]002'!B:M,8,0)","v":"东莞启智学校"},{"$f":"VLOOKUP(B1947,'[1]002'!B:M,11,0)","v":"-"},{"$f":"VLOOKUP(B1947,'[1]002'!B:M,12,0)","v":"-"}]
[1946,"P304419092415","认识椭圆形","特教组","新媒体新技术教学应用课例","三等奖",{"$f":"RIGHT(LEFT(VLOOKUP(B1948,'[1]002'!B:M,3,0),7),3)","v":"东莞市"},{"$f":"VLOOKUP(B1948,'[1]002'!B:M,7,0)","v":"黄小丽"},{"$f":"VLOOKUP(B1948,'[1]002'!B:M,8,0)","v":"东莞启智学校"},{"$f":"VLOOKUP(B1948,'[1]002'!B:M,11,0)","v":"-"},{"$f":"VLOOKUP(B1948,'[1]002'!B:M,12,0)","v":"-"}]
[1947,"P304419089553","端午节","特教组","新媒体新技术教学应用课例","三等奖",{"$f":"RIGHT(LEFT(VLOOKUP(B1949,'[1]002'!B:M,3,0),7),3)","v":"中山市"},{"$f":"VLOOKUP(B1949,'[1]002'!B:M,7,0)","v":"赵莎莎"},{"$f":"VLOOKUP(B1949,'[1]002'!B:M,8,0)","v":"中山市特殊教育学校"},{"$f":"VLOOKUP(B1949,'[1]002'!B:M,11,0)","v":"林晓琳"},{"$f":"VLOOKUP(B1949,'[1]002'!B:M,12,0)","v":"中山市特殊教育学校"}]
[1948,"P304419088510","认识职业","特教组","新媒体新技术教学应用课例","三等奖",{"$f":"RIGHT(LEFT(VLOOKUP(B1950,'[1]002'!B:M,3,0),7),3)","v":"中山市"},{"$f":"VLOOKUP(B1950,'[1]002'!B:M,7,0)","v":"熊文娟"},{"$f":"VLOOKUP(B1950,'[1]002'!B:M,8,0)","v":"中山市特殊教育学校"},{"$f":"VLOOKUP(B1950,'[1]002'!B:M,11,0)","v":"兰腾"},{"$f":"VLOOKUP(B1950,'[1]002'!B:M,12,0)","v":"中山市特殊教育学校"}]
[1949,"P304419088299","比尾巴","特教组","新媒体新技术教学应用课例","三等奖",{"$f":"RIGHT(LEFT(VLOOKUP(B1951,'[1]002'!B:M,3,0),7),3)","v":"中山市"},{"$f":"VLOOKUP(B1951,'[1]002'!B:M,7,0)","v":"李盼盼"},{"$f":"VLOOKUP(B1951,'[1]002'!B:M,8,0)","v":"中山市特殊教育学校"},{"$f":"VLOOKUP(B1951,'[1]002'!B:M,11,0)","v":"史金俏"},{"$f":"VLOOKUP(B1951,'[1]002'!B:M,12,0)","v":"中山市特殊教育学校"}]
[1950,"P304419092069","手套","特教组","新媒体新技术教学应用课例","三等奖",{"$f":"RIGHT(LEFT(VLOOKUP(B1952,'[1]002'!B:M,3,0),7),3)","v":"江门市"},{"$f":"VLOOKUP(B1952,'[1]002'!B:M,7,0)","v":"邱凤华"},{"$f":"VLOOKUP(B1952,'[1]002'!B:M,8,0)","v":"鹤山市特殊教育学校"},{"$f":"VLOOKUP(B1952,'[1]002'!B:M,11,0)","v":"-"},{"$f":"VLOOKUP(B1952,'[1]002'!B:M,12,0)","v":"-"}]
[1951,"P304419092855","卖炭翁","特教组","新媒体新技术教学应用课例","三等奖",{"$f":"RIGHT(LEFT(VLOOKUP(B1953,'[1]002'!B:M,3,0),7),3)","v":"湛江市"},{"$f":"VLOOKUP(B1953,'[1]002'!B:M,7,0)","v":"洪婷"},{"$f":"VLOOKUP(B1953,'[1]002'!B:M,8,0)","v":"湛江市特殊教育学校"},{"$f":"VLOOKUP(B1953,'[1]002'!B:M,11,0)","v":"-"},{"$f":"VLOOKUP(B1953,'[1]002'!B:M,12,0)","v":"-"}]
[1952,"P304419092853","釉上彩填色技巧","特教组","新媒体新技术教学应用课例","三等奖",{"$f":"RIGHT(LEFT(VLOOKUP(B1954,'[1]002'!B:M,3,0),7),3)","v":"湛江市"},{"$f":"VLOOKUP(B1954,'[1]002'!B:M,7,0)","v":"陶婧"},{"$f":"VLOOKUP(B1954,'[1]002'!B:M,8,0)","v":"湛江市特殊教育学校"},{"$f":"VLOOKUP(B1954,'[1]002'!B:M,11,0)","v":"-"},{"$f":"VLOOKUP(B1954,'[1]002'!B:M,12,0)","v":"-"}]
[1953,"P304419091392","不一样的鞋子","特教组","新媒体新技术教学应用课例","三等奖",{"$f":"RIGHT(LEFT(VLOOKUP(B1955,'[1]002'!B:M,3,0),7),3)","v":"茂名市"},{"$f":"VLOOKUP(B1955,'[1]002'!B:M,7,0)","v":"冯戚妹"},{"$f":"VLOOKUP(B1955,'[1]002'!B:M,8,0)","v":"高州市特殊教育学校"},{"$f":"VLOOKUP(B1955,'[1]002'!B:M,11,0)","v":"-"},{"$f":"VLOOKUP(B1955,'[1]002'!B:M,12,0)","v":"-"}]
[1954,"P301419092868","最好吃蛋糕","特教组","教育资源应用案例_项目单位","三等奖","湛江市",{"$f":"VLOOKUP(B1956,'[1]002'!B:M,7,0)","v":"李宏美"},{"$f":"VLOOKUP(B1956,'[1]002'!B:M,8,0)","v":"湛江市特殊教育学校"},{"$f":"VLOOKUP(B1956,'[1]002'!B:M,11,0)","v":"-"},{"$f":"VLOOKUP(B1956,'[1]002'!B:M,12,0)","v":"-"}]
[1955,"P301519093172","信息技术基础智能练习系统","中职组","课件","一等奖","广州市",{"$f":"VLOOKUP(B1957,'[1]002'!B:M,7,0)","v":"郑宁健"},{"$f":"VLOOKUP(B1957,'[1]002'!B:M,8,0)","v":"广州市土地房产管理职业学校"},{"$f":"VLOOKUP(B1957,'[1]002'!B:M,11,0)","v":"谢靖"},{"$f":"VLOOKUP(B1957,'[1]002'!B:M,12,0)","v":"广州市土地房产管理职业学校"}]
[1956,"P301519093174","电梯导向系统维护保养","中职组","课件","一等奖","广州市",{"$f":"VLOOKUP(B1958,'[1]002'!B:M,7,0)","v":"龙光涛"},{"$f":"VLOOKUP(B1958,'[1]002'!B:M,8,0)","v":"广州市土地房产管理职业学校"},{"$f":"VLOOKUP(B1958,'[1]002'!B:M,11,0)","v":"祝荣何"},{"$f":"VLOOKUP(B1958,'[1]002'!B:M,12,0)","v":"广州市土地房产管理职业学校"}]
[1957,"P301519091918","抽号器设计","中职组","课件","一等奖","汕头市",{"$f":"VLOOKUP(B1959,'[1]002'!B:M,7,0)","v":"蔡焰炀"},{"$f":"VLOOKUP(B1959,'[1]002'!B:M,8,0)","v":"汕头市澄海职业技术学校"},{"$f":"VLOOKUP(B1959,'[1]002'!B:M,11,0)","v":"李淳"},{"$f":"VLOOKUP(B1959,'[1]002'!B:M,12,0)","v":"汕头市澄海职业技术学校"}]
[1958,"P301519090588","手动变速器的构造与原理","中职组","课件","一等奖","佛山市",{"$f":"VLOOKUP(B1960,'[1]002'!B:M,7,0)","v":"彭海胜"},{"$f":"VLOOKUP(B1960,'[1]002'!B:M,8,0)","v":"佛山市顺德区北滘职业技术学校"},{"$f":"VLOOKUP(B1960,'[1]002'!B:M,11,0)","v":"肖宇宏"},{"$f":"VLOOKUP(B1960,'[1]002'!B:M,12,0)","v":"佛山市顺德区北滘职业技术学校"}]
[1959,"P301519090589","平面版式设计","中职组","课件","一等奖","佛山市",{"$f":"VLOOKUP(B1961,'[1]002'!B:M,7,0)","v":"彭海胜"},{"$f":"VLOOKUP(B1961,'[1]002'!B:M,8,0)","v":"佛山市顺德区北滘职业技术学校"},{"$f":"VLOOKUP(B1961,'[1]002'!B:M,11,0)","v":"韩玉玲"},{"$f":"VLOOKUP(B1961,'[1]002'!B:M,12,0)","v":"佛山市顺德区北滘职业技术学校"}]
[1960,"P301519090584","察眼观心读心阅人","中职组","课件","一等奖","佛山市",{"$f":"VLOOKUP(B1962,'[1]002'!B:M,7,0)","v":"刘一良"},{"$f":"VLOOKUP(B1962,'[1]002'!B:M,8,0)","v":"南海信息技术学校"},{"$f":"VLOOKUP(B1962,'[1]002'!B:M,11,0)","v":"陈晓峄"},{"$f":"VLOOKUP(B1962,'[1]002'!B:M,12,0)","v":"南海信息技术学校"}]
[1961,"P301519090591","营销策略之品牌营销","中职组","课件","一等奖","佛山市",{"$f":"VLOOKUP(B1963,'[1]002'!B:M,7,0)","v":"麦晓敏"},{"$f":"VLOOKUP(B1963,'[1]002'!B:M,8,0)","v":"佛山市顺德区北滘职业技术学校"},{"$f":"VLOOKUP(B1963,'[1]002'!B:M,11,0)","v":"彭海胜"},{"$f":"VLOOKUP(B1963,'[1]002'!B:M,12,0)","v":"佛山市顺德区北滘职业技术学校"}]
[1962,"P301519093295","正反向起动双重联锁控制线路","中职组","课件","一等奖","河源市",{"$f":"VLOOKUP(B1964,'[1]002'!B:M,7,0)","v":"蒋建方"},{"$f":"VLOOKUP(B1964,'[1]002'!B:M,8,0)","v":"紫金县职业技术学校"},{"$f":"VLOOKUP(B1964,'[1]002'!B:M,11,0)","v":"廖金花"},{"$f":"VLOOKUP(B1964,'[1]002'!B:M,12,0)","v":"紫金县职业技术学校"}]
[1963,"P301519092516","明辨是非洞察真相","中职组","课件","一等奖","东莞市",{"$f":"VLOOKUP(B1965,'[1]002'!B:M,7,0)","v":"徐翔翀"},{"$f":"VLOOKUP(B1965,'[1]002'!B:M,8,0)","v":"东莞市轻工业学校"},{"$f":"VLOOKUP(B1965,'[1]002'!B:M,11,0)","v":"罗新程"},{"$f":"VLOOKUP(B1965,'[1]002'!B:M,12,0)","v":"东莞市轻工业学校"}]
[1964,"P301519092508","商业数据地图","中职组","课件","一等奖","东莞市",{"$f":"VLOOKUP(B1966,'[1]002'!B:M,7,0)","v":"邹锰"},{"$f":"VLOOKUP(B1966,'[1]002'!B:M,8,0)","v":"东莞理工学校"},{"$f":"VLOOKUP(B1966,'[1]002'!B:M,11,0)","v":"阳莉"},{"$f":"VLOOKUP(B1966,'[1]002'!B:M,12,0)","v":"东莞理工学校"}]
[1965,"P301519092513","家居饰品点睛之笔","中职组","课件","一等奖","东莞市",{"$f":"VLOOKUP(B1967,'[1]002'!B:M,7,0)","v":"彭嘉晨"},{"$f":"VLOOKUP(B1967,'[1]002'!B:M,8,0)","v":"东莞市轻工业学校"},{"$f":"VLOOKUP(B1967,'[1]002'!B:M,11,0)","v":"禹慧娟"},{"$f":"VLOOKUP(B1967,'[1]002'!B:M,12,0)","v":"东莞市轻工业学校"}]
[1966,"P301519088950","图形图像后期处理网络课程","中职组","课件","一等奖","中山市",{"$f":"VLOOKUP(B1968,'[1]002'!B:M,7,0)","v":"张文彬"},{"$f":"VLOOKUP(B1968,'[1]002'!B:M,8,0)","v":"中山市沙溪理工学校"},{"$f":"VLOOKUP(B1968,'[1]002'!B:M,11,0)","v":"林敏"},{"$f":"VLOOKUP(B1968,'[1]002'!B:M,12,0)","v":"中山市沙溪理工学校"}]
[1967,"P301519092932","计算机硬件组装教学","中职组","课件","一等奖","湛江市",{"$f":"VLOOKUP(B1969,'[1]002'!B:M,7,0)","v":"苏志周"},{"$f":"VLOOKUP(B1969,'[1]002'!B:M,8,0)","v":"湛江财贸中等专业学校"},{"$f":"VLOOKUP(B1969,'[1]002'!B:M,11,0)","v":"-"},{"$f":"VLOOKUP(B1969,'[1]002'!B:M,12,0)","v":"-"}]
[1968,"P302519091917","走进雨巷——赏读音律美","中职组","微课","一等奖","汕头市",{"$f":"VLOOKUP(B1970,'[1]002'!B:M,7,0)","v":"翁文媛"},{"$f":"VLOOKUP(B1970,'[1]002'!B:M,8,0)","v":"潮南区职业技术教育中心"},{"$f":"VLOOKUP(B1970,'[1]002'!B:M,11,0)","v":"-"},{"$f":"VLOOKUP(B1970,'[1]002'!B:M,12,0)","v":"-"}]
[1969,"P302519090544","香麻煎软饼","中职组","微课","一等奖","佛山市",{"$f":"VLOOKUP(B1971,'[1]002'!B:M,7,0)","v":"何春华"},{"$f":"VLOOKUP(B1971,'[1]002'!B:M,8,0)","v":"佛山市启聪学校"},{"$f":"VLOOKUP(B1971,'[1]002'!B:M,11,0)","v":"-"},{"$f":"VLOOKUP(B1971,'[1]002'!B:M,12,0)","v":"-"}]
[1970,"P302519090569","有趣的POP彩底海报设计","中职组","微课","一等奖","佛山市",{"$f":"VLOOKUP(B1972,'[1]002'!B:M,7,0)","v":"李唐昭"},{"$f":"VLOOKUP(B1972,'[1]002'!B:M,8,0)","v":"佛山市三水区工业中等专业学校"},{"$f":"VLOOKUP(B1972,'[1]002'!B:M,11,0)","v":"白静"},{"$f":"VLOOKUP(B1972,'[1]002'!B:M,12,0)","v":"佛山市三水区工业中等专业学校"}]
[1971,"P302519089596","兴趣与职业","中职组","微课","一等奖","韶关市",{"$f":"VLOOKUP(B1973,'[1]002'!B:M,7,0)","v":"李剑虹"},{"$f":"VLOOKUP(B1973,'[1]002'!B:M,8,0)","v":"韶关市中等职业技术学校"},{"$f":"VLOOKUP(B1973,'[1]002'!B:M,11,0)","v":"罗丽娟"},{"$f":"VLOOKUP(B1973,'[1]002'!B:M,12,0)","v":"韶关市中等职业技术学校"}]
[1972,"P302519093285","革兰染色","中职组","微课","一等奖","河源市",{"$f":"VLOOKUP(B1974,'[1]002'!B:M,7,0)","v":"李花珍"},{"$f":"VLOOKUP(B1974,'[1]002'!B:M,8,0)","v":"河源市卫生学校"},{"$f":"VLOOKUP(B1974,'[1]002'!B:M,11,0)","v":"巫远辉"},{"$f":"VLOOKUP(B1974,'[1]002'!B:M,12,0)","v":"河源市卫生学校"}]
[1973,"P302519092605","叉车搬运上架作业","中职组","微课","一等奖","东莞市",{"$f":"VLOOKUP(B1975,'[1]002'!B:M,7,0)","v":"李素雯"},{"$f":"VLOOKUP(B1975,'[1]002'!B:M,8,0)","v":"东莞市经济贸易学校"},{"$f":"VLOOKUP(B1975,'[1]002'!B:M,11,0)","v":"刘志坚"},{"$f":"VLOOKUP(B1975,'[1]002'!B:M,12,0)","v":"东莞市经济贸易学校"}]
[1974,"P302519092936","渗漉法","中职组","微课","一等奖","湛江市",{"$f":"VLOOKUP(B1976,'[1]002'!B:M,7,0)","v":"花闻钊"},{"$f":"VLOOKUP(B1976,'[1]002'!B:M,8,0)","v":"广东省湛江卫生学校"},{"$f":"VLOOKUP(B1976,'[1]002'!B:M,11,0)","v":"欧绍淑"},{"$f":"VLOOKUP(B1976,'[1]002'!B:M,12,0)","v":"广东省湛江卫生学校"}]
[1975,"P302519091391","上菜服务","中职组","微课","一等奖","茂名市",{"$f":"VLOOKUP(B1977,'[1]002'!B:M,7,0)","v":"李玉桃"},{"$f":"VLOOKUP(B1977,'[1]002'!B:M,8,0)","v":"茂名市第二职业技术学校"},{"$f":"VLOOKUP(B1977,'[1]002'!B:M,11,0)","v":"梁云"},{"$f":"VLOOKUP(B1977,'[1]002'!B:M,12,0)","v":"茂名市第二职业技术学校"}]
[1976,"P302519087483","曲轴的拆装","中职组","微课","一等奖","肇庆市",{"$f":"VLOOKUP(B1978,'[1]002'!B:M,7,0)","v":"曹现英"},{"$f":"VLOOKUP(B1978,'[1]002'!B:M,8,0)","v":"肇庆市农业学校"},{"$f":"VLOOKUP(B1978,'[1]002'!B:M,11,0)","v":"余飞"},{"$f":"VLOOKUP(B1978,'[1]002'!B:M,12,0)","v":"肇庆市农业学校"}]
[1977,"P302519090054","拍摄角度","中职组","微课","一等奖","潮州市",{"$f":"VLOOKUP(B1979,'[1]002'!B:M,7,0)","v":"李泽琳"},{"$f":"VLOOKUP(B1979,'[1]002'!B:M,8,0)","v":"潮州市职业技术学校"},{"$f":"VLOOKUP(B1979,'[1]002'!B:M,11,0)","v":"-"},{"$f":"VLOOKUP(B1979,'[1]002'!B:M,12,0)","v":"-"}]
[1978,"P302519083626","邮件合并之批量制作客户信函","中职组","微课","一等奖","潮州市",{"$f":"VLOOKUP(B1980,'[1]002'!B:M,7,0)","v":"李楠"},{"$f":"VLOOKUP(B1980,'[1]002'!B:M,8,0)","v":"潮州市湘桥区虹桥职业技术学校"},{"$f":"VLOOKUP(B1980,'[1]002'!B:M,11,0)","v":"-"},{"$f":"VLOOKUP(B1980,'[1]002'!B:M,12,0)","v":"-"}]
[1979,"P302519079740","Excel中IF函数的使用","中职组","微课","一等奖","潮州市",{"$f":"VLOOKUP(B1981,'[1]002'!B:M,7,0)","v":"林振宇"},{"$f":"VLOOKUP(B1981,'[1]002'!B:M,8,0)","v":"饶平县贡天职业技术学校"},{"$f":"VLOOKUP(B1981,'[1]002'!B:M,11,0)","v":"-"},{"$f":"VLOOKUP(B1981,'[1]002'!B:M,12,0)","v":"-"}]
[1980,"P302519081844","一笔一画写汉字","中职组","微课","一等奖","云浮市",{"$f":"VLOOKUP(B1982,'[1]002'!B:M,7,0)","v":"谢雪燕"},{"$f":"VLOOKUP(B1982,'[1]002'!B:M,8,0)","v":"新兴理工学校"},{"$f":"VLOOKUP(B1982,'[1]002'!B:M,11,0)","v":"-"},{"$f":"VLOOKUP(B1982,'[1]002'!B:M,12,0)","v":"-"}]
[1981,"P302519085486","平面设计微课人像美化1磨皮","中职组","微课","一等奖","云浮市",{"$f":"VLOOKUP(B1983,'[1]002'!B:M,7,0)","v":"刘丽"},{"$f":"VLOOKUP(B1983,'[1]002'!B:M,8,0)","v":"新兴理工学校"},{"$f":"VLOOKUP(B1983,'[1]002'!B:M,11,0)","v":"-"},{"$f":"VLOOKUP(B1983,'[1]002'!B:M,12,0)","v":"-"}]
[1982,"P303519093200","如何消除平均的困惑-标志变异指标的分析与应用","中职组","信息化教学课程案例","一等奖","广州市",{"$f":"VLOOKUP(B1984,'[1]002'!B:M,7,0)","v":"项菲"},{"$f":"VLOOKUP(B1984,'[1]002'!B:M,8,0)","v":"广州市番禺区职业技术学校"},{"$f":"VLOOKUP(B1984,'[1]002'!B:M,11,0)","v":"梁二妹"},{"$f":"VLOOKUP(B1984,'[1]002'!B:M,12,0)","v":"广州市番禺区职业技术学校"}]
[1983,"P303519092772","以文化人 以践育人 诗经 采薇","中职组","信息化教学课程案例","一等奖","深圳市",{"$f":"VLOOKUP(B1985,'[1]002'!B:M,7,0)","v":"吴震"},{"$f":"VLOOKUP(B1985,'[1]002'!B:M,8,0)","v":"深圳市福田区华强职业技术学校"},{"$f":"VLOOKUP(B1985,'[1]002'!B:M,11,0)","v":"-"},{"$f":"VLOOKUP(B1985,'[1]002'!B:M,12,0)","v":"-"}]
[1984,"P303519090603","智慧物流走进入库作业","中职组","信息化教学课程案例","一等奖","佛山市",{"$f":"VLOOKUP(B1986,'[1]002'!B:M,7,0)","v":"蓝锦和"},{"$f":"VLOOKUP(B1986,'[1]002'!B:M,8,0)","v":"佛山市顺德区李伟强职业技术学校"},{"$f":"VLOOKUP(B1986,'[1]002'!B:M,11,0)","v":"梁敏娟"},{"$f":"VLOOKUP(B1986,'[1]002'!B:M,12,0)","v":"佛山市顺德区李伟强职业技术学校"}]
[1985,"P303519089450","海报字体设计与应用","中职组","信息化教学课程案例","一等奖","中山市",{"$f":"VLOOKUP(B1987,'[1]002'!B:M,7,0)","v":"周翠玉"},{"$f":"VLOOKUP(B1987,'[1]002'!B:M,8,0)","v":"中山火炬开发区理工学校"},{"$f":"VLOOKUP(B1987,'[1]002'!B:M,11,0)","v":"-"},{"$f":"VLOOKUP(B1987,'[1]002'!B:M,12,0)","v":"-"}]
[1986,"P303519089813","So much to do before we travel!","中职组","信息化教学课程案例","一等奖","中山市",{"$f":"VLOOKUP(B1988,'[1]002'!B:M,7,0)","v":"游巧旋"},{"$f":"VLOOKUP(B1988,'[1]002'!B:M,8,0)","v":"中山市中等专业学校"},{"$f":"VLOOKUP(B1988,'[1]002'!B:M,11,0)","v":"陈晓冰"},{"$f":"VLOOKUP(B1988,'[1]002'!B:M,12,0)","v":"中山市中等专业学校"}]
[1987,"P303519089651","多彩青春精彩校园","中职组","信息化教学课程案例","一等奖","中山市",{"$f":"VLOOKUP(B1989,'[1]002'!B:M,7,0)","v":"张铄"},{"$f":"VLOOKUP(B1989,'[1]002'!B:M,8,0)","v":"中山火炬开发区理工学校"},{"$f":"VLOOKUP(B1989,'[1]002'!B:M,11,0)","v":"刘新安"},{"$f":"VLOOKUP(B1989,'[1]002'!B:M,12,0)","v":"中山火炬开发区理工学校"}]
[1988,"P301519093178","Choose the Best Salesperson","中职组","课件","二等奖","广州市",{"$f":"VLOOKUP(B1990,'[1]002'!B:M,7,0)","v":"刘晶"},{"$f":"VLOOKUP(B1990,'[1]002'!B:M,8,0)","v":"广州市增城区东方职业技术学校"},{"$f":"VLOOKUP(B1990,'[1]002'!B:M,11,0)","v":"刘钰芬"},{"$f":"VLOOKUP(B1990,'[1]002'!B:M,12,0)","v":"广州市增城区东方职业技术学校"}]
[1989,"P301519093181","循环灯电路识读与装配","中职组","课件","二等奖","广州市",{"$f":"VLOOKUP(B1991,'[1]002'!B:M,7,0)","v":"温建芳"},{"$f":"VLOOKUP(B1991,'[1]002'!B:M,8,0)","v":"广州市花都区理工职业技术学校"},{"$f":"VLOOKUP(B1991,'[1]002'!B:M,11,0)","v":"夏永文"},{"$f":"VLOOKUP(B1991,'[1]002'!B:M,12,0)","v":"广州市花都区理工职业技术学校"}]
[1990,"P301519093173","学打乒乓球","中职组","课件","二等奖","广州市",{"$f":"VLOOKUP(B1992,'[1]002'!B:M,7,0)","v":"谢岳富"},{"$f":"VLOOKUP(B1992,'[1]002'!B:M,8,0)","v":"广州市财经职业学校"},{"$f":"VLOOKUP(B1992,'[1]002'!B:M,11,0)","v":"-"},{"$f":"VLOOKUP(B1992,'[1]002'!B:M,12,0)","v":"-"}]
[1991,"P301519093175","实地查勘","中职组","课件","二等奖","广州市",{"$f":"VLOOKUP(B1993,'[1]002'!B:M,7,0)","v":"黄常运"},{"$f":"VLOOKUP(B1993,'[1]002'!B:M,8,0)","v":"广州市土地房产管理职业学校"},{"$f":"VLOOKUP(B1993,'[1]002'!B:M,11,0)","v":"阮梓茗"},{"$f":"VLOOKUP(B1993,'[1]002'!B:M,12,0)","v":"广州市土地房产管理职业学校"}]
[1992,"P301519092774","if语句生成器","中职组","课件","二等奖","深圳市",{"$f":"VLOOKUP(B1994,'[1]002'!B:M,7,0)","v":"戴文静"},{"$f":"VLOOKUP(B1994,'[1]002'!B:M,8,0)","v":"深圳市第二职业技术学校"},{"$f":"VLOOKUP(B1994,'[1]002'!B:M,11,0)","v":"-"},{"$f":"VLOOKUP(B1994,'[1]002'!B:M,12,0)","v":"-"}]
[1993,"P301519092776","css样式表","中职组","课件","二等奖","深圳市",{"$f":"VLOOKUP(B1995,'[1]002'!B:M,7,0)","v":"邬幼芬"},{"$f":"VLOOKUP(B1995,'[1]002'!B:M,8,0)","v":"深圳市博伦职业技术学校"},{"$f":"VLOOKUP(B1995,'[1]002'!B:M,11,0)","v":"姚忠洪"},{"$f":"VLOOKUP(B1995,'[1]002'!B:M,12,0)","v":"深圳市博伦职业技术学校"}]
[1994,"P301519090594","会计点钞技能之手持式单指单张点钞法","中职组","课件","二等奖","佛山市",{"$f":"VLOOKUP(B1996,'[1]002'!B:M,7,0)","v":"何国强"},{"$f":"VLOOKUP(B1996,'[1]002'!B:M,8,0)","v":"佛山市三水区工业中等专业学校"},{"$f":"VLOOKUP(B1996,'[1]002'!B:M,11,0)","v":"-"},{"$f":"VLOOKUP(B1996,'[1]002'!B:M,12,0)","v":"-"}]
[1995,"P301519090593","畅想未来","中职组","课件","二等奖","佛山市",{"$f":"VLOOKUP(B1997,'[1]002'!B:M,7,0)","v":"张少敏"},{"$f":"VLOOKUP(B1997,'[1]002'!B:M,8,0)","v":"佛山市三水区工业中等专业学校"},{"$f":"VLOOKUP(B1997,'[1]002'!B:M,11,0)","v":"刘韬"},{"$f":"VLOOKUP(B1997,'[1]002'!B:M,12,0)","v":"佛山市三水区工业中等专业学校"}]
[1996,"P301519090581","主题摄影_人物","中职组","课件","二等奖","佛山市",{"$f":"VLOOKUP(B1998,'[1]002'!B:M,7,0)","v":"黄为"},{"$f":"VLOOKUP(B1998,'[1]002'!B:M,8,0)","v":"佛山市华材职业技术学校"},{"$f":"VLOOKUP(B1998,'[1]002'!B:M,11,0)","v":"-"},{"$f":"VLOOKUP(B1998,'[1]002'!B:M,12,0)","v":"-"}]
[1997,"P301519090585","项目四多媒体信息处理","中职组","课件","二等奖","佛山市",{"$f":"VLOOKUP(B1999,'[1]002'!B:M,7,0)","v":"涂志芳"},{"$f":"VLOOKUP(B1999,'[1]002'!B:M,8,0)","v":"佛山市南海区第一职业技术学校"},{"$f":"VLOOKUP(B1999,'[1]002'!B:M,11,0)","v":"-"},{"$f":"VLOOKUP(B1999,'[1]002'!B:M,12,0)","v":"-"}]
[1998,"P301519090573","游标卡尺的使用方法","中职组","课件","二等奖","佛山市",{"$f":"VLOOKUP(B2000,'[1]002'!B:M,7,0)","v":"李建聪"},{"$f":"VLOOKUP(B2000,'[1]002'!B:M,8,0)","v":"佛山市高明区职业技术学校"},{"$f":"VLOOKUP(B2000,'[1]002'!B:M,11,0)","v":"-"},{"$f":"VLOOKUP(B2000,'[1]002'!B:M,12,0)","v":"-"}]
[1999,"P301519090579","网站展示与评价","中职组","课件","二等奖","佛山市",{"$f":"VLOOKUP(B2001,'[1]002'!B:M,7,0)","v":"陈智盖"},{"$f":"VLOOKUP(B2001,'[1]002'!B:M,8,0)","v":"佛山市华材职业技术学校"},{"$f":"VLOOKUP(B2001,'[1]002'!B:M,11,0)","v":"-"},{"$f":"VLOOKUP(B2001,'[1]002'!B:M,12,0)","v":"-"}]
[2000,"P301519088993","成语第一讲之望文生义","中职组","课件","二等奖","韶关市",{"$f":"VLOOKUP(B2002,'[1]002'!B:M,7,0)","v":"廖益红"},{"$f":"VLOOKUP(B2002,'[1]002'!B:M,8,0)","v":"翁源县中等职业技术学校"},{"$f":"VLOOKUP(B2002,'[1]002'!B:M,11,0)","v":"-"},{"$f":"VLOOKUP(B2002,'[1]002'!B:M,12,0)","v":"-"}]
[2001,"P301519088034","Unit 5 What is your hobby","中职组","课件","二等奖","韶关市",{"$f":"VLOOKUP(B2003,'[1]002'!B:M,7,0)","v":"叶伟莲"},{"$f":"VLOOKUP(B2003,'[1]002'!B:M,8,0)","v":"翁源县中等职业技术学校"},{"$f":"VLOOKUP(B2003,'[1]002'!B:M,11,0)","v":"-"},{"$f":"VLOOKUP(B2003,'[1]002'!B:M,12,0)","v":"-"}]
[2002,"P301519088078","永遇乐京口北固亭怀古","中职组","课件","二等奖","韶关市",{"$f":"VLOOKUP(B2004,'[1]002'!B:M,7,0)","v":"许惠青"},{"$f":"VLOOKUP(B2004,'[1]002'!B:M,8,0)","v":"翁源县中等职业技术学校"},{"$f":"VLOOKUP(B2004,'[1]002'!B:M,11,0)","v":"-"},{"$f":"VLOOKUP(B2004,'[1]002'!B:M,12,0)","v":"-"}]
[2003,"P301519089350","配器方案的制定","中职组","课件","二等奖","韶关市",{"$f":"VLOOKUP(B2005,'[1]002'!B:M,7,0)","v":"谢凤珍"},{"$f":"VLOOKUP(B2005,'[1]002'!B:M,8,0)","v":"翁源县中等职业技术学校"},{"$f":"VLOOKUP(B2005,'[1]002'!B:M,11,0)","v":"-"},{"$f":"VLOOKUP(B2005,'[1]002'!B:M,12,0)","v":"-"}]
[2004,"P301519092509","setInterval函数的应用","中职组","课件","二等奖","东莞市",{"$f":"VLOOKUP(B2006,'[1]002'!B:M,7,0)","v":"张远平"},{"$f":"VLOOKUP(B2006,'[1]002'!B:M,8,0)","v":"东莞市经济贸易学校"},{"$f":"VLOOKUP(B2006,'[1]002'!B:M,11,0)","v":"-"},{"$f":"VLOOKUP(B2006,'[1]002'!B:M,12,0)","v":"-"}]
[2005,"P301519092511","会说话的图形","中职组","课件","二等奖","东莞市",{"$f":"VLOOKUP(B2007,'[1]002'!B:M,7,0)","v":"陈云芬"},{"$f":"VLOOKUP(B2007,'[1]002'!B:M,8,0)","v":"东莞市轻工业学校"},{"$f":"VLOOKUP(B2007,'[1]002'!B:M,11,0)","v":"周良晨"},{"$f":"VLOOKUP(B2007,'[1]002'!B:M,12,0)","v":"东莞市轻工业学校"}]
[2006,"P301519089082","制作现代办公椅模型","中职组","课件","二等奖","中山市",{"$f":"VLOOKUP(B2008,'[1]002'!B:M,7,0)","v":"杨蒲菊"},{"$f":"VLOOKUP(B2008,'[1]002'!B:M,8,0)","v":"中山市港口理工学校"},{"$f":"VLOOKUP(B2008,'[1]002'!B:M,11,0)","v":"简会君"},{"$f":"VLOOKUP(B2008,'[1]002'!B:M,12,0)","v":"中山市港口理工学校"}]
[2007,"P301519089259","或非门逻辑功能的验证","中职组","课件","二等奖","中山市",{"$f":"VLOOKUP(B2009,'[1]002'!B:M,7,0)","v":"胡端坚"},{"$f":"VLOOKUP(B2009,'[1]002'!B:M,8,0)","v":"中山市建斌中等职业技术学校"},{"$f":"VLOOKUP(B2009,'[1]002'!B:M,11,0)","v":"颜光"},{"$f":"VLOOKUP(B2009,'[1]002'!B:M,12,0)","v":"中山市建斌中等职业技术学校"}]
[2008,"P301519089164","热处理的“四把火”","中职组","课件","二等奖","中山市",{"$f":"VLOOKUP(B2010,'[1]002'!B:M,7,0)","v":"杨晓媛"},{"$f":"VLOOKUP(B2010,'[1]002'!B:M,8,0)","v":"中山火炬开发区理工学校"},{"$f":"VLOOKUP(B2010,'[1]002'!B:M,11,0)","v":"林炳佳"},{"$f":"VLOOKUP(B2010,'[1]002'!B:M,12,0)","v":"中山火炬开发区理工学校"}]
[2009,"P301519091802","商务服饰礼仪","中职组","课件","二等奖","江门市",{"$f":"VLOOKUP(B2011,'[1]002'!B:M,7,0)","v":"赵玉兰"},{"$f":"VLOOKUP(B2011,'[1]002'!B:M,8,0)","v":"江门市荷塘职业技术学校"},{"$f":"VLOOKUP(B2011,'[1]002'!B:M,11,0)","v":"-"},{"$f":"VLOOKUP(B2011,'[1]002'!B:M,12,0)","v":"-"}]
[2010,"P301519090281","flash基础动画制作","中职组","课件","二等奖","肇庆市",{"$f":"VLOOKUP(B2012,'[1]002'!B:M,7,0)","v":"伍倩欣"},{"$f":"VLOOKUP(B2012,'[1]002'!B:M,8,0)","v":"肇庆市高要区中等职业学校"},{"$f":"VLOOKUP(B2012,'[1]002'!B:M,11,0)","v":"梁堃"},{"$f":"VLOOKUP(B2012,'[1]002'!B:M,12,0)","v":"广东省肇庆市高要区电化教育中心"}]
[2011,"P301519091278","3DSMAX镜像复制","中职组","课件","二等奖","肇庆市",{"$f":"VLOOKUP(B2013,'[1]002'!B:M,7,0)","v":"黎记果"},{"$f":"VLOOKUP(B2013,'[1]002'!B:M,8,0)","v":"怀集县职业技术学校"},{"$f":"VLOOKUP(B2013,'[1]002'!B:M,11,0)","v":"-"},{"$f":"VLOOKUP(B2013,'[1]002'!B:M,12,0)","v":"-"}]
[2012,"P301519079745","放大镜效果","中职组","课件","二等奖","潮州市",{"$f":"VLOOKUP(B2014,'[1]002'!B:M,7,0)","v":"林振宇"},{"$f":"VLOOKUP(B2014,'[1]002'!B:M,8,0)","v":"饶平县贡天职业技术学校"},{"$f":"VLOOKUP(B2014,'[1]002'!B:M,11,0)","v":"-"},{"$f":"VLOOKUP(B2014,'[1]002'!B:M,12,0)","v":"-"}]
[2013,"P302519093182","悬挑式脚手架","中职组","微课","二等奖","广州市",{"$f":"VLOOKUP(B2015,'[1]002'!B:M,7,0)","v":"何子文"},{"$f":"VLOOKUP(B2015,'[1]002'!B:M,8,0)","v":"广州市土地房产管理职业学校"},{"$f":"VLOOKUP(B2015,'[1]002'!B:M,11,0)","v":"曾晓明"},{"$f":"VLOOKUP(B2015,'[1]002'!B:M,12,0)","v":"广州市土地房产管理职业学校"}]
[2014,"P302519093187","刮水器系统的装配及使用","中职组","微课","二等奖","广州市",{"$f":"VLOOKUP(B2016,'[1]002'!B:M,7,0)","v":"唐金友"},{"$f":"VLOOKUP(B2016,'[1]002'!B:M,8,0)","v":"广州市交通运输职业学校"},{"$f":"VLOOKUP(B2016,'[1]002'!B:M,11,0)","v":"艾刚"},{"$f":"VLOOKUP(B2016,'[1]002'!B:M,12,0)","v":"广州市交通运输职业学校"}]
[2015,"P302519093185","汽车空调通风配气系统工作原理","中职组","微课","二等奖","广州市",{"$f":"VLOOKUP(B2017,'[1]002'!B:M,7,0)","v":"植其新"},{"$f":"VLOOKUP(B2017,'[1]002'!B:M,8,0)","v":"广州市交通运输职业学校"},{"$f":"VLOOKUP(B2017,'[1]002'!B:M,11,0)","v":"谭滔"},{"$f":"VLOOKUP(B2017,'[1]002'!B:M,12,0)","v":"广州市交通运输职业学校"}]
[2016,"P302519093186","发动机气缸压力的检测","中职组","微课","二等奖","广州市",{"$f":"VLOOKUP(B2018,'[1]002'!B:M,7,0)","v":"盘宗敏"},{"$f":"VLOOKUP(B2018,'[1]002'!B:M,8,0)","v":"广州市交通运输职业学校"},{"$f":"VLOOKUP(B2018,'[1]002'!B:M,11,0)","v":"-"},{"$f":"VLOOKUP(B2018,'[1]002'!B:M,12,0)","v":"-"}]
[2017,"P302519090570","食品包装盒的手绘制作","中职组","微课","二等奖","佛山市",{"$f":"VLOOKUP(B2019,'[1]002'!B:M,7,0)","v":"孙静"},{"$f":"VLOOKUP(B2019,'[1]002'!B:M,8,0)","v":"佛山市三水区工业中等专业学校"},{"$f":"VLOOKUP(B2019,'[1]002'!B:M,11,0)","v":"何淑芬"},{"$f":"VLOOKUP(B2019,'[1]002'!B:M,12,0)","v":"佛山市三水区工业中等专业学校"}]
[2018,"P302519090559","江淮iEV6E电动汽车高压互锁系统故障检修","中职组","微课","二等奖","佛山市",{"$f":"VLOOKUP(B2020,'[1]002'!B:M,7,0)","v":"陆镇桓"},{"$f":"VLOOKUP(B2020,'[1]002'!B:M,8,0)","v":"佛山市顺德区勒流职业技术学校"},{"$f":"VLOOKUP(B2020,'[1]002'!B:M,11,0)","v":"余胜伦"},{"$f":"VLOOKUP(B2020,'[1]002'!B:M,12,0)","v":"佛山市顺德区勒流职业技术学校"}]
[2019,"P302519090556","FABE销售法则","中职组","微课","二等奖","佛山市",{"$f":"VLOOKUP(B2021,'[1]002'!B:M,7,0)","v":"曾文芳"},{"$f":"VLOOKUP(B2021,'[1]002'!B:M,8,0)","v":"南海信息技术学校"},{"$f":"VLOOKUP(B2021,'[1]002'!B:M,11,0)","v":"-"},{"$f":"VLOOKUP(B2021,'[1]002'!B:M,12,0)","v":"-"}]
[2020,"P302519090557","餐厅服务员仪容仪表展示","中职组","微课","二等奖","佛山市",{"$f":"VLOOKUP(B2022,'[1]002'!B:M,7,0)","v":"林晓纯"},{"$f":"VLOOKUP(B2022,'[1]002'!B:M,8,0)","v":"佛山市南海区盐步职业技术学校"},{"$f":"VLOOKUP(B2022,'[1]002'!B:M,11,0)","v":"曹振翀"},{"$f":"VLOOKUP(B2022,'[1]002'!B:M,12,0)","v":"佛山市南海区盐步职业技术学校"}]
[2021,"P302519090564","谈翡翠的颜色分级","中职组","微课","二等奖","佛山市",{"$f":"VLOOKUP(B2023,'[1]002'!B:M,7,0)","v":"吴文杰"},{"$f":"VLOOKUP(B2023,'[1]002'!B:M,8,0)","v":"顺德区郑敬诒职业技术学校"},{"$f":"VLOOKUP(B2023,'[1]002'!B:M,11,0)","v":"-"},{"$f":"VLOOKUP(B2023,'[1]002'!B:M,12,0)","v":"-"}]
[2022,"P302519090549","排版利器之网格系统","中职组","微课","二等奖","佛山市",{"$f":"VLOOKUP(B2024,'[1]002'!B:M,7,0)","v":"王瑛"},{"$f":"VLOOKUP(B2024,'[1]002'!B:M,8,0)","v":"佛山市华材职业技术学校"},{"$f":"VLOOKUP(B2024,'[1]002'!B:M,11,0)","v":"-"},{"$f":"VLOOKUP(B2024,'[1]002'!B:M,12,0)","v":"-"}]
[2023,"P302519090562","微信朋友圈营销的策略","中职组","微课","二等奖","佛山市",{"$f":"VLOOKUP(B2025,'[1]002'!B:M,7,0)","v":"吴丹丹"},{"$f":"VLOOKUP(B2025,'[1]002'!B:M,8,0)","v":"佛山市顺德区李伟强职业技术学校"},{"$f":"VLOOKUP(B2025,'[1]002'!B:M,11,0)","v":"-"},{"$f":"VLOOKUP(B2025,'[1]002'!B:M,12,0)","v":"-"}]
[2024,"P302519093286","时尚新娘杂志封面设计","中职组","微课","二等奖","河源市",{"$f":"VLOOKUP(B2026,'[1]002'!B:M,7,0)","v":"戴丽芬"},{"$f":"VLOOKUP(B2026,'[1]002'!B:M,8,0)","v":"紫金县职业技术学校"},{"$f":"VLOOKUP(B2026,'[1]002'!B:M,11,0)","v":"-"},{"$f":"VLOOKUP(B2026,'[1]002'!B:M,12,0)","v":"-"}]
[2025,"P302519093279","二极管的识别","中职组","微课","二等奖","河源市",{"$f":"VLOOKUP(B2027,'[1]002'!B:M,7,0)","v":"潘楚加"},{"$f":"VLOOKUP(B2027,'[1]002'!B:M,8,0)","v":"河源理工学校"},{"$f":"VLOOKUP(B2027,'[1]002'!B:M,11,0)","v":"-"},{"$f":"VLOOKUP(B2027,'[1]002'!B:M,12,0)","v":"-"}]
[2026,"P302519093280","腹部四部触诊","中职组","微课","二等奖","河源市",{"$f":"VLOOKUP(B2028,'[1]002'!B:M,7,0)","v":"魏洁"},{"$f":"VLOOKUP(B2028,'[1]002'!B:M,8,0)","v":"河源市卫生学校"},{"$f":"VLOOKUP(B2028,'[1]002'!B:M,11,0)","v":"张惠群"},{"$f":"VLOOKUP(B2028,'[1]002'!B:M,12,0)","v":"河源市卫生学校"}]
[2027,"P302519093287","美妆护肤杂志封面设计","中职组","微课","二等奖","河源市",{"$f":"VLOOKUP(B2029,'[1]002'!B:M,7,0)","v":"戴丽芬"},{"$f":"VLOOKUP(B2029,'[1]002'!B:M,8,0)","v":"紫金县职业技术学校"},{"$f":"VLOOKUP(B2029,'[1]002'!B:M,11,0)","v":"-"},{"$f":"VLOOKUP(B2029,'[1]002'!B:M,12,0)","v":"-"}]
[2028,"P302519092603","奶油蛋糕","中职组","微课","二等奖","东莞市",{"$f":"VLOOKUP(B2030,'[1]002'!B:M,7,0)","v":"袁淑灵"},{"$f":"VLOOKUP(B2030,'[1]002'!B:M,8,0)","v":"东莞市轻工业学校"},{"$f":"VLOOKUP(B2030,'[1]002'!B:M,11,0)","v":"-"},{"$f":"VLOOKUP(B2030,'[1]002'!B:M,12,0)","v":"-"}]
[2029,"P302519092604","客房中式铺床","中职组","微课","二等奖","东莞市",{"$f":"VLOOKUP(B2031,'[1]002'!B:M,7,0)","v":"林颖悦"},{"$f":"VLOOKUP(B2031,'[1]002'!B:M,8,0)","v":"东莞市轻工业学校"},{"$f":"VLOOKUP(B2031,'[1]002'!B:M,11,0)","v":"弘艺泽"},{"$f":"VLOOKUP(B2031,'[1]002'!B:M,12,0)","v":"东莞市轻工业学校"}]
[2030,"P302519092596","百善孝为先_水彩插画情境绘制孝道篇","中职组","微课","二等奖","东莞市",{"$f":"VLOOKUP(B2032,'[1]002'!B:M,7,0)","v":"王琳"},{"$f":"VLOOKUP(B2032,'[1]002'!B:M,8,0)","v":"东莞市经济贸易学校"},{"$f":"VLOOKUP(B2032,'[1]002'!B:M,11,0)","v":"尹梓先"},{"$f":"VLOOKUP(B2032,'[1]002'!B:M,12,0)","v":"东莞市经济贸易学校"}]
[2031,"P302519092599","托盘堆码方式","中职组","微课","二等奖","东莞市",{"$f":"VLOOKUP(B2033,'[1]002'!B:M,7,0)","v":"林永纳"},{"$f":"VLOOKUP(B2033,'[1]002'!B:M,8,0)","v":"东莞市经济贸易学校"},{"$f":"VLOOKUP(B2033,'[1]002'!B:M,11,0)","v":"邓锐成"},{"$f":"VLOOKUP(B2033,'[1]002'!B:M,12,0)","v":"东莞市经济贸易学校"}]
[2032,"P302519089646","更换机油步骤","中职组","微课","二等奖","中山市",{"$f":"VLOOKUP(B2034,'[1]002'!B:M,7,0)","v":"李爱军"},{"$f":"VLOOKUP(B2034,'[1]002'!B:M,8,0)","v":"中山市中等专业学校"},{"$f":"VLOOKUP(B2034,'[1]002'!B:M,11,0)","v":"-"},{"$f":"VLOOKUP(B2034,'[1]002'!B:M,12,0)","v":"-"}]
[2033,"P302519088940","双绞线的制作","中职组","微课","二等奖","中山市",{"$f":"VLOOKUP(B2035,'[1]002'!B:M,7,0)","v":"张文彬"},{"$f":"VLOOKUP(B2035,'[1]002'!B:M,8,0)","v":"中山市沙溪理工学校"},{"$f":"VLOOKUP(B2035,'[1]002'!B:M,11,0)","v":"刘文海"},{"$f":"VLOOKUP(B2035,'[1]002'!B:M,12,0)","v":"中山市沙溪理工学校"}]
[2034,"P302519089672","电子货币的法律问题","中职组","微课","二等奖","中山市",{"$f":"VLOOKUP(B2036,'[1]002'!B:M,7,0)","v":"刘月"},{"$f":"VLOOKUP(B2036,'[1]002'!B:M,8,0)","v":"中山市中等专业学校"},{"$f":"VLOOKUP(B2036,'[1]002'!B:M,11,0)","v":"张征"},{"$f":"VLOOKUP(B2036,'[1]002'!B:M,12,0)","v":"中山市中等专业学校"}]
[2035,"P302519088926","一键穿越，开启王者之旅—premiere中的键控合成","中职组","微课","二等奖","中山市",{"$f":"VLOOKUP(B2037,'[1]002'!B:M,7,0)","v":"卢晓玲"},{"$f":"VLOOKUP(B2037,'[1]002'!B:M,8,0)","v":"中山市建斌中等职业技术学校"},{"$f":"VLOOKUP(B2037,'[1]002'!B:M,11,0)","v":"-"},{"$f":"VLOOKUP(B2037,'[1]002'!B:M,12,0)","v":"-"}]
[2036,"P302519092942","小儿鹅口疮","中职组","微课","二等奖","湛江市",{"$f":"VLOOKUP(B2038,'[1]002'!B:M,7,0)","v":"赵巧燕"},{"$f":"VLOOKUP(B2038,'[1]002'!B:M,8,0)","v":"广东省湛江卫生学校"},{"$f":"VLOOKUP(B2038,'[1]002'!B:M,11,0)","v":"李伟南"},{"$f":"VLOOKUP(B2038,'[1]002'!B:M,12,0)","v":"广东省湛江卫生学校"}]
[2037,"P302519092938","如何正确滴耳","中职组","微课","二等奖","湛江市",{"$f":"VLOOKUP(B2039,'[1]002'!B:M,7,0)","v":"古源"},{"$f":"VLOOKUP(B2039,'[1]002'!B:M,8,0)","v":"广东省湛江卫生学校"},{"$f":"VLOOKUP(B2039,'[1]002'!B:M,11,0)","v":"李东风"},{"$f":"VLOOKUP(B2039,'[1]002'!B:M,12,0)","v":"广东省湛江卫生学校"}]
[2038,"P302519092937","护士行为礼仪","中职组","微课","二等奖","湛江市",{"$f":"VLOOKUP(B2040,'[1]002'!B:M,7,0)","v":"刘真蔼"},{"$f":"VLOOKUP(B2040,'[1]002'!B:M,8,0)","v":"广东省湛江卫生学校"},{"$f":"VLOOKUP(B2040,'[1]002'!B:M,11,0)","v":"潘如萍"},{"$f":"VLOOKUP(B2040,'[1]002'!B:M,12,0)","v":"广东省湛江卫生学校"}]
[2039,"P302519090055","如何突出拍摄主体","中职组","微课","二等奖","潮州市",{"$f":"VLOOKUP(B2041,'[1]002'!B:M,7,0)","v":"李泽琳"},{"$f":"VLOOKUP(B2041,'[1]002'!B:M,8,0)","v":"潮州市职业技术学校"},{"$f":"VLOOKUP(B2041,'[1]002'!B:M,11,0)","v":"-"},{"$f":"VLOOKUP(B2041,'[1]002'!B:M,12,0)","v":"-"}]
[2040,"P302519079969","素描静物苹果的画法","中职组","微课","二等奖","云浮市",{"$f":"VLOOKUP(B2042,'[1]002'!B:M,7,0)","v":"赖巧慧"},{"$f":"VLOOKUP(B2042,'[1]002'!B:M,8,0)","v":"云浮市中等专业学校"},{"$f":"VLOOKUP(B2042,'[1]002'!B:M,11,0)","v":"任继媛"},{"$f":"VLOOKUP(B2042,'[1]002'!B:M,12,0)","v":"云浮市中等专业学校"}]
[2041,"P302519089605","吹画","中职组","微课","二等奖","云浮市",{"$f":"VLOOKUP(B2043,'[1]002'!B:M,7,0)","v":"徐永连"},{"$f":"VLOOKUP(B2043,'[1]002'!B:M,8,0)","v":"郁南县职业技术学校"},{"$f":"VLOOKUP(B2043,'[1]002'!B:M,11,0)","v":"-"},{"$f":"VLOOKUP(B2043,'[1]002'!B:M,12,0)","v":"-"}]
[2042,"P303519093197","诗情画意荷花淀","中职组","信息化教学课程案例","二等奖","广州市",{"$f":"VLOOKUP(B2044,'[1]002'!B:M,7,0)","v":"陈瑾香"},{"$f":"VLOOKUP(B2044,'[1]002'!B:M,8,0)","v":"广州市增城区东方职业技术学校"},{"$f":"VLOOKUP(B2044,'[1]002'!B:M,11,0)","v":"梁明霞"},{"$f":"VLOOKUP(B2044,'[1]002'!B:M,12,0)","v":"广州市增城区东方职业技术学校"}]
[2043,"P303519093202","基于项目的市场营销学智慧学习设计之以促销方式中人员推销为例","中职组","信息化教学课程案例","二等奖","广州市",{"$f":"VLOOKUP(B2045,'[1]002'!B:M,7,0)","v":"朱洪"},{"$f":"VLOOKUP(B2045,'[1]002'!B:M,8,0)","v":"广州市增城区东方职业技术学校"},{"$f":"VLOOKUP(B2045,'[1]002'!B:M,11,0)","v":"罗娜"},{"$f":"VLOOKUP(B2045,'[1]002'!B:M,12,0)","v":"广州市增城区东方职业技术学校"}]
[2044,"P303519092770","西餐水波蛋创意实验课","中职组","信息化教学课程案例","二等奖","深圳市",{"$f":"VLOOKUP(B2046,'[1]002'!B:M,7,0)","v":"张子桐"},{"$f":"VLOOKUP(B2046,'[1]002'!B:M,8,0)","v":"深圳市第二职业技术学校"},{"$f":"VLOOKUP(B2046,'[1]002'!B:M,11,0)","v":"-"},{"$f":"VLOOKUP(B2046,'[1]002'!B:M,12,0)","v":"-"}]
[2045,"P303519090599","农产品移动端闪屏海报制作","中职组","信息化教学课程案例","二等奖","佛山市",{"$f":"VLOOKUP(B2047,'[1]002'!B:M,7,0)","v":"何芳"},{"$f":"VLOOKUP(B2047,'[1]002'!B:M,8,0)","v":"佛山市顺德区李伟强职业技术学校"},{"$f":"VLOOKUP(B2047,'[1]002'!B:M,11,0)","v":"杨嘉辉"},{"$f":"VLOOKUP(B2047,'[1]002'!B:M,12,0)","v":"佛山市顺德区李伟强职业技术学校"}]
[2046,"P303519090600","国粹京剧","中职组","信息化教学课程案例","二等奖","佛山市",{"$f":"VLOOKUP(B2048,'[1]002'!B:M,7,0)","v":"张艳辉"},{"$f":"VLOOKUP(B2048,'[1]002'!B:M,8,0)","v":"佛山市顺德区北滘职业技术学校"},{"$f":"VLOOKUP(B2048,'[1]002'!B:M,11,0)","v":"-"},{"$f":"VLOOKUP(B2048,'[1]002'!B:M,12,0)","v":"-"}]
[2047,"P303519090601","微信朋友圈营销方案的策划","中职组","信息化教学课程案例","二等奖","佛山市",{"$f":"VLOOKUP(B2049,'[1]002'!B:M,7,0)","v":"吴丹丹"},{"$f":"VLOOKUP(B2049,'[1]002'!B:M,8,0)","v":"佛山市顺德区李伟强职业技术学校"},{"$f":"VLOOKUP(B2049,'[1]002'!B:M,11,0)","v":"-"},{"$f":"VLOOKUP(B2049,'[1]002'!B:M,12,0)","v":"-"}]
[2048,"P303519087977","基于自主学习的信息化教学案例","中职组","信息化教学课程案例","二等奖","梅州市",{"$f":"VLOOKUP(B2050,'[1]002'!B:M,7,0)","v":"刘东强"},{"$f":"VLOOKUP(B2050,'[1]002'!B:M,8,0)","v":"五华县华城职业技术学校"},{"$f":"VLOOKUP(B2050,'[1]002'!B:M,11,0)","v":"-"},{"$f":"VLOOKUP(B2050,'[1]002'!B:M,12,0)","v":"-"}]
[2049,"P303519092816","PS钢笔工具的应用","中职组","信息化教学课程案例","二等奖","东莞市",{"$f":"VLOOKUP(B2051,'[1]002'!B:M,7,0)","v":"谢培璇"},{"$f":"VLOOKUP(B2051,'[1]002'!B:M,8,0)","v":"东莞市信息技术学校"},{"$f":"VLOOKUP(B2051,'[1]002'!B:M,11,0)","v":"邢彦年"},{"$f":"VLOOKUP(B2051,'[1]002'!B:M,12,0)","v":"东莞市信息技术学校"}]
[2050,"P303519092815","英语面试对话课例","中职组","信息化教学课程案例","二等奖","东莞市",{"$f":"VLOOKUP(B2052,'[1]002'!B:M,7,0)","v":"黎丽华"},{"$f":"VLOOKUP(B2052,'[1]002'!B:M,8,0)","v":"东莞市信息技术学校"},{"$f":"VLOOKUP(B2052,'[1]002'!B:M,11,0)","v":"盘蔼然"},{"$f":"VLOOKUP(B2052,'[1]002'!B:M,12,0)","v":"东莞市信息技术学校"}]
[2051,"P303519090144","心肺复苏CPR","中职组","信息化教学课程案例","二等奖","中山市",{"$f":"VLOOKUP(B2053,'[1]002'!B:M,7,0)","v":"景茵"},{"$f":"VLOOKUP(B2053,'[1]002'!B:M,8,0)","v":"中山火炬开发区理工学校"},{"$f":"VLOOKUP(B2053,'[1]002'!B:M,11,0)","v":"陈静雅"},{"$f":"VLOOKUP(B2053,'[1]002'!B:M,12,0)","v":"中山火炬开发区理工学校"}]
[2052,"P303519089584","马斯洛需要层次的运用以汽车营销为例","中职组","信息化教学课程案例","二等奖","中山市",{"$f":"VLOOKUP(B2054,'[1]002'!B:M,7,0)","v":"林金治"},{"$f":"VLOOKUP(B2054,'[1]002'!B:M,8,0)","v":"中山市中等专业学校"},{"$f":"VLOOKUP(B2054,'[1]002'!B:M,11,0)","v":"李爱军"},{"$f":"VLOOKUP(B2054,'[1]002'!B:M,12,0)","v":"中山市中等专业学校"}]
[2053,"P303519088957","梦幻海景“创”出来","中职组","信息化教学课程案例","二等奖","中山市",{"$f":"VLOOKUP(B2055,'[1]002'!B:M,7,0)","v":"廖雪峰"},{"$f":"VLOOKUP(B2055,'[1]002'!B:M,8,0)","v":"中山市港口理工学校"},{"$f":"VLOOKUP(B2055,'[1]002'!B:M,11,0)","v":"王铁军"},{"$f":"VLOOKUP(B2055,'[1]002'!B:M,12,0)","v":"中山市港口理工学校"}]
[2054,"P303519091371","沁园春.长沙","中职组","信息化教学课程案例","二等奖","茂名市",{"$f":"VLOOKUP(B2056,'[1]002'!B:M,7,0)","v":"陈莲君"},{"$f":"VLOOKUP(B2056,'[1]002'!B:M,8,0)","v":"茂名市第二职业技术学校"},{"$f":"VLOOKUP(B2056,'[1]002'!B:M,11,0)","v":"王兵"},{"$f":"VLOOKUP(B2056,'[1]002'!B:M,12,0)","v":"茂名市第二职业技术学校"}]
[2055,"P301519091919","错账更正方法","中职组","课件","三等奖","汕头市",{"$f":"VLOOKUP(B2057,'[1]002'!B:M,7,0)","v":"王莉"},{"$f":"VLOOKUP(B2057,'[1]002'!B:M,8,0)","v":"汕头市澄海职业技术学校"},{"$f":"VLOOKUP(B2057,'[1]002'!B:M,11,0)","v":"马汉杰"},{"$f":"VLOOKUP(B2057,'[1]002'!B:M,12,0)","v":"汕头市澄海职业技术学校"}]
[2056,"P301519091920","向量的坐标","中职组","课件","三等奖","汕头市",{"$f":"VLOOKUP(B2058,'[1]002'!B:M,7,0)","v":"王泠"},{"$f":"VLOOKUP(B2058,'[1]002'!B:M,8,0)","v":"汕头市澄海职业技术学校"},{"$f":"VLOOKUP(B2058,'[1]002'!B:M,11,0)","v":"-"},{"$f":"VLOOKUP(B2058,'[1]002'!B:M,12,0)","v":"-"}]
[2057,"P301519091922","直通车推广概述","中职组","课件","三等奖","汕头市",{"$f":"VLOOKUP(B2059,'[1]002'!B:M,7,0)","v":"柳婷婷"},{"$f":"VLOOKUP(B2059,'[1]002'!B:M,8,0)","v":"潮南区职业技术教育中心"},{"$f":"VLOOKUP(B2059,'[1]002'!B:M,11,0)","v":"-"},{"$f":"VLOOKUP(B2059,'[1]002'!B:M,12,0)","v":"-"}]
[2058,"P301519090576","邮件合并","中职组","课件","三等奖","佛山市",{"$f":"VLOOKUP(B2060,'[1]002'!B:M,7,0)","v":"谢翠芬"},{"$f":"VLOOKUP(B2060,'[1]002'!B:M,8,0)","v":"佛山市华材职业技术学校"},{"$f":"VLOOKUP(B2060,'[1]002'!B:M,11,0)","v":"邓俊英"},{"$f":"VLOOKUP(B2060,'[1]002'!B:M,12,0)","v":"佛山市华材职业技术学校"}]
[2059,"P301519090578","饮料广告效果图与动画制作","中职组","课件","三等奖","佛山市",{"$f":"VLOOKUP(B2061,'[1]002'!B:M,7,0)","v":"涂浩"},{"$f":"VLOOKUP(B2061,'[1]002'!B:M,8,0)","v":"佛山市华材职业技术学校"},{"$f":"VLOOKUP(B2061,'[1]002'!B:M,11,0)","v":"-"},{"$f":"VLOOKUP(B2061,'[1]002'!B:M,12,0)","v":"-"}]
[2060,"P301519090586","填写支票","中职组","课件","三等奖","佛山市",{"$f":"VLOOKUP(B2062,'[1]002'!B:M,7,0)","v":"肖菲玫"},{"$f":"VLOOKUP(B2062,'[1]002'!B:M,8,0)","v":"南海信息技术学校"},{"$f":"VLOOKUP(B2062,'[1]002'!B:M,11,0)","v":"-"},{"$f":"VLOOKUP(B2062,'[1]002'!B:M,12,0)","v":"-"}]
[2061,"P301519090575","放样建模","中职组","课件","三等奖","佛山市",{"$f":"VLOOKUP(B2063,'[1]002'!B:M,7,0)","v":"谢翠芬"},{"$f":"VLOOKUP(B2063,'[1]002'!B:M,8,0)","v":"佛山市华材职业技术学校"},{"$f":"VLOOKUP(B2063,'[1]002'!B:M,11,0)","v":"邓俊英"},{"$f":"VLOOKUP(B2063,'[1]002'!B:M,12,0)","v":"佛山市华材职业技术学校"}]
[2062,"P301519090592","个体户电商企业的工商登记","中职组","课件","三等奖","佛山市",{"$f":"VLOOKUP(B2064,'[1]002'!B:M,7,0)","v":"刘琳滢"},{"$f":"VLOOKUP(B2064,'[1]002'!B:M,8,0)","v":"佛山市三水区工业中等专业学校"},{"$f":"VLOOKUP(B2064,'[1]002'!B:M,11,0)","v":"张志瑜"},{"$f":"VLOOKUP(B2064,'[1]002'!B:M,12,0)","v":"佛山市三水区工业中等专业学校"}]
[2063,"P301519088292","电脑维修知识","中职组","课件","三等奖","韶关市",{"$f":"VLOOKUP(B2065,'[1]002'!B:M,7,0)","v":"袁必策"},{"$f":"VLOOKUP(B2065,'[1]002'!B:M,8,0)","v":"新丰县中等职业技术学校"},{"$f":"VLOOKUP(B2065,'[1]002'!B:M,11,0)","v":"-"},{"$f":"VLOOKUP(B2065,'[1]002'!B:M,12,0)","v":"-"}]
[2064,"P301519088928","（Focusky）函数的性质--单调性","中职组","课件","三等奖","韶关市",{"$f":"VLOOKUP(B2066,'[1]002'!B:M,7,0)","v":"王凤亮"},{"$f":"VLOOKUP(B2066,'[1]002'!B:M,8,0)","v":"翁源县中等职业技术学校"},{"$f":"VLOOKUP(B2066,'[1]002'!B:M,11,0)","v":"-"},{"$f":"VLOOKUP(B2066,'[1]002'!B:M,12,0)","v":"-"}]
[2065,"P301519089391","情绪与情感的概述","中职组","课件","三等奖","韶关市",{"$f":"VLOOKUP(B2067,'[1]002'!B:M,7,0)","v":"陈晓莹"},{"$f":"VLOOKUP(B2067,'[1]002'!B:M,8,0)","v":"翁源县中等职业技术学校"},{"$f":"VLOOKUP(B2067,'[1]002'!B:M,11,0)","v":"-"},{"$f":"VLOOKUP(B2067,'[1]002'!B:M,12,0)","v":"-"}]
[2066,"P301519093293","英文问路和指路","中职组","课件","三等奖","河源市",{"$f":"VLOOKUP(B2068,'[1]002'!B:M,7,0)","v":"陈淑惠"},{"$f":"VLOOKUP(B2068,'[1]002'!B:M,8,0)","v":"河源理工学校"},{"$f":"VLOOKUP(B2068,'[1]002'!B:M,11,0)","v":"-"},{"$f":"VLOOKUP(B2068,'[1]002'!B:M,12,0)","v":"-"}]
[2067,"P301519093294","爱国主义教育主题班会课件","中职组","课件","三等奖","河源市",{"$f":"VLOOKUP(B2069,'[1]002'!B:M,7,0)","v":"郑晓彤"},{"$f":"VLOOKUP(B2069,'[1]002'!B:M,8,0)","v":"河源理工学校"},{"$f":"VLOOKUP(B2069,'[1]002'!B:M,11,0)","v":"赖勤"},{"$f":"VLOOKUP(B2069,'[1]002'!B:M,12,0)","v":"河源理工学校"}]
[2068,"P301519093292","如何培养幼儿独立性","中职组","课件","三等奖","河源市",{"$f":"VLOOKUP(B2070,'[1]002'!B:M,7,0)","v":"黄丽堪"},{"$f":"VLOOKUP(B2070,'[1]002'!B:M,8,0)","v":"河源市职业技术学校"},{"$f":"VLOOKUP(B2070,'[1]002'!B:M,11,0)","v":"-"},{"$f":"VLOOKUP(B2070,'[1]002'!B:M,12,0)","v":"-"}]
[2069,"P301519093288","无菌技术","中职组","课件","三等奖","河源市",{"$f":"VLOOKUP(B2071,'[1]002'!B:M,7,0)","v":"陈秀琳"},{"$f":"VLOOKUP(B2071,'[1]002'!B:M,8,0)","v":"河源市卫生学校"},{"$f":"VLOOKUP(B2071,'[1]002'!B:M,11,0)","v":"黄利飞"},{"$f":"VLOOKUP(B2071,'[1]002'!B:M,12,0)","v":"河源市卫生学校"}]
[2070,"P301519093290","动作补间摇摆篇摘星记","中职组","课件","三等奖","河源市",{"$f":"VLOOKUP(B2072,'[1]002'!B:M,7,0)","v":"曹瑞英"},{"$f":"VLOOKUP(B2072,'[1]002'!B:M,8,0)","v":"河源市职业技术学校"},{"$f":"VLOOKUP(B2072,'[1]002'!B:M,11,0)","v":"-"},{"$f":"VLOOKUP(B2072,'[1]002'!B:M,12,0)","v":"-"}]
[2071,"P301519087942","发展职业生涯要善于把握机遇","中职组","课件","三等奖","梅州市",{"$f":"VLOOKUP(B2073,'[1]002'!B:M,7,0)","v":"唐华标"},{"$f":"VLOOKUP(B2073,'[1]002'!B:M,8,0)","v":"五华县华城职业技术学校"},{"$f":"VLOOKUP(B2073,'[1]002'!B:M,11,0)","v":"-"},{"$f":"VLOOKUP(B2073,'[1]002'!B:M,12,0)","v":"-"}]
[2072,"P301519092510","规划库区","中职组","课件","三等奖","东莞市",{"$f":"VLOOKUP(B2074,'[1]002'!B:M,7,0)","v":"邓锐成"},{"$f":"VLOOKUP(B2074,'[1]002'!B:M,8,0)","v":"东莞市经济贸易学校"},{"$f":"VLOOKUP(B2074,'[1]002'!B:M,11,0)","v":"-"},{"$f":"VLOOKUP(B2074,'[1]002'!B:M,12,0)","v":"-"}]
[2073,"P301519092519","精研细斟育工匠红葡萄酒斟酒七艺","中职组","课件","三等奖","东莞市",{"$f":"VLOOKUP(B2075,'[1]002'!B:M,7,0)","v":"胡转玲"},{"$f":"VLOOKUP(B2075,'[1]002'!B:M,8,0)","v":"东莞市轻工业学校"},{"$f":"VLOOKUP(B2075,'[1]002'!B:M,11,0)","v":"李想"},{"$f":"VLOOKUP(B2075,'[1]002'!B:M,12,0)","v":"东莞市轻工业学校"}]
[2074,"P301519092512","挫折心理之心理防御机制","中职组","课件","三等奖","东莞市",{"$f":"VLOOKUP(B2076,'[1]002'!B:M,7,0)","v":"徐杰"},{"$f":"VLOOKUP(B2076,'[1]002'!B:M,8,0)","v":"东莞市经济贸易学校"},{"$f":"VLOOKUP(B2076,'[1]002'!B:M,11,0)","v":"龚雪"},{"$f":"VLOOKUP(B2076,'[1]002'!B:M,12,0)","v":"东莞市经济贸易学校"}]
[2075,"P301519092515","感恩父爱母爱","中职组","课件","三等奖","东莞市",{"$f":"VLOOKUP(B2077,'[1]002'!B:M,7,0)","v":"黄小燕"},{"$f":"VLOOKUP(B2077,'[1]002'!B:M,8,0)","v":"东莞市信息技术学校"},{"$f":"VLOOKUP(B2077,'[1]002'!B:M,11,0)","v":"宋晓红"},{"$f":"VLOOKUP(B2077,'[1]002'!B:M,12,0)","v":"东莞市信息技术学校"}]
[2076,"P301519092507","以情入画以画传情_插画情境绘制构设孝道篇","中职组","课件","三等奖","东莞市",{"$f":"VLOOKUP(B2078,'[1]002'!B:M,7,0)","v":"王琳"},{"$f":"VLOOKUP(B2078,'[1]002'!B:M,8,0)","v":"东莞市经济贸易学校"},{"$f":"VLOOKUP(B2078,'[1]002'!B:M,11,0)","v":"-"},{"$f":"VLOOKUP(B2078,'[1]002'!B:M,12,0)","v":"-"}]
[2077,"P301519092514","FOB贸易术语","中职组","课件","三等奖","东莞市",{"$f":"VLOOKUP(B2079,'[1]002'!B:M,7,0)","v":"萧婉君"},{"$f":"VLOOKUP(B2079,'[1]002'!B:M,8,0)","v":"东莞市轻工业学校"},{"$f":"VLOOKUP(B2079,'[1]002'!B:M,11,0)","v":"-"},{"$f":"VLOOKUP(B2079,'[1]002'!B:M,12,0)","v":"-"}]
[2078,"P301519089008","以积极心态面对人生境遇","中职组","课件","三等奖","中山市",{"$f":"VLOOKUP(B2080,'[1]002'!B:M,7,0)","v":"刘莹"},{"$f":"VLOOKUP(B2080,'[1]002'!B:M,8,0)","v":"中山市港口理工学校"},{"$f":"VLOOKUP(B2080,'[1]002'!B:M,11,0)","v":"谢先梅"},{"$f":"VLOOKUP(B2080,'[1]002'!B:M,12,0)","v":"中山市港口理工学校"}]
[2079,"P301519089893","感受中国古典舞的形之美","中职组","课件","三等奖","中山市",{"$f":"VLOOKUP(B2081,'[1]002'!B:M,7,0)","v":"李赛花"},{"$f":"VLOOKUP(B2081,'[1]002'!B:M,8,0)","v":"中山火炬开发区理工学校"},{"$f":"VLOOKUP(B2081,'[1]002'!B:M,11,0)","v":"-"},{"$f":"VLOOKUP(B2081,'[1]002'!B:M,12,0)","v":"-"}]
[2080,"P301519088917","指数函数的图像与性质","中职组","课件","三等奖","中山市",{"$f":"VLOOKUP(B2082,'[1]002'!B:M,7,0)","v":"仇治国"},{"$f":"VLOOKUP(B2082,'[1]002'!B:M,8,0)","v":"中山市中等专业学校"},{"$f":"VLOOKUP(B2082,'[1]002'!B:M,11,0)","v":"朱正兵"},{"$f":"VLOOKUP(B2082,'[1]002'!B:M,12,0)","v":"天喻教育培训学校"}]
[2081,"P301519088941","It is time to change.","中职组","课件","三等奖","中山市",{"$f":"VLOOKUP(B2083,'[1]002'!B:M,7,0)","v":"张欣"},{"$f":"VLOOKUP(B2083,'[1]002'!B:M,8,0)","v":"中山市中等专业学校"},{"$f":"VLOOKUP(B2083,'[1]002'!B:M,11,0)","v":"卢娟"},{"$f":"VLOOKUP(B2083,'[1]002'!B:M,12,0)","v":"中山市中等专业学校"}]
[2082,"P301519089311","LED数码管的检测","中职组","课件","三等奖","中山市",{"$f":"VLOOKUP(B2084,'[1]002'!B:M,7,0)","v":"陈敏"},{"$f":"VLOOKUP(B2084,'[1]002'!B:M,8,0)","v":"中山火炬开发区理工学校"},{"$f":"VLOOKUP(B2084,'[1]002'!B:M,11,0)","v":"何国义"},{"$f":"VLOOKUP(B2084,'[1]002'!B:M,12,0)","v":"中山火炬开发区理工学校"}]
[2083,"P301519092019","体态礼仪","中职组","课件","三等奖","江门市",{"$f":"VLOOKUP(B2085,'[1]002'!B:M,7,0)","v":"邹菊"},{"$f":"VLOOKUP(B2085,'[1]002'!B:M,8,0)","v":"开平市吴汉良理工学校"},{"$f":"VLOOKUP(B2085,'[1]002'!B:M,11,0)","v":"-"},{"$f":"VLOOKUP(B2085,'[1]002'!B:M,12,0)","v":"-"}]
[2084,"P301519092067","电气火灾的认识与应对","中职组","课件","三等奖","江门市",{"$f":"VLOOKUP(B2086,'[1]002'!B:M,7,0)","v":"区伟民"},{"$f":"VLOOKUP(B2086,'[1]002'!B:M,8,0)","v":"鹤山市职业技术学校"},{"$f":"VLOOKUP(B2086,'[1]002'!B:M,11,0)","v":"-"},{"$f":"VLOOKUP(B2086,'[1]002'!B:M,12,0)","v":"-"}]
[2085,"P301519092352","用Proe扫描特征设计创意产品","中职组","课件","三等奖","江门市",{"$f":"VLOOKUP(B2087,'[1]002'!B:M,7,0)","v":"黎杏"},{"$f":"VLOOKUP(B2087,'[1]002'!B:M,8,0)","v":"台山市培英职业技术学校"},{"$f":"VLOOKUP(B2087,'[1]002'!B:M,11,0)","v":"朱敬忠"},{"$f":"VLOOKUP(B2087,'[1]002'!B:M,12,0)","v":"台山市培英职业技术学校"}]
[2086,"P301519092930","渗漉法","中职组","课件","三等奖","湛江市",{"$f":"VLOOKUP(B2088,'[1]002'!B:M,7,0)","v":"花闻钊"},{"$f":"VLOOKUP(B2088,'[1]002'!B:M,8,0)","v":"广东省湛江卫生学校"},{"$f":"VLOOKUP(B2088,'[1]002'!B:M,11,0)","v":"欧绍淑"},{"$f":"VLOOKUP(B2088,'[1]002'!B:M,12,0)","v":"广东省湛江卫生学校"}]
[2087,"P301519092931","蛋白质的性质","中职组","课件","三等奖","湛江市",{"$f":"VLOOKUP(B2089,'[1]002'!B:M,7,0)","v":"彭文毫"},{"$f":"VLOOKUP(B2089,'[1]002'!B:M,8,0)","v":"广东省湛江卫生学校"},{"$f":"VLOOKUP(B2089,'[1]002'!B:M,11,0)","v":"陈炳湘"},{"$f":"VLOOKUP(B2089,'[1]002'!B:M,12,0)","v":"广东省湛江卫生学校"}]
[2088,"P301519091287","Excel库函数的应用","中职组","课件","三等奖","肇庆市",{"$f":"VLOOKUP(B2090,'[1]002'!B:M,7,0)","v":"任重明"},{"$f":"VLOOKUP(B2090,'[1]002'!B:M,8,0)","v":"肇庆市工业贸易学校"},{"$f":"VLOOKUP(B2090,'[1]002'!B:M,11,0)","v":"-"},{"$f":"VLOOKUP(B2090,'[1]002'!B:M,12,0)","v":"-"}]
[2089,"P301519091279","超级链接","中职组","课件","三等奖","肇庆市",{"$f":"VLOOKUP(B2091,'[1]002'!B:M,7,0)","v":"黄秀茵"},{"$f":"VLOOKUP(B2091,'[1]002'!B:M,8,0)","v":"怀集县职业技术学校"},{"$f":"VLOOKUP(B2091,'[1]002'!B:M,11,0)","v":"-"},{"$f":"VLOOKUP(B2091,'[1]002'!B:M,12,0)","v":"-"}]
[2090,"P301519091724","Excel数据计算","中职组","课件","三等奖","清远市",{"$f":"VLOOKUP(B2092,'[1]002'!B:M,7,0)","v":"唐婵娟"},{"$f":"VLOOKUP(B2092,'[1]002'!B:M,8,0)","v":"连山职业技术学校"},{"$f":"VLOOKUP(B2092,'[1]002'!B:M,11,0)","v":"-"},{"$f":"VLOOKUP(B2092,'[1]002'!B:M,12,0)","v":"-"}]
[2091,"P301519079743","如何制作GIF","中职组","课件","三等奖","潮州市",{"$f":"VLOOKUP(B2093,'[1]002'!B:M,7,0)","v":"林振宇"},{"$f":"VLOOKUP(B2093,'[1]002'!B:M,8,0)","v":"饶平县贡天职业技术学校"},{"$f":"VLOOKUP(B2093,'[1]002'!B:M,11,0)","v":"-"},{"$f":"VLOOKUP(B2093,'[1]002'!B:M,12,0)","v":"-"}]
[2092,"P301519080567","静物的配置与构图","中职组","课件","三等奖","潮州市",{"$f":"VLOOKUP(B2094,'[1]002'!B:M,7,0)","v":"张婷"},{"$f":"VLOOKUP(B2094,'[1]002'!B:M,8,0)","v":"潮州市职业技术学校"},{"$f":"VLOOKUP(B2094,'[1]002'!B:M,11,0)","v":"-"},{"$f":"VLOOKUP(B2094,'[1]002'!B:M,12,0)","v":"-"}]
[2093,"P301519081132","计算机系统组成","中职组","课件","三等奖","潮州市",{"$f":"VLOOKUP(B2095,'[1]002'!B:M,7,0)","v":"蔡锦萍"},{"$f":"VLOOKUP(B2095,'[1]002'!B:M,8,0)","v":"潮州市职业技术学校"},{"$f":"VLOOKUP(B2095,'[1]002'!B:M,11,0)","v":"-"},{"$f":"VLOOKUP(B2095,'[1]002'!B:M,12,0)","v":"-"}]
[2094,"P301519088330","一氧化碳中毒","中职组","课件","三等奖","云浮市",{"$f":"VLOOKUP(B2096,'[1]002'!B:M,7,0)","v":"黎焕容"},{"$f":"VLOOKUP(B2096,'[1]002'!B:M,8,0)","v":"广东省新兴中药学校"},{"$f":"VLOOKUP(B2096,'[1]002'!B:M,11,0)","v":"-"},{"$f":"VLOOKUP(B2096,'[1]002'!B:M,12,0)","v":"-"}]
[2095,"P302519093184","雨刮的检查与更换","中职组","微课","三等奖","广州市",{"$f":"VLOOKUP(B2097,'[1]002'!B:M,7,0)","v":"宁英毅"},{"$f":"VLOOKUP(B2097,'[1]002'!B:M,8,0)","v":"广州市交通运输职业学校"},{"$f":"VLOOKUP(B2097,'[1]002'!B:M,11,0)","v":"-"},{"$f":"VLOOKUP(B2097,'[1]002'!B:M,12,0)","v":"-"}]
[2096,"P302519093190","轻松学习Excel 分类汇总","中职组","微课","三等奖","广州市",{"$f":"VLOOKUP(B2098,'[1]002'!B:M,7,0)","v":"闾小燕"},{"$f":"VLOOKUP(B2098,'[1]002'!B:M,8,0)","v":"广州市市政职业学校"},{"$f":"VLOOKUP(B2098,'[1]002'!B:M,11,0)","v":"韦春艳"},{"$f":"VLOOKUP(B2098,'[1]002'!B:M,12,0)","v":"广州市市政职业学校"}]
[2097,"P302519093188","水浒传之三碗不过岗——品牌设计原则","中职组","微课","三等奖","广州市",{"$f":"VLOOKUP(B2099,'[1]002'!B:M,7,0)","v":"杨春丽"},{"$f":"VLOOKUP(B2099,'[1]002'!B:M,8,0)","v":"广州市商贸职业学校"},{"$f":"VLOOKUP(B2099,'[1]002'!B:M,11,0)","v":"邝宇翔"},{"$f":"VLOOKUP(B2099,'[1]002'!B:M,12,0)","v":"广州市商贸职业学校"}]
[2098,"P302519093183","剖面图与断面图","中职组","微课","三等奖","广州市",{"$f":"VLOOKUP(B2100,'[1]002'!B:M,7,0)","v":"刘慧娟"},{"$f":"VLOOKUP(B2100,'[1]002'!B:M,8,0)","v":"广州市建筑工程职业学校"},{"$f":"VLOOKUP(B2100,'[1]002'!B:M,11,0)","v":"-"},{"$f":"VLOOKUP(B2100,'[1]002'!B:M,12,0)","v":"-"}]
[2099,"P302519093191","局域网的资源共享设置","中职组","微课","三等奖","广州市",{"$f":"VLOOKUP(B2101,'[1]002'!B:M,7,0)","v":"李志鸿"},{"$f":"VLOOKUP(B2101,'[1]002'!B:M,8,0)","v":"广州市市政职业学校"},{"$f":"VLOOKUP(B2101,'[1]002'!B:M,11,0)","v":"-"},{"$f":"VLOOKUP(B2101,'[1]002'!B:M,12,0)","v":"-"}]
[2100,"P302519092777","云湃家长 APP     Banner 广告轮播效果","中职组","微课","三等奖","深圳市",{"$f":"VLOOKUP(B2102,'[1]002'!B:M,7,0)","v":"刘磊"},{"$f":"VLOOKUP(B2102,'[1]002'!B:M,8,0)","v":"深圳市福田区华强职业技术学校"},{"$f":"VLOOKUP(B2102,'[1]002'!B:M,11,0)","v":"-"},{"$f":"VLOOKUP(B2102,'[1]002'!B:M,12,0)","v":"-"}]
[2101,"P302519091916","制作网络跳线","中职组","微课","三等奖","汕头市",{"$f":"VLOOKUP(B2103,'[1]002'!B:M,7,0)","v":"马铁松"},{"$f":"VLOOKUP(B2103,'[1]002'!B:M,8,0)","v":"潮南区职业技术教育中心"},{"$f":"VLOOKUP(B2103,'[1]002'!B:M,11,0)","v":"-"},{"$f":"VLOOKUP(B2103,'[1]002'!B:M,12,0)","v":"-"}]
[2102,"P302519090566","商务礼仪","中职组","微课","三等奖","佛山市",{"$f":"VLOOKUP(B2104,'[1]002'!B:M,7,0)","v":"饶远慈"},{"$f":"VLOOKUP(B2104,'[1]002'!B:M,8,0)","v":"佛山市三水区工业中等专业学校"},{"$f":"VLOOKUP(B2104,'[1]002'!B:M,11,0)","v":"李唐昭"},{"$f":"VLOOKUP(B2104,'[1]002'!B:M,12,0)","v":"佛山市三水区工业中等专业学校"}]
[2103,"P302519090558","认识支票","中职组","微课","三等奖","佛山市",{"$f":"VLOOKUP(B2105,'[1]002'!B:M,7,0)","v":"肖菲玫"},{"$f":"VLOOKUP(B2105,'[1]002'!B:M,8,0)","v":"南海信息技术学校"},{"$f":"VLOOKUP(B2105,'[1]002'!B:M,11,0)","v":"-"},{"$f":"VLOOKUP(B2105,'[1]002'!B:M,12,0)","v":"-"}]
[2104,"P302519090554","多边形建模Maya","中职组","微课","三等奖","佛山市",{"$f":"VLOOKUP(B2106,'[1]002'!B:M,7,0)","v":"翟草霞"},{"$f":"VLOOKUP(B2106,'[1]002'!B:M,8,0)","v":"佛山市华材职业技术学校"},{"$f":"VLOOKUP(B2106,'[1]002'!B:M,11,0)","v":"-"},{"$f":"VLOOKUP(B2106,'[1]002'!B:M,12,0)","v":"-"}]
[2105,"P302519090567","个体户电商企业的工商登记","中职组","微课","三等奖","佛山市",{"$f":"VLOOKUP(B2107,'[1]002'!B:M,7,0)","v":"刘琳滢"},{"$f":"VLOOKUP(B2107,'[1]002'!B:M,8,0)","v":"佛山市三水区工业中等专业学校"},{"$f":"VLOOKUP(B2107,'[1]002'!B:M,11,0)","v":"张志瑜"},{"$f":"VLOOKUP(B2107,'[1]002'!B:M,12,0)","v":"佛山市三水区工业中等专业学校"}]
[2106,"P302519093282","3D打印轴承座","中职组","微课","三等奖","河源市",{"$f":"VLOOKUP(B2108,'[1]002'!B:M,7,0)","v":"郑晓彤"},{"$f":"VLOOKUP(B2108,'[1]002'!B:M,8,0)","v":"河源理工学校"},{"$f":"VLOOKUP(B2108,'[1]002'!B:M,11,0)","v":"彭晓航"},{"$f":"VLOOKUP(B2108,'[1]002'!B:M,12,0)","v":"河源理工学校"}]
[2107,"P302519093281","端接信息模块","中职组","微课","三等奖","河源市",{"$f":"VLOOKUP(B2109,'[1]002'!B:M,7,0)","v":"刘辉"},{"$f":"VLOOKUP(B2109,'[1]002'!B:M,8,0)","v":"河源理工学校"},{"$f":"VLOOKUP(B2109,'[1]002'!B:M,11,0)","v":"-"},{"$f":"VLOOKUP(B2109,'[1]002'!B:M,12,0)","v":"-"}]
[2108,"P302519093283","内分泌系统","中职组","微课","三等奖","河源市",{"$f":"VLOOKUP(B2110,'[1]002'!B:M,7,0)","v":"梁曼容"},{"$f":"VLOOKUP(B2110,'[1]002'!B:M,8,0)","v":"河源市职业技术学校"},{"$f":"VLOOKUP(B2110,'[1]002'!B:M,11,0)","v":"-"},{"$f":"VLOOKUP(B2110,'[1]002'!B:M,12,0)","v":"-"}]
[2109,"P302519080388","偶遇上互联网","中职组","微课","三等奖","梅州市",{"$f":"VLOOKUP(B2111,'[1]002'!B:M,7,0)","v":"吴琼祥"},{"$f":"VLOOKUP(B2111,'[1]002'!B:M,8,0)","v":"梅州城西职业技术学校"},{"$f":"VLOOKUP(B2111,'[1]002'!B:M,11,0)","v":"-"},{"$f":"VLOOKUP(B2111,'[1]002'!B:M,12,0)","v":"-"}]
[2110,"P302519087119","计算机硬件系统","中职组","微课","三等奖","梅州市",{"$f":"VLOOKUP(B2112,'[1]002'!B:M,7,0)","v":"章盼伟"},{"$f":"VLOOKUP(B2112,'[1]002'!B:M,8,0)","v":"梅州市梅县区第一职业学校"},{"$f":"VLOOKUP(B2112,'[1]002'!B:M,11,0)","v":"-"},{"$f":"VLOOKUP(B2112,'[1]002'!B:M,12,0)","v":"-"}]
[2111,"P302519092602","圆的标准方程","中职组","微课","三等奖","东莞市",{"$f":"VLOOKUP(B2113,'[1]002'!B:M,7,0)","v":"高晶"},{"$f":"VLOOKUP(B2113,'[1]002'!B:M,8,0)","v":"东莞市机电工程学校"},{"$f":"VLOOKUP(B2113,'[1]002'!B:M,11,0)","v":"张亚男"},{"$f":"VLOOKUP(B2113,'[1]002'!B:M,12,0)","v":"东莞市机电工程学校"}]
[2112,"P302519092601","同角三角函数基本关系式的运用1","中职组","微课","三等奖","东莞市",{"$f":"VLOOKUP(B2114,'[1]002'!B:M,7,0)","v":"王统增"},{"$f":"VLOOKUP(B2114,'[1]002'!B:M,8,0)","v":"东莞市商业学校"},{"$f":"VLOOKUP(B2114,'[1]002'!B:M,11,0)","v":"-"},{"$f":"VLOOKUP(B2114,'[1]002'!B:M,12,0)","v":"-"}]
[2113,"P302519092600","蛋白打发","中职组","微课","三等奖","东莞市",{"$f":"VLOOKUP(B2115,'[1]002'!B:M,7,0)","v":"边若男"},{"$f":"VLOOKUP(B2115,'[1]002'!B:M,8,0)","v":"东莞市轻工业学校"},{"$f":"VLOOKUP(B2115,'[1]002'!B:M,11,0)","v":"陈曼"},{"$f":"VLOOKUP(B2115,'[1]002'!B:M,12,0)","v":"东莞市轻工业学校"}]
[2114,"P302519092607","合同履行的原则","中职组","微课","三等奖","东莞市",{"$f":"VLOOKUP(B2116,'[1]002'!B:M,7,0)","v":"黄小燕"},{"$f":"VLOOKUP(B2116,'[1]002'!B:M,8,0)","v":"东莞市信息技术学校"},{"$f":"VLOOKUP(B2116,'[1]002'!B:M,11,0)","v":"刘梦"},{"$f":"VLOOKUP(B2116,'[1]002'!B:M,12,0)","v":"东莞市信息技术学校"}]
[2115,"P302519092595","Excel图表实际应用","中职组","微课","三等奖","东莞市",{"$f":"VLOOKUP(B2117,'[1]002'!B:M,7,0)","v":"谢培璇"},{"$f":"VLOOKUP(B2117,'[1]002'!B:M,8,0)","v":"东莞市信息技术学校"},{"$f":"VLOOKUP(B2117,'[1]002'!B:M,11,0)","v":"李永晓"},{"$f":"VLOOKUP(B2117,'[1]002'!B:M,12,0)","v":"东莞市信息技术学校"}]
[2116,"P302519092597","藏在地图里的数据","中职组","微课","三等奖","东莞市",{"$f":"VLOOKUP(B2118,'[1]002'!B:M,7,0)","v":"邹锰"},{"$f":"VLOOKUP(B2118,'[1]002'!B:M,8,0)","v":"东莞理工学校"},{"$f":"VLOOKUP(B2118,'[1]002'!B:M,11,0)","v":"黄建威"},{"$f":"VLOOKUP(B2118,'[1]002'!B:M,12,0)","v":"东莞理工学校"}]
[2117,"P302519092606","网店商品图细节设计","中职组","微课","三等奖","东莞市",{"$f":"VLOOKUP(B2119,'[1]002'!B:M,7,0)","v":"陈舒敏"},{"$f":"VLOOKUP(B2119,'[1]002'!B:M,8,0)","v":"东莞市信息技术学校"},{"$f":"VLOOKUP(B2119,'[1]002'!B:M,11,0)","v":"王强珍"},{"$f":"VLOOKUP(B2119,'[1]002'!B:M,12,0)","v":"东莞市信息技术学校"}]
[2118,"P302519092045","超声波距离传感器的综合应用","中职组","微课","三等奖","江门市",{"$f":"VLOOKUP(B2120,'[1]002'!B:M,7,0)","v":"黄春恒"},{"$f":"VLOOKUP(B2120,'[1]002'!B:M,8,0)","v":"台山市敬修职业技术学校"},{"$f":"VLOOKUP(B2120,'[1]002'!B:M,11,0)","v":"黄荣新"},{"$f":"VLOOKUP(B2120,'[1]002'!B:M,12,0)","v":"台山市敬修职业技术学校"}]
[2119,"P302519092044","胸部叩击及有效咳嗽","中职组","微课","三等奖","江门市",{"$f":"VLOOKUP(B2121,'[1]002'!B:M,7,0)","v":"何玉宝"},{"$f":"VLOOKUP(B2121,'[1]002'!B:M,8,0)","v":"台山市敬修职业技术学校"},{"$f":"VLOOKUP(B2121,'[1]002'!B:M,11,0)","v":"赵美娜"},{"$f":"VLOOKUP(B2121,'[1]002'!B:M,12,0)","v":"台山市敬修职业技术学校"}]
[2120,"P302519092021","叉车叉取卸载托盘","中职组","微课","三等奖","江门市",{"$f":"VLOOKUP(B2122,'[1]002'!B:M,7,0)","v":"温志海"},{"$f":"VLOOKUP(B2122,'[1]002'!B:M,8,0)","v":"开平市吴汉良理工学校"},{"$f":"VLOOKUP(B2122,'[1]002'!B:M,11,0)","v":"-"},{"$f":"VLOOKUP(B2122,'[1]002'!B:M,12,0)","v":"-"}]
[2121,"P302519092941","微量血糖测定","中职组","微课","三等奖","湛江市",{"$f":"VLOOKUP(B2123,'[1]002'!B:M,7,0)","v":"张翠玉"},{"$f":"VLOOKUP(B2123,'[1]002'!B:M,8,0)","v":"广东省湛江卫生学校"},{"$f":"VLOOKUP(B2123,'[1]002'!B:M,11,0)","v":"廖树政"},{"$f":"VLOOKUP(B2123,'[1]002'!B:M,12,0)","v":"广东省湛江卫生学校"}]
[2122,"P302519092939","信用证收付流程","中职组","微课","三等奖","湛江市",{"$f":"VLOOKUP(B2124,'[1]002'!B:M,7,0)","v":"陈小聪"},{"$f":"VLOOKUP(B2124,'[1]002'!B:M,8,0)","v":"湛江财贸中等专业学校"},{"$f":"VLOOKUP(B2124,'[1]002'!B:M,11,0)","v":"房昱芳"},{"$f":"VLOOKUP(B2124,'[1]002'!B:M,12,0)","v":"湛江财贸中等专业学校"}]
[2123,"P302519092944","手术器械辨认之钳类","中职组","微课","三等奖","湛江市",{"$f":"VLOOKUP(B2125,'[1]002'!B:M,7,0)","v":"黄益苗"},{"$f":"VLOOKUP(B2125,'[1]002'!B:M,8,0)","v":"广东省湛江卫生学校"},{"$f":"VLOOKUP(B2125,'[1]002'!B:M,11,0)","v":"王开炳"},{"$f":"VLOOKUP(B2125,'[1]002'!B:M,12,0)","v":"广东省湛江卫生学校"}]
[2124,"P302519092935","分娩机制","中职组","微课","三等奖","湛江市",{"$f":"VLOOKUP(B2126,'[1]002'!B:M,7,0)","v":"闫金凤"},{"$f":"VLOOKUP(B2126,'[1]002'!B:M,8,0)","v":"广东省湛江卫生学校"},{"$f":"VLOOKUP(B2126,'[1]002'!B:M,11,0)","v":"林春梅"},{"$f":"VLOOKUP(B2126,'[1]002'!B:M,12,0)","v":"广东省湛江卫生学校"}]
[2125,"P302519092943","Photoshop发丝抠图—通道","中职组","微课","三等奖","湛江市",{"$f":"VLOOKUP(B2127,'[1]002'!B:M,7,0)","v":"李春兰"},{"$f":"VLOOKUP(B2127,'[1]002'!B:M,8,0)","v":"湛江财贸中等专业学校"},{"$f":"VLOOKUP(B2127,'[1]002'!B:M,11,0)","v":"-"},{"$f":"VLOOKUP(B2127,'[1]002'!B:M,12,0)","v":"-"}]
[2126,"P302519092940","八分钟教你学会红字更正法","中职组","微课","三等奖","湛江市",{"$f":"VLOOKUP(B2128,'[1]002'!B:M,7,0)","v":"骆丽娜"},{"$f":"VLOOKUP(B2128,'[1]002'!B:M,8,0)","v":"湛江财贸中等专业学校"},{"$f":"VLOOKUP(B2128,'[1]002'!B:M,11,0)","v":"陈舒静"},{"$f":"VLOOKUP(B2128,'[1]002'!B:M,12,0)","v":"湛江财贸中等专业学校"}]
[2127,"P302519091339","成角透视","中职组","微课","三等奖","茂名市",{"$f":"VLOOKUP(B2129,'[1]002'!B:M,7,0)","v":"陈秋丽"},{"$f":"VLOOKUP(B2129,'[1]002'!B:M,8,0)","v":"信宜市职业技术学校"},{"$f":"VLOOKUP(B2129,'[1]002'!B:M,11,0)","v":"-"},{"$f":"VLOOKUP(B2129,'[1]002'!B:M,12,0)","v":"-"}]
[2128,"P302519091426","路灯控制电路的安装","中职组","微课","三等奖","茂名市",{"$f":"VLOOKUP(B2130,'[1]002'!B:M,7,0)","v":"崔海城"},{"$f":"VLOOKUP(B2130,'[1]002'!B:M,8,0)","v":"茂名市第一职业技术学校"},{"$f":"VLOOKUP(B2130,'[1]002'!B:M,11,0)","v":"-"},{"$f":"VLOOKUP(B2130,'[1]002'!B:M,12,0)","v":"-"}]
[2129,"P302519091373","制作图像的倒影效果","中职组","微课","三等奖","茂名市",{"$f":"VLOOKUP(B2131,'[1]002'!B:M,7,0)","v":"王嫄嫄"},{"$f":"VLOOKUP(B2131,'[1]002'!B:M,8,0)","v":"茂名市第二职业技术学校"},{"$f":"VLOOKUP(B2131,'[1]002'!B:M,11,0)","v":"梁翠婷"},{"$f":"VLOOKUP(B2131,'[1]002'!B:M,12,0)","v":"茂名市第二职业技术学校"}]
[2130,"P302519090282","邮件合并","中职组","微课","三等奖","肇庆市",{"$f":"VLOOKUP(B2132,'[1]002'!B:M,7,0)","v":"伍倩欣"},{"$f":"VLOOKUP(B2132,'[1]002'!B:M,8,0)","v":"肇庆市高要区中等职业学校"},{"$f":"VLOOKUP(B2132,'[1]002'!B:M,11,0)","v":"-"},{"$f":"VLOOKUP(B2132,'[1]002'!B:M,12,0)","v":"-"}]
[2131,"P302519089572","由知否里的茶事还原宋代七汤点茶法","中职组","微课","三等奖","潮州市",{"$f":"VLOOKUP(B2133,'[1]002'!B:M,7,0)","v":"谢美瑶"},{"$f":"VLOOKUP(B2133,'[1]002'!B:M,8,0)","v":"潮州市职业技术学校"},{"$f":"VLOOKUP(B2133,'[1]002'!B:M,11,0)","v":"-"},{"$f":"VLOOKUP(B2133,'[1]002'!B:M,12,0)","v":"-"}]
[2132,"P301519080296","在局域网内设置打印机共享","中职组","微课","三等奖","潮州市",{"$f":"VLOOKUP(B2134,'[1]002'!B:M,7,0)","v":"蔡阳"},{"$f":"VLOOKUP(B2134,'[1]002'!B:M,8,0)","v":"潮州市职业技术学校"},{"$f":"VLOOKUP(B2134,'[1]002'!B:M,11,0)","v":"-"},{"$f":"VLOOKUP(B2134,'[1]002'!B:M,12,0)","v":"-"}]
[2133,"P302519087615","随机函数","中职组","微课","三等奖","潮州市",{"$f":"VLOOKUP(B2135,'[1]002'!B:M,7,0)","v":"张良环"},{"$f":"VLOOKUP(B2135,'[1]002'!B:M,8,0)","v":"饶平县贡天职业技术学校"},{"$f":"VLOOKUP(B2135,'[1]002'!B:M,11,0)","v":"-"},{"$f":"VLOOKUP(B2135,'[1]002'!B:M,12,0)","v":"-"}]
[2134,"P302519087993","最小系统组装","中职组","微课","三等奖","云浮市",{"$f":"VLOOKUP(B2136,'[1]002'!B:M,7,0)","v":"邝梓键"},{"$f":"VLOOKUP(B2136,'[1]002'!B:M,8,0)","v":"郁南县职业技术学校"},{"$f":"VLOOKUP(B2136,'[1]002'!B:M,11,0)","v":"-"},{"$f":"VLOOKUP(B2136,'[1]002'!B:M,12,0)","v":"-"}]
[2135,"P302519079360","医药产品整体概念","中职组","微课","三等奖","云浮市",{"$f":"VLOOKUP(B2137,'[1]002'!B:M,7,0)","v":"邓智中"},{"$f":"VLOOKUP(B2137,'[1]002'!B:M,8,0)","v":"广东省新兴中药学校"},{"$f":"VLOOKUP(B2137,'[1]002'!B:M,11,0)","v":"陶敏婕"},{"$f":"VLOOKUP(B2137,'[1]002'!B:M,12,0)","v":"广东省新兴中药学校"}]
[2136,"P302519090478","双绞线水晶头的制作","中职组","微课","三等奖","云浮市",{"$f":"VLOOKUP(B2138,'[1]002'!B:M,7,0)","v":"彭意连"},{"$f":"VLOOKUP(B2138,'[1]002'!B:M,8,0)","v":"罗定市中等职业技术学校"},{"$f":"VLOOKUP(B2138,'[1]002'!B:M,11,0)","v":"-"},{"$f":"VLOOKUP(B2138,'[1]002'!B:M,12,0)","v":"-"}]
[2137,"P302519080649","圣诞贺卡","中职组","微课","三等奖","云浮市",{"$f":"VLOOKUP(B2139,'[1]002'!B:M,7,0)","v":"张峰"},{"$f":"VLOOKUP(B2139,'[1]002'!B:M,8,0)","v":"新兴理工学校"},{"$f":"VLOOKUP(B2139,'[1]002'!B:M,11,0)","v":"-"},{"$f":"VLOOKUP(B2139,'[1]002'!B:M,12,0)","v":"-"}]
[2138,"P303519093194","居民燃气入户安检—隐患排查","中职组","信息化教学课程案例","三等奖","广州市",{"$f":"VLOOKUP(B2140,'[1]002'!B:M,7,0)","v":"冯晶琛"},{"$f":"VLOOKUP(B2140,'[1]002'!B:M,8,0)","v":"广州市交通运输职业学校"},{"$f":"VLOOKUP(B2140,'[1]002'!B:M,11,0)","v":"李刚"},{"$f":"VLOOKUP(B2140,'[1]002'!B:M,12,0)","v":"广州市交通运输职业学校"}]
[2139,"P303519093196","分类汇总的使用","中职组","信息化教学课程案例","三等奖","广州市",{"$f":"VLOOKUP(B2141,'[1]002'!B:M,7,0)","v":"王翔"},{"$f":"VLOOKUP(B2141,'[1]002'!B:M,8,0)","v":"广州市土地房产管理职业学校"},{"$f":"VLOOKUP(B2141,'[1]002'!B:M,11,0)","v":"袁嘉"},{"$f":"VLOOKUP(B2141,'[1]002'!B:M,12,0)","v":"广州市土地房产管理职业学校"}]
[2140,"P303519093192","钢琴弹奏与即兴伴奏","中职组","信息化教学课程案例","三等奖","广州市",{"$f":"VLOOKUP(B2142,'[1]002'!B:M,7,0)","v":"王安琪"},{"$f":"VLOOKUP(B2142,'[1]002'!B:M,8,0)","v":"广州市司法职业学校"},{"$f":"VLOOKUP(B2142,'[1]002'!B:M,11,0)","v":"许婉"},{"$f":"VLOOKUP(B2142,'[1]002'!B:M,12,0)","v":"广州市司法职业学校"}]
[2141,"P303519093201","IM营销技巧的应用","中职组","信息化教学课程案例","三等奖","广州市",{"$f":"VLOOKUP(B2143,'[1]002'!B:M,7,0)","v":"卢玙"},{"$f":"VLOOKUP(B2143,'[1]002'!B:M,8,0)","v":"广州市增城区东方职业技术学校"},{"$f":"VLOOKUP(B2143,'[1]002'!B:M,11,0)","v":"徐锐杰"},{"$f":"VLOOKUP(B2143,'[1]002'!B:M,12,0)","v":"广州市增城区东方职业技术学校"}]
[2142,"P303519092769","比喻在商品文案中的运用——荷塘月色综合实践活动","中职组","信息化教学课程案例","三等奖","深圳市",{"$f":"VLOOKUP(B2144,'[1]002'!B:M,7,0)","v":"林森森"},{"$f":"VLOOKUP(B2144,'[1]002'!B:M,8,0)","v":"深圳市第二职业技术学校"},{"$f":"VLOOKUP(B2144,'[1]002'!B:M,11,0)","v":"-"},{"$f":"VLOOKUP(B2144,'[1]002'!B:M,12,0)","v":"-"}]
[2143,"P303519092771","错账更正法","中职组","信息化教学课程案例","三等奖","深圳市",{"$f":"VLOOKUP(B2145,'[1]002'!B:M,7,0)","v":"游美君"},{"$f":"VLOOKUP(B2145,'[1]002'!B:M,8,0)","v":"深圳市第二职业技术学校"},{"$f":"VLOOKUP(B2145,'[1]002'!B:M,11,0)","v":"杨茜"},{"$f":"VLOOKUP(B2145,'[1]002'!B:M,12,0)","v":"深圳市第二职业技术学校"}]
[2144,"P303519090602","荷塘月色","中职组","信息化教学课程案例","三等奖","佛山市",{"$f":"VLOOKUP(B2146,'[1]002'!B:M,7,0)","v":"卢娟"},{"$f":"VLOOKUP(B2146,'[1]002'!B:M,8,0)","v":"佛山市顺德区勒流职业技术学校"},{"$f":"VLOOKUP(B2146,'[1]002'!B:M,11,0)","v":"-"},{"$f":"VLOOKUP(B2146,'[1]002'!B:M,12,0)","v":"-"}]
[2145,"P303519090604","食品包装盒设计与制作","中职组","信息化教学课程案例","三等奖","佛山市",{"$f":"VLOOKUP(B2147,'[1]002'!B:M,7,0)","v":"何淑芬"},{"$f":"VLOOKUP(B2147,'[1]002'!B:M,8,0)","v":"佛山市三水区工业中等专业学校"},{"$f":"VLOOKUP(B2147,'[1]002'!B:M,11,0)","v":"陆勤灵"},{"$f":"VLOOKUP(B2147,'[1]002'!B:M,12,0)","v":"佛山市三水区工业中等专业学校"}]
[2146,"P303519090595","中职英语语法虚拟语气的运用","中职组","信息化教学课程案例","三等奖","佛山市",{"$f":"VLOOKUP(B2148,'[1]002'!B:M,7,0)","v":"赵淑妍"},{"$f":"VLOOKUP(B2148,'[1]002'!B:M,8,0)","v":"佛山市华材职业技术学校"},{"$f":"VLOOKUP(B2148,'[1]002'!B:M,11,0)","v":"-"},{"$f":"VLOOKUP(B2148,'[1]002'!B:M,12,0)","v":"-"}]
[2147,"P303519093297","百变哲学","中职组","信息化教学课程案例","三等奖","河源市",{"$f":"VLOOKUP(B2149,'[1]002'!B:M,7,0)","v":"刘晓芳"},{"$f":"VLOOKUP(B2149,'[1]002'!B:M,8,0)","v":"河源市职业技术学校"},{"$f":"VLOOKUP(B2149,'[1]002'!B:M,11,0)","v":"-"},{"$f":"VLOOKUP(B2149,'[1]002'!B:M,12,0)","v":"-"}]
[2148,"P303519093296","微信营销","中职组","信息化教学课程案例","三等奖","河源市",{"$f":"VLOOKUP(B2150,'[1]002'!B:M,7,0)","v":"苏路丹"},{"$f":"VLOOKUP(B2150,'[1]002'!B:M,8,0)","v":"河源理工学校"},{"$f":"VLOOKUP(B2150,'[1]002'!B:M,11,0)","v":"曾宪基"},{"$f":"VLOOKUP(B2150,'[1]002'!B:M,12,0)","v":"河源理工学校"}]
[2149,"P303519090181","常见民族民间舞欣赏","中职组","信息化教学课程案例","三等奖","梅州市",{"$f":"VLOOKUP(B2151,'[1]002'!B:M,7,0)","v":"罗龙珠"},{"$f":"VLOOKUP(B2151,'[1]002'!B:M,8,0)","v":"大埔县田家炳高级职业学校"},{"$f":"VLOOKUP(B2151,'[1]002'!B:M,11,0)","v":"-"},{"$f":"VLOOKUP(B2151,'[1]002'!B:M,12,0)","v":"-"}]
[2150,"P303519092817","以情绘鲤_传统水墨鲤鱼的绘画技法","中职组","信息化教学课程案例","三等奖","东莞市",{"$f":"VLOOKUP(B2152,'[1]002'!B:M,7,0)","v":"王琳"},{"$f":"VLOOKUP(B2152,'[1]002'!B:M,8,0)","v":"东莞市经济贸易学校"},{"$f":"VLOOKUP(B2152,'[1]002'!B:M,11,0)","v":"马勇林"},{"$f":"VLOOKUP(B2152,'[1]002'!B:M,12,0)","v":"东莞市经济贸易学校"}]
[2151,"P303519092818","二维动画设计与制作","中职组","信息化教学课程案例","三等奖","东莞市",{"$f":"VLOOKUP(B2153,'[1]002'!B:M,7,0)","v":"何圆春"},{"$f":"VLOOKUP(B2153,'[1]002'!B:M,8,0)","v":"东莞市信息技术学校"},{"$f":"VLOOKUP(B2153,'[1]002'!B:M,11,0)","v":"张宝升"},{"$f":"VLOOKUP(B2153,'[1]002'!B:M,12,0)","v":"东莞市信息技术学校"}]
[2152,"P303519089300","V形凿刀技法","中职组","信息化教学课程案例","三等奖","中山市",{"$f":"VLOOKUP(B2154,'[1]002'!B:M,7,0)","v":"张婷婷"},{"$f":"VLOOKUP(B2154,'[1]002'!B:M,8,0)","v":"中山市港口理工学校"},{"$f":"VLOOKUP(B2154,'[1]002'!B:M,11,0)","v":"廖三平"},{"$f":"VLOOKUP(B2154,'[1]002'!B:M,12,0)","v":"中山市港口理工学校"}]
[2153,"P303519092066","信息技术变革体育课教学模式——“我爱瑜伽”教学案例","中职组","信息化教学课程案例","三等奖","江门市",{"$f":"VLOOKUP(B2155,'[1]002'!B:M,7,0)","v":"尹一平"},{"$f":"VLOOKUP(B2155,'[1]002'!B:M,8,0)","v":"鹤山市职业技术学校"},{"$f":"VLOOKUP(B2155,'[1]002'!B:M,11,0)","v":"罗利梅"},{"$f":"VLOOKUP(B2155,'[1]002'!B:M,12,0)","v":"鹤山市职业技术学校"}]
[2154,"P303519091428","让图片”说话”","中职组","信息化教学课程案例","三等奖","茂名市",{"$f":"VLOOKUP(B2156,'[1]002'!B:M,7,0)","v":"李幸"},{"$f":"VLOOKUP(B2156,'[1]002'!B:M,8,0)","v":"茂名市第二职业技术学校"},{"$f":"VLOOKUP(B2156,'[1]002'!B:M,11,0)","v":"梁燕秋"},{"$f":"VLOOKUP(B2156,'[1]002'!B:M,12,0)","v":"茂名市第二职业技术学校"}]
[2155,"P303519091289","职工薪酬的核算","中职组","信息化教学课程案例","三等奖","肇庆市",{"$f":"VLOOKUP(B2157,'[1]002'!B:M,7,0)","v":"林绮桃"},{"$f":"VLOOKUP(B2157,'[1]002'!B:M,8,0)","v":"肇庆市经贸中等职业学校"},{"$f":"VLOOKUP(B2157,'[1]002'!B:M,11,0)","v":"-"},{"$f":"VLOOKUP(B2157,'[1]002'!B:M,12,0)","v":"-"}]
[2156,"P303519088320","血细胞分析仪的使用","中职组","信息化教学课程案例","三等奖","云浮市",{"$f":"VLOOKUP(B2158,'[1]002'!B:M,7,0)","v":"欧瑾仪"},{"$f":"VLOOKUP(B2158,'[1]002'!B:M,8,0)","v":"广东省新兴中药学校"},{"$f":"VLOOKUP(B2158,'[1]002'!B:M,11,0)","v":"-"},{"$f":"VLOOKUP(B2158,'[1]002'!B:M,12,0)","v":"-"}]
[2157,"P301619088421","摄影构图","高教组","课件","一等奖",null,{"$f":"VLOOKUP(B2159,[1]高教组!B:M,6,0)","v":"黄杰洪"},{"$f":"VLOOKUP(B2159,[1]高教组!B:M,7,0)","v":"广东环境保护工程职业学院"},{"$f":"VLOOKUP(B2159,[1]高教组!B:M,8,0)","v":"江伟"},{"$f":"VLOOKUP(B2159,[1]高教组!B:M,9,0)","v":"广东环境保护工程职业学院"}]
[2158,"P301619087233","机冲出跑道应急救援桌面演练学习及模拟训练平台","高教组","课件","一等奖",null,{"$f":"VLOOKUP(B2160,[1]高教组!B:M,6,0)","v":"郑嘉曦"},{"$f":"VLOOKUP(B2160,[1]高教组!B:M,7,0)","v":"广州民航职业技术学院"},{"$f":"VLOOKUP(B2160,[1]高教组!B:M,8,0)","v":"林修杰"},{"$f":"VLOOKUP(B2160,[1]高教组!B:M,9,0)","v":"广州民航职业技术学院"}]
[2159,"P301619089319","基于AR的虚拟智能制造仿真教学平台","高教组","课件","一等奖",null,{"$f":"VLOOKUP(B2161,[1]高教组!B:M,6,0)","v":"刘杰"},{"$f":"VLOOKUP(B2161,[1]高教组!B:M,7,0)","v":"深圳职业技术学院"},{"$f":"VLOOKUP(B2161,[1]高教组!B:M,8,0)","v":"-"},{"$f":"VLOOKUP(B2161,[1]高教组!B:M,9,0)","v":"-"}]
[2160,"P301619086181","毒品分类与识别","高教组","课件","一等奖",null,"汤锋","广州城建职业学院","曹春华","广州城建职业学院"]
[2161,"P301619092796","PPT的设计与制作","高教组","课件","一等奖",null,{"$f":"VLOOKUP(B2163,[1]高教组!B:M,6,0)","v":"蓝丽萍"},{"$f":"VLOOKUP(B2163,[1]高教组!B:M,7,0)","v":"广东技术师范大学"},{"$f":"VLOOKUP(B2163,[1]高教组!B:M,8,0)","v":"林月姣"},{"$f":"VLOOKUP(B2163,[1]高教组!B:M,9,0)","v":"广东技术师范大学"}]
[2162,"P301619089986","风筝","高教组","课件","一等奖",null,{"$f":"VLOOKUP(B2164,[1]高教组!B:M,6,0)","v":"张金刚"},{"$f":"VLOOKUP(B2164,[1]高教组!B:M,7,0)","v":"湛江幼儿师范专科学校"},{"$f":"VLOOKUP(B2164,[1]高教组!B:M,8,0)","v":"张嘉庆"},{"$f":"VLOOKUP(B2164,[1]高教组!B:M,9,0)","v":"佛山市顺德区昌教小学"}]
[2163,"P301619086796","动量守恒定律","高教组","课件","一等奖",null,{"$f":"VLOOKUP(B2165,[1]高教组!B:M,6,0)","v":"谭毅"},{"$f":"VLOOKUP(B2165,[1]高教组!B:M,7,0)","v":"广东第二师范学院"},{"$f":"VLOOKUP(B2165,[1]高教组!B:M,8,0)","v":"-"},{"$f":"VLOOKUP(B2165,[1]高教组!B:M,9,0)","v":"-"}]
[2164,"P302619092247","家禽翼下静脉采血技术","高教组","微课","一等奖","惠州市",{"$f":"VLOOKUP(B2166,'[1]002'!B:M,7,0)","v":"季艳菊"},{"$f":"VLOOKUP(B2166,'[1]002'!B:M,8,0)","v":"惠州工程技术学校"},{"$f":"VLOOKUP(B2166,'[1]002'!B:M,11,0)","v":"孙闯"},{"$f":"VLOOKUP(B2166,'[1]002'!B:M,12,0)","v":"惠州工程技术学校"}]
[2165,"P302619088408","脂肪消失的秘密&mdash;&mdash;甘油三酯分解代谢","高教组","微课","一等奖",null,{"$f":"VLOOKUP(B2167,[1]高教组!B:M,6,0)","v":"黄翠虹"},{"$f":"VLOOKUP(B2167,[1]高教组!B:M,7,0)","v":"顺德职业技术学院"},{"$f":"VLOOKUP(B2167,[1]高教组!B:M,8,0)","v":"-"},{"$f":"VLOOKUP(B2167,[1]高教组!B:M,9,0)","v":"-"}]
[2166,"P302619090220","血糖生成指数和血糖负荷","高教组","微课","一等奖",null,{"$f":"VLOOKUP(B2168,[1]高教组!B:M,6,0)","v":"贾青"},{"$f":"VLOOKUP(B2168,[1]高教组!B:M,7,0)","v":"广东医科大学"},{"$f":"VLOOKUP(B2168,[1]高教组!B:M,8,0)","v":"-"},{"$f":"VLOOKUP(B2168,[1]高教组!B:M,9,0)","v":"-"}]
[2167,"P302619087728","万物互联 连接未来","高教组","微课","一等奖",null,{"$f":"VLOOKUP(B2169,[1]高教组!B:M,6,0)","v":"孙蓉菲"},{"$f":"VLOOKUP(B2169,[1]高教组!B:M,7,0)","v":"华南师范大学"},{"$f":"VLOOKUP(B2169,[1]高教组!B:M,8,0)","v":"张妙华"},{"$f":"VLOOKUP(B2169,[1]高教组!B:M,9,0)","v":"华南师范大学"}]
[2168,"P302619087790","四步完成翻转课堂的设计","高教组","微课","一等奖",null,{"$f":"VLOOKUP(B2170,[1]高教组!B:M,6,0)","v":"尹睿"},{"$f":"VLOOKUP(B2170,[1]高教组!B:M,7,0)","v":"华南师范大学"},{"$f":"VLOOKUP(B2170,[1]高教组!B:M,8,0)","v":"巫纯丹"},{"$f":"VLOOKUP(B2170,[1]高教组!B:M,9,0)","v":"华南师范大学"}]
[2169,"P302619085961","喂爱坚持母乳喂养指导","高教组","微课","一等奖",null,{"$f":"VLOOKUP(B2171,[1]高教组!B:M,6,0)","v":"郑长花"},{"$f":"VLOOKUP(B2171,[1]高教组!B:M,7,0)","v":"广州卫生职业技术学院"},{"$f":"VLOOKUP(B2171,[1]高教组!B:M,8,0)","v":"彭慧蛟"},{"$f":"VLOOKUP(B2171,[1]高教组!B:M,9,0)","v":"广州卫生职业技术学院"}]
[2170,"P302619088325","武术旋风脚","高教组","微课","一等奖",null,{"$f":"VLOOKUP(B2172,[1]高教组!B:M,6,0)","v":"田桂菊"},{"$f":"VLOOKUP(B2172,[1]高教组!B:M,7,0)","v":"深圳职业技术学院"},{"$f":"VLOOKUP(B2172,[1]高教组!B:M,8,0)","v":"陈雁杨"},{"$f":"VLOOKUP(B2172,[1]高教组!B:M,9,0)","v":"深圳职业技术学院"}]
[2171,"P302619092022","潮州工夫茶二十一式","高教组","微课","一等奖",null,{"$f":"VLOOKUP(B2173,[1]高教组!B:M,6,0)","v":"张海燕"},{"$f":"VLOOKUP(B2173,[1]高教组!B:M,7,0)","v":"广东技术师范大学"},{"$f":"VLOOKUP(B2173,[1]高教组!B:M,8,0)","v":"-"},{"$f":"VLOOKUP(B2173,[1]高教组!B:M,9,0)","v":"-"}]
[2172,"P302619087291","供应商现场考察: 望闻问切四诊法","高教组","微课","一等奖",null,{"$f":"VLOOKUP(B2174,[1]高教组!B:M,6,0)","v":"刘刚桥"},{"$f":"VLOOKUP(B2174,[1]高教组!B:M,7,0)","v":"顺德职业技术学院"},{"$f":"VLOOKUP(B2174,[1]高教组!B:M,8,0)","v":"师建华"},{"$f":"VLOOKUP(B2174,[1]高教组!B:M,9,0)","v":"顺德职业技术学院"}]
[2173,"P302619092614","人造板材知多少","高教组","微课","一等奖",null,{"$f":"VLOOKUP(B2175,[1]高教组!B:M,6,0)","v":"罗向兼"},{"$f":"VLOOKUP(B2175,[1]高教组!B:M,7,0)","v":"广东技术师范大学"},{"$f":"VLOOKUP(B2175,[1]高教组!B:M,8,0)","v":"-"},{"$f":"VLOOKUP(B2175,[1]高教组!B:M,9,0)","v":"-"}]
[2174,"P302619088314","脂肪去哪儿-人体对脂肪的消化及脂类食物的选择","高教组","微课","一等奖",null,{"$f":"VLOOKUP(B2176,[1]高教组!B:M,6,0)","v":"江津津"},{"$f":"VLOOKUP(B2176,[1]高教组!B:M,7,0)","v":"广州城市职业学院"},{"$f":"VLOOKUP(B2176,[1]高教组!B:M,8,0)","v":"胡玉玫"},{"$f":"VLOOKUP(B2176,[1]高教组!B:M,9,0)","v":"广州城市职业学院"}]
[2175,"P302619089098","口服片剂的类型和用法","高教组","微课","一等奖",null,{"$f":"VLOOKUP(B2177,[1]高教组!B:M,6,0)","v":"易少凌"},{"$f":"VLOOKUP(B2177,[1]高教组!B:M,7,0)","v":"广东食品药品职业学院"},{"$f":"VLOOKUP(B2177,[1]高教组!B:M,8,0)","v":"陈伶俐"},{"$f":"VLOOKUP(B2177,[1]高教组!B:M,9,0)","v":"广东食品药品职业学院"}]
[2176,"P303619090497","综合德语信息化教学课程案例","高教组","信息化教学课程案例","一等奖",null,{"$f":"VLOOKUP(B2178,[1]高教组!B:M,6,0)","v":"曹洁"},{"$f":"VLOOKUP(B2178,[1]高教组!B:M,7,0)","v":"深圳职业技术学院"},{"$f":"VLOOKUP(B2178,[1]高教组!B:M,8,0)","v":"齐剑鹏"},{"$f":"VLOOKUP(B2178,[1]高教组!B:M,9,0)","v":"深圳职业技术学院"}]
[2177,"P303619091570","跨国企业管理信息化教学课程案例专题介绍","高教组","信息化教学课程案例","一等奖",null,{"$f":"VLOOKUP(B2179,[1]高教组!B:M,6,0)","v":"朱文博浩"},{"$f":"VLOOKUP(B2179,[1]高教组!B:M,7,0)","v":"广东白云学院"},{"$f":"VLOOKUP(B2179,[1]高教组!B:M,8,0)","v":"-"},{"$f":"VLOOKUP(B2179,[1]高教组!B:M,9,0)","v":"-"}]
[2178,"P303619088162","K线组合信息化教学案例","高教组","信息化教学课程案例","一等奖",null,{"$f":"VLOOKUP(B2180,[1]高教组!B:M,6,0)","v":"何练"},{"$f":"VLOOKUP(B2180,[1]高教组!B:M,7,0)","v":"吉林大学珠海学院"},{"$f":"VLOOKUP(B2180,[1]高教组!B:M,8,0)","v":"-"},{"$f":"VLOOKUP(B2180,[1]高教组!B:M,9,0)","v":"-"}]
[2179,"P303619089073","广告做得好 创意最重要&mdash;&mdash;广告创意的表现原则与运用","高教组","信息化教学课程案例","一等奖",null,{"$f":"VLOOKUP(B2181,[1]高教组!B:M,6,0)","v":"冯雁"},{"$f":"VLOOKUP(B2181,[1]高教组!B:M,7,0)","v":"珠海城市职业技术学院"},{"$f":"VLOOKUP(B2181,[1]高教组!B:M,8,0)","v":"-"},{"$f":"VLOOKUP(B2181,[1]高教组!B:M,9,0)","v":"-"}]
[2180,"P303619080902","高尔夫击球技术校正","高教组","信息化教学课程案例","一等奖",null,{"$f":"VLOOKUP(B2182,[1]高教组!B:M,6,0)","v":"常金鑫"},{"$f":"VLOOKUP(B2182,[1]高教组!B:M,7,0)","v":"佛山职业技术学院"},{"$f":"VLOOKUP(B2182,[1]高教组!B:M,8,0)","v":"-"},{"$f":"VLOOKUP(B2182,[1]高教组!B:M,9,0)","v":"-"}]
[2181,"P301619091131","生产制造商运营管理","高教组","课件","二等奖",null,{"$f":"VLOOKUP(B2183,[1]高教组!B:M,6,0)","v":"贺雪荣"},{"$f":"VLOOKUP(B2183,[1]高教组!B:M,7,0)","v":"广东白云学院"},{"$f":"VLOOKUP(B2183,[1]高教组!B:M,8,0)","v":"-"},{"$f":"VLOOKUP(B2183,[1]高教组!B:M,9,0)","v":"-"}]
[2182,"P440000000001","猜拳游戏——选择与循环","高教组","课件","二等奖",null,"陆冰琳","广东东软学院","-","-"]
[2183,"P301619088793","爸爸去哪儿","高教组","课件","二等奖",null,{"$f":"VLOOKUP(B2185,[1]高教组!B:M,6,0)","v":"胡垂立"},{"$f":"VLOOKUP(B2185,[1]高教组!B:M,7,0)","v":"广州工商学院"},{"$f":"VLOOKUP(B2185,[1]高教组!B:M,8,0)","v":"-"},{"$f":"VLOOKUP(B2185,[1]高教组!B:M,9,0)","v":"-"}]
[2184,"P440000000002","生活中的ERP","高教组","课件","二等奖",null,"张爽","广东东软学院","-","-"]
[2185,"P301619086030","VR大型商用服务器拆装教学系统","高教组","课件","二等奖",null,{"$f":"VLOOKUP(B2187,[1]高教组!B:M,6,0)","v":"李金子"},{"$f":"VLOOKUP(B2187,[1]高教组!B:M,7,0)","v":"深圳职业技术学院"},{"$f":"VLOOKUP(B2187,[1]高教组!B:M,8,0)","v":"孙宏伟"},{"$f":"VLOOKUP(B2187,[1]高教组!B:M,9,0)","v":"深圳职业技术学院"}]
[2186,"P301619087883","传动类机械部件装配图虚拟现实辅助学习软件","高教组","课件","二等奖",null,{"$f":"VLOOKUP(B2188,[1]高教组!B:M,6,0)","v":"江方记"},{"$f":"VLOOKUP(B2188,[1]高教组!B:M,7,0)","v":"深圳职业技术学院"},{"$f":"VLOOKUP(B2188,[1]高教组!B:M,8,0)","v":"吕利昌"},{"$f":"VLOOKUP(B2188,[1]高教组!B:M,9,0)","v":"深圳职业技术学院"}]
[2187,"P301619079918","记账凭证","高教组","课件","二等奖",null,{"$f":"VLOOKUP(B2189,[1]高教组!B:M,6,0)","v":"李秀霞"},{"$f":"VLOOKUP(B2189,[1]高教组!B:M,7,0)","v":"广东工商职业学院"},{"$f":"VLOOKUP(B2189,[1]高教组!B:M,8,0)","v":"黄艳芳"},{"$f":"VLOOKUP(B2189,[1]高教组!B:M,9,0)","v":"广东工商职业学院"}]
[2188,"P301619087945","&ldquo;农业网站制作实训教程&rdquo;网络课件","高教组","课件","二等奖",null,{"$f":"VLOOKUP(B2190,[1]高教组!B:M,6,0)","v":"付志文"},{"$f":"VLOOKUP(B2190,[1]高教组!B:M,7,0)","v":"仲恺农业工程学院"},{"$f":"VLOOKUP(B2190,[1]高教组!B:M,8,0)","v":"吴东醒"},{"$f":"VLOOKUP(B2190,[1]高教组!B:M,9,0)","v":"仲恺农业工程学院"}]
[2189,"P301619087994","翻转课堂的 课前设计","高教组","课件","二等奖",null,"钟丽霞","广东第二师范学院","-","-"]
[2190,"P301619088844","利尿药","高教组","课件","二等奖",null,{"$f":"VLOOKUP(B2192,[1]高教组!B:M,6,0)","v":"林丽飞"},{"$f":"VLOOKUP(B2192,[1]高教组!B:M,7,0)","v":"广东茂名健康职业学院"},{"$f":"VLOOKUP(B2192,[1]高教组!B:M,8,0)","v":"杨梅"},{"$f":"VLOOKUP(B2192,[1]高教组!B:M,9,0)","v":"广东茂名健康职业学院"}]
[2191,"P440000000006","Typing Practice","高教组","课件","二等奖",null,"王天然","广东技术师范大学","-","-"]
[2192,"P301619089964","机构自由度分析","高教组","课件","二等奖",null,{"$f":"VLOOKUP(B2194,[1]高教组!B:M,6,0)","v":"江帆"},{"$f":"VLOOKUP(B2194,[1]高教组!B:M,7,0)","v":"广州大学"},{"$f":"VLOOKUP(B2194,[1]高教组!B:M,8,0)","v":"-"},{"$f":"VLOOKUP(B2194,[1]高教组!B:M,9,0)","v":"-"}]
[2193,"P301619091446","发动机有害排放物净化系统","高教组","课件","二等奖",null,{"$f":"VLOOKUP(B2195,[1]高教组!B:M,6,0)","v":"曾令超"},{"$f":"VLOOKUP(B2195,[1]高教组!B:M,7,0)","v":"广东白云学院"},{"$f":"VLOOKUP(B2195,[1]高教组!B:M,8,0)","v":"-"},{"$f":"VLOOKUP(B2195,[1]高教组!B:M,9,0)","v":"-"}]
[2194,"P301619089466","海姆立克急救法","高教组","课件","二等奖",null,{"$f":"VLOOKUP(B2196,[1]高教组!B:M,6,0)","v":"李颖"},{"$f":"VLOOKUP(B2196,[1]高教组!B:M,7,0)","v":"广东医科大学"},{"$f":"VLOOKUP(B2196,[1]高教组!B:M,8,0)","v":"-"},{"$f":"VLOOKUP(B2196,[1]高教组!B:M,9,0)","v":"-"}]
[2195,"P301619088351","平衡膳食 一日营养食谱设计","高教组","课件","二等奖",null,{"$f":"VLOOKUP(B2197,[1]高教组!B:M,6,0)","v":"王英"},{"$f":"VLOOKUP(B2197,[1]高教组!B:M,7,0)","v":"广州城市职业学院"},{"$f":"VLOOKUP(B2197,[1]高教组!B:M,8,0)","v":"张越华"},{"$f":"VLOOKUP(B2197,[1]高教组!B:M,9,0)","v":"广州城市职业学院"}]
[2196,"P301619089492","心电学基本知识","高教组","课件","二等奖",null,{"$f":"VLOOKUP(B2198,[1]高教组!B:M,6,0)","v":"李海念"},{"$f":"VLOOKUP(B2198,[1]高教组!B:M,7,0)","v":"广东茂名健康职业学院"},{"$f":"VLOOKUP(B2198,[1]高教组!B:M,8,0)","v":"-"},{"$f":"VLOOKUP(B2198,[1]高教组!B:M,9,0)","v":"-"}]
[2197,"P302619089257","CrazyTalk让人物图片开口说话","高教组","微课","二等奖",null,{"$f":"VLOOKUP(B2199,[1]高教组!B:M,6,0)","v":"詹宏基"},{"$f":"VLOOKUP(B2199,[1]高教组!B:M,7,0)","v":"华南理工大学"},{"$f":"VLOOKUP(B2199,[1]高教组!B:M,8,0)","v":"麻晓林"},{"$f":"VLOOKUP(B2199,[1]高教组!B:M,9,0)","v":"华南理工大学"}]
[2198,"P302619089818","网络经济中的&ldquo;长尾理论&rdquo;","高教组","微课","二等奖",null,{"$f":"VLOOKUP(B2200,[1]高教组!B:M,6,0)","v":"李曼"},{"$f":"VLOOKUP(B2200,[1]高教组!B:M,7,0)","v":"广东东软学院"},{"$f":"VLOOKUP(B2200,[1]高教组!B:M,8,0)","v":"-"},{"$f":"VLOOKUP(B2200,[1]高教组!B:M,9,0)","v":"-"}]
[2199,"P302619087453","火柴人走路动画制作-Flash元件应用","高教组","微课","二等奖",null,{"$f":"VLOOKUP(B2201,[1]高教组!B:M,6,0)","v":"王婧"},{"$f":"VLOOKUP(B2201,[1]高教组!B:M,7,0)","v":"吉林大学珠海学院"},{"$f":"VLOOKUP(B2201,[1]高教组!B:M,8,0)","v":"-"},{"$f":"VLOOKUP(B2201,[1]高教组!B:M,9,0)","v":"-"}]
[2200,"P302619089733","消费者知觉的特性","高教组","微课","二等奖",null,{"$f":"VLOOKUP(B2202,[1]高教组!B:M,6,0)","v":"李苹绣"},{"$f":"VLOOKUP(B2202,[1]高教组!B:M,7,0)","v":"广东东软学院"},{"$f":"VLOOKUP(B2202,[1]高教组!B:M,8,0)","v":"鲁海英"},{"$f":"VLOOKUP(B2202,[1]高教组!B:M,9,0)","v":"广东东软学院"}]
[2201,"P302619086925","中国结与数学","高教组","微课","二等奖",null,"阎昕明","广东第二师范学院","-","-"]
[2202,"P302619087679","解读工匠精神","高教组","微课","二等奖",null,{"$f":"VLOOKUP(B2204,[1]高教组!B:M,6,0)","v":"蔡小葵"},{"$f":"VLOOKUP(B2204,[1]高教组!B:M,7,0)","v":"广东轻工职业技术学院"},{"$f":"VLOOKUP(B2204,[1]高教组!B:M,8,0)","v":"赵薇"},{"$f":"VLOOKUP(B2204,[1]高教组!B:M,9,0)","v":"广东轻工职业技术学院"}]
[2203,"P302619088786","注塑产品的收缩特性","高教组","微课","二等奖",null,{"$f":"VLOOKUP(B2205,[1]高教组!B:M,6,0)","v":"黄晓明"},{"$f":"VLOOKUP(B2205,[1]高教组!B:M,7,0)","v":"广东岭南职业技术学院"},{"$f":"VLOOKUP(B2205,[1]高教组!B:M,8,0)","v":"田晶"},{"$f":"VLOOKUP(B2205,[1]高教组!B:M,9,0)","v":"广东岭南职业技术学院"}]
[2204,"P302619088026","设计思维之思维发散","高教组","微课","二等奖",null,{"$f":"VLOOKUP(B2206,[1]高教组!B:M,6,0)","v":"詹泽慧"},{"$f":"VLOOKUP(B2206,[1]高教组!B:M,7,0)","v":"华南师范大学"},{"$f":"VLOOKUP(B2206,[1]高教组!B:M,8,0)","v":"邵芳芳"},{"$f":"VLOOKUP(B2206,[1]高教组!B:M,9,0)","v":"华南师范大学"}]
[2205,"P302619088956","Interview Strategies","高教组","微课","二等奖",null,{"$f":"VLOOKUP(B2207,[1]高教组!B:M,6,0)","v":"陈绮雯"},{"$f":"VLOOKUP(B2207,[1]高教组!B:M,7,0)","v":"中山大学新华学院"},{"$f":"VLOOKUP(B2207,[1]高教组!B:M,8,0)","v":"谭雄胜"},{"$f":"VLOOKUP(B2207,[1]高教组!B:M,9,0)","v":"中山大学新华学院"}]
[2206,"P302619091133","石子表观密度的测定","高教组","微课","二等奖",null,{"$f":"VLOOKUP(B2208,[1]高教组!B:M,6,0)","v":"林锦眉"},{"$f":"VLOOKUP(B2208,[1]高教组!B:M,7,0)","v":"广东工业大学华立学院"},{"$f":"VLOOKUP(B2208,[1]高教组!B:M,8,0)","v":"张波"},{"$f":"VLOOKUP(B2208,[1]高教组!B:M,9,0)","v":"广东工业大学华立学院"}]
[2207,"P302619088414","初识电除尘器","高教组","微课","二等奖",null,{"$f":"VLOOKUP(B2209,[1]高教组!B:M,6,0)","v":"何建林"},{"$f":"VLOOKUP(B2209,[1]高教组!B:M,7,0)","v":"广东环境保护工程职业学院"},{"$f":"VLOOKUP(B2209,[1]高教组!B:M,8,0)","v":"黄杰洪"},{"$f":"VLOOKUP(B2209,[1]高教组!B:M,9,0)","v":"广东环境保护工程职业学院"}]
[2208,"P302619081553","定积分的定义","高教组","微课","二等奖",null,{"$f":"VLOOKUP(B2210,[1]高教组!B:M,6,0)","v":"魏悦姿"},{"$f":"VLOOKUP(B2210,[1]高教组!B:M,7,0)","v":"广州医科大学"},{"$f":"VLOOKUP(B2210,[1]高教组!B:M,8,0)","v":"-"},{"$f":"VLOOKUP(B2210,[1]高教组!B:M,9,0)","v":"-"}]
[2209,"P302619086849","习近平强军思想领航建设世界一流军队","高教组","微课","二等奖",null,{"$f":"VLOOKUP(B2211,[1]高教组!B:M,6,0)","v":"余芳"},{"$f":"VLOOKUP(B2211,[1]高教组!B:M,7,0)","v":"广东轻工职业技术学院"},{"$f":"VLOOKUP(B2211,[1]高教组!B:M,8,0)","v":"许为谨"},{"$f":"VLOOKUP(B2211,[1]高教组!B:M,9,0)","v":"广东轻工职业技术学院"}]
[2210,"P302619091273","典型的热能转换装置","高教组","微课","二等奖",null,{"$f":"VLOOKUP(B2212,[1]高教组!B:M,6,0)","v":"冯甜甜"},{"$f":"VLOOKUP(B2212,[1]高教组!B:M,7,0)","v":"广东白云学院"},{"$f":"VLOOKUP(B2212,[1]高教组!B:M,8,0)","v":"-"},{"$f":"VLOOKUP(B2212,[1]高教组!B:M,9,0)","v":"-"}]
[2211,"P302619091172","七十二变之分身术利用AE遮罩功能打造分身特效","高教组","微课","二等奖",null,{"$f":"VLOOKUP(B2213,[1]高教组!B:M,6,0)","v":"高平"},{"$f":"VLOOKUP(B2213,[1]高教组!B:M,7,0)","v":"广州商学院"},{"$f":"VLOOKUP(B2213,[1]高教组!B:M,8,0)","v":"曾小兰"},{"$f":"VLOOKUP(B2213,[1]高教组!B:M,9,0)","v":"广州商学院"}]
[2212,"P302619088455","一点透视技法","高教组","微课","二等奖",null,{"$f":"VLOOKUP(B2214,[1]高教组!B:M,6,0)","v":"万可萌"},{"$f":"VLOOKUP(B2214,[1]高教组!B:M,7,0)","v":"广州华南商贸职业学院"},{"$f":"VLOOKUP(B2214,[1]高教组!B:M,8,0)","v":"李端慧"},{"$f":"VLOOKUP(B2214,[1]高教组!B:M,9,0)","v":"广州华南商贸职业学院"}]
[2213,"P302619090209","生活中的物理学&mdash;&mdash;转动","高教组","微课","二等奖",null,{"$f":"VLOOKUP(B2215,[1]高教组!B:M,6,0)","v":"张伟"},{"$f":"VLOOKUP(B2215,[1]高教组!B:M,7,0)","v":"暨南大学"},{"$f":"VLOOKUP(B2215,[1]高教组!B:M,8,0)","v":"陆星"},{"$f":"VLOOKUP(B2215,[1]高教组!B:M,9,0)","v":"暨南大学"}]
[2214,"P440000000005","神奇的if函数","高教组","微课","二等奖",null,"王强","广东技术师范大学","徐省华","广东技术师范大学"]
[2215,"P302619086077","哆啦A梦番外Arduino蓝牙通信","高教组","微课","二等奖",null,{"$f":"VLOOKUP(B2217,[1]高教组!B:M,6,0)","v":"魏彦"},{"$f":"VLOOKUP(B2217,[1]高教组!B:M,7,0)","v":"深圳职业技术学院"},{"$f":"VLOOKUP(B2217,[1]高教组!B:M,8,0)","v":"-"},{"$f":"VLOOKUP(B2217,[1]高教组!B:M,9,0)","v":"-"}]
[2216,"P302619086329","拥抱的力量儿童海式急救法","高教组","微课","二等奖",null,{"$f":"VLOOKUP(B2218,[1]高教组!B:M,6,0)","v":"黄婉霞"},{"$f":"VLOOKUP(B2218,[1]高教组!B:M,7,0)","v":"广州卫生职业技术学院"},{"$f":"VLOOKUP(B2218,[1]高教组!B:M,8,0)","v":"贺艳"},{"$f":"VLOOKUP(B2218,[1]高教组!B:M,9,0)","v":"广州卫生职业技术学院"}]
[2217,"P302619089049","液体制剂的合理应用及药学服务技巧","高教组","微课","二等奖",null,{"$f":"VLOOKUP(B2219,[1]高教组!B:M,6,0)","v":"陈伶俐"},{"$f":"VLOOKUP(B2219,[1]高教组!B:M,7,0)","v":"广东食品药品职业学院"},{"$f":"VLOOKUP(B2219,[1]高教组!B:M,8,0)","v":"林青"},{"$f":"VLOOKUP(B2219,[1]高教组!B:M,9,0)","v":"广东食品药品职业学院"}]
[2218,"P302619090527","摄影的光位","高教组","微课","二等奖",null,{"$f":"VLOOKUP(B2220,[1]高教组!B:M,6,0)","v":"何莉丽"},{"$f":"VLOOKUP(B2220,[1]高教组!B:M,7,0)","v":"广东工业大学华立学院"},{"$f":"VLOOKUP(B2220,[1]高教组!B:M,8,0)","v":"肖华英"},{"$f":"VLOOKUP(B2220,[1]高教组!B:M,9,0)","v":"广东工业大学华立学院"}]
[2219,"P303619086274","大货柜巧计算选择最佳的集装箱装箱方案","高教组","信息化教学课程案例","二等奖",null,"王莹书","广州城建职业学院","李志强","广州城建职业学院"]
[2220,"P303619090007","护理人员伦理道德规范","高教组","信息化教学课程案例","二等奖",null,{"$f":"VLOOKUP(B2222,[1]高教组!B:M,6,0)","v":"王丽萍"},{"$f":"VLOOKUP(B2222,[1]高教组!B:M,7,0)","v":"广东医科大学"},{"$f":"VLOOKUP(B2222,[1]高教组!B:M,8,0)","v":"孙嘉"},{"$f":"VLOOKUP(B2222,[1]高教组!B:M,9,0)","v":"广东医科大学"}]
[2221,"P440000000004","仪器分析技术信息化课程教学案例","高教组","信息化教学课程案例","二等奖",null,"赵文华","中山职业技术学院","杨秋菊","中山职业技术学院"]
[2222,"P303619087789","&ldquo;学术诚信与剽窃&rdquo;混合式教学案例","高教组","信息化教学课程案例","二等奖",null,{"$f":"VLOOKUP(B2224,[1]高教组!B:M,6,0)","v":"张倩苇"},{"$f":"VLOOKUP(B2224,[1]高教组!B:M,7,0)","v":"华南师范大学"},{"$f":"VLOOKUP(B2224,[1]高教组!B:M,8,0)","v":"谭健豪"},{"$f":"VLOOKUP(B2224,[1]高教组!B:M,9,0)","v":"华南师范大学"}]
[2223,"P303619090211","MG动画的制作","高教组","信息化教学课程案例","二等奖",null,{"$f":"VLOOKUP(B2225,[1]高教组!B:M,6,0)","v":"詹宏基"},{"$f":"VLOOKUP(B2225,[1]高教组!B:M,7,0)","v":"华南理工大学"},{"$f":"VLOOKUP(B2225,[1]高教组!B:M,8,0)","v":"刘广"},{"$f":"VLOOKUP(B2225,[1]高教组!B:M,9,0)","v":"华南理工大学"}]
[2224,"P303619091249","信息化教学在XML技术课程中的应用","高教组","信息化教学课程案例","二等奖",null,{"$f":"VLOOKUP(B2226,[1]高教组!B:M,6,0)","v":"徐宝林"},{"$f":"VLOOKUP(B2226,[1]高教组!B:M,7,0)","v":"广东白云学院"},{"$f":"VLOOKUP(B2226,[1]高教组!B:M,8,0)","v":"-"},{"$f":"VLOOKUP(B2226,[1]高教组!B:M,9,0)","v":"-"}]
[2225,"P303619088081","课程思政视域下的创客培养研究","高教组","信息化教学课程案例","二等奖",null,{"$f":"VLOOKUP(B2227,[1]高教组!B:M,6,0)","v":"王楚鸿"},{"$f":"VLOOKUP(B2227,[1]高教组!B:M,7,0)","v":"华南师范大学"},{"$f":"VLOOKUP(B2227,[1]高教组!B:M,8,0)","v":"蔡韶华"},{"$f":"VLOOKUP(B2227,[1]高教组!B:M,9,0)","v":"华南师范大学"}]
[2226,"P303619087377","工匠精神的知与行","高教组","信息化教学课程案例","二等奖",null,{"$f":"VLOOKUP(B2228,[1]高教组!B:M,6,0)","v":"蔡小葵"},{"$f":"VLOOKUP(B2228,[1]高教组!B:M,7,0)","v":"广东轻工职业技术学院"},{"$f":"VLOOKUP(B2228,[1]高教组!B:M,8,0)","v":"余芳"},{"$f":"VLOOKUP(B2228,[1]高教组!B:M,9,0)","v":"广东轻工职业技术学院"}]
[2227,"P303619088905","翻转课堂-PBL教学案例视频","高教组","信息化教学课程案例","二等奖",null,{"$f":"VLOOKUP(B2229,[1]高教组!B:M,6,0)","v":"刘盈"},{"$f":"VLOOKUP(B2229,[1]高教组!B:M,7,0)","v":"中山大学新华学院"},{"$f":"VLOOKUP(B2229,[1]高教组!B:M,8,0)","v":"张素中"},{"$f":"VLOOKUP(B2229,[1]高教组!B:M,9,0)","v":"中山大学新华学院"}]
[2228,"P303619090511","讲好长征故事弘扬长征精神","高教组","信息化教学课程案例","二等奖",null,{"$f":"VLOOKUP(B2230,[1]高教组!B:M,6,0)","v":"李作芳"},{"$f":"VLOOKUP(B2230,[1]高教组!B:M,7,0)","v":"广东工业大学华立学院"},{"$f":"VLOOKUP(B2230,[1]高教组!B:M,8,0)","v":"李炽平"},{"$f":"VLOOKUP(B2230,[1]高教组!B:M,9,0)","v":"广东工业大学华立学院"}]
[2229,"P303619091459","无效劳动合同与劳动争议处理制度","高教组","信息化教学课程案例","二等奖",null,{"$f":"VLOOKUP(B2231,[1]高教组!B:M,6,0)","v":"陈 欢"},{"$f":"VLOOKUP(B2231,[1]高教组!B:M,7,0)","v":"私立华联学院"},{"$f":"VLOOKUP(B2231,[1]高教组!B:M,8,0)","v":"李伟俭"},{"$f":"VLOOKUP(B2231,[1]高教组!B:M,9,0)","v":"私立华联学院"}]
[2230,"P303619088257","H5导航栏设计","高教组","信息化教学课程案例","二等奖",null,{"$f":"VLOOKUP(B2232,[1]高教组!B:M,6,0)","v":"李泽文"},{"$f":"VLOOKUP(B2232,[1]高教组!B:M,7,0)","v":"广州城市职业学院"},{"$f":"VLOOKUP(B2232,[1]高教组!B:M,8,0)","v":"陈晓柱"},{"$f":"VLOOKUP(B2232,[1]高教组!B:M,9,0)","v":"广州城市职业学院"}]
[2231,"P301619088297","原子吸收分光光度计","高教组","课件","三等奖",null,{"$f":"VLOOKUP(B2233,[1]高教组!B:M,6,0)","v":"吴荣方"},{"$f":"VLOOKUP(B2233,[1]高教组!B:M,7,0)","v":"广东环境保护工程职业学院"},{"$f":"VLOOKUP(B2233,[1]高教组!B:M,8,0)","v":"林书乐"},{"$f":"VLOOKUP(B2233,[1]高教组!B:M,9,0)","v":"广东环境保护工程职业学院"}]
[2232,"P301619091573","北欧设计风格","高教组","课件","三等奖",null,{"$f":"VLOOKUP(B2234,[1]高教组!B:M,6,0)","v":"吴珊"},{"$f":"VLOOKUP(B2234,[1]高教组!B:M,7,0)","v":"广东白云学院"},{"$f":"VLOOKUP(B2234,[1]高教组!B:M,8,0)","v":"-"},{"$f":"VLOOKUP(B2234,[1]高教组!B:M,9,0)","v":"-"}]
[2233,"P301619089015","绽放的互联网金融","高教组","课件","三等奖",null,"王一琳","广州工商学院","赵鑫","广州工商学院"]
[2234,"P301619079920","室内空间设计的概况","高教组","课件","三等奖",null,"梁少芳","广东工商职业学院","-","-"]
[2235,"P301619088463","一点透视技法","高教组","课件","三等奖",null,{"$f":"VLOOKUP(B2237,[1]高教组!B:M,6,0)","v":"万可萌"},{"$f":"VLOOKUP(B2237,[1]高教组!B:M,7,0)","v":"广州华南商贸职业学院"},{"$f":"VLOOKUP(B2237,[1]高教组!B:M,8,0)","v":"李端慧"},{"$f":"VLOOKUP(B2237,[1]高教组!B:M,9,0)","v":"广州华南商贸职业学院"}]
[2236,"P301619085567","导尿及留置导尿管护理","高教组","课件","三等奖",null,{"$f":"VLOOKUP(B2238,[1]高教组!B:M,6,0)","v":"李雪丽"},{"$f":"VLOOKUP(B2238,[1]高教组!B:M,7,0)","v":"广州医科大学"},{"$f":"VLOOKUP(B2238,[1]高教组!B:M,8,0)","v":"叶清霞"},{"$f":"VLOOKUP(B2238,[1]高教组!B:M,9,0)","v":"广州医科大学"}]
[2237,"P301619088812","美丽人生 从齿开始","高教组","课件","三等奖",null,{"$f":"VLOOKUP(B2239,[1]高教组!B:M,6,0)","v":"杨梅"},{"$f":"VLOOKUP(B2239,[1]高教组!B:M,7,0)","v":"广东茂名健康职业学院"},{"$f":"VLOOKUP(B2239,[1]高教组!B:M,8,0)","v":"林丽飞"},{"$f":"VLOOKUP(B2239,[1]高教组!B:M,9,0)","v":"广东茂名健康职业学院"}]
[2238,"P301619088964","新中式空间的设计","高教组","课件","三等奖",null,{"$f":"VLOOKUP(B2240,[1]高教组!B:M,6,0)","v":"邓向群"},{"$f":"VLOOKUP(B2240,[1]高教组!B:M,7,0)","v":"私立华联学院"},{"$f":"VLOOKUP(B2240,[1]高教组!B:M,8,0)","v":"-"},{"$f":"VLOOKUP(B2240,[1]高教组!B:M,9,0)","v":"-"}]
[2239,"P301619091275","会计要素","高教组","课件","三等奖",null,{"$f":"VLOOKUP(B2241,[1]高教组!B:M,6,0)","v":"单志红"},{"$f":"VLOOKUP(B2241,[1]高教组!B:M,7,0)","v":"广东工业大学华立学院"},{"$f":"VLOOKUP(B2241,[1]高教组!B:M,8,0)","v":"-"},{"$f":"VLOOKUP(B2241,[1]高教组!B:M,9,0)","v":"-"}]
[2240,"P301619089832","数据有效性","高教组","课件","三等奖",null,{"$f":"VLOOKUP(B2242,[1]高教组!B:M,6,0)","v":"叶小莺"},{"$f":"VLOOKUP(B2242,[1]高教组!B:M,7,0)","v":"广东东软学院"},{"$f":"VLOOKUP(B2242,[1]高教组!B:M,8,0)","v":"-"},{"$f":"VLOOKUP(B2242,[1]高教组!B:M,9,0)","v":"-"}]
[2241,"P301619090091","AnimalProtection","高教组","课件","三等奖",null,{"$f":"VLOOKUP(B2243,[1]高教组!B:M,6,0)","v":"周晓丽"},{"$f":"VLOOKUP(B2243,[1]高教组!B:M,7,0)","v":"广州商学院"},{"$f":"VLOOKUP(B2243,[1]高教组!B:M,8,0)","v":"-"},{"$f":"VLOOKUP(B2243,[1]高教组!B:M,9,0)","v":"-"}]
[2242,"P301619088284","鹦鹉螺Nautilus（壳分析软件）","高教组","课件","三等奖",null,{"$f":"VLOOKUP(B2244,[1]高教组!B:M,6,0)","v":"刘虓"},{"$f":"VLOOKUP(B2244,[1]高教组!B:M,7,0)","v":"华南理工大学"},{"$f":"VLOOKUP(B2244,[1]高教组!B:M,8,0)","v":"-"},{"$f":"VLOOKUP(B2244,[1]高教组!B:M,9,0)","v":"-"}]
[2243,"P301619089150","基础日语课件","高教组","课件","三等奖",null,{"$f":"VLOOKUP(B2245,[1]高教组!B:M,6,0)","v":"陈姗姗"},{"$f":"VLOOKUP(B2245,[1]高教组!B:M,7,0)","v":"仲恺农业工程学院"},{"$f":"VLOOKUP(B2245,[1]高教组!B:M,8,0)","v":"-"},{"$f":"VLOOKUP(B2245,[1]高教组!B:M,9,0)","v":"-"}]
[2244,"P301619089159","1.1系统管理（ERP模拟实训）","高教组","课件","三等奖",null,{"$f":"VLOOKUP(B2246,[1]高教组!B:M,6,0)","v":"陈小慧"},{"$f":"VLOOKUP(B2246,[1]高教组!B:M,7,0)","v":"华南理工大学广州学院"},{"$f":"VLOOKUP(B2246,[1]高教组!B:M,8,0)","v":"-"},{"$f":"VLOOKUP(B2246,[1]高教组!B:M,9,0)","v":"-"}]
[2245,"P301619090082","导向信息设计课件","高教组","课件","三等奖",null,{"$f":"VLOOKUP(B2247,[1]高教组!B:M,6,0)","v":"张雅"},{"$f":"VLOOKUP(B2247,[1]高教组!B:M,7,0)","v":"仲恺农业工程学院"},{"$f":"VLOOKUP(B2247,[1]高教组!B:M,8,0)","v":"宋璟瑜"},{"$f":"VLOOKUP(B2247,[1]高教组!B:M,9,0)","v":"仲恺农业工程学院"}]
[2246,"P301619089312","动画概论中国动画","高教组","课件","三等奖",null,{"$f":"VLOOKUP(B2248,[1]高教组!B:M,6,0)","v":"史云昊"},{"$f":"VLOOKUP(B2248,[1]高教组!B:M,7,0)","v":"广州大学松田学院"},{"$f":"VLOOKUP(B2248,[1]高教组!B:M,8,0)","v":"朱学勤"},{"$f":"VLOOKUP(B2248,[1]高教组!B:M,9,0)","v":"广州大学松田学院"}]
[2247,"P301619088632","金融学","高教组","课件","三等奖",null,{"$f":"VLOOKUP(B2249,[1]高教组!B:M,6,0)","v":"马超平"},{"$f":"VLOOKUP(B2249,[1]高教组!B:M,7,0)","v":"广州工商学院"},{"$f":"VLOOKUP(B2249,[1]高教组!B:M,8,0)","v":"易露霞"},{"$f":"VLOOKUP(B2249,[1]高教组!B:M,9,0)","v":"广州工商学院"}]
[2248,"P301619088088","回到童年的时光机","高教组","课件","三等奖",null,{"$f":"VLOOKUP(B2250,[1]高教组!B:M,6,0)","v":"汤雪娜"},{"$f":"VLOOKUP(B2250,[1]高教组!B:M,7,0)","v":"广州华南商贸职业学院"},{"$f":"VLOOKUP(B2250,[1]高教组!B:M,8,0)","v":"-"},{"$f":"VLOOKUP(B2250,[1]高教组!B:M,9,0)","v":"-"}]
[2249,"P301619086378","庭院设计平面构图模式","高教组","课件","三等奖",null,"傅嘉维","广州城建职业学院","-","-"]
[2250,"P301619090078","Love Make the World Go round","高教组","课件","三等奖",null,{"$f":"VLOOKUP(B2252,[1]高教组!B:M,6,0)","v":"周晓丽"},{"$f":"VLOOKUP(B2252,[1]高教组!B:M,7,0)","v":"广州商学院"},{"$f":"VLOOKUP(B2252,[1]高教组!B:M,8,0)","v":"-"},{"$f":"VLOOKUP(B2252,[1]高教组!B:M,9,0)","v":"-"}]
[2251,"P301619089690","香料紫罗兰酮生产工艺虚拟仿真实验软件","高教组","课件","三等奖",null,{"$f":"VLOOKUP(B2253,[1]高教组!B:M,6,0)","v":"梁红"},{"$f":"VLOOKUP(B2253,[1]高教组!B:M,7,0)","v":"广州大学"},{"$f":"VLOOKUP(B2253,[1]高教组!B:M,8,0)","v":"李树华"},{"$f":"VLOOKUP(B2253,[1]高教组!B:M,9,0)","v":"广州大学"}]
[2252,"P301619089743","软文营销","高教组","课件","三等奖",null,{"$f":"VLOOKUP(B2254,[1]高教组!B:M,6,0)","v":"金蓉"},{"$f":"VLOOKUP(B2254,[1]高教组!B:M,7,0)","v":"广州民航职业技术学院"},{"$f":"VLOOKUP(B2254,[1]高教组!B:M,8,0)","v":"罗闻泉"},{"$f":"VLOOKUP(B2254,[1]高教组!B:M,9,0)","v":"广州民航职业技术学院"}]
[2253,"P302619092248","苔藓微景观生态瓶的制作","高教组","微课","三等奖","惠州市",{"$f":"VLOOKUP(B2255,'[1]002'!B:M,7,0)","v":"杨丽华"},{"$f":"VLOOKUP(B2255,'[1]002'!B:M,8,0)","v":"惠州工程技术学校"},{"$f":"VLOOKUP(B2255,'[1]002'!B:M,11,0)","v":"林秀莲"},{"$f":"VLOOKUP(B2255,'[1]002'!B:M,12,0)","v":"惠州工程技术学校"}]
[2254,"P302619092870","英语否定形式表示肯定意义","高教组","微课","三等奖","湛江市",{"$f":"VLOOKUP(B2256,'[1]002'!B:M,7,0)","v":"黄理坚"},{"$f":"VLOOKUP(B2256,'[1]002'!B:M,8,0)","v":"湛江开放大学"},{"$f":"VLOOKUP(B2256,'[1]002'!B:M,11,0)","v":"梁静雯"},{"$f":"VLOOKUP(B2256,'[1]002'!B:M,12,0)","v":"湛江开放大学"}]
[2255,"P302619088911","识读生活污水处理厂设计图纸","高教组","微课","三等奖",null,{"$f":"VLOOKUP(B2257,[1]高教组!B:M,6,0)","v":"李慧颖"},{"$f":"VLOOKUP(B2257,[1]高教组!B:M,7,0)","v":"广东环境保护工程职业学院"},{"$f":"VLOOKUP(B2257,[1]高教组!B:M,8,0)","v":"-"},{"$f":"VLOOKUP(B2257,[1]高教组!B:M,9,0)","v":"-"}]
[2256,"P302619088113","纸的半立体设计","高教组","微课","三等奖",null,{"$f":"VLOOKUP(B2258,[1]高教组!B:M,6,0)","v":"萧玥"},{"$f":"VLOOKUP(B2258,[1]高教组!B:M,7,0)","v":"广州华南商贸职业学院"},{"$f":"VLOOKUP(B2258,[1]高教组!B:M,8,0)","v":"于平"},{"$f":"VLOOKUP(B2258,[1]高教组!B:M,9,0)","v":"广州华南商贸职业学院"}]
[2257,"P302619088154","轮椅旅客服务流程","高教组","微课","三等奖",null,{"$f":"VLOOKUP(B2259,[1]高教组!B:M,6,0)","v":"王文芳"},{"$f":"VLOOKUP(B2259,[1]高教组!B:M,7,0)","v":"广州民航职业技术学院"},{"$f":"VLOOKUP(B2259,[1]高教组!B:M,8,0)","v":"-"},{"$f":"VLOOKUP(B2259,[1]高教组!B:M,9,0)","v":"-"}]
[2258,"P302619079039","闭合水准路线高差闭合差计算与调整","高教组","微课","三等奖",null,{"$f":"VLOOKUP(B2260,[1]高教组!B:M,6,0)","v":"王盾"},{"$f":"VLOOKUP(B2260,[1]高教组!B:M,7,0)","v":"惠州学院"},{"$f":"VLOOKUP(B2260,[1]高教组!B:M,8,0)","v":"-"},{"$f":"VLOOKUP(B2260,[1]高教组!B:M,9,0)","v":"-"}]
[2259,"P302619090164","体量创建及幕墙嵌板制作以广州塔为例","高教组","微课","三等奖",null,{"$f":"VLOOKUP(B2261,[1]高教组!B:M,6,0)","v":"王晓轩"},{"$f":"VLOOKUP(B2261,[1]高教组!B:M,7,0)","v":"广东工业大学华立学院"},{"$f":"VLOOKUP(B2261,[1]高教组!B:M,8,0)","v":"陈静"},{"$f":"VLOOKUP(B2261,[1]高教组!B:M,9,0)","v":"广东工业大学华立学院"}]
[2260,"P302619089734","时间就是心肌时间就是生命","高教组","微课","三等奖",null,{"$f":"VLOOKUP(B2262,[1]高教组!B:M,6,0)","v":"熊海燕"},{"$f":"VLOOKUP(B2262,[1]高教组!B:M,7,0)","v":"广东茂名健康职业学院"},{"$f":"VLOOKUP(B2262,[1]高教组!B:M,8,0)","v":"邹银婷"},{"$f":"VLOOKUP(B2262,[1]高教组!B:M,9,0)","v":"广东茂名健康职业学院"}]
[2261,"P302619087490","什么是儿童文学","高教组","微课","三等奖",null,{"$f":"VLOOKUP(B2263,[1]高教组!B:M,6,0)","v":"王彦波"},{"$f":"VLOOKUP(B2263,[1]高教组!B:M,7,0)","v":"广东第二师范学院"},{"$f":"VLOOKUP(B2263,[1]高教组!B:M,8,0)","v":"-"},{"$f":"VLOOKUP(B2263,[1]高教组!B:M,9,0)","v":"-"}]
[2262,"P302619079088","动脉粥样硬化","高教组","微课","三等奖",null,"张绘宇","广州医科大学","-","-"]
[2263,"P302619089973","网络安全小课堂","高教组","微课","三等奖",null,{"$f":"VLOOKUP(B2265,[1]高教组!B:M,6,0)","v":"陈军"},{"$f":"VLOOKUP(B2265,[1]高教组!B:M,7,0)","v":"广东技术师范大学"},{"$f":"VLOOKUP(B2265,[1]高教组!B:M,8,0)","v":"李文鑫"},{"$f":"VLOOKUP(B2265,[1]高教组!B:M,9,0)","v":"广东技术师范大学"}]
[2264,"P302619087538","时间的相对性","高教组","微课","三等奖",null,{"$f":"VLOOKUP(B2266,[1]高教组!B:M,6,0)","v":"陈碧梅"},{"$f":"VLOOKUP(B2266,[1]高教组!B:M,7,0)","v":"吉林大学珠海学院"},{"$f":"VLOOKUP(B2266,[1]高教组!B:M,8,0)","v":"-"},{"$f":"VLOOKUP(B2266,[1]高教组!B:M,9,0)","v":"-"}]
[2265,"P302619090107","动脉粥样硬化","高教组","微课","三等奖",null,{"$f":"VLOOKUP(B2267,[1]高教组!B:M,6,0)","v":"孙嘉"},{"$f":"VLOOKUP(B2267,[1]高教组!B:M,7,0)","v":"广东医科大学"},{"$f":"VLOOKUP(B2267,[1]高教组!B:M,8,0)","v":"成莹"},{"$f":"VLOOKUP(B2267,[1]高教组!B:M,9,0)","v":"广东医科大学"}]
[2266,"P302619088750","机上安全广播（In-flight Safety Announcements）","高教组","微课","三等奖",null,{"$f":"VLOOKUP(B2268,[1]高教组!B:M,6,0)","v":"张朝霞"},{"$f":"VLOOKUP(B2268,[1]高教组!B:M,7,0)","v":"广州民航职业技术学院"},{"$f":"VLOOKUP(B2268,[1]高教组!B:M,8,0)","v":"-"},{"$f":"VLOOKUP(B2268,[1]高教组!B:M,9,0)","v":"-"}]
[2267,"P302619093278","美食作文法让四级写作变成小菜一碟","高教组","微课","三等奖",null,{"$f":"VLOOKUP(B2269,[1]高教组!B:M,6,0)","v":"周银新"},{"$f":"VLOOKUP(B2269,[1]高教组!B:M,7,0)","v":"广东水利电力职业技术学院"},{"$f":"VLOOKUP(B2269,[1]高教组!B:M,8,0)","v":"-"},{"$f":"VLOOKUP(B2269,[1]高教组!B:M,9,0)","v":"-"}]
[2268,"P302619089615","Photoshop cs5 图像处理基础：操控变形的应用","高教组","微课","三等奖",null,{"$f":"VLOOKUP(B2270,[1]高教组!B:M,6,0)","v":"翁权杰"},{"$f":"VLOOKUP(B2270,[1]高教组!B:M,7,0)","v":"广州商学院"},{"$f":"VLOOKUP(B2270,[1]高教组!B:M,8,0)","v":"-"},{"$f":"VLOOKUP(B2270,[1]高教组!B:M,9,0)","v":"-"}]
[2269,"P302619086373","面试-精心准备至关重要","高教组","微课","三等奖",null,"蒋明丽","广州城建职业学院","周银新","广州城建职业学院"]
[2270,"P302619079069","正常骨髓细胞形态鉴别","高教组","微课","三等奖",null,"林梅双","广州医科大学","-","-"]
[2271,"P302619091134","高效液相色谱在药物分析中的应用-以高效液相色谱测定小儿百部止咳糖浆中黄芩苷的含量为例","高教组","微课","三等奖",null,{"$f":"VLOOKUP(B2273,[1]高教组!B:M,6,0)","v":"周伟明"},{"$f":"VLOOKUP(B2273,[1]高教组!B:M,7,0)","v":"广东食品药品职业学院"},{"$f":"VLOOKUP(B2273,[1]高教组!B:M,8,0)","v":"李利花"},{"$f":"VLOOKUP(B2273,[1]高教组!B:M,9,0)","v":"广东食品药品职业学院"}]
[2272,"P302619086217","绿色战袍手术衣穿法","高教组","微课","三等奖",null,{"$f":"VLOOKUP(B2274,[1]高教组!B:M,6,0)","v":"李莲"},{"$f":"VLOOKUP(B2274,[1]高教组!B:M,7,0)","v":"广州卫生职业技术学院"},{"$f":"VLOOKUP(B2274,[1]高教组!B:M,8,0)","v":"王文文"},{"$f":"VLOOKUP(B2274,[1]高教组!B:M,9,0)","v":"广州卫生职业技术学院"}]
[2273,"P302619088723","图解账龄分析","高教组","微课","三等奖",null,{"$f":"VLOOKUP(B2275,[1]高教组!B:M,6,0)","v":"黄妍君"},{"$f":"VLOOKUP(B2275,[1]高教组!B:M,7,0)","v":"广东工商职业学院"},{"$f":"VLOOKUP(B2275,[1]高教组!B:M,8,0)","v":"杜小桃"},{"$f":"VLOOKUP(B2275,[1]高教组!B:M,9,0)","v":"广东工商职业学院"}]
[2274,"P302619079033","复合函数的二阶偏导举例","高教组","微课","三等奖",null,{"$f":"VLOOKUP(B2276,[1]高教组!B:M,6,0)","v":"罗辉"},{"$f":"VLOOKUP(B2276,[1]高教组!B:M,7,0)","v":"惠州学院"},{"$f":"VLOOKUP(B2276,[1]高教组!B:M,8,0)","v":"-"},{"$f":"VLOOKUP(B2276,[1]高教组!B:M,9,0)","v":"-"}]
[2275,"P302619086337","Timer组件的使用","高教组","微课","三等奖",null,"郑少珍","广州城建职业学院","-","-"]
[2276,"P302619089768","揭开月经的神秘面纱","高教组","微课","三等奖",null,{"$f":"VLOOKUP(B2278,[1]高教组!B:M,6,0)","v":"邹银婷"},{"$f":"VLOOKUP(B2278,[1]高教组!B:M,7,0)","v":"广东茂名健康职业学院"},{"$f":"VLOOKUP(B2278,[1]高教组!B:M,8,0)","v":"熊海燕"},{"$f":"VLOOKUP(B2278,[1]高教组!B:M,9,0)","v":"广东茂名健康职业学院"}]
[2277,"P302619089782","近因原则","高教组","微课","三等奖",null,{"$f":"VLOOKUP(B2279,[1]高教组!B:M,6,0)","v":"李重燕"},{"$f":"VLOOKUP(B2279,[1]高教组!B:M,7,0)","v":"广州大学松田学院"},{"$f":"VLOOKUP(B2279,[1]高教组!B:M,8,0)","v":"李先科"},{"$f":"VLOOKUP(B2279,[1]高教组!B:M,9,0)","v":"广州大学松田学院"}]
[2278,"P302619089671","渗透性利尿与水利尿","高教组","微课","三等奖",null,"王婷婷","广东茂名健康职业学院","黄丹青","广东茂名健康职业学院"]
[2279,"P302619089898","货币形态演进溯源I","高教组","微课","三等奖",null,{"$f":"VLOOKUP(B2281,[1]高教组!B:M,6,0)","v":"程静"},{"$f":"VLOOKUP(B2281,[1]高教组!B:M,7,0)","v":"暨南大学"},{"$f":"VLOOKUP(B2281,[1]高教组!B:M,8,0)","v":"吴思诗"},{"$f":"VLOOKUP(B2281,[1]高教组!B:M,9,0)","v":"暨南大学"}]
[2280,"P302619089774","瞬移效果","高教组","微课","三等奖",null,{"$f":"VLOOKUP(B2282,[1]高教组!B:M,6,0)","v":"谢峰"},{"$f":"VLOOKUP(B2282,[1]高教组!B:M,7,0)","v":"广东东软学院"},{"$f":"VLOOKUP(B2282,[1]高教组!B:M,8,0)","v":"李晓婷"},{"$f":"VLOOKUP(B2282,[1]高教组!B:M,9,0)","v":"广东东软学院"}]
[2281,"P302619088294","衣服换新颜","高教组","微课","三等奖",null,{"$f":"VLOOKUP(B2283,[1]高教组!B:M,6,0)","v":"刘永明"},{"$f":"VLOOKUP(B2283,[1]高教组!B:M,7,0)","v":"广东环境保护工程职业学院"},{"$f":"VLOOKUP(B2283,[1]高教组!B:M,8,0)","v":"陈追文"},{"$f":"VLOOKUP(B2283,[1]高教组!B:M,9,0)","v":"广东环境保护工程职业学院"}]
[2282,"P302619087975","理想流体伯努利方程及其应用","高教组","微课","三等奖",null,"黄雪","仲恺农业工程学院","-","-"]
[2283,"P302619088601","胺类化合物的结构分析","高教组","微课","三等奖",null,{"$f":"VLOOKUP(B2285,[1]高教组!B:M,6,0)","v":"徐娟娟"},{"$f":"VLOOKUP(B2285,[1]高教组!B:M,7,0)","v":"中山大学新华学院"},{"$f":"VLOOKUP(B2285,[1]高教组!B:M,8,0)","v":"黄鹤"},{"$f":"VLOOKUP(B2285,[1]高教组!B:M,9,0)","v":"中山大学新华学院"}]
[2284,"P302619089659","访谈现场的进入技巧","高教组","微课","三等奖",null,{"$f":"VLOOKUP(B2286,[1]高教组!B:M,6,0)","v":"陆淑珍"},{"$f":"VLOOKUP(B2286,[1]高教组!B:M,7,0)","v":"广东轻工职业技术学院"},{"$f":"VLOOKUP(B2286,[1]高教组!B:M,8,0)","v":"冼颖妍"},{"$f":"VLOOKUP(B2286,[1]高教组!B:M,9,0)","v":"广东轻工职业技术学院"}]
[2285,"P303619089012","栓剂","高教组","信息化教学课程案例","三等奖",null,{"$f":"VLOOKUP(B2287,[1]高教组!B:M,6,0)","v":"魏金津"},{"$f":"VLOOKUP(B2287,[1]高教组!B:M,7,0)","v":"广东食品药品职业学院"},{"$f":"VLOOKUP(B2287,[1]高教组!B:M,8,0)","v":"林青"},{"$f":"VLOOKUP(B2287,[1]高教组!B:M,9,0)","v":"广东食品药品职业学院"}]
[2286,"P303619089223","中医诊断学基于MOOC和虚拟仿真的多维实时互动混合式学习模式信息化课程案例","高教组","信息化教学课程案例","三等奖",null,{"$f":"VLOOKUP(B2288,[1]高教组!B:M,6,0)","v":"孙立"},{"$f":"VLOOKUP(B2288,[1]高教组!B:M,7,0)","v":"暨南大学"},{"$f":"VLOOKUP(B2288,[1]高教组!B:M,8,0)","v":"周红春"},{"$f":"VLOOKUP(B2288,[1]高教组!B:M,9,0)","v":"暨南大学"}]
[2287,"P303619091523","学校人力资源管理","高教组","信息化教学课程案例","三等奖",null,{"$f":"VLOOKUP(B2289,[1]高教组!B:M,6,0)","v":"黎晓君"},{"$f":"VLOOKUP(B2289,[1]高教组!B:M,7,0)","v":"广东第二师范学院"},{"$f":"VLOOKUP(B2289,[1]高教组!B:M,8,0)","v":"闫德明"},{"$f":"VLOOKUP(B2289,[1]高教组!B:M,9,0)","v":"广东第二师范学院"}]
[2288,"P303619089942","一带一路，构建中国梦与世界梦","高教组","信息化教学课程案例","三等奖",null,{"$f":"VLOOKUP(B2290,[1]高教组!B:M,6,0)","v":"李文勇"},{"$f":"VLOOKUP(B2290,[1]高教组!B:M,7,0)","v":"广东工业大学华立学院"},{"$f":"VLOOKUP(B2290,[1]高教组!B:M,8,0)","v":"宁晚枚"},{"$f":"VLOOKUP(B2290,[1]高教组!B:M,9,0)","v":"广东工业大学华立学院"}]
[2289,"P303619091735","不忘初心牢记使命坚定不移跟党走","高教组","信息化教学课程案例","三等奖",null,{"$f":"VLOOKUP(B2291,[1]高教组!B:M,6,0)","v":"高顺起"},{"$f":"VLOOKUP(B2291,[1]高教组!B:M,7,0)","v":"广东轻工职业技术学院"},{"$f":"VLOOKUP(B2291,[1]高教组!B:M,8,0)","v":"王喜英"},{"$f":"VLOOKUP(B2291,[1]高教组!B:M,9,0)","v":"广东轻工职业技术学院"}]
[2290,"P303619090520","商务英语视听说","高教组","信息化教学课程案例","三等奖",null,{"$f":"VLOOKUP(B2292,[1]高教组!B:M,6,0)","v":"苏梓楠"},{"$f":"VLOOKUP(B2292,[1]高教组!B:M,7,0)","v":"广州城市职业学院"},{"$f":"VLOOKUP(B2292,[1]高教组!B:M,8,0)","v":"刘向红"},{"$f":"VLOOKUP(B2292,[1]高教组!B:M,9,0)","v":"广州城市职业学院"}]
[2291,"P303619088168","随轮而动-基于HTML5之滚滚屏设计","高教组","信息化教学课程案例","三等奖",null,{"$f":"VLOOKUP(B2293,[1]高教组!B:M,6,0)","v":"刘国敏"},{"$f":"VLOOKUP(B2293,[1]高教组!B:M,7,0)","v":"广州华南商贸职业学院"},{"$f":"VLOOKUP(B2293,[1]高教组!B:M,8,0)","v":"-"},{"$f":"VLOOKUP(B2293,[1]高教组!B:M,9,0)","v":"-"}]
[2292,"P303619086396","鼻饲法","高教组","信息化教学课程案例","三等奖",null,{"$f":"VLOOKUP(B2294,[1]高教组!B:M,6,0)","v":"何夏阳"},{"$f":"VLOOKUP(B2294,[1]高教组!B:M,7,0)","v":"广州卫生职业技术学院"},{"$f":"VLOOKUP(B2294,[1]高教组!B:M,8,0)","v":"宋文娟"},{"$f":"VLOOKUP(B2294,[1]高教组!B:M,9,0)","v":"广州卫生职业技术学院"}]
[2293,"P303619089905","基于大数据和云计算的经济管理虚拟仿真协同创新实训的多元统计分析及R语言建模课程教学案例","高教组","信息化教学课程案例","三等奖",null,{"$f":"VLOOKUP(B2295,[1]高教组!B:M,6,0)","v":"王斌会"},{"$f":"VLOOKUP(B2295,[1]高教组!B:M,7,0)","v":"暨南大学"},{"$f":"VLOOKUP(B2295,[1]高教组!B:M,8,0)","v":"赵海霞"},{"$f":"VLOOKUP(B2295,[1]高教组!B:M,9,0)","v":"暨南大学"}]
[2294,"P303619090492","华文教育技术与实践--基于数字文化传播人才培养三三融合式课程创新的探索与实践的教学信息化课程案例","高教组","信息化教学课程案例","三等奖",null,{"$f":"VLOOKUP(B2296,[1]高教组!B:M,6,0)","v":"熊玉珍"},{"$f":"VLOOKUP(B2296,[1]高教组!B:M,7,0)","v":"暨南大学"},{"$f":"VLOOKUP(B2296,[1]高教组!B:M,8,0)","v":"李香平"},{"$f":"VLOOKUP(B2296,[1]高教组!B:M,9,0)","v":"暨南大学"}]
[2295,"P303619088228","今天我做主：编制主生产计划","高教组","信息化教学课程案例","三等奖",null,{"$f":"VLOOKUP(B2297,[1]高教组!B:M,6,0)","v":"师建华"},{"$f":"VLOOKUP(B2297,[1]高教组!B:M,7,0)","v":"顺德职业技术学院"},{"$f":"VLOOKUP(B2297,[1]高教组!B:M,8,0)","v":"刘刚桥"},{"$f":"VLOOKUP(B2297,[1]高教组!B:M,9,0)","v":"顺德职业技术学院"}]
[2296,"P303619089826","基于虚实虚的虚拟仿真与野外实践课题共同体的生物学野外实习课程信息化教学案例","高教组","信息化教学课程案例","三等奖",null,{"$f":"VLOOKUP(B2298,[1]高教组!B:M,6,0)","v":"黄柏炎"},{"$f":"VLOOKUP(B2298,[1]高教组!B:M,7,0)","v":"暨南大学"},{"$f":"VLOOKUP(B2298,[1]高教组!B:M,8,0)","v":"赵海霞"},{"$f":"VLOOKUP(B2298,[1]高教组!B:M,9,0)","v":"暨南大学"}]
[2297,"P303619091236","建筑制图与CAD 线上线下一体化教学实践","高教组","信息化教学课程案例","三等奖",null,{"$f":"VLOOKUP(B2299,[1]高教组!B:M,6,0)","v":"方玲"},{"$f":"VLOOKUP(B2299,[1]高教组!B:M,7,0)","v":"广东白云学院"},{"$f":"VLOOKUP(B2299,[1]高教组!B:M,8,0)","v":"丁斌"},{"$f":"VLOOKUP(B2299,[1]高教组!B:M,9,0)","v":"广东白云学院"}]
[2298,"P303619088438","制定职业生涯规划实施方案","高教组","信息化教学课程案例","三等奖",null,{"$f":"VLOOKUP(B2300,[1]高教组!B:M,6,0)","v":"陈龙"},{"$f":"VLOOKUP(B2300,[1]高教组!B:M,7,0)","v":"广东环境保护工程职业学院"},{"$f":"VLOOKUP(B2300,[1]高教组!B:M,8,0)","v":"朱刚利"},{"$f":"VLOOKUP(B2300,[1]高教组!B:M,9,0)","v":"广东环境保护工程职业学院"}]
[2299,"P303619086232","时间与温度的艺术_____低温热塑矫形器技能学习","高教组","信息化教学课程案例","三等奖",null,{"$f":"VLOOKUP(B2301,[1]高教组!B:M,6,0)","v":"张雪"},{"$f":"VLOOKUP(B2301,[1]高教组!B:M,7,0)","v":"广州卫生职业技术学院"},{"$f":"VLOOKUP(B2301,[1]高教组!B:M,8,0)","v":"张效玮"},{"$f":"VLOOKUP(B2301,[1]高教组!B:M,9,0)","v":"广州卫生职业技术学院"}]
[2300,"P303619089746","基于职教云+翻转课堂的混合式教学模式的构建与实施---以《网络营销》为例","高教组","信息化教学课程案例","三等奖",null,{"$f":"VLOOKUP(B2302,[1]高教组!B:M,6,0)","v":"金蓉"},{"$f":"VLOOKUP(B2302,[1]高教组!B:M,7,0)","v":"广州民航职业技术学院"},{"$f":"VLOOKUP(B2302,[1]高教组!B:M,8,0)","v":"罗闻泉"},{"$f":"VLOOKUP(B2302,[1]高教组!B:M,9,0)","v":"广州民航职业技术学院"}]